{"text_format":"1","workbook":"xlsx","n_sheets":11,"sheets":["AVISO LEGAL","Componentes mes nacional","Componentes año nacional","Componentes mes peninsula","Componentes año peninsula","Componentes mes Baleares","Componentes año Baleares","Componentes mes Canarias","Componentes año Canarias","Componentes","Año"],"not_rendered":{"charts":0,"images":1,"macros":1,"external_links":0,"defined_names":9,"comments":0,"pivot_tables":0},"unopened":[],"bounds":{"document_bytes":16777216,"sheet_cells":100000,"rows_first":2000,"rows_last":500,"rows_between":2000,"halvings":0,"cell_chars":16384,"cell_head_chars":4096},"cells_cut":0,"cells_raw":0,"read":"whole","date_system":"1900"}

{"sheet":"AVISO LEGAL","index":0,"n_rows":23,"n_cols":10,"rows_kept":23,"cut":false,"hidden":false,"merged":[]}
[]
[null,null,null,null,null,null,null,"Fecha de actualización:",null,"2018-12-11"]
[]
[]
[]
[]
[]
[]
[]
[]
[]
[]
[]
[]
[]
[]
[]
[]
[]
[]
[]
[]
[null,null,null,null,null,null,null,null,null,"www.ree.es"]

{"sheet":"Componentes mes nacional","index":1,"n_rows":18,"n_cols":15,"rows_kept":18,"cut":false,"hidden":false,"merged":[[16,1,16,14],[17,1,17,14]]}
[null,null,null,null,null,null,null,null,null,null,null,null,null,null,8]
[]
[]
[null,null,null,null,null,null,null,null,null,null,null,null,"Sistema eléctrico"]
[null,null,null,null,null,null,null,null,null,null,null,null,"Horizonte temporal"]
[null,null,null,null,null,null,null,null,null,null,null,null,"Periodo"]
[]
[null,null,"Ene.","Feb.","Mar.","Abr.","May.","Jun.","Jul.","Ago.","Sep.","Oct.","Nov.","Dic.",{"$f":"OFFSET(Año!B22,($O$1-1),0)","v":2018}]
[]
[null,"Variación mensual",{"$f":"OFFSET(Componentes!C24,0,($O$1-1)*13)","v":-2.1374630508749992},{"$f":"OFFSET(Componentes!D24,0,($O$1-1)*13)","v":6.629413235351711},{"$f":"OFFSET(Componentes!E24,0,($O$1-1)*13)","v":4.5402058778079901},{"$f":"OFFSET(Componentes!F24,0,($O$1-1)*13)","v":4.8078004446246103},{"$f":"OFFSET(Componentes!G24,0,($O$1-1)*13)","v":-0.72712426016735554},{"$f":"OFFSET(Componentes!H24,0,($O$1-1)*13)","v":-6.1968561366654962},{"$f":"OFFSET(Componentes!I24,0,($O$1-1)*13)","v":-1.0100899121233797},{"$f":"OFFSET(Componentes!J24,0,($O$1-1)*13)","v":0.74597690559108365},{"$f":"OFFSET(Componentes!K24,0,($O$1-1)*13)","v":3.0027892207037832},{"$f":"OFFSET(Componentes!L24,0,($O$1-1)*13)","v":0.5404041210615329},{"$f":"OFFSET(Componentes!M24,0,($O$1-1)*13)","v":0.10412679424056659},{"$f":"OFFSET(Componentes!N24,0,($O$1-1)*13)","v":"-"},{"$f":"OFFSET(Componentes!O24,0,($O$1-1)*13)","v":0.81277065604243859}]
[]
[null,"Componentes (1)"]
[null,"Laboralidad",{"$f":"OFFSET(Componentes!C26,0,($O$1-1)*13)","v":1.4389190194270645},{"$f":"OFFSET(Componentes!D26,0,($O$1-1)*13)","v":-0.13371581882808325},{"$f":"OFFSET(Componentes!E26,0,($O$1-1)*13)","v":-2.7391742773510002},{"$f":"OFFSET(Componentes!F26,0,($O$1-1)*13)","v":2.1983280026513961},{"$f":"OFFSET(Componentes!G26,0,($O$1-1)*13)","v":-0.40364554611146902},{"$f":"OFFSET(Componentes!H26,0,($O$1-1)*13)","v":-0.47154767969778533},{"$f":"OFFSET(Componentes!I26,0,($O$1-1)*13)","v":-0.65627227080750727},{"$f":"OFFSET(Componentes!J26,0,($O$1-1)*13)","v":-1.3764026155691307},{"$f":"OFFSET(Componentes!K26,0,($O$1-1)*13)","v":-1.7468636758232114},{"$f":"OFFSET(Componentes!L26,0,($O$1-1)*13)","v":0.86202998562534605},{"$f":"OFFSET(Componentes!M26,0,($O$1-1)*13)","v":-0.42217085034864049},{"$f":"OFFSET(Componentes!N26,0,($O$1-1)*13)","v":"-"},{"$f":"OFFSET(Componentes!O26,0,($O$1-1)*13)","v":-0.31515706924577175}]
[null,"Temperatura (2)",{"$f":"OFFSET(Componentes!C27,0,($O$1-1)*13)","v":-1.634100644809438},{"$f":"OFFSET(Componentes!D27,0,($O$1-1)*13)","v":3.7519643538346172},{"$f":"OFFSET(Componentes!E27,0,($O$1-1)*13)","v":2.3701927125943278},{"$f":"OFFSET(Componentes!F27,0,($O$1-1)*13)","v":1.0869393927966178},{"$f":"OFFSET(Componentes!G27,0,($O$1-1)*13)","v":-1.5014224144186126},{"$f":"OFFSET(Componentes!H27,0,($O$1-1)*13)","v":-2.6014569101437615},{"$f":"OFFSET(Componentes!I27,0,($O$1-1)*13)","v":-0.34673783638649819},{"$f":"OFFSET(Componentes!J27,0,($O$1-1)*13)","v":0.62647996442690701},{"$f":"OFFSET(Componentes!K27,0,($O$1-1)*13)","v":1.7816188843066623},{"$f":"OFFSET(Componentes!L27,0,($O$1-1)*13)","v":-0.19954781797058138},{"$f":"OFFSET(Componentes!M27,0,($O$1-1)*13)","v":1.4308552685734941},{"$f":"OFFSET(Componentes!N27,0,($O$1-1)*13)","v":"-"},{"$f":"OFFSET(Componentes!O27,0,($O$1-1)*13)","v":0.35426586228210255}]
[null,"Demanda corregida",{"$f":"OFFSET(Componentes!C28,0,($O$1-1)*13)","v":-1.9422814254926257},{"$f":"OFFSET(Componentes!D28,0,($O$1-1)*13)","v":3.0111647003451765},{"$f":"OFFSET(Componentes!E28,0,($O$1-1)*13)","v":4.9091874425646624},{"$f":"OFFSET(Componentes!F28,0,($O$1-1)*13)","v":1.5225330491765963},{"$f":"OFFSET(Componentes!G28,0,($O$1-1)*13)","v":1.1779437003627262},{"$f":"OFFSET(Componentes!H28,0,($O$1-1)*13)","v":-3.1238515468239494},{"$f":"OFFSET(Componentes!I28,0,($O$1-1)*13)","v":-7.0798049293743087E-3},{"$f":"OFFSET(Componentes!J28,0,($O$1-1)*13)","v":1.4958995567333071},{"$f":"OFFSET(Componentes!K28,0,($O$1-1)*13)","v":2.9680340122203321},{"$f":"OFFSET(Componentes!L28,0,($O$1-1)*13)","v":-0.12207804659323174},{"$f":"OFFSET(Componentes!M28,0,($O$1-1)*13)","v":-0.90455762398428707},{"$f":"OFFSET(Componentes!N28,0,($O$1-1)*13)","v":"-"},{"$f":"OFFSET(Componentes!O28,0,($O$1-1)*13)","v":0.77366186300610773}]
[]
[null,"(1) La suma de los componentes es igual al tanto por ciento de variación de la demanda total."]
[null,"(2) Una media de las temperaturas máximas diarias por debajo o por encima de los umbrales de invierno y verano respectivamente, produce aumento de la demanda."]

{"sheet":"Componentes año nacional","index":2,"n_rows":19,"n_cols":12,"rows_kept":19,"cut":false,"hidden":false,"merged":[[16,1,16,11],[17,1,17,14],[18,1,18,11]]}
[null,null,null,null,null,null,null,null,null,null,null,1]
[]
[]
[null,null,null,null,null,null,null,null,null,"Sistema eléctrico"]
[null,null,null,null,null,null,null,null,null,"Horizonte temporal"]
[null,null,null,null,null,null,null,null,null,"Periodo"]
[]
[null,null,{"$f":"OFFSET(Componentes!C51,0,($L$1-1)*10)","v":"2011"},{"$f":"OFFSET(Componentes!D51,0,($L$1-1)*10)","v":"2012"},{"$f":"OFFSET(Componentes!E51,0,($L$1-1)*10)","v":"2013"},{"$f":"OFFSET(Componentes!F51,0,($L$1-1)*10)","v":"2014"},{"$f":"OFFSET(Componentes!G51,0,($L$1-1)*10)","v":"2015"},{"$f":"OFFSET(Componentes!H51,0,($L$1-1)*10)","v":"2016"},{"$f":"OFFSET(Componentes!I51,0,($L$1-1)*10)","v":"2017"},{"$f":"OFFSET(Componentes!J51,0,($L$1-1)*10)","v":"2018"},{"$f":"OFFSET(Componentes!K51,0,($L$1-1)*10)","v":"2019"},{"$f":"OFFSET(Componentes!L51,0,($L$1-1)*10)","v":"2020"}]
[]
[null,"Variación anual",{"$f":"OFFSET(Componentes!C52,0,($L$1-1)*10)","v":-2.0568698100360439},{"$f":"OFFSET(Componentes!D52,0,($L$1-1)*10)","v":-1.1717531785253588},{"$f":"OFFSET(Componentes!E52,0,($L$1-1)*10)","v":-2.3806861973225568},{"$f":"OFFSET(Componentes!F52,0,($L$1-1)*10)","v":-1.0886776190725311},{"$f":"OFFSET(Componentes!G52,0,($L$1-1)*10)","v":1.9945520261856364},{"$f":"OFFSET(Componentes!H52,0,($L$1-1)*10)","v":0.70687060298493254},{"$f":"OFFSET(Componentes!I52,0,($L$1-1)*10)","v":1.2094559616753653},{"$f":"OFFSET(Componentes!J52,0,($L$1-1)*10)","v":0.81277065604243859},{"$f":"OFFSET(Componentes!K52,0,($L$1-1)*10)","v":"-"},{"$f":"OFFSET(Componentes!L52,0,($L$1-1)*10)","v":"-"}]
[]
[null,"Componentes (1)"]
[null,"Laboralidad",{"$f":"OFFSET(Componentes!C54,0,($L$1-1)*10)","v":0.13124036907175801},{"$f":"OFFSET(Componentes!D54,0,($L$1-1)*10)","v":-0.26197675505317986},{"$f":"OFFSET(Componentes!E54,0,($L$1-1)*10)","v":0.17076305763350774},{"$f":"OFFSET(Componentes!F54,0,($L$1-1)*10)","v":1.8087732628752212E-3},{"$f":"OFFSET(Componentes!G54,0,($L$1-1)*10)","v":-4.7912286235854543E-2},{"$f":"OFFSET(Componentes!H54,0,($L$1-1)*10)","v":0.56511192175640068},{"$f":"OFFSET(Componentes!I54,0,($L$1-1)*10)","v":-0.32925756147036978},{"$f":"OFFSET(Componentes!J54,0,($L$1-1)*10)","v":-0.31515706924577175},{"$f":"OFFSET(Componentes!K54,0,($L$1-1)*10)","v":"-"},{"$f":"OFFSET(Componentes!L54,0,($L$1-1)*10)","v":"-"}]
[null,"Temperatura (2)",{"$f":"OFFSET(Componentes!C55,0,($L$1-1)*10)","v":-1.0107696603207894},{"$f":"OFFSET(Componentes!D55,0,($L$1-1)*10)","v":0.69620401466496495},{"$f":"OFFSET(Componentes!E55,0,($L$1-1)*10)","v":-0.29549000492241023},{"$f":"OFFSET(Componentes!F55,0,($L$1-1)*10)","v":-0.96721875859136774},{"$f":"OFFSET(Componentes!G55,0,($L$1-1)*10)","v":0.36073771396983073},{"$f":"OFFSET(Componentes!H55,0,($L$1-1)*10)","v":4.8897906489450929E-2},{"$f":"OFFSET(Componentes!I55,0,($L$1-1)*10)","v":-0.12757608040569363},{"$f":"OFFSET(Componentes!J55,0,($L$1-1)*10)","v":0.35426586228210255},{"$f":"OFFSET(Componentes!K55,0,($L$1-1)*10)","v":"-"},{"$f":"OFFSET(Componentes!L55,0,($L$1-1)*10)","v":"-"}]
[null,"Demanda corregida",{"$f":"OFFSET(Componentes!C56,0,($L$1-1)*10)","v":-1.1773405187870125},{"$f":"OFFSET(Componentes!D56,0,($L$1-1)*10)","v":-1.6059804381371439},{"$f":"OFFSET(Componentes!E56,0,($L$1-1)*10)","v":-2.2559592500336545},{"$f":"OFFSET(Componentes!F56,0,($L$1-1)*10)","v":-0.12326763374403867},{"$f":"OFFSET(Componentes!G56,0,($L$1-1)*10)","v":1.6817265984516601},{"$f":"OFFSET(Componentes!H56,0,($L$1-1)*10)","v":9.286077473908097E-2},{"$f":"OFFSET(Componentes!I56,0,($L$1-1)*10)","v":1.666289603551429},{"$f":"OFFSET(Componentes!J56,0,($L$1-1)*10)","v":0.77366186300610773},{"$f":"OFFSET(Componentes!K56,0,($L$1-1)*10)","v":"-"},{"$f":"OFFSET(Componentes!L56,0,($L$1-1)*10)","v":"-"}]
[]
[null,"(1) La suma de los componentes es igual al tanto por ciento de variación de la demanda total."]
[null,"(2) Una media de las temperaturas máximas diarias por debajo o por encima de los umbrales de invierno y verano respectivamente, produce aumento de la demanda."]
[null,{"$f":"IF(MONTH('AVISO LEGAL'!J2)=1,\"Datos a 31 de diciembre.\",CONCATENATE(\"Datos a 31 de diciembre. Para el año \",YEAR('AVISO LEGAL'!J2), \" datos a \",TEXT('AVISO LEGAL'!J2-30,\"mmmm\"),\" de \",YEAR('AVISO LEGAL'!J2),\".\"))","v":"Datos a 31 de diciembre. Para el año 2018 datos a noviembre de 2018."}]

{"sheet":"Componentes mes peninsula","index":3,"n_rows":18,"n_cols":15,"rows_kept":18,"cut":false,"hidden":false,"merged":[[16,1,16,14],[17,1,17,14]]}
[null,null,null,null,null,null,null,null,null,null,null,null,null,null,28]
[]
[]
[null,null,null,null,null,null,null,null,null,null,null,null,"Sistema eléctrico"]
[null,null,null,null,null,null,null,null,null,null,null,null,"Horizonte temporal"]
[null,null,null,null,null,null,null,null,null,null,null,null,"Periodo"]
[]
[null,null,"Ene.","Feb.","Mar.","Abr.","May.","Jun.","Jul.","Ago.","Sep.","Oct.","Nov.","Dic.",{"$f":"OFFSET(Año!B2,($O$1-1),0)","v":2018}]
[]
[null,"Variación mensual",{"$f":"OFFSET(Componentes!C3,0,($O$1-1)*13)","v":-2.1183540445894988},{"$f":"OFFSET(Componentes!D3,0,($O$1-1)*13)","v":6.5813780440805658},{"$f":"OFFSET(Componentes!E3,0,($O$1-1)*13)","v":4.5689033634230825},{"$f":"OFFSET(Componentes!F3,0,($O$1-1)*13)","v":5.0398232028953105},{"$f":"OFFSET(Componentes!G3,0,($O$1-1)*13)","v":-0.66623696234885399},{"$f":"OFFSET(Componentes!H3,0,($O$1-1)*13)","v":-6.2595963851842633},{"$f":"OFFSET(Componentes!I3,0,($O$1-1)*13)","v":-1.0590978221433622},{"$f":"OFFSET(Componentes!J3,0,($O$1-1)*13)","v":0.92673912776717327},{"$f":"OFFSET(Componentes!K3,0,($O$1-1)*13)","v":2.9564695826269638},{"$f":"OFFSET(Componentes!L3,0,($O$1-1)*13)","v":0.61933420014832485},{"$f":"OFFSET(Componentes!M3,0,($O$1-1)*13)","v":0.21659567593188545},{"$f":"OFFSET(Componentes!N3,0,($O$1-1)*13)","v":"-"},{"$f":"OFFSET(Componentes!O3,0,($O$1-1)*13)","v":0.86050655592502245}]
[]
[null,"Componentes (1)"]
[null,"Laboralidad",{"$f":"OFFSET(Componentes!C5,0,($O$1-1)*13)","v":1.5057460642021625},{"$f":"OFFSET(Componentes!D5,0,($O$1-1)*13)","v":-0.13980804405766545},{"$f":"OFFSET(Componentes!E5,0,($O$1-1)*13)","v":-2.8250612894685556},{"$f":"OFFSET(Componentes!F5,0,($O$1-1)*13)","v":2.2655268729212974},{"$f":"OFFSET(Componentes!G5,0,($O$1-1)*13)","v":-0.4292095377119387},{"$f":"OFFSET(Componentes!H5,0,($O$1-1)*13)","v":-0.4864798511772026},{"$f":"OFFSET(Componentes!I5,0,($O$1-1)*13)","v":-0.71396157129065552},{"$f":"OFFSET(Componentes!J5,0,($O$1-1)*13)","v":-1.4742335517099026},{"$f":"OFFSET(Componentes!K5,0,($O$1-1)*13)","v":-1.8327038798771511},{"$f":"OFFSET(Componentes!L5,0,($O$1-1)*13)","v":0.87446389212507691},{"$f":"OFFSET(Componentes!M5,0,($O$1-1)*13)","v":-0.44520733774289223},{"$f":"OFFSET(Componentes!N5,0,($O$1-1)*13)","v":"-"},{"$f":"OFFSET(Componentes!O5,0,($O$1-1)*13)","v":-0.33630448804178315}]
[null,"Temperatura (2)",{"$f":"OFFSET(Componentes!C6,0,($O$1-1)*13)","v":-1.6082705993146318},{"$f":"OFFSET(Componentes!D6,0,($O$1-1)*13)","v":3.6962079264392766},{"$f":"OFFSET(Componentes!E6,0,($O$1-1)*13)","v":2.3743739143770481},{"$f":"OFFSET(Componentes!F6,0,($O$1-1)*13)","v":1.1061577761221741},{"$f":"OFFSET(Componentes!G6,0,($O$1-1)*13)","v":-1.5432761005792384},{"$f":"OFFSET(Componentes!H6,0,($O$1-1)*13)","v":-2.6747369714020928},{"$f":"OFFSET(Componentes!I6,0,($O$1-1)*13)","v":-0.35399188282606575},{"$f":"OFFSET(Componentes!J6,0,($O$1-1)*13)","v":0.70091697227172567},{"$f":"OFFSET(Componentes!K6,0,($O$1-1)*13)","v":1.7894488595743274},{"$f":"OFFSET(Componentes!L6,0,($O$1-1)*13)","v":-0.22125222521129917},{"$f":"OFFSET(Componentes!M6,0,($O$1-1)*13)","v":1.5258141316674245},{"$f":"OFFSET(Componentes!N6,0,($O$1-1)*13)","v":"-"},{"$f":"OFFSET(Componentes!O6,0,($O$1-1)*13)","v":0.3628145954977624}]
[null,"Demanda corregida",{"$f":"OFFSET(Componentes!C7,0,($O$1-1)*13)","v":-2.0158295094770295},{"$f":"OFFSET(Componentes!D7,0,($O$1-1)*13)","v":3.0249781616989546},{"$f":"OFFSET(Componentes!E7,0,($O$1-1)*13)","v":5.0195907385145899},{"$f":"OFFSET(Componentes!F7,0,($O$1-1)*13)","v":1.668138553851839},{"$f":"OFFSET(Componentes!G7,0,($O$1-1)*13)","v":1.3062486759423231},{"$f":"OFFSET(Componentes!H7,0,($O$1-1)*13)","v":-3.0983795626049679},{"$f":"OFFSET(Componentes!I7,0,($O$1-1)*13)","v":8.855631973359035E-3},{"$f":"OFFSET(Componentes!J7,0,($O$1-1)*13)","v":1.7000557072053502},{"$f":"OFFSET(Componentes!K7,0,($O$1-1)*13)","v":2.9997246029297875},{"$f":"OFFSET(Componentes!L7,0,($O$1-1)*13)","v":-3.387746676545289E-2},{"$f":"OFFSET(Componentes!M7,0,($O$1-1)*13)","v":-0.86401111799264685},{"$f":"OFFSET(Componentes!N7,0,($O$1-1)*13)","v":"-"},{"$f":"OFFSET(Componentes!O7,0,($O$1-1)*13)","v":0.83399644846904319}]
[]
[null,"(1) La suma de los componentes es igual al tanto por ciento de variación de la demanda total."]
[null,"(2) Una media de las temperaturas máximas diarias por debajo o por encima de los umbrales de invierno y verano respectivamente, produce aumento de la demanda."]

{"sheet":"Componentes año peninsula","index":4,"n_rows":19,"n_cols":12,"rows_kept":19,"cut":false,"hidden":false,"merged":[[16,1,16,11],[18,1,18,11],[17,1,17,14]]}
[null,null,null,null,null,null,null,null,null,null,null,3]
[]
[]
[null,null,null,null,null,null,null,null,null,"Sistema eléctrico"]
[null,null,null,null,null,null,null,null,null,"Horizonte temporal"]
[null,null,null,null,null,null,null,null,null,"Periodo"]
[]
[null,null,{"$f":"OFFSET(Componentes!C30,0,($L$1-1)*10)","v":"2011"},{"$f":"OFFSET(Componentes!D30,0,($L$1-1)*10)","v":"2012"},{"$f":"OFFSET(Componentes!E30,0,($L$1-1)*10)","v":"2013"},{"$f":"OFFSET(Componentes!F30,0,($L$1-1)*10)","v":"2014"},{"$f":"OFFSET(Componentes!G30,0,($L$1-1)*10)","v":"2015"},{"$f":"OFFSET(Componentes!H30,0,($L$1-1)*10)","v":"2016"},{"$f":"OFFSET(Componentes!I30,0,($L$1-1)*10)","v":"2017"},{"$f":"OFFSET(Componentes!J30,0,($L$1-1)*10)","v":"2018"},{"$f":"OFFSET(Componentes!K30,0,($L$1-1)*10)","v":"2019"},{"$f":"OFFSET(Componentes!L30,0,($L$1-1)*10)","v":"2020"}]
[]
[null,"Variación anual",{"$f":"OFFSET(Componentes!C31,0,($L$1-1)*10)","v":-2.1209206720724127},{"$f":"OFFSET(Componentes!D31,0,($L$1-1)*10)","v":-1.2867421870957019},{"$f":"OFFSET(Componentes!E31,0,($L$1-1)*10)","v":-2.3040840655225714},{"$f":"OFFSET(Componentes!F31,0,($L$1-1)*10)","v":-1.1165703303855801},{"$f":"OFFSET(Componentes!G31,0,($L$1-1)*10)","v":1.9720720160641081},{"$f":"OFFSET(Componentes!H31,0,($L$1-1)*10)","v":0.68954404924408408},{"$f":"OFFSET(Componentes!I31,0,($L$1-1)*10)","v":1.1320558128334435},{"$f":"OFFSET(Componentes!J31,0,($L$1-1)*10)","v":0.86050655592502245},{"$f":"OFFSET(Componentes!K31,0,($L$1-1)*10)","v":"-"},{"$f":"OFFSET(Componentes!L31,0,($L$1-1)*10)","v":"-"}]
[]
[null,"Componentes (1)"]
[null,"Laboralidad",{"$f":"OFFSET(Componentes!C33,0,($L$1-1)*10)","v":0.13995989034844003},{"$f":"OFFSET(Componentes!D33,0,($L$1-1)*10)","v":-0.27523301080143447},{"$f":"OFFSET(Componentes!E33,0,($L$1-1)*10)","v":0.19281581100265566},{"$f":"OFFSET(Componentes!F33,0,($L$1-1)*10)","v":-3.0730600920070295E-3},{"$f":"OFFSET(Componentes!G33,0,($L$1-1)*10)","v":-6.0843878812311125E-2},{"$f":"OFFSET(Componentes!H33,0,($L$1-1)*10)","v":0.58438696235036947},{"$f":"OFFSET(Componentes!I33,0,($L$1-1)*10)","v":-0.34214636765030892},{"$f":"OFFSET(Componentes!J33,0,($L$1-1)*10)","v":-0.33630448804178315},{"$f":"OFFSET(Componentes!K33,0,($L$1-1)*10)","v":"-"},{"$f":"OFFSET(Componentes!L33,0,($L$1-1)*10)","v":"-"}]
[null,"Temperatura (2)",{"$f":"OFFSET(Componentes!C34,0,($L$1-1)*10)","v":-1.0255883589234793},{"$f":"OFFSET(Componentes!D34,0,($L$1-1)*10)","v":0.69357018081355193},{"$f":"OFFSET(Componentes!E34,0,($L$1-1)*10)","v":-0.27206283069688419},{"$f":"OFFSET(Componentes!F34,0,($L$1-1)*10)","v":-0.98836652267776381},{"$f":"OFFSET(Componentes!G34,0,($L$1-1)*10)","v":0.35936597688595029},{"$f":"OFFSET(Componentes!H34,0,($L$1-1)*10)","v":9.2093590159092464E-2},{"$f":"OFFSET(Componentes!I34,0,($L$1-1)*10)","v":-0.16648553520739462},{"$f":"OFFSET(Componentes!J34,0,($L$1-1)*10)","v":0.3628145954977624},{"$f":"OFFSET(Componentes!K34,0,($L$1-1)*10)","v":"-"},{"$f":"OFFSET(Componentes!L34,0,($L$1-1)*10)","v":"-"}]
[null,"Demanda corregida",{"$f":"OFFSET(Componentes!C35,0,($L$1-1)*10)","v":-1.2332150802072173},{"$f":"OFFSET(Componentes!D35,0,($L$1-1)*10)","v":-1.7010009062974341},{"$f":"OFFSET(Componentes!E35,0,($L$1-1)*10)","v":-2.2228217045758392},{"$f":"OFFSET(Componentes!F35,0,($L$1-1)*10)","v":-0.1257412732204144},{"$f":"OFFSET(Componentes!G35,0,($L$1-1)*10)","v":1.6870463613417597},{"$f":"OFFSET(Componentes!H35,0,($L$1-1)*10)","v":1.3063496734622149E-2},{"$f":"OFFSET(Componentes!I35,0,($L$1-1)*10)","v":1.640687715691147},{"$f":"OFFSET(Componentes!J35,0,($L$1-1)*10)","v":0.83399644846904319},{"$f":"OFFSET(Componentes!K35,0,($L$1-1)*10)","v":"-"},{"$f":"OFFSET(Componentes!L35,0,($L$1-1)*10)","v":"-"}]
[]
[null,"(1) La suma de los componentes es igual al tanto por ciento de variación de la demanda total."]
[null,"(2) Una media de las temperaturas máximas diarias por debajo o por encima de los umbrales de invierno y verano respectivamente, produce aumento de la demanda."]
[null,{"$f":"IF(MONTH('AVISO LEGAL'!J2)=1,\"Datos a 31 de diciembre.\",CONCATENATE(\"Datos a 31 de diciembre. Para el año \",YEAR('AVISO LEGAL'!J2), \" datos a \",TEXT('AVISO LEGAL'!J2-30,\"mmmm\"),\" de \",YEAR('AVISO LEGAL'!J2),\".\"))","v":"Datos a 31 de diciembre. Para el año 2018 datos a noviembre de 2018."}]

{"sheet":"Componentes mes Baleares","index":5,"n_rows":18,"n_cols":15,"rows_kept":18,"cut":false,"hidden":false,"merged":[[16,1,16,14],[17,1,17,14]]}
[null,null,null,null,null,null,null,null,null,null,null,null,null,null,8]
[]
[]
[null,null,null,null,null,null,null,null,null,null,null,null,"Sistema eléctrico"]
[null,null,null,null,null,null,null,null,null,null,null,null,"Horizonte temporal"]
[null,null,null,null,null,null,null,null,null,null,null,null,"Periodo"]
[]
[null,null,"Ene.","Feb.","Mar.","Abr.","May.","Jun.","Jul.","Ago.","Sep.","Oct.","Nov.","Dic.",{"$f":"OFFSET(Año!B22,($O$1-1),0)","v":2018}]
[]
[null,"Variación mensual",{"$f":"OFFSET(Componentes!C10,0,($O$1-1)*13)","v":-8.5533800717415343},{"$f":"OFFSET(Componentes!D10,0,($O$1-1)*13)","v":15.66859750734293},{"$f":"OFFSET(Componentes!E10,0,($O$1-1)*13)","v":12.918957904452588},{"$f":"OFFSET(Componentes!F10,0,($O$1-1)*13)","v":2.7969391364426333},{"$f":"OFFSET(Componentes!G10,0,($O$1-1)*13)","v":-1.6909834278843405},{"$f":"OFFSET(Componentes!H10,0,($O$1-1)*13)","v":-7.7358065836865775},{"$f":"OFFSET(Componentes!I10,0,($O$1-1)*13)","v":1.145959690608489},{"$f":"OFFSET(Componentes!J10,0,($O$1-1)*13)","v":-0.41208711123228436},{"$f":"OFFSET(Componentes!K10,0,($O$1-1)*13)","v":7.6295186460153985},{"$f":"OFFSET(Componentes!L10,0,($O$1-1)*13)","v":5.8156786916851999E-2},{"$f":"OFFSET(Componentes!M10,0,($O$1-1)*13)","v":-0.22335673806395118},{"$f":"OFFSET(Componentes!N10,0,($O$1-1)*13)","v":"-"},{"$f":"OFFSET(Componentes!O10,0,($O$1-1)*13)","v":1.401423958737813}]
[]
[null,"Componentes (1)"]
[null,"Laboralidad",{"$f":"OFFSET(Componentes!C12,0,($O$1-1)*13)","v":0.42948170265668573},{"$f":"OFFSET(Componentes!D12,0,($O$1-1)*13)","v":3.817878305856226E-2},{"$f":"OFFSET(Componentes!E12,0,($O$1-1)*13)","v":-1.0999374989058008},{"$f":"OFFSET(Componentes!F12,0,($O$1-1)*13)","v":0.75934793514096377},{"$f":"OFFSET(Componentes!G12,0,($O$1-1)*13)","v":5.5180342541893967E-2},{"$f":"OFFSET(Componentes!H12,0,($O$1-1)*13)","v":-0.1967168862649249},{"$f":"OFFSET(Componentes!I12,0,($O$1-1)*13)","v":0.21540400276305327},{"$f":"OFFSET(Componentes!J12,0,($O$1-1)*13)","v":1.8450993097285373E-2},{"$f":"OFFSET(Componentes!K12,0,($O$1-1)*13)","v":-0.52156051712495355},{"$f":"OFFSET(Componentes!L12,0,($O$1-1)*13)","v":0.69569626330225898},{"$f":"OFFSET(Componentes!M12,0,($O$1-1)*13)","v":0.19660521135621556},{"$f":"OFFSET(Componentes!N12,0,($O$1-1)*13)","v":"-"},{"$f":"OFFSET(Componentes!O12,0,($O$1-1)*13)","v":6.5176189146032293E-2}]
[null,"Temperatura (2)",{"$f":"OFFSET(Componentes!C13,0,($O$1-1)*13)","v":-6.2913837069240923},{"$f":"OFFSET(Componentes!D13,0,($O$1-1)*13)","v":11.486653067468612},{"$f":"OFFSET(Componentes!E13,0,($O$1-1)*13)","v":6.1544632212114481},{"$f":"OFFSET(Componentes!F13,0,($O$1-1)*13)","v":2.0280523685326068},{"$f":"OFFSET(Componentes!G13,0,($O$1-1)*13)","v":-1.9860062374662757},{"$f":"OFFSET(Componentes!H13,0,($O$1-1)*13)","v":-3.1113988837263129},{"$f":"OFFSET(Componentes!I13,0,($O$1-1)*13)","v":-0.43309081299560681},{"$f":"OFFSET(Componentes!J13,0,($O$1-1)*13)","v":-0.84913397985459937},{"$f":"OFFSET(Componentes!K13,0,($O$1-1)*13)","v":3.8322151872181465},{"$f":"OFFSET(Componentes!L13,0,($O$1-1)*13)","v":0.71679112980047588},{"$f":"OFFSET(Componentes!M13,0,($O$1-1)*13)","v":-0.98044018386569398},{"$f":"OFFSET(Componentes!N13,0,($O$1-1)*13)","v":"-"},{"$f":"OFFSET(Componentes!O13,0,($O$1-1)*13)","v":0.54184190253470099}]
[null,"Demanda corregida",{"$f":"OFFSET(Componentes!C14,0,($O$1-1)*13)","v":-2.6914780674741281},{"$f":"OFFSET(Componentes!D14,0,($O$1-1)*13)","v":4.1437656568157548},{"$f":"OFFSET(Componentes!E14,0,($O$1-1)*13)","v":7.864432182146941},{"$f":"OFFSET(Componentes!F14,0,($O$1-1)*13)","v":9.538832769062644E-3},{"$f":"OFFSET(Componentes!G14,0,($O$1-1)*13)","v":0.2398424670400412},{"$f":"OFFSET(Componentes!H14,0,($O$1-1)*13)","v":-4.4276908136953397},{"$f":"OFFSET(Componentes!I14,0,($O$1-1)*13)","v":1.3636465008410426},{"$f":"OFFSET(Componentes!J14,0,($O$1-1)*13)","v":0.41859587552502964},{"$f":"OFFSET(Componentes!K14,0,($O$1-1)*13)","v":4.3188639759222056},{"$f":"OFFSET(Componentes!L14,0,($O$1-1)*13)","v":-1.3543306061858829},{"$f":"OFFSET(Componentes!M14,0,($O$1-1)*13)","v":0.56047823444552725},{"$f":"OFFSET(Componentes!N14,0,($O$1-1)*13)","v":"-"},{"$f":"OFFSET(Componentes!O14,0,($O$1-1)*13)","v":0.79440586705707972}]
[]
[null,"(1) La suma de los componentes es igual al tanto por ciento de variación de la demanda total."]
[null,"(2) Una media de las temperaturas máximas diarias por debajo o por encima de los umbrales de invierno y verano respectivamente, produce aumento de la demanda."]

{"sheet":"Componentes año Baleares","index":6,"n_rows":19,"n_cols":12,"rows_kept":19,"cut":false,"hidden":false,"merged":[[16,1,16,11],[18,1,18,11],[17,1,17,14]]}
[null,null,null,null,null,null,null,null,null,null,null,1]
[]
[]
[null,null,null,null,null,null,null,null,null,"Sistema eléctrico"]
[null,null,null,null,null,null,null,null,null,"Horizonte temporal"]
[null,null,null,null,null,null,null,null,null,"Periodo"]
[]
[null,null,{"$f":"OFFSET(Componentes!C37,0,($L$1-1)*10)","v":"2011"},{"$f":"OFFSET(Componentes!D37,0,($L$1-1)*10)","v":"2012"},{"$f":"OFFSET(Componentes!E37,0,($L$1-1)*10)","v":"2013"},{"$f":"OFFSET(Componentes!F37,0,($L$1-1)*10)","v":"2014"},{"$f":"OFFSET(Componentes!G37,0,($L$1-1)*10)","v":"2015"},{"$f":"OFFSET(Componentes!H37,0,($L$1-1)*10)","v":"2016"},{"$f":"OFFSET(Componentes!I37,0,($L$1-1)*10)","v":"2017"},{"$f":"OFFSET(Componentes!J37,0,($L$1-1)*10)","v":"2018"},{"$f":"OFFSET(Componentes!K37,0,($L$1-1)*10)","v":"2019"},{"$f":"OFFSET(Componentes!L37,0,($L$1-1)*10)","v":"2020"}]
[]
[null,"Variación anual",{"$f":"OFFSET(Componentes!C38,0,($L$1-1)*10)","v":-1.7174671651760121},{"$f":"OFFSET(Componentes!D38,0,($L$1-1)*10)","v":1.4183514864426705},{"$f":"OFFSET(Componentes!E38,0,($L$1-1)*10)","v":-2.654473815722258},{"$f":"OFFSET(Componentes!F38,0,($L$1-1)*10)","v":-1.5775032119824006},{"$f":"OFFSET(Componentes!G38,0,($L$1-1)*10)","v":3.7739580046013632},{"$f":"OFFSET(Componentes!H38,0,($L$1-1)*10)","v":0.60853033473056151},{"$f":"OFFSET(Componentes!I38,0,($L$1-1)*10)","v":3.3182036318789576},{"$f":"OFFSET(Componentes!J38,0,($L$1-1)*10)","v":1.401423958737813},{"$f":"OFFSET(Componentes!K38,0,($L$1-1)*10)","v":"-"},{"$f":"OFFSET(Componentes!L38,0,($L$1-1)*10)","v":"-"}]
[]
[null,"Componentes (1)"]
[null,"Laboralidad",{"$f":"OFFSET(Componentes!C40,0,($L$1-1)*10)","v":-4.427113823517459E-2},{"$f":"OFFSET(Componentes!D40,0,($L$1-1)*10)","v":-2.6660604472716898E-2},{"$f":"OFFSET(Componentes!E40,0,($L$1-1)*10)","v":-0.13673856412158569},{"$f":"OFFSET(Componentes!F40,0,($L$1-1)*10)","v":0.23572143515279143},{"$f":"OFFSET(Componentes!G40,0,($L$1-1)*10)","v":0.16620621026774973},{"$f":"OFFSET(Componentes!H40,0,($L$1-1)*10)","v":0.2147095694560619},{"$f":"OFFSET(Componentes!I40,0,($L$1-1)*10)","v":-0.37653057465731887},{"$f":"OFFSET(Componentes!J40,0,($L$1-1)*10)","v":6.5176189146032293E-2},{"$f":"OFFSET(Componentes!K40,0,($L$1-1)*10)","v":"-"},{"$f":"OFFSET(Componentes!L40,0,($L$1-1)*10)","v":"-"}]
[null,"Temperatura (2)",{"$f":"OFFSET(Componentes!C41,0,($L$1-1)*10)","v":-1.4701596976606668},{"$f":"OFFSET(Componentes!D41,0,($L$1-1)*10)","v":1.5352816101970812},{"$f":"OFFSET(Componentes!E41,0,($L$1-1)*10)","v":-1.0144758202534132},{"$f":"OFFSET(Componentes!F41,0,($L$1-1)*10)","v":0.18952690612892287},{"$f":"OFFSET(Componentes!G41,0,($L$1-1)*10)","v":0.94672050837929511},{"$f":"OFFSET(Componentes!H41,0,($L$1-1)*10)","v":-1.673589462555447},{"$f":"OFFSET(Componentes!I41,0,($L$1-1)*10)","v":1.2685586924660042},{"$f":"OFFSET(Componentes!J41,0,($L$1-1)*10)","v":0.54184190253470099},{"$f":"OFFSET(Componentes!K41,0,($L$1-1)*10)","v":"-"},{"$f":"OFFSET(Componentes!L41,0,($L$1-1)*10)","v":"-"}]
[null,"Demanda corregida",{"$f":"OFFSET(Componentes!C42,0,($L$1-1)*10)","v":-0.19285540711186933},{"$f":"OFFSET(Componentes!D42,0,($L$1-1)*10)","v":-9.6494889301046438E-2},{"$f":"OFFSET(Componentes!E42,0,($L$1-1)*10)","v":-1.5054712869834619},{"$f":"OFFSET(Componentes!F42,0,($L$1-1)*10)","v":-2.0027512730451891},{"$f":"OFFSET(Componentes!G42,0,($L$1-1)*10)","v":2.6606491598777815},{"$f":"OFFSET(Componentes!H42,0,($L$1-1)*10)","v":2.0674102278299467},{"$f":"OFFSET(Componentes!I42,0,($L$1-1)*10)","v":2.4261755140702723},{"$f":"OFFSET(Componentes!J42,0,($L$1-1)*10)","v":0.79440586705707972},{"$f":"OFFSET(Componentes!K42,0,($L$1-1)*10)","v":"-"},{"$f":"OFFSET(Componentes!L42,0,($L$1-1)*10)","v":"-"}]
[]
[null,"(1) La suma de los componentes es igual al tanto por ciento de variación de la demanda total."]
[null,"(2) Una media de las temperaturas máximas diarias por debajo o por encima de los umbrales de invierno y verano respectivamente, produce aumento de la demanda."]
[null,{"$f":"IF(MONTH('AVISO LEGAL'!J2)=1,\"Datos a 31 de diciembre.\",CONCATENATE(\"Datos a 31 de diciembre. Para el año \",YEAR('AVISO LEGAL'!J2), \" datos a \",TEXT('AVISO LEGAL'!J2-30,\"mmmm\"),\" de \",YEAR('AVISO LEGAL'!J2),\".\"))","v":"Datos a 31 de diciembre. Para el año 2018 datos a noviembre de 2018."}]

{"sheet":"Componentes mes Canarias","index":7,"n_rows":18,"n_cols":15,"rows_kept":18,"cut":false,"hidden":false,"merged":[[16,1,16,14],[17,1,17,14]]}
[null,null,null,null,null,null,null,null,null,null,null,null,null,null,8]
[]
[]
[null,null,null,null,null,null,null,null,null,null,null,null,"Sistema eléctrico"]
[null,null,null,null,null,null,null,null,null,null,null,null,"Horizonte temporal"]
[null,null,null,null,null,null,null,null,null,null,null,null,"Periodo"]
[]
[null,null,"Ene.","Feb.","Mar.","Abr.","May.","Jun.","Jul.","Ago.","Sep.","Oct.","Nov.","Dic.",{"$f":"OFFSET(Año!B22,($O$1-1),0)","v":2018}]
[]
[null,"Variación mensual",{"$f":"OFFSET(Componentes!C17,0,($O$1-1)*13)","v":1.3241920160183884},{"$f":"OFFSET(Componentes!D17,0,($O$1-1)*13)","v":2.5858462139299876},{"$f":"OFFSET(Componentes!E17,0,($O$1-1)*13)","v":-0.92672931851899287},{"$f":"OFFSET(Componentes!F17,0,($O$1-1)*13)","v":-0.34426802410161272},{"$f":"OFFSET(Componentes!G17,0,($O$1-1)*13)","v":-1.7949883639246433},{"$f":"OFFSET(Componentes!H17,0,($O$1-1)*13)","v":-3.1150618859366541},{"$f":"OFFSET(Componentes!I17,0,($O$1-1)*13)","v":-1.4020038585578209},{"$f":"OFFSET(Componentes!J17,0,($O$1-1)*13)","v":-3.0387639214756401},{"$f":"OFFSET(Componentes!K17,0,($O$1-1)*13)","v":0.76962925672434679},{"$f":"OFFSET(Componentes!L17,0,($O$1-1)*13)","v":-1.4247979567212021},{"$f":"OFFSET(Componentes!M17,0,($O$1-1)*13)","v":-3.1277699284183225},{"$f":"OFFSET(Componentes!N17,0,($O$1-1)*13)","v":"-"},{"$f":"OFFSET(Componentes!O17,0,($O$1-1)*13)","v":-1.0023526219666956}]
[]
[null,"Componentes (1)"]
[null,"Laboralidad",{"$f":"OFFSET(Componentes!C19,0,($O$1-1)*13)","v":2.0404695458453581E-2},{"$f":"OFFSET(Componentes!D19,0,($O$1-1)*13)","v":-5.8760582149530727E-2},{"$f":"OFFSET(Componentes!E19,0,($O$1-1)*13)","v":-1.1774194933108606},{"$f":"OFFSET(Componentes!F19,0,($O$1-1)*13)","v":1.1651890023145595},{"$f":"OFFSET(Componentes!G19,0,($O$1-1)*13)","v":1.0372539961267524E-2},{"$f":"OFFSET(Componentes!H19,0,($O$1-1)*13)","v":-0.24914960106570128},{"$f":"OFFSET(Componentes!I19,0,($O$1-1)*13)","v":0.24471615636280086},{"$f":"OFFSET(Componentes!J19,0,($O$1-1)*13)","v":0.12081047930285749},{"$f":"OFFSET(Componentes!K19,0,($O$1-1)*13)","v":-0.34035127747853444},{"$f":"OFFSET(Componentes!L19,0,($O$1-1)*13)","v":0.63905868675939725},{"$f":"OFFSET(Componentes!M19,0,($O$1-1)*13)","v":-9.7508140275504029E-2},{"$f":"OFFSET(Componentes!N19,0,($O$1-1)*13)","v":"-"},{"$f":"OFFSET(Componentes!O19,0,($O$1-1)*13)","v":2.7844606151949947E-2}]
[null,"Temperatura (2)",{"$f":"OFFSET(Componentes!C20,0,($O$1-1)*13)","v":0.28399286781095601},{"$f":"OFFSET(Componentes!D20,0,($O$1-1)*13)","v":0.30632750515622309},{"$f":"OFFSET(Componentes!E20,0,($O$1-1)*13)","v":-0.15019436033743006},{"$f":"OFFSET(Componentes!F20,0,($O$1-1)*13)","v":-2.9540153533647029E-2},{"$f":"OFFSET(Componentes!G20,0,($O$1-1)*13)","v":-5.2506848592592803E-3},{"$f":"OFFSET(Componentes!H20,0,($O$1-1)*13)","v":-0.10816969297577916},{"$f":"OFFSET(Componentes!I20,0,($O$1-1)*13)","v":-5.6479089917682579E-2},{"$f":"OFFSET(Componentes!J20,0,($O$1-1)*13)","v":-0.14011814915629861},{"$f":"OFFSET(Componentes!K20,0,($O$1-1)*13)","v":1.9956648234265018E-2},{"$f":"OFFSET(Componentes!L20,0,($O$1-1)*13)","v":-0.19248356809615785},{"$f":"OFFSET(Componentes!M20,0,($O$1-1)*13)","v":1.4649888228468466E-2},{"$f":"OFFSET(Componentes!N20,0,($O$1-1)*13)","v":"-"},{"$f":"OFFSET(Componentes!O20,0,($O$1-1)*13)","v":-2.1868492626264668E-2}]
[null,"Demanda corregida",{"$f":"OFFSET(Componentes!C21,0,($O$1-1)*13)","v":1.0197944527489788},{"$f":"OFFSET(Componentes!D21,0,($O$1-1)*13)","v":2.3382792909232952},{"$f":"OFFSET(Componentes!E21,0,($O$1-1)*13)","v":0.40088453512929778},{"$f":"OFFSET(Componentes!F21,0,($O$1-1)*13)","v":-1.4799168728825252},{"$f":"OFFSET(Componentes!G21,0,($O$1-1)*13)","v":-1.8001102190266516},{"$f":"OFFSET(Componentes!H21,0,($O$1-1)*13)","v":-2.7577425918951737},{"$f":"OFFSET(Componentes!I21,0,($O$1-1)*13)","v":-1.5902409250029392},{"$f":"OFFSET(Componentes!J21,0,($O$1-1)*13)","v":-3.019456251622199},{"$f":"OFFSET(Componentes!K21,0,($O$1-1)*13)","v":1.0900238859686162},{"$f":"OFFSET(Componentes!L21,0,($O$1-1)*13)","v":-1.8713730753844415},{"$f":"OFFSET(Componentes!M21,0,($O$1-1)*13)","v":-3.0449116763712869},{"$f":"OFFSET(Componentes!N21,0,($O$1-1)*13)","v":"-"},{"$f":"OFFSET(Componentes!O21,0,($O$1-1)*13)","v":-1.0083287354923809}]
[]
[null,"(1) La suma de los componentes es igual al tanto por ciento de variación de la demanda total."]
[null,"(2) Una media de las temperaturas máximas diarias por debajo o por encima de los umbrales de invierno y verano respectivamente, produce aumento de la demanda."]

{"sheet":"Componentes año Canarias","index":8,"n_rows":19,"n_cols":12,"rows_kept":19,"cut":false,"hidden":false,"merged":[[16,1,16,11],[18,1,18,11],[17,1,17,14]]}
[null,null,null,null,null,null,null,null,null,null,null,1]
[]
[]
[null,null,null,null,null,null,null,null,null,"Sistema eléctrico"]
[null,null,null,null,null,null,null,null,null,"Horizonte temporal"]
[null,null,null,null,null,null,null,null,null,"Periodo"]
[]
[null,null,{"$f":"OFFSET(Componentes!C44,0,($L$1-1)*10)","v":"2011"},{"$f":"OFFSET(Componentes!D44,0,($L$1-1)*10)","v":"2012"},{"$f":"OFFSET(Componentes!E44,0,($L$1-1)*10)","v":"2013"},{"$f":"OFFSET(Componentes!F44,0,($L$1-1)*10)","v":"2014"},{"$f":"OFFSET(Componentes!G44,0,($L$1-1)*10)","v":"2015"},{"$f":"OFFSET(Componentes!H44,0,($L$1-1)*10)","v":"2016"},{"$f":"OFFSET(Componentes!I44,0,($L$1-1)*10)","v":"2017"},{"$f":"OFFSET(Componentes!J44,0,($L$1-1)*10)","v":"2018"},{"$f":"OFFSET(Componentes!K44,0,($L$1-1)*10)","v":"2019"},{"$f":"OFFSET(Componentes!L44,0,($L$1-1)*10)","v":"2020"}]
[]
[null,"Variación anual",{"$f":"OFFSET(Componentes!C45,0,($L$1-1)*10)","v":-0.3572142624158503},{"$f":"OFFSET(Componentes!D45,0,($L$1-1)*10)","v":0.27362144538463085},{"$f":"OFFSET(Componentes!E45,0,($L$1-1)*10)","v":-4.2861029203738799},{"$f":"OFFSET(Componentes!F45,0,($L$1-1)*10)","v":-0.13168015884177375},{"$f":"OFFSET(Componentes!G45,0,($L$1-1)*10)","v":1.6255987507709735},{"$f":"OFFSET(Componentes!H45,0,($L$1-1)*10)","v":1.2844483930341433},{"$f":"OFFSET(Componentes!I45,0,($L$1-1)*10)","v":2.1381327106764658},{"$f":"OFFSET(Componentes!J45,0,($L$1-1)*10)","v":-1.0023526219666956},{"$f":"OFFSET(Componentes!K45,0,($L$1-1)*10)","v":"-"},{"$f":"OFFSET(Componentes!L45,0,($L$1-1)*10)","v":"-"}]
[]
[null,"Componentes (1)"]
[null,"Laboralidad",{"$f":"OFFSET(Componentes!C47,0,($L$1-1)*10)","v":-6.3769184816542257E-3},{"$f":"OFFSET(Componentes!D47,0,($L$1-1)*10)","v":-4.0007829191224253E-2},{"$f":"OFFSET(Componentes!E47,0,($L$1-1)*10)","v":-0.26299988142485198},{"$f":"OFFSET(Componentes!F47,0,($L$1-1)*10)","v":-1.178081089460159E-2},{"$f":"OFFSET(Componentes!G47,0,($L$1-1)*10)","v":0.18059260720835191},{"$f":"OFFSET(Componentes!H47,0,($L$1-1)*10)","v":0.24715980482814537},{"$f":"OFFSET(Componentes!I47,0,($L$1-1)*10)","v":6.7587359210352638E-2},{"$f":"OFFSET(Componentes!J47,0,($L$1-1)*10)","v":2.7844606151949947E-2},{"$f":"OFFSET(Componentes!K47,0,($L$1-1)*10)","v":"-"},{"$f":"OFFSET(Componentes!L47,0,($L$1-1)*10)","v":"-"}]
[null,"Temperatura (2)",{"$f":"OFFSET(Componentes!C48,0,($L$1-1)*10)","v":-0.28619719068320171},{"$f":"OFFSET(Componentes!D48,0,($L$1-1)*10)","v":0.22131088629555595},{"$f":"OFFSET(Componentes!E48,0,($L$1-1)*10)","v":-0.49492538662669894},{"$f":"OFFSET(Componentes!F48,0,($L$1-1)*10)","v":-1.1202715881522218},{"$f":"OFFSET(Componentes!G48,0,($L$1-1)*10)","v":7.3434205871469871E-3},{"$f":"OFFSET(Componentes!H48,0,($L$1-1)*10)","v":-3.9483799411788034E-2},{"$f":"OFFSET(Componentes!I48,0,($L$1-1)*10)","v":3.3797733286222709E-2},{"$f":"OFFSET(Componentes!J48,0,($L$1-1)*10)","v":-2.1868492626264668E-2},{"$f":"OFFSET(Componentes!K48,0,($L$1-1)*10)","v":"-"},{"$f":"OFFSET(Componentes!L48,0,($L$1-1)*10)","v":"-"}]
[null,"Demanda corregida",{"$f":"OFFSET(Componentes!C49,0,($L$1-1)*10)","v":-6.5395555480263212E-2},{"$f":"OFFSET(Componentes!D49,0,($L$1-1)*10)","v":9.3201390682740026E-2},{"$f":"OFFSET(Componentes!E49,0,($L$1-1)*10)","v":-3.5162822533494675},{"$f":"OFFSET(Componentes!F49,0,($L$1-1)*10)","v":1.0003272345680325},{"$f":"OFFSET(Componentes!G49,0,($L$1-1)*10)","v":1.4376884169812643},{"$f":"OFFSET(Componentes!H49,0,($L$1-1)*10)","v":1.0767723876177859},{"$f":"OFFSET(Componentes!I49,0,($L$1-1)*10)","v":2.0367476181798905},{"$f":"OFFSET(Componentes!J49,0,($L$1-1)*10)","v":-1.0083287354923809},{"$f":"OFFSET(Componentes!K49,0,($L$1-1)*10)","v":"-"},{"$f":"OFFSET(Componentes!L49,0,($L$1-1)*10)","v":"-"}]
[]
[null,"(1) La suma de los componentes es igual al tanto por ciento de variación de la demanda total."]
[null,"(2) Una media de las temperaturas máximas diarias por debajo o por encima de los umbrales de invierno y verano respectivamente, produce aumento de la demanda."]
[null,{"$f":"IF(MONTH('AVISO LEGAL'!J2)=1,\"Datos a 31 de diciembre.\",CONCATENATE(\"Datos a 31 de diciembre. Para el año \",YEAR('AVISO LEGAL'!J2), \" datos a \",TEXT('AVISO LEGAL'!J2-30,\"mmmm\"),\" de \",YEAR('AVISO LEGAL'!J2),\".\"))","v":"Datos a 31 de diciembre. Para el año 2018 datos a noviembre de 2018."}]

{"sheet":"Componentes","index":9,"n_rows":56,"n_cols":392,"rows_kept":56,"cut":false,"hidden":true,"merged":[]}
[]
[null,"Componentes mensuales del crecimiento de la demanda peninsular (%)","1991-01-01","1991-02-01","1991-03-01","1991-04-01","1991-05-01","1991-06-01","1991-07-01","1991-08-01","1991-09-01","1991-10-01","1991-11-01","1991-12-01","1991","1992-01-01","1992-02-01","1992-03-01","1992-04-01","1992-05-01","1992-06-01","1992-07-01","1992-08-01","1992-09-01","1992-10-01","1992-11-01","1992-12-01","1992","1993-01-01","1993-02-01","1993-03-01","1993-04-01","1993-05-01","1993-06-01","1993-07-01","1993-08-01","1993-09-01","1993-10-01","1993-11-01","1993-12-01","1993","1994-01-01","1994-02-01","1994-03-01","1994-04-01","1994-05-01","1994-06-01","1994-07-01","1994-08-01","1994-09-01","1994-10-01","1994-11-01","1994-12-01","1994","1995-01-01","1995-02-01","1995-03-01","1995-04-01","1995-05-01","1995-06-01","1995-07-01","1995-08-01","1995-09-01","1995-10-01","1995-11-01","1995-12-01","1995","1996-01-01","1996-02-01","1996-03-01","1996-04-01","1996-05-01","1996-06-01","1996-07-01","1996-08-01","1996-09-01","1996-10-01","1996-11-01","1996-12-01","1996","1997-01-01","1997-02-01","1997-03-01","1997-04-01","1997-05-01","1997-06-01","1997-07-01","1997-08-01","1997-09-01","1997-10-01","1997-11-01","1997-12-01","1997","1998-01-01","1998-02-01","1998-03-01","1998-04-01","1998-05-01","1998-06-01","1998-07-01","1998-08-01","1998-09-01","1998-10-01","1998-11-01","1998-12-01","1998","1999-01-01","1999-02-01","1999-03-01","1999-04-01","1999-05-01","1999-06-01","1999-07-01","1999-08-01","1999-09-01","1999-10-01","1999-11-01","1999-12-01","1999","2000-01-01","2000-02-01","2000-03-01","2000-04-01","2000-05-01","2000-06-01","2000-07-01","2000-08-01","2000-09-01","2000-10-01","2000-11-01","2000-12-01","2000","2001-01-01","2001-02-01","2001-03-01","2001-04-01","2001-05-01","2001-06-01","2001-07-01","2001-08-01","2001-09-01","2001-10-01","2001-11-01","2001-12-01","2001","2002-01-01","2002-02-01","2002-03-01","2002-04-01","2002-05-01","2002-06-01","2002-07-01","2002-08-01","2002-09-01","2002-10-01","2002-11-01","2002-12-01","2002","2003-01-01","2003-02-01","2003-03-01","2003-04-01","2003-05-01","2003-06-01","2003-07-01","2003-08-01","2003-09-01","2003-10-01","2003-11-01","2003-12-01","2003","2004-01-01","2004-02-01","2004-03-01","2004-04-01","2004-05-01","2004-06-01","2004-07-01","2004-08-01","2004-09-01","2004-10-01","2004-11-01","2004-12-01","2004","2005-01-01","2005-02-01","2005-03-01","2005-04-01","2005-05-01","2005-06-01","2005-07-01","2005-08-01","2005-09-01","2005-10-01","2005-11-01","2005-12-01","2005","2006-01-01","2006-02-01","2006-03-01","2006-04-01","2006-05-01","2006-06-01","2006-07-01","2006-08-01","2006-09-01","2006-10-01","2006-11-01","2006-12-01","2006","2007-01-01","2007-02-01","2007-03-01","2007-04-01","2007-05-01","2007-06-01","2007-07-01","2007-08-01","2007-09-01","2007-10-01","2007-11-01","2007-12-01","2007","2008-01-01","2008-02-01","2008-03-01","2008-04-01","2008-05-01","2008-06-01","2008-07-01","2008-08-01","2008-09-01","2008-10-01","2008-11-01","2008-12-01","2008","2009-01-01","2009-02-01","2009-03-01","2009-04-01","2009-05-01","2009-06-01","2009-07-01","2009-08-01","2009-09-01","2009-10-01","2009-11-01","2009-12-01","2009","2010-01-01","2010-02-01","2010-03-01","2010-04-01","2010-05-01","2010-06-01","2010-07-01","2010-08-01","2010-09-01","2010-10-01","2010-11-01","2010-12-01","2010","2011-01-01","2011-02-01","2011-03-01","2011-04-01","2011-05-01","2011-06-01","2011-07-01","2011-08-01","2011-09-01","2011-10-01","2011-11-01","2011-12-01","2011","2012-01-01","2012-02-01","2012-03-01","2012-04-01","2012-05-01","2012-06-01","2012-07-01","2012-08-01","2012-09-01","2012-10-01","2012-11-01","2012-12-01","2012","2013-01-01","2013-02-01","2013-03-01","2013-04-01","2013-05-01","2013-06-01","2013-07-01","2013-08-01","2013-09-01","2013-10-01","2013-11-01","2013-12-01","2013","2014-01-01","2014-02-01","2014-03-01","2014-04-01","2014-05-01","2014-06-01","2014-07-01","2014-08-01","2014-09-01","2014-10-01","2014-11-01","2014-12-01","2014","2015-01-01","2015-02-01","2015-03-01","2015-04-01","2015-05-01","2015-06-01","2015-07-01","2015-08-01","2015-09-01","2015-10-01","2015-11-01","2015-12-01","2015","2016-01-01","2016-02-01","2016-03-01","2016-04-01","2016-05-01","2016-06-01","2016-07-01","2016-08-01","2016-09-01","2016-10-01","2016-11-01","2016-12-01","2016","2017-01-01","2017-02-01","2017-03-01","2017-04-01","2017-05-01","2017-06-01","2017-07-01","2017-08-01","2017-09-01","2017-10-01","2017-11-01","2017-12-01","2017","2018-01-01","2018-02-01","2018-03-01","2018-04-01","2018-05-01","2018-06-01","2018-07-01","2018-08-01","2018-09-01","2018-10-01","2018-11-01","2018-12-01","2018","2019-01-01","2019-02-01","2019-03-01","2019-04-01","2019-05-01","2019-06-01","2019-07-01","2019-08-01","2019-09-01","2019-10-01","2019-11-01","2019-12-01","2019","2020-01-01","2020-02-01","2020-03-01","2020-04-01","2020-05-01","2020-06-01","2020-07-01","2020-08-01","2020-09-01","2020-10-01","2020-11-01","2020-12-01","2020"]
[null,"Variación mensual",5.1959999999999997,14.122,-0.33700000000000002,4.9370000000000003,4.9649999999999999,6.4000000000000001E-2,2.69,3.3149999999999999,4.3280000000000003,6.9320000000000004,3.919,-2.2069999999999999,3.8759999999999999,4.367,3.4940000000000002,7.024,1.1910000000000001,-9.1999999999999998E-2,-1.4139999999999999,1.45,2.0619999999999998,0.44500000000000001,-1.141,-4.431,-2.2080000000000002,0.90600000000000003,-5.0810000000000004,-4.8220000000000001,1.5820000000000001,-2.641,-1.5720000000000001,3.645,-1.0089999999999999,0.82199999999999995,-1.212,1.581,6.7240000000000002,4.6630000000000003,0.11700000000000001,0.33800000000000002,1.974,-2.9449999999999998,6.5279999999999996,5.8739999999999997,7.2160000000000002,7.6890000000000001,8.1519999999999992,6.6449999999999996,0.94099999999999995,-0.52,2.95,3.5649999999999999,6.41,-0.57799999999999996,9.9320000000000004,1.958,6.0709999999999997,4.0640000000000001,2.294,3.8450000000000002,2.6349999999999998,4.2569999999999997,3.089,1.2050000000000001,3.7559999999999998,-0.97099999999999997,11.891,1.82,1.4219999999999999,0.69599999999999995,2.718,3.2530000000000001,1.1870000000000001,0.57699999999999996,4.2009999999999996,5.1559999999999997,3.9729999999999999,2.9489999999999998,6.8070000000000004,-7.5490000000000004,-4.3810000000000002,7.9029999999999996,4.6719999999999997,2.0920000000000001,2.415,6.0609999999999999,10.842000000000001,6.766,5.0309999999999997,7.8529999999999998,3.94,2.5790000000000002,9.5670000000000002,11.101000000000001,5.984,4.8979999999999997,8.0340000000000007,10.382,6.4829999999999997,3.8340000000000001,3.996,5.5430000000000001,7.298,6.5839999999999996,6.5670000000000002,9.2420000000000009,7.085,2.3239999999999998,6.7290000000000001,6.7869999999999999,6.3940000000000001,6.02,5.8220000000000001,4.508,10.576000000000001,5.9240000000000004,6.5069999999999997,10.367000000000001,4.8109999999999999,6.3689999999999998,8.3309999999999995,6.3339999999999996,6.8559999999999999,1.919,6.7610000000000001,6.7350000000000003,6.7729999999999997,4.09,1.0820000000000001,5.7939999999999996,2.4889999999999999,5.125,5.24,2.1739999999999999,7.2380000000000004,6.1740000000000004,6.4509999999999996,7.12,3.0750000000000002,4.8140000000000001,5.2350000000000003,10.151,5.4489999999999998,5.7519999999999998,3.0619999999999998,2.3039999999999998,9.5850000000000009,3.0089999999999999,1.6919999999999999,4.6609999999999996,-1.004,2.8780000000000001,5.383,0.254,-1.923,2.8919999999999999,4.4370000000000003,10.435,4.9939999999999998,-6.8000000000000005E-2,3.2789999999999999,8.8450000000000006,8.6120000000000001,12.847,7.1890000000000001,6.2210000000000001,5.7770000000000001,8.6940000000000008,6.7489999999999997,0.65300000000000002,3.7789999999999999,11.178000000000001,7.3730000000000002,4.2919999999999998,2.496,2.9710000000000001,1.466,6.117,2.1749999999999998,7.0369999999999999,5.0750000000000002,4.4889999999999999,10.345000000000001,7.7130000000000001,2.1459999999999999,4.319,3.6970000000000001,5.7670000000000003,4.3010000000000002,2.97,1.0269999999999999,0.50900000000000001,2.226,6.4779999999999998,4.3250000000000002,4.5149999999999997,1.2869999999999999,4.4649999999999999,-1.9330000000000001,6.085,1.7050000000000001,6.96,5.3959999999999999,6.8920000000000003,6.3239999999999998,-0.373,1.7250000000000001,3.573,3.0329999999999999,-0.32400000000000001,2.7210000000000001,8.452,2.4119999999999999,1.101,-0.80800000000000005,2.472,0.28599999999999998,3.7469999999999999,9.3629999999999995,3.6629999999999998,2.9239999999999999,1.1339999999999999,6.4359999999999999,-1.1240000000000001,6.0979999999999999,0.41899999999999993,3.0000000000000027E-3,1.698,2.923,0.87399999999999989,-0.42399999999999993,-2.0649999999999999,-2.4040000000000004,1.0549999999999999,-2.7110000000000003,-7.367,-6.2140000000000004,-10.553000000000001,-6.2480000000000002,-2.5640000000000001,-3.508,-2.673,-3.2309999999999999,-3.7850000000000001,-6.3620000000000001,-1.893,-4.7309999999999999,-8.295091645769137E-2,4.9097308149784302,9.0319051614611734,3.6760198073962025,3.9752150208952175,-0.49488393417065346,3.2130008376540564,1.4535292520552634,1.4772702935142101,0.85484889840499179,6.6248658550485118,3.1456302502556488,3.113747511510212,-0.59616769385224533,-2.4991329842221521,-0.35094101605737116,-3.7513894213860755,-0.75124483491856298,1.4399192357063884,-5.3228112523824977,0.31864651520947529,1.2746193462164657,-1.0211199957524841,-6.4852873675437017,-6.8804766121812966,-2.1209206720724127,-2.3297776665326952,7.3185536456543021,-6.1215953129735041,1.382709601863219,-0.59452468378318191,-7.4059767829515177E-2,-1.276880856776863,-0.48430563768148138,-5.6889134436163502,-2.8665700209591694,-1.6859422865557083,-2.4139388278333729,-1.2867421870957019,-2.3379396174307399,-10.505112309843845,-0.84420501818726068,1.0160939073577957E-2,-3.6894060437571152,-7.7777321860600264,-8.3177582677773643E-2,-3.8918530544804875,-0.57616008416430109,0.20295053783110362,0.97667757834771773,1.9182454293495965,-2.3040840655225714,-2.2284778155814977,-0.8775167411463447,-1.3212947388145491,-3.4990119170207556,0.23875665485466602,2.3671687207073688,-2.5764448772975901,-2.1615402111724968,2.9284716068063155,-0.43096898005486883,-3.3240830026765034,-1.8963062192571711,-1.1165703303855801,2.8008167096849945,3.0291039967799582,1.2155341056938385,0.22023934687658286,1.9964161222181698,4.0124898406806109,11.333576481181829,3.5682500539900408,-3.4211323137771976,0.29544320723982054,0.46620806054447073,-2.201217192411431,1.9720720160641081,-5.1739682908239493,-0.76215329970991119,1.3783258053901459,5.779997654101221,-0.75150684181526373,-0.62334569697031217,-5.3027838301641816,2.709756262952201,6.476446030185512,0.49201716278353125,3.93501807108525,2.2662336938851668,0.68954404924408408,7.5216353020379989,-4.0169855225002493,-1.5976712451604147,-4.7195192384928646,2.6104510222872968,7.2412363395091717,0.95220050254913868,1.6033198467327869,-3.1860430365823422,1.7304374310119108,1.2829267500980235,3.9978964291051078,1.1320558128334435,-2.1183540445894988,6.5813780440805658,4.5689033634230825,5.0398232028953105,-0.66623696234885399,-6.2595963851842633,-1.0590978221433622,0.92673912776717327,2.9564695826269638,0.61933420014832485,0.21659567593188545,"-",0.86050655592502245,"-","-","-","-","-","-","-","-","-","-","-","-","-","-","-","-","-","-","-","-","-","-","-","-","-","-"]
[]
[null,"Laboralidad",0.29599999999999999,-0.17399999999999999,-4.1029999999999998,3.1619999999999999,-0.22,-0.97899999999999998,-0.35499999999999998,1.522,0.71099999999999997,0.65900000000000003,-0.187,-0.32100000000000001,-8.9999999999999993E-3,-0.51200000000000001,3.4289999999999998,3.0019999999999998,-2.1,-0.7,0.45800000000000002,1.3540000000000001,-1.881,0.64600000000000002,-0.54600000000000004,0.17199999999999999,1.6850000000000001,0.39800000000000002,-1.8009999999999999,-3.113,1.155,0,0.58199999999999996,0.40500000000000003,-0.47499999999999998,0.66,0.56000000000000005,-1.3089999999999999,0.115,0.224,-0.251,-0.61399999999999999,0,-0.10100000000000001,0.46400000000000002,0.14699999999999999,0.153,-1.2709999999999999,0.26100000000000001,0.30099999999999999,-0.53,0,-0.14699999999999999,-0.11700000000000001,1.6220000000000001,0,0.64,-1.92,0.25700000000000001,7.3999999999999996E-2,0.17699999999999999,-0.28699999999999998,-0.84199999999999997,0.61699999999999999,0,-0.73,-3.4000000000000002E-2,0.69699999999999995,4.101,-1.5940000000000001,1.367,-0.45500000000000002,-1.4410000000000001,1.377,-0.38500000000000001,-0.68600000000000005,1.8180000000000001,-1.0649999999999999,-0.94599999999999995,0.20399999999999999,-0.75700000000000001,-3.5169999999999999,1.474,-1.4750000000000001,0.47099999999999997,1.4119999999999999,-1.3839999999999999,0.40200000000000002,0.751,-1.8959999999999999,1.0529999999999999,0.97199999999999998,-0.20599999999999999,-0.73299999999999998,0,-1.504,1.1240000000000001,-1.399,-0.65500000000000003,1.621,-0.66600000000000004,-0.52100000000000002,0.86199999999999999,-0.45600000000000002,-0.89800000000000002,-0.26900000000000002,-0.26700000000000002,0,0.84899999999999998,0.26100000000000001,0.70699999999999996,0.114,-0.51100000000000001,1.5960000000000001,1.1619999999999999,-1.538,0.55400000000000005,1.482,0.36799999999999999,-0.158,3.4689999999999999,0.90700000000000003,-1.7110000000000001,0.66400000000000003,0.71899999999999997,-1.7070000000000001,0.65300000000000002,-0.68500000000000005,1.9830000000000001,7.3999999999999996E-2,-1.546,0.21299999999999999,2.3639999999999999,-3.601,0,3.6999999999999998E-2,0,-0.378,0.14899999999999999,0.11,-1.3779999999999999,-0.435,-0.113,-0.88900000000000001,-0.312,-0.63400000000000001,0,-4.7130000000000001,4.1040000000000001,-7.0999999999999994E-2,-1.802,0.86699999999999999,-0.57499999999999996,1.0669999999999999,0.97299999999999998,0.17899999999999999,0.998,1.2999999999999999E-2,0.29399999999999998,0,2.8820000000000001,-2.448,-0.72099999999999997,0.58699999999999997,0.93,-0.38700000000000001,0.68500000000000005,-0.109,-0.60799999999999998,0.70699999999999996,0.14799999999999999,-1.617,2.88,1.645,0.156,0.57899999999999996,1.4179999999999999,-0.17699999999999999,0.89500000000000002,0.52500000000000002,-2.032,0.76300000000000001,-7.4999999999999997E-2,0.39400000000000002,-0.91400000000000003,-3.0739999999999998,-2.9870000000000001,2.7429999999999999,-7.1999999999999995E-2,0.33700000000000002,-0.90300000000000002,3.5000000000000003E-2,0,-0.28100000000000003,-0.183,0.80200000000000005,-0.35699999999999998,2.0289999999999999,0,3.0379999999999998,-4.1790000000000003,0.33100000000000002,0,-0.14799999999999999,-0.17899999999999999,-1.069,0.51800000000000002,-0.71699999999999997,-0.80900000000000005,-9.5000000000000001E-2,0.69099999999999995,0,-0.53100000000000003,8.1000000000000003E-2,-0.107,-0.502,0.48099999999999998,0.14099999999999999,-1.423,1.1910000000000001,0.159,-0.71899999999999997,-4.2000000000000003E-2,-0.248,3.9409999999999998,-4.1349999999999998,4.0970000000000004,-0.81,-0.54,0.76900000000000002,-0.92100000000000004,0.80600000000000005,0.88,0.24399999999999999,1.2749999999999999,0.4,-1.24,-3.484,2.601,-3.206,-0.16300000000000001,0.85899999999999999,0.23300000000000001,-1.127,0.91,-1.105,0.33500000000000002,-0.48799999999999999,-0.48399999999999999,-0.45775900801530156,0.14398568401103873,0.52921222679516156,0.23345308197708636,0.50718037542016869,0.20156344612576316,-0.42072234652739127,0.58909227348269422,-0.32079029133649239,-1.196977939569166,6.657718385549849E-3,0.62251548589489225,5.4714882115680652E-2,0.35502742078290517,-5.7954927184344918E-2,0.76342180471813403,-0.5533988003896595,0.24895216690103972,2.5837820358964869E-2,-1.1012866660804477,0.34890618363481174,0.55939463951231172,0.12964855766660621,7.5788076239668989E-2,0.74825816478961737,0.13995989034844003,1.5491030393400274,3.5960570215289751,-1.0953613820100738,-0.74465237911609528,0.25027936331524225,-0.21148087330159493,0.22894921797627088,-5.8707294514581676E-2,-1.6270746382955448,0.16115869389954351,-0.90149072044980461,-1.0725059901319001,-0.27523301080143447,0.41035146146755075,-2.9261310184449894,-2.7030874967514218,3.2660065115822756,0.11126511783334792,-1.2477000731035632,1.9178385353660787,0.12289597711914224,0.96651613089541177,2.2087938987540134,0.71310090314768981,-0.24385472726329294,0.19281581100265566,-1.0359555373256168,4.01306340969243E-2,2.3442271835664608,-2.0816590786914224,-0.80590697597919814,0.22945663336053634,0.15618781313971875,-0.63343536490322316,0.98091356436691424,-8.6705421318711284E-2,-0.22863599071699658,0.83591754487388759,-3.0730600920070295E-3,-1.1703387058256798,2.2975276204117989E-2,0.16958317005317802,0.71076595961664379,-0.29168777872696783,0.96956725528134502,9.473247741949109E-2,0.46126849578722595,-9.2634659382162532E-2,-1.1272133622830305,0.25557183150344276,-0.64951846318999085,-6.0843878812311125E-2,3.1972634587740245E-2,3.695408121566246,-1.5190135352302514,2.168085011551879,0.83549475378945637,0.30825301524479709,-1.2095108682652844,1.5535364493412418,0.33383628989500647,-0.86402265218266106,0.36862927002492274,1.7165203756439817,0.58438696235036947,1.1678715592678079,-4.473395155721871E-2,2.6773866149954699,-3.6502736059782275,0.51926343748081027,0.28990654269465121,-0.16128893899771679,-0.19390949239026511,-0.47173657937237268,0.18556809834222587,0.33434528383335937,-1.389162023808721,-0.34214636765030892,1.5057460642021625,-0.13980804405766545,-2.8250612894685556,2.2655268729212974,-0.4292095377119387,-0.4864798511772026,-0.71396157129065552,-1.4742335517099026,-1.8327038798771511,0.87446389212507691,-0.44520733774289223,"-",-0.33630448804178315,"-","-","-","-","-","-","-","-","-","-","-","-","-","-","-","-","-","-","-","-","-","-","-","-","-","-"]
[null,"Temperatura",2.8839999999999999,14.092000000000001,1.8520000000000001,1.05,1.764,-7.2999999999999995E-2,-0.52500000000000002,0.80100000000000005,-0.156,1.83,0.495,-5.09,1.4650000000000001,4.6360000000000001,-2.0840000000000001,0.92500000000000004,-2.2250000000000001,-1.228,-0.64100000000000001,-1.079,-1.34,-1.07,-0.104,-3.972,-1.2430000000000001,-0.73099999999999998,-3.476,-4.4999999999999998E-2,2.0539999999999998,0.23899999999999999,-0.78900000000000003,2.1930000000000001,-0.28899999999999998,0.58599999999999997,-0.40500000000000003,0.77900000000000003,5.6139999999999999,0.28999999999999998,0.495,-2.843,-2.3220000000000001,-5.6619999999999999,0.14399999999999999,0,1.3160000000000001,2.9820000000000002,0.87,0.41899999999999998,-4.117,-5.6929999999999996,-1.26,-1.446,-1.869,-5.173,2.7,-1.8839999999999999,0,-0.70299999999999996,-0.219,-0.92600000000000005,-0.56699999999999995,-0.01,0.58499999999999996,-0.70099999999999996,-0.73599999999999999,-2.964,5.9509999999999996,1.6859999999999999,-0.40100000000000002,0.29799999999999999,0.51200000000000001,-2.0750000000000002,-2.2120000000000002,-0.81799999999999995,0.189,2.5880000000000001,-0.13200000000000001,0.18099999999999999,3.38,-8.1489999999999991,-6.673,-1.5349999999999999,-0.29499999999999998,-1.3320000000000001,-1.464,1.36,1.9039999999999999,0.4,-1.107,-0.63600000000000001,-1.222,-3.4510000000000001,1.2330000000000001,1.7929999999999999,2.7709999999999999,0.24,0.25900000000000001,2.2930000000000001,0.42199999999999999,-0.188,1.0999999999999999E-2,-0.58899999999999997,2.29,0.55900000000000005,1.2509999999999999,4.8109999999999999,2.3559999999999999,-1.4890000000000001,-0.22600000000000001,3.9750000000000001,5.8999999999999997E-2,-6.5000000000000002E-2,-0.35099999999999998,-0.46899999999999997,3.0019999999999998,-2.9849999999999999,0.78600000000000003,3.4830000000000001,-5.7910000000000004,-1.1259999999999999,1.4339999999999999,0,0.21,-1.4330000000000001,-1.1479999999999999,-0.11,0.39800000000000002,-2.5510000000000002,-2.2440000000000002,-0.75800000000000001,-6.6980000000000004,3.577,-1.786,-0.61299999999999999,2.0339999999999998,-0.183,-0.49399999999999999,0.76300000000000001,-0.28899999999999998,-0.437,2.5430000000000001,7.6520000000000001,0.47699999999999998,0.443,-0.83599999999999997,2.3380000000000001,0.315,-1.0449999999999999,0.19600000000000001,0.42599999999999999,-1.6919999999999999,-0.13800000000000001,0.26200000000000001,-4.4829999999999997,-8.3770000000000007,-1.1240000000000001,0.75600000000000001,3.92,-1.7609999999999999,-1.407,-0.36199999999999999,3.1579999999999999,1.657,3.887,0.50900000000000001,0.84899999999999998,-0.59799999999999998,3.2149999999999999,1.1459999999999999,-2.0099999999999998,-1.5149999999999999,3.62,1.0669999999999999,0.24299999999999999,-1.917,-0.61,-1.8149999999999999,0.27300000000000002,-3.3000000000000002E-2,1.32,0.19500000000000001,-0.129,6.1109999999999998,7.62,0.80400000000000005,1.7999999999999999E-2,-0.21299999999999999,1.4590000000000001,1.1719999999999999,0.128,-0.41599999999999998,-0.53500000000000003,0.161,1.911,1.5509999999999999,-0.248,-3.0390000000000001,-1.6879999999999999,-0.62,-0.125,-1.5609999999999999,0.96899999999999997,-0.254,0.41899999999999998,-1.4E-2,-2.5609999999999999,-2.3780000000000001,-0.94899999999999995,-2.8780000000000001,-6.2279999999999998,-0.97799999999999998,-0.26400000000000001,-9.7000000000000003E-2,-1.9079999999999999,-3.3479999999999999,-0.32300000000000001,-0.87,0.13600000000000001,2.008,-0.151,-1.2949999999999999,-1.76,-0.91800000000000004,2.1999999999999999E-2,-1.587,-0.152,0.51800000000000002,-0.68400000000000005,0.433,-8.1000000000000003E-2,5.2999999999999999E-2,1.821,1.5449999999999999,-5.8000000000000003E-2,2.714,3.0859999999999999,-0.90400000000000003,1.5109999999999999,0.111,0.89400000000000002,0.46200000000000002,0.28699999999999998,4.5999999999999999E-2,0.49299999999999999,-3.0649999999999999,-0.58499999999999996,0.441,-0.86579135576863031,2.4203246604060036,3.5094929836926303,-0.87173228135124514,1.5429368828289158,-3.0931362132768925,0.42149405119873418,-1.2167295913984022,-0.40771350737021095,-1.3848109797378827,4.2477893864107275,0.73297117900821274,0.39683130554921675,-1.2480874032546829,-4.0147719788857117,-0.80435940698118102,-1.744702913582441,-0.86537470396433891,1.3634552023807478,-2.9267710173861987,-3.0611355289433817E-2,2.2137350828146829,2.6703954511274608,-3.0059905497976103,-3.2991890189798418,-1.0255883589234793,-1.6476720039437565,4.6370162525706036,-2.9616954765350418,2.3673922009715409,1.5643861358346722,2.1010673652392842,1.2000000000000002,1.5540058612236951,-1.2807423123375017,-1.6944280036068515,2.0570005776100686,1.0501919560520157,0.69357018081355193,1.0479717724413251,-1.7687493610517695,3.9575588792881038,-0.22038955132444027,-1.5950377939730087,-4.2207591258813579,1.4031524527682415,-1.7167345398009792,-0.1557453867051084,-0.15356959404200232,8.4256837789076222E-2,0.33772001736915858,-0.27206283069688419,-0.68614633618317988,-0.76435956300009433,-3.475087216093864,-1.8922329904035307,-1.4086055563834687,1.8958897947915831,-2.621113462705249,-1.37648776938053,0.61636166200393916,0.90288985191050442,-2.1123547765709461,-0.47900355168386533,-0.98836652267776381,0.47914528306536308,1.9346128524698525,1.0228425255964679,-0.66851905597140604,2.5974038172129066,2.519777254798794,5.5981550027322653,0.80768964538022736,-2.9229491399944241,-2.2928997001959273,-1.1933340635526868,-3.9234151133671453,0.35936597688595029,-1.8218053146289326,-3.255694888648264,0.94271696434298224,1.1340256395164783,-1.351189729376745,-0.74414061542039667,-1.0065129786993809,0.77808100154739801,2.17587774206216,0.39574299036213567,2.4129051782706412,2.466909354236912,9.2093590159092464E-2,1.1196991762400188,-5.8727140763275125,-2.7325895498676922,-0.7979601940837906,1.553344203879381,2.4751616086144068,-5.0711499495870171E-3,0.11596641171600641,-1.0487105503445893,1.1996964545285094,-2.0417972470950563,6.817445710021186E-2,-0.16648553520739462,-1.6082705993146318,3.6962079264392766,2.3743739143770481,1.1061577761221741,-1.5432761005792384,-2.6747369714020928,-0.35399188282606575,0.70091697227172567,1.7894488595743274,-0.22125222521129917,1.5258141316674245,"-",0.3628145954977624,"-","-","-","-","-","-","-","-","-","-","-","-","-","-","-","-","-","-","-","-","-","-","-","-","-","-"]
[null,"Demanda corregida",2.016,0.20399999999999885,1.9139999999999995,0.72500000000000053,3.4209999999999998,1.1160000000000001,3.57,0.99199999999999999,3.7730000000000006,4.4430000000000005,3.6110000000000002,3.2039999999999997,2.42,0.24299999999999944,2.1490000000000005,3.0970000000000004,5.516,1.8359999999999999,-1.2309999999999999,1.1749999999999998,5.2829999999999995,0.86899999999999999,-0.49099999999999999,-0.63100000000000023,-2.6500000000000004,1.2389999999999999,0.19599999999999973,-1.6640000000000001,-1.6269999999999996,-2.88,-1.365,1.0470000000000002,-0.24499999999999988,-0.42400000000000004,-1.367,2.1109999999999998,0.99500000000000011,4.149,-0.127,3.7949999999999999,4.2960000000000003,2.8180000000000001,5.92,5.7269999999999994,5.7469999999999999,5.9779999999999998,7.020999999999999,5.9249999999999998,5.5880000000000001,5.173,4.3570000000000002,5.1280000000000001,6.657,4.5949999999999998,6.5920000000000005,5.7619999999999996,5.8140000000000001,4.6929999999999996,2.3359999999999999,5.0579999999999998,4.0439999999999996,3.6499999999999995,2.504,2.6360000000000001,4.5259999999999998,1.2959999999999998,1.8390000000000004,1.7280000000000002,0.45599999999999996,0.85299999999999998,3.6470000000000002,3.9510000000000005,3.7840000000000007,2.081,2.1939999999999995,3.6329999999999996,5.0510000000000002,2.5640000000000001,4.1840000000000011,4.1169999999999982,0.81799999999999962,10.913,4.4959999999999996,2.0120000000000005,5.2629999999999999,4.2989999999999995,8.1870000000000012,8.2620000000000005,5.085,7.5169999999999995,5.3680000000000003,6.7629999999999999,8.3339999999999996,10.812000000000001,2.089,6.0569999999999995,8.4300000000000015,6.468,6.7269999999999994,4.5430000000000001,3.1230000000000002,6.5880000000000001,5.9060000000000006,6.2939999999999996,5.5830000000000002,4.4310000000000009,3.88,3.552,6.2480000000000002,2.6979999999999995,6.8460000000000001,4.488999999999999,5.0110000000000001,6.5150000000000006,7.0200000000000005,7.4270000000000005,5.3529999999999998,7.0420000000000007,7.1330000000000009,6.5879999999999992,8.6080000000000005,5.67,5.9269999999999996,5.0590000000000002,7.2560000000000002,7.53,4.3919999999999995,6.5670000000000002,4.8719999999999999,6.3389999999999995,6.8230000000000004,5.149,7.0259999999999998,2.75,5.2040000000000006,6.7350000000000003,6.7959999999999994,6.2469999999999999,4.742,5.6859999999999999,2.8050000000000002,3.3879999999999999,5.2839999999999998,5.9429999999999996,3.8979999999999997,4.6790000000000003,5.1660000000000004,4.125,3.298,3.3679999999999994,1.2629999999999999,1.9490000000000003,4.1479999999999997,4.5579999999999998,5.4560000000000004,4.0030000000000001,3.3870000000000005,6.5150000000000006,3.8729999999999993,3.7869999999999999,4.3620000000000001,5.1000000000000005,6.0250000000000004,9.3469999999999995,5.9950000000000001,5.4809999999999999,6.9830000000000005,4.7720000000000011,5.4550000000000001,4.2799999999999994,2.4139999999999997,5.9130000000000003,6.15,3.4699999999999998,2.9950000000000001,3.758,2.3860000000000001,5.319,4.24,4.9539999999999997,4.9550000000000001,4.2240000000000002,5.1480000000000006,3.1669999999999998,4.3289999999999997,1.5580000000000003,3.9820000000000002,3.9710000000000001,4.032,2.8070000000000004,1.4429999999999998,1.3250000000000002,2.2479999999999998,3.7649999999999997,3.1310000000000002,2.734,4.3260000000000005,3.1150000000000002,2.8660000000000005,5.8789999999999996,3.266,6.1390000000000002,5.8289999999999997,7.5419999999999998,5.82,2.9050000000000002,4.9120000000000008,4.617,5.2200000000000006,5.9039999999999999,4.2300000000000004,8.6349999999999998,2.6160000000000001,3.5110000000000001,2.0590000000000002,2.6539999999999999,2.5790000000000002,2.42,7.1959999999999997,4.5329999999999995,4.2609999999999992,3.1419999999999999,3.4130000000000003,2.9889999999999994,3.5879999999999992,1.381,2.5000000000000022E-2,1.613,3.411,0.1489999999999998,-1.357,-4.13,-5.2240000000000002,0.71299999999999986,-4.1850000000000005,-6.9689999999999994,-7.9110000000000005,-8.8580000000000005,-6.1960000000000006,-4.3170000000000002,-4.2030000000000003,-1.833,-4.1870000000000003,-3.173,-3.6320000000000001,-0.82000000000000006,-4.6879999999999997,1.2405994473262405,2.3454204705613879,4.9931999509733815,4.3142990067703613,1.925097762646133,2.3966888329804759,3.2122291329827135,2.0811665699709714,2.2057740922209135,3.4366378177120405,2.3704187502522345,1.7901435853525438,2.6622013238452702,0.29689228861953243,1.5735939218479045,-0.31000341379432417,-1.4532877074139749,-0.13482229785526378,5.0626212966675688E-2,-1.2947535689158514,3.5168686409736694E-4,-1.498510376110529,-3.8211640045465511,-3.5550848939857604,-4.3295457579910721,-1.2332150802072173,-2.2312087019289661,-0.91451962844527612,-2.0645384544283885,-0.24003021999222662,-2.4091901829330964,-1.9636462597672044,-2.7058300747531341,-1.9796042043905948,-2.7810964929833037,-1.3333007112518613,-2.8414521437159723,-2.3916247937534885,-1.7010009062974341,-3.7962628513396157,-5.7742190581902211,-2.0986764007239427,-3.0354560211842574,-2.2056333676174544,-2.3092729870751048,-3.4041685708120939,-2.2980144917986505,-1.3869308283546045,-1.8522737668809075,0.1793198374109517,1.8243801392437309,-2.2228217045758392,-0.50637594207270098,-0.15328781224317467,-0.19043470628714587,0.47488015207419743,2.4532691872173329,0.24182229255524934,-0.1115192277320598,-0.15161707688874371,1.3311963804354621,-1.247153410646662,-0.98309223538856072,-2.2532202124471934,-0.1257412732204144,3.4920101324453112,1.0715158681059878,2.3108410044192507E-2,0.17799244323134511,-0.30929991626776898,0.52314533060047186,5.640689001030073,2.2992919128225875,-0.40554851440061102,3.7155562697187783,1.4039702925937148,2.3717163841457052,1.6870463613417597,-3.3841356107827569,-1.2018665326278932,1.9546223762774151,2.4778870030328637,-0.23581186622797512,-0.18745809679471259,-3.0867599831995163,0.37813881206356115,3.9667319982283455,0.96029682460405663,1.1534836227896861,-1.917196035995727,1.3063496734622149E-2,5.2340645665301722,1.9004625053844819,-1.5424683102881924,-0.27128543843084651,0.53784338092710549,4.4761681882001136,1.1185605914964425,1.6812629274070456,-1.6655959068653803,0.34517287814117559,2.9903787133597204,5.3188839958136169,1.640687715691147,-2.0158295094770295,3.0249781616989546,5.0195907385145899,1.668138553851839,1.3062486759423231,-3.0983795626049679,8.855631973359035E-3,1.7000557072053502,2.9997246029297875,-3.387746676545289E-2,-0.86401111799264685,"-",0.83399644846904319,"-","-","-","-","-","-","-","-","-","-","-","-","-","-","-","-","-","-","-","-","-","-","-","-","-","-"]
[]
[null,"Componentes mensuales del crecimiento de la demanda Islas Baleares (%)","2011-01-01","2011-02-01","2011-03-01","2011-04-01","2011-05-01","2011-06-01","2011-07-01","2011-08-01","2011-09-01","2011-10-01","2011-11-01","2011-12-01","2011","2012-01-01","2012-02-01","2012-03-01","2012-04-01","2012-05-01","2012-06-01","2012-07-01","2012-08-01","2012-09-01","2012-10-01","2012-11-01","2012-12-01","2012","2013-01-01","2013-02-01","2013-03-01","2013-04-01","2013-05-01","2013-06-01","2013-07-01","2013-08-01","2013-09-01","2013-10-01","2013-11-01","2013-12-01","2013","2014-01-01","2014-02-01","2014-03-01","2014-04-01","2014-05-01","2014-06-01","2014-07-01","2014-08-01","2014-09-01","2014-10-01","2014-11-01","2014-12-01","2014","2015-01-01","2015-02-01","2015-03-01","2015-04-01","2015-05-01","2015-06-01","2015-07-01","2015-08-01","2015-09-01","2015-10-01","2015-11-01","2015-12-01","2015","2016-01-01","2016-02-01","2016-03-01","2016-04-01","2016-05-01","2016-06-01","2016-07-01","2016-08-01","2016-09-01","2016-10-01","2016-11-01","2016-12-01","2016","2017-01-01","2017-02-01","2017-03-01","2017-04-01","2017-05-01","2017-06-01","2017-07-01","2017-08-01","2017-09-01","2017-10-01","2017-11-01","2017-12-01","2017","2018-01-01","2018-02-01","2018-03-01","2018-04-01","2018-05-01","2018-06-01","2018-07-01","2018-08-01","2018-09-01","2018-10-01","2018-11-01","2018-12-01","2018","2019-01-01","2019-02-01","2019-03-01","2019-04-01","2019-05-01","2019-06-01","2019-07-01","2019-08-01","2019-09-01","2019-10-01","2019-11-01","2019-12-01","2019","2020-01-01","2020-02-01","2020-03-01","2020-04-01","2020-05-01","2020-06-01","2020-07-01","2020-08-01","2020-09-01","2020-10-01","2020-11-01","2020-12-01","2020"]
[null,"Variación mensual",-2.8290637716578693,-5.431847971714987,-3.9321108921277714,-4.7574176781134963,4.1654295873052583,5.889656501097762,-5.2814752787718966,2.3217769363545582,6.6307807120620454,0.99309402272205194,-8.0211677779308594,-12.127260581073951,-1.7174671651760121,-3.7224267928730126,17.302898595966141,-4.2563654256258632,1.8732846010381277,-1.0520701611548833,5.9842548559063236,2.3814071176610385,5.4886310298374985,-7.5834392208048111,-0.18012951060132343,-0.18355047697754534,1.3318365935909071,1.4183514864426705,-3.0992856140486746,-16.177338405104823,-2.5157130970101416,-1.0468361054869701,-1.886869992503426,-10.176974774179183,1.5075067083791138,-6.4164307067954169,-3.1458283046137403E-2,2.994808169046359,6.7034648863373514,3.6367656529843417,-2.654473815722258,-4.5916061137513564,-9.1476280078201526,-2.3382479686744451,-2.0425565599930695,-1.0510505948646331,5.9614239685437553,-3.4304076662343141,-0.62505332204100261,11.182496526349972,-1.5601992682364507,-10.189228834101783,-4.7552463934362743,-1.5775032119824006,6.0089749096868816,12.477122373395023,5.7648982030142015,1.9662550812000967,3.0765997183261895,2.9869373250410503,16.043238454635468,4.5655334291085703,-8.0482415303692818,-1.6481929681648189,3.9681331749502169,-2.0868078683852875,3.7739580046013632,-8.9824316391299277,-6.7506619502240355,2.4278532476895265,4.2701475506225606,4.7512749857846703,2.0029388281762595,-7.6463381499057181,-0.83908927249638499,8.7313474059913077,6.8706518814770634,4.4063059921108927,2.8209836790938025,0.60853033473056151,16.466495463485199,-1.923473582363644,-8.8818467635383591,0.52284751598847823,2.3376111116671039,8.427997669822096,5.4896720065659155,8.6360770650238514,-5.7374348838429405,-0.5797589208453191,4.9160898037380552,9.6272303536306669,3.3182036318789576,-8.5533800717415343,15.66859750734293,12.918957904452588,2.7969391364426333,-1.6909834278843405,-7.7358065836865775,1.145959690608489,-0.41208711123228436,7.6295186460153985,5.8156786916851999E-2,-0.22335673806395118,"-",1.401423958737813,"-","-","-","-","-","-","-","-","-","-","-","-","-","-","-","-","-","-","-","-","-","-","-","-","-","-"]
[]
[null,"Laboralidad",-8.6890813035822578E-2,4.7292816240130264E-2,0.16157300146100173,-0.23370069498727197,-5.2624022597669295E-2,1.7997877876974044E-2,-0.4714651898065636,-4.0340460405374756E-2,-8.2676980000417899E-3,5.0677955607336678E-2,0.11035408921447143,-3.9444838000912696E-2,-4.427113823517459E-2,0.27912907290420508,3.3923722976258119E-2,-0.2401948422980027,-0.27805231306463618,0.53392843611030916,-0.24655221794331883,0.15687114958968795,4.7801329129115722E-2,-0.62453591157415378,2.7022189579906097E-2,0.55552047368717661,-0.51299871394954177,-2.6660604472716898E-2,0.52565338342674961,-2.8514021927888429,-1.1591723299939405,0.99711513290838827,-5.1492809359887648E-2,-0.50664627063573597,0.45307966360228491,-0.16917144323630406,0.1590062821831939,1.1519458698179497,-0.72667153148779917,0.6460173738657593,-0.13673856412158569,-0.58885405503400445,3.7018038904834683E-2,0.78953365208231929,-0.30229340248989489,0.52538542253875997,0.55984326274041152,0.28198749668056911,-3.5059444784235616E-2,0.7543821213415125,0.29517637565741328,8.1344183440901219E-2,0.33441487914421852,0.23572143515279143,-2.4800167082883462E-2,0.59172317815876596,0.56683827578440926,-1.5366779604675251E-2,-0.44883660965937544,0.54153540899892771,0.14603633497700841,0.23727820122299015,0.13306877174215082,-0.59023498900800941,0.29020582309426945,0.64845644588603646,0.16620621026774973,0.40956203663812296,3.1015461547757575,-0.26679536264473391,0.68112663634138926,0.53010525588834678,5.4818643054033167E-2,-0.63750189022915293,0.22701553141983855,-4.0516613102292709E-2,-0.53049030904703809,-3.1994296750426088E-2,-0.47407376214374519,0.2147095694560619,-0.63734274317379658,-4.3306019961254494,8.5663201848102943E-3,-1.5783494484878258,-0.66333524449309067,-0.41172723807456713,-0.40808989040006516,-0.2264096794929884,-0.44434853093097182,-0.3614095261038841,-0.12053827619875612,-2.4504066962398596,-0.37653057465731887,0.42948170265668573,3.817878305856226E-2,-1.0999374989058008,0.75934793514096377,5.5180342541893967E-2,-0.1967168862649249,0.21540400276305327,1.8450993097285373E-2,-0.52156051712495355,0.69569626330225898,0.19660521135621556,"-",6.5176189146032293E-2,"-","-","-","-","-","-","-","-","-","-","-","-","-","-","-","-","-","-","-","-","-","-","-","-","-","-"]
[null,"Temperatura",0.3909389992803991,-3.3089617791895676,-2.1492558805892292,-4.8392497847915665,-6.698570143639504E-2,1.2026375267214284,-2.4596300136108584,0.37258103128250397,2.7240274655149221,0.96911312859337961,-4.6689958143089179,-5.8294032832268421,-1.4701596976606668,-4.1590784057598977,10.710736779601259,-2.4090980425808595,4.7652060933897626,-0.34221811931315349,3.0354407032495483,3.3472461923916508,3.2223351022903746,-2.1203266024174336,-0.83409438623590626,1.3392565139040959,1.924770645832985,1.5352816101970812,0.13885429173911001,-6.1600346171434062,-0.11315468208824564,-1.7762933510698131,0.27884776852966642,-4.1411978873023507,-1.3292108481196552,-2.3394530861456371,0.34775166866988227,1.8144909137551624,5.30084460637823,3.2331787541163948,-1.0144758202534132,0.22546121972846223,-4.5944254874368378,7.4565995009667763E-2,-1.4125012414581306,-1.1497950139765178,5.3832329153775449,1.327470948832965,2.0133170026233049,4.5250207905590978,1.3624920983344113,-6.0445169897648814,-2.0555327129938239,0.18952690612892287,1.5879383226379273,6.6406625463963485,2.2153932437595225,-0.33797938906467984,3.2133335014645437,1.6117469354548053,6.1390378244226902,1.5917454291331179,-1.8087847463004509,-3.1194473833617287,1.2546431954317816,-9.2878169535973498,0.94672050837929511,-7.4306044829582243,-9.8012233495055394,-1.6702390464843564,0.39204587546364245,-3.1295268824808931,-1.5762927340103206,-2.5347832369050476,-1.2021887658422381,1.781405304962802,2.0924192614262926,0.56579431119490042,4.4652730097496374,-1.673589462555447,9.4199450838137864,-0.32380284300527196,-4.1211443197675113,-0.87973829383203306,2.4092121221407581,3.0435202083630486,0.51141486342425324,4.3146403394230379,-2.1958218933533118,-0.88997254312643825,0.41104693740834364,3.3685070566048303,1.2685586924660042,-6.2913837069240923,11.486653067468612,6.1544632212114481,2.0280523685326068,-1.9860062374662757,-3.1113988837263129,-0.43309081299560681,-0.84913397985459937,3.8322151872181465,0.71679112980047588,-0.98044018386569398,"-",0.54184190253470099,"-","-","-","-","-","-","-","-","-","-","-","-","-","-","-","-","-","-","-","-","-","-","-","-","-","-"]
[null,"Demanda corregida",-3.1331119579024458,-2.1701790087655497,-1.9444280129995439,0.31553280166534226,4.2850393113393226,4.6690210964993595,-2.3503800753544746,1.989536365477429,3.9150209445471651,-2.6697061478664352E-2,-3.4625260528364126,-6.2584124598461965,-0.19285540711186933,0.15752253998268007,6.5582380933886242,-1.607072540747001,-2.6138691792869988,-1.2437804779520389,3.1953663706000941,-1.1227102243203002,2.2184945984180082,-4.8385767068132237,0.62694268605467673,-2.0783274645688179,-7.9935338292536073E-2,-9.6494889301046438E-2,-3.7637932892145343,-7.1659015951725742,-1.2433860849279554,-0.2676578873255453,-2.1142249516732048,-5.5291306162410958,2.3836378928964841,-3.9078061774134758,-0.53821623389921358,2.8371385473247024E-2,2.1292918114469206,-0.24243047499781234,-1.5054712869834619,-4.2282132784458142,-4.5902205592881495,-3.2023476157664321,-0.32776191604504401,-0.42664100342687528,1.8347790425798927E-2,-5.0398661117478483,-2.6033108798800719,5.9030936144493618,-3.2178677422282753,-4.226056027777803,-3.0341285595866689,-2.0027512730451891,4.4458367541318378,5.2447366488399085,2.9826666834702698,2.3196012498694518,0.31210282652102128,0.83365498058731724,9.758164295235769,2.7365097987524623,-6.3725255558109817,2.0614894042049192,2.4232841564241658,6.5525526393260254,2.6606491598777815,-1.9613891928098264,-5.0984755494253076E-2,4.3648876568186168,3.1969750388175289,7.3506966123772166,3.5244129191325468,-4.4740530227715176,0.13608396192601457,6.9904587141307983,5.3087229290978089,3.8725059776664184,-1.1702155685120901,2.0674102278299467,7.683893122845209,2.7309312567670778,-4.7692687639556581,2.9809352583083371,0.59173423401943648,5.7962046995336145,5.3863470335417274,4.5478464050938019,-3.0972644595586569,0.67162314838500325,4.6255811425284676,8.7091299932656963,2.4261755140702723,-2.6914780674741281,4.1437656568157548,7.864432182146941,9.538832769062644E-3,0.2398424670400412,-4.4276908136953397,1.3636465008410426,0.41859587552502964,4.3188639759222056,-1.3543306061858829,0.56047823444552725,"-",0.79440586705707972,"-","-","-","-","-","-","-","-","-","-","-","-","-","-","-","-","-","-","-","-","-","-","-","-","-","-"]
[]
[null,"Componentes mensuales del crecimiento de la demanda Islas Canarias (%)","2011-01-01","2011-02-01","2011-03-01","2011-04-01","2011-05-01","2011-06-01","2011-07-01","2011-08-01","2011-09-01","2011-10-01","2011-11-01","2011-12-01","2011","2012-01-01","2012-02-01","2012-03-01","2012-04-01","2012-05-01","2012-06-01","2012-07-01","2012-08-01","2012-09-01","2012-10-01","2012-11-01","2012-12-01","2012","2013-01-01","2013-02-01","2013-03-01","2013-04-01","2013-05-01","2013-06-01","2013-07-01","2013-08-01","2013-09-01","2013-10-01","2013-11-01","2013-12-01","2013","2014-01-01","2014-02-01","2014-03-01","2014-04-01","2014-05-01","2014-06-01","2014-07-01","2014-08-01","2014-09-01","2014-10-01","2014-11-01","2014-12-01","2014","2015-01-01","2015-02-01","2015-03-01","2015-04-01","2015-05-01","2015-06-01","2015-07-01","2015-08-01","2015-09-01","2015-10-01","2015-11-01","2015-12-01","2015","2016-01-01","2016-02-01","2016-03-01","2016-04-01","2016-05-01","2016-06-01","2016-07-01","2016-08-01","2016-09-01","2016-10-01","2016-11-01","2016-12-01","2016","2017-01-01","2017-02-01","2017-03-01","2017-04-01","2017-05-01","2017-06-01","2017-07-01","2017-08-01","2017-09-01","2017-10-01","2017-11-01","2017-12-01","2017","2018-01-01","2018-02-01","2018-03-01","2018-04-01","2018-05-01","2018-06-01","2018-07-01","2018-08-01","2018-09-01","2018-10-01","2018-11-01","2018-12-01","2018","2019-01-01","2019-02-01","2019-03-01","2019-04-01","2019-05-01","2019-06-01","2019-07-01","2019-08-01","2019-09-01","2019-10-01","2019-11-01","2019-12-01","2019","2020-01-01","2020-02-01","2020-03-01","2020-04-01","2020-05-01","2020-06-01","2020-07-01","2020-08-01","2020-09-01","2020-10-01","2020-11-01","2020-12-01","2020"]
[null,"Variación mensual",-1.1299640961714097,-0.4244014757802117,-1.7888822938364246,-1.8987603218680649,-0.54590404282151006,0.8026720758892214,0.83789522077408751,-0.9015134742969777,-0.82701223507596344,1.6151757252064858,-0.49010367159801893,0.39111588542315445,-0.3572142624158503,1.8513584603040201,5.757135373212785,0.85008026531836478,-1.1467579039451725,0.69551219015571153,-5.1999642930133927E-2,0.81342886699662387,2.5013024210312373,0.35580668142534133,-1.8974136092087868,-2.254118957468898,-3.6823146165098741,0.27362144538463085,-3.4430009940449979,-6.7681817094776715,-4.3885176916239494,1.0160568697485051,-2.7489707176754252,-5.951300113696945,-2.7292163656413515,-3.3969409516978022,-5.6484217087439781,-4.4241932510465372,-5.6458179056508744,-7.22646062966108,-4.2861029203738799,-1.4704272865690982,-0.49473924063700991,-0.72784518923042496,-3.1784332597373011,-1.0917100227783139,0.50909044623761446,-2.3471571097761879,-2.9348825048642002,3.4436554346712001,-3.0681273921605801,4.0800568734679299,6.5614397396104751,-0.13168015884177375,0.95023087242627202,0.41916850920007409,0.98447304681630321,-0.3242920544641148,0.91645404894511451,-0.53504312876866411,4.6765253858280564,2.4993981014035604,0.13243057988698848,6.72742301755338,0.95863165315726029,1.7775941221183311,1.6255987507709735,-0.46747509887695715,3.0640012106130543,0.88773160037782795,2.5239152735796466,-0.3911491216647689,3.4610423967666337,-0.29774132937561149,3.5481280086823608,0.20699362729450499,0.57742855978939467,1.143232061610866,1.5056786674779055,1.2844483930341433,2.8321401913334654,-2.0758920850837193,2.5315959919482545,2.4416411554295303,4.3570531346992736,3.3761484403153075,1.0322065633639133,2.0202480803977574,1.434424386415234,3.7657439060196696,3.0935966394774583,0.76345240836679373,2.1381327106764658,1.3241920160183884,2.5858462139299876,-0.92672931851899287,-0.34426802410161272,-1.7949883639246433,-3.1150618859366541,-1.4020038585578209,-3.0387639214756401,0.76962925672434679,-1.4247979567212021,-3.1277699284183225,"-",-1.0023526219666956,"-","-","-","-","-","-","-","-","-","-","-","-","-","-","-","-","-","-","-","-","-","-","-","-","-","-"]
[]
[null,"Laboralidad",-0.11687073769938161,0.50855326346981311,-0.41115737399014529,-0.22899016068961275,0.37614653513275975,5.0182090710548799E-2,-0.5360095980705859,1.7832995212296865E-2,-8.1698905834870494E-3,-1.8808992461738505E-2,9.617882452995774E-2,0.26126518150388911,-6.3769184816542257E-3,0.63506840555260791,-0.42590021956099289,0.21437592724959931,-0.3586013769988794,0.13284567576723472,-0.24170545989660175,0.21699066832223668,4.7303084384719973E-2,-0.78636570684098572,0.3212612355089739,0.40764005170912387,-0.73592011676524294,-4.0007829191224253E-2,0.23387642561413235,-8.6830368389145818E-2,-1.390455870816409,1.5337329573634761,-7.857594757124664E-2,-0.65204262488793852,0.51888578056827894,-0.33552252847472985,0.20596330048581191,0.81073038401136088,-0.59284744846674897,-9.3821633571500307E-2,-0.26299988142485198,-0.41878960493137996,0.45569302229468978,0.44758559175462898,-0.93054405493382397,-0.24668250780710554,0.27643900019347356,-0.34151331972107624,-0.30775303089430883,0.35600797261179373,0.11165473487361188,-0.25006151844002567,0.86738567678685818,-1.178081089460159E-2,9.2880743908407837E-2,-4.7443518693679465E-3,0.65669007111661681,0.61733617408772368,-0.14752503920736348,0.55232422320784513,0.42023376164357362,0.24101804556249107,0.22570559021214409,-0.83797984753086752,0.32212200595880258,-1.756444533653756E-2,0.18059260720835191,-0.46454502338797443,3.6108474358112819,0.44046261967913836,0.11813707788383976,0.30727701988970679,6.4145320389008553E-2,-0.78158894040101234,0.37991892295889951,-2.5870725974708186E-2,-0.5520182512985583,0.11926388780729713,5.4997130169121E-2,0.24715980482814537,0.57366237832829903,-4.0303708338959243,9.5919830057922262E-2,-1.5513685500637031,0.11161519852613822,-1.0939407755095054E-2,-5.8991858788259854E-2,-8.432566395017993E-2,-0.44520816030166888,0.24705718906448126,-2.3178289152792075E-2,-0.88126875719884978,6.7587359210352638E-2,2.0404695458453581E-2,-5.8760582149530727E-2,-1.1774194933108606,1.1651890023145595,1.0372539961267524E-2,-0.24914960106570128,0.24471615636280086,0.12081047930285749,-0.34035127747853444,0.63905868675939725,-9.7508140275504029E-2,"-",2.7844606151949947E-2,"-","-","-","-","-","-","-","-","-","-","-","-","-","-","-","-","-","-","-","-","-","-","-","-","-","-"]
[null,"Temperatura",-0.15893060108308488,-0.34169786848764483,-0.39777730624119823,-0.63140638048793107,-0.22049691381355041,0.62913933507005027,-0.40553581900426572,-0.69869757870218985,-0.17630888663437982,0.17006464758204665,-0.54599139786802864,-0.68064739069437774,-0.28619719068320171,-7.5889828603203924E-2,3.7370599720277564,7.02848290278002E-2,-0.18840241447964923,0.6910166460149636,0.13984620056279873,0.78984924743710216,0.54887838921062748,-1.0425928813684315E-2,-0.101787802515374,0.43279051449199857,0.20003868869405972,0.22131088629555595,6.9267934023287125E-3,-3.3207233778490886,1.8435082348522869E-2,0.81521574811307396,-0.93413534211890248,-1.346421321935221,-0.41766686987219082,0.43557108244614007,-0.32105590700300901,-0.54423259018151438,-0.26934135552698635,-0.15365129213927808,-0.49492538662669894,0.31105393071423348,0.27703797723570567,4.5684508277488156E-2,-0.60401001377871077,-0.3943212733003687,-1.0013288601063097,-2.8296920867351472,-3.955123238474556,-2.6458898398129316,-1.6221482031947398,-0.66841292379780093,9.2943849310822557E-2,-1.1202715881522218,-0.10803067832270141,1.9349865487749973E-2,1.9908306186078306E-2,-0.1581165287187547,3.0310210281547789E-2,-3.0624579692495324E-3,0.32629037714961839,7.4753863776755303E-2,1.4250832277484804E-2,2.9532609903903939E-2,-1.5072042436337085E-4,-0.16438836427357106,7.3434205871469871E-3,-0.23113402006652572,-0.23520011281379372,-3.719867723146475E-2,-1.7278400345466238E-2,-7.6244703856431784E-2,3.1476839741606533E-2,-4.1380556299908111E-2,6.0560939861065144E-2,-4.4633965547302701E-2,-6.1810235213077824E-2,1.4959938781244908E-2,0.14713868311233558,-3.9483799411788034E-2,0.16374605265399023,-1.6439801543999266E-2,3.6991092490157307E-2,6.9919589891753731E-2,8.2119027418059432E-3,8.386275850578162E-2,-0.17556428179299477,4.6081109413975696E-2,-4.7271618504041157E-3,0.1945776922587461,-1.5250669887678647E-2,2.5716141085596611E-2,3.3797733286222709E-2,0.28399286781095601,0.30632750515622309,-0.15019436033743006,-2.9540153533647029E-2,-5.2506848592592803E-3,-0.10816969297577916,-5.6479089917682579E-2,-0.14011814915629861,1.9956648234265018E-2,-0.19248356809615785,1.4649888228468466E-2,"-",-2.1868492626264668E-2,"-","-","-","-","-","-","-","-","-","-","-","-","-","-","-","-","-","-","-","-","-","-","-","-","-","-"]
[null,"Demanda corregida",-0.85416275738894321,-0.59125687076237998,-0.97994761360508109,-1.038363780690521,-0.7015536641407194,0.12335065010862234,1.7794406378489391,-0.22064889080708472,-0.64253345785809657,1.4639200700861776,-4.0291098259948033E-2,0.81049809461364308,-6.5395555480263212E-2,1.2921798833546161,2.4459756207460215,0.56541950904096527,-0.5997541124666439,-0.12835013162648679,4.9859616403669094E-2,-0.19341104876271498,1.9051209474358899,1.1525983170800114,-2.1168870422023867,-3.0945495236700205,-3.1464331884386909,9.3201390682740026E-2,-3.683804213061459,-3.3606279632394371,-3.0164969031560633,-1.332891835728045,-1.7362594279852761,-3.9528361668737855,-2.8304352763374396,-3.4969895056692124,-5.533329102226781,-4.6906910448763837,-4.7836291016571391,-6.9789877039503017,-3.5162822533494675,-1.3626916123519517,-1.2274702401674054,-1.2211152892625421,-1.6438791910247663,-0.45070624167083961,1.2339803061504506,0.82404829668003554,1.3279937645046647,5.7335373018723379,-1.5576339238394521,4.9985313157057565,5.6011102135127944,1.0003272345680325,0.9653808068405656,0.40456299558169206,0.30787466951360809,-0.78351169983308377,1.0336688778709302,-1.0843048940072597,3.9300012470348644,2.1836261920643141,-0.10752584260264042,7.5358702551803436,0.63666036762282108,1.9595469317284397,1.4376884169812643,0.22820394457754301,-0.31164611238443385,0.48446765793015434,2.4230565960412731,-0.6221814376980439,3.3654202366360186,0.52522816732530897,3.1076481458623961,0.27749831881651588,1.1912570463010308,1.009008235022324,1.3035428541964489,1.0767723876177859,2.0947317603511761,1.9709185503562043,2.3986850694001749,3.9230901156014797,4.2372260334313294,3.3032250895646209,1.2667627039451679,2.0584926349339616,1.8843597085673069,3.3241090246964422,3.1320255985179291,1.6190050244800469,2.0367476181798905,1.0197944527489788,2.3382792909232952,0.40088453512929778,-1.4799168728825252,-1.8001102190266516,-2.7577425918951737,-1.5902409250029392,-3.019456251622199,1.0900238859686162,-1.8713730753844415,-3.0449116763712869,"-",-1.0083287354923809,"-","-","-","-","-","-","-","-","-","-","-","-","-","-","-","-","-","-","-","-","-","-","-","-","-","-"]
[]
[null,"Componentes mensuales del crecimiento de la demanda nacional (%)","2011-01-01","2011-02-01","2011-03-01","2011-04-01","2011-05-01","2011-06-01","2011-07-01","2011-08-01","2011-09-01","2011-10-01","2011-11-01","2011-12-01","2011","2012-01-01","2012-02-01","2012-03-01","2012-04-01","2012-05-01","2012-06-01","2012-07-01","2012-08-01","2012-09-01","2012-10-01","2012-11-01","2012-12-01","2012","2013-01-01","2013-02-01","2013-03-01","2013-04-01","2013-05-01","2013-06-01","2013-07-01","2013-08-01","2013-09-01","2013-10-01","2013-11-01","2013-12-01","2013","2014-01-01","2014-02-01","2014-03-01","2014-04-01","2014-05-01","2014-06-01","2014-07-01","2014-08-01","2014-09-01","2014-10-01","2014-11-01","2014-12-01","2014","2015-01-01","2015-02-01","2015-03-01","2015-04-01","2015-05-01","2015-06-01","2015-07-01","2015-08-01","2015-09-01","2015-10-01","2015-11-01","2015-12-01","2015","2016-01-01","2016-02-01","2016-03-01","2016-04-01","2016-05-01","2016-06-01","2016-07-01","2016-08-01","2016-09-01","2016-10-01","2016-11-01","2016-12-01","2016","2017-01-01","2017-02-01","2017-03-01","2017-04-01","2017-05-01","2017-06-01","2017-07-01","2017-08-01","2017-09-01","2017-10-01","2017-11-01","2017-12-01","2017","2018-01-01","2018-02-01","2018-03-01","2018-04-01","2018-05-01","2018-06-01","2018-07-01","2018-08-01","2018-09-01","2018-10-01","2018-11-01","2018-12-01","2018","2019-01-01","2019-02-01","2019-03-01","2019-04-01","2019-05-01","2019-06-01","2019-07-01","2019-08-01","2019-09-01","2019-10-01","2019-11-01","2019-12-01","2019","2020-01-01","2020-02-01","2020-03-01","2020-04-01","2020-05-01","2020-06-01","2020-07-01","2020-08-01","2020-09-01","2020-10-01","2020-11-01","2020-12-01","2020"]
[null,"Variación mensual",-0.66195516580437319,-2.5001463619013897,-0.46970527264403872,-3.7103620695198347,-0.64878663551747318,1.5144497878818663,-5.1275502204044976,0.32102257263140199,1.3153087938626129,-0.88625576436717202,-6.3153872038443364,-6.7468883709493666,-2.0568698100360439,-2.2173235751973719,7.4740484545488428,-5.8565959910544807,1.3135444187722278,-0.55310194422342196,6.6892468937118643E-2,-1.1146674402266799,-0.21495567960695405,-5.520617904835512,-2.7723626232510457,-1.6770332406046085,-2.3883475121903253,-1.1717531785253588,-2.3902183096168206,-10.517973835808847,-1.0068110816839004,1.2113306929384393E-2,-3.6240024468361609,-7.7786773687421267,-0.13389018616117854,-3.9440262851999086,-0.74499456991802271,9.1123644082569122E-2,0.85426069974539054,1.6565168062806945,-2.3806861973225568,-2.2418545059208261,-1.0191223484988687,-1.3070349365154055,-3.4546353275577313,0.17160554634017,2.3964267925957516,-2.5862220456723817,-2.1445364339719775,3.1510349455308617,-0.54162520042441153,-3.213335722824362,-1.6996223992361781,-1.0886776190725311,2.799004499992841,3.1131396164510994,1.2818865287143932,0.23745750054204873,1.977912075656918,3.8286831056522308,11.24059166434035,3.5601983388606318,-3.4279454578805213,0.46400220877962361,0.5349689951944292,-2.0755531246820058,1.9945520261856364,-5.1057193535318346,-0.76415176364053039,1.3847591795363545,5.6365682990939137,-0.62014928974536421,-0.42876549084415183,-5.2212062834711244,2.6291875606053949,6.3102037229262331,0.63553443402120102,3.8491075474860859,2.2526212916884392,0.70687060298493254,7.534118548545421,-3.920298287752666,-1.6108729252167553,-4.3841734723639947,2.6563841263794297,7.1364141406034198,1.0774098224255235,1.8133829500814436,-3.0988799812297851,1.7390446032556017,1.3999656027015694,3.9915264907792292,1.2094559616753653,-2.1374630508749992,6.629413235351711,4.5402058778079901,4.8078004446246103,-0.72712426016735554,-6.1968561366654962,-1.0100899121233797,0.74597690559108365,3.0027892207037832,0.5404041210615329,0.10412679424056659,"-",0.81277065604243859,"-","-","-","-","-","-","-","-","-","-","-","-","-","-","-","-","-","-","-","-","-","-","-","-","-","-"]
[]
[null,"Laboralidad",0.33241629821925844,-3.9092563510851705E-2,0.71588894040134787,-0.53606892880985024,0.24682161723267637,2.6462398365478573E-2,-1.0666602124764633,0.32690077173822235,0.52592844489378732,0.12262888650825768,7.7068521468191736E-2,0.71805710581442139,0.13124036907175801,1.496597060510851,3.4039459520077324,-1.0357231671713074,-0.72263245862388259,0.25227738310470638,-0.21332768662908219,0.22663829780065659,-5.1898818837082444E-2,-1.5722454343277732,0.16413652401400694,-0.83216742448687953,-1.0511218107268998,-0.26197675505317986,0.40707022393966774,-2.8380941589504003,-2.631999908203801,3.1636726613691728,0.10129653099629464,-1.2101726323324755,1.8329059519187678,9.8542275971640725E-2,0.92055174549800811,2.1367667743035628,0.64557222362402211,-0.22242256124594312,0.17076305763350774,-1.0085789752778702,5.2812990518586095E-2,2.2543089776423346,-2.007808346216954,-0.75887619791140704,0.23907720473945143,0.14334663846001031,-0.6047551950565383,0.95334996090016022,-7.1641743473912362E-2,-0.2240921906475013,0.8276443114714267,1.8087732628752212E-3,-1.1101369180599823,3.3290455817915003E-2,0.19292306555338004,0.69316943788495455,-0.29024140854282099,0.94600011342711088,0.10613533692817054,0.44714660971258019,-7.5562446377032369E-2,-1.1053143210775278,0.25844526633677828,-0.60445369542153227,-4.7912286235854543E-2,2.2908632540876512E-2,3.6818535986681225,-1.4319658521364094,2.071765198033054,0.8109474106167599,0.29394046597933032,-1.1801771511291017,1.4753368133020819,0.31207362862090482,-0.84520694582621325,0.35328393716534351,1.6208295187415618,0.56511192175640068,1.1142644525336849,-0.25121731453183088,2.5429585691897691,-3.5338709454091908,0.47882083450306101,0.2627431883229569,-0.16499241021712976,-0.19110211288542436,-0.47011450756851209,0.17572276066530118,0.31397972942811753,-1.3937108767350397,-0.32925756147036978,1.4389190194270645,-0.13371581882808325,-2.7391742773510002,2.1983280026513961,-0.40364554611146902,-0.47154767969778533,-0.65627227080750727,-1.3764026155691307,-1.7468636758232114,0.86202998562534605,-0.42217085034864049,"-",-0.31515706924577175,"-","-","-","-","-","-","-","-","-","-","-","-","-","-","-","-","-","-","-","-","-","-","-","-","-","-"]
[null,"Temperatura",-1.1840182336689917,-3.8920257928734476,-0.81736475632760808,-1.7664330354939903,-0.82693763501992956,1.3355256140662741,-2.832339847111637,-4.1937398406768314E-2,2.144877540933305,2.5444330478644819,-2.9510129356397798,-3.2589079734548201,-1.0107696603207894,-1.6461131554754156,4.7375502386597965,-2.8511621152759505,2.3284928978988262,1.4947051300457208,2.0590184830903877,1.2432882837767913,1.5682433903618467,-1.2551146091236811,-1.6178508420989848,1.9898667027278467,1.0390439432790495,0.69620401466496495,0.99879914426199679,-1.9019976981434317,3.7549136141738577,-0.21534047037322807,-1.5323194151156705,-4.1221927085351373,1.2703373515151333,-1.6595452022635606,-0.149115320124516,-0.12386668933947079,0.16868752717795998,0.37850300112311958,-0.29549000492241023,-0.63844794494819412,-0.80122758303372688,-3.2956963415155021,-1.8391446713488506,-1.3689383388599279,1.885401831950875,-2.5223527989967254,-1.3669942051025328,0.60679388912563337,0.82707643271405751,-2.1302757117450963,-0.48985507428916791,-0.96721875859136774,0.4821515391152596,1.9696369821615145,1.0142486359008078,-0.64472386159213613,2.5249534025060103,2.4179799866958676,5.4517263131495106,0.80564610232021705,-2.7897558013108905,-2.2266685442848462,-1.1096951891216258,-3.8975014765800715,0.36073771396983073,-1.8724361414040875,-3.282549289235325,0.85978814746544807,1.0817586182578638,-1.348670267571825,-0.73930060485220217,-1.0169349532499827,0.6970680742152745,2.0907745089517746,0.4176662066840805,2.3007869187767649,2.4274063315614827,4.8897906489450929E-2,1.2532257808093372,-5.5833850067445834,-2.6664493657619368,-0.76920172919775132,1.5200717095280727,2.4136016230710551,4.0832598471500954E-3,0.24076732189751651,-1.0404857872878008,1.1164402371894577,-1.9286558130826401,0.1315556655187142,-0.12757608040569363,-1.634100644809438,3.7519643538346172,2.3701927125943278,1.0869393927966178,-1.5014224144186126,-2.6014569101437615,-0.34673783638649819,0.62647996442690701,1.7816188843066623,-0.19954781797058138,1.4308552685734941,"-",0.35426586228210255,"-","-","-","-","-","-","-","-","-","-","-","-","-","-","-","-","-","-","-","-","-","-","-","-","-","-"]
[null,"Demanda corregida",0.18964676964536004,1.4309719944829098,-0.36822945671777846,-1.407860105215994,-6.8670617730219943E-2,0.15246177545011358,-1.2285501608163971,3.6059199299947955E-2,-1.3554971919644794,-3.553317698739912,-3.441442789672748,-4.2060375033089672,-1.1773405187870125,-2.067807480232807,-0.66744773611868635,-1.9697107086072223,-0.2923160205027156,-2.300084457373849,-1.7787983275241872,-2.5845940218041279,-1.7313002511317184,-2.6932578613840574,-1.3186483051660678,-2.8347325188455756,-2.3762696447424752,-1.6059804381371439,-3.7960876778184853,-5.7778819787150155,-2.1297247876539567,-2.9362188840665602,-2.1929795627167854,-2.4463120278745123,-3.2371334895950796,-2.3830233589079888,-1.5164309952915149,-1.9217764408815226,4.0000948943408506E-2,1.5004363664035181,-2.2559592500336545,-0.5948275856947618,-0.27070775598372793,-0.26564757264223793,0.39231769000807326,2.2994200831115053,0.27194775590542519,-0.20721588513566669,-0.17278703381290658,1.5908910955050684,-1.2970598896645567,-0.85896782043176423,-2.0374116364184367,-0.12326763374403867,3.4269898789375643,1.1102121784716696,7.4714827260205341E-2,0.1890119242492303,-0.25679991830627158,0.46470300552925203,5.6827300142626678,2.3074056268278347,-0.56262721019259831,3.7959850741419969,1.3862189179792768,2.426402047319598,1.6817265984516601,-3.2561918446686238,-1.1634560730733274,1.9569368842073158,2.4830444828029958,-8.2426432790299292E-2,1.6594648028719992E-2,-3.0240941790920397,0.45678267308803855,3.9073555853535535,1.0630751731633339,1.1950366915439776,-1.7956145586146051,9.286077473908097E-2,5.1666283152023986,1.9143040335237484,-1.4873821286445881,-8.1100797757052784E-2,0.65749158234829597,4.4600693292094071,1.2383189727955033,1.763717741069351,-1.5882796863734721,0.44688160540084265,3.0146416863560921,5.2536817019955544,1.666289603551429,-1.9422814254926257,3.0111647003451765,4.9091874425646624,1.5225330491765963,1.1779437003627262,-3.1238515468239494,-7.0798049293743087E-3,1.4958995567333071,2.9680340122203321,-0.12207804659323174,-0.90455762398428707,"-",0.77366186300610773,"-","-","-","-","-","-","-","-","-","-","-","-","-","-","-","-","-","-","-","-","-","-","-","-","-","-"]
[]
[null,"Componentes anuales del crecimiento de la demanda peninsular (%)","1991","1992","1993","1994","1995","1996","1997","1998","1999","2000","2001","2002","2003","2004","2005","2006","2007","2008","2009","2010","2011","2012","2013","2014","2015","2016","2017","2018","2019","2020"]
[null,"Variación anual",3.8759999999999999,0.90600000000000003,0.11700000000000001,3.5649999999999999,3.7559999999999998,2.9489999999999998,3.94,6.5839999999999996,6.5069999999999997,5.7939999999999996,5.4489999999999998,2.8919999999999999,6.7489999999999997,4.4889999999999999,4.3250000000000002,3.573,2.9239999999999999,1.0549999999999999,-4.7309999999999999,3.113747511510212,-2.1209206720724127,-1.2867421870957019,-2.3040840655225714,-1.1165703303855801,1.9720720160641081,0.68954404924408408,1.1320558128334435,0.86050655592502245,"-","-"]
[]
[null,"Laboralidad",-8.9999999999999993E-3,0.39800000000000002,-0.251,-0.11700000000000001,-3.4000000000000002E-2,0.20399999999999999,-0.20599999999999999,-0.26900000000000002,0.36799999999999999,0.21299999999999999,-0.312,1.2999999999999999E-2,0.14799999999999999,0.39400000000000002,-0.35699999999999998,-9.5000000000000001E-2,-4.2000000000000003E-2,0.4,-0.48399999999999999,5.4714882115680652E-2,0.13995989034844003,-0.27523301080143447,0.19281581100265566,-3.0730600920070295E-3,-6.0843878812311125E-2,0.58438696235036947,-0.34214636765030892,-0.33630448804178315,"-","-"]
[null,"Temperatura",1.4650000000000001,-0.73099999999999998,0.495,-1.446,-0.73599999999999999,0.18099999999999999,-1.222,0.55900000000000005,0.78600000000000003,-0.75800000000000001,0.47699999999999998,-1.1240000000000001,1.1459999999999999,-0.129,1.5509999999999999,-0.94899999999999995,-1.2949999999999999,-5.8000000000000003E-2,0.441,0.39683130554921675,-1.0255883589234793,0.69357018081355193,-0.27206283069688419,-0.98836652267776381,0.35936597688595029,9.2093590159092464E-2,-0.16648553520739462,0.3628145954977624,"-","-"]
[null,"Demanda corregida",2.42,1.2389999999999999,-0.127,5.1280000000000001,4.5259999999999998,2.5640000000000001,5.3680000000000003,6.2939999999999996,5.3529999999999998,6.3389999999999995,5.2839999999999998,4.0030000000000001,5.4550000000000001,4.2240000000000002,3.1310000000000002,4.617,4.2609999999999992,0.71299999999999986,-4.6879999999999997,2.6622013238452702,-1.2332150802072173,-1.7010009062974341,-2.2228217045758392,-0.1257412732204144,1.6870463613417597,1.3063496734622149E-2,1.640687715691147,0.83399644846904319,"-","-"]
[]
[null,"Componentes anuales del crecimiento de la demanda Islas Baleares (%)","2011","2012","2013","2014","2015","2016","2017","2018","2019","2020"]
[null,"Variación anual",-1.7174671651760121,1.4183514864426705,-2.654473815722258,-1.5775032119824006,3.7739580046013632,0.60853033473056151,3.3182036318789576,1.401423958737813,"-","-"]
[]
[null,"Laboralidad",-4.427113823517459E-2,-2.6660604472716898E-2,-0.13673856412158569,0.23572143515279143,0.16620621026774973,0.2147095694560619,-0.37653057465731887,6.5176189146032293E-2,"-","-"]
[null,"Temperatura",-1.4701596976606668,1.5352816101970812,-1.0144758202534132,0.18952690612892287,0.94672050837929511,-1.673589462555447,1.2685586924660042,0.54184190253470099,"-","-"]
[null,"Demanda corregida",-0.19285540711186933,-9.6494889301046438E-2,-1.5054712869834619,-2.0027512730451891,2.6606491598777815,2.0674102278299467,2.4261755140702723,0.79440586705707972,"-","-"]
[]
[null,"Componentes anuales del crecimiento de la demanda Islas Canarias (%)","2011","2012","2013","2014","2015","2016","2017","2018","2019","2020"]
[null,"Variación anual",-0.3572142624158503,0.27362144538463085,-4.2861029203738799,-0.13168015884177375,1.6255987507709735,1.2844483930341433,2.1381327106764658,-1.0023526219666956,"-","-"]
[]
[null,"Laboralidad",-6.3769184816542257E-3,-4.0007829191224253E-2,-0.26299988142485198,-1.178081089460159E-2,0.18059260720835191,0.24715980482814537,6.7587359210352638E-2,2.7844606151949947E-2,"-","-"]
[null,"Temperatura",-0.28619719068320171,0.22131088629555595,-0.49492538662669894,-1.1202715881522218,7.3434205871469871E-3,-3.9483799411788034E-2,3.3797733286222709E-2,-2.1868492626264668E-2,"-","-"]
[null,"Demanda corregida",-6.5395555480263212E-2,9.3201390682740026E-2,-3.5162822533494675,1.0003272345680325,1.4376884169812643,1.0767723876177859,2.0367476181798905,-1.0083287354923809,"-","-"]
[]
[null,"Componentes anuales del crecimiento de la demanda nacional (%)","2011","2012","2013","2014","2015","2016","2017","2018","2019","2020"]
[null,"Variación mensual",-2.0568698100360439,-1.1717531785253588,-2.3806861973225568,-1.0886776190725311,1.9945520261856364,0.70687060298493254,1.2094559616753653,0.81277065604243859,"-","-"]
[]
[null,"Laboralidad",0.13124036907175801,-0.26197675505317986,0.17076305763350774,1.8087732628752212E-3,-4.7912286235854543E-2,0.56511192175640068,-0.32925756147036978,-0.31515706924577175,"-","-"]
[null,"Temperatura",-1.0107696603207894,0.69620401466496495,-0.29549000492241023,-0.96721875859136774,0.36073771396983073,4.8897906489450929E-2,-0.12757608040569363,0.35426586228210255,"-","-"]
[null,"Demanda corregida",-1.1773405187870125,-1.6059804381371439,-2.2559592500336545,-0.12326763374403867,1.6817265984516601,9.286077473908097E-2,1.666289603551429,0.77366186300610773,"-","-"]

{"sheet":"Año","index":10,"n_rows":29,"n_cols":26,"rows_kept":29,"cut":false,"hidden":true,"merged":[]}
[null,null,null,null,null,null,null,null,null,null,null,null,null,null,null,null,null,null,null,null,null,null,null,1,1,1]
["Mensual",1991,"1991-2000",null,null,null,null,null,null,null,null,null,null,null,"Nacional","Mensual"]
["Trimestral",1992,"2001-2010",null,null,null,null,null,null,null,null,null,null,null,"Peninsular","Anual"]
["Anual",1993,"2011-2020","2011-2020",null,null,null,null,null,null,null,null,null,null,"Canarias"]
[null,1994,null,null,null,null,null,null,null,null,null,null,null,null,"Baleares"]
[null,1995]
[null,1996]
[null,1997]
[null,1998]
[null,1999]
[null,2000]
[null,2001]
[null,2002]
[null,2003]
[null,2004]
[null,2005]
[null,2006]
[null,2007]
[null,2008]
[null,2009]
[null,2010]
[null,2011]
[null,2012]
[null,2013]
[null,2014]
[null,2015]
[null,2016]
[null,2017]
[null,2018]