{"text_format":"1","workbook":"xlsx","n_sheets":15,"sheets":["AVISO LEGAL","Estructura mensual nacional","Estructura anual nacional","Estructura mensual Peninsular","Estructura anual Peninsular","Estructura mensual Baleares","Estructura anual Baleares","Estructura mensual Canarias","Estructura anual Canarias","Estructura mensual Ceuta","Estructura anual Ceuta","Estructura mensual Melilla","Estructura anual Melilla","Estructura","Año"],"not_rendered":{"charts":0,"images":1,"macros":1,"external_links":0,"defined_names":13,"comments":0,"pivot_tables":0},"unopened":[],"bounds":{"document_bytes":16777216,"sheet_cells":100000,"rows_first":2000,"rows_last":500,"rows_between":2000,"halvings":0,"cell_chars":16384,"cell_head_chars":4096},"cells_cut":0,"cells_raw":0,"read":"whole","date_system":"1900"}

{"sheet":"AVISO LEGAL","index":0,"n_rows":23,"n_cols":10,"rows_kept":23,"cut":false,"hidden":false,"merged":[]}
[]
[]
[]
[]
[]
[]
[]
[]
[]
[]
[]
[]
[]
[]
[]
[]
[]
[]
[]
[]
[]
[]
[null,null,null,null,null,null,null,null,null,"www.ree.es"]

{"sheet":"Estructura mensual nacional","index":1,"n_rows":32,"n_cols":15,"rows_kept":32,"cut":false,"hidden":false,"merged":[[31,1,31,14],[30,1,30,14],[5,2,5,9],[25,1,25,14],[27,1,27,14],[28,1,28,14],[29,1,29,14],[26,1,26,14]]}
[null,null,null,null,null,null,null,null,null,null,null,null,null,null,4]
[]
[]
[null,null,null,null,null,null,null,null,null,null,null,null,"Sistema eléctrico"]
[null,null,null,null,null,null,null,null,null,null,null,null,"Horizonte temporal"]
[null,null,null,null,null,null,null,null,null,null,null,null,"Periodo"]
[]
[null,null,"Ene.","Feb.","Mar.","Abr.","May.","Jun.","Jul.","Ago.","Sep.","Oct.","Nov.","Dic.",{"$f":"OFFSET(Año!B19,($O$1-1),0)","v":2010}]
[]
[null,"Hidráulica",{"$f":"OFFSET(Estructura!C66,0,($O$1-1)*12)","v":19.8},{"$f":"OFFSET(Estructura!D66,0,($O$1-1)*12)","v":16.899999999999999},{"$f":"OFFSET(Estructura!E66,0,($O$1-1)*12)","v":23.1},{"$f":"OFFSET(Estructura!F66,0,($O$1-1)*12)","v":21.3},{"$f":"OFFSET(Estructura!G66,0,($O$1-1)*12)","v":17.2},{"$f":"OFFSET(Estructura!H66,0,($O$1-1)*12)","v":15.6},{"$f":"OFFSET(Estructura!I66,0,($O$1-1)*12)","v":11.2},{"$f":"OFFSET(Estructura!J66,0,($O$1-1)*12)","v":8.5},{"$f":"OFFSET(Estructura!K66,0,($O$1-1)*12)","v":6.6},{"$f":"OFFSET(Estructura!L66,0,($O$1-1)*12)","v":6.8},{"$f":"OFFSET(Estructura!M66,0,($O$1-1)*12)","v":10.8},{"$f":"OFFSET(Estructura!N66,0,($O$1-1)*12)","v":15.6},{"$f":"OFFSET(Estructura!C147,0,($O$1-1))","v":14.5}]
[null,"Turbinación bombeo",{"$f":"OFFSET(Estructura!C67,0,($O$1-1)*12)","v":2},{"$f":"OFFSET(Estructura!D67,0,($O$1-1)*12)","v":1.6},{"$f":"OFFSET(Estructura!E67,0,($O$1-1)*12)","v":1.5},{"$f":"OFFSET(Estructura!F67,0,($O$1-1)*12)","v":1},{"$f":"OFFSET(Estructura!G67,0,($O$1-1)*12)","v":0.9},{"$f":"OFFSET(Estructura!H67,0,($O$1-1)*12)","v":0.7},{"$f":"OFFSET(Estructura!I67,0,($O$1-1)*12)","v":0.5},{"$f":"OFFSET(Estructura!J67,0,($O$1-1)*12)","v":0.7},{"$f":"OFFSET(Estructura!K67,0,($O$1-1)*12)","v":0.7},{"$f":"OFFSET(Estructura!L67,0,($O$1-1)*12)","v":1},{"$f":"OFFSET(Estructura!M67,0,($O$1-1)*12)","v":0.9},{"$f":"OFFSET(Estructura!N67,0,($O$1-1)*12)","v":1.3},{"$f":"OFFSET(Estructura!C148,0,($O$1-1))","v":1.1000000000000001}]
[null,"Nuclear",{"$f":"OFFSET(Estructura!C68,0,($O$1-1)*12)","v":17.2},{"$f":"OFFSET(Estructura!D68,0,($O$1-1)*12)","v":19.2},{"$f":"OFFSET(Estructura!E68,0,($O$1-1)*12)","v":19.399999999999999},{"$f":"OFFSET(Estructura!F68,0,($O$1-1)*12)","v":22.1},{"$f":"OFFSET(Estructura!G68,0,($O$1-1)*12)","v":19.7},{"$f":"OFFSET(Estructura!H68,0,($O$1-1)*12)","v":20.7},{"$f":"OFFSET(Estructura!I68,0,($O$1-1)*12)","v":21},{"$f":"OFFSET(Estructura!J68,0,($O$1-1)*12)","v":22.7},{"$f":"OFFSET(Estructura!K68,0,($O$1-1)*12)","v":21.8},{"$f":"OFFSET(Estructura!L68,0,($O$1-1)*12)","v":23.2},{"$f":"OFFSET(Estructura!M68,0,($O$1-1)*12)","v":21.1},{"$f":"OFFSET(Estructura!N68,0,($O$1-1)*12)","v":19},{"$f":"OFFSET(Estructura!C149,0,($O$1-1))","v":20.5}]
[null,"Carbón",{"$f":"OFFSET(Estructura!C69,0,($O$1-1)*12)","v":7.6},{"$f":"OFFSET(Estructura!D69,0,($O$1-1)*12)","v":6.7},{"$f":"OFFSET(Estructura!E69,0,($O$1-1)*12)","v":4.5},{"$f":"OFFSET(Estructura!F69,0,($O$1-1)*12)","v":4.0999999999999996},{"$f":"OFFSET(Estructura!G69,0,($O$1-1)*12)","v":4.7},{"$f":"OFFSET(Estructura!H69,0,($O$1-1)*12)","v":7},{"$f":"OFFSET(Estructura!I69,0,($O$1-1)*12)","v":10.6},{"$f":"OFFSET(Estructura!J69,0,($O$1-1)*12)","v":13.1},{"$f":"OFFSET(Estructura!K69,0,($O$1-1)*12)","v":14},{"$f":"OFFSET(Estructura!L69,0,($O$1-1)*12)","v":9.4},{"$f":"OFFSET(Estructura!M69,0,($O$1-1)*12)","v":7.5},{"$f":"OFFSET(Estructura!N69,0,($O$1-1)*12)","v":8.9},{"$f":"OFFSET(Estructura!C150,0,($O$1-1))","v":8.1999999999999993}]
[null,"Fuel + Gas (2)",{"$f":"OFFSET(Estructura!C70,0,($O$1-1)*12)","v":2.9},{"$f":"OFFSET(Estructura!D70,0,($O$1-1)*12)","v":2.8},{"$f":"OFFSET(Estructura!E70,0,($O$1-1)*12)","v":2.5},{"$f":"OFFSET(Estructura!F70,0,($O$1-1)*12)","v":2.9},{"$f":"OFFSET(Estructura!G70,0,($O$1-1)*12)","v":3.3},{"$f":"OFFSET(Estructura!H70,0,($O$1-1)*12)","v":3.4},{"$f":"OFFSET(Estructura!I70,0,($O$1-1)*12)","v":3.1},{"$f":"OFFSET(Estructura!J70,0,($O$1-1)*12)","v":3.4},{"$f":"OFFSET(Estructura!K70,0,($O$1-1)*12)","v":3.3},{"$f":"OFFSET(Estructura!L70,0,($O$1-1)*12)","v":3.1},{"$f":"OFFSET(Estructura!M70,0,($O$1-1)*12)","v":3.1},{"$f":"OFFSET(Estructura!N70,0,($O$1-1)*12)","v":3},{"$f":"OFFSET(Estructura!C151,0,($O$1-1))","v":3.1}]
[null,"Ciclo combinado (3)",{"$f":"OFFSET(Estructura!C71,0,($O$1-1)*12)","v":21.5},{"$f":"OFFSET(Estructura!D71,0,($O$1-1)*12)","v":20.9},{"$f":"OFFSET(Estructura!E71,0,($O$1-1)*12)","v":17.399999999999999},{"$f":"OFFSET(Estructura!F71,0,($O$1-1)*12)","v":20.9},{"$f":"OFFSET(Estructura!G71,0,($O$1-1)*12)","v":21.5},{"$f":"OFFSET(Estructura!H71,0,($O$1-1)*12)","v":25.2},{"$f":"OFFSET(Estructura!I71,0,($O$1-1)*12)","v":27.8},{"$f":"OFFSET(Estructura!J71,0,($O$1-1)*12)","v":25.6},{"$f":"OFFSET(Estructura!K71,0,($O$1-1)*12)","v":28.2},{"$f":"OFFSET(Estructura!L71,0,($O$1-1)*12)","v":24.2},{"$f":"OFFSET(Estructura!M71,0,($O$1-1)*12)","v":24.4},{"$f":"OFFSET(Estructura!N71,0,($O$1-1)*12)","v":20.5},{"$f":"OFFSET(Estructura!C152,0,($O$1-1))","v":23.2}]
[null,"Hidroeólica",{"$f":"OFFSET(Estructura!C72,0,($O$1-1)*12)","v":"-"},{"$f":"OFFSET(Estructura!D72,0,($O$1-1)*12)","v":"-"},{"$f":"OFFSET(Estructura!E72,0,($O$1-1)*12)","v":"-"},{"$f":"OFFSET(Estructura!F72,0,($O$1-1)*12)","v":"-"},{"$f":"OFFSET(Estructura!G72,0,($O$1-1)*12)","v":"-"},{"$f":"OFFSET(Estructura!H72,0,($O$1-1)*12)","v":"-"},{"$f":"OFFSET(Estructura!I72,0,($O$1-1)*12)","v":"-"},{"$f":"OFFSET(Estructura!J72,0,($O$1-1)*12)","v":"-"},{"$f":"OFFSET(Estructura!K72,0,($O$1-1)*12)","v":"-"},{"$f":"OFFSET(Estructura!L72,0,($O$1-1)*12)","v":"-"},{"$f":"OFFSET(Estructura!M72,0,($O$1-1)*12)","v":"-"},{"$f":"OFFSET(Estructura!N72,0,($O$1-1)*12)","v":"-"},{"$f":"OFFSET(Estructura!C153,0,($O$1-1))","v":0}]
[null,"Eólica",{"$f":"OFFSET(Estructura!C73,0,($O$1-1)*12)","v":16.5},{"$f":"OFFSET(Estructura!D73,0,($O$1-1)*12)","v":19.2},{"$f":"OFFSET(Estructura!E73,0,($O$1-1)*12)","v":18.2},{"$f":"OFFSET(Estructura!F73,0,($O$1-1)*12)","v":12.1},{"$f":"OFFSET(Estructura!G73,0,($O$1-1)*12)","v":16.3},{"$f":"OFFSET(Estructura!H73,0,($O$1-1)*12)","v":11.5},{"$f":"OFFSET(Estructura!I73,0,($O$1-1)*12)","v":11},{"$f":"OFFSET(Estructura!J73,0,($O$1-1)*12)","v":12.3},{"$f":"OFFSET(Estructura!K73,0,($O$1-1)*12)","v":10.1},{"$f":"OFFSET(Estructura!L73,0,($O$1-1)*12)","v":17},{"$f":"OFFSET(Estructura!M73,0,($O$1-1)*12)","v":18.100000000000001},{"$f":"OFFSET(Estructura!N73,0,($O$1-1)*12)","v":18.3},{"$f":"OFFSET(Estructura!C154,0,($O$1-1))","v":15.1}]
[null,"Solar fotovoltaica",{"$f":"OFFSET(Estructura!C74,0,($O$1-1)*12)","v":1},{"$f":"OFFSET(Estructura!D74,0,($O$1-1)*12)","v":1.3},{"$f":"OFFSET(Estructura!E74,0,($O$1-1)*12)","v":1.9},{"$f":"OFFSET(Estructura!F74,0,($O$1-1)*12)","v":2.7},{"$f":"OFFSET(Estructura!G74,0,($O$1-1)*12)","v":3.2},{"$f":"OFFSET(Estructura!H74,0,($O$1-1)*12)","v":3},{"$f":"OFFSET(Estructura!I74,0,($O$1-1)*12)","v":3},{"$f":"OFFSET(Estructura!J74,0,($O$1-1)*12)","v":3},{"$f":"OFFSET(Estructura!K74,0,($O$1-1)*12)","v":2.7},{"$f":"OFFSET(Estructura!L74,0,($O$1-1)*12)","v":2.2999999999999998},{"$f":"OFFSET(Estructura!M74,0,($O$1-1)*12)","v":1.6},{"$f":"OFFSET(Estructura!N74,0,($O$1-1)*12)","v":1.2},{"$f":"OFFSET(Estructura!C155,0,($O$1-1))","v":2.2000000000000002}]
[null,"Solar térmica",{"$f":"OFFSET(Estructura!C75,0,($O$1-1)*12)","v":0.1},{"$f":"OFFSET(Estructura!D75,0,($O$1-1)*12)","v":0},{"$f":"OFFSET(Estructura!E75,0,($O$1-1)*12)","v":0.1},{"$f":"OFFSET(Estructura!F75,0,($O$1-1)*12)","v":0.2},{"$f":"OFFSET(Estructura!G75,0,($O$1-1)*12)","v":0.3},{"$f":"OFFSET(Estructura!H75,0,($O$1-1)*12)","v":0.3},{"$f":"OFFSET(Estructura!I75,0,($O$1-1)*12)","v":0.4},{"$f":"OFFSET(Estructura!J75,0,($O$1-1)*12)","v":0.5},{"$f":"OFFSET(Estructura!K75,0,($O$1-1)*12)","v":0.4},{"$f":"OFFSET(Estructura!L75,0,($O$1-1)*12)","v":0.3},{"$f":"OFFSET(Estructura!M75,0,($O$1-1)*12)","v":0.1},{"$f":"OFFSET(Estructura!N75,0,($O$1-1)*12)","v":0.1},{"$f":"OFFSET(Estructura!C156,0,($O$1-1))","v":0.2}]
[null,"Térmica renovable (4)/Otras renovables (5)",{"$f":"OFFSET(Estructura!C76,0,($O$1-1)*12)","v":1.1000000000000001},{"$f":"OFFSET(Estructura!D76,0,($O$1-1)*12)","v":1},{"$f":"OFFSET(Estructura!E76,0,($O$1-1)*12)","v":1},{"$f":"OFFSET(Estructura!F76,0,($O$1-1)*12)","v":1.3},{"$f":"OFFSET(Estructura!G76,0,($O$1-1)*12)","v":1.3},{"$f":"OFFSET(Estructura!H76,0,($O$1-1)*12)","v":1.3},{"$f":"OFFSET(Estructura!I76,0,($O$1-1)*12)","v":1.1000000000000001},{"$f":"OFFSET(Estructura!J76,0,($O$1-1)*12)","v":1.2},{"$f":"OFFSET(Estructura!K76,0,($O$1-1)*12)","v":1.2},{"$f":"OFFSET(Estructura!L76,0,($O$1-1)*12)","v":1.2},{"$f":"OFFSET(Estructura!M76,0,($O$1-1)*12)","v":1.1000000000000001},{"$f":"OFFSET(Estructura!N76,0,($O$1-1)*12)","v":1.2},{"$f":"OFFSET(Estructura!C157,0,($O$1-1))","v":1.2}]
[null,"Cogeneración y resto (4)/Cogeneración",{"$f":"OFFSET(Estructura!C77,0,($O$1-1)*12)","v":10.300000000000011},{"$f":"OFFSET(Estructura!D77,0,($O$1-1)*12)","v":10.400000000000006},{"$f":"OFFSET(Estructura!E77,0,($O$1-1)*12)","v":10.399999999999991},{"$f":"OFFSET(Estructura!F77,0,($O$1-1)*12)","v":11.399999999999991},{"$f":"OFFSET(Estructura!G77,0,($O$1-1)*12)","v":11.600000000000009},{"$f":"OFFSET(Estructura!H77,0,($O$1-1)*12)","v":11.300000000000011},{"$f":"OFFSET(Estructura!I77,0,($O$1-1)*12)","v":10.299999999999997},{"$f":"OFFSET(Estructura!J77,0,($O$1-1)*12)","v":9},{"$f":"OFFSET(Estructura!K77,0,($O$1-1)*12)","v":11},{"$f":"OFFSET(Estructura!L77,0,($O$1-1)*12)","v":11.5},{"$f":"OFFSET(Estructura!M77,0,($O$1-1)*12)","v":11.300000000000011},{"$f":"OFFSET(Estructura!N77,0,($O$1-1)*12)","v":10.900000000000006},{"$f":"OFFSET(Estructura!C158,0,($O$1-1))","v":10.700000000000003}]
[null,"Residuos no renovables (6)",{"$f":"OFFSET(Estructura!C78,0,($O$1-1)*12)","v":"-"},{"$f":"OFFSET(Estructura!D78,0,($O$1-1)*12)","v":"-"},{"$f":"OFFSET(Estructura!E78,0,($O$1-1)*12)","v":"-"},{"$f":"OFFSET(Estructura!F78,0,($O$1-1)*12)","v":"-"},{"$f":"OFFSET(Estructura!G78,0,($O$1-1)*12)","v":"-"},{"$f":"OFFSET(Estructura!H78,0,($O$1-1)*12)","v":"-"},{"$f":"OFFSET(Estructura!I78,0,($O$1-1)*12)","v":"-"},{"$f":"OFFSET(Estructura!J78,0,($O$1-1)*12)","v":"-"},{"$f":"OFFSET(Estructura!K78,0,($O$1-1)*12)","v":"-"},{"$f":"OFFSET(Estructura!L78,0,($O$1-1)*12)","v":"-"},{"$f":"OFFSET(Estructura!M78,0,($O$1-1)*12)","v":"-"},{"$f":"OFFSET(Estructura!N78,0,($O$1-1)*12)","v":"-"},{"$f":"OFFSET(Estructura!C159,0,($O$1-1))","v":"-"}]
[null,"Residuos renovables (6)",{"$f":"OFFSET(Estructura!C79,0,($O$1-1)*12)","v":"-"},{"$f":"OFFSET(Estructura!D79,0,($O$1-1)*12)","v":"-"},{"$f":"OFFSET(Estructura!E79,0,($O$1-1)*12)","v":"-"},{"$f":"OFFSET(Estructura!F79,0,($O$1-1)*12)","v":"-"},{"$f":"OFFSET(Estructura!G79,0,($O$1-1)*12)","v":"-"},{"$f":"OFFSET(Estructura!H79,0,($O$1-1)*12)","v":"-"},{"$f":"OFFSET(Estructura!I79,0,($O$1-1)*12)","v":"-"},{"$f":"OFFSET(Estructura!J79,0,($O$1-1)*12)","v":"-"},{"$f":"OFFSET(Estructura!K79,0,($O$1-1)*12)","v":"-"},{"$f":"OFFSET(Estructura!L79,0,($O$1-1)*12)","v":"-"},{"$f":"OFFSET(Estructura!M79,0,($O$1-1)*12)","v":"-"},{"$f":"OFFSET(Estructura!N79,0,($O$1-1)*12)","v":"-"},{"$f":"OFFSET(Estructura!C160,0,($O$1-1))","v":"-"}]
[null,"Generación renovable (7)",{"$f":"OFFSET(Estructura!C80,0,($O$1-1)*12)","v":38.5},{"$f":"OFFSET(Estructura!D80,0,($O$1-1)*12)","v":38.399999999999991},{"$f":"OFFSET(Estructura!E80,0,($O$1-1)*12)","v":44.3},{"$f":"OFFSET(Estructura!F80,0,($O$1-1)*12)","v":37.6},{"$f":"OFFSET(Estructura!G80,0,($O$1-1)*12)","v":38.299999999999997},{"$f":"OFFSET(Estructura!H80,0,($O$1-1)*12)","v":31.700000000000003},{"$f":"OFFSET(Estructura!I80,0,($O$1-1)*12)","v":26.7},{"$f":"OFFSET(Estructura!J80,0,($O$1-1)*12)","v":25.5},{"$f":"OFFSET(Estructura!K80,0,($O$1-1)*12)","v":20.999999999999996},{"$f":"OFFSET(Estructura!L80,0,($O$1-1)*12)","v":27.6},{"$f":"OFFSET(Estructura!M80,0,($O$1-1)*12)","v":31.700000000000006},{"$f":"OFFSET(Estructura!N80,0,($O$1-1)*12)","v":36.400000000000006},{"$f":"OFFSET(Estructura!C161,0,($O$1-1))","v":33.200000000000003}]
[null,"Generación no renovable",{"$f":"OFFSET(Estructura!C81,0,($O$1-1)*12)","v":61.500000000000007},{"$f":"OFFSET(Estructura!D81,0,($O$1-1)*12)","v":61.600000000000009},{"$f":"OFFSET(Estructura!E81,0,($O$1-1)*12)","v":55.699999999999989},{"$f":"OFFSET(Estructura!F81,0,($O$1-1)*12)","v":62.399999999999991},{"$f":"OFFSET(Estructura!G81,0,($O$1-1)*12)","v":61.7},{"$f":"OFFSET(Estructura!H81,0,($O$1-1)*12)","v":68.300000000000011},{"$f":"OFFSET(Estructura!I81,0,($O$1-1)*12)","v":73.3},{"$f":"OFFSET(Estructura!J81,0,($O$1-1)*12)","v":74.5},{"$f":"OFFSET(Estructura!K81,0,($O$1-1)*12)","v":79},{"$f":"OFFSET(Estructura!L81,0,($O$1-1)*12)","v":72.400000000000006},{"$f":"OFFSET(Estructura!M81,0,($O$1-1)*12)","v":68.300000000000011},{"$f":"OFFSET(Estructura!N81,0,($O$1-1)*12)","v":63.600000000000009},{"$f":"OFFSET(Estructura!C162,0,($O$1-1))","v":66.8}]
[null,"(1) Asignación de unidades de producción según combustible principal."]
[null,"(2) En el sistema eléctrico de Baleares y Canarias se incluye la generación con grupos auxiliares."]
[null,"(3) Incluye funcionamiento en ciclo abierto. En el sistema eléctrico de Canarias utiliza gasoil como combustible principal."]
[null,"(4) Incluye residuos hasta el 31/12/2010."]
[null,"(5) Otras renovables incluyen biogás, biomasa, hidráulica marina y geotérmica."]
[null,"(6) Generación incluida en otras renovables y cogeneración hasta el 31/12/2014."]
[null,"(7) Incluye hidráulica, hidroeólica, eólica, solar fotovoltaica, solar térmica y térmica renovable/otras renovables y residuos renovables. No incluye la turbinación bombeo."]

{"sheet":"Estructura anual nacional","index":2,"n_rows":33,"n_cols":9,"rows_kept":33,"cut":false,"hidden":false,"merged":[[32,1,32,8],[29,1,29,8],[25,1,25,8],[26,1,26,8],[27,1,27,8],[28,1,28,8],[30,1,30,14],[31,1,31,14]]}
[null,null,null,null,null,null,null,null,1]
[]
[]
[null,null,null,null,null,null,"Sistema eléctrico"]
[null,null,null,null,null,null,"Horizonte temporal"]
[null,null,null,null,null,null,"Periodo"]
[]
[null,null,{"$f":"OFFSET(Estructura!C146,0,($I$1-1)*7)","v":2007},{"$f":"OFFSET(Estructura!D146,0,($I$1-1)*7)","v":2008},{"$f":"OFFSET(Estructura!E146,0,($I$1-1)*7)","v":2009},{"$f":"OFFSET(Estructura!F146,0,($I$1-1)*7)","v":2010},{"$f":"OFFSET(Estructura!G146,0,($I$1-1)*7)","v":2011},{"$f":"OFFSET(Estructura!H146,0,($I$1-1)*7)","v":2012},{"$f":"OFFSET(Estructura!I146,0,($I$1-1)*7)","v":2013}]
[]
[null,"Hidráulica",{"$f":"OFFSET(Estructura!C147,0,($I$1-1)*7)","v":9.4},{"$f":"OFFSET(Estructura!D147,0,($I$1-1)*7)","v":7.8},{"$f":"OFFSET(Estructura!E147,0,($I$1-1)*7)","v":9.4},{"$f":"OFFSET(Estructura!F147,0,($I$1-1)*7)","v":14.5},{"$f":"OFFSET(Estructura!G147,0,($I$1-1)*7)","v":"-"},{"$f":"OFFSET(Estructura!H147,0,($I$1-1)*7)","v":"-"},{"$f":"OFFSET(Estructura!I147,0,($I$1-1)*7)","v":"-"}]
[null,"Turbinación bombeo",{"$f":"OFFSET(Estructura!C148,0,($I$1-1)*7)","v":1.1000000000000001},{"$f":"OFFSET(Estructura!D148,0,($I$1-1)*7)","v":0.9},{"$f":"OFFSET(Estructura!E148,0,($I$1-1)*7)","v":0.9},{"$f":"OFFSET(Estructura!F148,0,($I$1-1)*7)","v":1.1000000000000001},{"$f":"OFFSET(Estructura!G148,0,($I$1-1)*7)","v":"-"},{"$f":"OFFSET(Estructura!H148,0,($I$1-1)*7)","v":"-"},{"$f":"OFFSET(Estructura!I148,0,($I$1-1)*7)","v":"-"}]
[null,"Nuclear",{"$f":"OFFSET(Estructura!C149,0,($I$1-1)*7)","v":18.3},{"$f":"OFFSET(Estructura!D149,0,($I$1-1)*7)","v":19.100000000000001},{"$f":"OFFSET(Estructura!E149,0,($I$1-1)*7)","v":18},{"$f":"OFFSET(Estructura!F149,0,($I$1-1)*7)","v":20.5},{"$f":"OFFSET(Estructura!G149,0,($I$1-1)*7)","v":"-"},{"$f":"OFFSET(Estructura!H149,0,($I$1-1)*7)","v":"-"},{"$f":"OFFSET(Estructura!I149,0,($I$1-1)*7)","v":"-"}]
[null,"Carbón",{"$f":"OFFSET(Estructura!C150,0,($I$1-1)*7)","v":24.5},{"$f":"OFFSET(Estructura!D150,0,($I$1-1)*7)","v":15.7},{"$f":"OFFSET(Estructura!E150,0,($I$1-1)*7)","v":12.4},{"$f":"OFFSET(Estructura!F150,0,($I$1-1)*7)","v":8.1999999999999993},{"$f":"OFFSET(Estructura!G150,0,($I$1-1)*7)","v":"-"},{"$f":"OFFSET(Estructura!H150,0,($I$1-1)*7)","v":"-"},{"$f":"OFFSET(Estructura!I150,0,($I$1-1)*7)","v":"-"}]
[null,"Fuel + Gas (2)",{"$f":"OFFSET(Estructura!C151,0,($I$1-1)*7)","v":3.5},{"$f":"OFFSET(Estructura!D151,0,($I$1-1)*7)","v":3.3},{"$f":"OFFSET(Estructura!E151,0,($I$1-1)*7)","v":3.3},{"$f":"OFFSET(Estructura!F151,0,($I$1-1)*7)","v":3.1},{"$f":"OFFSET(Estructura!G151,0,($I$1-1)*7)","v":"-"},{"$f":"OFFSET(Estructura!H151,0,($I$1-1)*7)","v":"-"},{"$f":"OFFSET(Estructura!I151,0,($I$1-1)*7)","v":"-"}]
[null,"Ciclo combinado (3)",{"$f":"OFFSET(Estructura!C152,0,($I$1-1)*7)","v":24.5},{"$f":"OFFSET(Estructura!D152,0,($I$1-1)*7)","v":31.5},{"$f":"OFFSET(Estructura!E152,0,($I$1-1)*7)","v":28.6},{"$f":"OFFSET(Estructura!F152,0,($I$1-1)*7)","v":23.2},{"$f":"OFFSET(Estructura!G152,0,($I$1-1)*7)","v":"-"},{"$f":"OFFSET(Estructura!H152,0,($I$1-1)*7)","v":"-"},{"$f":"OFFSET(Estructura!I152,0,($I$1-1)*7)","v":"-"}]
[null,"Hidroeólica",{"$f":"OFFSET(Estructura!C153,0,($I$1-1)*7)","v":0},{"$f":"OFFSET(Estructura!D153,0,($I$1-1)*7)","v":0},{"$f":"OFFSET(Estructura!E153,0,($I$1-1)*7)","v":0},{"$f":"OFFSET(Estructura!F153,0,($I$1-1)*7)","v":0},{"$f":"OFFSET(Estructura!G153,0,($I$1-1)*7)","v":"-"},{"$f":"OFFSET(Estructura!H153,0,($I$1-1)*7)","v":"-"},{"$f":"OFFSET(Estructura!I153,0,($I$1-1)*7)","v":"-"}]
[null,"Eólica",{"$f":"OFFSET(Estructura!C154,0,($I$1-1)*7)","v":9.6},{"$f":"OFFSET(Estructura!D154,0,($I$1-1)*7)","v":10.9},{"$f":"OFFSET(Estructura!E154,0,($I$1-1)*7)","v":13.7},{"$f":"OFFSET(Estructura!F154,0,($I$1-1)*7)","v":15.1},{"$f":"OFFSET(Estructura!G154,0,($I$1-1)*7)","v":"-"},{"$f":"OFFSET(Estructura!H154,0,($I$1-1)*7)","v":"-"},{"$f":"OFFSET(Estructura!I154,0,($I$1-1)*7)","v":"-"}]
[null,"Solar fotovoltaica",{"$f":"OFFSET(Estructura!C155,0,($I$1-1)*7)","v":0.2},{"$f":"OFFSET(Estructura!D155,0,($I$1-1)*7)","v":0.8},{"$f":"OFFSET(Estructura!E155,0,($I$1-1)*7)","v":2.2000000000000002},{"$f":"OFFSET(Estructura!F155,0,($I$1-1)*7)","v":2.2000000000000002},{"$f":"OFFSET(Estructura!G155,0,($I$1-1)*7)","v":"-"},{"$f":"OFFSET(Estructura!H155,0,($I$1-1)*7)","v":"-"},{"$f":"OFFSET(Estructura!I155,0,($I$1-1)*7)","v":"-"}]
[null,"Solar térmica",{"$f":"OFFSET(Estructura!C156,0,($I$1-1)*7)","v":0},{"$f":"OFFSET(Estructura!D156,0,($I$1-1)*7)","v":0},{"$f":"OFFSET(Estructura!E156,0,($I$1-1)*7)","v":0},{"$f":"OFFSET(Estructura!F156,0,($I$1-1)*7)","v":0.2},{"$f":"OFFSET(Estructura!G156,0,($I$1-1)*7)","v":"-"},{"$f":"OFFSET(Estructura!H156,0,($I$1-1)*7)","v":"-"},{"$f":"OFFSET(Estructura!I156,0,($I$1-1)*7)","v":"-"}]
[null,"Térmica renovable (4)/Otras renovables (5)",{"$f":"OFFSET(Estructura!C157,0,($I$1-1)*7)","v":0.9},{"$f":"OFFSET(Estructura!D157,0,($I$1-1)*7)","v":1},{"$f":"OFFSET(Estructura!E157,0,($I$1-1)*7)","v":1.2},{"$f":"OFFSET(Estructura!F157,0,($I$1-1)*7)","v":1.2},{"$f":"OFFSET(Estructura!G157,0,($I$1-1)*7)","v":"-"},{"$f":"OFFSET(Estructura!H157,0,($I$1-1)*7)","v":"-"},{"$f":"OFFSET(Estructura!I157,0,($I$1-1)*7)","v":"-"}]
[null,"Cogeneración y resto (4)/Cogeneración",{"$f":"OFFSET(Estructura!C158,0,($I$1-1)*7)","v":8},{"$f":"OFFSET(Estructura!D158,0,($I$1-1)*7)","v":9},{"$f":"OFFSET(Estructura!E158,0,($I$1-1)*7)","v":10.299999999999997},{"$f":"OFFSET(Estructura!F158,0,($I$1-1)*7)","v":10.700000000000003},{"$f":"OFFSET(Estructura!G158,0,($I$1-1)*7)","v":"-"},{"$f":"OFFSET(Estructura!H158,0,($I$1-1)*7)","v":"-"},{"$f":"OFFSET(Estructura!I158,0,($I$1-1)*7)","v":"-"}]
[null,"Residuos no renovables (6)",{"$f":"OFFSET(Estructura!C159,0,($I$1-1)*7)","v":"-"},{"$f":"OFFSET(Estructura!D159,0,($I$1-1)*7)","v":"-"},{"$f":"OFFSET(Estructura!E159,0,($I$1-1)*7)","v":"-"},{"$f":"OFFSET(Estructura!F159,0,($I$1-1)*7)","v":"-"},{"$f":"OFFSET(Estructura!G159,0,($I$1-1)*7)","v":"-"},{"$f":"OFFSET(Estructura!H159,0,($I$1-1)*7)","v":"-"},{"$f":"OFFSET(Estructura!I159,0,($I$1-1)*7)","v":"-"}]
[null,"Residuos renovables (6)",{"$f":"OFFSET(Estructura!C160,0,($I$1-1)*7)","v":"-"},{"$f":"OFFSET(Estructura!D160,0,($I$1-1)*7)","v":"-"},{"$f":"OFFSET(Estructura!E160,0,($I$1-1)*7)","v":"-"},{"$f":"OFFSET(Estructura!F160,0,($I$1-1)*7)","v":"-"},{"$f":"OFFSET(Estructura!G160,0,($I$1-1)*7)","v":"-"},{"$f":"OFFSET(Estructura!H160,0,($I$1-1)*7)","v":"-"},{"$f":"OFFSET(Estructura!I160,0,($I$1-1)*7)","v":"-"}]
[null,"Generación renovable (7)",{"$f":"OFFSET(Estructura!C161,0,($I$1-1)*7)","v":20.099999999999998},{"$f":"OFFSET(Estructura!D161,0,($I$1-1)*7)","v":20.5},{"$f":"OFFSET(Estructura!E161,0,($I$1-1)*7)","v":26.5},{"$f":"OFFSET(Estructura!F161,0,($I$1-1)*7)","v":33.200000000000003},{"$f":"OFFSET(Estructura!G161,0,($I$1-1)*7)","v":"-"},{"$f":"OFFSET(Estructura!H161,0,($I$1-1)*7)","v":"-"},{"$f":"OFFSET(Estructura!I161,0,($I$1-1)*7)","v":"-"}]
[null,"Generación no renovable",{"$f":"OFFSET(Estructura!C162,0,($I$1-1)*7)","v":79.900000000000006},{"$f":"OFFSET(Estructura!D162,0,($I$1-1)*7)","v":79.5},{"$f":"OFFSET(Estructura!E162,0,($I$1-1)*7)","v":73.5},{"$f":"OFFSET(Estructura!F162,0,($I$1-1)*7)","v":66.8},{"$f":"OFFSET(Estructura!G162,0,($I$1-1)*7)","v":"-"},{"$f":"OFFSET(Estructura!H162,0,($I$1-1)*7)","v":"-"},{"$f":"OFFSET(Estructura!I162,0,($I$1-1)*7)","v":"-"}]
[null,"(1) Asignación de unidades de producción según combustible principal."]
[null,"(2) En el sistema eléctrico de Baleares y Canarias se incluye la generación con grupos auxiliares."]
[null,"(3) Incluye funcionamiento en ciclo abierto. En el sistema eléctrico de Canarias utiliza gasoil como combustible principal."]
[null,"(4) Incluye residuos hasta el 31/12/2010."]
[null,"(5) Otras renovables incluyen biogás, biomasa, hidráulica marina y geotérmica."]
[null,"(6) Generación incluida en otras renovables y cogeneración hasta el 31/12/2014."]
[null,"(7) Incluye hidráulica, hidroeólica, eólica, solar fotovoltaica, solar térmica y térmica renovable/otras renovables y residuos renovables. No incluye la turbinación bombeo."]
[null,{"$f":"IF(I1<2,\"\",IF(MONTH(FACT)=1,\"\",CONCATENATE(\"    Para el año \",YEAR(FACT),\" valores acumulados hasta \",TEXT(FACT-30,\"mmmm\"),\" de \",YEAR(FACT),\".\")))","v":""}]

{"sheet":"Estructura mensual Peninsular","index":3,"n_rows":30,"n_cols":15,"rows_kept":30,"cut":false,"hidden":false,"merged":[[29,1,29,14],[28,1,28,14],[27,1,27,14],[26,1,26,14],[5,2,5,9],[24,1,24,14],[25,1,25,14]]}
[null,null,null,null,null,null,null,null,null,null,null,null,null,null,21]
[]
[]
[null,null,null,null,null,null,null,null,null,null,null,null,"Sistema eléctrico"]
[null,null,null,null,null,null,null,null,null,null,null,null,"Horizonte temporal"]
[null,null,null,null,null,null,null,null,null,null,null,null,"Periodo"]
[]
[null,null,"Ene.","Feb.","Mar.","Abr.","May.","Jun.","Jul.","Ago.","Sep.","Oct.","Nov.","Dic.",{"$f":"OFFSET(Año!B2,($O$1-1),0)","v":2010}]
[]
[null,"Hidráulica",{"$f":"OFFSET(Estructura!C3,0,($O$1-1)*12)","v":20.9},{"$f":"OFFSET(Estructura!D3,0,($O$1-1)*12)","v":17.7},{"$f":"OFFSET(Estructura!E3,0,($O$1-1)*12)","v":24.3},{"$f":"OFFSET(Estructura!F3,0,($O$1-1)*12)","v":22.5},{"$f":"OFFSET(Estructura!G3,0,($O$1-1)*12)","v":18.2},{"$f":"OFFSET(Estructura!H3,0,($O$1-1)*12)","v":16.5},{"$f":"OFFSET(Estructura!I3,0,($O$1-1)*12)","v":11.9},{"$f":"OFFSET(Estructura!J3,0,($O$1-1)*12)","v":9.1},{"$f":"OFFSET(Estructura!K3,0,($O$1-1)*12)","v":7},{"$f":"OFFSET(Estructura!L3,0,($O$1-1)*12)","v":7.2},{"$f":"OFFSET(Estructura!M3,0,($O$1-1)*12)","v":11.4},{"$f":"OFFSET(Estructura!N3,0,($O$1-1)*12)","v":16.399999999999999},{"$f":"OFFSET(Estructura!C84,0,($O$1-1))","v":15.3}]
[null,"Turbinación bombeo",{"$f":"OFFSET(Estructura!C4,0,($O$1-1)*12)","v":2.1},{"$f":"OFFSET(Estructura!D4,0,($O$1-1)*12)","v":1.7},{"$f":"OFFSET(Estructura!E4,0,($O$1-1)*12)","v":1.6},{"$f":"OFFSET(Estructura!F4,0,($O$1-1)*12)","v":1},{"$f":"OFFSET(Estructura!G4,0,($O$1-1)*12)","v":0.9},{"$f":"OFFSET(Estructura!H4,0,($O$1-1)*12)","v":0.7},{"$f":"OFFSET(Estructura!I4,0,($O$1-1)*12)","v":0.6},{"$f":"OFFSET(Estructura!J4,0,($O$1-1)*12)","v":0.7},{"$f":"OFFSET(Estructura!K4,0,($O$1-1)*12)","v":0.7},{"$f":"OFFSET(Estructura!L4,0,($O$1-1)*12)","v":1.1000000000000001},{"$f":"OFFSET(Estructura!M4,0,($O$1-1)*12)","v":1},{"$f":"OFFSET(Estructura!N4,0,($O$1-1)*12)","v":1.3},{"$f":"OFFSET(Estructura!C85,0,($O$1-1))","v":1.1000000000000001}]
[null,"Nuclear",{"$f":"OFFSET(Estructura!C5,0,($O$1-1)*12)","v":18.100000000000001},{"$f":"OFFSET(Estructura!D5,0,($O$1-1)*12)","v":20.2},{"$f":"OFFSET(Estructura!E5,0,($O$1-1)*12)","v":20.399999999999999},{"$f":"OFFSET(Estructura!F5,0,($O$1-1)*12)","v":23.3},{"$f":"OFFSET(Estructura!G5,0,($O$1-1)*12)","v":20.8},{"$f":"OFFSET(Estructura!H5,0,($O$1-1)*12)","v":21.8},{"$f":"OFFSET(Estructura!I5,0,($O$1-1)*12)","v":22.2},{"$f":"OFFSET(Estructura!J5,0,($O$1-1)*12)","v":24.2},{"$f":"OFFSET(Estructura!K5,0,($O$1-1)*12)","v":23.1},{"$f":"OFFSET(Estructura!L5,0,($O$1-1)*12)","v":24.5},{"$f":"OFFSET(Estructura!M5,0,($O$1-1)*12)","v":22.2},{"$f":"OFFSET(Estructura!N5,0,($O$1-1)*12)","v":20},{"$f":"OFFSET(Estructura!C86,0,($O$1-1))","v":21.7}]
[null,"Carbón",{"$f":"OFFSET(Estructura!C6,0,($O$1-1)*12)","v":6.8},{"$f":"OFFSET(Estructura!D6,0,($O$1-1)*12)","v":6},{"$f":"OFFSET(Estructura!E6,0,($O$1-1)*12)","v":3.5},{"$f":"OFFSET(Estructura!F6,0,($O$1-1)*12)","v":3},{"$f":"OFFSET(Estructura!G6,0,($O$1-1)*12)","v":3.9},{"$f":"OFFSET(Estructura!H6,0,($O$1-1)*12)","v":6.2},{"$f":"OFFSET(Estructura!I6,0,($O$1-1)*12)","v":10.1},{"$f":"OFFSET(Estructura!J6,0,($O$1-1)*12)","v":12.6},{"$f":"OFFSET(Estructura!K6,0,($O$1-1)*12)","v":13.6},{"$f":"OFFSET(Estructura!L6,0,($O$1-1)*12)","v":9},{"$f":"OFFSET(Estructura!M6,0,($O$1-1)*12)","v":7.1},{"$f":"OFFSET(Estructura!N6,0,($O$1-1)*12)","v":8.4},{"$f":"OFFSET(Estructura!C87,0,($O$1-1))","v":7.5}]
[null,"Fuel + Gas",{"$f":"OFFSET(Estructura!C7,0,($O$1-1)*12)","v":0.6},{"$f":"OFFSET(Estructura!D7,0,($O$1-1)*12)","v":0.6},{"$f":"OFFSET(Estructura!E7,0,($O$1-1)*12)","v":0.1},{"$f":"OFFSET(Estructura!F7,0,($O$1-1)*12)","v":0.5},{"$f":"OFFSET(Estructura!G7,0,($O$1-1)*12)","v":0.8},{"$f":"OFFSET(Estructura!H7,0,($O$1-1)*12)","v":0.8},{"$f":"OFFSET(Estructura!I7,0,($O$1-1)*12)","v":0.6},{"$f":"OFFSET(Estructura!J7,0,($O$1-1)*12)","v":0.5},{"$f":"OFFSET(Estructura!K7,0,($O$1-1)*12)","v":0.6},{"$f":"OFFSET(Estructura!L7,0,($O$1-1)*12)","v":0.6},{"$f":"OFFSET(Estructura!M7,0,($O$1-1)*12)","v":0.7},{"$f":"OFFSET(Estructura!N7,0,($O$1-1)*12)","v":0.6},{"$f":"OFFSET(Estructura!C88,0,($O$1-1))","v":0.6}]
[null,"Ciclo combinado (2)",{"$f":"OFFSET(Estructura!C8,0,($O$1-1)*12)","v":21.4},{"$f":"OFFSET(Estructura!D8,0,($O$1-1)*12)","v":20.7},{"$f":"OFFSET(Estructura!E8,0,($O$1-1)*12)","v":17.100000000000001},{"$f":"OFFSET(Estructura!F8,0,($O$1-1)*12)","v":20.8},{"$f":"OFFSET(Estructura!G8,0,($O$1-1)*12)","v":21.4},{"$f":"OFFSET(Estructura!H8,0,($O$1-1)*12)","v":25.5},{"$f":"OFFSET(Estructura!I8,0,($O$1-1)*12)","v":27.9},{"$f":"OFFSET(Estructura!J8,0,($O$1-1)*12)","v":25.6},{"$f":"OFFSET(Estructura!K8,0,($O$1-1)*12)","v":28.5},{"$f":"OFFSET(Estructura!L8,0,($O$1-1)*12)","v":23.8},{"$f":"OFFSET(Estructura!M8,0,($O$1-1)*12)","v":24.1},{"$f":"OFFSET(Estructura!N8,0,($O$1-1)*12)","v":20.100000000000001},{"$f":"OFFSET(Estructura!C89,0,($O$1-1))","v":23}]
[null,"Eólica",{"$f":"OFFSET(Estructura!C9,0,($O$1-1)*12)","v":17.3},{"$f":"OFFSET(Estructura!D9,0,($O$1-1)*12)","v":20.100000000000001},{"$f":"OFFSET(Estructura!E9,0,($O$1-1)*12)","v":19},{"$f":"OFFSET(Estructura!F9,0,($O$1-1)*12)","v":12.6},{"$f":"OFFSET(Estructura!G9,0,($O$1-1)*12)","v":17},{"$f":"OFFSET(Estructura!H9,0,($O$1-1)*12)","v":12},{"$f":"OFFSET(Estructura!I9,0,($O$1-1)*12)","v":11.5},{"$f":"OFFSET(Estructura!J9,0,($O$1-1)*12)","v":12.9},{"$f":"OFFSET(Estructura!K9,0,($O$1-1)*12)","v":10.5},{"$f":"OFFSET(Estructura!L9,0,($O$1-1)*12)","v":17.899999999999999},{"$f":"OFFSET(Estructura!M9,0,($O$1-1)*12)","v":19},{"$f":"OFFSET(Estructura!N9,0,($O$1-1)*12)","v":19.100000000000001},{"$f":"OFFSET(Estructura!C90,0,($O$1-1))","v":15.8}]
[null,"Solar fotovoltaica",{"$f":"OFFSET(Estructura!C10,0,($O$1-1)*12)","v":1},{"$f":"OFFSET(Estructura!D10,0,($O$1-1)*12)","v":1.3},{"$f":"OFFSET(Estructura!E10,0,($O$1-1)*12)","v":1.9},{"$f":"OFFSET(Estructura!F10,0,($O$1-1)*12)","v":2.7},{"$f":"OFFSET(Estructura!G10,0,($O$1-1)*12)","v":3.2},{"$f":"OFFSET(Estructura!H10,0,($O$1-1)*12)","v":3.1},{"$f":"OFFSET(Estructura!I10,0,($O$1-1)*12)","v":3.1},{"$f":"OFFSET(Estructura!J10,0,($O$1-1)*12)","v":3.1},{"$f":"OFFSET(Estructura!K10,0,($O$1-1)*12)","v":2.8},{"$f":"OFFSET(Estructura!L10,0,($O$1-1)*12)","v":2.4},{"$f":"OFFSET(Estructura!M10,0,($O$1-1)*12)","v":1.6},{"$f":"OFFSET(Estructura!N10,0,($O$1-1)*12)","v":1.2},{"$f":"OFFSET(Estructura!C91,0,($O$1-1))","v":2.2000000000000002}]
[null,"Solar térmica",{"$f":"OFFSET(Estructura!C11,0,($O$1-1)*12)","v":0.1},{"$f":"OFFSET(Estructura!D11,0,($O$1-1)*12)","v":0.1},{"$f":"OFFSET(Estructura!E11,0,($O$1-1)*12)","v":0.1},{"$f":"OFFSET(Estructura!F11,0,($O$1-1)*12)","v":0.2},{"$f":"OFFSET(Estructura!G11,0,($O$1-1)*12)","v":0.3},{"$f":"OFFSET(Estructura!H11,0,($O$1-1)*12)","v":0.3},{"$f":"OFFSET(Estructura!I11,0,($O$1-1)*12)","v":0.4},{"$f":"OFFSET(Estructura!J11,0,($O$1-1)*12)","v":0.5},{"$f":"OFFSET(Estructura!K11,0,($O$1-1)*12)","v":0.5},{"$f":"OFFSET(Estructura!L11,0,($O$1-1)*12)","v":0.3},{"$f":"OFFSET(Estructura!M11,0,($O$1-1)*12)","v":0.1},{"$f":"OFFSET(Estructura!N11,0,($O$1-1)*12)","v":0.1},{"$f":"OFFSET(Estructura!C92,0,($O$1-1))","v":0.3}]
[null,"Térmica renovable (3)/Otras renovables (4)",{"$f":"OFFSET(Estructura!C12,0,($O$1-1)*12)","v":1},{"$f":"OFFSET(Estructura!D12,0,($O$1-1)*12)","v":1},{"$f":"OFFSET(Estructura!E12,0,($O$1-1)*12)","v":1},{"$f":"OFFSET(Estructura!F12,0,($O$1-1)*12)","v":1.2},{"$f":"OFFSET(Estructura!G12,0,($O$1-1)*12)","v":1.3},{"$f":"OFFSET(Estructura!H12,0,($O$1-1)*12)","v":1.3},{"$f":"OFFSET(Estructura!I12,0,($O$1-1)*12)","v":1.1000000000000001},{"$f":"OFFSET(Estructura!J12,0,($O$1-1)*12)","v":1.2},{"$f":"OFFSET(Estructura!K12,0,($O$1-1)*12)","v":1.2},{"$f":"OFFSET(Estructura!L12,0,($O$1-1)*12)","v":1.3},{"$f":"OFFSET(Estructura!M12,0,($O$1-1)*12)","v":1.2},{"$f":"OFFSET(Estructura!N12,0,($O$1-1)*12)","v":1.2},{"$f":"OFFSET(Estructura!C93,0,($O$1-1))","v":1.2}]
[null,"Cogeneración y resto (3)/Cogeneración",{"$f":"OFFSET(Estructura!C13,0,($O$1-1)*12)","v":10.700000000000003},{"$f":"OFFSET(Estructura!D13,0,($O$1-1)*12)","v":10.600000000000009},{"$f":"OFFSET(Estructura!E13,0,($O$1-1)*12)","v":11},{"$f":"OFFSET(Estructura!F13,0,($O$1-1)*12)","v":12.200000000000003},{"$f":"OFFSET(Estructura!G13,0,($O$1-1)*12)","v":12.200000000000003},{"$f":"OFFSET(Estructura!H13,0,($O$1-1)*12)","v":11.800000000000011},{"$f":"OFFSET(Estructura!I13,0,($O$1-1)*12)","v":10.599999999999994},{"$f":"OFFSET(Estructura!J13,0,($O$1-1)*12)","v":9.5999999999999943},{"$f":"OFFSET(Estructura!K13,0,($O$1-1)*12)","v":11.5},{"$f":"OFFSET(Estructura!L13,0,($O$1-1)*12)","v":11.900000000000006},{"$f":"OFFSET(Estructura!M13,0,($O$1-1)*12)","v":11.600000000000009},{"$f":"OFFSET(Estructura!N13,0,($O$1-1)*12)","v":11.599999999999994},{"$f":"OFFSET(Estructura!C94,0,($O$1-1))","v":11.299999999999997}]
[null,"Residuos no renovables (5)",{"$f":"OFFSET(Estructura!C14,0,($O$1-1)*12)","v":"-"},{"$f":"OFFSET(Estructura!D14,0,($O$1-1)*12)","v":"-"},{"$f":"OFFSET(Estructura!E14,0,($O$1-1)*12)","v":"-"},{"$f":"OFFSET(Estructura!F14,0,($O$1-1)*12)","v":"-"},{"$f":"OFFSET(Estructura!G14,0,($O$1-1)*12)","v":"-"},{"$f":"OFFSET(Estructura!H14,0,($O$1-1)*12)","v":"-"},{"$f":"OFFSET(Estructura!I14,0,($O$1-1)*12)","v":"-"},{"$f":"OFFSET(Estructura!J14,0,($O$1-1)*12)","v":"-"},{"$f":"OFFSET(Estructura!K14,0,($O$1-1)*12)","v":"-"},{"$f":"OFFSET(Estructura!L14,0,($O$1-1)*12)","v":"-"},{"$f":"OFFSET(Estructura!M14,0,($O$1-1)*12)","v":"-"},{"$f":"OFFSET(Estructura!N14,0,($O$1-1)*12)","v":"-"},{"$f":"OFFSET(Estructura!C95,0,($O$1-1))","v":"-"}]
[null,"Residuos renovables (5)",{"$f":"OFFSET(Estructura!C15,0,($O$1-1)*12)","v":"-"},{"$f":"OFFSET(Estructura!D15,0,($O$1-1)*12)","v":"-"},{"$f":"OFFSET(Estructura!E15,0,($O$1-1)*12)","v":"-"},{"$f":"OFFSET(Estructura!F15,0,($O$1-1)*12)","v":"-"},{"$f":"OFFSET(Estructura!G15,0,($O$1-1)*12)","v":"-"},{"$f":"OFFSET(Estructura!H15,0,($O$1-1)*12)","v":"-"},{"$f":"OFFSET(Estructura!I15,0,($O$1-1)*12)","v":"-"},{"$f":"OFFSET(Estructura!J15,0,($O$1-1)*12)","v":"-"},{"$f":"OFFSET(Estructura!K15,0,($O$1-1)*12)","v":"-"},{"$f":"OFFSET(Estructura!L15,0,($O$1-1)*12)","v":"-"},{"$f":"OFFSET(Estructura!M15,0,($O$1-1)*12)","v":"-"},{"$f":"OFFSET(Estructura!N15,0,($O$1-1)*12)","v":"-"},{"$f":"OFFSET(Estructura!C96,0,($O$1-1))","v":"-"}]
[null,"Generación renovable (6)",{"$f":"OFFSET(Estructura!C16,0,($O$1-1)*12)","v":40.300000000000004},{"$f":"OFFSET(Estructura!D16,0,($O$1-1)*12)","v":40.199999999999996},{"$f":"OFFSET(Estructura!E16,0,($O$1-1)*12)","v":46.3},{"$f":"OFFSET(Estructura!F16,0,($O$1-1)*12)","v":39.20000000000001},{"$f":"OFFSET(Estructura!G16,0,($O$1-1)*12)","v":40},{"$f":"OFFSET(Estructura!H16,0,($O$1-1)*12)","v":33.200000000000003},{"$f":"OFFSET(Estructura!I16,0,($O$1-1)*12)","v":28},{"$f":"OFFSET(Estructura!J16,0,($O$1-1)*12)","v":26.8},{"$f":"OFFSET(Estructura!K16,0,($O$1-1)*12)","v":22},{"$f":"OFFSET(Estructura!L16,0,($O$1-1)*12)","v":29.099999999999998},{"$f":"OFFSET(Estructura!M16,0,($O$1-1)*12)","v":33.300000000000004},{"$f":"OFFSET(Estructura!N16,0,($O$1-1)*12)","v":38.000000000000007},{"$f":"OFFSET(Estructura!C97,0,($O$1-1))","v":34.800000000000004}]
[null,"Generación no renovable",{"$f":"OFFSET(Estructura!C17,0,($O$1-1)*12)","v":59.7},{"$f":"OFFSET(Estructura!D17,0,($O$1-1)*12)","v":59.800000000000011},{"$f":"OFFSET(Estructura!E17,0,($O$1-1)*12)","v":53.7},{"$f":"OFFSET(Estructura!F17,0,($O$1-1)*12)","v":60.800000000000004},{"$f":"OFFSET(Estructura!G17,0,($O$1-1)*12)","v":60},{"$f":"OFFSET(Estructura!H17,0,($O$1-1)*12)","v":66.800000000000011},{"$f":"OFFSET(Estructura!I17,0,($O$1-1)*12)","v":72},{"$f":"OFFSET(Estructura!J17,0,($O$1-1)*12)","v":73.199999999999989},{"$f":"OFFSET(Estructura!K17,0,($O$1-1)*12)","v":78},{"$f":"OFFSET(Estructura!L17,0,($O$1-1)*12)","v":70.900000000000006},{"$f":"OFFSET(Estructura!M17,0,($O$1-1)*12)","v":66.7},{"$f":"OFFSET(Estructura!N17,0,($O$1-1)*12)","v":62},{"$f":"OFFSET(Estructura!C98,0,($O$1-1))","v":65.2}]
[null,"(1) Asignación de unidades de producción según combustible principal."]
[null,"(2) Incluye funcionamiento en ciclo abierto."]
[null,"(3) Incluye residuos hasta el 31/12/2010."]
[null,"(4) Otras renovables incluyen biogás, biomasa, hidráulica marina y geotérmica."]
[null,"(5) Generación incluida en otras renovables y cogeneración hasta el 31/12/2014."]
[null,"(6) Incluye hidráulica, eólica, solar fotovoltaica, solar térmica y térmica renovable/otras renovables y residuos renovables. No incluye la turbinación bombeo."]

{"sheet":"Estructura anual Peninsular","index":4,"n_rows":31,"n_cols":10,"rows_kept":31,"cut":false,"hidden":false,"merged":[[30,1,30,9],[24,1,24,9],[25,1,25,9],[26,1,26,9],[27,1,27,9],[28,1,28,14],[29,1,29,14]]}
[null,null,null,null,null,null,null,null,null,3]
[]
[]
[null,null,null,null,null,null,null,"Sistema eléctrico"]
[null,null,null,null,null,null,null,"Horizonte temporal"]
[null,null,null,null,null,null,null,"Periodo"]
[]
[null,null,{"$f":"OFFSET(Estructura!C83,0,($J$1-1)*8)","v":2006},{"$f":"OFFSET(Estructura!D83,0,($J$1-1)*8)","v":2007},{"$f":"OFFSET(Estructura!E83,0,($J$1-1)*8)","v":2008},{"$f":"OFFSET(Estructura!F83,0,($J$1-1)*8)","v":2009},{"$f":"OFFSET(Estructura!G83,0,($J$1-1)*8)","v":2010},{"$f":"OFFSET(Estructura!H83,0,($J$1-1)*8)","v":2011},{"$f":"OFFSET(Estructura!I83,0,($J$1-1)*8)","v":2012},{"$f":"OFFSET(Estructura!J83,0,($J$1-1)*8)","v":2013}]
[]
[null,"Hidráulica",{"$f":"OFFSET(Estructura!C84,0,($J$1-1)*8)","v":9.6},{"$f":"OFFSET(Estructura!D84,0,($J$1-1)*8)","v":9.9},{"$f":"OFFSET(Estructura!E84,0,($J$1-1)*8)","v":8.1999999999999993},{"$f":"OFFSET(Estructura!F84,0,($J$1-1)*8)","v":9.9},{"$f":"OFFSET(Estructura!G84,0,($J$1-1)*8)","v":15.3},{"$f":"OFFSET(Estructura!H84,0,($J$1-1)*8)","v":"-"},{"$f":"OFFSET(Estructura!I84,0,($J$1-1)*8)","v":"-"},{"$f":"OFFSET(Estructura!J84,0,($J$1-1)*8)","v":"-"}]
[null,"Turbinación bombeo",{"$f":"OFFSET(Estructura!C85,0,($J$1-1)*8)","v":1.4},{"$f":"OFFSET(Estructura!D85,0,($J$1-1)*8)","v":1.1000000000000001},{"$f":"OFFSET(Estructura!E85,0,($J$1-1)*8)","v":1},{"$f":"OFFSET(Estructura!F85,0,($J$1-1)*8)","v":1},{"$f":"OFFSET(Estructura!G85,0,($J$1-1)*8)","v":1.1000000000000001},{"$f":"OFFSET(Estructura!H85,0,($J$1-1)*8)","v":"-"},{"$f":"OFFSET(Estructura!I85,0,($J$1-1)*8)","v":"-"},{"$f":"OFFSET(Estructura!J85,0,($J$1-1)*8)","v":"-"}]
[null,"Nuclear",{"$f":"OFFSET(Estructura!C86,0,($J$1-1)*8)","v":21.8},{"$f":"OFFSET(Estructura!D86,0,($J$1-1)*8)","v":19.3},{"$f":"OFFSET(Estructura!E86,0,($J$1-1)*8)","v":20.2},{"$f":"OFFSET(Estructura!F86,0,($J$1-1)*8)","v":19.100000000000001},{"$f":"OFFSET(Estructura!G86,0,($J$1-1)*8)","v":21.7},{"$f":"OFFSET(Estructura!H86,0,($J$1-1)*8)","v":"-"},{"$f":"OFFSET(Estructura!I86,0,($J$1-1)*8)","v":"-"},{"$f":"OFFSET(Estructura!J86,0,($J$1-1)*8)","v":"-"}]
[null,"Carbón",{"$f":"OFFSET(Estructura!C87,0,($J$1-1)*8)","v":23.6},{"$f":"OFFSET(Estructura!D87,0,($J$1-1)*8)","v":24.8},{"$f":"OFFSET(Estructura!E87,0,($J$1-1)*8)","v":15.5},{"$f":"OFFSET(Estructura!F87,0,($J$1-1)*8)","v":12},{"$f":"OFFSET(Estructura!G87,0,($J$1-1)*8)","v":7.5},{"$f":"OFFSET(Estructura!H87,0,($J$1-1)*8)","v":"-"},{"$f":"OFFSET(Estructura!I87,0,($J$1-1)*8)","v":"-"},{"$f":"OFFSET(Estructura!J87,0,($J$1-1)*8)","v":"-"}]
[null,"Fuel + Gas",{"$f":"OFFSET(Estructura!C88,0,($J$1-1)*8)","v":2},{"$f":"OFFSET(Estructura!D88,0,($J$1-1)*8)","v":0.8},{"$f":"OFFSET(Estructura!E88,0,($J$1-1)*8)","v":0.7},{"$f":"OFFSET(Estructura!F88,0,($J$1-1)*8)","v":0.7},{"$f":"OFFSET(Estructura!G88,0,($J$1-1)*8)","v":0.6},{"$f":"OFFSET(Estructura!H88,0,($J$1-1)*8)","v":"-"},{"$f":"OFFSET(Estructura!I88,0,($J$1-1)*8)","v":"-"},{"$f":"OFFSET(Estructura!J88,0,($J$1-1)*8)","v":"-"}]
[null,"Ciclo combinado (2)",{"$f":"OFFSET(Estructura!C89,0,($J$1-1)*8)","v":23.6},{"$f":"OFFSET(Estructura!D89,0,($J$1-1)*8)","v":24.4},{"$f":"OFFSET(Estructura!E89,0,($J$1-1)*8)","v":31.8},{"$f":"OFFSET(Estructura!F89,0,($J$1-1)*8)","v":28.9},{"$f":"OFFSET(Estructura!G89,0,($J$1-1)*8)","v":23},{"$f":"OFFSET(Estructura!H89,0,($J$1-1)*8)","v":"-"},{"$f":"OFFSET(Estructura!I89,0,($J$1-1)*8)","v":"-"},{"$f":"OFFSET(Estructura!J89,0,($J$1-1)*8)","v":"-"}]
[null,"Eólica",{"$f":"OFFSET(Estructura!C90,0,($J$1-1)*8)","v":8.6999999999999993},{"$f":"OFFSET(Estructura!D90,0,($J$1-1)*8)","v":10},{"$f":"OFFSET(Estructura!E90,0,($J$1-1)*8)","v":11.3},{"$f":"OFFSET(Estructura!F90,0,($J$1-1)*8)","v":14.3},{"$f":"OFFSET(Estructura!G90,0,($J$1-1)*8)","v":15.8},{"$f":"OFFSET(Estructura!H90,0,($J$1-1)*8)","v":"-"},{"$f":"OFFSET(Estructura!I90,0,($J$1-1)*8)","v":"-"},{"$f":"OFFSET(Estructura!J90,0,($J$1-1)*8)","v":"-"}]
[null,"Solar fotovoltaica",{"$f":"OFFSET(Estructura!C91,0,($J$1-1)*8)","v":0},{"$f":"OFFSET(Estructura!D91,0,($J$1-1)*8)","v":0.2},{"$f":"OFFSET(Estructura!E91,0,($J$1-1)*8)","v":0.9},{"$f":"OFFSET(Estructura!F91,0,($J$1-1)*8)","v":2.2000000000000002},{"$f":"OFFSET(Estructura!G91,0,($J$1-1)*8)","v":2.2000000000000002},{"$f":"OFFSET(Estructura!H91,0,($J$1-1)*8)","v":"-"},{"$f":"OFFSET(Estructura!I91,0,($J$1-1)*8)","v":"-"},{"$f":"OFFSET(Estructura!J91,0,($J$1-1)*8)","v":"-"}]
[null,"Solar térmica",{"$f":"OFFSET(Estructura!C92,0,($J$1-1)*8)","v":"-"},{"$f":"OFFSET(Estructura!D92,0,($J$1-1)*8)","v":0},{"$f":"OFFSET(Estructura!E92,0,($J$1-1)*8)","v":0},{"$f":"OFFSET(Estructura!F92,0,($J$1-1)*8)","v":0},{"$f":"OFFSET(Estructura!G92,0,($J$1-1)*8)","v":0.3},{"$f":"OFFSET(Estructura!H92,0,($J$1-1)*8)","v":"-"},{"$f":"OFFSET(Estructura!I92,0,($J$1-1)*8)","v":"-"},{"$f":"OFFSET(Estructura!J92,0,($J$1-1)*8)","v":"-"}]
[null,"Térmica renovable (3)/Otras renovables (4)",{"$f":"OFFSET(Estructura!C93,0,($J$1-1)*8)","v":0.8},{"$f":"OFFSET(Estructura!D93,0,($J$1-1)*8)","v":0.9},{"$f":"OFFSET(Estructura!E93,0,($J$1-1)*8)","v":0.9},{"$f":"OFFSET(Estructura!F93,0,($J$1-1)*8)","v":1.2},{"$f":"OFFSET(Estructura!G93,0,($J$1-1)*8)","v":1.2},{"$f":"OFFSET(Estructura!H93,0,($J$1-1)*8)","v":"-"},{"$f":"OFFSET(Estructura!I93,0,($J$1-1)*8)","v":"-"},{"$f":"OFFSET(Estructura!J93,0,($J$1-1)*8)","v":"-"}]
[null,"Cogeneración y resto (3)/Cogeneración",{"$f":"OFFSET(Estructura!C94,0,($J$1-1)*8)","v":8.5},{"$f":"OFFSET(Estructura!D94,0,($J$1-1)*8)","v":8.5999999999999943},{"$f":"OFFSET(Estructura!E94,0,($J$1-1)*8)","v":9.4999999999999858},{"$f":"OFFSET(Estructura!F94,0,($J$1-1)*8)","v":10.700000000000003},{"$f":"OFFSET(Estructura!G94,0,($J$1-1)*8)","v":11.299999999999997},{"$f":"OFFSET(Estructura!H94,0,($J$1-1)*8)","v":"-"},{"$f":"OFFSET(Estructura!I94,0,($J$1-1)*8)","v":"-"},{"$f":"OFFSET(Estructura!J94,0,($J$1-1)*8)","v":"-"}]
[null,"Residuos no renovables (5)",{"$f":"OFFSET(Estructura!C95,0,($J$1-1)*8)","v":"-"},{"$f":"OFFSET(Estructura!D95,0,($J$1-1)*8)","v":"-"},{"$f":"OFFSET(Estructura!E95,0,($J$1-1)*8)","v":"-"},{"$f":"OFFSET(Estructura!F95,0,($J$1-1)*8)","v":"-"},{"$f":"OFFSET(Estructura!G95,0,($J$1-1)*8)","v":"-"},{"$f":"OFFSET(Estructura!H95,0,($J$1-1)*8)","v":"-"},{"$f":"OFFSET(Estructura!I95,0,($J$1-1)*8)","v":"-"},{"$f":"OFFSET(Estructura!J95,0,($J$1-1)*8)","v":"-"}]
[null,"Residuos renovables (5)",{"$f":"OFFSET(Estructura!C96,0,($J$1-1)*8)","v":"-"},{"$f":"OFFSET(Estructura!D96,0,($J$1-1)*8)","v":"-"},{"$f":"OFFSET(Estructura!E96,0,($J$1-1)*8)","v":"-"},{"$f":"OFFSET(Estructura!F96,0,($J$1-1)*8)","v":"-"},{"$f":"OFFSET(Estructura!G96,0,($J$1-1)*8)","v":"-"},{"$f":"OFFSET(Estructura!H96,0,($J$1-1)*8)","v":"-"},{"$f":"OFFSET(Estructura!I96,0,($J$1-1)*8)","v":"-"},{"$f":"OFFSET(Estructura!J96,0,($J$1-1)*8)","v":"-"}]
[null,"Generación renovable (6)",{"$f":"OFFSET(Estructura!C97,0,($J$1-1)*8)","v":19.099999999999998},{"$f":"OFFSET(Estructura!D97,0,($J$1-1)*8)","v":20.999999999999996},{"$f":"OFFSET(Estructura!E97,0,($J$1-1)*8)","v":21.299999999999997},{"$f":"OFFSET(Estructura!F97,0,($J$1-1)*8)","v":27.6},{"$f":"OFFSET(Estructura!G97,0,($J$1-1)*8)","v":34.800000000000004},{"$f":"OFFSET(Estructura!H97,0,($J$1-1)*8)","v":"-"},{"$f":"OFFSET(Estructura!I97,0,($J$1-1)*8)","v":"-"},{"$f":"OFFSET(Estructura!J97,0,($J$1-1)*8)","v":"-"}]
[null,"Generación no renovable",{"$f":"OFFSET(Estructura!C98,0,($J$1-1)*8)","v":80.900000000000006},{"$f":"OFFSET(Estructura!D98,0,($J$1-1)*8)","v":79},{"$f":"OFFSET(Estructura!E98,0,($J$1-1)*8)","v":78.699999999999989},{"$f":"OFFSET(Estructura!F98,0,($J$1-1)*8)","v":72.400000000000006},{"$f":"OFFSET(Estructura!G98,0,($J$1-1)*8)","v":65.2},{"$f":"OFFSET(Estructura!H98,0,($J$1-1)*8)","v":"-"},{"$f":"OFFSET(Estructura!I98,0,($J$1-1)*8)","v":"-"},{"$f":"OFFSET(Estructura!J98,0,($J$1-1)*8)","v":"-"}]
[null,"(1) Asignación de unidades de producción según combustible principal."]
[null,"(2) Incluye funcionamiento en ciclo abierto."]
[null,"(3) Incluye residuos hasta el 31/12/2010."]
[null,"(4) Otras renovables incluyen biogás, biomasa, hidráulica marina y geotérmica."]
[null,"(5) Generación incluida en otras renovables y cogeneración hasta el 31/12/2014."]
[null,"(6) Incluye hidráulica, eólica, solar fotovoltaica, solar térmica y térmica renovable/otras renovables y residuos renovables. No incluye la turbinación bombeo."]
[null,{"$f":"IF(J1<4,\"\",IF(MONTH(FACT)=1,\"\",CONCATENATE(\"    Para el año \",YEAR(FACT),\" valores acumulados hasta \",TEXT(FACT-30,\"mmmm\"),\" de \",YEAR(FACT),\".\")))","v":""}]

{"sheet":"Estructura mensual Baleares","index":5,"n_rows":29,"n_cols":15,"rows_kept":29,"cut":false,"hidden":false,"merged":[[28,1,28,14],[27,1,27,14],[26,1,26,14],[5,2,5,9],[22,1,22,14],[23,1,23,14],[24,1,24,14],[25,1,25,14]]}
[null,null,null,null,null,null,null,null,null,null,null,null,null,null,5]
[]
[]
[null,null,null,null,null,null,null,null,null,null,null,null,"Sistema eléctrico"]
[null,null,null,null,null,null,null,null,null,null,null,null,"Horizonte temporal"]
[null,null,null,null,null,null,null,null,null,null,null,null,"Periodo"]
[]
[null,null,"Ene.","Feb.","Mar.","Abr.","May.","Jun.","Jul.","Ago.","Sep.","Oct.","Nov.","Dic.",{"$f":"OFFSET(Año!B18,($O$1-1),0)","v":2010}]
[]
[null,"Carbón",{"$f":"OFFSET(Estructura!C20,0,($O$1-1)*12)","v":58.699999999999996},{"$f":"OFFSET(Estructura!D20,0,($O$1-1)*12)","v":55.6},{"$f":"OFFSET(Estructura!E20,0,($O$1-1)*12)","v":60},{"$f":"OFFSET(Estructura!F20,0,($O$1-1)*12)","v":65.5},{"$f":"OFFSET(Estructura!G20,0,($O$1-1)*12)","v":52.499999999999993},{"$f":"OFFSET(Estructura!H20,0,($O$1-1)*12)","v":58.599999999999994},{"$f":"OFFSET(Estructura!I20,0,($O$1-1)*12)","v":46.3},{"$f":"OFFSET(Estructura!J20,0,($O$1-1)*12)","v":45.8},{"$f":"OFFSET(Estructura!K20,0,($O$1-1)*12)","v":54.8},{"$f":"OFFSET(Estructura!L20,0,($O$1-1)*12)","v":48.8},{"$f":"OFFSET(Estructura!M20,0,($O$1-1)*12)","v":47.699999999999996},{"$f":"OFFSET(Estructura!N20,0,($O$1-1)*12)","v":47.1},{"$f":"OFFSET(Estructura!C101,0,($O$1-1))","v":53.199999999999996}]
[null,"Motores diesel",{"$f":"OFFSET(Estructura!C21,0,($O$1-1)*12)","v":16.399999999999999},{"$f":"OFFSET(Estructura!D21,0,($O$1-1)*12)","v":15.6},{"$f":"OFFSET(Estructura!E21,0,($O$1-1)*12)","v":16.5},{"$f":"OFFSET(Estructura!F21,0,($O$1-1)*12)","v":17},{"$f":"OFFSET(Estructura!G21,0,($O$1-1)*12)","v":19.100000000000001},{"$f":"OFFSET(Estructura!H21,0,($O$1-1)*12)","v":19.899999999999999},{"$f":"OFFSET(Estructura!I21,0,($O$1-1)*12)","v":17.899999999999999},{"$f":"OFFSET(Estructura!J21,0,($O$1-1)*12)","v":18.2},{"$f":"OFFSET(Estructura!K21,0,($O$1-1)*12)","v":18.8},{"$f":"OFFSET(Estructura!L21,0,($O$1-1)*12)","v":17.3},{"$f":"OFFSET(Estructura!M21,0,($O$1-1)*12)","v":16.600000000000001},{"$f":"OFFSET(Estructura!N21,0,($O$1-1)*12)","v":17.3},{"$f":"OFFSET(Estructura!C102,0,($O$1-1))","v":17.600000000000001}]
[null,"Turbina de gas",{"$f":"OFFSET(Estructura!C22,0,($O$1-1)*12)","v":4.7},{"$f":"OFFSET(Estructura!D22,0,($O$1-1)*12)","v":5.6},{"$f":"OFFSET(Estructura!E22,0,($O$1-1)*12)","v":4.7},{"$f":"OFFSET(Estructura!F22,0,($O$1-1)*12)","v":4.0999999999999996},{"$f":"OFFSET(Estructura!G22,0,($O$1-1)*12)","v":3.6},{"$f":"OFFSET(Estructura!H22,0,($O$1-1)*12)","v":4.3},{"$f":"OFFSET(Estructura!I22,0,($O$1-1)*12)","v":6.6},{"$f":"OFFSET(Estructura!J22,0,($O$1-1)*12)","v":6.7},{"$f":"OFFSET(Estructura!K22,0,($O$1-1)*12)","v":5.2},{"$f":"OFFSET(Estructura!L22,0,($O$1-1)*12)","v":5.0999999999999996},{"$f":"OFFSET(Estructura!M22,0,($O$1-1)*12)","v":5.3},{"$f":"OFFSET(Estructura!N22,0,($O$1-1)*12)","v":4.5999999999999996},{"$f":"OFFSET(Estructura!C103,0,($O$1-1))","v":5.0999999999999996}]
[null,"Ciclo combinado (2)",{"$f":"OFFSET(Estructura!C23,0,($O$1-1)*12)","v":17.100000000000001},{"$f":"OFFSET(Estructura!D23,0,($O$1-1)*12)","v":19.899999999999999},{"$f":"OFFSET(Estructura!E23,0,($O$1-1)*12)","v":14.8},{"$f":"OFFSET(Estructura!F23,0,($O$1-1)*12)","v":8.6},{"$f":"OFFSET(Estructura!G23,0,($O$1-1)*12)","v":20.100000000000001},{"$f":"OFFSET(Estructura!H23,0,($O$1-1)*12)","v":13},{"$f":"OFFSET(Estructura!I23,0,($O$1-1)*12)","v":25.2},{"$f":"OFFSET(Estructura!J23,0,($O$1-1)*12)","v":23.4},{"$f":"OFFSET(Estructura!K23,0,($O$1-1)*12)","v":14.3},{"$f":"OFFSET(Estructura!L23,0,($O$1-1)*12)","v":24.1},{"$f":"OFFSET(Estructura!M23,0,($O$1-1)*12)","v":24.5},{"$f":"OFFSET(Estructura!N23,0,($O$1-1)*12)","v":25.5},{"$f":"OFFSET(Estructura!C104,0,($O$1-1))","v":19.399999999999999}]
[null,"Generación auxiliar (3)",{"$f":"OFFSET(Estructura!C24,0,($O$1-1)*12)","v":"-"},{"$f":"OFFSET(Estructura!D24,0,($O$1-1)*12)","v":"-"},{"$f":"OFFSET(Estructura!E24,0,($O$1-1)*12)","v":"-"},{"$f":"OFFSET(Estructura!F24,0,($O$1-1)*12)","v":"-"},{"$f":"OFFSET(Estructura!G24,0,($O$1-1)*12)","v":"-"},{"$f":"OFFSET(Estructura!H24,0,($O$1-1)*12)","v":0},{"$f":"OFFSET(Estructura!I24,0,($O$1-1)*12)","v":0.4},{"$f":"OFFSET(Estructura!J24,0,($O$1-1)*12)","v":0.5},{"$f":"OFFSET(Estructura!K24,0,($O$1-1)*12)","v":0.2},{"$f":"OFFSET(Estructura!L24,0,($O$1-1)*12)","v":0},{"$f":"OFFSET(Estructura!M24,0,($O$1-1)*12)","v":"-"},{"$f":"OFFSET(Estructura!N24,0,($O$1-1)*12)","v":"-"},{"$f":"OFFSET(Estructura!C105,0,($O$1-1))","v":0.1}]
[null,"Eólica",{"$f":"OFFSET(Estructura!C25,0,($O$1-1)*12)","v":0.1},{"$f":"OFFSET(Estructura!D25,0,($O$1-1)*12)","v":0.2},{"$f":"OFFSET(Estructura!E25,0,($O$1-1)*12)","v":0.1},{"$f":"OFFSET(Estructura!F25,0,($O$1-1)*12)","v":0.1},{"$f":"OFFSET(Estructura!G25,0,($O$1-1)*12)","v":0.1},{"$f":"OFFSET(Estructura!H25,0,($O$1-1)*12)","v":0.1},{"$f":"OFFSET(Estructura!I25,0,($O$1-1)*12)","v":0.1},{"$f":"OFFSET(Estructura!J25,0,($O$1-1)*12)","v":0.1},{"$f":"OFFSET(Estructura!K25,0,($O$1-1)*12)","v":0.1},{"$f":"OFFSET(Estructura!L25,0,($O$1-1)*12)","v":0.1},{"$f":"OFFSET(Estructura!M25,0,($O$1-1)*12)","v":0.1},{"$f":"OFFSET(Estructura!N25,0,($O$1-1)*12)","v":0.1},{"$f":"OFFSET(Estructura!C106,0,($O$1-1))","v":0.1}]
[null,"Solar fotovoltaica",{"$f":"OFFSET(Estructura!C26,0,($O$1-1)*12)","v":0.8},{"$f":"OFFSET(Estructura!D26,0,($O$1-1)*12)","v":1.1000000000000001},{"$f":"OFFSET(Estructura!E26,0,($O$1-1)*12)","v":1.5},{"$f":"OFFSET(Estructura!F26,0,($O$1-1)*12)","v":2},{"$f":"OFFSET(Estructura!G26,0,($O$1-1)*12)","v":2.1},{"$f":"OFFSET(Estructura!H26,0,($O$1-1)*12)","v":1.9},{"$f":"OFFSET(Estructura!I26,0,($O$1-1)*12)","v":1.7},{"$f":"OFFSET(Estructura!J26,0,($O$1-1)*12)","v":1.6},{"$f":"OFFSET(Estructura!K26,0,($O$1-1)*12)","v":1.6},{"$f":"OFFSET(Estructura!L26,0,($O$1-1)*12)","v":1.5},{"$f":"OFFSET(Estructura!M26,0,($O$1-1)*12)","v":1.4},{"$f":"OFFSET(Estructura!N26,0,($O$1-1)*12)","v":1},{"$f":"OFFSET(Estructura!C107,0,($O$1-1))","v":1.5}]
[null,"Térmica renovable (4)/Otras renovables (5)",{"$f":"OFFSET(Estructura!C27,0,($O$1-1)*12)","v":"-"},{"$f":"OFFSET(Estructura!D27,0,($O$1-1)*12)","v":"-"},{"$f":"OFFSET(Estructura!E27,0,($O$1-1)*12)","v":"-"},{"$f":"OFFSET(Estructura!F27,0,($O$1-1)*12)","v":"-"},{"$f":"OFFSET(Estructura!G27,0,($O$1-1)*12)","v":"-"},{"$f":"OFFSET(Estructura!H27,0,($O$1-1)*12)","v":"-"},{"$f":"OFFSET(Estructura!I27,0,($O$1-1)*12)","v":"-"},{"$f":"OFFSET(Estructura!J27,0,($O$1-1)*12)","v":"-"},{"$f":"OFFSET(Estructura!K27,0,($O$1-1)*12)","v":"-"},{"$f":"OFFSET(Estructura!L27,0,($O$1-1)*12)","v":"-"},{"$f":"OFFSET(Estructura!M27,0,($O$1-1)*12)","v":"-"},{"$f":"OFFSET(Estructura!N27,0,($O$1-1)*12)","v":"-"},{"$f":"OFFSET(Estructura!C108,0,($O$1-1))","v":"-"}]
[null,"Cogeneración y resto (4)/Cogeneración",{"$f":"OFFSET(Estructura!C28,0,($O$1-1)*12)","v":2.2000000000000002},{"$f":"OFFSET(Estructura!D28,0,($O$1-1)*12)","v":2},{"$f":"OFFSET(Estructura!E28,0,($O$1-1)*12)","v":2.4},{"$f":"OFFSET(Estructura!F28,0,($O$1-1)*12)","v":2.7},{"$f":"OFFSET(Estructura!G28,0,($O$1-1)*12)","v":2.5},{"$f":"OFFSET(Estructura!H28,0,($O$1-1)*12)","v":2.2000000000000002},{"$f":"OFFSET(Estructura!I28,0,($O$1-1)*12)","v":1.8},{"$f":"OFFSET(Estructura!J28,0,($O$1-1)*12)","v":3.7},{"$f":"OFFSET(Estructura!K28,0,($O$1-1)*12)","v":5},{"$f":"OFFSET(Estructura!L28,0,($O$1-1)*12)","v":3.1},{"$f":"OFFSET(Estructura!M28,0,($O$1-1)*12)","v":4.4000000000000004},{"$f":"OFFSET(Estructura!N28,0,($O$1-1)*12)","v":4.4000000000000004},{"$f":"OFFSET(Estructura!C109,0,($O$1-1))","v":3}]
[null,"Residuos no renovables (6)",{"$f":"OFFSET(Estructura!C29,0,($O$1-1)*12)","v":"-"},{"$f":"OFFSET(Estructura!D29,0,($O$1-1)*12)","v":"-"},{"$f":"OFFSET(Estructura!E29,0,($O$1-1)*12)","v":"-"},{"$f":"OFFSET(Estructura!F29,0,($O$1-1)*12)","v":"-"},{"$f":"OFFSET(Estructura!G29,0,($O$1-1)*12)","v":"-"},{"$f":"OFFSET(Estructura!H29,0,($O$1-1)*12)","v":"-"},{"$f":"OFFSET(Estructura!I29,0,($O$1-1)*12)","v":"-"},{"$f":"OFFSET(Estructura!J29,0,($O$1-1)*12)","v":"-"},{"$f":"OFFSET(Estructura!K29,0,($O$1-1)*12)","v":"-"},{"$f":"OFFSET(Estructura!L29,0,($O$1-1)*12)","v":"-"},{"$f":"OFFSET(Estructura!M29,0,($O$1-1)*12)","v":"-"},{"$f":"OFFSET(Estructura!N29,0,($O$1-1)*12)","v":"-"},{"$f":"OFFSET(Estructura!C110,0,($O$1-1))","v":"-"}]
[null,"Residuos renovables (6)",{"$f":"OFFSET(Estructura!C30,0,($O$1-1)*12)","v":"-"},{"$f":"OFFSET(Estructura!D30,0,($O$1-1)*12)","v":"-"},{"$f":"OFFSET(Estructura!E30,0,($O$1-1)*12)","v":"-"},{"$f":"OFFSET(Estructura!F30,0,($O$1-1)*12)","v":"-"},{"$f":"OFFSET(Estructura!G30,0,($O$1-1)*12)","v":"-"},{"$f":"OFFSET(Estructura!H30,0,($O$1-1)*12)","v":"-"},{"$f":"OFFSET(Estructura!I30,0,($O$1-1)*12)","v":"-"},{"$f":"OFFSET(Estructura!J30,0,($O$1-1)*12)","v":"-"},{"$f":"OFFSET(Estructura!K30,0,($O$1-1)*12)","v":"-"},{"$f":"OFFSET(Estructura!L30,0,($O$1-1)*12)","v":"-"},{"$f":"OFFSET(Estructura!M30,0,($O$1-1)*12)","v":"-"},{"$f":"OFFSET(Estructura!N30,0,($O$1-1)*12)","v":"-"},{"$f":"OFFSET(Estructura!C111,0,($O$1-1))","v":"-"}]
[null,"Generación renovable (7)",{"$f":"OFFSET(Estructura!C31,0,($O$1-1)*12)","v":0.9},{"$f":"OFFSET(Estructura!D31,0,($O$1-1)*12)","v":1.3},{"$f":"OFFSET(Estructura!E31,0,($O$1-1)*12)","v":1.6},{"$f":"OFFSET(Estructura!F31,0,($O$1-1)*12)","v":2.1},{"$f":"OFFSET(Estructura!G31,0,($O$1-1)*12)","v":2.2000000000000002},{"$f":"OFFSET(Estructura!H31,0,($O$1-1)*12)","v":2},{"$f":"OFFSET(Estructura!I31,0,($O$1-1)*12)","v":1.8},{"$f":"OFFSET(Estructura!J31,0,($O$1-1)*12)","v":1.7000000000000002},{"$f":"OFFSET(Estructura!K31,0,($O$1-1)*12)","v":1.7000000000000002},{"$f":"OFFSET(Estructura!L31,0,($O$1-1)*12)","v":1.6},{"$f":"OFFSET(Estructura!M31,0,($O$1-1)*12)","v":1.5},{"$f":"OFFSET(Estructura!N31,0,($O$1-1)*12)","v":1.1000000000000001},{"$f":"OFFSET(Estructura!C112,0,($O$1-1))","v":1.6}]
[null,"Generación no renovable",{"$f":"OFFSET(Estructura!C32,0,($O$1-1)*12)","v":99.100000000000009},{"$f":"OFFSET(Estructura!D32,0,($O$1-1)*12)","v":98.699999999999989},{"$f":"OFFSET(Estructura!E32,0,($O$1-1)*12)","v":98.4},{"$f":"OFFSET(Estructura!F32,0,($O$1-1)*12)","v":97.899999999999991},{"$f":"OFFSET(Estructura!G32,0,($O$1-1)*12)","v":97.799999999999983},{"$f":"OFFSET(Estructura!H32,0,($O$1-1)*12)","v":98},{"$f":"OFFSET(Estructura!I32,0,($O$1-1)*12)","v":98.199999999999989},{"$f":"OFFSET(Estructura!J32,0,($O$1-1)*12)","v":98.3},{"$f":"OFFSET(Estructura!K32,0,($O$1-1)*12)","v":98.3},{"$f":"OFFSET(Estructura!L32,0,($O$1-1)*12)","v":98.399999999999977},{"$f":"OFFSET(Estructura!M32,0,($O$1-1)*12)","v":98.5},{"$f":"OFFSET(Estructura!N32,0,($O$1-1)*12)","v":98.9},{"$f":"OFFSET(Estructura!C113,0,($O$1-1))","v":98.399999999999977}]
[null,"(1) Asignación de unidades de producción según combustible principal."]
[null,"(2) Incluye funcionamiento en ciclo abierto."]
[null,"(3) Grupos de emergencia que se instalan de forma transitoria en determinadas zonas para cubrir un déficit de generación."]
[null,"(4) Incluye residuos hasta el 31/12/2010."]
[null,"(5) Otras renovables incluyen biogás y biomasa."]
[null,"(6) Generación incluida en otras renovables y cogeneración hasta el 31/12/2014."]
[null,"(7) Incluye eólica, solar fotovoltaica y térmica renovable/otras renovables y residuos renovables."]

{"sheet":"Estructura anual Baleares","index":6,"n_rows":30,"n_cols":10,"rows_kept":30,"cut":false,"hidden":false,"merged":[[29,1,29,9],[22,1,22,9],[23,1,23,9],[24,1,24,9],[25,1,25,9],[26,1,26,9],[27,1,27,14],[28,1,28,14]]}
[null,null,null,null,null,null,null,null,null,1]
[]
[]
[null,null,null,null,null,null,null,"Sistema eléctrico"]
[null,null,null,null,null,null,null,"Horizonte temporal"]
[null,null,null,null,null,null,null,"Periodo"]
[]
[null,null,{"$f":"OFFSET(Estructura!C100,0,($J$1-1)*8)","v":2006},{"$f":"OFFSET(Estructura!D100,0,($J$1-1)*8)","v":2007},{"$f":"OFFSET(Estructura!E100,0,($J$1-1)*8)","v":2008},{"$f":"OFFSET(Estructura!F100,0,($J$1-1)*8)","v":2009},{"$f":"OFFSET(Estructura!G100,0,($J$1-1)*8)","v":2010},{"$f":"OFFSET(Estructura!H100,0,($J$1-1)*8)","v":2011},{"$f":"OFFSET(Estructura!I100,0,($J$1-1)*8)","v":2012},{"$f":"OFFSET(Estructura!J100,0,($J$1-1)*8)","v":2013}]
[]
[null,"Carbón",{"$f":"OFFSET(Estructura!C101,0,($J$1-1)*8)","v":52.8},{"$f":"OFFSET(Estructura!D101,0,($J$1-1)*8)","v":49.3},{"$f":"OFFSET(Estructura!E101,0,($J$1-1)*8)","v":50.5},{"$f":"OFFSET(Estructura!F101,0,($J$1-1)*8)","v":52.8},{"$f":"OFFSET(Estructura!G101,0,($J$1-1)*8)","v":53.199999999999996},{"$f":"OFFSET(Estructura!H101,0,($J$1-1)*8)","v":"-"},{"$f":"OFFSET(Estructura!I101,0,($J$1-1)*8)","v":"-"},{"$f":"OFFSET(Estructura!J101,0,($J$1-1)*8)","v":"-"}]
[null,"Motores diesel",{"$f":"OFFSET(Estructura!C102,0,($J$1-1)*8)","v":16.600000000000001},{"$f":"OFFSET(Estructura!D102,0,($J$1-1)*8)","v":16.8},{"$f":"OFFSET(Estructura!E102,0,($J$1-1)*8)","v":17.100000000000001},{"$f":"OFFSET(Estructura!F102,0,($J$1-1)*8)","v":16.2},{"$f":"OFFSET(Estructura!G102,0,($J$1-1)*8)","v":17.600000000000001},{"$f":"OFFSET(Estructura!H102,0,($J$1-1)*8)","v":"-"},{"$f":"OFFSET(Estructura!I102,0,($J$1-1)*8)","v":"-"},{"$f":"OFFSET(Estructura!J102,0,($J$1-1)*8)","v":"-"}]
[null,"Turbina de gas",{"$f":"OFFSET(Estructura!C103,0,($J$1-1)*8)","v":5},{"$f":"OFFSET(Estructura!D103,0,($J$1-1)*8)","v":5.2},{"$f":"OFFSET(Estructura!E103,0,($J$1-1)*8)","v":4.5},{"$f":"OFFSET(Estructura!F103,0,($J$1-1)*8)","v":5.7},{"$f":"OFFSET(Estructura!G103,0,($J$1-1)*8)","v":5.0999999999999996},{"$f":"OFFSET(Estructura!H103,0,($J$1-1)*8)","v":"-"},{"$f":"OFFSET(Estructura!I103,0,($J$1-1)*8)","v":"-"},{"$f":"OFFSET(Estructura!J103,0,($J$1-1)*8)","v":"-"}]
[null,"Ciclo combinado (2)",{"$f":"OFFSET(Estructura!C104,0,($J$1-1)*8)","v":23},{"$f":"OFFSET(Estructura!D104,0,($J$1-1)*8)","v":26.5},{"$f":"OFFSET(Estructura!E104,0,($J$1-1)*8)","v":24.9},{"$f":"OFFSET(Estructura!F104,0,($J$1-1)*8)","v":21.6},{"$f":"OFFSET(Estructura!G104,0,($J$1-1)*8)","v":19.399999999999999},{"$f":"OFFSET(Estructura!H104,0,($J$1-1)*8)","v":"-"},{"$f":"OFFSET(Estructura!I104,0,($J$1-1)*8)","v":"-"},{"$f":"OFFSET(Estructura!J104,0,($J$1-1)*8)","v":"-"}]
[null,"Generación auxiliar (3)",{"$f":"OFFSET(Estructura!C105,0,($J$1-1)*8)","v":0.1},{"$f":"OFFSET(Estructura!D105,0,($J$1-1)*8)","v":0.2},{"$f":"OFFSET(Estructura!E105,0,($J$1-1)*8)","v":0.1},{"$f":"OFFSET(Estructura!F105,0,($J$1-1)*8)","v":0.1},{"$f":"OFFSET(Estructura!G105,0,($J$1-1)*8)","v":0.1},{"$f":"OFFSET(Estructura!H105,0,($J$1-1)*8)","v":"-"},{"$f":"OFFSET(Estructura!I105,0,($J$1-1)*8)","v":"-"},{"$f":"OFFSET(Estructura!J105,0,($J$1-1)*8)","v":"-"}]
[null,"Eólica",{"$f":"OFFSET(Estructura!C106,0,($J$1-1)*8)","v":0.1},{"$f":"OFFSET(Estructura!D106,0,($J$1-1)*8)","v":0.1},{"$f":"OFFSET(Estructura!E106,0,($J$1-1)*8)","v":0.1},{"$f":"OFFSET(Estructura!F106,0,($J$1-1)*8)","v":0.1},{"$f":"OFFSET(Estructura!G106,0,($J$1-1)*8)","v":0.1},{"$f":"OFFSET(Estructura!H106,0,($J$1-1)*8)","v":"-"},{"$f":"OFFSET(Estructura!I106,0,($J$1-1)*8)","v":"-"},{"$f":"OFFSET(Estructura!J106,0,($J$1-1)*8)","v":"-"}]
[null,"Solar fotovoltaica",{"$f":"OFFSET(Estructura!C107,0,($J$1-1)*8)","v":0},{"$f":"OFFSET(Estructura!D107,0,($J$1-1)*8)","v":0},{"$f":"OFFSET(Estructura!E107,0,($J$1-1)*8)","v":0.5},{"$f":"OFFSET(Estructura!F107,0,($J$1-1)*8)","v":1.4},{"$f":"OFFSET(Estructura!G107,0,($J$1-1)*8)","v":1.5},{"$f":"OFFSET(Estructura!H107,0,($J$1-1)*8)","v":"-"},{"$f":"OFFSET(Estructura!I107,0,($J$1-1)*8)","v":"-"},{"$f":"OFFSET(Estructura!J107,0,($J$1-1)*8)","v":"-"}]
[null,"Térmica renovable (4)/Otras renovables (5)",{"$f":"OFFSET(Estructura!C108,0,($J$1-1)*8)","v":"-"},{"$f":"OFFSET(Estructura!D108,0,($J$1-1)*8)","v":"-"},{"$f":"OFFSET(Estructura!E108,0,($J$1-1)*8)","v":"-"},{"$f":"OFFSET(Estructura!F108,0,($J$1-1)*8)","v":"-"},{"$f":"OFFSET(Estructura!G108,0,($J$1-1)*8)","v":"-"},{"$f":"OFFSET(Estructura!H108,0,($J$1-1)*8)","v":"-"},{"$f":"OFFSET(Estructura!I108,0,($J$1-1)*8)","v":"-"},{"$f":"OFFSET(Estructura!J108,0,($J$1-1)*8)","v":"-"}]
[null,"Cogeneración y resto (4)/Cogeneración",{"$f":"OFFSET(Estructura!C109,0,($J$1-1)*8)","v":2.4},{"$f":"OFFSET(Estructura!D109,0,($J$1-1)*8)","v":1.9},{"$f":"OFFSET(Estructura!E109,0,($J$1-1)*8)","v":2.2999999999999998},{"$f":"OFFSET(Estructura!F109,0,($J$1-1)*8)","v":2.1},{"$f":"OFFSET(Estructura!G109,0,($J$1-1)*8)","v":3},{"$f":"OFFSET(Estructura!H109,0,($J$1-1)*8)","v":"-"},{"$f":"OFFSET(Estructura!I109,0,($J$1-1)*8)","v":"-"},{"$f":"OFFSET(Estructura!J109,0,($J$1-1)*8)","v":"-"}]
[null,"Residuos no renovables (6)",{"$f":"OFFSET(Estructura!C110,0,($J$1-1)*8)","v":"-"},{"$f":"OFFSET(Estructura!D110,0,($J$1-1)*8)","v":"-"},{"$f":"OFFSET(Estructura!E110,0,($J$1-1)*8)","v":"-"},{"$f":"OFFSET(Estructura!F110,0,($J$1-1)*8)","v":"-"},{"$f":"OFFSET(Estructura!G110,0,($J$1-1)*8)","v":"-"},{"$f":"OFFSET(Estructura!H110,0,($J$1-1)*8)","v":"-"},{"$f":"OFFSET(Estructura!I110,0,($J$1-1)*8)","v":"-"},{"$f":"OFFSET(Estructura!J110,0,($J$1-1)*8)","v":"-"}]
[null,"Residuos renovables (6)",{"$f":"OFFSET(Estructura!C111,0,($J$1-1)*8)","v":"-"},{"$f":"OFFSET(Estructura!D111,0,($J$1-1)*8)","v":"-"},{"$f":"OFFSET(Estructura!E111,0,($J$1-1)*8)","v":"-"},{"$f":"OFFSET(Estructura!F111,0,($J$1-1)*8)","v":"-"},{"$f":"OFFSET(Estructura!G111,0,($J$1-1)*8)","v":"-"},{"$f":"OFFSET(Estructura!H111,0,($J$1-1)*8)","v":"-"},{"$f":"OFFSET(Estructura!I111,0,($J$1-1)*8)","v":"-"},{"$f":"OFFSET(Estructura!J111,0,($J$1-1)*8)","v":"-"}]
[null,"Generación renovable (7)",{"$f":"OFFSET(Estructura!C112,0,($J$1-1)*8)","v":0.1},{"$f":"OFFSET(Estructura!D112,0,($J$1-1)*8)","v":0.1},{"$f":"OFFSET(Estructura!E112,0,($J$1-1)*8)","v":0.6},{"$f":"OFFSET(Estructura!F112,0,($J$1-1)*8)","v":1.5},{"$f":"OFFSET(Estructura!G112,0,($J$1-1)*8)","v":1.6},{"$f":"OFFSET(Estructura!H112,0,($J$1-1)*8)","v":"-"},{"$f":"OFFSET(Estructura!I112,0,($J$1-1)*8)","v":"-"},{"$f":"OFFSET(Estructura!J112,0,($J$1-1)*8)","v":"-"}]
[null,"Generación no renovable",{"$f":"OFFSET(Estructura!C113,0,($J$1-1)*8)","v":99.9},{"$f":"OFFSET(Estructura!D113,0,($J$1-1)*8)","v":99.9},{"$f":"OFFSET(Estructura!E113,0,($J$1-1)*8)","v":99.399999999999991},{"$f":"OFFSET(Estructura!F113,0,($J$1-1)*8)","v":98.5},{"$f":"OFFSET(Estructura!G113,0,($J$1-1)*8)","v":98.399999999999977},{"$f":"OFFSET(Estructura!H113,0,($J$1-1)*8)","v":"-"},{"$f":"OFFSET(Estructura!I113,0,($J$1-1)*8)","v":"-"},{"$f":"OFFSET(Estructura!J113,0,($J$1-1)*8)","v":"-"}]
[null,"(1) Asignación de unidades de producción según combustible principal."]
[null,"(2) Incluye funcionamiento en ciclo abierto."]
[null,"(3) Grupos de emergencia que se instalan de forma transitoria en determinadas zonas para cubrir un déficit de generación."]
[null,"(4) Incluye residuos hasta el 31/12/2010."]
[null,"(5) Otras renovables incluyen biogás y biomasa."]
[null,"(6) Generación incluida en otras renovables y cogeneración hasta el 31/12/2014."]
[null,"(7) Incluye eólica, solar fotovoltaica y térmica renovable/otras renovables y residuos renovables."]
[null,{"$f":"IF(J1<2,\"\",IF(MONTH(FACT)=1,\"\",CONCATENATE(\"    Para el año \",YEAR(FACT),\" valores acumulados hasta \",TEXT(FACT-30,\"mmmm\"),\" de \",YEAR(FACT),\".\")))","v":""}]

{"sheet":"Estructura mensual Canarias","index":7,"n_rows":27,"n_cols":15,"rows_kept":27,"cut":false,"hidden":false,"merged":[[26,1,26,14],[5,2,5,9],[22,1,22,14],[23,1,23,14],[24,1,24,14],[25,1,25,14]]}
[null,null,null,null,null,null,null,null,null,null,null,null,null,null,5]
[]
[]
[null,null,null,null,null,null,null,null,null,null,null,null,"Sistema eléctrico"]
[null,null,null,null,null,null,null,null,null,null,null,null,"Horizonte temporal"]
[null,null,null,null,null,null,null,null,null,null,null,null,"Periodo"]
[]
[null,null,"Ene.","Feb.","Mar.","Abr.","May.","Jun.","Jul.","Ago.","Sep.","Oct.","Nov.","Dic.",{"$f":"OFFSET(Año!B18,($O$1-1),0)","v":2010}]
[]
[null,"Hidráulica",{"$f":"OFFSET(Estructura!C35,0,($O$1-1)*12)","v":"-"},{"$f":"OFFSET(Estructura!D35,0,($O$1-1)*12)","v":"-"},{"$f":"OFFSET(Estructura!E35,0,($O$1-1)*12)","v":"-"},{"$f":"OFFSET(Estructura!F35,0,($O$1-1)*12)","v":"-"},{"$f":"OFFSET(Estructura!G35,0,($O$1-1)*12)","v":"-"},{"$f":"OFFSET(Estructura!H35,0,($O$1-1)*12)","v":"-"},{"$f":"OFFSET(Estructura!I35,0,($O$1-1)*12)","v":"-"},{"$f":"OFFSET(Estructura!J35,0,($O$1-1)*12)","v":"-"},{"$f":"OFFSET(Estructura!K35,0,($O$1-1)*12)","v":"-"},{"$f":"OFFSET(Estructura!L35,0,($O$1-1)*12)","v":"-"},{"$f":"OFFSET(Estructura!M35,0,($O$1-1)*12)","v":"-"},{"$f":"OFFSET(Estructura!N35,0,($O$1-1)*12)","v":"-"},{"$f":"OFFSET(Estructura!C116,0,($O$1-1))","v":"-"}]
[null,"Motores diesel",{"$f":"OFFSET(Estructura!C36,0,($O$1-1)*12)","v":24.9},{"$f":"OFFSET(Estructura!D36,0,($O$1-1)*12)","v":24.9},{"$f":"OFFSET(Estructura!E36,0,($O$1-1)*12)","v":25.1},{"$f":"OFFSET(Estructura!F36,0,($O$1-1)*12)","v":24.4},{"$f":"OFFSET(Estructura!G36,0,($O$1-1)*12)","v":22.5},{"$f":"OFFSET(Estructura!H36,0,($O$1-1)*12)","v":22.9},{"$f":"OFFSET(Estructura!I36,0,($O$1-1)*12)","v":24},{"$f":"OFFSET(Estructura!J36,0,($O$1-1)*12)","v":25.3},{"$f":"OFFSET(Estructura!K36,0,($O$1-1)*12)","v":24.7},{"$f":"OFFSET(Estructura!L36,0,($O$1-1)*12)","v":26.1},{"$f":"OFFSET(Estructura!M36,0,($O$1-1)*12)","v":25},{"$f":"OFFSET(Estructura!N36,0,($O$1-1)*12)","v":24.6},{"$f":"OFFSET(Estructura!C117,0,($O$1-1))","v":24.5}]
[null,"Turbina de gas",{"$f":"OFFSET(Estructura!C37,0,($O$1-1)*12)","v":1.8},{"$f":"OFFSET(Estructura!D37,0,($O$1-1)*12)","v":2.8},{"$f":"OFFSET(Estructura!E37,0,($O$1-1)*12)","v":2.7},{"$f":"OFFSET(Estructura!F37,0,($O$1-1)*12)","v":2},{"$f":"OFFSET(Estructura!G37,0,($O$1-1)*12)","v":4.3},{"$f":"OFFSET(Estructura!H37,0,($O$1-1)*12)","v":4.4000000000000004},{"$f":"OFFSET(Estructura!I37,0,($O$1-1)*12)","v":3.9},{"$f":"OFFSET(Estructura!J37,0,($O$1-1)*12)","v":3.2},{"$f":"OFFSET(Estructura!K37,0,($O$1-1)*12)","v":3.7},{"$f":"OFFSET(Estructura!L37,0,($O$1-1)*12)","v":6.1},{"$f":"OFFSET(Estructura!M37,0,($O$1-1)*12)","v":6.1},{"$f":"OFFSET(Estructura!N37,0,($O$1-1)*12)","v":5.3},{"$f":"OFFSET(Estructura!C118,0,($O$1-1))","v":3.9}]
[null,"Turbina de vapor",{"$f":"OFFSET(Estructura!C38,0,($O$1-1)*12)","v":36.6},{"$f":"OFFSET(Estructura!D38,0,($O$1-1)*12)","v":35.6},{"$f":"OFFSET(Estructura!E38,0,($O$1-1)*12)","v":34.4},{"$f":"OFFSET(Estructura!F38,0,($O$1-1)*12)","v":32.9},{"$f":"OFFSET(Estructura!G38,0,($O$1-1)*12)","v":35.299999999999997},{"$f":"OFFSET(Estructura!H38,0,($O$1-1)*12)","v":35.5},{"$f":"OFFSET(Estructura!I38,0,($O$1-1)*12)","v":32.6},{"$f":"OFFSET(Estructura!J38,0,($O$1-1)*12)","v":33.799999999999997},{"$f":"OFFSET(Estructura!K38,0,($O$1-1)*12)","v":33.299999999999997},{"$f":"OFFSET(Estructura!L38,0,($O$1-1)*12)","v":28.5},{"$f":"OFFSET(Estructura!M38,0,($O$1-1)*12)","v":30},{"$f":"OFFSET(Estructura!N38,0,($O$1-1)*12)","v":33},{"$f":"OFFSET(Estructura!C119,0,($O$1-1))","v":33.4}]
[null,"Ciclo combinado (2)",{"$f":"OFFSET(Estructura!C39,0,($O$1-1)*12)","v":30.5},{"$f":"OFFSET(Estructura!D39,0,($O$1-1)*12)","v":30.200000000000003},{"$f":"OFFSET(Estructura!E39,0,($O$1-1)*12)","v":30.299999999999997},{"$f":"OFFSET(Estructura!F39,0,($O$1-1)*12)","v":30.5},{"$f":"OFFSET(Estructura!G39,0,($O$1-1)*12)","v":26.700000000000003},{"$f":"OFFSET(Estructura!H39,0,($O$1-1)*12)","v":26.399999999999991},{"$f":"OFFSET(Estructura!I39,0,($O$1-1)*12)","v":28.900000000000006},{"$f":"OFFSET(Estructura!J39,0,($O$1-1)*12)","v":28.700000000000003},{"$f":"OFFSET(Estructura!K39,0,($O$1-1)*12)","v":30.600000000000009},{"$f":"OFFSET(Estructura!L39,0,($O$1-1)*12)","v":34.700000000000003},{"$f":"OFFSET(Estructura!M39,0,($O$1-1)*12)","v":34.299999999999997},{"$f":"OFFSET(Estructura!N39,0,($O$1-1)*12)","v":32.899999999999991},{"$f":"OFFSET(Estructura!C120,0,($O$1-1))","v":30.5}]
[null,"Generación auxiliar (3)",{"$f":"OFFSET(Estructura!C40,0,($O$1-1)*12)","v":"-"},{"$f":"OFFSET(Estructura!D40,0,($O$1-1)*12)","v":"-"},{"$f":"OFFSET(Estructura!E40,0,($O$1-1)*12)","v":"-"},{"$f":"OFFSET(Estructura!F40,0,($O$1-1)*12)","v":"-"},{"$f":"OFFSET(Estructura!G40,0,($O$1-1)*12)","v":"-"},{"$f":"OFFSET(Estructura!H40,0,($O$1-1)*12)","v":"-"},{"$f":"OFFSET(Estructura!I40,0,($O$1-1)*12)","v":"-"},{"$f":"OFFSET(Estructura!J40,0,($O$1-1)*12)","v":"-"},{"$f":"OFFSET(Estructura!K40,0,($O$1-1)*12)","v":"-"},{"$f":"OFFSET(Estructura!L40,0,($O$1-1)*12)","v":"-"},{"$f":"OFFSET(Estructura!M40,0,($O$1-1)*12)","v":"-"},{"$f":"OFFSET(Estructura!N40,0,($O$1-1)*12)","v":"-"},{"$f":"OFFSET(Estructura!C121,0,($O$1-1))","v":"-"}]
[null,"Hidroeólica",{"$f":"OFFSET(Estructura!C41,0,($O$1-1)*12)","v":"-"},{"$f":"OFFSET(Estructura!D41,0,($O$1-1)*12)","v":"-"},{"$f":"OFFSET(Estructura!E41,0,($O$1-1)*12)","v":"-"},{"$f":"OFFSET(Estructura!F41,0,($O$1-1)*12)","v":"-"},{"$f":"OFFSET(Estructura!G41,0,($O$1-1)*12)","v":"-"},{"$f":"OFFSET(Estructura!H41,0,($O$1-1)*12)","v":"-"},{"$f":"OFFSET(Estructura!I41,0,($O$1-1)*12)","v":"-"},{"$f":"OFFSET(Estructura!J41,0,($O$1-1)*12)","v":"-"},{"$f":"OFFSET(Estructura!K41,0,($O$1-1)*12)","v":"-"},{"$f":"OFFSET(Estructura!L41,0,($O$1-1)*12)","v":"-"},{"$f":"OFFSET(Estructura!M41,0,($O$1-1)*12)","v":"-"},{"$f":"OFFSET(Estructura!N41,0,($O$1-1)*12)","v":"-"},{"$f":"OFFSET(Estructura!C122,0,($O$1-1))","v":"-"}]
[null,"Eólica",{"$f":"OFFSET(Estructura!C42,0,($O$1-1)*12)","v":1.6},{"$f":"OFFSET(Estructura!D42,0,($O$1-1)*12)","v":2.2000000000000002},{"$f":"OFFSET(Estructura!E42,0,($O$1-1)*12)","v":3.1},{"$f":"OFFSET(Estructura!F42,0,($O$1-1)*12)","v":4.5},{"$f":"OFFSET(Estructura!G42,0,($O$1-1)*12)","v":5},{"$f":"OFFSET(Estructura!H42,0,($O$1-1)*12)","v":5.4},{"$f":"OFFSET(Estructura!I42,0,($O$1-1)*12)","v":6.3},{"$f":"OFFSET(Estructura!J42,0,($O$1-1)*12)","v":5.4},{"$f":"OFFSET(Estructura!K42,0,($O$1-1)*12)","v":4.7},{"$f":"OFFSET(Estructura!L42,0,($O$1-1)*12)","v":1.8},{"$f":"OFFSET(Estructura!M42,0,($O$1-1)*12)","v":2.4},{"$f":"OFFSET(Estructura!N42,0,($O$1-1)*12)","v":2.2000000000000002},{"$f":"OFFSET(Estructura!C123,0,($O$1-1))","v":3.7}]
[null,"Solar fotovoltaica",{"$f":"OFFSET(Estructura!C43,0,($O$1-1)*12)","v":1.4},{"$f":"OFFSET(Estructura!D43,0,($O$1-1)*12)","v":1.5},{"$f":"OFFSET(Estructura!E43,0,($O$1-1)*12)","v":2.2000000000000002},{"$f":"OFFSET(Estructura!F43,0,($O$1-1)*12)","v":2.2999999999999998},{"$f":"OFFSET(Estructura!G43,0,($O$1-1)*12)","v":2.7},{"$f":"OFFSET(Estructura!H43,0,($O$1-1)*12)","v":2.7},{"$f":"OFFSET(Estructura!I43,0,($O$1-1)*12)","v":3},{"$f":"OFFSET(Estructura!J43,0,($O$1-1)*12)","v":2.8},{"$f":"OFFSET(Estructura!K43,0,($O$1-1)*12)","v":2.2999999999999998},{"$f":"OFFSET(Estructura!L43,0,($O$1-1)*12)","v":2.1},{"$f":"OFFSET(Estructura!M43,0,($O$1-1)*12)","v":1.7},{"$f":"OFFSET(Estructura!N43,0,($O$1-1)*12)","v":1.7},{"$f":"OFFSET(Estructura!C124,0,($O$1-1))","v":2.2000000000000002}]
[null,"Térmica renovable/Otras renovables (4)",{"$f":"OFFSET(Estructura!C44,0,($O$1-1)*12)","v":3.2},{"$f":"OFFSET(Estructura!D44,0,($O$1-1)*12)","v":2.8},{"$f":"OFFSET(Estructura!E44,0,($O$1-1)*12)","v":2.2000000000000002},{"$f":"OFFSET(Estructura!F44,0,($O$1-1)*12)","v":3.4},{"$f":"OFFSET(Estructura!G44,0,($O$1-1)*12)","v":3.5},{"$f":"OFFSET(Estructura!H44,0,($O$1-1)*12)","v":2.7},{"$f":"OFFSET(Estructura!I44,0,($O$1-1)*12)","v":1.3},{"$f":"OFFSET(Estructura!J44,0,($O$1-1)*12)","v":0.8},{"$f":"OFFSET(Estructura!K44,0,($O$1-1)*12)","v":0.7},{"$f":"OFFSET(Estructura!L44,0,($O$1-1)*12)","v":0.7},{"$f":"OFFSET(Estructura!M44,0,($O$1-1)*12)","v":0.5},{"$f":"OFFSET(Estructura!N44,0,($O$1-1)*12)","v":0.3},{"$f":"OFFSET(Estructura!C125,0,($O$1-1))","v":1.8}]
[null,"Cogeneración y resto/Cogeneración",{"$f":"OFFSET(Estructura!C45,0,($O$1-1)*12)","v":"-"},{"$f":"OFFSET(Estructura!D45,0,($O$1-1)*12)","v":"-"},{"$f":"OFFSET(Estructura!E45,0,($O$1-1)*12)","v":"-"},{"$f":"OFFSET(Estructura!F45,0,($O$1-1)*12)","v":"-"},{"$f":"OFFSET(Estructura!G45,0,($O$1-1)*12)","v":"-"},{"$f":"OFFSET(Estructura!H45,0,($O$1-1)*12)","v":"-"},{"$f":"OFFSET(Estructura!I45,0,($O$1-1)*12)","v":"-"},{"$f":"OFFSET(Estructura!J45,0,($O$1-1)*12)","v":"-"},{"$f":"OFFSET(Estructura!K45,0,($O$1-1)*12)","v":"-"},{"$f":"OFFSET(Estructura!L45,0,($O$1-1)*12)","v":"-"},{"$f":"OFFSET(Estructura!M45,0,($O$1-1)*12)","v":"-"},{"$f":"OFFSET(Estructura!N45,0,($O$1-1)*12)","v":"-"},{"$f":"OFFSET(Estructura!C126,0,($O$1-1))","v":"-"}]
[null,"Generación renovable (5)",{"$f":"OFFSET(Estructura!C46,0,($O$1-1)*12)","v":6.2},{"$f":"OFFSET(Estructura!D46,0,($O$1-1)*12)","v":6.5},{"$f":"OFFSET(Estructura!E46,0,($O$1-1)*12)","v":7.5000000000000009},{"$f":"OFFSET(Estructura!F46,0,($O$1-1)*12)","v":10.199999999999999},{"$f":"OFFSET(Estructura!G46,0,($O$1-1)*12)","v":11.2},{"$f":"OFFSET(Estructura!H46,0,($O$1-1)*12)","v":10.8},{"$f":"OFFSET(Estructura!I46,0,($O$1-1)*12)","v":10.600000000000001},{"$f":"OFFSET(Estructura!J46,0,($O$1-1)*12)","v":9},{"$f":"OFFSET(Estructura!K46,0,($O$1-1)*12)","v":7.7},{"$f":"OFFSET(Estructura!L46,0,($O$1-1)*12)","v":4.6000000000000005},{"$f":"OFFSET(Estructura!M46,0,($O$1-1)*12)","v":4.5999999999999996},{"$f":"OFFSET(Estructura!N46,0,($O$1-1)*12)","v":4.2},{"$f":"OFFSET(Estructura!C127,0,($O$1-1))","v":7.7}]
[null,"Generación no renovable",{"$f":"OFFSET(Estructura!C47,0,($O$1-1)*12)","v":93.8},{"$f":"OFFSET(Estructura!D47,0,($O$1-1)*12)","v":93.5},{"$f":"OFFSET(Estructura!E47,0,($O$1-1)*12)","v":92.5},{"$f":"OFFSET(Estructura!F47,0,($O$1-1)*12)","v":89.8},{"$f":"OFFSET(Estructura!G47,0,($O$1-1)*12)","v":88.8},{"$f":"OFFSET(Estructura!H47,0,($O$1-1)*12)","v":89.199999999999989},{"$f":"OFFSET(Estructura!I47,0,($O$1-1)*12)","v":89.4},{"$f":"OFFSET(Estructura!J47,0,($O$1-1)*12)","v":91},{"$f":"OFFSET(Estructura!K47,0,($O$1-1)*12)","v":92.300000000000011},{"$f":"OFFSET(Estructura!L47,0,($O$1-1)*12)","v":95.4},{"$f":"OFFSET(Estructura!M47,0,($O$1-1)*12)","v":95.4},{"$f":"OFFSET(Estructura!N47,0,($O$1-1)*12)","v":95.8},{"$f":"OFFSET(Estructura!C128,0,($O$1-1))","v":92.3}]
[null,"(1) Asignación de unidades de producción según combustible principal."]
[null,"(2) Utiliza gasoil como combustible principal. Incluye funcionamiento en ciclo abierto."]
[null,"(3) Grupos de emergencia que se instalan de forma transitoria en determinadas zonas para cubrir un déficit de generación."]
[null,"(4) Otras renovables incluyen biogás y biomasa."]
[null,"(5) Incluye hidráulica, hidroeólica, eólica, solar fotovoltaica y térmica renovable/otras renovables."]

{"sheet":"Estructura anual Canarias","index":8,"n_rows":28,"n_cols":10,"rows_kept":28,"cut":false,"hidden":false,"merged":[[26,10,26,14],[27,1,27,9],[22,1,22,9],[23,1,23,9],[24,1,24,9],[25,1,25,9],[26,1,26,9]]}
[null,null,null,null,null,null,null,null,null,1]
[]
[]
[null,null,null,null,null,null,null,"Sistema eléctrico"]
[null,null,null,null,null,null,null,"Horizonte temporal"]
[null,null,null,null,null,null,null,"Periodo"]
[]
[null,null,{"$f":"OFFSET(Estructura!C115,0,($J$1-1)*8)","v":2006},{"$f":"OFFSET(Estructura!D115,0,($J$1-1)*8)","v":2007},{"$f":"OFFSET(Estructura!E115,0,($J$1-1)*8)","v":2008},{"$f":"OFFSET(Estructura!F115,0,($J$1-1)*8)","v":2009},{"$f":"OFFSET(Estructura!G115,0,($J$1-1)*8)","v":2010},{"$f":"OFFSET(Estructura!H115,0,($J$1-1)*8)","v":2011},{"$f":"OFFSET(Estructura!I115,0,($J$1-1)*8)","v":2012},{"$f":"OFFSET(Estructura!J115,0,($J$1-1)*8)","v":2013}]
[]
[null,"Hidráulica",{"$f":"OFFSET(Estructura!C116,0,($J$1-1)*8)","v":"-"},{"$f":"OFFSET(Estructura!D116,0,($J$1-1)*8)","v":0},{"$f":"OFFSET(Estructura!E116,0,($J$1-1)*8)","v":0},{"$f":"OFFSET(Estructura!F116,0,($J$1-1)*8)","v":0},{"$f":"OFFSET(Estructura!G116,0,($J$1-1)*8)","v":"-"},{"$f":"OFFSET(Estructura!H116,0,($J$1-1)*8)","v":"-"},{"$f":"OFFSET(Estructura!I116,0,($J$1-1)*8)","v":"-"},{"$f":"OFFSET(Estructura!J116,0,($J$1-1)*8)","v":"-"}]
[null,"Motores diesel",{"$f":"OFFSET(Estructura!C117,0,($J$1-1)*8)","v":22.8},{"$f":"OFFSET(Estructura!D117,0,($J$1-1)*8)","v":22.2},{"$f":"OFFSET(Estructura!E117,0,($J$1-1)*8)","v":22.5},{"$f":"OFFSET(Estructura!F117,0,($J$1-1)*8)","v":23.5},{"$f":"OFFSET(Estructura!G117,0,($J$1-1)*8)","v":24.5},{"$f":"OFFSET(Estructura!H117,0,($J$1-1)*8)","v":"-"},{"$f":"OFFSET(Estructura!I117,0,($J$1-1)*8)","v":"-"},{"$f":"OFFSET(Estructura!J117,0,($J$1-1)*8)","v":"-"}]
[null,"Turbina de gas",{"$f":"OFFSET(Estructura!C118,0,($J$1-1)*8)","v":9.3000000000000007},{"$f":"OFFSET(Estructura!D118,0,($J$1-1)*8)","v":7.6},{"$f":"OFFSET(Estructura!E118,0,($J$1-1)*8)","v":5.0999999999999996},{"$f":"OFFSET(Estructura!F118,0,($J$1-1)*8)","v":3.8},{"$f":"OFFSET(Estructura!G118,0,($J$1-1)*8)","v":3.9},{"$f":"OFFSET(Estructura!H118,0,($J$1-1)*8)","v":"-"},{"$f":"OFFSET(Estructura!I118,0,($J$1-1)*8)","v":"-"},{"$f":"OFFSET(Estructura!J118,0,($J$1-1)*8)","v":"-"}]
[null,"Turbina de vapor",{"$f":"OFFSET(Estructura!C119,0,($J$1-1)*8)","v":38.9},{"$f":"OFFSET(Estructura!D119,0,($J$1-1)*8)","v":35.9},{"$f":"OFFSET(Estructura!E119,0,($J$1-1)*8)","v":36.6},{"$f":"OFFSET(Estructura!F119,0,($J$1-1)*8)","v":35.6},{"$f":"OFFSET(Estructura!G119,0,($J$1-1)*8)","v":33.4},{"$f":"OFFSET(Estructura!H119,0,($J$1-1)*8)","v":"-"},{"$f":"OFFSET(Estructura!I119,0,($J$1-1)*8)","v":"-"},{"$f":"OFFSET(Estructura!J119,0,($J$1-1)*8)","v":"-"}]
[null,"Ciclo combinado (2)",{"$f":"OFFSET(Estructura!C120,0,($J$1-1)*8)","v":22.799999999999997},{"$f":"OFFSET(Estructura!D120,0,($J$1-1)*8)","v":26.5},{"$f":"OFFSET(Estructura!E120,0,($J$1-1)*8)","v":27.599999999999994},{"$f":"OFFSET(Estructura!F120,0,($J$1-1)*8)","v":28},{"$f":"OFFSET(Estructura!G120,0,($J$1-1)*8)","v":30.5},{"$f":"OFFSET(Estructura!H120,0,($J$1-1)*8)","v":"-"},{"$f":"OFFSET(Estructura!I120,0,($J$1-1)*8)","v":"-"},{"$f":"OFFSET(Estructura!J120,0,($J$1-1)*8)","v":"-"}]
[null,"Generación auxiliar (3)",{"$f":"OFFSET(Estructura!C121,0,($J$1-1)*8)","v":"-"},{"$f":"OFFSET(Estructura!D121,0,($J$1-1)*8)","v":1.4},{"$f":"OFFSET(Estructura!E121,0,($J$1-1)*8)","v":1},{"$f":"OFFSET(Estructura!F121,0,($J$1-1)*8)","v":0.4},{"$f":"OFFSET(Estructura!G121,0,($J$1-1)*8)","v":"-"},{"$f":"OFFSET(Estructura!H121,0,($J$1-1)*8)","v":"-"},{"$f":"OFFSET(Estructura!I121,0,($J$1-1)*8)","v":"-"},{"$f":"OFFSET(Estructura!J121,0,($J$1-1)*8)","v":"-"}]
[null,"Hidroeólica",{"$f":"OFFSET(Estructura!C122,0,($J$1-1)*8)","v":"-"},{"$f":"OFFSET(Estructura!D122,0,($J$1-1)*8)","v":"-"},{"$f":"OFFSET(Estructura!E122,0,($J$1-1)*8)","v":"-"},{"$f":"OFFSET(Estructura!F122,0,($J$1-1)*8)","v":"-"},{"$f":"OFFSET(Estructura!G122,0,($J$1-1)*8)","v":"-"},{"$f":"OFFSET(Estructura!H122,0,($J$1-1)*8)","v":"-"},{"$f":"OFFSET(Estructura!I122,0,($J$1-1)*8)","v":"-"},{"$f":"OFFSET(Estructura!J122,0,($J$1-1)*8)","v":"-"}]
[null,"Eólica",{"$f":"OFFSET(Estructura!C123,0,($J$1-1)*8)","v":3.7},{"$f":"OFFSET(Estructura!D123,0,($J$1-1)*8)","v":3.9},{"$f":"OFFSET(Estructura!E123,0,($J$1-1)*8)","v":4.2},{"$f":"OFFSET(Estructura!F123,0,($J$1-1)*8)","v":3.9},{"$f":"OFFSET(Estructura!G123,0,($J$1-1)*8)","v":3.7},{"$f":"OFFSET(Estructura!H123,0,($J$1-1)*8)","v":"-"},{"$f":"OFFSET(Estructura!I123,0,($J$1-1)*8)","v":"-"},{"$f":"OFFSET(Estructura!J123,0,($J$1-1)*8)","v":"-"}]
[null,"Solar fotovoltaica",{"$f":"OFFSET(Estructura!C124,0,($J$1-1)*8)","v":0},{"$f":"OFFSET(Estructura!D124,0,($J$1-1)*8)","v":0.2},{"$f":"OFFSET(Estructura!E124,0,($J$1-1)*8)","v":0.7},{"$f":"OFFSET(Estructura!F124,0,($J$1-1)*8)","v":1.8},{"$f":"OFFSET(Estructura!G124,0,($J$1-1)*8)","v":2.2000000000000002},{"$f":"OFFSET(Estructura!H124,0,($J$1-1)*8)","v":"-"},{"$f":"OFFSET(Estructura!I124,0,($J$1-1)*8)","v":"-"},{"$f":"OFFSET(Estructura!J124,0,($J$1-1)*8)","v":"-"}]
[null,"Térmica renovable/Otras renovables (4)",{"$f":"OFFSET(Estructura!C125,0,($J$1-1)*8)","v":2.5},{"$f":"OFFSET(Estructura!D125,0,($J$1-1)*8)","v":2.2999999999999998},{"$f":"OFFSET(Estructura!E125,0,($J$1-1)*8)","v":2.2999999999999998},{"$f":"OFFSET(Estructura!F125,0,($J$1-1)*8)","v":3},{"$f":"OFFSET(Estructura!G125,0,($J$1-1)*8)","v":1.8},{"$f":"OFFSET(Estructura!H125,0,($J$1-1)*8)","v":"-"},{"$f":"OFFSET(Estructura!I125,0,($J$1-1)*8)","v":"-"},{"$f":"OFFSET(Estructura!J125,0,($J$1-1)*8)","v":"-"}]
[null,"Cogeneración y resto/Cogeneración",{"$f":"OFFSET(Estructura!C126,0,($J$1-1)*8)","v":0},{"$f":"OFFSET(Estructura!D126,0,($J$1-1)*8)","v":"-"},{"$f":"OFFSET(Estructura!E126,0,($J$1-1)*8)","v":"-"},{"$f":"OFFSET(Estructura!F126,0,($J$1-1)*8)","v":0},{"$f":"OFFSET(Estructura!G126,0,($J$1-1)*8)","v":"-"},{"$f":"OFFSET(Estructura!H126,0,($J$1-1)*8)","v":"-"},{"$f":"OFFSET(Estructura!I126,0,($J$1-1)*8)","v":"-"},{"$f":"OFFSET(Estructura!J126,0,($J$1-1)*8)","v":"-"}]
[null,"Generación renovable (5)",{"$f":"OFFSET(Estructura!C127,0,($J$1-1)*8)","v":6.2},{"$f":"OFFSET(Estructura!D127,0,($J$1-1)*8)","v":6.3999999999999995},{"$f":"OFFSET(Estructura!E127,0,($J$1-1)*8)","v":7.2},{"$f":"OFFSET(Estructura!F127,0,($J$1-1)*8)","v":8.6999999999999993},{"$f":"OFFSET(Estructura!G127,0,($J$1-1)*8)","v":7.7},{"$f":"OFFSET(Estructura!H127,0,($J$1-1)*8)","v":"-"},{"$f":"OFFSET(Estructura!I127,0,($J$1-1)*8)","v":"-"},{"$f":"OFFSET(Estructura!J127,0,($J$1-1)*8)","v":"-"}]
[null,"Generación no renovable",{"$f":"OFFSET(Estructura!C128,0,($J$1-1)*8)","v":93.8},{"$f":"OFFSET(Estructura!D128,0,($J$1-1)*8)","v":93.6},{"$f":"OFFSET(Estructura!E128,0,($J$1-1)*8)","v":92.8},{"$f":"OFFSET(Estructura!F128,0,($J$1-1)*8)","v":91.300000000000011},{"$f":"OFFSET(Estructura!G128,0,($J$1-1)*8)","v":92.3},{"$f":"OFFSET(Estructura!H128,0,($J$1-1)*8)","v":"-"},{"$f":"OFFSET(Estructura!I128,0,($J$1-1)*8)","v":"-"},{"$f":"OFFSET(Estructura!J128,0,($J$1-1)*8)","v":"-"}]
[null,"(1) Asignación de unidades de producción según combustible principal."]
[null,"(2) Utiliza gasoil como combustible principal. Incluye funcionamiento en ciclo abierto."]
[null,"(3) Grupos de emergencia que se instalan de forma transitoria en determinadas zonas para cubrir un déficit de generación."]
[null,"(4) Otras renovables incluyen biogás y biomasa."]
[null,"(5) Incluye hidráulica, hidroeólica, eólica, solar fotovoltaica y térmica renovable/otras renovables."]
[null,{"$f":"IF(J1<2,\"\",IF(MONTH(FACT)=1,\"\",CONCATENATE(\"    Para el año \",YEAR(FACT),\" valores acumulados hasta \",TEXT(FACT-30,\"mmmm\"),\" de \",YEAR(FACT),\".\")))","v":""}]

{"sheet":"Estructura mensual Ceuta","index":9,"n_rows":14,"n_cols":15,"rows_kept":14,"cut":false,"hidden":false,"merged":[[5,2,5,9],[13,1,13,14]]}
[null,null,null,null,null,null,null,null,null,null,null,null,null,null,4]
[]
[]
[null,null,null,null,null,null,null,null,null,null,null,null,"Sistema eléctrico"]
[null,null,null,null,null,null,null,null,null,null,null,null,"Horizonte temporal"]
[null,null,null,null,null,null,null,null,null,null,null,null,"Periodo"]
[]
[null,null,"Ene.","Feb.","Mar.","Abr.","May.","Jun.","Jul.","Ago.","Sep.","Oct.","Nov.","Dic.",{"$f":"OFFSET(Año!B19,($O$1-1),0)","v":2010}]
[]
[null,"Motores diesel",{"$f":"OFFSET(Estructura!C50,0,($O$1-1)*12)","v":89.2},{"$f":"OFFSET(Estructura!D50,0,($O$1-1)*12)","v":96.8},{"$f":"OFFSET(Estructura!E50,0,($O$1-1)*12)","v":100},{"$f":"OFFSET(Estructura!F50,0,($O$1-1)*12)","v":99.1},{"$f":"OFFSET(Estructura!G50,0,($O$1-1)*12)","v":99.3},{"$f":"OFFSET(Estructura!H50,0,($O$1-1)*12)","v":100},{"$f":"OFFSET(Estructura!I50,0,($O$1-1)*12)","v":100},{"$f":"OFFSET(Estructura!J50,0,($O$1-1)*12)","v":100},{"$f":"OFFSET(Estructura!K50,0,($O$1-1)*12)","v":100},{"$f":"OFFSET(Estructura!L50,0,($O$1-1)*12)","v":100},{"$f":"OFFSET(Estructura!M50,0,($O$1-1)*12)","v":100},{"$f":"OFFSET(Estructura!N50,0,($O$1-1)*12)","v":100},{"$f":"OFFSET(Estructura!C131,0,($O$1-1))","v":98.7}]
[null,"Turbina de gas",{"$f":"OFFSET(Estructura!C51,0,($O$1-1)*12)","v":10.8},{"$f":"OFFSET(Estructura!D51,0,($O$1-1)*12)","v":3.2},{"$f":"OFFSET(Estructura!E51,0,($O$1-1)*12)","v":"-"},{"$f":"OFFSET(Estructura!F51,0,($O$1-1)*12)","v":0.9},{"$f":"OFFSET(Estructura!G51,0,($O$1-1)*12)","v":0.7},{"$f":"OFFSET(Estructura!H51,0,($O$1-1)*12)","v":"-"},{"$f":"OFFSET(Estructura!I51,0,($O$1-1)*12)","v":"-"},{"$f":"OFFSET(Estructura!J51,0,($O$1-1)*12)","v":"-"},{"$f":"OFFSET(Estructura!K51,0,($O$1-1)*12)","v":"-"},{"$f":"OFFSET(Estructura!L51,0,($O$1-1)*12)","v":"-"},{"$f":"OFFSET(Estructura!M51,0,($O$1-1)*12)","v":"-"},{"$f":"OFFSET(Estructura!N51,0,($O$1-1)*12)","v":0},{"$f":"OFFSET(Estructura!C132,0,($O$1-1))","v":1.3}]
[null,"Generación renovable",{"$f":"OFFSET(Estructura!C52,0,($O$1-1)*12)","v":"-"},{"$f":"OFFSET(Estructura!D52,0,($O$1-1)*12)","v":"-"},{"$f":"OFFSET(Estructura!E52,0,($O$1-1)*12)","v":"-"},{"$f":"OFFSET(Estructura!F52,0,($O$1-1)*12)","v":"-"},{"$f":"OFFSET(Estructura!G52,0,($O$1-1)*12)","v":"-"},{"$f":"OFFSET(Estructura!H52,0,($O$1-1)*12)","v":"-"},{"$f":"OFFSET(Estructura!I52,0,($O$1-1)*12)","v":"-"},{"$f":"OFFSET(Estructura!J52,0,($O$1-1)*12)","v":"-"},{"$f":"OFFSET(Estructura!K52,0,($O$1-1)*12)","v":"-"},{"$f":"OFFSET(Estructura!L52,0,($O$1-1)*12)","v":"-"},{"$f":"OFFSET(Estructura!M52,0,($O$1-1)*12)","v":"-"},{"$f":"OFFSET(Estructura!N52,0,($O$1-1)*12)","v":"-"},{"$f":"OFFSET(Estructura!C133,0,($O$1-1))","v":"-"}]
[null,"Generación no renovable",{"$f":"OFFSET(Estructura!C53,0,($O$1-1)*12)","v":100},{"$f":"OFFSET(Estructura!D53,0,($O$1-1)*12)","v":100},{"$f":"OFFSET(Estructura!E53,0,($O$1-1)*12)","v":100},{"$f":"OFFSET(Estructura!F53,0,($O$1-1)*12)","v":100},{"$f":"OFFSET(Estructura!G53,0,($O$1-1)*12)","v":100},{"$f":"OFFSET(Estructura!H53,0,($O$1-1)*12)","v":100},{"$f":"OFFSET(Estructura!I53,0,($O$1-1)*12)","v":100},{"$f":"OFFSET(Estructura!J53,0,($O$1-1)*12)","v":100},{"$f":"OFFSET(Estructura!K53,0,($O$1-1)*12)","v":100},{"$f":"OFFSET(Estructura!L53,0,($O$1-1)*12)","v":100},{"$f":"OFFSET(Estructura!M53,0,($O$1-1)*12)","v":100},{"$f":"OFFSET(Estructura!N53,0,($O$1-1)*12)","v":100},{"$f":"OFFSET(Estructura!C134,0,($O$1-1))","v":100}]
[null,"(1) Asignación de unidades de producción según combustible principal."]

{"sheet":"Estructura anual Ceuta","index":10,"n_rows":15,"n_cols":9,"rows_kept":15,"cut":false,"hidden":false,"merged":[[13,1,13,8],[14,1,14,8]]}
[null,null,null,null,null,null,null,null,1]
[]
[]
[null,null,null,null,null,null,"Sistema eléctrico"]
[null,null,null,null,null,null,"Horizonte temporal"]
[null,null,null,null,null,null,"Periodo"]
[]
[null,null,{"$f":"OFFSET(Estructura!C136,0,($I$1-1)*7)","v":2007},{"$f":"OFFSET(Estructura!D136,0,($I$1-1)*7)","v":2008},{"$f":"OFFSET(Estructura!E136,0,($I$1-1)*7)","v":2009},{"$f":"OFFSET(Estructura!F136,0,($I$1-1)*7)","v":2010},{"$f":"OFFSET(Estructura!G136,0,($I$1-1)*7)","v":2011},{"$f":"OFFSET(Estructura!H136,0,($I$1-1)*7)","v":2012},{"$f":"OFFSET(Estructura!I136,0,($I$1-1)*7)","v":2013}]
[]
[null,"Motores diesel",{"$f":"OFFSET(Estructura!C131,0,($I$1-1)*7)","v":100},{"$f":"OFFSET(Estructura!D131,0,($I$1-1)*7)","v":100},{"$f":"OFFSET(Estructura!E131,0,($I$1-1)*7)","v":98.5},{"$f":"OFFSET(Estructura!F131,0,($I$1-1)*7)","v":98.7},{"$f":"OFFSET(Estructura!G131,0,($I$1-1)*7)","v":"-"},{"$f":"OFFSET(Estructura!H131,0,($I$1-1)*7)","v":"-"},{"$f":"OFFSET(Estructura!I131,0,($I$1-1)*7)","v":"-"}]
[null,"Turbina de gas",{"$f":"OFFSET(Estructura!C132,0,($I$1-1)*7)","v":"-"},{"$f":"OFFSET(Estructura!D132,0,($I$1-1)*7)","v":"-"},{"$f":"OFFSET(Estructura!E132,0,($I$1-1)*7)","v":1.5},{"$f":"OFFSET(Estructura!F132,0,($I$1-1)*7)","v":1.3},{"$f":"OFFSET(Estructura!G132,0,($I$1-1)*7)","v":"-"},{"$f":"OFFSET(Estructura!H132,0,($I$1-1)*7)","v":"-"},{"$f":"OFFSET(Estructura!I132,0,($I$1-1)*7)","v":"-"}]
[null,"Generación renovable",{"$f":"OFFSET(Estructura!C133,0,($I$1-1)*7)","v":"-"},{"$f":"OFFSET(Estructura!D133,0,($I$1-1)*7)","v":"-"},{"$f":"OFFSET(Estructura!E133,0,($I$1-1)*7)","v":"-"},{"$f":"OFFSET(Estructura!F133,0,($I$1-1)*7)","v":"-"},{"$f":"OFFSET(Estructura!G133,0,($I$1-1)*7)","v":"-"},{"$f":"OFFSET(Estructura!H133,0,($I$1-1)*7)","v":"-"},{"$f":"OFFSET(Estructura!I133,0,($I$1-1)*7)","v":"-"}]
[null,"Generación no renovable",{"$f":"OFFSET(Estructura!C134,0,($I$1-1)*7)","v":100},{"$f":"OFFSET(Estructura!D134,0,($I$1-1)*7)","v":100},{"$f":"OFFSET(Estructura!E134,0,($I$1-1)*7)","v":100},{"$f":"OFFSET(Estructura!F134,0,($I$1-1)*7)","v":100},{"$f":"OFFSET(Estructura!G134,0,($I$1-1)*7)","v":"-"},{"$f":"OFFSET(Estructura!H134,0,($I$1-1)*7)","v":"-"},{"$f":"OFFSET(Estructura!I134,0,($I$1-1)*7)","v":"-"}]
[null,"(1) Asignación de unidades de producción según combustible principal."]
[null,{"$f":"IF(I1<21,\"\",IF(MONTH(FACT)=1,\"\",CONCATENATE(\"    Para el año \",YEAR(FACT),\" valores acumulados hasta \",TEXT(FACT-30,\"mmmm\"),\" de \",YEAR(FACT),\".\")))","v":""}]

{"sheet":"Estructura mensual Melilla","index":11,"n_rows":19,"n_cols":15,"rows_kept":19,"cut":false,"hidden":false,"merged":[[5,2,5,9],[17,1,17,14],[18,1,18,14]]}
[null,null,null,null,null,null,null,null,null,null,null,null,null,null,4]
[]
[]
[null,null,null,null,null,null,null,null,null,null,null,null,"Sistema eléctrico"]
[null,null,null,null,null,null,null,null,null,null,null,null,"Horizonte temporal"]
[null,null,null,null,null,null,null,null,null,null,null,null,"Periodo"]
[]
[null,null,"Ene.","Feb.","Mar.","Abr.","May.","Jun.","Jul.","Ago.","Sep.","Oct.","Nov.","Dic.",{"$f":"OFFSET(Año!B19,($O$1-1),0)","v":2010}]
[]
[null,"Motores diesel",{"$f":"OFFSET(Estructura!C56,0,($O$1-1)*12)","v":95.9},{"$f":"OFFSET(Estructura!D56,0,($O$1-1)*12)","v":96.1},{"$f":"OFFSET(Estructura!E56,0,($O$1-1)*12)","v":95.5},{"$f":"OFFSET(Estructura!F56,0,($O$1-1)*12)","v":94.7},{"$f":"OFFSET(Estructura!G56,0,($O$1-1)*12)","v":94.2},{"$f":"OFFSET(Estructura!H56,0,($O$1-1)*12)","v":95.5},{"$f":"OFFSET(Estructura!I56,0,($O$1-1)*12)","v":95.6},{"$f":"OFFSET(Estructura!J56,0,($O$1-1)*12)","v":96.1},{"$f":"OFFSET(Estructura!K56,0,($O$1-1)*12)","v":95},{"$f":"OFFSET(Estructura!L56,0,($O$1-1)*12)","v":97},{"$f":"OFFSET(Estructura!M56,0,($O$1-1)*12)","v":99.7},{"$f":"OFFSET(Estructura!N56,0,($O$1-1)*12)","v":96.8},{"$f":"OFFSET(Estructura!C137,0,($O$1-1))","v":96}]
[null,"Turbina de gas",{"$f":"OFFSET(Estructura!C57,0,($O$1-1)*12)","v":0.1},{"$f":"OFFSET(Estructura!D57,0,($O$1-1)*12)","v":0.1},{"$f":"OFFSET(Estructura!E57,0,($O$1-1)*12)","v":0},{"$f":"OFFSET(Estructura!F57,0,($O$1-1)*12)","v":0.2},{"$f":"OFFSET(Estructura!G57,0,($O$1-1)*12)","v":0.2},{"$f":"OFFSET(Estructura!H57,0,($O$1-1)*12)","v":0.5},{"$f":"OFFSET(Estructura!I57,0,($O$1-1)*12)","v":0.5},{"$f":"OFFSET(Estructura!J57,0,($O$1-1)*12)","v":0.2},{"$f":"OFFSET(Estructura!K57,0,($O$1-1)*12)","v":0.2},{"$f":"OFFSET(Estructura!L57,0,($O$1-1)*12)","v":0.2},{"$f":"OFFSET(Estructura!M57,0,($O$1-1)*12)","v":0.3},{"$f":"OFFSET(Estructura!N57,0,($O$1-1)*12)","v":0.2},{"$f":"OFFSET(Estructura!C138,0,($O$1-1))","v":0.2}]
[null,"Solar fotovoltaica",{"$f":"OFFSET(Estructura!C58,0,($O$1-1)*12)","v":0},{"$f":"OFFSET(Estructura!D58,0,($O$1-1)*12)","v":0},{"$f":"OFFSET(Estructura!E58,0,($O$1-1)*12)","v":0},{"$f":"OFFSET(Estructura!F58,0,($O$1-1)*12)","v":0},{"$f":"OFFSET(Estructura!G58,0,($O$1-1)*12)","v":0.1},{"$f":"OFFSET(Estructura!H58,0,($O$1-1)*12)","v":0},{"$f":"OFFSET(Estructura!I58,0,($O$1-1)*12)","v":0},{"$f":"OFFSET(Estructura!J58,0,($O$1-1)*12)","v":0},{"$f":"OFFSET(Estructura!K58,0,($O$1-1)*12)","v":0},{"$f":"OFFSET(Estructura!L58,0,($O$1-1)*12)","v":0},{"$f":"OFFSET(Estructura!M58,0,($O$1-1)*12)","v":0},{"$f":"OFFSET(Estructura!N58,0,($O$1-1)*12)","v":0},{"$f":"OFFSET(Estructura!C139,0,($O$1-1))","v":0}]
[null,"Cogeneración y resto/Cogeneración",{"$f":"OFFSET(Estructura!C59,0,($O$1-1)*12)","v":4},{"$f":"OFFSET(Estructura!D59,0,($O$1-1)*12)","v":3.8},{"$f":"OFFSET(Estructura!E59,0,($O$1-1)*12)","v":4.5},{"$f":"OFFSET(Estructura!F59,0,($O$1-1)*12)","v":5.0999999999999996},{"$f":"OFFSET(Estructura!G59,0,($O$1-1)*12)","v":5.5},{"$f":"OFFSET(Estructura!H59,0,($O$1-1)*12)","v":4},{"$f":"OFFSET(Estructura!I59,0,($O$1-1)*12)","v":3.9},{"$f":"OFFSET(Estructura!J59,0,($O$1-1)*12)","v":3.7},{"$f":"OFFSET(Estructura!K59,0,($O$1-1)*12)","v":4.8},{"$f":"OFFSET(Estructura!L59,0,($O$1-1)*12)","v":2.8},{"$f":"OFFSET(Estructura!M59,0,($O$1-1)*12)","v":"-"},{"$f":"OFFSET(Estructura!N59,0,($O$1-1)*12)","v":3},{"$f":"OFFSET(Estructura!C140,0,($O$1-1))","v":3.8}]
[null,"Residuos no renovables",{"$f":"OFFSET(Estructura!C60,0,($O$1-1)*12)","v":"-"},{"$f":"OFFSET(Estructura!D60,0,($O$1-1)*12)","v":"-"},{"$f":"OFFSET(Estructura!E60,0,($O$1-1)*12)","v":"-"},{"$f":"OFFSET(Estructura!F60,0,($O$1-1)*12)","v":"-"},{"$f":"OFFSET(Estructura!G60,0,($O$1-1)*12)","v":"-"},{"$f":"OFFSET(Estructura!H60,0,($O$1-1)*12)","v":"-"},{"$f":"OFFSET(Estructura!I60,0,($O$1-1)*12)","v":"-"},{"$f":"OFFSET(Estructura!J60,0,($O$1-1)*12)","v":"-"},{"$f":"OFFSET(Estructura!K60,0,($O$1-1)*12)","v":"-"},{"$f":"OFFSET(Estructura!L60,0,($O$1-1)*12)","v":"-"},{"$f":"OFFSET(Estructura!M60,0,($O$1-1)*12)","v":"-"},{"$f":"OFFSET(Estructura!N60,0,($O$1-1)*12)","v":"-"},{"$f":"OFFSET(Estructura!C141,0,($O$1-1))","v":"-"}]
[null,"Residuos renovables",{"$f":"OFFSET(Estructura!C61,0,($O$1-1)*12)","v":"-"},{"$f":"OFFSET(Estructura!D61,0,($O$1-1)*12)","v":"-"},{"$f":"OFFSET(Estructura!E61,0,($O$1-1)*12)","v":"-"},{"$f":"OFFSET(Estructura!F61,0,($O$1-1)*12)","v":"-"},{"$f":"OFFSET(Estructura!G61,0,($O$1-1)*12)","v":"-"},{"$f":"OFFSET(Estructura!H61,0,($O$1-1)*12)","v":"-"},{"$f":"OFFSET(Estructura!I61,0,($O$1-1)*12)","v":"-"},{"$f":"OFFSET(Estructura!J61,0,($O$1-1)*12)","v":"-"},{"$f":"OFFSET(Estructura!K61,0,($O$1-1)*12)","v":"-"},{"$f":"OFFSET(Estructura!L61,0,($O$1-1)*12)","v":"-"},{"$f":"OFFSET(Estructura!M61,0,($O$1-1)*12)","v":"-"},{"$f":"OFFSET(Estructura!N61,0,($O$1-1)*12)","v":"-"},{"$f":"OFFSET(Estructura!C142,0,($O$1-1))","v":"-"}]
[null,"Generación renovable (2)",{"$f":"OFFSET(Estructura!C62,0,($O$1-1)*12)","v":0},{"$f":"OFFSET(Estructura!D62,0,($O$1-1)*12)","v":0},{"$f":"OFFSET(Estructura!E62,0,($O$1-1)*12)","v":0},{"$f":"OFFSET(Estructura!F62,0,($O$1-1)*12)","v":0},{"$f":"OFFSET(Estructura!G62,0,($O$1-1)*12)","v":0.1},{"$f":"OFFSET(Estructura!H62,0,($O$1-1)*12)","v":0},{"$f":"OFFSET(Estructura!I62,0,($O$1-1)*12)","v":0},{"$f":"OFFSET(Estructura!J62,0,($O$1-1)*12)","v":0},{"$f":"OFFSET(Estructura!K62,0,($O$1-1)*12)","v":0},{"$f":"OFFSET(Estructura!L62,0,($O$1-1)*12)","v":0},{"$f":"OFFSET(Estructura!M62,0,($O$1-1)*12)","v":0},{"$f":"OFFSET(Estructura!N62,0,($O$1-1)*12)","v":0},{"$f":"OFFSET(Estructura!C143,0,($O$1-1))","v":0}]
[null,"Generación no renovable",{"$f":"OFFSET(Estructura!C63,0,($O$1-1)*12)","v":100},{"$f":"OFFSET(Estructura!D63,0,($O$1-1)*12)","v":99.999999999999986},{"$f":"OFFSET(Estructura!E63,0,($O$1-1)*12)","v":100},{"$f":"OFFSET(Estructura!F63,0,($O$1-1)*12)","v":100},{"$f":"OFFSET(Estructura!G63,0,($O$1-1)*12)","v":99.9},{"$f":"OFFSET(Estructura!H63,0,($O$1-1)*12)","v":100},{"$f":"OFFSET(Estructura!I63,0,($O$1-1)*12)","v":100},{"$f":"OFFSET(Estructura!J63,0,($O$1-1)*12)","v":100},{"$f":"OFFSET(Estructura!K63,0,($O$1-1)*12)","v":100},{"$f":"OFFSET(Estructura!L63,0,($O$1-1)*12)","v":100},{"$f":"OFFSET(Estructura!M63,0,($O$1-1)*12)","v":100},{"$f":"OFFSET(Estructura!N63,0,($O$1-1)*12)","v":100},{"$f":"OFFSET(Estructura!C144,0,($O$1-1))","v":100}]
[null,"(1) Asignación de unidades de producción según combustible principal."]
[null,"(2) Incluye solar fotovoltaica y residuos renovables."]

{"sheet":"Estructura anual Melilla","index":12,"n_rows":20,"n_cols":9,"rows_kept":20,"cut":false,"hidden":false,"merged":[[17,1,17,8],[19,1,19,8],[18,1,18,14]]}
[null,null,null,null,null,null,null,null,1]
[]
[]
[null,null,null,null,null,null,"Sistema eléctrico"]
[null,null,null,null,null,null,"Horizonte temporal"]
[null,null,null,null,null,null,"Periodo"]
[]
[null,null,{"$f":"OFFSET(Estructura!C136,0,($I$1-1)*7)","v":2007},{"$f":"OFFSET(Estructura!D136,0,($I$1-1)*7)","v":2008},{"$f":"OFFSET(Estructura!E136,0,($I$1-1)*7)","v":2009},{"$f":"OFFSET(Estructura!F136,0,($I$1-1)*7)","v":2010},{"$f":"OFFSET(Estructura!G136,0,($I$1-1)*7)","v":2011},{"$f":"OFFSET(Estructura!H136,0,($I$1-1)*7)","v":2012},{"$f":"OFFSET(Estructura!I136,0,($I$1-1)*7)","v":2013}]
[]
[null,"Motores diesel",{"$f":"OFFSET(Estructura!C137,0,($I$1-1)*7)","v":94.3},{"$f":"OFFSET(Estructura!D137,0,($I$1-1)*7)","v":96.1},{"$f":"OFFSET(Estructura!E137,0,($I$1-1)*7)","v":95.8},{"$f":"OFFSET(Estructura!F137,0,($I$1-1)*7)","v":96},{"$f":"OFFSET(Estructura!G137,0,($I$1-1)*7)","v":"-"},{"$f":"OFFSET(Estructura!H137,0,($I$1-1)*7)","v":"-"},{"$f":"OFFSET(Estructura!I137,0,($I$1-1)*7)","v":"-"}]
[null,"Turbina de gas",{"$f":"OFFSET(Estructura!C138,0,($I$1-1)*7)","v":1.2},{"$f":"OFFSET(Estructura!D138,0,($I$1-1)*7)","v":1.5},{"$f":"OFFSET(Estructura!E138,0,($I$1-1)*7)","v":0.3},{"$f":"OFFSET(Estructura!F138,0,($I$1-1)*7)","v":0.2},{"$f":"OFFSET(Estructura!G138,0,($I$1-1)*7)","v":"-"},{"$f":"OFFSET(Estructura!H138,0,($I$1-1)*7)","v":"-"},{"$f":"OFFSET(Estructura!I138,0,($I$1-1)*7)","v":"-"}]
[null,"Solar fotovoltaica",{"$f":"OFFSET(Estructura!C139,0,($I$1-1)*7)","v":"-"},{"$f":"OFFSET(Estructura!D139,0,($I$1-1)*7)","v":0},{"$f":"OFFSET(Estructura!E139,0,($I$1-1)*7)","v":0.1},{"$f":"OFFSET(Estructura!F139,0,($I$1-1)*7)","v":0},{"$f":"OFFSET(Estructura!G139,0,($I$1-1)*7)","v":"-"},{"$f":"OFFSET(Estructura!H139,0,($I$1-1)*7)","v":"-"},{"$f":"OFFSET(Estructura!I139,0,($I$1-1)*7)","v":"-"}]
[null,"Cogeneración y resto/Cogeneración",{"$f":"OFFSET(Estructura!C140,0,($I$1-1)*7)","v":4.5},{"$f":"OFFSET(Estructura!D140,0,($I$1-1)*7)","v":2.4},{"$f":"OFFSET(Estructura!E140,0,($I$1-1)*7)","v":3.8},{"$f":"OFFSET(Estructura!F140,0,($I$1-1)*7)","v":3.8},{"$f":"OFFSET(Estructura!G140,0,($I$1-1)*7)","v":"-"},{"$f":"OFFSET(Estructura!H140,0,($I$1-1)*7)","v":"-"},{"$f":"OFFSET(Estructura!I140,0,($I$1-1)*7)","v":"-"}]
[null,"Residuos no renovables",{"$f":"OFFSET(Estructura!C141,0,($I$1-1)*7)","v":"-"},{"$f":"OFFSET(Estructura!D141,0,($I$1-1)*7)","v":"-"},{"$f":"OFFSET(Estructura!E141,0,($I$1-1)*7)","v":"-"},{"$f":"OFFSET(Estructura!F141,0,($I$1-1)*7)","v":"-"},{"$f":"OFFSET(Estructura!G141,0,($I$1-1)*7)","v":"-"},{"$f":"OFFSET(Estructura!H141,0,($I$1-1)*7)","v":"-"},{"$f":"OFFSET(Estructura!I141,0,($I$1-1)*7)","v":"-"}]
[null,"Residuos renovables",{"$f":"OFFSET(Estructura!C142,0,($I$1-1)*7)","v":"-"},{"$f":"OFFSET(Estructura!D142,0,($I$1-1)*7)","v":"-"},{"$f":"OFFSET(Estructura!E142,0,($I$1-1)*7)","v":"-"},{"$f":"OFFSET(Estructura!F142,0,($I$1-1)*7)","v":"-"},{"$f":"OFFSET(Estructura!G142,0,($I$1-1)*7)","v":"-"},{"$f":"OFFSET(Estructura!H142,0,($I$1-1)*7)","v":"-"},{"$f":"OFFSET(Estructura!I142,0,($I$1-1)*7)","v":"-"}]
[null,"Generación renovable (2)",{"$f":"OFFSET(Estructura!C143,0,($I$1-1)*7)","v":0},{"$f":"OFFSET(Estructura!D143,0,($I$1-1)*7)","v":0},{"$f":"OFFSET(Estructura!E143,0,($I$1-1)*7)","v":0.1},{"$f":"OFFSET(Estructura!F143,0,($I$1-1)*7)","v":0},{"$f":"OFFSET(Estructura!G143,0,($I$1-1)*7)","v":"-"},{"$f":"OFFSET(Estructura!H143,0,($I$1-1)*7)","v":"-"},{"$f":"OFFSET(Estructura!I143,0,($I$1-1)*7)","v":"-"}]
[null,"Generación no renovable",{"$f":"OFFSET(Estructura!C144,0,($I$1-1)*7)","v":100},{"$f":"OFFSET(Estructura!D144,0,($I$1-1)*7)","v":100},{"$f":"OFFSET(Estructura!E144,0,($I$1-1)*7)","v":99.899999999999991},{"$f":"OFFSET(Estructura!F144,0,($I$1-1)*7)","v":100},{"$f":"IF(SUM(G10:G11,G13:G14)=0,\"-\",SUM(G10:G11,G13:G14))","v":"-"},"-","-"]
[null,"(1) Asignación de unidades de producción según combustible principal."]
[null,"(2) Incluye solar fotovoltaica y residuos renovables."]
[null,{"$f":"IF(I1<2,\"\",IF(MONTH(FACT)=1,\"\",CONCATENATE(\"    Para el año \",YEAR(FACT),\" valores acumulados hasta \",TEXT(FACT-30,\"mmmm\"),\" de \",YEAR(FACT),\".\")))","v":""}]

{"sheet":"Estructura","index":13,"n_rows":162,"n_cols":254,"rows_kept":162,"cut":false,"hidden":true,"merged":[]}
[]
[null,"Estructura de generación mensual peninsular (%)","1990-01-01","1990-02-01","1990-03-01","1990-04-01","1990-05-01","1990-06-01","1990-07-01","1990-08-01","1990-09-01","1990-10-01","1990-11-01","1990-12-01","1991-01-01","1991-02-01","1991-03-01","1991-04-01","1991-05-01","1991-06-01","1991-07-01","1991-08-01","1991-09-01","1991-10-01","1991-11-01","1991-12-01","1992-01-01","1992-02-01","1992-03-01","1992-04-01","1992-05-01","1992-06-01","1992-07-01","1992-08-01","1992-09-01","1992-10-01","1992-11-01","1992-12-01","1993-01-01","1993-02-01","1993-03-01","1993-04-01","1993-05-01","1993-06-01","1993-07-01","1993-08-01","1993-09-01","1993-10-01","1993-11-01","1993-12-01","1994-01-01","1994-02-01","1994-03-01","1994-04-01","1994-05-01","1994-06-01","1994-07-01","1994-08-01","1994-09-01","1994-10-01","1994-11-01","1994-12-01","1995-01-01","1995-02-01","1995-03-01","1995-04-01","1995-05-01","1995-06-01","1995-07-01","1995-08-01","1995-09-01","1995-10-01","1995-11-01","1995-12-01","1996-01-01","1996-02-01","1996-03-01","1996-04-01","1996-05-01","1996-06-01","1996-07-01","1996-08-01","1996-09-01","1996-10-01","1996-11-01","1996-12-01","1997-01-01","1997-02-01","1997-03-01","1997-04-01","1997-05-01","1997-06-01","1997-07-01","1997-08-01","1997-09-01","1997-10-01","1997-11-01","1997-12-01","1998-01-01","1998-02-01","1998-03-01","1998-04-01","1998-05-01","1998-06-01","1998-07-01","1998-08-01","1998-09-01","1998-10-01","1998-11-01","1998-12-01","1999-01-01","1999-02-01","1999-03-01","1999-04-01","1999-05-01","1999-06-01","1999-07-01","1999-08-01","1999-09-01","1999-10-01","1999-11-01","1999-12-01","2000-01-01","2000-02-01","2000-03-01","2000-04-01","2000-05-01","2000-06-01","2000-07-01","2000-08-01","2000-09-01","2000-10-01","2000-11-01","2000-12-01","2001-01-01","2001-02-01","2001-03-01","2001-04-01","2001-05-01","2001-06-01","2001-07-01","2001-08-01","2001-09-01","2001-10-01","2001-11-01","2001-12-01","2002-01-01","2002-02-01","2002-03-01","2002-04-01","2002-05-01","2002-06-01","2002-07-01","2002-08-01","2002-09-01","2002-10-01","2002-11-01","2002-12-01","2003-01-01","2003-02-01","2003-03-01","2003-04-01","2003-05-01","2003-06-01","2003-07-01","2003-08-01","2003-09-01","2003-10-01","2003-11-01","2003-12-01","2004-01-01","2004-02-01","2004-03-01","2004-04-01","2004-05-01","2004-06-01","2004-07-01","2004-08-01","2004-09-01","2004-10-01","2004-11-01","2004-12-01","2005-01-01","2005-02-01","2005-03-01","2005-04-01","2005-05-01","2005-06-01","2005-07-01","2005-08-01","2005-09-01","2005-10-01","2005-11-01","2005-12-01","2006-01-01","2006-02-01","2006-03-01","2006-04-01","2006-05-01","2006-06-01","2006-07-01","2006-08-01","2006-09-01","2006-10-01","2006-11-01","2006-12-01","2007-01-01","2007-02-01","2007-03-01","2007-04-01","2007-05-01","2007-06-01","2007-07-01","2007-08-01","2007-09-01","2007-10-01","2007-11-01","2007-12-01","2008-01-01","2008-02-01","2008-03-01","2008-04-01","2008-05-01","2008-06-01","2008-07-01","2008-08-01","2008-09-01","2008-10-01","2008-11-01","2008-12-01","2009-01-01","2009-02-01","2009-03-01","2009-04-01","2009-05-01","2009-06-01","2009-07-01","2009-08-01","2009-09-01","2009-10-01","2009-11-01","2009-12-01","2010-01-01","2010-02-01","2010-03-01","2010-04-01","2010-05-01","2010-06-01","2010-07-01","2010-08-01","2010-09-01","2010-10-01","2010-11-01","2010-12-01"]
[null,"Hidráulica",30,31.1,21.3,16.600000000000001,17.399999999999999,16.8,13.8,12,11.1,12.7,16.8,15.2,19.600000000000001,16.600000000000001,32.6,31.1,25.3,19.2,14.4,10.8,9.8000000000000007,13.1,16.3,14.9,9.6999999999999993,6.3,6.4,14,13.3,14.9,13.7,10.6,10.7,15.7,18.8,23.3,16.5,12.7,11.7,10.5,17,19.899999999999999,16,11.4,10.6,23.9,27.9,21.3,28.6,25.7,23.4,20.7,22.7,20.399999999999999,14.4,11.6,10.7,13.3,19.399999999999999,14.5,20.7,22.9,24.7,16.399999999999999,14.4,14.4,12.6,9.1,7.7,8,10,18.3,39.6,40.200000000000003,27.2,32.200000000000003,31.7,23.6,17.600000000000001,13.4,14.8,14,17,30.6,36.6,28.1,20.7,17.7,17,18.2,14.7,13.1,11.9,10.9,24.8,35.200000000000003,39.5,30.2,19.600000000000001,26.2,30.4,25,17.100000000000001,15.1,13,14.3,10.6,8.3000000000000007,8.8000000000000007,9.1999999999999993,13.5,16.3,20.7,17.3,12.5,10.199999999999999,10.3,11.7,17.899999999999999,17.100000000000001,14.4,10.5,9.5,14.7,21.7,14.6,10.5,11.2,11.6,11,14.9,25.8,33.9,34.9,37.799999999999997,29.1,21.1,15.3,11.9,11.6,9.1,10.5,11.5,8.5,6.9,7.1,11,11.3,11.4,11,7.4,6.2,6.1,6.8,11.1,22.5,27.3,23.1,24.7,22.7,20.8,12.5,9.8000000000000007,7.7,9,10.6,17.100000000000001,24.2,18,16.899999999999999,15,15.8,17.5,13.7,9.9,8.9,7.8,8.8000000000000007,11.5,8.5,6.9,7.3,8.4,10.8,11.1,8.6999999999999993,5.9,5.6,4,4.2,6.4,7.3,6.7,5.3,13,14.4,10.3,7,6.3,4.9000000000000004,5.2,7.7,13.9,20.9,9.3000000000000007,13.8,16.899999999999999,13.8,13,10.7,10.5,8.1,6.2,7.5,5.6,4.9000000000000004,5.5,4.0999999999999996,4.5,11.9,15.4,14.2,8.9,6.8,5.9,4.9000000000000004,6.8,10.199999999999999,9,16,13.1,11,12.7,9.9,7.4,6.5,4.5999999999999996,5.8,9.1999999999999993,13.6,20.9,17.7,24.3,22.5,18.2,16.5,11.9,9.1,7,7.2,11.4,16.399999999999999]
[null,"Turbinación bombeo",1.2,0.8,0.1,0.2,0.3,0.1,0.1,0.3,1,1,0.3,0.8,1.4,1.2,1,0.1,0.1,0.3,0.3,0.5,0.7,0.5,1.1000000000000001,1.1000000000000001,1.3,0.8,0.9,1.8,1.2,1.6,1.6,1.8,1.7,1.7,1.1000000000000001,1,0.7,0.7,1.1000000000000001,1.3,1.4,0.8,0.8,1.2,1.2,1.1000000000000001,0.5,0.4,1.6,0.7,0.1,0.2,0.3,0.2,0.6,0.2,1,1.1000000000000001,0.7,0.9,1.2,0.9,0.8,0.8,0.7,0.7,0.9,0.9,1,1,0.9,1.7,3.6,1,0.2,0.2,0.2,0.4,0.4,0.1,0.1,0.2,0.4,0.9,1.1000000000000001,0.2,0.1,0.1,0.4,0.4,0.6,0.9,1,0.7,1.3,1.7,1.3,0.7,0.6,1.1000000000000001,0.9,0.6,0.9,1.6,0.9,0.8,1,1.9,2,1.6,1.1000000000000001,1.1000000000000001,1.1000000000000001,0.8,0.9,1.3,1.6,2.2999999999999998,1.4,1.6,1.4,1.4,1.5,2.4,2.8,1.4,1.4,1.1000000000000001,1.1000000000000001,1.6,1.9,3.1,2,1.3,1.5,0.9,0.9,1.1000000000000001,1.2,1.2,1.6,1.5,1.3,2.1,2.2999999999999998,2.1,1.9,1.9,2.2000000000000002,2.5,2.6,2.4,2.4,2.2000000000000002,2.2000000000000002,2.5,2,1.4,1.4,0.9,1,1.5,1.5,1.7,1.7,1.4,1.2,1.4,1.3,1,1.1000000000000001,1.2,1.4,1.5,1.3,1.4,1.4,1.4,1.2,1.6,1.7,1.4,1.6,1.6,2.2999999999999998,2.1,2.2000000000000002,1.5,1.8,1.7,1.5,1.7,1.7,1.7,1.1000000000000001,1.1000000000000001,1.1000000000000001,1.2,1.5,1.3,1.6,1.8,1.8,1.1000000000000001,1.1000000000000001,1.3,1.2,1,1.3,1.2,1,1.2,1.1000000000000001,1,1.1000000000000001,1.4,1.2,1.2,1.2,0.7,0.7,0.9,0.7,0.6,0.7,0.9,1.2,1.3,1.4,1.3,0.9,0.9,0.9,0.7,0.7,0.8,0.8,0.9,1.3,1.4,2.1,1.7,1.6,1,0.9,0.7,0.6,0.7,0.7,1.1000000000000001,1,1.3]
[null,"Nuclear",39.700000000000003,40.5,36.9,43.1,36.700000000000003,30.6,36.6,46.9,35.799999999999997,33.5,38.200000000000003,39.6,37.799999999999997,35.6,34.6,35.4,39.799999999999997,38.4,37,47.1,37.299999999999997,37.9,34.6,35.6,36.700000000000003,33.799999999999997,31.8,30.7,36.5,40.4,38.9,46.1,35.200000000000003,40.5,35.799999999999997,42.1,39.6,35.200000000000003,37.5,36.799999999999997,35.200000000000003,37.799999999999997,40.299999999999997,44.2,38.5,37.700000000000003,32.700000000000003,38.9,36.299999999999997,32.299999999999997,32.299999999999997,36.1,38.9,33.1,35.799999999999997,43.4,41.2,34.799999999999997,33.200000000000003,39.200000000000003,37.200000000000003,37,34,35.6,39.1,37,32,34.9,31.7,34.799999999999997,34.700000000000003,38.700000000000003,35.5,34,35.9,37.700000000000003,41.4,30,27.7,30.7,31.7,37.299999999999997,34.4,37.9,32.4,34.6,28,30.4,36.799999999999997,34.200000000000003,33,34.200000000000003,30,29.4,29.9,28.4,32.1,36.1,31.7,31.3,34.4,35.299999999999997,34.799999999999997,38.299999999999997,31.5,29.6,30.3,29.7,31.6,26.3,26.4,26,34.299999999999997,30.8,29.3,36.200000000000003,31.2,33.799999999999997,33.1,31.9,30.3,32.9,30.4,29.4,31.5,32.200000000000003,32.200000000000003,31.9,25.3,27.8,30,31.5,29.2,28.5,26.4,30,33.799999999999997,30.3,31,31.7,28.4,27.9,29.2,28.9,28.4,28.3,24.2,25.1,27.3,28.4,29.4,31.6,26.8,30.1,30,29.4,26.5,25.8,25.1,27,26.8,23.6,26.7,27.9,22.3,23.8,27.6,26.7,25.9,25.6,23.4,26.7,25.1,25.4,25.9,27.2,23.8,22.4,24.6,24,24.5,23.1,20.5,19.399999999999999,18.399999999999999,18,17.5,22.5,24.9,23.1,23.7,23.3,22.2,21.8,21.9,18.600000000000001,20.8,22.5,20,24.7,19.899999999999999,21.8,23.7,22.9,21.8,21.9,21.3,20.9,16,14.6,16.399999999999999,18.2,22.1,21.6,16.399999999999999,20.3,21,21.7,22.4,17.600000000000001,21.4,20.399999999999999,18.600000000000001,22.1,20.2,19.2,17.3,20.2,21.6,19.899999999999999,18.5,20.3,18.100000000000001,16.399999999999999,16.899999999999999,23.8,20.5,18.399999999999999,18.100000000000001,16.7,18.100000000000001,20.2,20.399999999999999,23.3,20.8,21.8,22.2,24.2,23.1,24.5,22.2,20]
[null,"Carbón",27.2,26.2,40.4,39.1,43.3,48.7,45.4,38.700000000000003,49.2,49.6,41.7,40.5,38.700000000000003,43.1,29.7,30.8,32.1,38.700000000000003,41.6,38.9,45.4,44.6,43.8,43.6,42,44.2,48.2,46.1,42.1,40.299999999999997,41.1,38,46.4,39,41.9,31.7,40.700000000000003,46.7,45,46.8,43.2,38,40.1,40.299999999999997,45.4,33.799999999999997,35,35.6,29.5,37.299999999999997,39.5,38.1,33.799999999999997,41.6,42.7,40.299999999999997,42.2,45.4,41.7,39.700000000000003,35.9,34.4,34.799999999999997,41.1,39.9,40.9,45.2,48.2,49.5,45,45.4,33.5,16.100000000000001,18.100000000000001,29,21.8,20,38.200000000000003,45.9,47.8,44.7,40.6,39.200000000000003,21.5,21.7,27,39.9,40.4,35,36.200000000000003,38.4,40.1,44.4,44.4,31.8,23.5,18.399999999999999,23.5,37.6,31.4,24.4,29,35.200000000000003,32,40.299999999999997,42.1,41,40,38.700000000000003,39.700000000000003,40.5,40.5,31,36.1,39.6,36.6,42.1,39,33.1,33.799999999999997,36.9,40.5,39.5,35.799999999999997,31.7,36.200000000000003,39.299999999999997,40,41.9,41.5,36.9,24.4,20.5,20.399999999999999,19.2,24.9,29.8,34.700000000000003,36.5,37.4,39.799999999999997,38.799999999999997,36.299999999999997,36.9,35.799999999999997,38,39.5,38.6,36.799999999999997,34,33.9,36.299999999999997,37.4,33.299999999999997,33.700000000000003,23.9,22.6,27.3,28.1,28.5,29.1,32.5,32.9,34.9,35.5,33.9,29,24.1,26.9,29.3,30,26.9,27.7,29.2,30.7,31.9,31.6,31.1,28.9,30.8,30,28.8,28.7,28.3,28.9,27.5,28.2,28.5,28.8,30.1,29,28,28.2,25.8,20.6,18.5,24.6,25.9,27.2,25.2,25,22.6,19.899999999999999,18.3,25,22.4,21,28,27.5,26.7,25.3,27,24.9,23.6,22.9,24.3,19.7,19.5,15.3,13.5,9.9,9.1,15.1,13.5,15.5,18.2,17.5,18.100000000000001,18.2,13.9,13.9,8.9,11,11.4,13.6,8.1,12.6,14.2,9.1,7.8,6.8,6,3.5,3,3.9,6.2,10.1,12.6,13.6,9,7.1,8.4]
[null,"Fuel + Gas",1.6,1,0.9,0.8,1.9,3.5,3.6,1.5,2.2000000000000002,2.6,2.2999999999999998,3.2,1.9,2.7,1.1000000000000001,1.6,1.8,2.5,5.7,1.7,5.7,2.6,3,3.7,9.1999999999999993,13.8,11.3,6.2,5.5,1.4,3.4,2.1,4.5999999999999996,1.6,0.7,0.3,0.7,2.9,2.8,2.4,0.9,1.1000000000000001,0.3,0.8,1.6,0.4,0.6,0.6,0.7,0.7,1,1.1000000000000001,0.2,0.8,3,0.5,0.7,1,0.5,1.3,1.1000000000000001,0.3,1.1000000000000001,1,0.9,2.4,4.5999999999999996,2,4.8,5.4,3.5,2.4,0.1,1.3,1.9,1.2,0.2,1.3,2,1.2,1.9,0.7,1.8,2,1.7,3,3.4,3.7,3.2,3.7,5.7,4.3,5.3,5.9,3.8,3.4,0.5,0.7,1.1000000000000001,0.4,0.3,1.4,3.1,3.7,5,2.7,6.8,10.199999999999999,9.1999999999999993,12.5,7.2,3.9,1.2,3.6,7.1,4.8,3.9,1,2.6,4.0999999999999996,6.2,3.2,6.9,4.8,1.1000000000000001,4.0999999999999996,5.4,4.7,9.1,5.9,4.5,2.8,2.7,2.4,2.2999999999999998,1.1000000000000001,2,6.8,7.7,7.2,7.8,7.6,7.4,11.4,13.7,9.6,8.1999999999999993,8.3000000000000007,6.2,9.1999999999999993,10.199999999999999,5.3,7,4.9000000000000004,2.7,2,2.8,2.6,1.1000000000000001,0.5,1.3,6.5,5.9,5.6,5.0999999999999996,3.4,1.8,2,2,1.7,2.9,0.9,1.6,3.7,5.0999999999999996,3.6,4.8,2.9,2.2999999999999998,3.2,4,5.2,6.4,1.9,2.7,5.5,6.1,2,2.5,1.8,1.9,3.4,3.1,2.8,1.3,1.5,1.1000000000000001,2.4,4.2,1.6,3.5,1.6,0.6,0.5,0.4,1,0.8,0.5,0.8,0.4,1.2,1,1.1000000000000001,0.6,0.8,0.7,0.6,0.5,0.3,0.6,0.7,1.1000000000000001,0.6,1.1000000000000001,0.8,0.9,1,0.8,0.5,0.5,0.9,0.7,0.5,0.7,0.9,0.8,0.7,0.5,0.8,0.7,0.6,0.6,0.1,0.5,0.8,0.8,0.6,0.5,0.6,0.6,0.7,0.6]
[null,"Ciclo combinado","-","-","-","-","-","-","-","-","-","-","-","-","-","-","-","-","-","-","-","-","-","-","-","-","-","-","-","-","-","-","-","-","-","-","-","-",0,"-","-","-","-","-","-","-","-","-","-","-","-","-","-","-","-","-","-","-","-","-","-","-","-","-","-","-","-","-","-","-","-","-","-","-","-","-","-","-","-","-","-","-","-","-","-","-","-","-","-","-","-","-","-","-","-","-","-","-","-","-","-","-","-","-","-","-","-","-","-","-","-","-","-","-","-","-","-","-","-","-","-","-","-","-","-","-","-","-","-","-","-","-","-","-","-","-","-","-","-","-","-","-","-","-","-","-","-","-","-","-",0.7,1.7,2.8,4.5,6.8,6.4,3.4,2.7,2.1,4.4000000000000004,4.0999999999999996,2.2000000000000002,4.5,9.4,9.5,9.4,11,9.4,6.3,4.2,7.3,9.6999999999999993,10.7,9.5,10.5,11.5,12.8,11.8,14.8,14.3,13.4,13.2,14.8,15.9,15.6,16.7,17.8,22.2,23.4,21.9,21.6,20,19.100000000000001,17.5,22.7,24.5,20.3,24.5,23.9,25.5,27.9,23.1,29.2,23.8,19.899999999999999,18,24.7,17.5,16.5,19.5,19.899999999999999,28.5,28,23.6,25.5,26.9,31.8,29.1,31.6,33.799999999999997,28.3,30,32.799999999999997,33.9,36.299999999999997,36.200000000000003,35.1,32,29.2,23.2,23.7,20.399999999999999,23.5,27.1,27.6,35.4,36,36.799999999999997,34.6,30.4,25.2,25.9,21.4,20.7,17.100000000000001,20.8,21.4,25.5,27.9,25.6,28.5,23.8,24.1,20.100000000000001]
[null,"Eólica",0,0,0,0,0,0,0,0,0,0,0,0,0,0,0,0,0,0,0,0,0,0,0,0,0,0,0,0,0,0,0,0,0,0,0,0.1,0.1,0.1,0.1,0.1,0,0.1,0.1,0.1,0,0.1,0.1,0,0.1,0,0.1,0.1,0,0.1,0,0,0,0.1,0.1,0,0.1,0.1,0.1,0.1,0.1,0.1,0.1,0.1,0.1,0.2,0.1,0.1,0.1,0.2,0.2,0.2,0.2,0.2,0.2,0.1,0.2,0.2,0.2,0.3,0.3,0.3,0.3,0.4,0.3,0.3,0.4,0.3,0.3,0.5,0.5,0.5,0.6,0.5,0.7,0.7,0.6,0.5,0.7,0.9,0.7,0.7,0.9,0.9,1,1.4,1.4,1.4,1.2,1.4,1.1000000000000001,1,1.1000000000000001,1.3,2,1.9,1.7,1.9,2.1,2.7,1.5,2.2999999999999998,2.2000000000000002,2,1.7,2.6,3.2,3.5,3.2,3.4,3.7,4.3,2.6,2.4,2.2999999999999998,2.2000000000000002,3.7,3.4,4.3,2.9,3.4,4.5999999999999996,4.5999999999999996,3.7,4.7,3.6,3.7,3.5,2.9,4.9000000000000004,5.9,6.4,6.7,5.2,4.5,6.6,5,3.7,3.6,2.9,4.2,5.7,6.1,6.9,8,5.4,6.1,7.9,5.3,5.2,4.5999999999999996,5.6,5.8,8.1999999999999993,7.3,8.1999999999999993,8.3000000000000007,8.3000000000000007,8.1999999999999993,9.9,7.6,6,7.3,8.1,6.2,9.3000000000000007,9,10.199999999999999,6.4,8.6,12,10.3,8.1,6.4,4.9000000000000004,10.4,6.8,11,10.6,9.3000000000000007,8.8000000000000007,13.2,13.3,6.5,12,8.1999999999999993,8,11.1,9.1999999999999993,8.4,11.5,9.6,10.5,8.5,17.100000000000001,14.6,7.9,9.3000000000000007,8.6999999999999993,8.6999999999999993,9.6,11,14.8,14.9,13.9,14.8,14.5,15.3,13.3,10.8,10.3,10.1,11.5,14.5,21.8,20.8,17.3,20.100000000000001,19,12.6,17,12,11.5,12.9,10.5,17.899999999999999,19,19.100000000000001]
[null,"Solar fotovoltaica",0,0,0,0,0,0,0,0,0,0,0,0,0,0,0,0,0,0,0,0,0,0,0,0,0,0,0,0,0,0,0,0,0,0,0,0,0,0,0,0,0,0,0,0,0,0,0,0,0,0,0,0,0,0,0,0,0,0,0,0,0,0,0,0,0,0,0,0,0,0,0,0,0,0,0,0,0,0,0,0,0,0,0,0,0,0,0,0,0,0,0,0,0,0,0,0,0,0,0,0,0,0,0,0,0,0,0,0,0,0,0,0,0,0,0,0,0,0,0,0,0,0,0,0,0,0,0,0,0,0,0,0,0,0,0,0,0,0,0,0,0,0,0,0,0,0,0,0,0,0,0,0,0,0,0,0,0,0,0,0,0,0,0,0,0,0,0,0,0,0,0,0,0,0,0,0,0,0,0,0,0,0,0,0,0,0,0,0,0,0,0,0,0,0,0,0,0,0,0,0.1,0.1,0,0,0,0,0.1,0.1,0.1,0.2,0.2,0.2,0.2,0.3,0.2,0.2,0.2,0.2,0.3,0.4,0.5,0.6,0.8,1,1.3,1.4,1.4,1.4,1,1,1.7,2.4,2.7,3.2,2.9,2.9,2.9,2.2999999999999998,2.2000000000000002,1.6,1,1,1.3,1.9,2.7,3.2,3.1,3.1,3.1,2.8,2.4,1.6,1.2]
[null,"Solar térmica","-","-","-","-","-","-","-","-","-","-","-","-","-","-","-","-","-","-","-","-","-","-","-","-","-","-","-","-","-","-","-","-","-","-","-","-","-","-","-","-","-","-","-","-","-","-","-","-","-","-","-","-","-","-","-","-","-","-","-","-","-","-","-","-","-","-","-","-","-","-","-","-","-","-","-","-","-","-","-","-","-","-","-","-","-","-","-","-","-","-","-","-","-","-","-","-","-","-","-","-","-","-","-","-","-","-","-","-","-","-","-","-","-","-","-","-","-","-","-","-","-","-","-","-","-","-","-","-","-","-","-","-","-","-","-","-","-","-","-","-","-","-","-","-","-","-","-","-","-","-","-","-","-","-","-","-","-","-","-","-","-","-","-","-","-","-","-","-","-","-","-","-","-","-","-","-","-","-","-","-","-","-","-","-","-","-","-","-","-","-","-","-",0,0,0,0,0,0,0,0,0,0,0,0,0,0,0,0,0,0,0,0,0,0,0,0,0,0,0,0,0,0,0,0,0,0,0,0,0,0,0,0,0,0,0.1,0.1,0.1,0.1,0.1,0,0.1,0.1,0.1,0.2,0.3,0.3,0.4,0.5,0.5,0.3,0.1,0.1]
[null,"Térmica renovable/Otras renovables","-","-","-","-","-","-","-","-","-","-","-","-","-","-","-","-","-","-","-","-","-",0,0,0,0,0,0,0,0,0,0,0,0,0,0,0,0,0,0,0,0,0,0,0,0,0.1,0.1,0,0,0,0.1,0.1,0.2,0.1,0.2,0.3,0.3,0.3,0.5,0.5,0.4,0.5,0.5,0.5,0.5,0.3,0.4,0.5,0.5,0.5,0.4,0.5,0.4,0.4,0.5,0.6,0.5,0.6,0.6,0.6,0.6,0.5,0.4,0.4,0.4,0.4,0.4,0.4,0.4,0.3,0.4,0.4,0.4,0.4,0.4,0.4,0.2,0.4,0.4,0.5,0.5,0.5,0.5,0.5,0.4,0.5,0.5,0.4,0.4,0.5,0.5,0.5,0.5,0.4,0.5,0.5,0.6,0.6,0.5,0.4,0.4,0.5,0.5,0.5,0.4,0.4,0.5,0.5,0.5,0.6,0.6,0.6,0.6,0.6,0.7,0.7,0.7,1,0.9,0.9,1.1000000000000001,1.1000000000000001,1,1,0.5,0.6,0.7,0.7,0.7,0.6,0.7,0.8,0.7,0.7,0.7,0.8,0.6,0.7,0.8,0.8,0.8,0.7,0.7,0.8,0.8,0.9,0.8,0.8,0.8,0.7,0.8,0.8,0.8,0.7,0.7,0.7,0.8,0.8,0.7,0.7,0.8,0.7,0.8,0.8,0.9,0.8,0.8,0.9,0.8,0.8,0.8,0.7,0.7,0.7,0.8,0.9,0.9,0.9,0.8,0.9,0.8,0.9,0.8,0.8,0.8,0.8,0.8,0.9,0.9,0.9,0.9,0.9,0.9,1,0.9,0.9,0.9,0.9,0.9,1,1,1,0.9,1,1,1,1,0.9,1,1.1000000000000001,1.2,1.4,1.2,1.1000000000000001,1,1.1000000000000001,1.2,1.5,1.1000000000000001,1.1000000000000001,1,1,1,1.2,1.3,1.3,1.1000000000000001,1.2,1.2,1.3,1.2,1.2]
[null,"Térmica no renovable/Cogeneración y resto/Cogeneración",0.29999999999999716,0.39999999999999147,0.40000000000000568,0.20000000000000284,0.39999999999999147,0.29999999999999716,0.5,0.59999999999999432,0.70000000000000284,0.59999999999999432,0.70000000000000284,0.70000000000000284,0.59999999999999432,0.79999999999999716,1,1.0000000000000142,0.89999999999999147,0.90000000000000568,0.99999999999998579,0.99999999999998579,1.1000000000000085,1.3000000000000114,1.2000000000000028,1.0999999999999943,1.0999999999999943,1.1000000000000085,1.3999999999999915,1.2000000000000028,1.4000000000000057,1.4000000000000057,1.2999999999999972,1.4000000000000057,1.4000000000000057,1.5,1.7000000000000028,1.5,1.7000000000000028,1.6999999999999886,1.8000000000000114,2.1000000000000085,2.2999999999999829,2.3000000000000114,2.4000000000000199,2.0000000000000142,2.7000000000000171,2.9000000000000057,3.1000000000000227,3.2000000000000171,3.2000000000000028,3.2999999999999972,3.5000000000000142,3.6000000000000227,3.9000000000000057,3.7000000000000028,3.2999999999999972,3.7000000000000028,3.8999999999999915,4.0000000000000142,3.9000000000000057,3.8999999999999915,3.4000000000000057,3.9000000000000199,4.0000000000000142,4.5,4.4000000000000057,4.2000000000000028,4.2000000000000028,4.3000000000000114,4.7000000000000028,5.0999999999999943,5,4.7999999999999972,4.5999999999999943,4.7999999999999829,5.0999999999999943,6.0999999999999943,5.7999999999999972,5.7000000000000028,5.6000000000000085,6.1000000000000085,5.9999999999999858,6.5,6.5999999999999943,6.3999999999999915,5.7999999999999972,6.3999999999999915,7.2000000000000028,6.8999999999999915,6.9000000000000057,6.7000000000000028,6.7999999999999972,6.6999999999999886,6.7000000000000028,7.7999999999999829,7.5,6.8999999999999773,7.3999999999999915,7.8999999999999915,8.2999999999999972,8.3999999999999915,8.5000000000000142,7.6999999999999886,7.7000000000000028,7.8999999999999915,8.2000000000000028,9.2999999999999829,8.8999999999999915,8.5999999999999801,8.2999999999999829,8.7999999999999829,9.3999999999999915,10.299999999999983,10,9.5999999999999943,9,9.3999999999999915,9.2000000000000028,10.300000000000011,9.4000000000000057,9.1999999999999886,8.6999999999999886,9.0999999999999943,9.5999999999999943,9.7000000000000028,9.2999999999999972,8.7999999999999972,8.4999999999999858,8.6000000000000085,8.7999999999999972,9,8.0000000000000142,8.2999999999999972,7.9000000000000057,8.5,8.4000000000000057,9,9.1000000000000085,8.3999999999999915,8.5,7.7999999999999829,8.5000000000000142,9.2000000000000171,9,8.2999999999999829,9,9.7000000000000171,9.9000000000000057,10.399999999999991,9.9999999999999858,9,9.2999999999999972,9.4000000000000057,9.9000000000000057,10.699999999999974,10.299999999999983,9.7999999999999972,9.4000000000000057,9.5,10.200000000000003,10.800000000000011,10.700000000000003,9.5999999999999943,9.3999999999999915,9.1000000000000085,10.400000000000006,10.899999999999991,10.100000000000009,9.6999999999999886,9.8000000000000114,9.6999999999999886,10,10.299999999999997,10.100000000000009,9.0999999999999943,9.0000000000000142,8.9000000000000057,9.2000000000000171,10.099999999999994,10.100000000000009,9.7999999999999829,9.0000000000000142,9.2999999999999972,9.7999999999999972,10.600000000000009,10.299999999999997,9.2000000000000028,8.6000000000000085,9,9.4000000000000057,9,8.6000000000000085,7.9000000000000057,8.2999999999999972,8.7999999999999972,9,10.200000000000003,9.1999999999999886,8.1999999999999886,7.2000000000000028,7.7999999999999972,7.9000000000000057,8.7999999999999829,8.8000000000000114,8.2000000000000028,8.1000000000000085,8,8.1000000000000227,8.7999999999999972,8.3999999999999915,8.5999999999999943,8.4999999999999858,8.7000000000000028,8.6999999999999886,9.1999999999999886,8.7999999999999972,8.5999999999999801,8.7999999999999972,9.5,9.5999999999999943,9.5999999999999943,9.5999999999999943,9.3000000000000114,9.1999999999999886,8.6999999999999886,9.8000000000000114,10.5,9.7999999999999972,9.3999999999999915,9.6999999999999886,10.400000000000006,11.099999999999994,11.699999999999989,11.499999999999986,10.700000000000003,10.200000000000003,9.0000000000000142,11.099999999999994,11.500000000000014,11.700000000000017,11.000000000000014,10.700000000000003,10.600000000000009,11,12.200000000000003,12.200000000000003,11.800000000000011,10.599999999999994,9.5999999999999943,11.5,11.900000000000006,11.600000000000009,11.599999999999994]
[null,"Residuos no renovables","-","-","-","-","-","-","-","-","-","-","-","-","-","-","-","-","-","-","-","-","-","-","-","-","-","-","-","-","-","-","-","-","-","-","-","-","-","-","-","-","-","-","-","-","-","-","-","-","-","-","-","-","-","-","-","-","-","-","-","-","-","-","-","-","-","-","-","-","-","-","-","-","-","-","-","-","-","-","-","-","-","-","-","-","-","-","-","-","-","-","-","-","-","-","-","-","-","-","-","-","-","-","-","-","-","-","-","-","-","-","-","-","-","-","-","-","-","-","-","-","-","-","-","-","-","-","-","-","-","-","-","-","-","-","-","-","-","-","-","-","-","-","-","-","-","-","-","-","-","-","-","-","-","-","-","-","-","-","-","-","-","-","-","-","-","-","-","-","-","-","-","-","-","-","-","-","-","-","-","-","-","-","-","-","-","-","-","-","-","-","-","-","-","-","-","-","-","-","-","-","-","-","-","-","-","-","-","-","-","-","-","-","-","-","-","-","-","-","-","-","-","-","-","-","-","-","-","-","-","-","-","-","-","-","-","-","-","-","-","-","-","-","-","-","-","-","-","-","-","-","-","-"]
[null,"Residuos renovables","-","-","-","-","-","-","-","-","-","-","-","-","-","-","-","-","-","-","-","-","-","-","-","-","-","-","-","-","-","-","-","-","-","-","-","-","-","-","-","-","-","-","-","-","-","-","-","-","-","-","-","-","-","-","-","-","-","-","-","-","-","-","-","-","-","-","-","-","-","-","-","-","-","-","-","-","-","-","-","-","-","-","-","-","-","-","-","-","-","-","-","-","-","-","-","-","-","-","-","-","-","-","-","-","-","-","-","-","-","-","-","-","-","-","-","-","-","-","-","-","-","-","-","-","-","-","-","-","-","-","-","-","-","-","-","-","-","-","-","-","-","-","-","-","-","-","-","-","-","-","-","-","-","-","-","-","-","-","-","-","-","-","-","-","-","-","-","-","-","-","-","-","-","-","-","-","-","-","-","-","-","-","-","-","-","-","-","-","-","-","-","-","-","-","-","-","-","-","-","-","-","-","-","-","-","-","-","-","-","-","-","-","-","-","-","-","-","-","-","-","-","-","-","-","-","-","-","-","-","-","-","-","-","-","-","-","-","-","-","-","-","-","-","-","-","-","-","-","-","-","-","-"]
[null,"Generación renovable",30,31.1,21.3,16.600000000000001,17.399999999999999,16.8,13.8,12,11.1,12.7,16.8,15.2,19.600000000000001,16.600000000000001,32.6,31.1,25.3,19.2,14.4,10.8,9.8000000000000007,13.1,16.3,14.9,9.6999999999999993,6.3,6.4,14,13.3,14.9,13.7,10.6,10.7,15.7,18.8,23.400000000000002,16.600000000000001,12.799999999999999,11.799999999999999,10.6,17,20,16.100000000000001,11.5,10.6,24.1,28.1,21.3,28.700000000000003,25.7,23.6,20.900000000000002,22.9,20.6,14.6,11.9,11,13.700000000000001,20,15,21.2,23.5,25.3,17,15,14.8,13.1,9.6999999999999993,8.3000000000000007,8.6999999999999993,10.5,18.900000000000002,40.1,40.800000000000004,27.9,33.000000000000007,32.4,24.400000000000002,18.400000000000002,14.1,15.6,14.7,17.599999999999998,31.3,37.299999999999997,28.8,21.4,18.499999999999996,17.7,18.8,15.5,13.8,12.600000000000001,11.8,25.7,36.1,40.300000000000004,31.099999999999998,20.7,27.4,31.5,26,18.3,16.5,14.1,15.5,12,9.6000000000000014,10.200000000000001,11.1,15.4,18.2,22.4,19.099999999999998,14.1,11.7,12,13.6,20.399999999999999,19.399999999999999,16.5,12.9,12.1,17.899999999999999,23.599999999999998,17.299999999999997,13.2,13.7,13.799999999999999,14.2,18.700000000000003,29.900000000000002,37.700000000000003,38.9,42.2,34.1,24.400000000000002,18.7,15.1,14.700000000000001,13.9,15,16.8,12.4,10.8,12.299999999999999,16.3,15.7,16.8,15.2,11.8,10.5,9.6999999999999993,12.399999999999999,17.7,29.7,34.6,29,30,30.099999999999998,26.6,16.899999999999999,14.1,11.4,14,17.2,24.000000000000004,31.900000000000002,26.8,22.999999999999996,21.900000000000002,24.500000000000004,23.6,19.599999999999998,15.2,15.2,14.4,17.8,19.5,17.399999999999999,16,16.3,17.400000000000002,21.500000000000004,19.599999999999998,15.5,14,14.6,11,14.3,16.2,18.2,13.8,14.599999999999998,25.8,25.6,19.299999999999997,14.3,12,16.3,12.9,19.599999999999998,25.3,31,18.900000000000002,27.900000000000002,31.1,21.3,26.099999999999998,19.999999999999996,19.599999999999998,20.299999999999997,16.599999999999998,17.100000000000001,18.2,15.6,17.099999999999998,13.8,22.9,28,24.900000000000002,25.3,19.5,17.8,17.899999999999999,18.3,24,27,24.9,33.6,31.2,30.4,30.4,24.700000000000003,21.700000000000003,20.700000000000003,19.700000000000003,24.1,33.800000000000004,36.5,40.300000000000004,40.199999999999996,46.3,39.20000000000001,40,33.200000000000003,28,26.8,22,29.099999999999998,33.300000000000004,38.000000000000007]
[null,"Generación no renovable",70,68.899999999999991,78.700000000000017,83.4,82.6,83.2,86.199999999999989,88,88.9,87.299999999999983,83.2,84.800000000000011,80.400000000000006,83.4,67.399999999999991,68.900000000000006,74.699999999999989,80.800000000000011,85.6,89.199999999999989,90.200000000000017,86.9,83.7,85.100000000000009,90.3,93.7,93.6,86,86.700000000000017,85.100000000000009,86.3,89.4,89.300000000000011,84.3,81.2,76.599999999999994,83.4,87.2,88.2,89.4,83,80,83.9,88.500000000000014,89.4,75.900000000000006,71.90000000000002,78.700000000000017,71.300000000000011,74.3,76.40000000000002,79.100000000000023,77.100000000000009,79.400000000000006,85.399999999999991,88.100000000000009,89,86.300000000000011,80.000000000000014,85,78.800000000000011,76.500000000000014,74.7,83,85.000000000000014,85.2,86.899999999999991,90.300000000000011,91.7,91.3,89.5,81.100000000000009,59.9,59.199999999999982,72.099999999999994,67,67.599999999999994,75.599999999999994,81.600000000000009,85.9,84.399999999999991,85.3,82.399999999999991,68.699999999999989,62.7,71.2,78.600000000000009,81.5,82.3,81.200000000000017,84.5,86.199999999999989,87.4,88.199999999999989,74.3,63.89999999999997,59.699999999999989,68.900000000000006,79.3,72.599999999999994,68.5,74,81.7,83.5,85.899999999999991,84.499999999999986,87.999999999999986,90.399999999999977,89.8,88.899999999999991,84.6,81.799999999999983,77.600000000000009,80.899999999999991,85.899999999999991,88.299999999999983,88.000000000000014,86.4,79.599999999999994,80.59999999999998,83.499999999999986,87.1,87.9,82.1,76.399999999999991,82.7,86.8,86.300000000000011,86.199999999999989,85.800000000000011,81.300000000000011,70.099999999999994,62.300000000000011,61.1,57.8,65.900000000000006,75.600000000000009,81.3,84.9,85.299999999999983,86.100000000000009,85,83.2,87.6,89.2,87.700000000000017,83.7,84.299999999999983,83.199999999999989,84.800000000000011,88.2,89.5,90.3,87.59999999999998,82.3,70.3,65.400000000000006,71,70,69.900000000000006,73.400000000000006,83.1,85.899999999999991,88.600000000000009,86,82.799999999999983,76,68.099999999999994,73.2,77,78.099999999999994,75.499999999999986,76.40000000000002,80.399999999999991,84.800000000000011,84.8,85.600000000000009,82.199999999999989,80.500000000000014,82.6,84.000000000000014,83.7,82.6,78.5,80.399999999999991,84.5,86.000000000000014,85.4,89,85.7,83.800000000000011,81.800000000000011,86.199999999999989,85.399999999999991,74.2,74.400000000000006,80.699999999999989,85.699999999999989,88.000000000000014,83.7,87.100000000000009,80.399999999999991,74.700000000000017,69,81.100000000000009,72.099999999999994,68.90000000000002,78.7,73.899999999999991,80,80.399999999999991,79.7,83.399999999999991,82.899999999999991,81.8,84.399999999999991,82.899999999999991,86.199999999999989,77.099999999999994,72,75.099999999999994,74.700000000000017,80.499999999999986,82.199999999999989,82.100000000000009,81.699999999999989,76,72.999999999999986,75.099999999999994,66.400000000000006,68.799999999999983,69.599999999999994,69.599999999999994,75.3,78.3,79.300000000000011,80.3,75.90000000000002,66.200000000000017,63.500000000000014,59.7,59.800000000000011,53.7,60.800000000000004,60,66.800000000000011,72,73.199999999999989,78,70.900000000000006,66.7,62]
[]
[null,"Estructura de generación mensual Islas Baleares (%)","2006-01-01","2006-02-01","2006-03-01","2006-04-01","2006-05-01","2006-06-01","2006-07-01","2006-08-01","2006-09-01","2006-10-01","2006-11-01","2006-12-01","2007-01-01","2007-02-01","2007-03-01","2007-04-01","2007-05-01","2007-06-01","2007-07-01","2007-08-01","2007-09-01","2007-10-01","2007-11-01","2007-12-01","2008-01-01","2008-02-01","2008-03-01","2008-04-01","2008-05-01","2008-06-01","2008-07-01","2008-08-01","2008-09-01","2008-10-01","2008-11-01","2008-12-01","2009-01-01","2009-02-01","2009-03-01","2009-04-01","2009-05-01","2009-06-01","2009-07-01","2009-08-01","2009-09-01","2009-10-01","2009-11-01","2009-12-01","2010-01-01","2010-02-01","2010-03-01","2010-04-01","2010-05-01","2010-06-01","2010-07-01","2010-08-01","2010-09-01","2010-10-01","2010-11-01","2010-12-01"]
[null,"Carbón",56.7,54.599999999999994,61.1,61.699999999999996,59.6,55.199999999999996,45.900000000000006,46.4,48.3,38.199999999999996,53.800000000000004,59,53.3,53.699999999999996,47.699999999999996,61.1,48.499999999999993,41.800000000000004,44.9,46.9,49.300000000000004,48.29999999999999,45.8,53.9,58.8,58.099999999999994,56.4,49.699999999999996,52.099999999999994,53.8,46.000000000000007,46.099999999999994,51.6,51.8,49.9,37.200000000000003,36.29999999999999,59.099999999999994,49.8,55.4,58.5,54.399999999999991,45.699999999999996,47.000000000000007,49.599999999999994,62.3,66.3,61.2,58.699999999999996,55.6,60,65.5,52.499999999999993,58.599999999999994,46.3,45.8,54.8,48.8,47.699999999999996,47.1]
[null,"Motores diesel",16,15.2,15.4,16.600000000000001,17.399999999999999,16.3,16.3,16.7,17.8,17.3,17,16.7,16.399999999999999,15.6,16.2,16.600000000000001,17.899999999999999,17.399999999999999,16.5,16.899999999999999,18.100000000000001,16.7,16.8,16.5,16.399999999999999,15.2,16,16.7,18.2,18.600000000000001,18.100000000000001,18.100000000000001,17.7,16.600000000000001,16.600000000000001,16,16.5,15,15.4,17,16.399999999999999,17.2,16.100000000000001,16.2,16.399999999999999,15.6,16.100000000000001,16.3,16.399999999999999,15.6,16.5,17,19.100000000000001,19.899999999999999,17.899999999999999,18.2,18.8,17.3,16.600000000000001,17.3]
[null,"Turbina de gas",1.4,2.4,5,3.5,3.4,5.6,8.8000000000000007,6.7,6,6.4,4.9000000000000004,3.8,5,4.9000000000000004,4.4000000000000004,3.9,7.8,6,6.7,6.1,4,4.4000000000000004,4.7,3.7,3.6,4.3,4.2,2.9,2.8,4.4000000000000004,5.4,5.8,5.7,4.4000000000000004,4.4000000000000004,4.3,3.7,4.5,4.2,2.8,5.3,6.3,8.1,8,7.1,5.4,5.5,4.5999999999999996,4.7,5.6,4.7,4.0999999999999996,3.6,4.3,6.6,6.7,5.2,5.0999999999999996,5.3,4.5999999999999996]
[null,"Ciclo combinado",23.2,25.1,15.6,15,17.5,20.6,27.2,27.6,25.2,35.4,21.4,17.600000000000001,23,23,28.8,15.5,24,32.799999999999997,30,27.1,26.4,30.3,30.7,23.2,18.899999999999999,19.7,20.6,27.7,24.2,20.6,27.9,27.1,21.9,23.7,25.5,39.200000000000003,40.200000000000003,18,28.7,20.5,15.1,18.2,26.8,25.4,23.1,12.7,7.6,14.2,17.100000000000001,19.899999999999999,14.8,8.6,20.100000000000001,13,25.2,23.4,14.3,24.1,24.5,25.5]
[null,"Generación auxiliar","-","-","-","-","-","-",0,0.6,0.5,0,"-",0,"-","-","-","-","-","-",0.4,1.4,0.3,"-","-","-","-","-","-","-","-","-",0.3,0.4,0.2,0,"-","-","-","-","-","-","-","-",0.2,0.5,0.2,0,"-","-","-","-","-","-","-",0,0.4,0.5,0.2,0,"-","-"]
[null,"Eólica",0.1,0.1,0.1,0.1,0.1,0.1,0,0.1,0.1,0.1,0.1,0.1,0.1,0.1,0.1,0.1,0.1,0.1,0.1,0.1,0.1,0.1,0.2,0.2,0.1,0.1,0.1,0.2,0,0.1,0,0.1,0.1,0.1,0.1,0.1,0.1,0.2,0.1,0.1,0.1,0.1,0,0,0.1,0.1,0.1,0.2,0.1,0.2,0.1,0.1,0.1,0.1,0.1,0.1,0.1,0.1,0.1,0.1]
[null,"Solar fotovoltaica",0,0,0,0,0,0,0,0,0,0,0,0,0,0,0,0,0,0,0,0,0,0,0,0,0,0,0.1,0.2,0.2,0.3,0.4,0.7,0.9,0.9,0.8,0.8,0.7,1.1000000000000001,1.6,1.6,1.9,1.7,1.4,1.3,1.3,1.4,1.3,0.8,0.8,1.1000000000000001,1.5,2,2.1,1.9,1.7,1.6,1.6,1.5,1.4,1]
[null,"Térmica renovable/Otras renovables","-","-","-","-","-","-","-","-","-","-","-","-","-","-","-","-","-","-","-","-","-","-","-","-","-","-","-","-","-","-","-","-","-","-","-","-","-","-","-","-","-","-","-","-","-","-","-","-","-","-","-","-","-","-","-","-","-","-","-","-"]
[null,"Térmica no renovable/Cogeneración y resto/Cogeneración",2.6,2.6,2.8,3.1,2,2.2000000000000002,1.8,1.9,2.1,2.6,2.8,2.8,2.2000000000000002,2.7,2.8,2.8,1.7,1.9,1.4,1.5,1.8,0.2,1.8,2.5,2.2000000000000002,2.6,2.6,2.6,2.5,2.2000000000000002,1.9,1.7,1.9,2.5,2.7,2.4,2.5,2.1,0.2,2.6,2.7,2.1,1.7,1.6,2.2000000000000002,2.5,3.1,2.7,2.2000000000000002,2,2.4,2.7,2.5,2.2000000000000002,1.8,3.7,5,3.1,4.4000000000000004,4.4000000000000004]
[null,"Residuos no renovables","-","-","-","-","-","-","-","-","-","-","-","-","-","-","-","-","-","-","-","-","-","-","-","-","-","-","-","-","-","-","-","-","-","-","-","-","-","-","-","-","-","-","-","-","-","-","-","-","-","-","-","-","-","-","-","-","-","-","-","-"]
[null,"Residuos renovables","-","-","-","-","-","-","-","-","-","-","-","-","-","-","-","-","-","-","-","-","-","-","-","-","-","-","-","-","-","-","-","-","-","-","-","-","-","-","-","-","-","-","-","-","-","-","-","-","-","-","-","-","-","-","-","-","-","-","-","-"]
[null,"Generación renovable",0.1,0.1,0.1,0.1,0.1,0.1,0,0.1,0.1,0.1,0.1,0.1,0.1,0.1,0.1,0.1,0.1,0.1,0.1,0.1,0.1,0.1,0.2,0.2,0.1,0.1,0.2,0.4,0.2,0.4,0.4,0.79999999999999993,1,1,0.9,0.9,0.79999999999999993,1.3,1.7000000000000002,1.7000000000000002,2,1.8,1.4,1.3,1.4000000000000001,1.5,1.4000000000000001,1,0.9,1.3,1.6,2.1,2.2000000000000002,2,1.8,1.7000000000000002,1.7000000000000002,1.6,1.5,1.1000000000000001]
[null,"Generación no renovable",99.9,99.9,99.899999999999991,99.899999999999991,99.9,99.899999999999991,100,99.9,99.899999999999991,99.899999999999991,99.90000000000002,99.899999999999991,99.899999999999991,99.9,99.899999999999991,99.9,99.899999999999991,99.9,99.9,99.9,99.9,99.899999999999991,99.8,99.800000000000011,99.899999999999991,99.899999999999991,99.800000000000011,99.6,99.8,99.600000000000009,99.600000000000009,99.2,99.000000000000014,99.000000000000014,99.100000000000009,99.100000000000009,99.199999999999989,98.699999999999989,98.300000000000011,98.3,98,98.199999999999989,98.6,98.699999999999989,98.6,98.5,98.6,99,99.100000000000009,98.699999999999989,98.4,97.899999999999991,97.799999999999983,98,98.199999999999989,98.3,98.3,98.399999999999977,98.5,98.9]
[]
[null,"Estructura de generación mensual Islas Canarias (%)","2006-01-01","2006-02-01","2006-03-01","2006-04-01","2006-05-01","2006-06-01","2006-07-01","2006-08-01","2006-09-01","2006-10-01","2006-11-01","2006-12-01","2007-01-01","2007-02-01","2007-03-01","2007-04-01","2007-05-01","2007-06-01","2007-07-01","2007-08-01","2007-09-01","2007-10-01","2007-11-01","2007-12-01","2008-01-01","2008-02-01","2008-03-01","2008-04-01","2008-05-01","2008-06-01","2008-07-01","2008-08-01","2008-09-01","2008-10-01","2008-11-01","2008-12-01","2009-01-01","2009-02-01","2009-03-01","2009-04-01","2009-05-01","2009-06-01","2009-07-01","2009-08-01","2009-09-01","2009-10-01","2009-11-01","2009-12-01","2010-01-01","2010-02-01","2010-03-01","2010-04-01","2010-05-01","2010-06-01","2010-07-01","2010-08-01","2010-09-01","2010-10-01","2010-11-01","2010-12-01"]
[null,"Hidráulica","-","-","-","-","-","-","-","-","-","-","-","-","-","-","-","-","-","-",0,0,0,0,0,0,0,0,0,"-",0,0,0,0,"-","-","-","-",0,0,0,0,"-","-","-","-","-","-","-","-","-","-","-","-","-","-","-","-","-","-","-","-"]
[null,"Motores diesel",22.9,22.8,21.7,20.8,24,24.8,23.1,23,23.4,23,21.3,22.4,24.2,22.3,22.2,21.9,21.4,22.6,22.8,22.1,21.9,21.3,21.8,21.4,21.5,23.1,21.2,22.5,24,22.7,22.7,22.3,23.3,22.3,22.4,22.7,22.7,23.4,22.3,22.7,24.1,24.1,22.4,22.7,24.1,24.1,24.1,25.4,24.9,24.9,25.1,24.4,22.5,22.9,24,25.3,24.7,26.1,25,24.6]
[null,"Turbina de gas",7.3,9,12.6,8.8000000000000007,8.1,10.5,8.8000000000000007,8.8000000000000007,9.8000000000000007,10.6,10,7.7,8.3000000000000007,9.3000000000000007,9,8.8000000000000007,8.1999999999999993,6.8,5.9,6.9,8.1,7.1,7.1,6,6.2,5.3,3.7,4.3,5.2,6.3,5.9,5.2,6.4,4.5999999999999996,3.9,3.8,4.5,3.2,4,1.6,5.3,5.0999999999999996,3.1,3.6,5.2,3.9,3.3,2.2000000000000002,1.8,2.8,2.7,2,4.3,4.4000000000000004,3.9,3.2,3.7,6.1,6.1,5.3]
[null,"Turbina de vapor",48.3,47,48.7,43.1,38.5,34.799999999999997,33.4,34.200000000000003,36.5,33.4,36.6,34.9,34.6,35.6,35.4,40.6,29.6,37.799999999999997,31.6,37.1,37.299999999999997,36.799999999999997,36,38.4,41.1,42.3,37.200000000000003,35.700000000000003,37.1,30.4,34.5,33.5,36,37.5,37.200000000000003,36.700000000000003,36.700000000000003,35.700000000000003,36.9,35.200000000000003,39.9,34.6,32.799999999999997,34.799999999999997,36.6,37,32.799999999999997,34.5,36.6,35.6,34.4,32.9,35.299999999999997,35.5,32.6,33.799999999999997,33.299999999999997,28.5,30,33]
[null,"Ciclo combinado",17.499999999999986,16.599999999999994,11,20.200000000000003,21.799999999999997,23.400000000000006,24.5,26.5,25.599999999999994,27.600000000000009,27.5,28.5,26.200000000000017,24.799999999999997,26.200000000000003,20.900000000000006,32.5,24.900000000000006,28.5,23.500000000000014,25,28.400000000000006,29.200000000000003,27.599999999999994,25.200000000000017,22.699999999999989,28.300000000000011,28.400000000000006,25.300000000000011,31.700000000000003,27.700000000000003,27.200000000000003,28.900000000000006,27.299999999999997,28.899999999999991,29.199999999999989,28.300000000000011,29.799999999999997,29.700000000000003,27.799999999999997,20.499999999999986,27.5,28.899999999999991,26.200000000000003,26.200000000000003,28.800000000000011,31.800000000000011,30.799999999999997,30.5,30.200000000000003,30.299999999999997,30.5,26.700000000000003,26.399999999999991,28.900000000000006,28.700000000000003,30.600000000000009,34.700000000000003,34.299999999999997,32.899999999999991]
[null,"Generación auxiliar","-","-","-","-","-","-","-","-","-","-","-","-",1.6,1.7,1.5,1.6,1.4,1.3,1.3,1.5,1.5,1.5,1.3,1.1000000000000001,1.3,1.3,1.4,1.3,0.9,0.9,1,1,0.6,0.6,0.7,0.6,0.6,0.6,0.6,0.4,0.4,0.4,0.7,0.4,0.2,0.1,0.1,0,"-","-","-","-","-","-","-","-","-","-","-","-"]
[null,"Hidroeólica","-","-","-","-","-","-","-","-","-","-","-","-","-","-","-","-","-","-","-","-","-","-","-","-","-","-","-","-","-","-","-","-","-","-","-","-","-","-","-","-","-","-","-","-","-","-","-","-","-","-","-","-","-","-","-","-","-","-","-","-"]
[null,"Eólica",2.4,2.9,3.1,4.0999999999999996,4.9000000000000004,3.6,7.4,4.9000000000000004,2.9,2.5,2.1,3.4,2.2999999999999998,3.3,4.8,3.6,4.5999999999999996,4.3,7.2,6,3.4,2.4,2.1,2.4,1.6,2.2000000000000002,5.0999999999999996,4.7,4.0999999999999996,5.3,7.5,7.5,2.2000000000000002,4.3,2.9,3.2,3.1,2.5,3.2,6.5,4.4000000000000004,2.8,6.9,7.1,3,1.6,3.3,2.7,1.6,2.2000000000000002,3.1,4.5,5,5.4,6.3,5.4,4.7,1.8,2.4,2.2000000000000002]
[null,"Solar fotovoltaica",0,0,0,0,0,0,0,0.1,0.1,0.1,0.1,0.1,0.1,0.1,0.2,0.2,0.2,0.2,0.3,0.3,0.3,0.2,0.2,0.2,0.3,0.4,0.5,0.5,0.6,0.7,0.7,0.7,0.8,1.2,1,0.9,1.1000000000000001,1.6,1.7,2.2999999999999998,2.2000000000000002,2.2000000000000002,2.2000000000000002,2.2000000000000002,1.6,1.7,1.5,1.2,1.4,1.5,2.2000000000000002,2.2999999999999998,2.7,2.7,3,2.8,2.2999999999999998,2.1,1.7,1.7]
[null,"Térmica renovable/Otras renovables",1.2,1.7,2.9,3,2.7,2.9,2.8,2.5,1.7,2.8,2.4,3,2.7,2.9,0.7,2.4,2.1,2.1,2.4,2.6,2.5,2.2999999999999998,2.2999999999999998,2.9,2.8,2.7,2.6,2.6,2.8,2,0,2.6,1.8,2.2000000000000002,3,2.9,3,3.2,1.6,3.5,3.2,3.3,3,3,3.1,2.8,3.1,3.2,3.2,2.8,2.2000000000000002,3.4,3.5,2.7,1.3,0.8,0.7,0.7,0.5,0.3]
[null,"Térmica no renovable/Cogeneración y resto/Cogeneración",0.4,"-","-","-","-","-","-","-","-","-","-","-","-","-","-","-","-","-","-","-","-","-","-","-","-","-","-","-","-","-","-","-","-","-","-","-","-","-","-","-",0,0,"-","-","-","-","-","-","-","-","-","-","-","-","-","-","-","-","-","-"]
[null,"Generación renovable",3.5999999999999996,4.5999999999999996,6,7.1,7.6000000000000005,6.5,10.199999999999999,7.5,4.7,5.4,4.5999999999999996,6.5,5.0999999999999996,6.3,5.7,6.2,6.9,6.6,9.9,8.9,6.1999999999999993,4.9000000000000004,4.5999999999999996,5.5,4.7,5.3000000000000007,8.1999999999999993,7.8000000000000007,7.4999999999999991,8,8.1999999999999993,10.799999999999999,4.8,7.7,6.9,7,7.2,7.3,6.5,12.3,9.8000000000000007,8.3000000000000007,12.100000000000001,12.3,7.6999999999999993,6.1,7.9,7.1000000000000005,6.2,6.5,7.5000000000000009,10.199999999999999,11.2,10.8,10.600000000000001,9,7.7,4.6000000000000005,4.5999999999999996,4.2]
[null,"Generación no renovable",96.399999999999991,95.399999999999991,94,92.9,92.399999999999991,93.5,89.8,92.5,95.3,94.600000000000009,95.4,93.5,94.9,93.7,94.3,93.8,93.100000000000009,93.4,90.100000000000009,91.100000000000009,93.8,95.1,95.4,94.499999999999986,95.300000000000011,94.699999999999989,91.800000000000011,92.2,92.500000000000014,92,91.800000000000011,89.2,95.2,92.3,93.1,92.999999999999986,92.800000000000011,92.699999999999989,93.5,87.7,90.199999999999989,91.700000000000017,87.899999999999991,87.7,92.300000000000011,93.9,92.100000000000009,92.899999999999991,93.8,93.5,92.5,89.8,88.8,89.199999999999989,89.4,91,92.300000000000011,95.4,95.4,95.8]
[]
[null,"Estructura de generación mensual Ceuta (%)","2007-01-01","2007-02-01","2007-03-01","2007-04-01","2007-05-01","2007-06-01","2007-07-01","2007-08-01","2007-09-01","2007-10-01","2007-11-01","2007-12-01","2008-01-01","2008-02-01","2008-03-01","2008-04-01","2008-05-01","2008-06-01","2008-07-01","2008-08-01","2008-09-01","2008-10-01","2008-11-01","2008-12-01","2009-01-01","2009-02-01","2009-03-01","2009-04-01","2009-05-01","2009-06-01","2009-07-01","2009-08-01","2009-09-01","2009-10-01","2009-11-01","2009-12-01","2010-01-01","2010-02-01","2010-03-01","2010-04-01","2010-05-01","2010-06-01","2010-07-01","2010-08-01","2010-09-01","2010-10-01","2010-11-01","2010-12-01"]
[null,"Motores diesel",100,100,100,100,100,100,100,100,100,100,100,100,100,100,100,100,100,100,100,100,100,100,100,100,100,100,100,100,100,100,99.2,90,100,100,94,98.9,89.2,96.8,100,99.1,99.3,100,100,100,100,100,100,100]
[null,"Turbina de gas","-","-","-","-","-","-","-","-","-","-","-","-","-","-","-","-","-","-","-","-","-","-","-","-","-","-","-","-","-","-",0.8,10,"-","-",6,1.1000000000000001,10.8,3.2,"-",0.9,0.7,"-","-","-","-","-","-",0]
[null,"Generación renovable","-","-","-","-","-","-","-","-","-","-","-","-","-","-","-","-","-","-","-","-","-","-","-","-","-","-","-","-","-","-","-","-","-","-","-","-","-","-","-","-","-","-","-","-","-","-","-","-"]
[null,"Generación no renovable",100,100,100,100,100,100,100,100,100,100,100,100,100,100,100,100,100,100,100,100,100,100,100,100,100,100,100,100,100,100,100,100,100,100,100,100,100,100,100,100,100,100,100,100,100,100,100,100]
[]
[null,"Estructura de generación mensual Melilla (%)","2007-01-01","2007-02-01","2007-03-01","2007-04-01","2007-05-01","2007-06-01","2007-07-01","2007-08-01","2007-09-01","2007-10-01","2007-11-01","2007-12-01","2008-01-01","2008-02-01","2008-03-01","2008-04-01","2008-05-01","2008-06-01","2008-07-01","2008-08-01","2008-09-01","2008-10-01","2008-11-01","2008-12-01","2009-01-01","2009-02-01","2009-03-01","2009-04-01","2009-05-01","2009-06-01","2009-07-01","2009-08-01","2009-09-01","2009-10-01","2009-11-01","2009-12-01","2010-01-01","2010-02-01","2010-03-01","2010-04-01","2010-05-01","2010-06-01","2010-07-01","2010-08-01","2010-09-01","2010-10-01","2010-11-01","2010-12-01"]
[null,"Motores diesel",92.6,93.4,92.5,94.8,94.1,94.9,95.4,94.2,98.1,96.1,91.7,92.3,89.8,92.3,91.5,93.7,94.9,95.1,98.9,99.6,98.8,98.4,98.6,99.9,95.5,95.2,94.6,93.6,94.8,95.2,96,96.1,95.4,100,99.2,95.4,95.9,96.1,95.5,94.7,94.2,95.5,95.6,96.1,95,97,99.7,96.8]
[null,"Turbina de gas",2.5,1.5,1.8,0.7,0.4,0,0.7,1.3,0.2,0.3,3.1,2.7,4.8,2.7,3.1,1.1000000000000001,0.3,0.8,1.1000000000000001,0.4,1.2,1.6,1.4,0.1,0.1,0.1,0.5,0.3,0,0.4,"-",0.3,0.5,0,0.8,0.3,0.1,0.1,0,0.2,0.2,0.5,0.5,0.2,0.2,0.2,0.3,0.2]
[null,"Solar fotovoltaica","-","-","-","-","-","-","-","-","-","-","-","-",0,"-","-","-","-",0,0,0,0,"-",0,"-",0,0.1,0.1,0.2,0.1,0,0,0,0,0,"-",0,0,0,0,0,0.1,0,0,0,0,0,0,0]
[null,"Térmica no renovable/Cogeneración y resto/Cogeneración",4.9000000000000004,5.0999999999999996,5.7,4.5,5.5,5.0999999999999996,3.9,4.5,1.7,3.6,5.2,5,5.4,5,5.4,5.2,4.8,4.0999999999999996,"-","-","-","-","-","-",4.4000000000000004,4.5999999999999996,4.8,5.9,5.0999999999999996,4.4000000000000004,4,3.6,4.0999999999999996,0,"-",4.3,4,3.8,4.5,5.0999999999999996,5.5,4,3.9,3.7,4.8,2.8,"-",3]
[null,"Residuos no renovables","-","-","-","-","-","-","-","-","-","-","-","-","-","-","-","-","-","-","-","-","-","-","-","-","-","-","-","-","-","-","-","-","-","-","-","-","-","-","-","-","-","-","-","-","-","-","-","-"]
[null,"Residuos renovables","-","-","-","-","-","-","-","-","-","-","-","-","-","-","-","-","-","-","-","-","-","-","-","-","-","-","-","-","-","-","-","-","-","-","-","-","-","-","-","-","-","-","-","-","-","-","-","-"]
[null,"Generación renovable",0,0,0,0,0,0,0,0,0,0,0,0,0,0,0,0,0,0,0,0,0,0,0,0,0,0.1,0.1,0.2,0.1,0,0,0,0,0,0,0,0,0,0,0,0.1,0,0,0,0,0,0,0]
[null,"Generación no renovable",100,100,100,100,100,100,100.00000000000001,100,100,99.999999999999986,100,100,100,100,100,100,100,99.999999999999986,100,100,100,100,100,100,100,99.899999999999991,99.899999999999991,99.8,99.899999999999991,100.00000000000001,100,99.999999999999986,100,100,100,100,100,99.999999999999986,100,100,99.9,100,100,100,100,100,100,100]
[]
[null,"Estructura de generación mensual nacional (%)","2007-01-01","2007-02-01","2007-03-01","2007-04-01","2007-05-01","2007-06-01","2007-07-01","2007-08-01","2007-09-01","2007-10-01","2007-11-01","2007-12-01","2008-01-01","2008-02-01","2008-03-01","2008-04-01","2008-05-01","2008-06-01","2008-07-01","2008-08-01","2008-09-01","2008-10-01","2008-11-01","2008-12-01","2009-01-01","2009-02-01","2009-03-01","2009-04-01","2009-05-01","2009-06-01","2009-07-01","2009-08-01","2009-09-01","2009-10-01","2009-11-01","2009-12-01","2010-01-01","2010-02-01","2010-03-01","2010-04-01","2010-05-01","2010-06-01","2010-07-01","2010-08-01","2010-09-01","2010-10-01","2010-11-01","2010-12-01"]
[null,"Hidráulica",8.8000000000000007,13.2,16.100000000000001,13,12.3,10.1,9.8000000000000007,7.6,5.9,7.1,5.3,4.7,5.2,3.9,4.3,11.3,14.5,13.4,8.4,6.4,5.6,4.5999999999999996,6.5,9.6999999999999993,8.6,15.2,12.3,10.4,12,9.3000000000000007,7,6.1,4.4000000000000004,5.5,8.8000000000000007,13,19.8,16.899999999999999,23.1,21.3,17.2,15.6,11.2,8.5,6.6,6.8,10.8,15.6]
[null,"Turbinación bombeo",1,1.2,1.1000000000000001,0.9,1.2,1.1000000000000001,0.9,1.1000000000000001,1,0.9,1.1000000000000001,1.3,1.1000000000000001,1.2,1.1000000000000001,0.6,0.6,0.8,0.7,0.6,0.7,0.9,1.2,1.2,1.3,1.2,0.9,0.8,0.8,0.7,0.7,0.7,0.8,0.9,1.2,1.3,2,1.6,1.5,1,0.9,0.7,0.5,0.7,0.7,1,0.9,1.3]
[null,"Nuclear",20.7,20.8,20.2,19.7,15.1,13.8,15.5,17.100000000000001,20.8,20.399999999999999,15.6,19.3,20,20.6,21.3,16.7,20.2,19.3,17.600000000000001,20.7,19,18.100000000000001,16.399999999999999,19.100000000000001,20.5,18.899999999999999,17.399999999999999,19.2,17.100000000000001,15.5,15.9,22.3,19.3,17.3,17.2,15.9,17.2,19.2,19.399999999999999,22.1,19.7,20.7,21,22.7,21.8,23.2,21.1,19]
[null,"Carbón",24.7,22.3,20.8,27.7,27,26.1,24.9,26.6,24.6,23.2,22.6,24.1,19.8,19.600000000000001,15.6,13.7,10.4,9.8000000000000007,15.4,13.9,15.8,18.2,17.5,17.899999999999999,18,14.3,14.1,9.6,11.6,12,14,8.9,13,14.6,9.6999999999999993,8.5,7.6,6.7,4.5,4.0999999999999996,4.7,7,10.6,13.1,14,9.4,7.5,8.9]
[null,"Fuel + Gas",3,3.5,3.4,3.5,3.4,3.3,3.8,4.0999999999999996,3.9,3.3,3.3,3.2,3.1,3.1,2.7,3,3.4,3.6,3.3,3.9,3.7,3.6,3.4,3.2,2.9,2.9,3.5,3.2,3.4,3.4,3.5,3.7,3.6,3.3,3.2,3.1,2.9,2.8,2.5,2.9,3.3,3.4,3.1,3.4,3.3,3.1,3.1,3]
[null,"Ciclo combinado",24.7,17.8,17,19.399999999999999,20.399999999999999,28.4,28.1,23.7,25.5,26.9,31.6,28.9,31.1,33.200000000000003,28.1,29.9,32.4,33.5,35.799999999999997,35.6,34.6,31.7,29.1,23.7,24.1,20.6,23.8,27,27,34.700000000000003,35.5,36.1,34,30,25.1,25.8,21.5,20.9,17.399999999999999,20.9,21.5,25.2,27.8,25.6,28.2,24.2,24.4,20.5]
[null,"Hidroeólica","-","-","-","-","-","-","-","-","-","-","-","-","-","-","-","-","-","-","-","-","-","-","-","-","-","-","-","-","-","-","-","-","-","-","-","-","-","-","-","-","-","-","-","-","-","-","-","-"]
[null,"Eólica",8.4,12.6,12.8,6.3,11.5,7.9,7.8,10.6,8.8000000000000007,8,11,9.1999999999999993,10,8.1999999999999993,16.399999999999999,14,7.6,9,8.4,8.4,9.1,10.6,14.1,14.2,13.3,14.2,13.8,14.6,12.7,10.3,9.9,9.6999999999999993,11,13.7,20.8,19.8,16.5,19.2,18.2,12.1,16.3,11.5,11,12.3,10.1,17,18.100000000000001,18.3]
[null,"Solar fotovoltaica",0,0.1,0.1,0.1,0.2,0.2,0.2,0.2,0.3,0.2,0.2,0.2,0.2,0.3,0.4,0.5,0.6,0.8,0.9,1.2,1.4,1.4,1.4,1,1,1.7,2.2999999999999998,2.7,3.1,2.8,2.9,2.8,2.2999999999999998,2.2000000000000002,1.6,1,1,1.3,1.9,2.7,3.2,3,3,3,2.7,2.2999999999999998,1.6,1.2]
[null,"Solar térmica","-","-",0,0,0,0,0,0,0,0,0,0,0,0,0,0,0,0,0,0,0,0,0,0,0,0,0,0,0,0,0,0.1,0.1,0.1,0.1,0,0.1,0,0.1,0.2,0.3,0.3,0.4,0.5,0.4,0.3,0.1,0.1]
[null,"Térmica renovable/Otras renovables",0.8,0.8,0.8,0.9,0.9,0.9,0.9,1,0.9,1,0.9,0.9,0.9,0.9,1,1,1,1,0.9,1,1,1,1,1,1,1.1000000000000001,1.2,1.4,1.3,1.1000000000000001,1,1.1000000000000001,1.3,1.5,1.2,1.1000000000000001,1.1000000000000001,1,1,1.3,1.3,1.3,1.1000000000000001,1.2,1.2,1.2,1.1000000000000001,1.2]
[null,"Térmica no renovable/Cogeneración y resto/Cogeneración",7.8999999999999915,7.7000000000000171,7.7000000000000171,8.5000000000000142,7.9999999999999858,8.1999999999999886,8.0999999999999943,8,8.2999999999999972,9.0000000000000142,8.3999999999999915,8.1999999999999886,8.5999999999999801,8.9999999999999858,9.0999999999999943,9.3000000000000114,9.3000000000000114,8.7999999999999972,8.5999999999999943,8.2999999999999972,9.0999999999999943,9.9000000000000057,9.4000000000000057,9,9.2999999999999972,9.9000000000000057,10.700000000000003,11.099999999999994,11,10.200000000000017,9.5999999999999943,8.5,10.200000000000017,10.900000000000006,11.100000000000009,10.5,10.300000000000011,10.400000000000006,10.399999999999991,11.399999999999991,11.600000000000009,11.300000000000011,10.299999999999997,9,11,11.5,11.300000000000011,10.900000000000006]
[null,"Residuos no renovables","-","-","-","-","-","-","-","-","-","-","-","-","-","-","-","-","-","-","-","-","-","-","-","-","-","-","-","-","-","-","-","-","-","-","-","-","-","-","-","-","-","-","-","-","-","-","-","-"]
[null,"Residuos renovables","-","-","-","-","-","-","-","-","-","-","-","-","-","-","-","-","-","-","-","-","-","-","-","-","-","-","-","-","-","-","-","-","-","-","-","-","-","-","-","-","-","-","-","-","-","-","-","-"]
[null,"Generación renovable",18.000000000000004,26.7,29.800000000000004,20.3,24.9,19.099999999999998,18.7,19.399999999999999,15.900000000000002,16.299999999999997,17.399999999999999,14.999999999999998,16.299999999999997,13.3,22.099999999999998,26.8,23.700000000000003,24.2,18.599999999999998,17,17.099999999999998,17.599999999999998,23,25.9,23.9,32.199999999999996,29.6,29.099999999999998,29.1,23.500000000000004,20.799999999999997,19.8,19.100000000000001,23,32.500000000000007,34.9,38.5,38.399999999999991,44.3,37.6,38.299999999999997,31.700000000000003,26.7,25.5,20.999999999999996,27.6,31.700000000000006,36.400000000000006]
[null,"Generación no renovable",81.999999999999986,73.300000000000011,70.200000000000017,79.7,75.09999999999998,80.899999999999977,81.299999999999983,80.600000000000009,84.100000000000009,83.7,82.59999999999998,85,83.699999999999989,86.7,77.900000000000006,73.200000000000017,76.300000000000011,75.8,81.399999999999991,83,82.9,82.4,77,74.100000000000009,76.099999999999994,67.800000000000011,70.400000000000006,70.900000000000006,70.900000000000006,76.500000000000014,79.199999999999989,80.2,80.90000000000002,77,67.5,65.099999999999994,61.500000000000007,61.600000000000009,55.699999999999989,62.399999999999991,61.7,68.300000000000011,73.3,74.5,79,72.400000000000006,68.300000000000011,63.600000000000009]
[]
[null,"Estructura de generación anual peninsular (%)",1990,1991,1992,1993,1994,1995,1996,1997,1998,1999,2000,2001,2002,2003,2004,2005,2006,2007,2008,2009,2010,2011,2012,2013]
[null,"Hidráulica",18,18.600000000000001,13,16.7,18.899999999999999,15,25.4,21,20.6,13.7,14.3,19.600000000000001,10,17.5,12.7,7.2,9.6,9.9,8.1999999999999993,9.9,15.3,"-","-","-"]
[null,"Turbinación bombeo",0.5,0.7,1.4,0.9,0.6,1,0.7,0.7,1.1000000000000001,1.4,1.8,1.4,2.2999999999999998,1.4,1.3,1.8,1.4,1.1000000000000001,1,1,1.1000000000000001,"-","-","-"]
[null,"Nuclear",38.200000000000003,37.5,37.299999999999997,37.799999999999997,36.4,35.6,34.5,31.7,32.799999999999997,30.9,30.5,29.6,28.3,25.8,25,21.6,21.8,19.3,20.2,19.100000000000001,21.7,"-","-","-"]
[null,"Carbón",40.700000000000003,39.299999999999997,41.8,40.799999999999997,39.200000000000003,41,31.6,35,33.1,37.5,37,31.2,35,29.8,29.6,28.8,23.6,24.8,15.5,12,7.5,"-","-","-"]
[null,"Fuel + Gas",2.1,2.8,5.2,1.3,1,2.5,1.3,3.9,3.1,5.0999999999999996,4.9000000000000004,5.6,7.3,3.2,2.9,3.7,2,0.8,0.7,0.7,0.6,"-","-","-"]
[null,"Ciclo combinado","-","-","-",0,"-","-","-","-","-","-","-","-",2.4,6.4,11.6,18.8,23.6,24.4,31.8,28.9,23,"-","-","-"]
[null,"Eólica",0,0,0,0.1,0,0.1,0.2,0.4,0.7,1.4,2.2999999999999998,3.2,4.3,5.0999999999999996,6.5,8.1999999999999993,8.6999999999999993,10,11.3,14.3,15.8,"-","-","-"]
[null,"Solar fotovoltaica","-","-",0,0,0,0,0,0,0,0,0,0,0,0,0,0,0,0.2,0.9,2.2000000000000002,2.2000000000000002,"-","-","-"]
[null,"Solar térmica","-","-","-","-","-","-","-","-","-","-","-","-","-","-","-","-","-",0,0,0,0.3,"-","-","-"]
[null,"Térmica renovable/Otras renovables","-",0,0,0,0.2,0.4,0.5,0.4,0.4,0.5,0.5,0.8,0.7,0.8,0.7,0.8,0.8,0.9,0.9,1.2,1.2,"-","-","-"]
[null,"Térmica no renovable/Cogeneración y resto/Cogeneración",0.5,1.1000000000000085,1.2999999999999972,2.4000000000000199,3.7000000000000028,4.4000000000000057,5.8000000000000114,6.8999999999999773,8.2000000000000028,9.5,8.7000000000000028,8.6000000000000085,9.7000000000000028,10,9.7000000000000028,9.0999999999999943,8.5,8.5999999999999943,9.4999999999999858,10.700000000000003,11.299999999999997,"-","-","-"]
[null,"Residuos no renovables","-","-","-","-","-","-","-","-","-","-","-","-","-","-","-","-","-","-","-","-","-","-","-","-"]
[null,"Residuos renovables","-","-","-","-","-","-","-","-","-","-","-","-","-","-","-","-","-","-","-","-","-","-","-","-"]
[null,"Generación renovable",18,18.600000000000001,13,16.8,19.099999999999998,15.5,26.099999999999998,21.799999999999997,21.7,15.6,17.100000000000001,23.6,15,23.400000000000002,19.899999999999999,16.2,19.099999999999998,20.999999999999996,21.299999999999997,27.6,34.800000000000004,"-","-","-"]
[null,"Generación no renovable",82,81.400000000000006,87,83.200000000000017,80.900000000000006,84.5,73.90000000000002,78.199999999999989,78.3,84.399999999999991,82.9,76.400000000000006,85,76.600000000000009,80.100000000000009,83.8,80.900000000000006,79,78.699999999999989,72.400000000000006,65.2,"-","-","-"]
[]
[null,"Estructura de generación anual Islas Baleares (%)",2006,2007,2008,2009,2010,2011,2012,2013]
[null,"Carbón",52.8,49.3,50.5,52.8,53.199999999999996,"-","-","-"]
[null,"Motores diesel",16.600000000000001,16.8,17.100000000000001,16.2,17.600000000000001,"-","-","-"]
[null,"Turbina de gas",5,5.2,4.5,5.7,5.0999999999999996,"-","-","-"]
[null,"Ciclo combinado",23,26.5,24.9,21.6,19.399999999999999,"-","-","-"]
[null,"Generación auxiliar",0.1,0.2,0.1,0.1,0.1,"-","-","-"]
[null,"Eólica",0.1,0.1,0.1,0.1,0.1,"-","-","-"]
[null,"Solar fotovoltaica",0,0,0.5,1.4,1.5,"-","-","-"]
[null,"Térmica renovable/Otras renovables","-","-","-","-","-","-","-","-"]
[null,"Térmica no renovable/Cogeneración y resto/Cogeneración",2.4,1.9,2.2999999999999998,2.1,3,"-","-","-"]
[null,"Residuos no renovables","-","-","-","-","-","-","-","-"]
[null,"Residuos renovables","-","-","-","-","-","-","-","-"]
[null,"Generación renovable",0.1,0.1,0.6,1.5,1.6,"-","-","-"]
[null,"Generación no renovable",99.9,99.9,99.399999999999991,98.5,98.399999999999977,"-","-","-"]
[]
[null,"Estructura de generación anual Islas Canarias (%)",2006,2007,2008,2009,2010,2011,2012,2013]
[null,"Hidráulica","-",0,0,0,"-","-","-","-"]
[null,"Motores diesel",22.8,22.2,22.5,23.5,24.5,"-","-","-"]
[null,"Turbina de gas",9.3000000000000007,7.6,5.0999999999999996,3.8,3.9,"-","-","-"]
[null,"Turbina de vapor",38.9,35.9,36.6,35.6,33.4,"-","-","-"]
[null,"Ciclo combinado",22.799999999999997,26.5,27.599999999999994,28,30.5,"-","-","-"]
[null,"Generación auxiliar","-",1.4,1,0.4,"-","-","-","-"]
[null,"Hidroeólica","-","-","-","-","-","-","-","-"]
[null,"Eólica",3.7,3.9,4.2,3.9,3.7,"-","-","-"]
[null,"Solar fotovoltaica",0,0.2,0.7,1.8,2.2000000000000002,"-","-","-"]
[null,"Térmica renovable/Otras renovables",2.5,2.2999999999999998,2.2999999999999998,3,1.8,"-","-","-"]
[null,"Térmica no renovable/Cogeneración y resto/Cogeneración",0,"-","-",0,"-","-","-","-"]
[null,"Generación renovable",6.2,6.3999999999999995,7.2,8.6999999999999993,7.7,"-","-","-"]
[null,"Generación no renovable",93.8,93.6,92.8,91.300000000000011,92.3,"-","-","-"]
[]
[null,"Estructura de generación anual Ceuta (%)",2007,2008,2009,2010,2011,2012,2013]
[null,"Motores diesel",100,100,98.5,98.7,"-","-","-"]
[null,"Turbina de gas","-","-",1.5,1.3,"-","-","-"]
[null,"Generación renovable","-","-","-","-","-","-","-"]
[null,"Generación no renovable",100,100,100,100,"-","-","-"]
[]
[null,"Estructura de generación anual Melilla (%)",2007,2008,2009,2010,2011,2012,2013]
[null,"Motores diesel",94.3,96.1,95.8,96,"-","-","-"]
[null,"Turbina de gas",1.2,1.5,0.3,0.2,"-","-","-"]
[null,"Solar fotovoltaica","-",0,0.1,0,"-","-","-"]
[null,"Térmica no renovable/Cogeneración y resto/Cogeneración",4.5,2.4,3.8,3.8,"-","-","-"]
[null,"Residuos no renovables","-","-","-","-","-","-","-"]
[null,"Residuos renovables","-","-","-","-","-","-","-"]
[null,"Generación renovable",0,0,0.1,0,"-","-","-"]
[null,"Generación no renovable",100,100,99.899999999999991,100,"-","-","-"]
[]
[null,"Estructura de generación anual nacional (%)",2007,2008,2009,2010,2011,2012,2013]
[null,"Hidráulica",9.4,7.8,9.4,14.5,"-","-","-"]
[null,"Turbinación bombeo",1.1000000000000001,0.9,0.9,1.1000000000000001,"-","-","-"]
[null,"Nuclear",18.3,19.100000000000001,18,20.5,"-","-","-"]
[null,"Carbón",24.5,15.7,12.4,8.1999999999999993,"-","-","-"]
[null,"Fuel + Gas",3.5,3.3,3.3,3.1,"-","-","-"]
[null,"Ciclo combinado",24.5,31.5,28.6,23.2,"-","-","-"]
[null,"Hidroeólica",0,0,0,0,"-","-","-"]
[null,"Eólica",9.6,10.9,13.7,15.1,"-","-","-"]
[null,"Solar fotovoltaica",0.2,0.8,2.2000000000000002,2.2000000000000002,"-","-","-"]
[null,"Solar térmica",0,0,0,0.2,"-","-","-"]
[null,"Térmica renovable/Otras renovables",0.9,1,1.2,1.2,"-","-","-"]
[null,"Térmica no renovable/Cogeneración y resto/Cogeneración",8,9,10.299999999999997,10.700000000000003,"-","-","-"]
[null,"Residuos no renovables","-","-","-","-","-","-","-"]
[null,"Residuos renovables","-","-","-","-","-","-","-"]
[null,"Generación renovable",20.099999999999998,20.5,26.5,33.200000000000003,"-","-","-"]
[null,"Generación no renovable",79.900000000000006,79.5,73.5,66.8,"-","-","-"]

{"sheet":"Año","index":14,"n_rows":31,"n_cols":26,"rows_kept":31,"cut":false,"hidden":true,"merged":[]}
[null,null,null,null,null,null,null,null,null,null,null,null,null,null,null,null,null,null,null,null,null,null,null,null,1,1]
[null,1990,"1990-1997","2006-2013","2007-2013",null,null,null,null,null,null,null,null,null,"Nacional","Mensual"]
[null,1991,"1998-2005","2014-2021","2014-2020",null,null,null,null,null,null,null,null,null,"Peninsular","Anual"]
[null,1992,"2006-2013",null,null,null,null,null,null,null,null,null,null,null,"Canarias"]
[null,1993,"2014-2021",null,null,null,null,null,null,null,null,null,null,null,"Baleares"]
[null,1994,null,null,null,null,null,null,null,null,null,null,null,null,"Ceuta"]
[null,1995,null,null,null,null,null,null,null,null,null,null,null,null,"Melilla"]
[null,1996]
[null,1997]
[null,1998]
[null,1999]
[null,2000]
[null,2001]
[null,2002]
[null,2003]
[null,2004]
[null,2005]
[null,2006]
[null,2007]
[null,2008]
[null,2009]
[null,2010]
[null,2011]
[null,2012]
[null,2013]
[null,2014]
[null,2015]
[null,2016]
[null,2017]
[null,2018]
[null,2019]