{"text_format":"1","workbook":"xlsx","n_sheets":16,"sheets":["AVISO LEGAL","Balance nacional mensual","Balance nacional anual","Balance Peninsular mensual","Balance Peninsular anual","Balance Baleares mensual","Balance Baleares anual","Balance Canarias mensual","Balance Canarias anual","Balance Ceuta mensual","Balance Ceuta anual","Balance Melilla mensual","Balance Melilla anual","Balance","Mozart Reports","Año"],"not_rendered":{"charts":0,"images":1,"macros":1,"external_links":0,"defined_names":15,"comments":0,"pivot_tables":0},"unopened":[],"bounds":{"document_bytes":16777216,"sheet_cells":100000,"rows_first":2000,"rows_last":500,"rows_between":2000,"halvings":0,"cell_chars":16384,"cell_head_chars":4096},"cells_cut":0,"cells_raw":0,"read":"whole","date_system":"1900"}

{"sheet":"AVISO LEGAL","index":0,"n_rows":23,"n_cols":10,"rows_kept":23,"cut":false,"hidden":false,"merged":[]}
[]
[]
[]
[]
[]
[]
[]
[]
[]
[]
[]
[]
[]
[]
[]
[]
[]
[]
[]
[]
[]
[]
[null,null,null,null,null,null,null,null,null,"www.ree.es"]

{"sheet":"Balance nacional mensual","index":1,"n_rows":105,"n_cols":15,"rows_kept":105,"cut":false,"hidden":false,"merged":[[39,1,39,14],[37,1,37,14],[36,1,36,11],[35,1,35,14],[5,2,5,9],[32,1,32,14],[33,1,33,14],[34,1,34,14],[31,1,31,9],[31,11,31,13]]}
[" mensual"]
[]
[]
[null,null,null,null,null,null,null,null,null,null,null,null,"Sistema eléctrico"]
[null,null,null,null,null,null,null,null,null,null,null,null,"Horizonte temporal"]
[null,null,null,null,null,null,null,null,null,null,null,null,"Periodo"]
[]
[null,null,"Ene.","Feb.","Mar.","Abr.","May.","Jun.","Jul.","Ago.","Sep.","Oct.","Nov.","Dic.",{"$f":"OFFSET(Año!C19,($A$104-1),0)","v":2010}]
[]
[null,"Hidráulica",{"$f":"OFFSET(Balance!C85,0,($A$104-1)*12)","v":4414.2761132999995},{"$f":"OFFSET(Balance!D85,0,($A$104-1)*12)","v":3450.7255615999998},{"$f":"OFFSET(Balance!E85,0,($A$104-1)*12)","v":5031.7780444},{"$f":"OFFSET(Balance!F85,0,($A$104-1)*12)","v":4029.8561307},{"$f":"OFFSET(Balance!G85,0,($A$104-1)*12)","v":3174.5390475999998},{"$f":"OFFSET(Balance!H85,0,($A$104-1)*12)","v":2946.0881532000003},{"$f":"OFFSET(Balance!I85,0,($A$104-1)*12)","v":2437.1694070000003},{"$f":"OFFSET(Balance!J85,0,($A$104-1)*12)","v":1695.0818135},{"$f":"OFFSET(Balance!K85,0,($A$104-1)*12)","v":1249.4073436999997},{"$f":"OFFSET(Balance!L85,0,($A$104-1)*12)","v":1282.6130285000002},{"$f":"OFFSET(Balance!M85,0,($A$104-1)*12)","v":2043.8580677},{"$f":"OFFSET(Balance!N85,0,($A$104-1)*12)","v":3254.0614768999999},{"$f":"IF(SUM(C10:N10)=0,\"-\",SUM(C10:N10))","v":35009.454188100004}]
[null,"Turbinación bombeo",{"$f":"OFFSET(Balance!C86,0,($A$104-1)*12)","v":529.60983670000007},{"$f":"OFFSET(Balance!D86,0,($A$104-1)*12)","v":388.30555539999995},{"$f":"OFFSET(Balance!E86,0,($A$104-1)*12)","v":381.26509259999995},{"$f":"OFFSET(Balance!F86,0,($A$104-1)*12)","v":212.21241929999999},{"$f":"OFFSET(Balance!G86,0,($A$104-1)*12)","v":195.96443439999999},{"$f":"OFFSET(Balance!H86,0,($A$104-1)*12)","v":161.10858679999998},{"$f":"OFFSET(Balance!I86,0,($A$104-1)*12)","v":139.41769099999999},{"$f":"OFFSET(Balance!J86,0,($A$104-1)*12)","v":161.80076849999998},{"$f":"OFFSET(Balance!K86,0,($A$104-1)*12)","v":163.58696829999997},{"$f":"OFFSET(Balance!L86,0,($A$104-1)*12)","v":242.28118949999995},{"$f":"OFFSET(Balance!M86,0,($A$104-1)*12)","v":225.55656829999995},{"$f":"OFFSET(Balance!N86,0,($A$104-1)*12)","v":319.33869309999994},{"$f":"IF(SUM(C11:N11)=0,\"-\",SUM(C11:N11))","v":3120.4478038999996}]
[null,"Nuclear",{"$f":"OFFSET(Balance!C87,0,($A$104-1)*12)","v":4480.6099999999997},{"$f":"OFFSET(Balance!D87,0,($A$104-1)*12)","v":4635.9830000000002},{"$f":"OFFSET(Balance!E87,0,($A$104-1)*12)","v":4877.9646469999998},{"$f":"OFFSET(Balance!F87,0,($A$104-1)*12)","v":4894.268},{"$f":"OFFSET(Balance!G87,0,($A$104-1)*12)","v":4417.8689999999997},{"$f":"OFFSET(Balance!H87,0,($A$104-1)*12)","v":4693.97},{"$f":"OFFSET(Balance!I87,0,($A$104-1)*12)","v":5399.9840000000004},{"$f":"OFFSET(Balance!J87,0,($A$104-1)*12)","v":5421.2550000000001},{"$f":"OFFSET(Balance!K87,0,($A$104-1)*12)","v":5066.8190000000004},{"$f":"OFFSET(Balance!L87,0,($A$104-1)*12)","v":5429.7690000000002},{"$f":"OFFSET(Balance!M87,0,($A$104-1)*12)","v":5094.6189999999997},{"$f":"OFFSET(Balance!N87,0,($A$104-1)*12)","v":4829.2110000000002},59242.321647000004]
[null,"Carbón",{"$f":"OFFSET(Balance!C88,0,($A$104-1)*12)","v":1984.722964},{"$f":"OFFSET(Balance!D88,0,($A$104-1)*12)","v":1620.4064370000001},{"$f":"OFFSET(Balance!E88,0,($A$104-1)*12)","v":1128.3404140000002},{"$f":"OFFSET(Balance!F88,0,($A$104-1)*12)","v":904.4831099999999},{"$f":"OFFSET(Balance!G88,0,($A$104-1)*12)","v":1053.230108},{"$f":"OFFSET(Balance!H88,0,($A$104-1)*12)","v":1601.6091620000002},{"$f":"OFFSET(Balance!I88,0,($A$104-1)*12)","v":2742.5060000000003},{"$f":"OFFSET(Balance!J88,0,($A$104-1)*12)","v":3122.487928},{"$f":"OFFSET(Balance!K88,0,($A$104-1)*12)","v":3256.4198250000004},{"$f":"OFFSET(Balance!L88,0,($A$104-1)*12)","v":2204.4321009999999},{"$f":"OFFSET(Balance!M88,0,($A$104-1)*12)","v":1819.434667},{"$f":"OFFSET(Balance!N88,0,($A$104-1)*12)","v":2262.5406840000001},23700.613399999998]
[null,"Fuel + Gas",{"$f":"OFFSET(Balance!C89,0,($A$104-1)*12)","v":769.16592200000014},{"$f":"OFFSET(Balance!D89,0,($A$104-1)*12)","v":680.88749999999982},{"$f":"OFFSET(Balance!E89,0,($A$104-1)*12)","v":622.58834999999999},{"$f":"OFFSET(Balance!F89,0,($A$104-1)*12)","v":645.15955300000007},{"$f":"OFFSET(Balance!G89,0,($A$104-1)*12)","v":743.36511300000006},{"$f":"OFFSET(Balance!H89,0,($A$104-1)*12)","v":767.24708999999996},{"$f":"OFFSET(Balance!I89,0,($A$104-1)*12)","v":791.55072799999994},{"$f":"OFFSET(Balance!J89,0,($A$104-1)*12)","v":801.00316300000009},{"$f":"OFFSET(Balance!K89,0,($A$104-1)*12)","v":775.18720799999994},{"$f":"OFFSET(Balance!L89,0,($A$104-1)*12)","v":725.47373100000004},{"$f":"OFFSET(Balance!M89,0,($A$104-1)*12)","v":741.36895700000014},{"$f":"OFFSET(Balance!N89,0,($A$104-1)*12)","v":758.76250100000016},8821.7598160000016]
[null,"Ciclo combinado (2)",{"$f":"OFFSET(Balance!C90,0,($A$104-1)*12)","v":5621.9420650000002},{"$f":"OFFSET(Balance!D90,0,($A$104-1)*12)","v":5052.5037549999997},{"$f":"OFFSET(Balance!E90,0,($A$104-1)*12)","v":4384.9885919999997},{"$f":"OFFSET(Balance!F90,0,($A$104-1)*12)","v":4612.7417769999993},{"$f":"OFFSET(Balance!G90,0,($A$104-1)*12)","v":4834.0750719999996},{"$f":"OFFSET(Balance!H90,0,($A$104-1)*12)","v":5727.7229470000002},{"$f":"OFFSET(Balance!I90,0,($A$104-1)*12)","v":7160.3432119999998},{"$f":"OFFSET(Balance!J90,0,($A$104-1)*12)","v":6106.9485729999997},{"$f":"OFFSET(Balance!K90,0,($A$104-1)*12)","v":6544.5626990000001},{"$f":"OFFSET(Balance!L90,0,($A$104-1)*12)","v":5651.8631519999999},{"$f":"OFFSET(Balance!M90,0,($A$104-1)*12)","v":5881.4311129999996},{"$f":"OFFSET(Balance!N90,0,($A$104-1)*12)","v":5219.8611950000004},66798.984152000005]
[null,"Régimen ordinario",{"$f":"OFFSET(Balance!C91,0,($A$104-1)*12)","v":17800.326901},{"$f":"OFFSET(Balance!D91,0,($A$104-1)*12)","v":15828.811808999997},{"$f":"OFFSET(Balance!E91,0,($A$104-1)*12)","v":16426.925139999999},{"$f":"OFFSET(Balance!F91,0,($A$104-1)*12)","v":15298.720989999998},{"$f":"OFFSET(Balance!G91,0,($A$104-1)*12)","v":14419.042774999998},{"$f":"OFFSET(Balance!H91,0,($A$104-1)*12)","v":15897.745939000002},{"$f":"OFFSET(Balance!I91,0,($A$104-1)*12)","v":18670.971038000003},{"$f":"OFFSET(Balance!J91,0,($A$104-1)*12)","v":17308.577246000001},{"$f":"OFFSET(Balance!K91,0,($A$104-1)*12)","v":17055.983044000001},{"$f":"OFFSET(Balance!L91,0,($A$104-1)*12)","v":15536.432202},{"$f":"OFFSET(Balance!M91,0,($A$104-1)*12)","v":15806.268372999999},{"$f":"OFFSET(Balance!N91,0,($A$104-1)*12)","v":16643.775550000002},196693.58100699997]
[]
[null,"Hidroeólica",{"$f":"OFFSET(Balance!C92,0,($A$104-1)*12)","v":"-"},{"$f":"OFFSET(Balance!D92,0,($A$104-1)*12)","v":"-"},{"$f":"OFFSET(Balance!E92,0,($A$104-1)*12)","v":"-"},{"$f":"OFFSET(Balance!F92,0,($A$104-1)*12)","v":"-"},{"$f":"OFFSET(Balance!G92,0,($A$104-1)*12)","v":"-"},{"$f":"OFFSET(Balance!H92,0,($A$104-1)*12)","v":"-"},{"$f":"OFFSET(Balance!I92,0,($A$104-1)*12)","v":"-"},{"$f":"OFFSET(Balance!J92,0,($A$104-1)*12)","v":"-"},{"$f":"OFFSET(Balance!K92,0,($A$104-1)*12)","v":"-"},{"$f":"OFFSET(Balance!L92,0,($A$104-1)*12)","v":"-"},{"$f":"OFFSET(Balance!M92,0,($A$104-1)*12)","v":"-"},{"$f":"OFFSET(Balance!N92,0,($A$104-1)*12)","v":"-"},{"$f":"IF(SUM(C18:N18)=0,\"-\",SUM(C18:N18))","v":"-"}]
[null,"Hidráulica (3)",{"$f":"OFFSET(Balance!C93,0,($A$104-1)*12)","v":764.37},{"$f":"OFFSET(Balance!D93,0,($A$104-1)*12)","v":616.57799999999997},{"$f":"OFFSET(Balance!E93,0,($A$104-1)*12)","v":784.76},{"$f":"OFFSET(Balance!F93,0,($A$104-1)*12)","v":690.19600000000003},{"$f":"OFFSET(Balance!G93,0,($A$104-1)*12)","v":688.34299999999996},{"$f":"OFFSET(Balance!H93,0,($A$104-1)*12)","v":608.94799999999998},{"$f":"OFFSET(Balance!I93,0,($A$104-1)*12)","v":459.60300000000001},{"$f":"OFFSET(Balance!J93,0,($A$104-1)*12)","v":341.74799999999999},{"$f":"OFFSET(Balance!K93,0,($A$104-1)*12)","v":281.05},{"$f":"OFFSET(Balance!L93,0,($A$104-1)*12)","v":318.88900000000001},{"$f":"OFFSET(Balance!M93,0,($A$104-1)*12)","v":567.66},{"$f":"OFFSET(Balance!N93,0,($A$104-1)*12)","v":702.17499999999995},6824.32]
[null,"Eólica",{"$f":"OFFSET(Balance!C94,0,($A$104-1)*12)","v":4304.4309999999996},{"$f":"OFFSET(Balance!D94,0,($A$104-1)*12)","v":4637.902},{"$f":"OFFSET(Balance!E94,0,($A$104-1)*12)","v":4570.1519999999991},{"$f":"OFFSET(Balance!F94,0,($A$104-1)*12)","v":2667.3429999999998},{"$f":"OFFSET(Balance!G94,0,($A$104-1)*12)","v":3655.8969999999999},{"$f":"OFFSET(Balance!H94,0,($A$104-1)*12)","v":2615.31},{"$f":"OFFSET(Balance!I94,0,($A$104-1)*12)","v":2845.759},{"$f":"OFFSET(Balance!J94,0,($A$104-1)*12)","v":2937.761},{"$f":"OFFSET(Balance!K94,0,($A$104-1)*12)","v":2337.395},{"$f":"OFFSET(Balance!L94,0,($A$104-1)*12)","v":3967.3230000000003},{"$f":"OFFSET(Balance!M94,0,($A$104-1)*12)","v":4366.5439999999999},{"$f":"OFFSET(Balance!N94,0,($A$104-1)*12)","v":4639.5129999999999},43545.33]
[null,"Solar fotovoltaica",{"$f":"OFFSET(Balance!C95,0,($A$104-1)*12)","v":263.11899999999997},{"$f":"OFFSET(Balance!D95,0,($A$104-1)*12)","v":305.07099999999997},{"$f":"OFFSET(Balance!E95,0,($A$104-1)*12)","v":481.50900000000001},{"$f":"OFFSET(Balance!F95,0,($A$104-1)*12)","v":590.40700000000004},{"$f":"OFFSET(Balance!G95,0,($A$104-1)*12)","v":711.44200000000001},{"$f":"OFFSET(Balance!H95,0,($A$104-1)*12)","v":685.33100000000002},{"$f":"OFFSET(Balance!I95,0,($A$104-1)*12)","v":785.81499999999994},{"$f":"OFFSET(Balance!J95,0,($A$104-1)*12)","v":723.07},{"$f":"OFFSET(Balance!K95,0,($A$104-1)*12)","v":631.37599999999998},{"$f":"OFFSET(Balance!L95,0,($A$104-1)*12)","v":548.48400000000004},{"$f":"OFFSET(Balance!M95,0,($A$104-1)*12)","v":382.17600000000004},{"$f":"OFFSET(Balance!N95,0,($A$104-1)*12)","v":314.97199999999998},6422.7720000000008]
[null,"Solar térmica",{"$f":"OFFSET(Balance!C96,0,($A$104-1)*12)","v":13.151999999999999},{"$f":"OFFSET(Balance!D96,0,($A$104-1)*12)","v":11.682},{"$f":"OFFSET(Balance!E96,0,($A$104-1)*12)","v":23.731999999999999},{"$f":"OFFSET(Balance!F96,0,($A$104-1)*12)","v":36.92},{"$f":"OFFSET(Balance!G96,0,($A$104-1)*12)","v":69.084000000000003},{"$f":"OFFSET(Balance!H96,0,($A$104-1)*12)","v":72.531999999999996},{"$f":"OFFSET(Balance!I96,0,($A$104-1)*12)","v":104.59},{"$f":"OFFSET(Balance!J96,0,($A$104-1)*12)","v":121.9},{"$f":"OFFSET(Balance!K96,0,($A$104-1)*12)","v":100.917},{"$f":"OFFSET(Balance!L96,0,($A$104-1)*12)","v":71.745000000000005},{"$f":"OFFSET(Balance!M96,0,($A$104-1)*12)","v":31.619},{"$f":"OFFSET(Balance!N96,0,($A$104-1)*12)","v":33.747},691.62]
[null,"Térmica renovable (5)",{"$f":"OFFSET(Balance!C97,0,($A$104-1)*12)","v":274.84199999999998},{"$f":"OFFSET(Balance!D97,0,($A$104-1)*12)","v":245.35900000000001},{"$f":"OFFSET(Balance!E97,0,($A$104-1)*12)","v":262.31099999999998},{"$f":"OFFSET(Balance!F97,0,($A$104-1)*12)","v":277.04300000000001},{"$f":"OFFSET(Balance!G97,0,($A$104-1)*12)","v":300.03700000000003},{"$f":"OFFSET(Balance!H97,0,($A$104-1)*12)","v":288.51100000000002},{"$f":"OFFSET(Balance!I97,0,($A$104-1)*12)","v":278.10199999999998},{"$f":"OFFSET(Balance!J97,0,($A$104-1)*12)","v":284.791},{"$f":"OFFSET(Balance!K97,0,($A$104-1)*12)","v":267.96199999999999},{"$f":"OFFSET(Balance!L97,0,($A$104-1)*12)","v":284.303},{"$f":"OFFSET(Balance!M97,0,($A$104-1)*12)","v":273.09999999999997},{"$f":"OFFSET(Balance!N97,0,($A$104-1)*12)","v":295.99899999999997},3332.3599999999997]
[null,"Térmica no renovable (5)",{"$f":"OFFSET(Balance!C98,0,($A$104-1)*12)","v":2672.7280000000001},{"$f":"OFFSET(Balance!D98,0,($A$104-1)*12)","v":2486.873},{"$f":"OFFSET(Balance!E98,0,($A$104-1)*12)","v":2628.8110000000001},{"$f":"OFFSET(Balance!F98,0,($A$104-1)*12)","v":2562.366},{"$f":"OFFSET(Balance!G98,0,($A$104-1)*12)","v":2593.181},{"$f":"OFFSET(Balance!H98,0,($A$104-1)*12)","v":2552.884},{"$f":"OFFSET(Balance!I98,0,($A$104-1)*12)","v":2625.9669999999996},{"$f":"OFFSET(Balance!J98,0,($A$104-1)*12)","v":2177.1619999999998},{"$f":"OFFSET(Balance!K98,0,($A$104-1)*12)","v":2550.5650000000001},{"$f":"OFFSET(Balance!L98,0,($A$104-1)*12)","v":2661.3690000000001},{"$f":"OFFSET(Balance!M98,0,($A$104-1)*12)","v":2677.2269999999999},{"$f":"OFFSET(Balance!N98,0,($A$104-1)*12)","v":2784.1910000000003},30973.323999999997]
[null,"Residuos no renovables",{"$f":"OFFSET(Balance!C99,0,($A$104-1)*12)","v":"-"},{"$f":"OFFSET(Balance!D99,0,($A$104-1)*12)","v":"-"},{"$f":"OFFSET(Balance!E99,0,($A$104-1)*12)","v":"-"},{"$f":"OFFSET(Balance!F99,0,($A$104-1)*12)","v":"-"},{"$f":"OFFSET(Balance!G99,0,($A$104-1)*12)","v":"-"},{"$f":"OFFSET(Balance!H99,0,($A$104-1)*12)","v":"-"},{"$f":"OFFSET(Balance!I99,0,($A$104-1)*12)","v":"-"},{"$f":"OFFSET(Balance!J99,0,($A$104-1)*12)","v":"-"},{"$f":"OFFSET(Balance!K99,0,($A$104-1)*12)","v":"-"},{"$f":"OFFSET(Balance!L99,0,($A$104-1)*12)","v":"-"},{"$f":"OFFSET(Balance!M99,0,($A$104-1)*12)","v":"-"},{"$f":"OFFSET(Balance!N99,0,($A$104-1)*12)","v":"-"},"-"]
[null,"Residuos renovables",{"$f":"OFFSET(Balance!C100,0,($A$104-1)*12)","v":"-"},{"$f":"OFFSET(Balance!D100,0,($A$104-1)*12)","v":"-"},{"$f":"OFFSET(Balance!E100,0,($A$104-1)*12)","v":"-"},{"$f":"OFFSET(Balance!F100,0,($A$104-1)*12)","v":"-"},{"$f":"OFFSET(Balance!G100,0,($A$104-1)*12)","v":"-"},{"$f":"OFFSET(Balance!H100,0,($A$104-1)*12)","v":"-"},{"$f":"OFFSET(Balance!I100,0,($A$104-1)*12)","v":"-"},{"$f":"OFFSET(Balance!J100,0,($A$104-1)*12)","v":"-"},{"$f":"OFFSET(Balance!K100,0,($A$104-1)*12)","v":"-"},{"$f":"OFFSET(Balance!L100,0,($A$104-1)*12)","v":"-"},{"$f":"OFFSET(Balance!M100,0,($A$104-1)*12)","v":"-"},{"$f":"OFFSET(Balance!N100,0,($A$104-1)*12)","v":"-"},{"$f":"IF(SUM(C26:N26)=0,\"-\",SUM(C26:N26))","v":"-"}]
[null,"Régimen especial",{"$f":"OFFSET(Balance!C101,0,($A$104-1)*12)","v":8292.6419999999998},{"$f":"OFFSET(Balance!D101,0,($A$104-1)*12)","v":8303.4650000000001},{"$f":"OFFSET(Balance!E101,0,($A$104-1)*12)","v":8751.2749999999996},{"$f":"OFFSET(Balance!F101,0,($A$104-1)*12)","v":6824.2749999999996},{"$f":"OFFSET(Balance!G101,0,($A$104-1)*12)","v":8017.9840000000004},{"$f":"OFFSET(Balance!H101,0,($A$104-1)*12)","v":6823.5160000000005},{"$f":"OFFSET(Balance!I101,0,($A$104-1)*12)","v":7099.8359999999993},{"$f":"OFFSET(Balance!J101,0,($A$104-1)*12)","v":6586.4320000000007},{"$f":"OFFSET(Balance!K101,0,($A$104-1)*12)","v":6169.2649999999994},{"$f":"OFFSET(Balance!L101,0,($A$104-1)*12)","v":7852.1130000000012},{"$f":"OFFSET(Balance!M101,0,($A$104-1)*12)","v":8298.3260000000009},{"$f":"OFFSET(Balance!N101,0,($A$104-1)*12)","v":8770.5969999999998},91789.725999999995]
[null,"Generación",{"$f":"OFFSET(Balance!C102,0,($A$104-1)*12)","v":26092.968900999997},{"$f":"OFFSET(Balance!D102,0,($A$104-1)*12)","v":24132.276808999995},{"$f":"OFFSET(Balance!E102,0,($A$104-1)*12)","v":25178.200139999997},{"$f":"OFFSET(Balance!F102,0,($A$104-1)*12)","v":22122.995989999996},{"$f":"OFFSET(Balance!G102,0,($A$104-1)*12)","v":22437.026774999998},{"$f":"OFFSET(Balance!H102,0,($A$104-1)*12)","v":22721.261938999996},{"$f":"OFFSET(Balance!I102,0,($A$104-1)*12)","v":25770.807038000003},{"$f":"OFFSET(Balance!J102,0,($A$104-1)*12)","v":23895.009246000001},{"$f":"OFFSET(Balance!K102,0,($A$104-1)*12)","v":23225.248044},{"$f":"OFFSET(Balance!L102,0,($A$104-1)*12)","v":23388.545201999998},{"$f":"OFFSET(Balance!M102,0,($A$104-1)*12)","v":24104.594372999993},{"$f":"OFFSET(Balance!N102,0,($A$104-1)*12)","v":25414.37255},{"$f":"IF(SUM(C28:N28)=0,\"-\",SUM(C28:N28))","v":288483.30700699997}]
[null,"Consumos en bombeo",{"$f":"OFFSET(Balance!C103,0,($A$104-1)*12)","v":-756.58548100000007},{"$f":"OFFSET(Balance!D103,0,($A$104-1)*12)","v":-554.72222199999999},{"$f":"OFFSET(Balance!E103,0,($A$104-1)*12)","v":-544.66441799999996},{"$f":"OFFSET(Balance!F103,0,($A$104-1)*12)","v":-303.16059899999999},{"$f":"OFFSET(Balance!G103,0,($A$104-1)*12)","v":-279.94919199999998},{"$f":"OFFSET(Balance!H103,0,($A$104-1)*12)","v":-230.155124},{"$f":"OFFSET(Balance!I103,0,($A$104-1)*12)","v":-199.16812999999999},{"$f":"OFFSET(Balance!J103,0,($A$104-1)*12)","v":-231.14395499999998},{"$f":"OFFSET(Balance!K103,0,($A$104-1)*12)","v":-233.69566899999998},{"$f":"OFFSET(Balance!L103,0,($A$104-1)*12)","v":-346.11598499999997},{"$f":"OFFSET(Balance!M103,0,($A$104-1)*12)","v":-322.22366899999997},{"$f":"OFFSET(Balance!N103,0,($A$104-1)*12)","v":-456.19813299999998},-4457.7825769999999]
[null,"Saldo intercambios internacionales (4)",{"$f":"OFFSET(Balance!C104,0,($A$104-1)*12)","v":-304.71344599999998},{"$f":"OFFSET(Balance!D104,0,($A$104-1)*12)","v":-506.196753},{"$f":"OFFSET(Balance!E104,0,($A$104-1)*12)","v":-560.11404599999992},{"$f":"OFFSET(Balance!F104,0,($A$104-1)*12)","v":-729.095102},{"$f":"OFFSET(Balance!G104,0,($A$104-1)*12)","v":-542.81502899999998},{"$f":"OFFSET(Balance!H104,0,($A$104-1)*12)","v":-821.22575100000006},{"$f":"OFFSET(Balance!I104,0,($A$104-1)*12)","v":-1000.6535670000001},{"$f":"OFFSET(Balance!J104,0,($A$104-1)*12)","v":-758.60105700000008},{"$f":"OFFSET(Balance!K104,0,($A$104-1)*12)","v":-964.2554520000001},{"$f":"OFFSET(Balance!L104,0,($A$104-1)*12)","v":-1295.5098870000002},{"$f":"OFFSET(Balance!M104,0,($A$104-1)*12)","v":-593.21057400000007},{"$f":"OFFSET(Balance!N104,0,($A$104-1)*12)","v":-256.28839399999998},-8332.6790579999997]
[null,"Demanda transporte (b.c.)",{"$f":"OFFSET(Balance!C105,0,($A$104-1)*12)","v":25031.669973999997},{"$f":"OFFSET(Balance!D105,0,($A$104-1)*12)","v":23071.357833999995},{"$f":"OFFSET(Balance!E105,0,($A$104-1)*12)","v":24073.421675999998},{"$f":"OFFSET(Balance!F105,0,($A$104-1)*12)","v":21090.740288999998},{"$f":"OFFSET(Balance!G105,0,($A$104-1)*12)","v":21614.262553999997},{"$f":"OFFSET(Balance!H105,0,($A$104-1)*12)","v":21669.881063999994},{"$f":"OFFSET(Balance!I105,0,($A$104-1)*12)","v":24570.985341000003},{"$f":"OFFSET(Balance!J105,0,($A$104-1)*12)","v":22905.264234000002},{"$f":"OFFSET(Balance!K105,0,($A$104-1)*12)","v":22027.296922999998},{"$f":"OFFSET(Balance!L105,0,($A$104-1)*12)","v":21746.919329999997},{"$f":"OFFSET(Balance!M105,0,($A$104-1)*12)","v":23189.160129999993},{"$f":"OFFSET(Balance!N105,0,($A$104-1)*12)","v":24701.886022999999},{"$f":"IF(SUM(C31:N31)=0,\"-\",SUM(C31:N31))","v":275692.84537199995}]
[null,"(1) Asignación de unidades de producción según combustible principal."]
[null,"(2) Incluye funcionamiento en ciclo abierto."]
[]
[null,"(3) Incluye todas aquellas unidades menores de 50 MW que no pertenecen a ninguna unidad de gestión hidráulica (UGH)."]
[null,"(4) Valor positivo: saldo importador; valor negativo: saldo exportador."]
[null,"(5) Hasta 2010 incluye residuos."]
[]
[]
[]
[]
[]
[]
[]
[]
[]
[]
[]
[]
[]
[]
[]
[]
[]
[]
[]
[]
[]
[]
[]
[]
[]
[]
[]
[]
[]
[]
[]
[]
[]
[]
[]
[]
[]
[]
[]
[]
[]
[]
[]
[]
[]
[]
[]
[]
[]
[]
[]
[]
[]
[]
[]
[]
[]
[]
[]
[]
[]
[]
[]
[]
[2]
[11]
[4]
[11]

{"sheet":"Balance nacional anual","index":2,"n_rows":37,"n_cols":9,"rows_kept":37,"cut":false,"hidden":false,"merged":[[36,1,36,11],[35,1,35,11],[31,1,31,11],[32,1,32,11],[33,1,33,11],[34,1,34,11]]}
[null,null,null,null,null,null,null,null,1]
[]
[]
[null,null,null,null,null,null,null,"Sistema eléctrico"]
[null,null,null,null,null,null,null,"Horizonte temporal"]
[null,null,null,null,null,null,null,"Periodo"]
[]
[null,null,{"$f":"OFFSET(Balance!C189,0,($I$1-1)*7)","v":2007},{"$f":"OFFSET(Balance!D189,0,($I$1-1)*7)","v":2008},{"$f":"OFFSET(Balance!E189,0,($I$1-1)*7)","v":2009},{"$f":"OFFSET(Balance!F189,0,($I$1-1)*7)","v":2010},{"$f":"OFFSET(Balance!G189,0,($I$1-1)*7)","v":2011},{"$f":"OFFSET(Balance!H189,0,($I$1-1)*7)","v":2012},{"$f":"OFFSET(Balance!I189,0,($I$1-1)*7)","v":2013}]
[]
[null,"Hidráulica",{"$f":"OFFSET(Balance!C190,0,($I$1-1)*7)","v":22978.978099999993},{"$f":"OFFSET(Balance!D190,0,($I$1-1)*7)","v":18295.638600000002},{"$f":"OFFSET(Balance!E190,0,($I$1-1)*7)","v":20732.3027},{"$f":"OFFSET(Balance!F190,0,($I$1-1)*7)","v":35009.454188100004},{"$f":"OFFSET(Balance!G190,0,($I$1-1)*7)","v":"-"},{"$f":"OFFSET(Balance!H190,0,($I$1-1)*7)","v":"-"},{"$f":"OFFSET(Balance!I190,0,($I$1-1)*7)","v":"-"}]
[null,"Turbinación bombeo",{"$f":"OFFSET(Balance!C191,0,($I$1-1)*7)","v":3102.6008999999999},{"$f":"OFFSET(Balance!D191,0,($I$1-1)*7)","v":2661.7513999999996},{"$f":"OFFSET(Balance!E191,0,($I$1-1)*7)","v":2655.9322999999999},{"$f":"OFFSET(Balance!F191,0,($I$1-1)*7)","v":3120.4478038999996},{"$f":"OFFSET(Balance!G191,0,($I$1-1)*7)","v":"-"},{"$f":"OFFSET(Balance!H191,0,($I$1-1)*7)","v":"-"},{"$f":"OFFSET(Balance!I191,0,($I$1-1)*7)","v":"-"}]
[null,"Nuclear",{"$f":"OFFSET(Balance!C192,0,($I$1-1)*7)","v":52638.926999999996},{"$f":"OFFSET(Balance!D192,0,($I$1-1)*7)","v":56460.290999999997},{"$f":"OFFSET(Balance!E192,0,($I$1-1)*7)","v":50549.445000000007},{"$f":"OFFSET(Balance!F192,0,($I$1-1)*7)","v":59242.321647000004},{"$f":"OFFSET(Balance!G192,0,($I$1-1)*7)","v":"-"},{"$f":"OFFSET(Balance!H192,0,($I$1-1)*7)","v":"-"},{"$f":"OFFSET(Balance!I192,0,($I$1-1)*7)","v":"-"}]
[null,"Carbón",{"$f":"OFFSET(Balance!C193,0,($I$1-1)*7)","v":70630.103000000003},{"$f":"OFFSET(Balance!D193,0,($I$1-1)*7)","v":46508.363000000005},{"$f":"OFFSET(Balance!E193,0,($I$1-1)*7)","v":34793.025000000001},{"$f":"OFFSET(Balance!F193,0,($I$1-1)*7)","v":23700.613399999998},{"$f":"OFFSET(Balance!G193,0,($I$1-1)*7)","v":"-"},{"$f":"OFFSET(Balance!H193,0,($I$1-1)*7)","v":"-"},{"$f":"OFFSET(Balance!I193,0,($I$1-1)*7)","v":"-"}]
[null,"Fuel + Gas",{"$f":"OFFSET(Balance!C194,0,($I$1-1)*7)","v":9988.4650000000001},{"$f":"OFFSET(Balance!D194,0,($I$1-1)*7)","v":9887.5660000000007},{"$f":"OFFSET(Balance!E194,0,($I$1-1)*7)","v":9276.3040540000002},{"$f":"OFFSET(Balance!F194,0,($I$1-1)*7)","v":8821.7598159999998},{"$f":"OFFSET(Balance!G194,0,($I$1-1)*7)","v":"-"},{"$f":"OFFSET(Balance!H194,0,($I$1-1)*7)","v":"-"},{"$f":"OFFSET(Balance!I194,0,($I$1-1)*7)","v":"-"}]
[null,"Ciclo combinado (2)",{"$f":"OFFSET(Balance!C195,0,($I$1-1)*7)","v":70600.137999999992},{"$f":"OFFSET(Balance!D195,0,($I$1-1)*7)","v":93197.539000000004},{"$f":"OFFSET(Balance!E195,0,($I$1-1)*7)","v":80223.794999999998},{"$f":"OFFSET(Balance!F195,0,($I$1-1)*7)","v":66798.98415199999},{"$f":"OFFSET(Balance!G195,0,($I$1-1)*7)","v":"-"},{"$f":"OFFSET(Balance!H195,0,($I$1-1)*7)","v":"-"},{"$f":"OFFSET(Balance!I195,0,($I$1-1)*7)","v":"-"}]
[null,"Régimen ordinario",{"$f":"OFFSET(Balance!C196,0,($I$1-1)*7)","v":229939.212},{"$f":"OFFSET(Balance!D196,0,($I$1-1)*7)","v":227011.14899999998},{"$f":"OFFSET(Balance!E196,0,($I$1-1)*7)","v":198230.80405400001},{"$f":"OFFSET(Balance!F196,0,($I$1-1)*7)","v":196693.581007},{"$f":"OFFSET(Balance!G196,0,($I$1-1)*7)","v":"-"},{"$f":"OFFSET(Balance!H196,0,($I$1-1)*7)","v":"-"},{"$f":"OFFSET(Balance!I196,0,($I$1-1)*7)","v":"-"}]
[]
[null,"Hidroeólica",{"$f":"OFFSET(Balance!C197,0,($I$1-1)*7)","v":" "},{"$f":"OFFSET(Balance!D197,0,($I$1-1)*7)","v":" "},{"$f":"OFFSET(Balance!E197,0,($I$1-1)*7)","v":" "},{"$f":"OFFSET(Balance!F197,0,($I$1-1)*7)","v":" "},{"$f":"OFFSET(Balance!G197,0,($I$1-1)*7)","v":"-"},{"$f":"OFFSET(Balance!H197,0,($I$1-1)*7)","v":"-"},{"$f":"OFFSET(Balance!I197,0,($I$1-1)*7)","v":"-"}]
[null,"Resto hidráulica (3)",{"$f":"OFFSET(Balance!C198,0,($I$1-1)*7)","v":4126.5010000000002},{"$f":"OFFSET(Balance!D198,0,($I$1-1)*7)","v":4639.8159999999998},{"$f":"OFFSET(Balance!E198,0,($I$1-1)*7)","v":5454.0710000000008},{"$f":"OFFSET(Balance!F198,0,($I$1-1)*7)","v":6824.32},{"$f":"OFFSET(Balance!G198,0,($I$1-1)*7)","v":"-"},{"$f":"OFFSET(Balance!H198,0,($I$1-1)*7)","v":"-"},{"$f":"OFFSET(Balance!I198,0,($I$1-1)*7)","v":"-"}]
[null,"Eólica",{"$f":"OFFSET(Balance!C199,0,($I$1-1)*7)","v":27611.650999999998},{"$f":"OFFSET(Balance!D199,0,($I$1-1)*7)","v":32159.822000000007},{"$f":"OFFSET(Balance!E199,0,($I$1-1)*7)","v":38252.826999999997},{"$f":"OFFSET(Balance!F199,0,($I$1-1)*7)","v":43545.33},{"$f":"OFFSET(Balance!G199,0,($I$1-1)*7)","v":"-"},{"$f":"OFFSET(Balance!H199,0,($I$1-1)*7)","v":"-"},{"$f":"OFFSET(Balance!I199,0,($I$1-1)*7)","v":"-"}]
[null,"Solar fotovoltaica",{"$f":"OFFSET(Balance!C200,0,($I$1-1)*7)","v":483.90199999999999},{"$f":"OFFSET(Balance!D200,0,($I$1-1)*7)","v":2497.9560000000001},{"$f":"OFFSET(Balance!E200,0,($I$1-1)*7)","v":6072.3899999999994},{"$f":"OFFSET(Balance!F200,0,($I$1-1)*7)","v":6422.7719999999999},{"$f":"OFFSET(Balance!G200,0,($I$1-1)*7)","v":"-"},{"$f":"OFFSET(Balance!H200,0,($I$1-1)*7)","v":"-"},{"$f":"OFFSET(Balance!I200,0,($I$1-1)*7)","v":"-"}]
[null,"Solar térmica",{"$f":"OFFSET(Balance!C201,0,($I$1-1)*7)","v":7.6269999999999998},{"$f":"OFFSET(Balance!D201,0,($I$1-1)*7)","v":15.378},{"$f":"OFFSET(Balance!E201,0,($I$1-1)*7)","v":129.82299999999998},{"$f":"OFFSET(Balance!F201,0,($I$1-1)*7)","v":691.62},{"$f":"OFFSET(Balance!G201,0,($I$1-1)*7)","v":"-"},{"$f":"OFFSET(Balance!H201,0,($I$1-1)*7)","v":"-"},{"$f":"OFFSET(Balance!I201,0,($I$1-1)*7)","v":"-"}]
[null,"Térmica renovable(5)/Otras renovables",{"$f":"OFFSET(Balance!C202,0,($I$1-1)*7)","v":2588.9679999999998},{"$f":"OFFSET(Balance!D202,0,($I$1-1)*7)","v":2868.7079999999996},{"$f":"OFFSET(Balance!E202,0,($I$1-1)*7)","v":3317.3420000000001},{"$f":"OFFSET(Balance!F202,0,($I$1-1)*7)","v":3332.3599999999997},{"$f":"OFFSET(Balance!G202,0,($I$1-1)*7)","v":"-"},{"$f":"OFFSET(Balance!H202,0,($I$1-1)*7)","v":"-"},{"$f":"OFFSET(Balance!I202,0,($I$1-1)*7)","v":"-"}]
[null,"Cogeneración y resto(5)/Cogeneración",{"$f":"OFFSET(Balance!C203,0,($I$1-1)*7)","v":23450.429999999997},{"$f":"OFFSET(Balance!D203,0,($I$1-1)*7)","v":26721.149999999998},{"$f":"OFFSET(Balance!E203,0,($I$1-1)*7)","v":28600.731},{"$f":"OFFSET(Balance!F203,0,($I$1-1)*7)","v":30973.324000000004},{"$f":"OFFSET(Balance!G203,0,($I$1-1)*7)","v":"-"},{"$f":"OFFSET(Balance!H203,0,($I$1-1)*7)","v":"-"},{"$f":"OFFSET(Balance!I203,0,($I$1-1)*7)","v":"-"}]
[null,"Residuos no renovables",{"$f":"OFFSET(Balance!C204,0,($I$1-1)*7)","v":" "},{"$f":"OFFSET(Balance!D204,0,($I$1-1)*7)","v":" "},{"$f":"OFFSET(Balance!E204,0,($I$1-1)*7)","v":" "},{"$f":"OFFSET(Balance!F204,0,($I$1-1)*7)","v":" "},{"$f":"OFFSET(Balance!G204,0,($I$1-1)*7)","v":"-"},{"$f":"OFFSET(Balance!H204,0,($I$1-1)*7)","v":"-"},{"$f":"OFFSET(Balance!I204,0,($I$1-1)*7)","v":"-"}]
[null,"Residuos renovables",{"$f":"OFFSET(Balance!C205,0,($I$1-1)*7)","v":" "},{"$f":"OFFSET(Balance!D205,0,($I$1-1)*7)","v":" "},{"$f":"OFFSET(Balance!E205,0,($I$1-1)*7)","v":" "},{"$f":"OFFSET(Balance!F205,0,($I$1-1)*7)","v":" "},{"$f":"OFFSET(Balance!G205,0,($I$1-1)*7)","v":"-"},{"$f":"OFFSET(Balance!H205,0,($I$1-1)*7)","v":"-"},{"$f":"OFFSET(Balance!I205,0,($I$1-1)*7)","v":"-"}]
[null,"Régimen especial",{"$f":"OFFSET(Balance!C206,0,($I$1-1)*7)","v":58269.078999999998},{"$f":"OFFSET(Balance!D206,0,($I$1-1)*7)","v":68902.83},{"$f":"OFFSET(Balance!E206,0,($I$1-1)*7)","v":81827.183999999994},{"$f":"OFFSET(Balance!F206,0,($I$1-1)*7)","v":91789.72600000001},{"$f":"OFFSET(Balance!G206,0,($I$1-1)*7)","v":"-"},{"$f":"OFFSET(Balance!H206,0,($I$1-1)*7)","v":"-"},{"$f":"OFFSET(Balance!I206,0,($I$1-1)*7)","v":"-"}]
[null,"Generación",{"$f":"OFFSET(Balance!C207,0,($I$1-1)*7)","v":288208.29099999997},{"$f":"OFFSET(Balance!D207,0,($I$1-1)*7)","v":295913.97899999999},{"$f":"OFFSET(Balance!E207,0,($I$1-1)*7)","v":280057.98805400002},{"$f":"OFFSET(Balance!F207,0,($I$1-1)*7)","v":288483.30700700002},{"$f":"OFFSET(Balance!G207,0,($I$1-1)*7)","v":"-"},{"$f":"OFFSET(Balance!H207,0,($I$1-1)*7)","v":"-"},{"$f":"OFFSET(Balance!I207,0,($I$1-1)*7)","v":"-"}]
[null,"Consumos en bombeo",{"$f":"OFFSET(Balance!C208,0,($I$1-1)*7)","v":-4432.2870000000003},{"$f":"OFFSET(Balance!D208,0,($I$1-1)*7)","v":-3802.502},{"$f":"OFFSET(Balance!E208,0,($I$1-1)*7)","v":-3794.1889999999999},{"$f":"OFFSET(Balance!F208,0,($I$1-1)*7)","v":-4457.7825769999999},{"$f":"OFFSET(Balance!G208,0,($I$1-1)*7)","v":"-"},{"$f":"OFFSET(Balance!H208,0,($I$1-1)*7)","v":"-"},{"$f":"OFFSET(Balance!I208,0,($I$1-1)*7)","v":"-"}]
[null,"Saldo intercambios internacionales (4)",{"$f":"OFFSET(Balance!C209,0,($I$1-1)*7)","v":-5750.4650000000001},{"$f":"OFFSET(Balance!D209,0,($I$1-1)*7)","v":-11039.585999999999},{"$f":"OFFSET(Balance!E209,0,($I$1-1)*7)","v":-8086.4139999999998},{"$f":"OFFSET(Balance!F209,0,($I$1-1)*7)","v":-8332.6790579999997},{"$f":"OFFSET(Balance!G209,0,($I$1-1)*7)","v":"-"},{"$f":"OFFSET(Balance!H209,0,($I$1-1)*7)","v":"-"},{"$f":"OFFSET(Balance!I209,0,($I$1-1)*7)","v":"-"}]
[null,"Demanda transporte (b.c.)",{"$f":"OFFSET(Balance!C210,0,($I$1-1)*7)","v":278025.53899999993},{"$f":"OFFSET(Balance!D210,0,($I$1-1)*7)","v":281071.891},{"$f":"OFFSET(Balance!E210,0,($I$1-1)*7)","v":268177.38505400001},{"$f":"OFFSET(Balance!F210,0,($I$1-1)*7)","v":275692.84537200007},{"$f":"OFFSET(Balance!G210,0,($I$1-1)*7)","v":"-"},{"$f":"OFFSET(Balance!H210,0,($I$1-1)*7)","v":"-"},{"$f":"OFFSET(Balance!I210,0,($I$1-1)*7)","v":"-"}]
[null,"(1) Asignación de unidades de producción según combustible principal."]
[null,"(2) Incluye funcionamiento en ciclo abierto."]
[]
[null,"(3) Incluye todas aquellas unidades menores de 50 MW que no pertenecen a ninguna unidad de gestión hidráulica (UGH) hasta 2010."]
[null,"(4) Valor positivo: saldo importador; valor negativo: saldo exportador."]
[null,"(5) Hasta 2010 e incluye residuos."]

{"sheet":"Balance Peninsular mensual","index":3,"n_rows":38,"n_cols":15,"rows_kept":38,"cut":false,"hidden":false,"merged":[[38,1,38,11],[37,1,37,11],[36,1,36,14],[33,1,33,14],[5,2,5,9],[31,1,31,14],[32,1,32,14],[35,1,35,12],[34,1,34,11]]}
[null,null,null,null,null,null,null,null,null,null,null,null,null,null,21]
[]
[]
[null,null,null,null,null,null,null,null,null,null,null,null,"Sistema eléctrico"]
[null,null,null,null,null,null,null,null,null,null,null,null,"Horizonte temporal"]
[null,null,null,null,null,null,null,null,null,null,null,null,"Periodo"]
[]
[null,null,"Ene.","Feb.","Mar.","Abr.","May.","Jun.","Jul.","Ago.","Sep.","Oct.","Nov.","Dic.",{"$f":"OFFSET(Año!C2,($O$1-1),0)","v":2010}]
[]
[null,"Hidráulica",{"$f":"OFFSET(Balance!C3,0,($O$1-1)*12)","v":4414.2761132999995},{"$f":"OFFSET(Balance!D3,0,($O$1-1)*12)","v":3450.7255615999998},{"$f":"OFFSET(Balance!E3,0,($O$1-1)*12)","v":5031.7780444},{"$f":"OFFSET(Balance!F3,0,($O$1-1)*12)","v":4029.8561307},{"$f":"OFFSET(Balance!G3,0,($O$1-1)*12)","v":3174.5390475999998},{"$f":"OFFSET(Balance!H3,0,($O$1-1)*12)","v":2946.0881532000003},{"$f":"OFFSET(Balance!I3,0,($O$1-1)*12)","v":2437.1694070000003},{"$f":"OFFSET(Balance!J3,0,($O$1-1)*12)","v":1695.0818135},{"$f":"OFFSET(Balance!K3,0,($O$1-1)*12)","v":1249.4073436999997},{"$f":"OFFSET(Balance!L3,0,($O$1-1)*12)","v":1282.6130285000002},{"$f":"OFFSET(Balance!M3,0,($O$1-1)*12)","v":2043.8580677},{"$f":"OFFSET(Balance!N3,0,($O$1-1)*12)","v":3254.0614768999999},{"$f":"IF(SUM(C10:N10)=0,\"-\",SUM(C10:N10))","v":35009.454188100004}]
[null,"Turbinación bombeo",{"$f":"OFFSET(Balance!C4,0,($O$1-1)*12)","v":529.60983670000007},{"$f":"OFFSET(Balance!D4,0,($O$1-1)*12)","v":388.30555539999995},{"$f":"OFFSET(Balance!E4,0,($O$1-1)*12)","v":381.26509259999995},{"$f":"OFFSET(Balance!F4,0,($O$1-1)*12)","v":212.21241929999999},{"$f":"OFFSET(Balance!G4,0,($O$1-1)*12)","v":195.96443439999999},{"$f":"OFFSET(Balance!H4,0,($O$1-1)*12)","v":161.10858679999998},{"$f":"OFFSET(Balance!I4,0,($O$1-1)*12)","v":139.41769099999999},{"$f":"OFFSET(Balance!J4,0,($O$1-1)*12)","v":161.80076849999998},{"$f":"OFFSET(Balance!K4,0,($O$1-1)*12)","v":163.58696829999997},{"$f":"OFFSET(Balance!L4,0,($O$1-1)*12)","v":242.28118949999995},{"$f":"OFFSET(Balance!M4,0,($O$1-1)*12)","v":225.55656829999995},{"$f":"OFFSET(Balance!N4,0,($O$1-1)*12)","v":319.33869309999994},{"$f":"IF(SUM(C11:N11)=0,\"-\",SUM(C11:N11))","v":3120.4478038999996}]
[null,"Nuclear",{"$f":"OFFSET(Balance!C5,0,($O$1-1)*12)","v":4480.6099999999997},{"$f":"OFFSET(Balance!D5,0,($O$1-1)*12)","v":4635.9830000000002},{"$f":"OFFSET(Balance!E5,0,($O$1-1)*12)","v":4877.9646469999998},{"$f":"OFFSET(Balance!F5,0,($O$1-1)*12)","v":4894.268},{"$f":"OFFSET(Balance!G5,0,($O$1-1)*12)","v":4417.8689999999997},{"$f":"OFFSET(Balance!H5,0,($O$1-1)*12)","v":4693.97},{"$f":"OFFSET(Balance!I5,0,($O$1-1)*12)","v":5399.9840000000004},{"$f":"OFFSET(Balance!J5,0,($O$1-1)*12)","v":5421.2550000000001},{"$f":"OFFSET(Balance!K5,0,($O$1-1)*12)","v":5066.8190000000004},{"$f":"OFFSET(Balance!L5,0,($O$1-1)*12)","v":5429.7690000000002},{"$f":"OFFSET(Balance!M5,0,($O$1-1)*12)","v":5094.6189999999997},{"$f":"OFFSET(Balance!N5,0,($O$1-1)*12)","v":4829.2110000000002},{"$f":"IF(SUM(C12:N12)=0,\"-\",SUM(C12:N12))","v":59242.321647000004}]
[null,"Carbón",{"$f":"OFFSET(Balance!C6,0,($O$1-1)*12)","v":1696.0940000000001},{"$f":"OFFSET(Balance!D6,0,($O$1-1)*12)","v":1367.2760000000001},{"$f":"OFFSET(Balance!E6,0,($O$1-1)*12)","v":844.19683400000008},{"$f":"OFFSET(Balance!F6,0,($O$1-1)*12)","v":633.69799999999998},{"$f":"OFFSET(Balance!G6,0,($O$1-1)*12)","v":823.90599999999995},{"$f":"OFFSET(Balance!H6,0,($O$1-1)*12)","v":1322.5630000000001},{"$f":"OFFSET(Balance!I6,0,($O$1-1)*12)","v":2450.4160000000002},{"$f":"OFFSET(Balance!J6,0,($O$1-1)*12)","v":2835.7339999999999},{"$f":"OFFSET(Balance!K6,0,($O$1-1)*12)","v":2971.1260000000002},{"$f":"OFFSET(Balance!L6,0,($O$1-1)*12)","v":1987.136},{"$f":"OFFSET(Balance!M6,0,($O$1-1)*12)","v":1627.231},{"$f":"OFFSET(Balance!N6,0,($O$1-1)*12)","v":2039.8789999999999},20599.255834]
[null,"Fuel + Gas",{"$f":"OFFSET(Balance!C7,0,($O$1-1)*12)","v":153.209},{"$f":"OFFSET(Balance!D7,0,($O$1-1)*12)","v":126.666},{"$f":"OFFSET(Balance!E7,0,($O$1-1)*12)","v":22.518000000000001},{"$f":"OFFSET(Balance!F7,0,($O$1-1)*12)","v":105.508},{"$f":"OFFSET(Balance!G7,0,($O$1-1)*12)","v":163.869},{"$f":"OFFSET(Balance!H7,0,($O$1-1)*12)","v":165.56899999999999},{"$f":"OFFSET(Balance!I7,0,($O$1-1)*12)","v":138.49199999999999},{"$f":"OFFSET(Balance!J7,0,($O$1-1)*12)","v":113.152},{"$f":"OFFSET(Balance!K7,0,($O$1-1)*12)","v":138.31899999999999},{"$f":"OFFSET(Balance!L7,0,($O$1-1)*12)","v":124.90300000000001},{"$f":"OFFSET(Balance!M7,0,($O$1-1)*12)","v":166.81100000000001},{"$f":"OFFSET(Balance!N7,0,($O$1-1)*12)","v":147.00700000000001},1566.0229999999999]
[null,"Ciclo combinado (2)",{"$f":"OFFSET(Balance!C8,0,($O$1-1)*12)","v":5308.0950000000003},{"$f":"OFFSET(Balance!D8,0,($O$1-1)*12)","v":4758.78},{"$f":"OFFSET(Balance!E8,0,($O$1-1)*12)","v":4086.5899279999999},{"$f":"OFFSET(Balance!F8,0,($O$1-1)*12)","v":4360.6160999999993},{"$f":"OFFSET(Balance!G8,0,($O$1-1)*12)","v":4552.942},{"$f":"OFFSET(Balance!H8,0,($O$1-1)*12)","v":5475.442},{"$f":"OFFSET(Balance!I8,0,($O$1-1)*12)","v":6782.4560000000001},{"$f":"OFFSET(Balance!J8,0,($O$1-1)*12)","v":5736.69},{"$f":"OFFSET(Balance!K8,0,($O$1-1)*12)","v":6235.23},{"$f":"OFFSET(Balance!L8,0,($O$1-1)*12)","v":5277.7479999999996},{"$f":"OFFSET(Balance!M8,0,($O$1-1)*12)","v":5529.0940000000001},{"$f":"OFFSET(Balance!N8,0,($O$1-1)*12)","v":4851.2572170000003},62954.940244999991]
[null,"Régimen ordinario",{"$f":"OFFSET(Balance!C9,0,($O$1-1)*12)","v":16581.893950000001},{"$f":"OFFSET(Balance!D9,0,($O$1-1)*12)","v":14727.736116999997},{"$f":"OFFSET(Balance!E9,0,($O$1-1)*12)","v":15244.312545999999},{"$f":"OFFSET(Balance!F9,0,($O$1-1)*12)","v":14236.158649999999},{"$f":"OFFSET(Balance!G9,0,($O$1-1)*12)","v":13329.089481999999},{"$f":"OFFSET(Balance!H9,0,($O$1-1)*12)","v":14764.740740000001},{"$f":"OFFSET(Balance!I9,0,($O$1-1)*12)","v":17347.935098000002},{"$f":"OFFSET(Balance!J9,0,($O$1-1)*12)","v":15963.713582},{"$f":"OFFSET(Balance!K9,0,($O$1-1)*12)","v":15824.488311999999},{"$f":"OFFSET(Balance!L9,0,($O$1-1)*12)","v":14344.450218},{"$f":"OFFSET(Balance!M9,0,($O$1-1)*12)","v":14687.169635999999},{"$f":"OFFSET(Balance!N9,0,($O$1-1)*12)","v":15440.754387000001},{"$f":"SUM(O10:O15)","v":182492.44271799998}]
[]
[null,"Hidráulica (3)",{"$f":"OFFSET(Balance!C10,0,($O$1-1)*12)","v":764.37},{"$f":"OFFSET(Balance!D10,0,($O$1-1)*12)","v":616.57799999999997},{"$f":"OFFSET(Balance!E10,0,($O$1-1)*12)","v":784.76},{"$f":"OFFSET(Balance!F10,0,($O$1-1)*12)","v":690.19600000000003},{"$f":"OFFSET(Balance!G10,0,($O$1-1)*12)","v":688.34299999999996},{"$f":"OFFSET(Balance!H10,0,($O$1-1)*12)","v":608.94799999999998},{"$f":"OFFSET(Balance!I10,0,($O$1-1)*12)","v":459.60300000000001},{"$f":"OFFSET(Balance!J10,0,($O$1-1)*12)","v":341.74799999999999},{"$f":"OFFSET(Balance!K10,0,($O$1-1)*12)","v":281.05},{"$f":"OFFSET(Balance!L10,0,($O$1-1)*12)","v":318.88900000000001},{"$f":"OFFSET(Balance!M10,0,($O$1-1)*12)","v":567.66},{"$f":"OFFSET(Balance!N10,0,($O$1-1)*12)","v":702.17499999999995},6824.32]
[null,"Eólica",{"$f":"OFFSET(Balance!C11,0,($O$1-1)*12)","v":4292.0919999999996},{"$f":"OFFSET(Balance!D11,0,($O$1-1)*12)","v":4622.4350000000004},{"$f":"OFFSET(Balance!E11,0,($O$1-1)*12)","v":4546.5469999999996},{"$f":"OFFSET(Balance!F11,0,($O$1-1)*12)","v":2634.819},{"$f":"OFFSET(Balance!G11,0,($O$1-1)*12)","v":3619.3339999999998},{"$f":"OFFSET(Balance!H11,0,($O$1-1)*12)","v":2576.1970000000001},{"$f":"OFFSET(Balance!I11,0,($O$1-1)*12)","v":2798.1329999999998},{"$f":"OFFSET(Balance!J11,0,($O$1-1)*12)","v":2894.7440000000001},{"$f":"OFFSET(Balance!K11,0,($O$1-1)*12)","v":2301.3229999999999},{"$f":"OFFSET(Balance!L11,0,($O$1-1)*12)","v":3952.8310000000001},{"$f":"OFFSET(Balance!M11,0,($O$1-1)*12)","v":4348.0590000000002},{"$f":"OFFSET(Balance!N11,0,($O$1-1)*12)","v":4621.8819999999996},43208.396000000001]
[null,"Solar fotovoltaica",{"$f":"OFFSET(Balance!C12,0,($O$1-1)*12)","v":248.57499999999999},{"$f":"OFFSET(Balance!D12,0,($O$1-1)*12)","v":289.95},{"$f":"OFFSET(Balance!E12,0,($O$1-1)*12)","v":458.21699999999998},{"$f":"OFFSET(Balance!F12,0,($O$1-1)*12)","v":565.84},{"$f":"OFFSET(Balance!G12,0,($O$1-1)*12)","v":683.24800000000005},{"$f":"OFFSET(Balance!H12,0,($O$1-1)*12)","v":656.76599999999996},{"$f":"OFFSET(Balance!I12,0,($O$1-1)*12)","v":752.89},{"$f":"OFFSET(Balance!J12,0,($O$1-1)*12)","v":691.53200000000004},{"$f":"OFFSET(Balance!K12,0,($O$1-1)*12)","v":605.38800000000003},{"$f":"OFFSET(Balance!L12,0,($O$1-1)*12)","v":525.85500000000002},{"$f":"OFFSET(Balance!M12,0,($O$1-1)*12)","v":364.05200000000002},{"$f":"OFFSET(Balance!N12,0,($O$1-1)*12)","v":297.46899999999999},6139.7820000000002]
[null,"Solar térmica",{"$f":"OFFSET(Balance!C13,0,($O$1-1)*12)","v":13.151999999999999},{"$f":"OFFSET(Balance!D13,0,($O$1-1)*12)","v":11.682},{"$f":"OFFSET(Balance!E13,0,($O$1-1)*12)","v":23.731999999999999},{"$f":"OFFSET(Balance!F13,0,($O$1-1)*12)","v":36.92},{"$f":"OFFSET(Balance!G13,0,($O$1-1)*12)","v":69.084000000000003},{"$f":"OFFSET(Balance!H13,0,($O$1-1)*12)","v":72.531999999999996},{"$f":"OFFSET(Balance!I13,0,($O$1-1)*12)","v":104.59},{"$f":"OFFSET(Balance!J13,0,($O$1-1)*12)","v":121.9},{"$f":"OFFSET(Balance!K13,0,($O$1-1)*12)","v":100.917},{"$f":"OFFSET(Balance!L13,0,($O$1-1)*12)","v":71.745000000000005},{"$f":"OFFSET(Balance!M13,0,($O$1-1)*12)","v":31.619},{"$f":"OFFSET(Balance!N13,0,($O$1-1)*12)","v":33.747},691.62]
[null,"Térmica renovable (5)",{"$f":"OFFSET(Balance!C14,0,($O$1-1)*12)","v":250.94},{"$f":"OFFSET(Balance!D14,0,($O$1-1)*12)","v":226.42400000000001},{"$f":"OFFSET(Balance!E14,0,($O$1-1)*12)","v":245.99799999999999},{"$f":"OFFSET(Balance!F14,0,($O$1-1)*12)","v":252.761},{"$f":"OFFSET(Balance!G14,0,($O$1-1)*12)","v":274.92500000000001},{"$f":"OFFSET(Balance!H14,0,($O$1-1)*12)","v":268.96100000000001},{"$f":"OFFSET(Balance!I14,0,($O$1-1)*12)","v":268.02999999999997},{"$f":"OFFSET(Balance!J14,0,($O$1-1)*12)","v":278.80399999999997},{"$f":"OFFSET(Balance!K14,0,($O$1-1)*12)","v":262.93700000000001},{"$f":"OFFSET(Balance!L14,0,($O$1-1)*12)","v":279.28699999999998},{"$f":"OFFSET(Balance!M14,0,($O$1-1)*12)","v":269.12099999999998},{"$f":"OFFSET(Balance!N14,0,($O$1-1)*12)","v":293.61099999999999},3171.7989999999995]
[null,"Térmica no renovable (5)",{"$f":"OFFSET(Balance!C15,0,($O$1-1)*12)","v":2661.2139999999999},{"$f":"OFFSET(Balance!D15,0,($O$1-1)*12)","v":2477.0210000000002},{"$f":"OFFSET(Balance!E15,0,($O$1-1)*12)","v":2616.777},{"$f":"OFFSET(Balance!F15,0,($O$1-1)*12)","v":2550.3539999999998},{"$f":"OFFSET(Balance!G15,0,($O$1-1)*12)","v":2581.357},{"$f":"OFFSET(Balance!H15,0,($O$1-1)*12)","v":2541.7829999999999},{"$f":"OFFSET(Balance!I15,0,($O$1-1)*12)","v":2613.6729999999998},{"$f":"OFFSET(Balance!J15,0,($O$1-1)*12)","v":2153.4079999999999},{"$f":"OFFSET(Balance!K15,0,($O$1-1)*12)","v":2523.7640000000001},{"$f":"OFFSET(Balance!L15,0,($O$1-1)*12)","v":2647.1170000000002},{"$f":"OFFSET(Balance!M15,0,($O$1-1)*12)","v":2659.6819999999998},{"$f":"OFFSET(Balance!N15,0,($O$1-1)*12)","v":2762.902},30789.052000000003]
[null,"Residuos no renovables",{"$f":"OFFSET(Balance!C16,0,($O$1-1)*12)","v":"-"},{"$f":"OFFSET(Balance!D16,0,($O$1-1)*12)","v":"-"},{"$f":"OFFSET(Balance!E16,0,($O$1-1)*12)","v":"-"},{"$f":"OFFSET(Balance!F16,0,($O$1-1)*12)","v":"-"},{"$f":"OFFSET(Balance!G16,0,($O$1-1)*12)","v":"-"},{"$f":"OFFSET(Balance!H16,0,($O$1-1)*12)","v":"-"},{"$f":"OFFSET(Balance!I16,0,($O$1-1)*12)","v":"-"},{"$f":"OFFSET(Balance!J16,0,($O$1-1)*12)","v":"-"},{"$f":"OFFSET(Balance!K16,0,($O$1-1)*12)","v":"-"},{"$f":"OFFSET(Balance!L16,0,($O$1-1)*12)","v":"-"},{"$f":"OFFSET(Balance!M16,0,($O$1-1)*12)","v":"-"},{"$f":"OFFSET(Balance!N16,0,($O$1-1)*12)","v":"-"},"-"]
[null,"Residuos renovables",{"$f":"OFFSET(Balance!C17,0,($O$1-1)*12)","v":"-"},{"$f":"OFFSET(Balance!D17,0,($O$1-1)*12)","v":"-"},{"$f":"OFFSET(Balance!E17,0,($O$1-1)*12)","v":"-"},{"$f":"OFFSET(Balance!F17,0,($O$1-1)*12)","v":"-"},{"$f":"OFFSET(Balance!G17,0,($O$1-1)*12)","v":"-"},{"$f":"OFFSET(Balance!H17,0,($O$1-1)*12)","v":"-"},{"$f":"OFFSET(Balance!I17,0,($O$1-1)*12)","v":"-"},{"$f":"OFFSET(Balance!J17,0,($O$1-1)*12)","v":"-"},{"$f":"OFFSET(Balance!K17,0,($O$1-1)*12)","v":"-"},{"$f":"OFFSET(Balance!L17,0,($O$1-1)*12)","v":"-"},{"$f":"OFFSET(Balance!M17,0,($O$1-1)*12)","v":"-"},{"$f":"OFFSET(Balance!N17,0,($O$1-1)*12)","v":"-"},{"$f":"IF(SUM(C25:N25)=0,\"-\",SUM(C25:N25))","v":"-"}]
[null,"Régimen especial",{"$f":"OFFSET(Balance!C18,0,($O$1-1)*12)","v":8230.3429999999989},{"$f":"OFFSET(Balance!D18,0,($O$1-1)*12)","v":8244.09},{"$f":"OFFSET(Balance!E18,0,($O$1-1)*12)","v":8676.030999999999},{"$f":"OFFSET(Balance!F18,0,($O$1-1)*12)","v":6730.8899999999994},{"$f":"OFFSET(Balance!G18,0,($O$1-1)*12)","v":7916.2909999999993},{"$f":"OFFSET(Balance!H18,0,($O$1-1)*12)","v":6725.1869999999999},{"$f":"OFFSET(Balance!I18,0,($O$1-1)*12)","v":6996.918999999999},{"$f":"OFFSET(Balance!J18,0,($O$1-1)*12)","v":6482.1360000000004},{"$f":"OFFSET(Balance!K18,0,($O$1-1)*12)","v":6075.3789999999999},{"$f":"OFFSET(Balance!L18,0,($O$1-1)*12)","v":7795.7240000000011},{"$f":"OFFSET(Balance!M18,0,($O$1-1)*12)","v":8240.1929999999993},{"$f":"OFFSET(Balance!N18,0,($O$1-1)*12)","v":8711.7860000000001},{"$f":"SUM(O18:O23)","v":90824.969000000012}]
[null,"Generación",{"$f":"OFFSET(Balance!C19,0,($O$1-1)*12)","v":24812.236949999999},{"$f":"OFFSET(Balance!D19,0,($O$1-1)*12)","v":22971.826116999997},{"$f":"OFFSET(Balance!E19,0,($O$1-1)*12)","v":23920.343546},{"$f":"OFFSET(Balance!F19,0,($O$1-1)*12)","v":20967.048649999997},{"$f":"OFFSET(Balance!G19,0,($O$1-1)*12)","v":21245.380482},{"$f":"OFFSET(Balance!H19,0,($O$1-1)*12)","v":21489.927739999999},{"$f":"OFFSET(Balance!I19,0,($O$1-1)*12)","v":24344.854098},{"$f":"OFFSET(Balance!J19,0,($O$1-1)*12)","v":22445.849581999999},{"$f":"OFFSET(Balance!K19,0,($O$1-1)*12)","v":21899.867311999998},{"$f":"OFFSET(Balance!L19,0,($O$1-1)*12)","v":22140.174218},{"$f":"OFFSET(Balance!M19,0,($O$1-1)*12)","v":22927.362636000002},{"$f":"OFFSET(Balance!N19,0,($O$1-1)*12)","v":24152.540386999997},{"$f":"IF(SUM(C27:N27)=0,\"-\",SUM(C27:N27))","v":273317.41171800002}]
[null,"Consumos en bombeo",{"$f":"OFFSET(Balance!C20,0,($O$1-1)*12)","v":-756.58548100000007},{"$f":"OFFSET(Balance!D20,0,($O$1-1)*12)","v":-554.72222199999999},{"$f":"OFFSET(Balance!E20,0,($O$1-1)*12)","v":-544.66441799999996},{"$f":"OFFSET(Balance!F20,0,($O$1-1)*12)","v":-303.16059899999999},{"$f":"OFFSET(Balance!G20,0,($O$1-1)*12)","v":-279.94919199999998},{"$f":"OFFSET(Balance!H20,0,($O$1-1)*12)","v":-230.155124},{"$f":"OFFSET(Balance!I20,0,($O$1-1)*12)","v":-199.16812999999999},{"$f":"OFFSET(Balance!J20,0,($O$1-1)*12)","v":-231.14395499999998},{"$f":"OFFSET(Balance!K20,0,($O$1-1)*12)","v":-233.69566899999998},{"$f":"OFFSET(Balance!L20,0,($O$1-1)*12)","v":-346.11598499999997},{"$f":"OFFSET(Balance!M20,0,($O$1-1)*12)","v":-322.22366899999997},{"$f":"OFFSET(Balance!N20,0,($O$1-1)*12)","v":-456.19813299999998},-4457.7825769999999]
[null,"Enlace Península-Baleares (6)",{"$f":"OFFSET(Balance!C21,0,($O$1-1)*12)","v":0},{"$f":"OFFSET(Balance!D21,0,($O$1-1)*12)","v":0},{"$f":"OFFSET(Balance!E21,0,($O$1-1)*12)","v":0},{"$f":"OFFSET(Balance!F21,0,($O$1-1)*12)","v":0},{"$f":"OFFSET(Balance!G21,0,($O$1-1)*12)","v":0},{"$f":"OFFSET(Balance!H21,0,($O$1-1)*12)","v":0},{"$f":"OFFSET(Balance!I21,0,($O$1-1)*12)","v":0},{"$f":"OFFSET(Balance!J21,0,($O$1-1)*12)","v":0},{"$f":"OFFSET(Balance!K21,0,($O$1-1)*12)","v":0},{"$f":"OFFSET(Balance!L21,0,($O$1-1)*12)","v":0},{"$f":"OFFSET(Balance!M21,0,($O$1-1)*12)","v":0},{"$f":"OFFSET(Balance!N21,0,($O$1-1)*12)","v":0},{"$f":"IF(SUM(C29:N29)=0,\"-\",SUM(C29:N29))","v":"-"}]
[null,"Saldo intercambios internacionales (7)",{"$f":"OFFSET(Balance!C22,0,($O$1-1)*12)","v":-304.71344599999998},{"$f":"OFFSET(Balance!D22,0,($O$1-1)*12)","v":-506.196753},{"$f":"OFFSET(Balance!E22,0,($O$1-1)*12)","v":-560.11404599999992},{"$f":"OFFSET(Balance!F22,0,($O$1-1)*12)","v":-729.095102},{"$f":"OFFSET(Balance!G22,0,($O$1-1)*12)","v":-542.81502899999998},{"$f":"OFFSET(Balance!H22,0,($O$1-1)*12)","v":-821.22575100000006},{"$f":"OFFSET(Balance!I22,0,($O$1-1)*12)","v":-1000.6535670000001},{"$f":"OFFSET(Balance!J22,0,($O$1-1)*12)","v":-758.60105700000008},{"$f":"OFFSET(Balance!K22,0,($O$1-1)*12)","v":-964.2554520000001},{"$f":"OFFSET(Balance!L22,0,($O$1-1)*12)","v":-1295.5098870000002},{"$f":"OFFSET(Balance!M22,0,($O$1-1)*12)","v":-593.21057400000007},{"$f":"OFFSET(Balance!N22,0,($O$1-1)*12)","v":-256.28839399999998},-8332.6790579999997]
[null,"Demanda transporte (b.c.)",{"$f":"OFFSET(Balance!C23,0,($O$1-1)*12)","v":23750.938022999999},{"$f":"OFFSET(Balance!D23,0,($O$1-1)*12)","v":21910.907142},{"$f":"OFFSET(Balance!E23,0,($O$1-1)*12)","v":22815.565081999997},{"$f":"OFFSET(Balance!F23,0,($O$1-1)*12)","v":19934.792949000002},{"$f":"OFFSET(Balance!G23,0,($O$1-1)*12)","v":20422.616260999999},{"$f":"OFFSET(Balance!H23,0,($O$1-1)*12)","v":20438.546864999997},{"$f":"OFFSET(Balance!I23,0,($O$1-1)*12)","v":23145.032401},{"$f":"OFFSET(Balance!J23,0,($O$1-1)*12)","v":21456.10457},{"$f":"OFFSET(Balance!K23,0,($O$1-1)*12)","v":20701.916191},{"$f":"OFFSET(Balance!L23,0,($O$1-1)*12)","v":20498.548346},{"$f":"OFFSET(Balance!M23,0,($O$1-1)*12)","v":22011.928392999998},{"$f":"OFFSET(Balance!N23,0,($O$1-1)*12)","v":23440.05386},{"$f":"IF(SUM(C31:N31)=0,\"-\",SUM(C31:N31))","v":260526.950083}]
[null,"(1) Asignación de unidades de producción según combustible principal."]
[null,"(2) Incluye funcionamiento en ciclo abierto."]
[null,"(3) Incluye todas aquellas unidades menores de 50 MW que no pertenecen a ninguna unidad de gestión hidráulica (UGH)."]
[null,"(4) Otras renovables incluyen biogás, biomasa, hidráulica marina y geotérmica. Los valores incluyen residuos hasta el 31/12/2014."]
[null,"(5) Hasta 2010 incluye residuos."]
[null,"(6) Valor positivo: entrada de energía en el sistema; valor negativo: salida de energía del sistema. Enlace funcionando al mínimo técnico de seguridad hasta el 13/08/2012. "]
[null,"(7) Valor positivo: saldo importador; valor negativo: saldo exportador."]

{"sheet":"Balance Peninsular anual","index":4,"n_rows":38,"n_cols":12,"rows_kept":38,"cut":false,"hidden":false,"merged":[[37,1,37,9],[35,1,35,9],[31,1,31,9],[32,1,32,9],[33,1,33,9],[34,1,34,9],[36,1,36,9]]}
[null,null,null,null,null,null,null,null,null,3,null,1]
[]
[]
[null,null,null,null,null,null,null,"  Sistema eléctrico"]
[null,null,null,null,null,null,null,"  Horizonte temporal"]
[null,null,null,null,null,null,null,"  Periodo"]
[]
[null,null,{"$f":"OFFSET(Balance!C107,0,($J$1-1)*8)","v":2006},{"$f":"OFFSET(Balance!D107,0,($J$1-1)*8)","v":2007},{"$f":"OFFSET(Balance!E107,0,($J$1-1)*8)","v":2008},{"$f":"OFFSET(Balance!F107,0,($J$1-1)*8)","v":2009},{"$f":"OFFSET(Balance!G107,0,($J$1-1)*8)","v":2010},{"$f":"OFFSET(Balance!H107,0,($J$1-1)*8)","v":2011},{"$f":"OFFSET(Balance!I107,0,($J$1-1)*8)","v":2012},{"$f":"OFFSET(Balance!J107,0,($J$1-1)*8)","v":2013}]
[]
[null,"Hidráulica",{"$f":"OFFSET(Balance!C108,0,($J$1-1)*8)","v":21226.384899999994},{"$f":"OFFSET(Balance!D108,0,($J$1-1)*8)","v":22978.978099999993},{"$f":"OFFSET(Balance!E108,0,($J$1-1)*8)","v":18295.638600000002},{"$f":"OFFSET(Balance!F108,0,($J$1-1)*8)","v":20732.3027},{"$f":"OFFSET(Balance!G108,0,($J$1-1)*8)","v":35009.454188100004},{"$f":"OFFSET(Balance!H108,0,($J$1-1)*8)","v":"-"},{"$f":"OFFSET(Balance!I108,0,($J$1-1)*8)","v":"-"},{"$f":"OFFSET(Balance!J108,0,($J$1-1)*8)","v":"-"}]
[null,"Turbinación bombeo",{"$f":"OFFSET(Balance!C109,0,($J$1-1)*8)","v":3743.8611000000001},{"$f":"OFFSET(Balance!D109,0,($J$1-1)*8)","v":3102.6008999999999},{"$f":"OFFSET(Balance!E109,0,($J$1-1)*8)","v":2661.7513999999996},{"$f":"OFFSET(Balance!F109,0,($J$1-1)*8)","v":2655.9322999999999},{"$f":"OFFSET(Balance!G109,0,($J$1-1)*8)","v":3120.4478038999996},{"$f":"OFFSET(Balance!H109,0,($J$1-1)*8)","v":"-"},{"$f":"OFFSET(Balance!I109,0,($J$1-1)*8)","v":"-"},{"$f":"OFFSET(Balance!J109,0,($J$1-1)*8)","v":"-"}]
[null,"Nuclear",{"$f":"OFFSET(Balance!C110,0,($J$1-1)*8)","v":57353.705999999998},{"$f":"OFFSET(Balance!D110,0,($J$1-1)*8)","v":52638.926999999996},{"$f":"OFFSET(Balance!E110,0,($J$1-1)*8)","v":56460.290999999997},{"$f":"OFFSET(Balance!F110,0,($J$1-1)*8)","v":50549.445000000007},{"$f":"OFFSET(Balance!G110,0,($J$1-1)*8)","v":59242.321647000004},{"$f":"OFFSET(Balance!H110,0,($J$1-1)*8)","v":"-"},{"$f":"OFFSET(Balance!I110,0,($J$1-1)*8)","v":"-"},{"$f":"OFFSET(Balance!J110,0,($J$1-1)*8)","v":"-"}]
[null,"Carbón",{"$f":"OFFSET(Balance!C111,0,($J$1-1)*8)","v":62126.065000000002},{"$f":"OFFSET(Balance!D111,0,($J$1-1)*8)","v":67686.248000000007},{"$f":"OFFSET(Balance!E111,0,($J$1-1)*8)","v":43409.537000000004},{"$f":"OFFSET(Balance!F111,0,($J$1-1)*8)","v":31622.562000000002},{"$f":"OFFSET(Balance!G111,0,($J$1-1)*8)","v":20599.255834},{"$f":"OFFSET(Balance!H111,0,($J$1-1)*8)","v":"-"},{"$f":"OFFSET(Balance!I111,0,($J$1-1)*8)","v":"-"},{"$f":"OFFSET(Balance!J111,0,($J$1-1)*8)","v":"-"}]
[null,"Fuel + Gas",{"$f":"OFFSET(Balance!C112,0,($J$1-1)*8)","v":5396.0580000000009},{"$f":"OFFSET(Balance!D112,0,($J$1-1)*8)","v":2090.7650000000003},{"$f":"OFFSET(Balance!E112,0,($J$1-1)*8)","v":2074.895},{"$f":"OFFSET(Balance!F112,0,($J$1-1)*8)","v":1789.5900000000001},{"$f":"OFFSET(Balance!G112,0,($J$1-1)*8)","v":1566.0229999999999},{"$f":"OFFSET(Balance!H112,0,($J$1-1)*8)","v":"-"},{"$f":"OFFSET(Balance!I112,0,($J$1-1)*8)","v":"-"},{"$f":"OFFSET(Balance!J112,0,($J$1-1)*8)","v":"-"}]
[null,"Ciclo combinado (2)",{"$f":"OFFSET(Balance!C113,0,($J$1-1)*8)","v":62122.434000000001},{"$f":"OFFSET(Balance!D113,0,($J$1-1)*8)","v":66572.867999999988},{"$f":"OFFSET(Balance!E113,0,($J$1-1)*8)","v":89100.732000000004},{"$f":"OFFSET(Balance!F113,0,($J$1-1)*8)","v":76379.284},{"$f":"OFFSET(Balance!G113,0,($J$1-1)*8)","v":62954.940244999991},{"$f":"OFFSET(Balance!H113,0,($J$1-1)*8)","v":"-"},{"$f":"OFFSET(Balance!I113,0,($J$1-1)*8)","v":"-"},{"$f":"OFFSET(Balance!J113,0,($J$1-1)*8)","v":"-"}]
[null,"Régimen ordinario",{"$f":"OFFSET(Balance!C114,0,($J$1-1)*8)","v":211968.50899999999},{"$f":"OFFSET(Balance!D114,0,($J$1-1)*8)","v":215070.38700000002},{"$f":"OFFSET(Balance!E114,0,($J$1-1)*8)","v":212002.845},{"$f":"OFFSET(Balance!F114,0,($J$1-1)*8)","v":183729.11600000001},{"$f":"OFFSET(Balance!G114,0,($J$1-1)*8)","v":182492.44271799998},{"$f":"OFFSET(Balance!H114,0,($J$1-1)*8)","v":"-"},{"$f":"OFFSET(Balance!I114,0,($J$1-1)*8)","v":"-"},{"$f":"OFFSET(Balance!J114,0,($J$1-1)*8)","v":"-"}]
[]
[null,"Resto hidráulica (3)",{"$f":"OFFSET(Balance!C115,0,($J$1-1)*8)","v":4148.5638790000012},{"$f":"OFFSET(Balance!D115,0,($J$1-1)*8)","v":4125.3249999999998},{"$f":"OFFSET(Balance!E115,0,($J$1-1)*8)","v":4638.143},{"$f":"OFFSET(Balance!F115,0,($J$1-1)*8)","v":5453.6730000000007},{"$f":"OFFSET(Balance!G115,0,($J$1-1)*8)","v":6824.32},{"$f":"OFFSET(Balance!H115,0,($J$1-1)*8)","v":"-"},{"$f":"OFFSET(Balance!I115,0,($J$1-1)*8)","v":"-"},{"$f":"OFFSET(Balance!J115,0,($J$1-1)*8)","v":"-"}]
[null,"Eólica",{"$f":"OFFSET(Balance!C116,0,($J$1-1)*8)","v":22880.856075000003},{"$f":"OFFSET(Balance!D116,0,($J$1-1)*8)","v":27249.154999999999},{"$f":"OFFSET(Balance!E116,0,($J$1-1)*8)","v":31757.850000000006},{"$f":"OFFSET(Balance!F116,0,($J$1-1)*8)","v":37888.576999999997},{"$f":"OFFSET(Balance!G116,0,($J$1-1)*8)","v":43208.396000000001},{"$f":"OFFSET(Balance!H116,0,($J$1-1)*8)","v":"-"},{"$f":"OFFSET(Balance!I116,0,($J$1-1)*8)","v":"-"},{"$f":"OFFSET(Balance!J116,0,($J$1-1)*8)","v":"-"}]
[null,"Solar fotovoltaica",{"$f":"OFFSET(Balance!C117,0,($J$1-1)*8)","v":102.37499899999992},{"$f":"OFFSET(Balance!D117,0,($J$1-1)*8)","v":462.577},{"$f":"OFFSET(Balance!E117,0,($J$1-1)*8)","v":2406.0700000000002},{"$f":"OFFSET(Balance!F117,0,($J$1-1)*8)","v":5829.0049999999992},{"$f":"OFFSET(Balance!G117,0,($J$1-1)*8)","v":6139.7820000000002},{"$f":"OFFSET(Balance!H117,0,($J$1-1)*8)","v":"-"},{"$f":"OFFSET(Balance!I117,0,($J$1-1)*8)","v":"-"},{"$f":"OFFSET(Balance!J117,0,($J$1-1)*8)","v":"-"}]
[null,"Solar térmica",{"$f":"OFFSET(Balance!C118,0,($J$1-1)*8)","v":0},{"$f":"OFFSET(Balance!D118,0,($J$1-1)*8)","v":7.6269999999999998},{"$f":"OFFSET(Balance!E118,0,($J$1-1)*8)","v":15.378},{"$f":"OFFSET(Balance!F118,0,($J$1-1)*8)","v":129.82299999999998},{"$f":"OFFSET(Balance!G118,0,($J$1-1)*8)","v":691.62},{"$f":"OFFSET(Balance!H118,0,($J$1-1)*8)","v":"-"},{"$f":"OFFSET(Balance!I118,0,($J$1-1)*8)","v":"-"},{"$f":"OFFSET(Balance!J118,0,($J$1-1)*8)","v":"-"}]
[null,"Térmica renovable(4)/Otras renovables",{"$f":"OFFSET(Balance!C119,0,($J$1-1)*8)","v":2182.6066820000001},{"$f":"OFFSET(Balance!D119,0,($J$1-1)*8)","v":2375.6849999999999},{"$f":"OFFSET(Balance!E119,0,($J$1-1)*8)","v":2651.4889999999996},{"$f":"OFFSET(Balance!F119,0,($J$1-1)*8)","v":3044.2870000000003},{"$f":"OFFSET(Balance!G119,0,($J$1-1)*8)","v":3171.7989999999995},{"$f":"OFFSET(Balance!H119,0,($J$1-1)*8)","v":"-"},{"$f":"OFFSET(Balance!I119,0,($J$1-1)*8)","v":"-"},{"$f":"OFFSET(Balance!J119,0,($J$1-1)*8)","v":"-"}]
[null,"Cogeneración y resto(4)/Cogeneración",{"$f":"OFFSET(Balance!C120,0,($J$1-1)*8)","v":22318.939364999995},{"$f":"OFFSET(Balance!D120,0,($J$1-1)*8)","v":23327.756999999998},{"$f":"OFFSET(Balance!E120,0,($J$1-1)*8)","v":26575.975999999999},{"$f":"OFFSET(Balance!F120,0,($J$1-1)*8)","v":28465.934000000001},{"$f":"OFFSET(Balance!G120,0,($J$1-1)*8)","v":30789.052000000003},{"$f":"OFFSET(Balance!H120,0,($J$1-1)*8)","v":"-"},{"$f":"OFFSET(Balance!I120,0,($J$1-1)*8)","v":"-"},{"$f":"OFFSET(Balance!J120,0,($J$1-1)*8)","v":"-"}]
[null,"Residuos no renovables",{"$f":"OFFSET(Balance!C121,0,($J$1-1)*8)","v":" "},{"$f":"OFFSET(Balance!D121,0,($J$1-1)*8)","v":" "},{"$f":"OFFSET(Balance!E121,0,($J$1-1)*8)","v":" "},{"$f":"OFFSET(Balance!F121,0,($J$1-1)*8)","v":" "},{"$f":"OFFSET(Balance!G121,0,($J$1-1)*8)","v":" "},{"$f":"OFFSET(Balance!H121,0,($J$1-1)*8)","v":"-"},{"$f":"OFFSET(Balance!I121,0,($J$1-1)*8)","v":"-"},{"$f":"OFFSET(Balance!J121,0,($J$1-1)*8)","v":"-"}]
[null,"Residuos renovables",{"$f":"OFFSET(Balance!C122,0,($J$1-1)*8)","v":" "},{"$f":"OFFSET(Balance!D122,0,($J$1-1)*8)","v":" "},{"$f":"OFFSET(Balance!E122,0,($J$1-1)*8)","v":" "},{"$f":"OFFSET(Balance!F122,0,($J$1-1)*8)","v":" "},{"$f":"OFFSET(Balance!G122,0,($J$1-1)*8)","v":" "},{"$f":"OFFSET(Balance!H122,0,($J$1-1)*8)","v":"-"},{"$f":"OFFSET(Balance!I122,0,($J$1-1)*8)","v":"-"},{"$f":"OFFSET(Balance!J122,0,($J$1-1)*8)","v":"-"}]
[null,"Régimen especial",{"$f":"OFFSET(Balance!C123,0,($J$1-1)*8)","v":51633.341},{"$f":"OFFSET(Balance!D123,0,($J$1-1)*8)","v":57548.125999999997},{"$f":"OFFSET(Balance!E123,0,($J$1-1)*8)","v":68044.906000000003},{"$f":"OFFSET(Balance!F123,0,($J$1-1)*8)","v":80811.298999999999},{"$f":"OFFSET(Balance!G123,0,($J$1-1)*8)","v":90824.969000000012},{"$f":"OFFSET(Balance!H123,0,($J$1-1)*8)","v":"-"},{"$f":"OFFSET(Balance!I123,0,($J$1-1)*8)","v":"-"},{"$f":"OFFSET(Balance!J123,0,($J$1-1)*8)","v":"-"}]
[null,"Generación",{"$f":"OFFSET(Balance!C124,0,($J$1-1)*8)","v":263601.84999999998},{"$f":"OFFSET(Balance!D124,0,($J$1-1)*8)","v":272618.51300000004},{"$f":"OFFSET(Balance!E124,0,($J$1-1)*8)","v":280047.75099999999},{"$f":"OFFSET(Balance!F124,0,($J$1-1)*8)","v":264540.41500000004},{"$f":"OFFSET(Balance!G124,0,($J$1-1)*8)","v":273317.41171799996},{"$f":"OFFSET(Balance!H124,0,($J$1-1)*8)","v":"-"},{"$f":"OFFSET(Balance!I124,0,($J$1-1)*8)","v":"-"},{"$f":"OFFSET(Balance!J124,0,($J$1-1)*8)","v":"-"}]
[null,"Consumos en bombeo",{"$f":"OFFSET(Balance!C125,0,($J$1-1)*8)","v":-5348.3729999999996},{"$f":"OFFSET(Balance!D125,0,($J$1-1)*8)","v":-4432.2870000000003},{"$f":"OFFSET(Balance!E125,0,($J$1-1)*8)","v":-3802.502},{"$f":"OFFSET(Balance!F125,0,($J$1-1)*8)","v":-3794.1889999999999},{"$f":"OFFSET(Balance!G125,0,($J$1-1)*8)","v":-4457.7825769999999},{"$f":"OFFSET(Balance!H125,0,($J$1-1)*8)","v":"-"},{"$f":"OFFSET(Balance!I125,0,($J$1-1)*8)","v":"-"},{"$f":"OFFSET(Balance!J125,0,($J$1-1)*8)","v":"-"}]
[null,"Enlace Península-Baleares (6)",{"$f":"OFFSET(Balance!C126,0,($J$1-1)*8)","v":"-"},{"$f":"OFFSET(Balance!D126,0,($J$1-1)*8)","v":"-"},{"$f":"OFFSET(Balance!E126,0,($J$1-1)*8)","v":"-"},{"$f":"OFFSET(Balance!F126,0,($J$1-1)*8)","v":"-"},{"$f":"OFFSET(Balance!G126,0,($J$1-1)*8)","v":"-"},{"$f":"OFFSET(Balance!H126,0,($J$1-1)*8)","v":"-"},{"$f":"OFFSET(Balance!I126,0,($J$1-1)*8)","v":"-"},{"$f":"OFFSET(Balance!J126,0,($J$1-1)*8)","v":"-"}]
[null,"Saldo intercambios internacionales (7)",{"$f":"OFFSET(Balance!C127,0,($J$1-1)*8)","v":-3272.518},{"$f":"OFFSET(Balance!D127,0,($J$1-1)*8)","v":-5750.4650000000001},{"$f":"OFFSET(Balance!E127,0,($J$1-1)*8)","v":-11039.585999999999},{"$f":"OFFSET(Balance!F127,0,($J$1-1)*8)","v":-8086.4139999999998},{"$f":"OFFSET(Balance!G127,0,($J$1-1)*8)","v":-8332.6790579999997},{"$f":"OFFSET(Balance!H127,0,($J$1-1)*8)","v":"-"},{"$f":"OFFSET(Balance!I127,0,($J$1-1)*8)","v":"-"},{"$f":"OFFSET(Balance!J127,0,($J$1-1)*8)","v":"-"}]
[null,"Demanda transporte (b.c.)",{"$f":"OFFSET(Balance!C128,0,($J$1-1)*8)","v":254980.95899999997},{"$f":"OFFSET(Balance!D128,0,($J$1-1)*8)","v":262435.761},{"$f":"OFFSET(Balance!E128,0,($J$1-1)*8)","v":265205.663},{"$f":"OFFSET(Balance!F128,0,($J$1-1)*8)","v":252659.81200000003},{"$f":"OFFSET(Balance!G128,0,($J$1-1)*8)","v":260526.95008299997},{"$f":"OFFSET(Balance!H128,0,($J$1-1)*8)","v":"-"},{"$f":"OFFSET(Balance!I128,0,($J$1-1)*8)","v":"-"},{"$f":"OFFSET(Balance!J128,0,($J$1-1)*8)","v":"-"}]
[null,"(1) Asignación de unidades de producción según combustible principal."]
[null,"(2) Incluye funcionamiento en ciclo abierto."]
[null,"(3) Incluye todas aquellas unidades menores de 50 MW que no pertenecen a ninguna unidad de gestión hidráulica (UGH)."]
[null,"(4) Incluye residuos hasta el 31/12/2010."]
[null,"(5) Incluye biogás, biomasa, hidráulica marina y geotérmica."]
[null,"(6) Valor positivo: entrada de energía en el sistema; valor negativo: salida de energía del sistema. Enlace funcionando al mínimo técnico de seguridad hasta el 13/08/2012. "]
[null,"(7) Valor positivo: saldo importador; valor negativo: saldo exportador."]

{"sheet":"Balance Baleares mensual","index":5,"n_rows":32,"n_cols":15,"rows_kept":32,"cut":false,"hidden":false,"merged":[[32,1,32,8],[31,1,31,14],[27,1,27,14],[28,1,28,14],[29,1,29,14],[30,1,30,12]]}
[null,null,null,null,null,null,null,null,null,null,null,null,null,null,5]
[]
[]
[null,null,null,null,null,null,null,null,null,null,null,null,"Sistema eléctrico"]
[null,null,null,null,null,null,null,null,null,null,null,null,"Horizonte temporal"]
[null,null,null,null,null,null,null,null,null,null,null,null,"Periodo"]
[]
[null,null,"Ene.","Feb.","Mar.","Abr.","May.","Jun.","Jul.","Ago.","Sep.","Oct.","Nov.","Dic.",{"$f":"OFFSET(Año!C18,($O$1-1),0)","v":2010}]
[]
[null,"Carbón",{"$f":"OFFSET(Balance!C26,0,($O$1-1)*12)","v":288628.96399999998},{"$f":"OFFSET(Balance!D26,0,($O$1-1)*12)","v":253130.43700000001},{"$f":"OFFSET(Balance!E26,0,($O$1-1)*12)","v":284143.58},{"$f":"OFFSET(Balance!F26,0,($O$1-1)*12)","v":270785.11},{"$f":"OFFSET(Balance!G26,0,($O$1-1)*12)","v":229324.10800000001},{"$f":"OFFSET(Balance!H26,0,($O$1-1)*12)","v":279046.16200000001},{"$f":"OFFSET(Balance!I26,0,($O$1-1)*12)","v":292090},{"$f":"OFFSET(Balance!J26,0,($O$1-1)*12)","v":286753.92800000001},{"$f":"OFFSET(Balance!K26,0,($O$1-1)*12)","v":285293.82500000001},{"$f":"OFFSET(Balance!L26,0,($O$1-1)*12)","v":217296.101},{"$f":"OFFSET(Balance!M26,0,($O$1-1)*12)","v":192203.66699999999},{"$f":"OFFSET(Balance!N26,0,($O$1-1)*12)","v":222661.68400000001},{"$f":"IF(SUM(C10:N10)=0,\"-\",SUM(C10:N10))","v":3101357.5659999996}]
[null,"Motores diesel",{"$f":"OFFSET(Balance!C27,0,($O$1-1)*12)","v":80487.338000000003},{"$f":"OFFSET(Balance!D27,0,($O$1-1)*12)","v":71127.048999999999},{"$f":"OFFSET(Balance!E27,0,($O$1-1)*12)","v":78081.048999999999},{"$f":"OFFSET(Balance!F27,0,($O$1-1)*12)","v":70171.271999999997},{"$f":"OFFSET(Balance!G27,0,($O$1-1)*12)","v":83167.909},{"$f":"OFFSET(Balance!H27,0,($O$1-1)*12)","v":94393.464000000007},{"$f":"OFFSET(Balance!I27,0,($O$1-1)*12)","v":113035.62},{"$f":"OFFSET(Balance!J27,0,($O$1-1)*12)","v":113945.387},{"$f":"OFFSET(Balance!K27,0,($O$1-1)*12)","v":97806.403000000006},{"$f":"OFFSET(Balance!L27,0,($O$1-1)*12)","v":76729.221000000005},{"$f":"OFFSET(Balance!M27,0,($O$1-1)*12)","v":67045.221999999994},{"$f":"OFFSET(Balance!N27,0,($O$1-1)*12)","v":81630.111999999994},1027620.046]
[null,"Turbina de gas",{"$f":"OFFSET(Balance!C28,0,($O$1-1)*12)","v":23036.824000000001},{"$f":"OFFSET(Balance!D28,0,($O$1-1)*12)","v":25540.649000000001},{"$f":"OFFSET(Balance!E28,0,($O$1-1)*12)","v":22064.976999999999},{"$f":"OFFSET(Balance!F28,0,($O$1-1)*12)","v":16837.77},{"$f":"OFFSET(Balance!G28,0,($O$1-1)*12)","v":15550.541999999999},{"$f":"OFFSET(Balance!H28,0,($O$1-1)*12)","v":20236.732},{"$f":"OFFSET(Balance!I28,0,($O$1-1)*12)","v":41379.637000000002},{"$f":"OFFSET(Balance!J28,0,($O$1-1)*12)","v":42027.091},{"$f":"OFFSET(Balance!K28,0,($O$1-1)*12)","v":26953.491999999998},{"$f":"OFFSET(Balance!L28,0,($O$1-1)*12)","v":22516.812000000002},{"$f":"OFFSET(Balance!M28,0,($O$1-1)*12)","v":21406.807000000001},{"$f":"OFFSET(Balance!N28,0,($O$1-1)*12)","v":21863.032999999999},299414.36599999998]
[null,"Fuel + Gas",{"$f":"OFFSET(Balance!C29,0,($O$1-1)*12)","v":103524.16200000001},{"$f":"OFFSET(Balance!D29,0,($O$1-1)*12)","v":96667.698000000004},{"$f":"OFFSET(Balance!E29,0,($O$1-1)*12)","v":100146.026},{"$f":"OFFSET(Balance!F29,0,($O$1-1)*12)","v":87009.042000000001},{"$f":"OFFSET(Balance!G29,0,($O$1-1)*12)","v":98718.451000000001},{"$f":"OFFSET(Balance!H29,0,($O$1-1)*12)","v":114630.19600000001},{"$f":"OFFSET(Balance!I29,0,($O$1-1)*12)","v":154415.25699999998},{"$f":"OFFSET(Balance!J29,0,($O$1-1)*12)","v":155972.478},{"$f":"OFFSET(Balance!K29,0,($O$1-1)*12)","v":124759.895},{"$f":"OFFSET(Balance!L29,0,($O$1-1)*12)","v":99246.03300000001},{"$f":"OFFSET(Balance!M29,0,($O$1-1)*12)","v":88452.028999999995},{"$f":"OFFSET(Balance!N29,0,($O$1-1)*12)","v":103493.14499999999},{"$f":"SUM(O11:O12)","v":1327034.412}]
[null,"Ciclo combinado (2)",{"$f":"OFFSET(Balance!C30,0,($O$1-1)*12)","v":83745.201000000001},{"$f":"OFFSET(Balance!D30,0,($O$1-1)*12)","v":90692.047000000006},{"$f":"OFFSET(Balance!E30,0,($O$1-1)*12)","v":69947.986000000004},{"$f":"OFFSET(Balance!F30,0,($O$1-1)*12)","v":35630.942999999999},{"$f":"OFFSET(Balance!G30,0,($O$1-1)*12)","v":87840.323999999993},{"$f":"OFFSET(Balance!H30,0,($O$1-1)*12)","v":61960.637999999999},{"$f":"OFFSET(Balance!I30,0,($O$1-1)*12)","v":159205.10999999999},{"$f":"OFFSET(Balance!J30,0,($O$1-1)*12)","v":145959.23199999999},{"$f":"OFFSET(Balance!K30,0,($O$1-1)*12)","v":74275.328999999998},{"$f":"OFFSET(Balance!L30,0,($O$1-1)*12)","v":107178.246},{"$f":"OFFSET(Balance!M30,0,($O$1-1)*12)","v":98555.293999999994},{"$f":"OFFSET(Balance!N30,0,($O$1-1)*12)","v":120643.372},{"$f":"IF(SUM(C14:N14)=0,\"-\",SUM(C14:N14))","v":1135633.7220000001}]
[null,"Generación auxiliar (3)",{"$f":"OFFSET(Balance!C31,0,($O$1-1)*12)","v":0},{"$f":"OFFSET(Balance!D31,0,($O$1-1)*12)","v":0},{"$f":"OFFSET(Balance!E31,0,($O$1-1)*12)","v":0},{"$f":"OFFSET(Balance!F31,0,($O$1-1)*12)","v":0},{"$f":"OFFSET(Balance!G31,0,($O$1-1)*12)","v":0},{"$f":"OFFSET(Balance!H31,0,($O$1-1)*12)","v":45.686},{"$f":"OFFSET(Balance!I31,0,($O$1-1)*12)","v":2619.5369999999998},{"$f":"OFFSET(Balance!J31,0,($O$1-1)*12)","v":2927.97},{"$f":"OFFSET(Balance!K31,0,($O$1-1)*12)","v":1100.336},{"$f":"OFFSET(Balance!L31,0,($O$1-1)*12)","v":0.80300000000000005},{"$f":"OFFSET(Balance!M31,0,($O$1-1)*12)","v":0},{"$f":"OFFSET(Balance!N31,0,($O$1-1)*12)","v":0},{"$f":"IF(SUM(C15:N15)=0,\"-\",SUM(C15:N15))","v":6694.3319999999994}]
[null,"Régimen ordinario",{"$f":"OFFSET(Balance!C32,0,($O$1-1)*12)","v":475898.32699999999},{"$f":"OFFSET(Balance!D32,0,($O$1-1)*12)","v":440490.18200000003},{"$f":"OFFSET(Balance!E32,0,($O$1-1)*12)","v":454237.59200000006},{"$f":"OFFSET(Balance!F32,0,($O$1-1)*12)","v":393425.09499999997},{"$f":"OFFSET(Balance!G32,0,($O$1-1)*12)","v":415882.88300000003},{"$f":"OFFSET(Balance!H32,0,($O$1-1)*12)","v":455682.68199999997},{"$f":"OFFSET(Balance!I32,0,($O$1-1)*12)","v":608329.90399999998},{"$f":"OFFSET(Balance!J32,0,($O$1-1)*12)","v":591613.60800000001},{"$f":"OFFSET(Balance!K32,0,($O$1-1)*12)","v":485429.38500000001},{"$f":"OFFSET(Balance!L32,0,($O$1-1)*12)","v":423721.18300000002},{"$f":"OFFSET(Balance!M32,0,($O$1-1)*12)","v":379210.99},{"$f":"OFFSET(Balance!N32,0,($O$1-1)*12)","v":446798.201},{"$f":"SUM(O10,O13:O15)","v":5570720.0320000006}]
[]
[null,"Eólica",{"$f":"OFFSET(Balance!C33,0,($O$1-1)*12)","v":599},{"$f":"OFFSET(Balance!D33,0,($O$1-1)*12)","v":689},{"$f":"OFFSET(Balance!E33,0,($O$1-1)*12)","v":590},{"$f":"OFFSET(Balance!F33,0,($O$1-1)*12)","v":377},{"$f":"OFFSET(Balance!G33,0,($O$1-1)*12)","v":312},{"$f":"OFFSET(Balance!H33,0,($O$1-1)*12)","v":275},{"$f":"OFFSET(Balance!I33,0,($O$1-1)*12)","v":322},{"$f":"OFFSET(Balance!J33,0,($O$1-1)*12)","v":395},{"$f":"OFFSET(Balance!K33,0,($O$1-1)*12)","v":303},{"$f":"OFFSET(Balance!L33,0,($O$1-1)*12)","v":477},{"$f":"OFFSET(Balance!M33,0,($O$1-1)*12)","v":529},{"$f":"OFFSET(Balance!N33,0,($O$1-1)*12)","v":703},5571]
[null,"Solar fotovoltaica",{"$f":"OFFSET(Balance!C34,0,($O$1-1)*12)","v":3845},{"$f":"OFFSET(Balance!D34,0,($O$1-1)*12)","v":4810},{"$f":"OFFSET(Balance!E34,0,($O$1-1)*12)","v":6958},{"$f":"OFFSET(Balance!F34,0,($O$1-1)*12)","v":8061},{"$f":"OFFSET(Balance!G34,0,($O$1-1)*12)","v":9047},{"$f":"OFFSET(Balance!H34,0,($O$1-1)*12)","v":8957},{"$f":"OFFSET(Balance!I34,0,($O$1-1)*12)","v":10437},{"$f":"OFFSET(Balance!J34,0,($O$1-1)*12)","v":10003},{"$f":"OFFSET(Balance!K34,0,($O$1-1)*12)","v":8360},{"$f":"OFFSET(Balance!L34,0,($O$1-1)*12)","v":6793},{"$f":"OFFSET(Balance!M34,0,($O$1-1)*12)","v":5600},{"$f":"OFFSET(Balance!N34,0,($O$1-1)*12)","v":4886},87757]
[null,"Otras renovables ",{"$f":"OFFSET(Balance!C35,0,($O$1-1)*12)","v":"-"},{"$f":"OFFSET(Balance!D35,0,($O$1-1)*12)","v":"-"},{"$f":"OFFSET(Balance!E35,0,($O$1-1)*12)","v":"-"},{"$f":"OFFSET(Balance!F35,0,($O$1-1)*12)","v":"-"},{"$f":"OFFSET(Balance!G35,0,($O$1-1)*12)","v":"-"},{"$f":"OFFSET(Balance!H35,0,($O$1-1)*12)","v":"-"},{"$f":"OFFSET(Balance!I35,0,($O$1-1)*12)","v":"-"},{"$f":"OFFSET(Balance!J35,0,($O$1-1)*12)","v":"-"},{"$f":"OFFSET(Balance!K35,0,($O$1-1)*12)","v":"-"},{"$f":"OFFSET(Balance!L35,0,($O$1-1)*12)","v":"-"},{"$f":"OFFSET(Balance!M35,0,($O$1-1)*12)","v":"-"},{"$f":"OFFSET(Balance!N35,0,($O$1-1)*12)","v":"-"},"-"]
[null,"Cogeneración",{"$f":"OFFSET(Balance!C36,0,($O$1-1)*12)","v":10815},{"$f":"OFFSET(Balance!D36,0,($O$1-1)*12)","v":9246},{"$f":"OFFSET(Balance!E36,0,($O$1-1)*12)","v":11253},{"$f":"OFFSET(Balance!F36,0,($O$1-1)*12)","v":11204},{"$f":"OFFSET(Balance!G36,0,($O$1-1)*12)","v":10903},{"$f":"OFFSET(Balance!H36,0,($O$1-1)*12)","v":10391},{"$f":"OFFSET(Balance!I36,0,($O$1-1)*12)","v":11522},{"$f":"OFFSET(Balance!J36,0,($O$1-1)*12)","v":22957},{"$f":"OFFSET(Balance!K36,0,($O$1-1)*12)","v":25904},{"$f":"OFFSET(Balance!L36,0,($O$1-1)*12)","v":13766},{"$f":"OFFSET(Balance!M36,0,($O$1-1)*12)","v":17545},{"$f":"OFFSET(Balance!N36,0,($O$1-1)*12)","v":20738},176244]
[null,"Residuos no renovables",{"$f":"OFFSET(Balance!C37,0,($O$1-1)*12)","v":"-"},{"$f":"OFFSET(Balance!D37,0,($O$1-1)*12)","v":"-"},{"$f":"OFFSET(Balance!E37,0,($O$1-1)*12)","v":"-"},{"$f":"OFFSET(Balance!F37,0,($O$1-1)*12)","v":"-"},{"$f":"OFFSET(Balance!G37,0,($O$1-1)*12)","v":"-"},{"$f":"OFFSET(Balance!H37,0,($O$1-1)*12)","v":"-"},{"$f":"OFFSET(Balance!I37,0,($O$1-1)*12)","v":"-"},{"$f":"OFFSET(Balance!J37,0,($O$1-1)*12)","v":"-"},{"$f":"OFFSET(Balance!K37,0,($O$1-1)*12)","v":"-"},{"$f":"OFFSET(Balance!L37,0,($O$1-1)*12)","v":"-"},{"$f":"OFFSET(Balance!M37,0,($O$1-1)*12)","v":"-"},{"$f":"OFFSET(Balance!N37,0,($O$1-1)*12)","v":"-"},{"$f":"IF(SUM(C22:N22)=0,\"-\",SUM(C22:N22))","v":"-"}]
[null,"Residuos renovables",{"$f":"OFFSET(Balance!C38,0,($O$1-1)*12)","v":"-"},{"$f":"OFFSET(Balance!D38,0,($O$1-1)*12)","v":"-"},{"$f":"OFFSET(Balance!E38,0,($O$1-1)*12)","v":"-"},{"$f":"OFFSET(Balance!F38,0,($O$1-1)*12)","v":"-"},{"$f":"OFFSET(Balance!G38,0,($O$1-1)*12)","v":"-"},{"$f":"OFFSET(Balance!H38,0,($O$1-1)*12)","v":"-"},{"$f":"OFFSET(Balance!I38,0,($O$1-1)*12)","v":"-"},{"$f":"OFFSET(Balance!J38,0,($O$1-1)*12)","v":"-"},{"$f":"OFFSET(Balance!K38,0,($O$1-1)*12)","v":"-"},{"$f":"OFFSET(Balance!L38,0,($O$1-1)*12)","v":"-"},{"$f":"OFFSET(Balance!M38,0,($O$1-1)*12)","v":"-"},{"$f":"OFFSET(Balance!N38,0,($O$1-1)*12)","v":"-"},{"$f":"IF(SUM(C23:N23)=0,\"-\",SUM(C23:N23))","v":"-"}]
[null,"Régimen especial",{"$f":"OFFSET(Balance!C39,0,($O$1-1)*12)","v":15259},{"$f":"OFFSET(Balance!D39,0,($O$1-1)*12)","v":14745},{"$f":"OFFSET(Balance!E39,0,($O$1-1)*12)","v":18801},{"$f":"OFFSET(Balance!F39,0,($O$1-1)*12)","v":19642},{"$f":"OFFSET(Balance!G39,0,($O$1-1)*12)","v":20262},{"$f":"OFFSET(Balance!H39,0,($O$1-1)*12)","v":19623},{"$f":"OFFSET(Balance!I39,0,($O$1-1)*12)","v":22281},{"$f":"OFFSET(Balance!J39,0,($O$1-1)*12)","v":33355},{"$f":"OFFSET(Balance!K39,0,($O$1-1)*12)","v":34567},{"$f":"OFFSET(Balance!L39,0,($O$1-1)*12)","v":21036},{"$f":"OFFSET(Balance!M39,0,($O$1-1)*12)","v":23674},{"$f":"OFFSET(Balance!N39,0,($O$1-1)*12)","v":26327},{"$f":"SUM(O18:O23)","v":269572}]
[null,"Generación",{"$f":"OFFSET(Balance!C40,0,($O$1-1)*12)","v":491157.32699999999},{"$f":"OFFSET(Balance!D40,0,($O$1-1)*12)","v":455235.18199999997},{"$f":"OFFSET(Balance!E40,0,($O$1-1)*12)","v":473038.592},{"$f":"OFFSET(Balance!F40,0,($O$1-1)*12)","v":413067.09499999997},{"$f":"OFFSET(Balance!G40,0,($O$1-1)*12)","v":436144.88299999997},{"$f":"OFFSET(Balance!H40,0,($O$1-1)*12)","v":475305.68199999997},{"$f":"OFFSET(Balance!I40,0,($O$1-1)*12)","v":630610.90399999998},{"$f":"OFFSET(Balance!J40,0,($O$1-1)*12)","v":624968.60800000001},{"$f":"OFFSET(Balance!K40,0,($O$1-1)*12)","v":519996.38500000001},{"$f":"OFFSET(Balance!L40,0,($O$1-1)*12)","v":444757.18300000002},{"$f":"OFFSET(Balance!M40,0,($O$1-1)*12)","v":402884.99},{"$f":"OFFSET(Balance!N40,0,($O$1-1)*12)","v":473125.201},{"$f":"SUM(O16:O17,O24)","v":5840292.0320000006}]
[null,"Enlace Península-Baleares (5)",{"$f":"OFFSET(Balance!C41,0,($O$1-1)*12)","v":0},{"$f":"OFFSET(Balance!D41,0,($O$1-1)*12)","v":0},{"$f":"OFFSET(Balance!E41,0,($O$1-1)*12)","v":0},{"$f":"OFFSET(Balance!F41,0,($O$1-1)*12)","v":0},{"$f":"OFFSET(Balance!G41,0,($O$1-1)*12)","v":0},{"$f":"OFFSET(Balance!H41,0,($O$1-1)*12)","v":0},{"$f":"OFFSET(Balance!I41,0,($O$1-1)*12)","v":0},{"$f":"OFFSET(Balance!J41,0,($O$1-1)*12)","v":0},{"$f":"OFFSET(Balance!K41,0,($O$1-1)*12)","v":0},{"$f":"OFFSET(Balance!L41,0,($O$1-1)*12)","v":0},{"$f":"OFFSET(Balance!M41,0,($O$1-1)*12)","v":0},{"$f":"OFFSET(Balance!N41,0,($O$1-1)*12)","v":0},"-"]
[null,"Demanda transporte (b.c.)",{"$f":"OFFSET(Balance!C42,0,($O$1-1)*12)","v":491157.32699999999},{"$f":"OFFSET(Balance!D42,0,($O$1-1)*12)","v":455235.18199999997},{"$f":"OFFSET(Balance!E42,0,($O$1-1)*12)","v":473038.592},{"$f":"OFFSET(Balance!F42,0,($O$1-1)*12)","v":413067.09499999997},{"$f":"OFFSET(Balance!G42,0,($O$1-1)*12)","v":436144.88299999997},{"$f":"OFFSET(Balance!H42,0,($O$1-1)*12)","v":475305.68199999997},{"$f":"OFFSET(Balance!I42,0,($O$1-1)*12)","v":630610.90399999998},{"$f":"OFFSET(Balance!J42,0,($O$1-1)*12)","v":624968.60800000001},{"$f":"OFFSET(Balance!K42,0,($O$1-1)*12)","v":519996.38500000001},{"$f":"OFFSET(Balance!L42,0,($O$1-1)*12)","v":444757.18300000002},{"$f":"OFFSET(Balance!M42,0,($O$1-1)*12)","v":402884.99},{"$f":"OFFSET(Balance!N42,0,($O$1-1)*12)","v":473125.201},{"$f":"SUM(O25:O26)","v":5840292.0320000006}]
[null,"(1) Asignación de unidades de producción según combustible principal."]
[null,"(2) Incluye funcionamiento en ciclo abierto."]
[null,"(3) Grupos de emergencia que se instalan de forma transitoria en determinadas zonas para cubrir un déficit de generación."]
[null,"(4) Hasta 2010 incluye residuos."]
[null,"(5) Valor positivo: entrada de energía en el sistema; valor negativo: salida de energía del sistema. Enlace funcionando al mínimo técnico de seguridad hasta el 13/08/2012. "]

{"sheet":"Balance Baleares anual","index":6,"n_rows":33,"n_cols":10,"rows_kept":33,"cut":false,"hidden":false,"merged":[[27,1,27,11],[28,1,28,11],[29,1,29,11],[32,1,32,11],[30,1,30,14],[31,1,31,14]]}
[null,null,null,null,null,null,null,null,null,1]
[]
[]
[null,null,null,null,null,null,null,null,"Sistema eléctrico"]
[null,null,null,null,null,null,null,null,"Horizonte temporal"]
[null,null,null,null,null,null,null,null,"Periodo"]
[]
[null,null,{"$f":"OFFSET(Balance!C130,0,($J$1-1)*8)","v":2006},{"$f":"OFFSET(Balance!D130,0,($J$1-1)*8)","v":2007},{"$f":"OFFSET(Balance!E130,0,($J$1-1)*8)","v":2008},{"$f":"OFFSET(Balance!F130,0,($J$1-1)*8)","v":2009},{"$f":"OFFSET(Balance!G130,0,($J$1-1)*8)","v":2010},{"$f":"OFFSET(Balance!H130,0,($J$1-1)*8)","v":2011},{"$f":"OFFSET(Balance!I130,0,($J$1-1)*8)","v":2012},{"$f":"OFFSET(Balance!J130,0,($J$1-1)*8)","v":2013}]
[]
[null,"Carbón",{"$f":"OFFSET(Balance!C131,0,($J$1-1)*8)","v":3077310},{"$f":"OFFSET(Balance!D131,0,($J$1-1)*8)","v":2943855},{"$f":"OFFSET(Balance!E131,0,($J$1-1)*8)","v":3098826},{"$f":"OFFSET(Balance!F131,0,($J$1-1)*8)","v":3170463},{"$f":"OFFSET(Balance!G131,0,($J$1-1)*8)","v":3101357.5659999996},{"$f":"OFFSET(Balance!H131,0,($J$1-1)*8)","v":"-"},{"$f":"OFFSET(Balance!I131,0,($J$1-1)*8)","v":"-"},{"$f":"OFFSET(Balance!J131,0,($J$1-1)*8)","v":"-"}]
[null,"Motores diesel",{"$f":"OFFSET(Balance!C132,0,($J$1-1)*8)","v":964902},{"$f":"OFFSET(Balance!D132,0,($J$1-1)*8)","v":1005606},{"$f":"OFFSET(Balance!E132,0,($J$1-1)*8)","v":1047081},{"$f":"OFFSET(Balance!F132,0,($J$1-1)*8)","v":971825},{"$f":"OFFSET(Balance!G132,0,($J$1-1)*8)","v":1027620.046},{"$f":"OFFSET(Balance!H132,0,($J$1-1)*8)","v":"-"},{"$f":"OFFSET(Balance!I132,0,($J$1-1)*8)","v":"-"},{"$f":"OFFSET(Balance!J132,0,($J$1-1)*8)","v":"-"}]
[null,"Turbina de gas",{"$f":"OFFSET(Balance!C133,0,($J$1-1)*8)","v":292054.95199999999},{"$f":"OFFSET(Balance!D133,0,($J$1-1)*8)","v":311441},{"$f":"OFFSET(Balance!E133,0,($J$1-1)*8)","v":272502},{"$f":"OFFSET(Balance!F133,0,($J$1-1)*8)","v":339369},{"$f":"OFFSET(Balance!G133,0,($J$1-1)*8)","v":299414.36599999998},{"$f":"OFFSET(Balance!H133,0,($J$1-1)*8)","v":"-"},{"$f":"OFFSET(Balance!I133,0,($J$1-1)*8)","v":"-"},{"$f":"OFFSET(Balance!J133,0,($J$1-1)*8)","v":"-"}]
[null,"Fuel + Gas",{"$f":"OFFSET(Balance!C134,0,($J$1-1)*8)","v":1256956.952},{"$f":"OFFSET(Balance!D134,0,($J$1-1)*8)","v":1317047},{"$f":"OFFSET(Balance!E134,0,($J$1-1)*8)","v":1319583},{"$f":"OFFSET(Balance!F134,0,($J$1-1)*8)","v":1311194},{"$f":"OFFSET(Balance!G134,0,($J$1-1)*8)","v":1327034.412},{"$f":"OFFSET(Balance!H134,0,($J$1-1)*8)","v":"-"},{"$f":"OFFSET(Balance!I134,0,($J$1-1)*8)","v":"-"},{"$f":"OFFSET(Balance!J134,0,($J$1-1)*8)","v":"-"}]
[null,"Ciclo combinado (2)",{"$f":"OFFSET(Balance!C135,0,($J$1-1)*8)","v":1341915},{"$f":"OFFSET(Balance!D135,0,($J$1-1)*8)","v":1583995},{"$f":"OFFSET(Balance!E135,0,($J$1-1)*8)","v":1523490},{"$f":"OFFSET(Balance!F135,0,($J$1-1)*8)","v":1292183},{"$f":"OFFSET(Balance!G135,0,($J$1-1)*8)","v":1135633.7220000001},{"$f":"OFFSET(Balance!H135,0,($J$1-1)*8)","v":"-"},{"$f":"OFFSET(Balance!I135,0,($J$1-1)*8)","v":"-"},{"$f":"OFFSET(Balance!J135,0,($J$1-1)*8)","v":"-"}]
[null,"Generación auxiliar (3)",{"$f":"OFFSET(Balance!C136,0,($J$1-1)*8)","v":6350.2199999999721},{"$f":"OFFSET(Balance!D136,0,($J$1-1)*8)","v":12612},{"$f":"OFFSET(Balance!E136,0,($J$1-1)*8)","v":5931},{"$f":"OFFSET(Balance!F136,0,($J$1-1)*8)","v":5566},{"$f":"OFFSET(Balance!G136,0,($J$1-1)*8)","v":6694.3319999999994},{"$f":"OFFSET(Balance!H136,0,($J$1-1)*8)","v":"-"},{"$f":"OFFSET(Balance!I136,0,($J$1-1)*8)","v":"-"},{"$f":"OFFSET(Balance!J136,0,($J$1-1)*8)","v":"-"}]
[null,"Régimen ordinario",{"$f":"OFFSET(Balance!C137,0,($J$1-1)*8)","v":5682532.1719999993},{"$f":"OFFSET(Balance!D137,0,($J$1-1)*8)","v":5857509},{"$f":"OFFSET(Balance!E137,0,($J$1-1)*8)","v":5947830},{"$f":"OFFSET(Balance!F137,0,($J$1-1)*8)","v":5779406},{"$f":"OFFSET(Balance!G137,0,($J$1-1)*8)","v":5570720.0320000006},{"$f":"OFFSET(Balance!H137,0,($J$1-1)*8)","v":"-"},{"$f":"OFFSET(Balance!I137,0,($J$1-1)*8)","v":"-"},{"$f":"OFFSET(Balance!J137,0,($J$1-1)*8)","v":"-"}]
[]
[null,"Eólica",{"$f":"OFFSET(Balance!C138,0,($J$1-1)*8)","v":4877.3560000000007},{"$f":"OFFSET(Balance!D138,0,($J$1-1)*8)","v":5656},{"$f":"OFFSET(Balance!E138,0,($J$1-1)*8)","v":5497},{"$f":"OFFSET(Balance!F138,0,($J$1-1)*8)","v":5543},{"$f":"OFFSET(Balance!G138,0,($J$1-1)*8)","v":5571},{"$f":"OFFSET(Balance!H138,0,($J$1-1)*8)","v":"-"},{"$f":"OFFSET(Balance!I138,0,($J$1-1)*8)","v":"-"},{"$f":"OFFSET(Balance!J138,0,($J$1-1)*8)","v":"-"}]
[null,"Solar fotovoltaica",{"$f":"OFFSET(Balance!C139,0,($J$1-1)*8)","v":1100.7949999999998},{"$f":"OFFSET(Balance!D139,0,($J$1-1)*8)","v":1952},{"$f":"OFFSET(Balance!E139,0,($J$1-1)*8)","v":28380},{"$f":"OFFSET(Balance!F139,0,($J$1-1)*8)","v":80933},{"$f":"OFFSET(Balance!G139,0,($J$1-1)*8)","v":87757},{"$f":"OFFSET(Balance!H139,0,($J$1-1)*8)","v":"-"},{"$f":"OFFSET(Balance!I139,0,($J$1-1)*8)","v":"-"},{"$f":"OFFSET(Balance!J139,0,($J$1-1)*8)","v":"-"}]
[null,"Térmica renovable(4)/Otras renovables",{"$f":"OFFSET(Balance!C140,0,($J$1-1)*8)","v":0},{"$f":"OFFSET(Balance!D140,0,($J$1-1)*8)","v":0},{"$f":"OFFSET(Balance!E140,0,($J$1-1)*8)","v":0},{"$f":"OFFSET(Balance!F140,0,($J$1-1)*8)","v":0},{"$f":"OFFSET(Balance!G140,0,($J$1-1)*8)","v":0},{"$f":"OFFSET(Balance!H140,0,($J$1-1)*8)","v":"-"},{"$f":"OFFSET(Balance!I140,0,($J$1-1)*8)","v":"-"},{"$f":"OFFSET(Balance!J140,0,($J$1-1)*8)","v":"-"}]
[null,"Cogeneración y resto(4)/Cogeneración",{"$f":"OFFSET(Balance!C141,0,($J$1-1)*8)","v":139112.84899999999},{"$f":"OFFSET(Balance!D141,0,($J$1-1)*8)","v":113933},{"$f":"OFFSET(Balance!E141,0,($J$1-1)*8)","v":140332},{"$f":"OFFSET(Balance!F141,0,($J$1-1)*8)","v":127042},{"$f":"OFFSET(Balance!G141,0,($J$1-1)*8)","v":176244},{"$f":"OFFSET(Balance!H141,0,($J$1-1)*8)","v":"-"},{"$f":"OFFSET(Balance!I141,0,($J$1-1)*8)","v":"-"},{"$f":"OFFSET(Balance!J141,0,($J$1-1)*8)","v":"-"}]
[null,"Residuos no renovables",{"$f":"OFFSET(Balance!C142,0,($J$1-1)*8)","v":" "},{"$f":"OFFSET(Balance!D142,0,($J$1-1)*8)","v":" "},{"$f":"OFFSET(Balance!E142,0,($J$1-1)*8)","v":" "},{"$f":"OFFSET(Balance!F142,0,($J$1-1)*8)","v":" "},{"$f":"OFFSET(Balance!G142,0,($J$1-1)*8)","v":" "},{"$f":"OFFSET(Balance!H142,0,($J$1-1)*8)","v":"-"},{"$f":"OFFSET(Balance!I142,0,($J$1-1)*8)","v":"-"},{"$f":"OFFSET(Balance!J142,0,($J$1-1)*8)","v":"-"}]
[null,"Residuos renovables",{"$f":"OFFSET(Balance!C143,0,($J$1-1)*8)","v":" "},{"$f":"OFFSET(Balance!D143,0,($J$1-1)*8)","v":" "},{"$f":"OFFSET(Balance!E143,0,($J$1-1)*8)","v":" "},{"$f":"OFFSET(Balance!F143,0,($J$1-1)*8)","v":" "},{"$f":"OFFSET(Balance!G143,0,($J$1-1)*8)","v":" "},{"$f":"OFFSET(Balance!H143,0,($J$1-1)*8)","v":"-"},{"$f":"OFFSET(Balance!I143,0,($J$1-1)*8)","v":"-"},{"$f":"OFFSET(Balance!J143,0,($J$1-1)*8)","v":"-"}]
[null,"Régimen especial",{"$f":"OFFSET(Balance!C144,0,($J$1-1)*8)","v":145091},{"$f":"OFFSET(Balance!D144,0,($J$1-1)*8)","v":121541},{"$f":"OFFSET(Balance!E144,0,($J$1-1)*8)","v":174209},{"$f":"OFFSET(Balance!F144,0,($J$1-1)*8)","v":213518},{"$f":"OFFSET(Balance!G144,0,($J$1-1)*8)","v":269572},{"$f":"OFFSET(Balance!H144,0,($J$1-1)*8)","v":"-"},{"$f":"OFFSET(Balance!I144,0,($J$1-1)*8)","v":"-"},{"$f":"OFFSET(Balance!J144,0,($J$1-1)*8)","v":"-"}]
[null,"Generación",{"$f":"OFFSET(Balance!C145,0,($J$1-1)*8)","v":5827623.1719999993},{"$f":"OFFSET(Balance!D145,0,($J$1-1)*8)","v":5979050},{"$f":"OFFSET(Balance!E145,0,($J$1-1)*8)","v":6122039},{"$f":"OFFSET(Balance!F145,0,($J$1-1)*8)","v":5992924},{"$f":"OFFSET(Balance!G145,0,($J$1-1)*8)","v":5840292.0320000006},{"$f":"OFFSET(Balance!H145,0,($J$1-1)*8)","v":"-"},{"$f":"OFFSET(Balance!I145,0,($J$1-1)*8)","v":"-"},{"$f":"OFFSET(Balance!J145,0,($J$1-1)*8)","v":"-"}]
[null,"Enlace Península-Baleares (5)",{"$f":"OFFSET(Balance!C146,0,($J$1-1)*8)","v":"-"},{"$f":"OFFSET(Balance!D146,0,($J$1-1)*8)","v":"-"},{"$f":"OFFSET(Balance!E146,0,($J$1-1)*8)","v":"-"},{"$f":"OFFSET(Balance!F146,0,($J$1-1)*8)","v":"-"},{"$f":"OFFSET(Balance!G146,0,($J$1-1)*8)","v":"-"},{"$f":"OFFSET(Balance!H146,0,($J$1-1)*8)","v":"-"},{"$f":"OFFSET(Balance!I146,0,($J$1-1)*8)","v":"-"},{"$f":"OFFSET(Balance!J146,0,($J$1-1)*8)","v":"-"}]
[null,"Demanda transporte (b.c.)",{"$f":"OFFSET(Balance!C147,0,($J$1-1)*8)","v":5827623.1719999993},{"$f":"OFFSET(Balance!D147,0,($J$1-1)*8)","v":5979050},{"$f":"OFFSET(Balance!E147,0,($J$1-1)*8)","v":6122039},{"$f":"OFFSET(Balance!F147,0,($J$1-1)*8)","v":5992924},{"$f":"OFFSET(Balance!G147,0,($J$1-1)*8)","v":5840292.0320000006},{"$f":"OFFSET(Balance!H147,0,($J$1-1)*8)","v":"-"},{"$f":"OFFSET(Balance!I147,0,($J$1-1)*8)","v":"-"},{"$f":"OFFSET(Balance!J147,0,($J$1-1)*8)","v":"-"}]
[null,"(1) Asignación de unidades de producción según combustible principal."]
[null,"(2) Incluye funcionamiento en ciclo abierto."]
[null,"(3) Grupos de emergencia que se instalan de forma transitoria en determinadas zonas para cubrir un déficit de generación."]
[null,"(4) Hasta 2014 e incluye residuos hasta 2010."]
[null,"(4) Incluye residuos hasta 2010."]
[null,"(5) Valor positivo: entrada de energía en el sistema; valor negativo: salida de energía del sistema. Enlace funcionando al mínimo técnico de seguridad hasta el 13/08/2012. "]

{"sheet":"Balance Canarias mensual","index":7,"n_rows":31,"n_cols":15,"rows_kept":31,"cut":false,"hidden":false,"merged":[[28,1,28,14],[29,1,29,14],[30,1,30,14],[27,1,27,14],[31,1,31,10]]}
[null,null,null,null,null,null,null,null,null,null,null,null,null,null,5]
[]
[]
[null,null,null,null,null,null,null,null,null,null,null,null,"Sistema eléctrico"]
[null,null,null,null,null,null,null,null,null,null,null,null,"Horizonte temporal"]
[null,null,null,null,null,null,null,null,null,null,null,null,"Periodo"]
[]
[null,null,"Ene.","Feb.","Mar.","Abr.","May.","Jun.","Jul.","Ago.","Sep.","Oct.","Nov.","Dic.",{"$f":"OFFSET(Año!C18,($O$1-1),0)","v":2010}]
[]
[null,"Hidráulica",{"$f":"OFFSET(Balance!C45,0,($O$1-1)*12)","v":0},{"$f":"OFFSET(Balance!D45,0,($O$1-1)*12)","v":0},{"$f":"OFFSET(Balance!E45,0,($O$1-1)*12)","v":0},{"$f":"OFFSET(Balance!F45,0,($O$1-1)*12)","v":0},{"$f":"OFFSET(Balance!G45,0,($O$1-1)*12)","v":0},{"$f":"OFFSET(Balance!H45,0,($O$1-1)*12)","v":0},{"$f":"OFFSET(Balance!I45,0,($O$1-1)*12)","v":0},{"$f":"OFFSET(Balance!J45,0,($O$1-1)*12)","v":0},{"$f":"OFFSET(Balance!K45,0,($O$1-1)*12)","v":0},{"$f":"OFFSET(Balance!L45,0,($O$1-1)*12)","v":0},{"$f":"OFFSET(Balance!M45,0,($O$1-1)*12)","v":0},{"$f":"OFFSET(Balance!N45,0,($O$1-1)*12)","v":0},{"$f":"IF(SUM(C10:N10)=0,\"-\",SUM(C10:N10))","v":"-"}]
[null,"Motores diesel",{"$f":"OFFSET(Balance!C46,0,($O$1-1)*12)","v":187860.42600000001},{"$f":"OFFSET(Balance!D46,0,($O$1-1)*12)","v":166955.34899999999},{"$f":"OFFSET(Balance!E46,0,($O$1-1)*12)","v":187977.302},{"$f":"OFFSET(Balance!F46,0,($O$1-1)*12)","v":173369.21400000001},{"$f":"OFFSET(Balance!G46,0,($O$1-1)*12)","v":162133.90599999999},{"$f":"OFFSET(Balance!H46,0,($O$1-1)*12)","v":164800.02900000001},{"$f":"OFFSET(Balance!I46,0,($O$1-1)*12)","v":181346.47099999999},{"$f":"OFFSET(Balance!J46,0,($O$1-1)*12)","v":198336.867},{"$f":"OFFSET(Balance!K46,0,($O$1-1)*12)","v":189919.53599999999},{"$f":"OFFSET(Balance!L46,0,($O$1-1)*12)","v":200384.633},{"$f":"OFFSET(Balance!M46,0,($O$1-1)*12)","v":184885.12599999999},{"$f":"OFFSET(Balance!N46,0,($O$1-1)*12)","v":185418.913},{"$f":"IF(SUM(C11:N11)=0,\"-\",SUM(C11:N11))","v":2183387.7719999999}]
[null,"Turbina de gas",{"$f":"OFFSET(Balance!C47,0,($O$1-1)*12)","v":13491.04},{"$f":"OFFSET(Balance!D47,0,($O$1-1)*12)","v":18753.394},{"$f":"OFFSET(Balance!E47,0,($O$1-1)*12)","v":20108.357},{"$f":"OFFSET(Balance!F47,0,($O$1-1)*12)","v":13928.882},{"$f":"OFFSET(Balance!G47,0,($O$1-1)*12)","v":30855.155999999999},{"$f":"OFFSET(Balance!H47,0,($O$1-1)*12)","v":31941.35},{"$f":"OFFSET(Balance!I47,0,($O$1-1)*12)","v":29817.828000000001},{"$f":"OFFSET(Balance!J47,0,($O$1-1)*12)","v":24986.524000000001},{"$f":"OFFSET(Balance!K47,0,($O$1-1)*12)","v":28373.723999999998},{"$f":"OFFSET(Balance!L47,0,($O$1-1)*12)","v":46582.514999999999},{"$f":"OFFSET(Balance!M47,0,($O$1-1)*12)","v":44841.277999999998},{"$f":"OFFSET(Balance!N47,0,($O$1-1)*12)","v":39601.608999999997},{"$f":"IF(SUM(C12:N12)=0,\"-\",SUM(C12:N12))","v":343281.65700000001}]
[null,"Turbina de vapor",{"$f":"OFFSET(Balance!C48,0,($O$1-1)*12)","v":275233.60499999998},{"$f":"OFFSET(Balance!D48,0,($O$1-1)*12)","v":239085.291},{"$f":"OFFSET(Balance!E48,0,($O$1-1)*12)","v":258003.02499999999},{"$f":"OFFSET(Balance!F48,0,($O$1-1)*12)","v":233931.054},{"$f":"OFFSET(Balance!G48,0,($O$1-1)*12)","v":254626.209},{"$f":"OFFSET(Balance!H48,0,($O$1-1)*12)","v":255627.035},{"$f":"OFFSET(Balance!I48,0,($O$1-1)*12)","v":246393.45},{"$f":"OFFSET(Balance!J48,0,($O$1-1)*12)","v":264783.53899999999},{"$f":"OFFSET(Balance!K48,0,($O$1-1)*12)","v":255925.19500000001},{"$f":"OFFSET(Balance!L48,0,($O$1-1)*12)","v":219068.06},{"$f":"OFFSET(Balance!M48,0,($O$1-1)*12)","v":221691.14600000001},{"$f":"OFFSET(Balance!N48,0,($O$1-1)*12)","v":248219.49600000001},{"$f":"IF(SUM(C13:N13)=0,\"-\",SUM(C13:N13))","v":2972587.1049999995}]
[null,"Fuel + Gas",{"$f":"OFFSET(Balance!C49,0,($O$1-1)*12)","v":476585.071},{"$f":"OFFSET(Balance!D49,0,($O$1-1)*12)","v":424794.03399999999},{"$f":"OFFSET(Balance!E49,0,($O$1-1)*12)","v":466088.68400000001},{"$f":"OFFSET(Balance!F49,0,($O$1-1)*12)","v":421229.15},{"$f":"OFFSET(Balance!G49,0,($O$1-1)*12)","v":447615.27099999995},{"$f":"OFFSET(Balance!H49,0,($O$1-1)*12)","v":452368.41399999999},{"$f":"OFFSET(Balance!I49,0,($O$1-1)*12)","v":457557.74900000001},{"$f":"OFFSET(Balance!J49,0,($O$1-1)*12)","v":488106.93},{"$f":"OFFSET(Balance!K49,0,($O$1-1)*12)","v":474218.45499999996},{"$f":"OFFSET(Balance!L49,0,($O$1-1)*12)","v":466035.20799999998},{"$f":"OFFSET(Balance!M49,0,($O$1-1)*12)","v":451417.55},{"$f":"OFFSET(Balance!N49,0,($O$1-1)*12)","v":473240.01800000004},{"$f":"IF(SUM(C14:N14)=0,\"-\",SUM(C14:N14))","v":5499256.534}]
[null,"Ciclo combinado (2)",{"$f":"OFFSET(Balance!C50,0,($O$1-1)*12)","v":230101.864},{"$f":"OFFSET(Balance!D50,0,($O$1-1)*12)","v":203031.70800000001},{"$f":"OFFSET(Balance!E50,0,($O$1-1)*12)","v":228450.67800000001},{"$f":"OFFSET(Balance!F50,0,($O$1-1)*12)","v":216494.734},{"$f":"OFFSET(Balance!G50,0,($O$1-1)*12)","v":193292.74799999999},{"$f":"OFFSET(Balance!H50,0,($O$1-1)*12)","v":190320.30900000001},{"$f":"OFFSET(Balance!I50,0,($O$1-1)*12)","v":218682.10200000001},{"$f":"OFFSET(Balance!J50,0,($O$1-1)*12)","v":224299.34099999999},{"$f":"OFFSET(Balance!K50,0,($O$1-1)*12)","v":235057.37},{"$f":"OFFSET(Balance!L50,0,($O$1-1)*12)","v":266936.90600000002},{"$f":"OFFSET(Balance!M50,0,($O$1-1)*12)","v":253781.81899999999},{"$f":"OFFSET(Balance!N50,0,($O$1-1)*12)","v":247960.606},2708410.1850000001]
[null,"Generación auxiliar (3)",{"$f":"OFFSET(Balance!C51,0,($O$1-1)*12)","v":0},{"$f":"OFFSET(Balance!D51,0,($O$1-1)*12)","v":0},{"$f":"OFFSET(Balance!E51,0,($O$1-1)*12)","v":0},{"$f":"OFFSET(Balance!F51,0,($O$1-1)*12)","v":0},{"$f":"OFFSET(Balance!G51,0,($O$1-1)*12)","v":0},{"$f":"OFFSET(Balance!H51,0,($O$1-1)*12)","v":0},{"$f":"OFFSET(Balance!I51,0,($O$1-1)*12)","v":0},{"$f":"OFFSET(Balance!J51,0,($O$1-1)*12)","v":0},{"$f":"OFFSET(Balance!K51,0,($O$1-1)*12)","v":0},{"$f":"OFFSET(Balance!L51,0,($O$1-1)*12)","v":0},{"$f":"OFFSET(Balance!M51,0,($O$1-1)*12)","v":0},{"$f":"OFFSET(Balance!N51,0,($O$1-1)*12)","v":0},"-"]
[null,"Régimen ordinario",{"$f":"OFFSET(Balance!C52,0,($O$1-1)*12)","v":706686.93500000006},{"$f":"OFFSET(Balance!D52,0,($O$1-1)*12)","v":627825.74199999997},{"$f":"OFFSET(Balance!E52,0,($O$1-1)*12)","v":694539.36199999996},{"$f":"OFFSET(Balance!F52,0,($O$1-1)*12)","v":637723.88400000008},{"$f":"OFFSET(Balance!G52,0,($O$1-1)*12)","v":640908.01899999997},{"$f":"OFFSET(Balance!H52,0,($O$1-1)*12)","v":642688.723},{"$f":"OFFSET(Balance!I52,0,($O$1-1)*12)","v":676239.85100000002},{"$f":"OFFSET(Balance!J52,0,($O$1-1)*12)","v":712406.27099999995},{"$f":"OFFSET(Balance!K52,0,($O$1-1)*12)","v":709275.82499999995},{"$f":"OFFSET(Balance!L52,0,($O$1-1)*12)","v":732972.11400000006},{"$f":"OFFSET(Balance!M52,0,($O$1-1)*12)","v":705199.36899999995},{"$f":"OFFSET(Balance!N52,0,($O$1-1)*12)","v":721200.62400000007},{"$f":"IF(SUM(C17:N17)=0,\"-\",SUM(C17:N17))","v":8207666.7189999996}]
[]
[null,"Hidroeólica",{"$f":"OFFSET(Balance!C53,0,($O$1-1)*12)","v":"-"},{"$f":"OFFSET(Balance!D53,0,($O$1-1)*12)","v":"-"},{"$f":"OFFSET(Balance!E53,0,($O$1-1)*12)","v":"-"},{"$f":"OFFSET(Balance!F53,0,($O$1-1)*12)","v":"-"},{"$f":"OFFSET(Balance!G53,0,($O$1-1)*12)","v":"-"},{"$f":"OFFSET(Balance!H53,0,($O$1-1)*12)","v":"-"},{"$f":"OFFSET(Balance!I53,0,($O$1-1)*12)","v":"-"},{"$f":"OFFSET(Balance!J53,0,($O$1-1)*12)","v":"-"},{"$f":"OFFSET(Balance!K53,0,($O$1-1)*12)","v":"-"},{"$f":"OFFSET(Balance!L53,0,($O$1-1)*12)","v":"-"},{"$f":"OFFSET(Balance!M53,0,($O$1-1)*12)","v":"-"},{"$f":"OFFSET(Balance!N53,0,($O$1-1)*12)","v":"-"},{"$f":"IF(SUM(C19:N19)=0,\"-\",SUM(C19:N19))","v":"-"}]
[null,"Hidráulica",{"$f":"OFFSET(Balance!C54,0,($O$1-1)*12)","v":0},{"$f":"OFFSET(Balance!D54,0,($O$1-1)*12)","v":0},{"$f":"OFFSET(Balance!E54,0,($O$1-1)*12)","v":0},{"$f":"OFFSET(Balance!F54,0,($O$1-1)*12)","v":0},{"$f":"OFFSET(Balance!G54,0,($O$1-1)*12)","v":0},{"$f":"OFFSET(Balance!H54,0,($O$1-1)*12)","v":0},{"$f":"OFFSET(Balance!I54,0,($O$1-1)*12)","v":0},{"$f":"OFFSET(Balance!J54,0,($O$1-1)*12)","v":0},{"$f":"OFFSET(Balance!K54,0,($O$1-1)*12)","v":0},{"$f":"OFFSET(Balance!L54,0,($O$1-1)*12)","v":0},{"$f":"OFFSET(Balance!M54,0,($O$1-1)*12)","v":0},{"$f":"OFFSET(Balance!N54,0,($O$1-1)*12)","v":0},{"$f":"IF(SUM(C20:N20)=0,\"-\",SUM(C20:N20))","v":"-"}]
[null,"Eólica",{"$f":"OFFSET(Balance!C55,0,($O$1-1)*12)","v":11740},{"$f":"OFFSET(Balance!D55,0,($O$1-1)*12)","v":14778},{"$f":"OFFSET(Balance!E55,0,($O$1-1)*12)","v":23015},{"$f":"OFFSET(Balance!F55,0,($O$1-1)*12)","v":32147},{"$f":"OFFSET(Balance!G55,0,($O$1-1)*12)","v":36251},{"$f":"OFFSET(Balance!H55,0,($O$1-1)*12)","v":38838},{"$f":"OFFSET(Balance!I55,0,($O$1-1)*12)","v":47304},{"$f":"OFFSET(Balance!J55,0,($O$1-1)*12)","v":42622},{"$f":"OFFSET(Balance!K55,0,($O$1-1)*12)","v":35769},{"$f":"OFFSET(Balance!L55,0,($O$1-1)*12)","v":14015},{"$f":"OFFSET(Balance!M55,0,($O$1-1)*12)","v":17956},{"$f":"OFFSET(Balance!N55,0,($O$1-1)*12)","v":16928},331363]
[null,"Solar fotovoltaica",{"$f":"OFFSET(Balance!C56,0,($O$1-1)*12)","v":10698},{"$f":"OFFSET(Balance!D56,0,($O$1-1)*12)","v":10306},{"$f":"OFFSET(Balance!E56,0,($O$1-1)*12)","v":16328},{"$f":"OFFSET(Balance!F56,0,($O$1-1)*12)","v":16499},{"$f":"OFFSET(Balance!G56,0,($O$1-1)*12)","v":19138},{"$f":"OFFSET(Balance!H56,0,($O$1-1)*12)","v":19607},{"$f":"OFFSET(Balance!I56,0,($O$1-1)*12)","v":22480},{"$f":"OFFSET(Balance!J56,0,($O$1-1)*12)","v":21526},{"$f":"OFFSET(Balance!K56,0,($O$1-1)*12)","v":17621},{"$f":"OFFSET(Balance!L56,0,($O$1-1)*12)","v":15830},{"$f":"OFFSET(Balance!M56,0,($O$1-1)*12)","v":12519},{"$f":"OFFSET(Balance!N56,0,($O$1-1)*12)","v":12614},195166]
[null,"Otras renovables",{"$f":"OFFSET(Balance!C57,0,($O$1-1)*12)","v":23902},{"$f":"OFFSET(Balance!D57,0,($O$1-1)*12)","v":18935},{"$f":"OFFSET(Balance!E57,0,($O$1-1)*12)","v":16313},{"$f":"OFFSET(Balance!F57,0,($O$1-1)*12)","v":24282},{"$f":"OFFSET(Balance!G57,0,($O$1-1)*12)","v":25112},{"$f":"OFFSET(Balance!H57,0,($O$1-1)*12)","v":19550},{"$f":"OFFSET(Balance!I57,0,($O$1-1)*12)","v":10072},{"$f":"OFFSET(Balance!J57,0,($O$1-1)*12)","v":5987},{"$f":"OFFSET(Balance!K57,0,($O$1-1)*12)","v":5025},{"$f":"OFFSET(Balance!L57,0,($O$1-1)*12)","v":5016},{"$f":"OFFSET(Balance!M57,0,($O$1-1)*12)","v":3979},{"$f":"OFFSET(Balance!N57,0,($O$1-1)*12)","v":2388},160561]
[null,"Cogeneración",{"$f":"OFFSET(Balance!C58,0,($O$1-1)*12)","v":0},{"$f":"OFFSET(Balance!D58,0,($O$1-1)*12)","v":0},{"$f":"OFFSET(Balance!E58,0,($O$1-1)*12)","v":0},{"$f":"OFFSET(Balance!F58,0,($O$1-1)*12)","v":0},{"$f":"OFFSET(Balance!G58,0,($O$1-1)*12)","v":0},{"$f":"OFFSET(Balance!H58,0,($O$1-1)*12)","v":0},{"$f":"OFFSET(Balance!I58,0,($O$1-1)*12)","v":0},{"$f":"OFFSET(Balance!J58,0,($O$1-1)*12)","v":0},{"$f":"OFFSET(Balance!K58,0,($O$1-1)*12)","v":0},{"$f":"OFFSET(Balance!L58,0,($O$1-1)*12)","v":0},{"$f":"OFFSET(Balance!M58,0,($O$1-1)*12)","v":0},{"$f":"OFFSET(Balance!N58,0,($O$1-1)*12)","v":0},"-"]
[null,"Régimen especial",{"$f":"OFFSET(Balance!C59,0,($O$1-1)*12)","v":46340},{"$f":"OFFSET(Balance!D59,0,($O$1-1)*12)","v":44019},{"$f":"OFFSET(Balance!E59,0,($O$1-1)*12)","v":55656},{"$f":"OFFSET(Balance!F59,0,($O$1-1)*12)","v":72928},{"$f":"OFFSET(Balance!G59,0,($O$1-1)*12)","v":80501},{"$f":"OFFSET(Balance!H59,0,($O$1-1)*12)","v":77995},{"$f":"OFFSET(Balance!I59,0,($O$1-1)*12)","v":79856},{"$f":"OFFSET(Balance!J59,0,($O$1-1)*12)","v":70135},{"$f":"OFFSET(Balance!K59,0,($O$1-1)*12)","v":58415},{"$f":"OFFSET(Balance!L59,0,($O$1-1)*12)","v":34861},{"$f":"OFFSET(Balance!M59,0,($O$1-1)*12)","v":34454},{"$f":"OFFSET(Balance!N59,0,($O$1-1)*12)","v":31930},{"$f":"SUM(O20:O24)","v":687090}]
[null,"Generación",{"$f":"OFFSET(Balance!C60,0,($O$1-1)*12)","v":753026.93500000006},{"$f":"OFFSET(Balance!D60,0,($O$1-1)*12)","v":671844.74199999997},{"$f":"OFFSET(Balance!E60,0,($O$1-1)*12)","v":750195.36199999996},{"$f":"OFFSET(Balance!F60,0,($O$1-1)*12)","v":710651.88399999996},{"$f":"OFFSET(Balance!G60,0,($O$1-1)*12)","v":721409.01899999997},{"$f":"OFFSET(Balance!H60,0,($O$1-1)*12)","v":720683.723},{"$f":"OFFSET(Balance!I60,0,($O$1-1)*12)","v":756095.85100000002},{"$f":"OFFSET(Balance!J60,0,($O$1-1)*12)","v":782541.27099999995},{"$f":"OFFSET(Balance!K60,0,($O$1-1)*12)","v":767690.82499999995},{"$f":"OFFSET(Balance!L60,0,($O$1-1)*12)","v":767833.11400000006},{"$f":"OFFSET(Balance!M60,0,($O$1-1)*12)","v":739653.36899999995},{"$f":"OFFSET(Balance!N60,0,($O$1-1)*12)","v":753130.62400000007},8894756.7190000005]
[null,"Demanda transporte (b.c.)",{"$f":"OFFSET(Balance!C61,0,($O$1-1)*12)","v":753026.93500000006},{"$f":"OFFSET(Balance!D61,0,($O$1-1)*12)","v":671844.74199999997},{"$f":"OFFSET(Balance!E61,0,($O$1-1)*12)","v":750195.36199999996},{"$f":"OFFSET(Balance!F61,0,($O$1-1)*12)","v":710651.88399999996},{"$f":"OFFSET(Balance!G61,0,($O$1-1)*12)","v":721409.01899999997},{"$f":"OFFSET(Balance!H61,0,($O$1-1)*12)","v":720683.723},{"$f":"OFFSET(Balance!I61,0,($O$1-1)*12)","v":756095.85100000002},{"$f":"OFFSET(Balance!J61,0,($O$1-1)*12)","v":782541.27099999995},{"$f":"OFFSET(Balance!K61,0,($O$1-1)*12)","v":767690.82499999995},{"$f":"OFFSET(Balance!L61,0,($O$1-1)*12)","v":767833.11400000006},{"$f":"OFFSET(Balance!M61,0,($O$1-1)*12)","v":739653.36899999995},{"$f":"OFFSET(Balance!N61,0,($O$1-1)*12)","v":753130.62400000007},8894756.7190000005]
[null,"(1) Asignación de unidades de producción según combustible principal."]
[null,"(2) Utiliza fue y gasoil como combustible principal. Incluye funcionamiento en ciclo abierto."]
[null,"(3) Grupos de emergencia que se instalan de forma transitoria en determinadas zonas para cubrir un déficit de generación."]
[null,"(4) Incluye todas aquellas unidades menores de 50 MW que no pertenecen a ninguna unidad de gestión hidráulica (UGH)."]

{"sheet":"Balance Canarias anual","index":8,"n_rows":31,"n_cols":10,"rows_kept":31,"cut":false,"hidden":false,"merged":[[27,1,27,11],[28,1,28,11],[29,1,29,11],[30,1,30,11]]}
[null,null,null,null,null,null,null,null,null,1]
[]
[]
[null,null,null,null,null,null,null,null,"Sistema eléctrico"]
[null,null,null,null,null,null,null,null,"Horizonte temporal"]
[null,null,null,null,null,null,null,null,"Periodo"]
[]
[null,null,{"$f":"OFFSET(Balance!C149,0,($J$1-1)*8)","v":2006},{"$f":"OFFSET(Balance!D149,0,($J$1-1)*8)","v":2007},{"$f":"OFFSET(Balance!E149,0,($J$1-1)*8)","v":2008},{"$f":"OFFSET(Balance!F149,0,($J$1-1)*8)","v":2009},{"$f":"OFFSET(Balance!G149,0,($J$1-1)*8)","v":2010},{"$f":"OFFSET(Balance!H149,0,($J$1-1)*8)","v":2011},{"$f":"OFFSET(Balance!I149,0,($J$1-1)*8)","v":2012},{"$f":"OFFSET(Balance!J149,0,($J$1-1)*8)","v":2013}]
[]
[null,"Hidráulica",{"$f":"OFFSET(Balance!C150,0,($J$1-1)*8)","v":0},{"$f":"OFFSET(Balance!D150,0,($J$1-1)*8)","v":0},{"$f":"OFFSET(Balance!E150,0,($J$1-1)*8)","v":0},{"$f":"OFFSET(Balance!F150,0,($J$1-1)*8)","v":0},{"$f":"OFFSET(Balance!G150,0,($J$1-1)*8)","v":0},{"$f":"OFFSET(Balance!H150,0,($J$1-1)*8)","v":"-"},{"$f":"OFFSET(Balance!I150,0,($J$1-1)*8)","v":"-"},{"$f":"OFFSET(Balance!J150,0,($J$1-1)*8)","v":"-"}]
[null,"Motores diesel",{"$f":"OFFSET(Balance!C151,0,($J$1-1)*8)","v":2007664},{"$f":"OFFSET(Balance!D151,0,($J$1-1)*8)","v":2042002},{"$f":"OFFSET(Balance!E151,0,($J$1-1)*8)","v":2103766},{"$f":"OFFSET(Balance!F151,0,($J$1-1)*8)","v":2140699},{"$f":"OFFSET(Balance!G151,0,($J$1-1)*8)","v":2183387.7719999999},{"$f":"OFFSET(Balance!H151,0,($J$1-1)*8)","v":"-"},{"$f":"OFFSET(Balance!I151,0,($J$1-1)*8)","v":"-"},{"$f":"OFFSET(Balance!J151,0,($J$1-1)*8)","v":"-"}]
[null,"Turbina de gas",{"$f":"OFFSET(Balance!C152,0,($J$1-1)*8)","v":824431.12},{"$f":"OFFSET(Balance!D152,0,($J$1-1)*8)","v":699470},{"$f":"OFFSET(Balance!E152,0,($J$1-1)*8)","v":473526},{"$f":"OFFSET(Balance!F152,0,($J$1-1)*8)","v":342172.054},{"$f":"OFFSET(Balance!G152,0,($J$1-1)*8)","v":343281.65700000001},{"$f":"OFFSET(Balance!H152,0,($J$1-1)*8)","v":"-"},{"$f":"OFFSET(Balance!I152,0,($J$1-1)*8)","v":"-"},{"$f":"OFFSET(Balance!J152,0,($J$1-1)*8)","v":"-"}]
[null,"Turbina de vapor",{"$f":"OFFSET(Balance!C153,0,($J$1-1)*8)","v":3429991},{"$f":"OFFSET(Balance!D153,0,($J$1-1)*8)","v":3306805},{"$f":"OFFSET(Balance!E153,0,($J$1-1)*8)","v":3414241},{"$f":"OFFSET(Balance!F153,0,($J$1-1)*8)","v":3243628},{"$f":"OFFSET(Balance!G153,0,($J$1-1)*8)","v":2972587.1049999995},{"$f":"OFFSET(Balance!H153,0,($J$1-1)*8)","v":"-"},{"$f":"OFFSET(Balance!I153,0,($J$1-1)*8)","v":"-"},{"$f":"OFFSET(Balance!J153,0,($J$1-1)*8)","v":"-"}]
[null,"Fuel + Gas",{"$f":"OFFSET(Balance!C154,0,($J$1-1)*8)","v":6262086.1200000001},{"$f":"OFFSET(Balance!D154,0,($J$1-1)*8)","v":6048277},{"$f":"OFFSET(Balance!E154,0,($J$1-1)*8)","v":5991533},{"$f":"OFFSET(Balance!F154,0,($J$1-1)*8)","v":5726499.0539999995},{"$f":"OFFSET(Balance!G154,0,($J$1-1)*8)","v":5499256.534},{"$f":"OFFSET(Balance!H154,0,($J$1-1)*8)","v":"-"},{"$f":"OFFSET(Balance!I154,0,($J$1-1)*8)","v":"-"},{"$f":"OFFSET(Balance!J154,0,($J$1-1)*8)","v":"-"}]
[null,"Ciclo combinado (2)",{"$f":"OFFSET(Balance!C155,0,($J$1-1)*8)","v":2007397},{"$f":"OFFSET(Balance!D155,0,($J$1-1)*8)","v":2443275},{"$f":"OFFSET(Balance!E155,0,($J$1-1)*8)","v":2573317},{"$f":"OFFSET(Balance!F155,0,($J$1-1)*8)","v":2552328},{"$f":"OFFSET(Balance!G155,0,($J$1-1)*8)","v":2708410.1850000001},{"$f":"OFFSET(Balance!H155,0,($J$1-1)*8)","v":"-"},{"$f":"OFFSET(Balance!I155,0,($J$1-1)*8)","v":"-"},{"$f":"OFFSET(Balance!J155,0,($J$1-1)*8)","v":"-"}]
[null,"Generación auxiliar (3)",{"$f":"OFFSET(Balance!C156,0,($J$1-1)*8)","v":0},{"$f":"OFFSET(Balance!D156,0,($J$1-1)*8)","v":132840},{"$f":"OFFSET(Balance!E156,0,($J$1-1)*8)","v":89747},{"$f":"OFFSET(Balance!F156,0,($J$1-1)*8)","v":33788},{"$f":"OFFSET(Balance!G156,0,($J$1-1)*8)","v":0},{"$f":"OFFSET(Balance!H156,0,($J$1-1)*8)","v":"-"},{"$f":"OFFSET(Balance!I156,0,($J$1-1)*8)","v":"-"},{"$f":"OFFSET(Balance!J156,0,($J$1-1)*8)","v":"-"}]
[null,"Régimen ordinario",{"$f":"OFFSET(Balance!C157,0,($J$1-1)*8)","v":8269483.1200000001},{"$f":"OFFSET(Balance!D157,0,($J$1-1)*8)","v":8624392},{"$f":"OFFSET(Balance!E157,0,($J$1-1)*8)","v":8654597},{"$f":"OFFSET(Balance!F157,0,($J$1-1)*8)","v":8312615.0540000005},{"$f":"OFFSET(Balance!G157,0,($J$1-1)*8)","v":8207666.7189999996},{"$f":"OFFSET(Balance!H157,0,($J$1-1)*8)","v":"-"},{"$f":"OFFSET(Balance!I157,0,($J$1-1)*8)","v":"-"},{"$f":"OFFSET(Balance!J157,0,($J$1-1)*8)","v":"-"}]
[]
[null,"Hidroeólica",{"$f":"OFFSET(Balance!C158,0,($J$1-1)*8)","v":"-"},{"$f":"OFFSET(Balance!D158,0,($J$1-1)*8)","v":"-"},{"$f":"OFFSET(Balance!E158,0,($J$1-1)*8)","v":"-"},{"$f":"OFFSET(Balance!F158,0,($J$1-1)*8)","v":"-"},{"$f":"OFFSET(Balance!G158,0,($J$1-1)*8)","v":"-"},{"$f":"OFFSET(Balance!H158,0,($J$1-1)*8)","v":"-"},{"$f":"OFFSET(Balance!I158,0,($J$1-1)*8)","v":"-"},{"$f":"OFFSET(Balance!J158,0,($J$1-1)*8)","v":"-"}]
[null,"Resto hidráulica (4)",{"$f":"OFFSET(Balance!C159,0,($J$1-1)*8)","v":0},{"$f":"OFFSET(Balance!D159,0,($J$1-1)*8)","v":1176},{"$f":"OFFSET(Balance!E159,0,($J$1-1)*8)","v":1673},{"$f":"OFFSET(Balance!F159,0,($J$1-1)*8)","v":398},{"$f":"OFFSET(Balance!G159,0,($J$1-1)*8)","v":0},{"$f":"OFFSET(Balance!H159,0,($J$1-1)*8)","v":"-"},{"$f":"OFFSET(Balance!I159,0,($J$1-1)*8)","v":"-"},{"$f":"OFFSET(Balance!J159,0,($J$1-1)*8)","v":"-"}]
[null,"Eólica",{"$f":"OFFSET(Balance!C160,0,($J$1-1)*8)","v":326063.57899999997},{"$f":"OFFSET(Balance!D160,0,($J$1-1)*8)","v":356840},{"$f":"OFFSET(Balance!E160,0,($J$1-1)*8)","v":396475},{"$f":"OFFSET(Balance!F160,0,($J$1-1)*8)","v":358707},{"$f":"OFFSET(Balance!G160,0,($J$1-1)*8)","v":331363},{"$f":"OFFSET(Balance!H160,0,($J$1-1)*8)","v":"-"},{"$f":"OFFSET(Balance!I160,0,($J$1-1)*8)","v":"-"},{"$f":"OFFSET(Balance!J160,0,($J$1-1)*8)","v":"-"}]
[null,"Solar fotovoltaica",{"$f":"OFFSET(Balance!C161,0,($J$1-1)*8)","v":2915.5499999999997},{"$f":"OFFSET(Balance!D161,0,($J$1-1)*8)","v":19373},{"$f":"OFFSET(Balance!E161,0,($J$1-1)*8)","v":63500},{"$f":"OFFSET(Balance!F161,0,($J$1-1)*8)","v":162330},{"$f":"OFFSET(Balance!G161,0,($J$1-1)*8)","v":195166},{"$f":"OFFSET(Balance!H161,0,($J$1-1)*8)","v":"-"},{"$f":"OFFSET(Balance!I161,0,($J$1-1)*8)","v":"-"},{"$f":"OFFSET(Balance!J161,0,($J$1-1)*8)","v":"-"}]
[null,"Térmica renovable/Otras renovables",{"$f":"OFFSET(Balance!C162,0,($J$1-1)*8)","v":218199.68400000001},{"$f":"OFFSET(Balance!D162,0,($J$1-1)*8)","v":213283},{"$f":"OFFSET(Balance!E162,0,($J$1-1)*8)","v":217219},{"$f":"OFFSET(Balance!F162,0,($J$1-1)*8)","v":273055},{"$f":"OFFSET(Balance!G162,0,($J$1-1)*8)","v":160561},{"$f":"OFFSET(Balance!H162,0,($J$1-1)*8)","v":"-"},{"$f":"OFFSET(Balance!I162,0,($J$1-1)*8)","v":"-"},{"$f":"OFFSET(Balance!J162,0,($J$1-1)*8)","v":"-"}]
[null,"Cogeneración",{"$f":"OFFSET(Balance!C163,0,($J$1-1)*8)","v":2832.1869999999999},{"$f":"OFFSET(Balance!D163,0,($J$1-1)*8)","v":0},{"$f":"OFFSET(Balance!E163,0,($J$1-1)*8)","v":0},{"$f":"OFFSET(Balance!F163,0,($J$1-1)*8)","v":20},{"$f":"OFFSET(Balance!G163,0,($J$1-1)*8)","v":0},{"$f":"OFFSET(Balance!H163,0,($J$1-1)*8)","v":"-"},{"$f":"OFFSET(Balance!I163,0,($J$1-1)*8)","v":"-"},{"$f":"OFFSET(Balance!J163,0,($J$1-1)*8)","v":"-"}]
[null,"Régimen especial",{"$f":"OFFSET(Balance!C164,0,($J$1-1)*8)","v":550011},{"$f":"OFFSET(Balance!D164,0,($J$1-1)*8)","v":590672},{"$f":"OFFSET(Balance!E164,0,($J$1-1)*8)","v":678867},{"$f":"OFFSET(Balance!F164,0,($J$1-1)*8)","v":794510},{"$f":"OFFSET(Balance!G164,0,($J$1-1)*8)","v":687090},{"$f":"OFFSET(Balance!H164,0,($J$1-1)*8)","v":"-"},{"$f":"OFFSET(Balance!I164,0,($J$1-1)*8)","v":"-"},{"$f":"OFFSET(Balance!J164,0,($J$1-1)*8)","v":"-"}]
[null,"Generación",{"$f":"OFFSET(Balance!C165,0,($J$1-1)*8)","v":8819494.120000001},{"$f":"OFFSET(Balance!D165,0,($J$1-1)*8)","v":9215064},{"$f":"OFFSET(Balance!E165,0,($J$1-1)*8)","v":9333464},{"$f":"OFFSET(Balance!F165,0,($J$1-1)*8)","v":9107125.0540000014},{"$f":"OFFSET(Balance!G165,0,($J$1-1)*8)","v":8894756.7190000005},{"$f":"OFFSET(Balance!H165,0,($J$1-1)*8)","v":"-"},{"$f":"OFFSET(Balance!I165,0,($J$1-1)*8)","v":"-"},{"$f":"OFFSET(Balance!J165,0,($J$1-1)*8)","v":"-"}]
[null,"Demanda transporte (b.c.)",{"$f":"OFFSET(Balance!C166,0,($J$1-1)*8)","v":8819494.120000001},{"$f":"OFFSET(Balance!D166,0,($J$1-1)*8)","v":9215064},{"$f":"OFFSET(Balance!E166,0,($J$1-1)*8)","v":9333464},{"$f":"OFFSET(Balance!F166,0,($J$1-1)*8)","v":9107125.0540000014},{"$f":"OFFSET(Balance!G166,0,($J$1-1)*8)","v":8894756.7190000005},{"$f":"OFFSET(Balance!H166,0,($J$1-1)*8)","v":"-"},{"$f":"OFFSET(Balance!I166,0,($J$1-1)*8)","v":"-"},{"$f":"OFFSET(Balance!J166,0,($J$1-1)*8)","v":"-"}]
[null,"(1) Asignación de unidades de producción según combustible principal."]
[null,"(2) Utiliza fue y gasoil como combustible principal. Incluye funcionamiento en ciclo abierto."]
[null,"(3) Grupos de emergencia que se instalan de forma transitoria en determinadas zonas para cubrir un déficit de generación."]
[null,"(4) Incluye todas aquellas unidades menores de 50 MW que no pertenecen a ninguna unidad de gestión hidráulica (UGH)."]

{"sheet":"Balance Ceuta mensual","index":9,"n_rows":17,"n_cols":15,"rows_kept":17,"cut":false,"hidden":false,"merged":[[16,1,16,14],[17,1,17,14]]}
[null,null,null,null,null,null,null,null,null,null,null,null,null,null,4]
[]
[]
[null,null,null,null,null,null,null,null,null,null,null,null,"Sistema eléctrico"]
[null,null,null,null,null,null,null,null,null,null,null,null,"Horizonte temporal"]
[null,null,null,null,null,null,null,null,null,null,null,null,"Periodo"]
[]
[null,null,"Ene.","Feb.","Mar.","Abr.","May.","Jun.","Jul.","Ago.","Sep.","Oct.","Nov.","Dic.",{"$f":"OFFSET(Año!C19,($O$1-1),0)","v":2010}]
[]
[null,"Motores diesel",{"$f":"OFFSET(Balance!C64,0,($O$1-1)*12)","v":16835.431},{"$f":"OFFSET(Balance!D64,0,($O$1-1)*12)","v":16928.368999999999},{"$f":"OFFSET(Balance!E64,0,($O$1-1)*12)","v":17444.607},{"$f":"OFFSET(Balance!F64,0,($O$1-1)*12)","v":16234.076999999999},{"$f":"OFFSET(Balance!G64,0,($O$1-1)*12)","v":17320.935000000001},{"$f":"OFFSET(Balance!H64,0,($O$1-1)*12)","v":17763.089},{"$f":"OFFSET(Balance!I64,0,($O$1-1)*12)","v":19394.422999999999},{"$f":"OFFSET(Balance!J64,0,($O$1-1)*12)","v":20221.285},{"$f":"OFFSET(Balance!K64,0,($O$1-1)*12)","v":18911.028999999999},{"$f":"OFFSET(Balance!L64,0,($O$1-1)*12)","v":18433.375},{"$f":"OFFSET(Balance!M64,0,($O$1-1)*12)","v":17839.231},{"$f":"OFFSET(Balance!N64,0,($O$1-1)*12)","v":17340.393},{"$f":"IF(SUM(C10:N10)=0,\"-\",SUM(C10:N10))","v":214666.24400000001}]
[null,"Turbina de gas",{"$f":"OFFSET(Balance!C65,0,($O$1-1)*12)","v":2043.2850000000001},{"$f":"OFFSET(Balance!D65,0,($O$1-1)*12)","v":554.101},{"$f":"OFFSET(Balance!E65,0,($O$1-1)*12)","v":0},{"$f":"OFFSET(Balance!F65,0,($O$1-1)*12)","v":147.30500000000001},{"$f":"OFFSET(Balance!G65,0,($O$1-1)*12)","v":121.071},{"$f":"OFFSET(Balance!H65,0,($O$1-1)*12)","v":0},{"$f":"OFFSET(Balance!I65,0,($O$1-1)*12)","v":0},{"$f":"OFFSET(Balance!J65,0,($O$1-1)*12)","v":0},{"$f":"OFFSET(Balance!K65,0,($O$1-1)*12)","v":0},{"$f":"OFFSET(Balance!L65,0,($O$1-1)*12)","v":0},{"$f":"OFFSET(Balance!M65,0,($O$1-1)*12)","v":0},{"$f":"OFFSET(Balance!N65,0,($O$1-1)*12)","v":3.105},2868.8669999999997]
[null,"Fuel + Gas",{"$f":"OFFSET(Balance!C66,0,($O$1-1)*12)","v":18878.716},{"$f":"OFFSET(Balance!D66,0,($O$1-1)*12)","v":17482.469999999998},{"$f":"OFFSET(Balance!E66,0,($O$1-1)*12)","v":17444.607},{"$f":"OFFSET(Balance!F66,0,($O$1-1)*12)","v":16381.382},{"$f":"OFFSET(Balance!G66,0,($O$1-1)*12)","v":17442.006000000001},{"$f":"OFFSET(Balance!H66,0,($O$1-1)*12)","v":17763.089},{"$f":"OFFSET(Balance!I66,0,($O$1-1)*12)","v":19394.422999999999},{"$f":"OFFSET(Balance!J66,0,($O$1-1)*12)","v":20221.285},{"$f":"OFFSET(Balance!K66,0,($O$1-1)*12)","v":18911.028999999999},{"$f":"OFFSET(Balance!L66,0,($O$1-1)*12)","v":18433.375},{"$f":"OFFSET(Balance!M66,0,($O$1-1)*12)","v":17839.231},{"$f":"OFFSET(Balance!N66,0,($O$1-1)*12)","v":17343.498},{"$f":"SUM(O10:O11)","v":217535.111}]
[null,"Régimen ordinario",{"$f":"OFFSET(Balance!C67,0,($O$1-1)*12)","v":18878.716},{"$f":"OFFSET(Balance!D67,0,($O$1-1)*12)","v":17482.469999999998},{"$f":"OFFSET(Balance!E67,0,($O$1-1)*12)","v":17444.607},{"$f":"OFFSET(Balance!F67,0,($O$1-1)*12)","v":16381.382},{"$f":"OFFSET(Balance!G67,0,($O$1-1)*12)","v":17442.006000000001},{"$f":"OFFSET(Balance!H67,0,($O$1-1)*12)","v":17763.089},{"$f":"OFFSET(Balance!I67,0,($O$1-1)*12)","v":19394.422999999999},{"$f":"OFFSET(Balance!J67,0,($O$1-1)*12)","v":20221.285},{"$f":"OFFSET(Balance!K67,0,($O$1-1)*12)","v":18911.028999999999},{"$f":"OFFSET(Balance!L67,0,($O$1-1)*12)","v":18433.375},{"$f":"OFFSET(Balance!M67,0,($O$1-1)*12)","v":17839.231},{"$f":"OFFSET(Balance!N67,0,($O$1-1)*12)","v":17343.498},{"$f":"SUM(O12)","v":217535.111}]
[]
[null,"Generación",{"$f":"OFFSET(Balance!C68,0,($O$1-1)*12)","v":18878.716},{"$f":"OFFSET(Balance!D68,0,($O$1-1)*12)","v":17482.469999999998},{"$f":"OFFSET(Balance!E68,0,($O$1-1)*12)","v":17444.607},{"$f":"OFFSET(Balance!F68,0,($O$1-1)*12)","v":16381.382},{"$f":"OFFSET(Balance!G68,0,($O$1-1)*12)","v":17442.006000000001},{"$f":"OFFSET(Balance!H68,0,($O$1-1)*12)","v":17763.089},{"$f":"OFFSET(Balance!I68,0,($O$1-1)*12)","v":19394.422999999999},{"$f":"OFFSET(Balance!J68,0,($O$1-1)*12)","v":20221.285},{"$f":"OFFSET(Balance!K68,0,($O$1-1)*12)","v":18911.028999999999},{"$f":"OFFSET(Balance!L68,0,($O$1-1)*12)","v":18433.375},{"$f":"OFFSET(Balance!M68,0,($O$1-1)*12)","v":17839.231},{"$f":"OFFSET(Balance!N68,0,($O$1-1)*12)","v":17343.498},{"$f":"SUM(O13:O14)","v":217535.111}]
[null,"Demanda transporte (b.c.)",{"$f":"OFFSET(Balance!C69,0,($O$1-1)*12)","v":18878.716},{"$f":"OFFSET(Balance!D69,0,($O$1-1)*12)","v":17482.469999999998},{"$f":"OFFSET(Balance!E69,0,($O$1-1)*12)","v":17444.607},{"$f":"OFFSET(Balance!F69,0,($O$1-1)*12)","v":16381.382},{"$f":"OFFSET(Balance!G69,0,($O$1-1)*12)","v":17442.006000000001},{"$f":"OFFSET(Balance!H69,0,($O$1-1)*12)","v":17763.089},{"$f":"OFFSET(Balance!I69,0,($O$1-1)*12)","v":19394.422999999999},{"$f":"OFFSET(Balance!J69,0,($O$1-1)*12)","v":20221.285},{"$f":"OFFSET(Balance!K69,0,($O$1-1)*12)","v":18911.028999999999},{"$f":"OFFSET(Balance!L69,0,($O$1-1)*12)","v":18433.375},{"$f":"OFFSET(Balance!M69,0,($O$1-1)*12)","v":17839.231},{"$f":"OFFSET(Balance!N69,0,($O$1-1)*12)","v":17343.498},{"$f":"O15","v":217535.111}]
[null,"(1) Asignación de unidades de producción según combustible principal."]

{"sheet":"Balance Ceuta anual","index":10,"n_rows":17,"n_cols":9,"rows_kept":17,"cut":false,"hidden":false,"merged":[[16,1,16,11],[28,1,28,14]]}
[null,null,null,null,null,null,null,null,1]
[]
[]
[null,null,null,null,null,null,null,"Sistema eléctrico"]
[null,null,null,null,null,null,null,"Horizonte temporal"]
[null,null,null,null,null,null,null,"Periodo"]
[]
[null,null,{"$f":"OFFSET(Balance!C168,0,($I$1-1)*7)","v":2007},{"$f":"OFFSET(Balance!D168,0,($I$1-1)*7)","v":2008},{"$f":"OFFSET(Balance!E168,0,($I$1-1)*7)","v":2009},{"$f":"OFFSET(Balance!F168,0,($I$1-1)*7)","v":2010},{"$f":"OFFSET(Balance!G168,0,($I$1-1)*7)","v":2011},{"$f":"OFFSET(Balance!H168,0,($I$1-1)*7)","v":2012},{"$f":"OFFSET(Balance!I168,0,($I$1-1)*7)","v":2013}]
[]
[null,"Motores diesel",{"$f":"OFFSET(Balance!C169,0,($I$1-1)*7)","v":202644},{"$f":"OFFSET(Balance!D169,0,($I$1-1)*7)","v":209671},{"$f":"OFFSET(Balance!E169,0,($I$1-1)*7)","v":208316},{"$f":"OFFSET(Balance!F169,0,($I$1-1)*7)","v":214666.24400000001},{"$f":"OFFSET(Balance!G169,0,($I$1-1)*7)","v":"-"},{"$f":"OFFSET(Balance!H169,0,($I$1-1)*7)","v":"-"},{"$f":"OFFSET(Balance!I169,0,($I$1-1)*7)","v":"-"}]
[null,"Turbina de gas",{"$f":"OFFSET(Balance!C170,0,($I$1-1)*7)","v":0},{"$f":"OFFSET(Balance!D170,0,($I$1-1)*7)","v":0},{"$f":"OFFSET(Balance!E170,0,($I$1-1)*7)","v":3253},{"$f":"OFFSET(Balance!F170,0,($I$1-1)*7)","v":2868.8669999999997},{"$f":"OFFSET(Balance!G170,0,($I$1-1)*7)","v":"-"},{"$f":"OFFSET(Balance!H170,0,($I$1-1)*7)","v":"-"},{"$f":"OFFSET(Balance!I170,0,($I$1-1)*7)","v":"-"}]
[null,"Fuel + Gas",{"$f":"OFFSET(Balance!C171,0,($I$1-1)*7)","v":202644},{"$f":"OFFSET(Balance!D171,0,($I$1-1)*7)","v":209671},{"$f":"OFFSET(Balance!E171,0,($I$1-1)*7)","v":211569},{"$f":"OFFSET(Balance!F171,0,($I$1-1)*7)","v":217535.111},{"$f":"OFFSET(Balance!G171,0,($I$1-1)*7)","v":"-"},{"$f":"OFFSET(Balance!H171,0,($I$1-1)*7)","v":"-"},{"$f":"OFFSET(Balance!I171,0,($I$1-1)*7)","v":"-"}]
[null,"Régimen ordinario",{"$f":"OFFSET(Balance!C172,0,($I$1-1)*7)","v":202644},{"$f":"OFFSET(Balance!D172,0,($I$1-1)*7)","v":209671},{"$f":"OFFSET(Balance!E172,0,($I$1-1)*7)","v":211569},{"$f":"OFFSET(Balance!F172,0,($I$1-1)*7)","v":217535.111},{"$f":"OFFSET(Balance!G172,0,($I$1-1)*7)","v":"-"},{"$f":"OFFSET(Balance!H172,0,($I$1-1)*7)","v":"-"},{"$f":"OFFSET(Balance!I172,0,($I$1-1)*7)","v":"-"}]
[]
[null,"Generación",{"$f":"OFFSET(Balance!C173,0,($I$1-1)*7)","v":202644},{"$f":"OFFSET(Balance!D173,0,($I$1-1)*7)","v":209671},{"$f":"OFFSET(Balance!E173,0,($I$1-1)*7)","v":211569},{"$f":"OFFSET(Balance!F173,0,($I$1-1)*7)","v":217535.111},{"$f":"OFFSET(Balance!G173,0,($I$1-1)*7)","v":"-"},{"$f":"OFFSET(Balance!H173,0,($I$1-1)*7)","v":"-"},{"$f":"OFFSET(Balance!I173,0,($I$1-1)*7)","v":"-"}]
[null,"Demanda transporte (b.c.)",{"$f":"OFFSET(Balance!C174,0,($I$1-1)*7)","v":202644},{"$f":"OFFSET(Balance!D174,0,($I$1-1)*7)","v":209671},{"$f":"OFFSET(Balance!E174,0,($I$1-1)*7)","v":211569},{"$f":"OFFSET(Balance!F174,0,($I$1-1)*7)","v":217535.111},{"$f":"OFFSET(Balance!G174,0,($I$1-1)*7)","v":"-"},{"$f":"OFFSET(Balance!H174,0,($I$1-1)*7)","v":"-"},{"$f":"OFFSET(Balance!I174,0,($I$1-1)*7)","v":"-"}]
[null,"(1) Asignación de unidades de producción según combustible principal."]

{"sheet":"Balance Melilla mensual","index":11,"n_rows":22,"n_cols":15,"rows_kept":22,"cut":false,"hidden":false,"merged":[[21,1,21,14],[22,1,22,14]]}
[null,null,null,null,null,null,null,null,null,null,null,null,null,null,4]
[]
[]
[null,null,null,null,null,null,null,null,null,null,null,null,"Sistema eléctrico"]
[null,null,null,null,null,null,null,null,null,null,null,null,"Horizonte temporal"]
[null,null,null,null,null,null,null,null,null,null,null,null,"Periodo"]
[]
[null,null,"Ene.","Feb.","Mar.","Abr.","May.","Jun.","Jul.","Ago.","Sep.","Oct.","Nov.","Dic.",{"$f":"OFFSET(Año!C19,($O$1-1),0)","v":2010}]
[]
[null,"Motores diesel",{"$f":"OFFSET(Balance!C72,0,($O$1-1)*12)","v":16952.252},{"$f":"OFFSET(Balance!D72,0,($O$1-1)*12)","v":15255.491},{"$f":"OFFSET(Balance!E72,0,($O$1-1)*12)","v":16387.781999999999},{"$f":"OFFSET(Balance!F72,0,($O$1-1)*12)","v":15007.841},{"$f":"OFFSET(Balance!G72,0,($O$1-1)*12)","v":15685.419},{"$f":"OFFSET(Balance!H72,0,($O$1-1)*12)","v":16778.191999999999},{"$f":"OFFSET(Balance!I72,0,($O$1-1)*12)","v":18965.345000000001},{"$f":"OFFSET(Balance!J72,0,($O$1-1)*12)","v":20588.25},{"$f":"OFFSET(Balance!K72,0,($O$1-1)*12)","v":17840.763999999999},{"$f":"OFFSET(Balance!L72,0,($O$1-1)*12)","v":16821.623},{"$f":"OFFSET(Balance!M72,0,($O$1-1)*12)","v":16795.423999999999},{"$f":"OFFSET(Balance!N72,0,($O$1-1)*12)","v":17639.588},{"$f":"IF(SUM(C10:N10)=0,\"-\",SUM(C10:N10))","v":204717.97099999996}]
[null,"Turbina de gas",{"$f":"OFFSET(Balance!C73,0,($O$1-1)*12)","v":16.721},{"$f":"OFFSET(Balance!D73,0,($O$1-1)*12)","v":21.806999999999999},{"$f":"OFFSET(Balance!E73,0,($O$1-1)*12)","v":3.2509999999999999},{"$f":"OFFSET(Balance!F73,0,($O$1-1)*12)","v":24.138000000000002},{"$f":"OFFSET(Balance!G73,0,($O$1-1)*12)","v":34.966000000000001},{"$f":"OFFSET(Balance!H73,0,($O$1-1)*12)","v":92.513000000000005},{"$f":"OFFSET(Balance!I73,0,($O$1-1)*12)","v":106.417},{"$f":"OFFSET(Balance!J73,0,($O$1-1)*12)","v":34.25},{"$f":"OFFSET(Balance!K73,0,($O$1-1)*12)","v":37.728999999999999},{"$f":"OFFSET(Balance!L73,0,($O$1-1)*12)","v":33.689},{"$f":"OFFSET(Balance!M73,0,($O$1-1)*12)","v":53.722999999999999},{"$f":"OFFSET(Balance!N73,0,($O$1-1)*12)","v":39.252000000000002},{"$f":"IF(SUM(C11:N11)=0,\"-\",SUM(C11:N11))","v":498.45600000000002}]
[null,"Fuel + Gas",{"$f":"OFFSET(Balance!C74,0,($O$1-1)*12)","v":16968.973000000002},{"$f":"OFFSET(Balance!D74,0,($O$1-1)*12)","v":15277.298000000001},{"$f":"OFFSET(Balance!E74,0,($O$1-1)*12)","v":16391.032999999999},{"$f":"OFFSET(Balance!F74,0,($O$1-1)*12)","v":15031.979000000001},{"$f":"OFFSET(Balance!G74,0,($O$1-1)*12)","v":15720.385},{"$f":"OFFSET(Balance!H74,0,($O$1-1)*12)","v":16870.704999999998},{"$f":"OFFSET(Balance!I74,0,($O$1-1)*12)","v":19071.762000000002},{"$f":"OFFSET(Balance!J74,0,($O$1-1)*12)","v":20622.5},{"$f":"OFFSET(Balance!K74,0,($O$1-1)*12)","v":17878.492999999999},{"$f":"OFFSET(Balance!L74,0,($O$1-1)*12)","v":16855.311999999998},{"$f":"OFFSET(Balance!M74,0,($O$1-1)*12)","v":16849.147000000001},{"$f":"OFFSET(Balance!N74,0,($O$1-1)*12)","v":17678.84},{"$f":"SUM(O10:O11)","v":205216.42699999997}]
[null,"Régimen ordinario",{"$f":"OFFSET(Balance!C75,0,($O$1-1)*12)","v":16968.973000000002},{"$f":"OFFSET(Balance!D75,0,($O$1-1)*12)","v":15277.298000000001},{"$f":"OFFSET(Balance!E75,0,($O$1-1)*12)","v":16391.032999999999},{"$f":"OFFSET(Balance!F75,0,($O$1-1)*12)","v":15031.979000000001},{"$f":"OFFSET(Balance!G75,0,($O$1-1)*12)","v":15720.385},{"$f":"OFFSET(Balance!H75,0,($O$1-1)*12)","v":16870.704999999998},{"$f":"OFFSET(Balance!I75,0,($O$1-1)*12)","v":19071.762000000002},{"$f":"OFFSET(Balance!J75,0,($O$1-1)*12)","v":20622.5},{"$f":"OFFSET(Balance!K75,0,($O$1-1)*12)","v":17878.492999999999},{"$f":"OFFSET(Balance!L75,0,($O$1-1)*12)","v":16855.311999999998},{"$f":"OFFSET(Balance!M75,0,($O$1-1)*12)","v":16849.147000000001},{"$f":"OFFSET(Balance!N75,0,($O$1-1)*12)","v":17678.84},{"$f":"SUM(O12)","v":205216.42699999997}]
[]
[null,"Solar fotovoltaica",{"$f":"OFFSET(Balance!C76,0,($O$1-1)*12)","v":1},{"$f":"OFFSET(Balance!D76,0,($O$1-1)*12)","v":5},{"$f":"OFFSET(Balance!E76,0,($O$1-1)*12)","v":6},{"$f":"OFFSET(Balance!F76,0,($O$1-1)*12)","v":7},{"$f":"OFFSET(Balance!G76,0,($O$1-1)*12)","v":9},{"$f":"OFFSET(Balance!H76,0,($O$1-1)*12)","v":1},{"$f":"OFFSET(Balance!I76,0,($O$1-1)*12)","v":8},{"$f":"OFFSET(Balance!J76,0,($O$1-1)*12)","v":9},{"$f":"OFFSET(Balance!K76,0,($O$1-1)*12)","v":7},{"$f":"OFFSET(Balance!L76,0,($O$1-1)*12)","v":6},{"$f":"OFFSET(Balance!M76,0,($O$1-1)*12)","v":5},{"$f":"OFFSET(Balance!N76,0,($O$1-1)*12)","v":3},{"$f":"IF(SUM(C15:N15)=0,\"-\",SUM(C15:N15))","v":67}]
[null,"Térmica no renovable",{"$f":"OFFSET(Balance!C77,0,($O$1-1)*12)","v":699},{"$f":"OFFSET(Balance!D77,0,($O$1-1)*12)","v":606},{"$f":"OFFSET(Balance!E77,0,($O$1-1)*12)","v":781},{"$f":"OFFSET(Balance!F77,0,($O$1-1)*12)","v":808},{"$f":"OFFSET(Balance!G77,0,($O$1-1)*12)","v":921},{"$f":"OFFSET(Balance!H77,0,($O$1-1)*12)","v":710},{"$f":"OFFSET(Balance!I77,0,($O$1-1)*12)","v":772},{"$f":"OFFSET(Balance!J77,0,($O$1-1)*12)","v":797},{"$f":"OFFSET(Balance!K77,0,($O$1-1)*12)","v":897},{"$f":"OFFSET(Balance!L77,0,($O$1-1)*12)","v":486},{"$f":"OFFSET(Balance!M77,0,($O$1-1)*12)","v":0},{"$f":"OFFSET(Balance!N77,0,($O$1-1)*12)","v":551},{"$f":"IF(SUM(C16:N16)=0,\"-\",SUM(C16:N16))","v":8028}]
[null,"Residuos no renovables",{"$f":"OFFSET(Balance!C78,0,($O$1-1)*12)","v":"-"},{"$f":"OFFSET(Balance!D78,0,($O$1-1)*12)","v":"-"},{"$f":"OFFSET(Balance!E78,0,($O$1-1)*12)","v":"-"},{"$f":"OFFSET(Balance!F78,0,($O$1-1)*12)","v":"-"},{"$f":"OFFSET(Balance!G78,0,($O$1-1)*12)","v":"-"},{"$f":"OFFSET(Balance!H78,0,($O$1-1)*12)","v":"-"},{"$f":"OFFSET(Balance!I78,0,($O$1-1)*12)","v":"-"},{"$f":"OFFSET(Balance!J78,0,($O$1-1)*12)","v":"-"},{"$f":"OFFSET(Balance!K78,0,($O$1-1)*12)","v":"-"},{"$f":"OFFSET(Balance!L78,0,($O$1-1)*12)","v":"-"},{"$f":"OFFSET(Balance!M78,0,($O$1-1)*12)","v":"-"},{"$f":"OFFSET(Balance!N78,0,($O$1-1)*12)","v":"-"},{"$f":"IF(SUM(C17:N17)=0,\"-\",SUM(C17:N17))","v":"-"}]
[null,"Residuos renovables",{"$f":"OFFSET(Balance!C79,0,($O$1-1)*12)","v":"-"},{"$f":"OFFSET(Balance!D79,0,($O$1-1)*12)","v":"-"},{"$f":"OFFSET(Balance!E79,0,($O$1-1)*12)","v":"-"},{"$f":"OFFSET(Balance!F79,0,($O$1-1)*12)","v":"-"},{"$f":"OFFSET(Balance!G79,0,($O$1-1)*12)","v":"-"},{"$f":"OFFSET(Balance!H79,0,($O$1-1)*12)","v":"-"},{"$f":"OFFSET(Balance!I79,0,($O$1-1)*12)","v":"-"},{"$f":"OFFSET(Balance!J79,0,($O$1-1)*12)","v":"-"},{"$f":"OFFSET(Balance!K79,0,($O$1-1)*12)","v":"-"},{"$f":"OFFSET(Balance!L79,0,($O$1-1)*12)","v":"-"},{"$f":"OFFSET(Balance!M79,0,($O$1-1)*12)","v":"-"},{"$f":"OFFSET(Balance!N79,0,($O$1-1)*12)","v":"-"},{"$f":"IF(SUM(C18:N18)=0,\"-\",SUM(C18:N18))","v":"-"}]
[null,"Régimen especial",{"$f":"OFFSET(Balance!C80,0,($O$1-1)*12)","v":700},{"$f":"OFFSET(Balance!D80,0,($O$1-1)*12)","v":611},{"$f":"OFFSET(Balance!E80,0,($O$1-1)*12)","v":787},{"$f":"OFFSET(Balance!F80,0,($O$1-1)*12)","v":815},{"$f":"OFFSET(Balance!G80,0,($O$1-1)*12)","v":930},{"$f":"OFFSET(Balance!H80,0,($O$1-1)*12)","v":711},{"$f":"OFFSET(Balance!I80,0,($O$1-1)*12)","v":780},{"$f":"OFFSET(Balance!J80,0,($O$1-1)*12)","v":806},{"$f":"OFFSET(Balance!K80,0,($O$1-1)*12)","v":904},{"$f":"OFFSET(Balance!L80,0,($O$1-1)*12)","v":492},{"$f":"OFFSET(Balance!M80,0,($O$1-1)*12)","v":5},{"$f":"OFFSET(Balance!N80,0,($O$1-1)*12)","v":554},{"$f":"SUM(O15:O18)","v":8095}]
[null,"Generación",{"$f":"OFFSET(Balance!C81,0,($O$1-1)*12)","v":17668.973000000002},{"$f":"OFFSET(Balance!D81,0,($O$1-1)*12)","v":15888.298000000001},{"$f":"OFFSET(Balance!E81,0,($O$1-1)*12)","v":17178.032999999999},{"$f":"OFFSET(Balance!F81,0,($O$1-1)*12)","v":15846.978999999999},{"$f":"OFFSET(Balance!G81,0,($O$1-1)*12)","v":16650.384999999998},{"$f":"OFFSET(Balance!H81,0,($O$1-1)*12)","v":17581.705000000002},{"$f":"OFFSET(Balance!I81,0,($O$1-1)*12)","v":19851.761999999999},{"$f":"OFFSET(Balance!J81,0,($O$1-1)*12)","v":21428.5},{"$f":"OFFSET(Balance!K81,0,($O$1-1)*12)","v":18782.492999999999},{"$f":"OFFSET(Balance!L81,0,($O$1-1)*12)","v":17347.312000000002},{"$f":"OFFSET(Balance!M81,0,($O$1-1)*12)","v":16854.147000000001},{"$f":"OFFSET(Balance!N81,0,($O$1-1)*12)","v":18232.84},{"$f":"SUM(O13:O14,O19)","v":213311.42699999997}]
[null,"Demanda transporte (b.c.)",{"$f":"OFFSET(Balance!C82,0,($O$1-1)*12)","v":17668.973000000002},{"$f":"OFFSET(Balance!D82,0,($O$1-1)*12)","v":15888.298000000001},{"$f":"OFFSET(Balance!E82,0,($O$1-1)*12)","v":17178.032999999999},{"$f":"OFFSET(Balance!F82,0,($O$1-1)*12)","v":15846.978999999999},{"$f":"OFFSET(Balance!G82,0,($O$1-1)*12)","v":16650.384999999998},{"$f":"OFFSET(Balance!H82,0,($O$1-1)*12)","v":17581.705000000002},{"$f":"OFFSET(Balance!I82,0,($O$1-1)*12)","v":19851.761999999999},{"$f":"OFFSET(Balance!J82,0,($O$1-1)*12)","v":21428.5},{"$f":"OFFSET(Balance!K82,0,($O$1-1)*12)","v":18782.492999999999},{"$f":"OFFSET(Balance!L82,0,($O$1-1)*12)","v":17347.312000000002},{"$f":"OFFSET(Balance!M82,0,($O$1-1)*12)","v":16854.147000000001},{"$f":"OFFSET(Balance!N82,0,($O$1-1)*12)","v":18232.84},{"$f":"O20","v":213311.42699999997}]
[null,"(1) Asignación de unidades de producción según combustible principal."]

{"sheet":"Balance Melilla anual","index":12,"n_rows":23,"n_cols":9,"rows_kept":23,"cut":false,"hidden":false,"merged":[[21,1,21,11],[22,1,22,11]]}
[null,null,null,null,null,null,null,null,1]
[]
[]
[null,null,null,null,null,null,null,"Sistema eléctrico"]
[null,null,null,null,null,null,null,"Horizonte temporal"]
[null,null,null,null,null,null,null,"Periodo"]
[]
[null,null,{"$f":"OFFSET(Balance!C176,0,($I$1-1)*7)","v":2007},{"$f":"OFFSET(Balance!D176,0,($I$1-1)*7)","v":2008},{"$f":"OFFSET(Balance!E176,0,($I$1-1)*7)","v":2009},{"$f":"OFFSET(Balance!F176,0,($I$1-1)*7)","v":2010},{"$f":"OFFSET(Balance!G176,0,($I$1-1)*7)","v":2011},{"$f":"OFFSET(Balance!H176,0,($I$1-1)*7)","v":2012},{"$f":"OFFSET(Balance!I176,0,($I$1-1)*7)","v":2013}]
[]
[null,"Motores diesel",{"$f":"OFFSET(Balance!C177,0,($I$1-1)*7)","v":181867.74},{"$f":"OFFSET(Balance!D177,0,($I$1-1)*7)","v":193125},{"$f":"OFFSET(Balance!E177,0,($I$1-1)*7)","v":197553},{"$f":"OFFSET(Balance!F177,0,($I$1-1)*7)","v":204717.97099999996},{"$f":"OFFSET(Balance!G177,0,($I$1-1)*7)","v":"-"},{"$f":"OFFSET(Balance!H177,0,($I$1-1)*7)","v":"-"},{"$f":"OFFSET(Balance!I177,0,($I$1-1)*7)","v":"-"}]
[null,"Turbina de gas",{"$f":"OFFSET(Balance!C178,0,($I$1-1)*7)","v":2412.2599999999998},{"$f":"OFFSET(Balance!D178,0,($I$1-1)*7)","v":3081},{"$f":"OFFSET(Balance!E178,0,($I$1-1)*7)","v":545},{"$f":"OFFSET(Balance!F178,0,($I$1-1)*7)","v":498.45600000000002},{"$f":"OFFSET(Balance!G178,0,($I$1-1)*7)","v":"-"},{"$f":"OFFSET(Balance!H178,0,($I$1-1)*7)","v":"-"},{"$f":"OFFSET(Balance!I178,0,($I$1-1)*7)","v":"-"}]
[null,"Fuel + Gas",{"$f":"OFFSET(Balance!C179,0,($I$1-1)*7)","v":184280},{"$f":"OFFSET(Balance!D179,0,($I$1-1)*7)","v":196206},{"$f":"OFFSET(Balance!E179,0,($I$1-1)*7)","v":198098},{"$f":"OFFSET(Balance!F179,0,($I$1-1)*7)","v":205216.42699999997},{"$f":"OFFSET(Balance!G179,0,($I$1-1)*7)","v":"-"},{"$f":"OFFSET(Balance!H179,0,($I$1-1)*7)","v":"-"},{"$f":"OFFSET(Balance!I179,0,($I$1-1)*7)","v":"-"}]
[null,"Régimen ordinario",{"$f":"OFFSET(Balance!C180,0,($I$1-1)*7)","v":184280},{"$f":"OFFSET(Balance!D180,0,($I$1-1)*7)","v":196206},{"$f":"OFFSET(Balance!E180,0,($I$1-1)*7)","v":198098},{"$f":"OFFSET(Balance!F180,0,($I$1-1)*7)","v":205216.42699999997},{"$f":"OFFSET(Balance!G180,0,($I$1-1)*7)","v":"-"},{"$f":"OFFSET(Balance!H180,0,($I$1-1)*7)","v":"-"},{"$f":"OFFSET(Balance!I180,0,($I$1-1)*7)","v":"-"}]
[]
[null,"Solar fotovoltaica",{"$f":"OFFSET(Balance!C181,0,($I$1-1)*7)","v":0},{"$f":"OFFSET(Balance!D181,0,($I$1-1)*7)","v":6},{"$f":"OFFSET(Balance!E181,0,($I$1-1)*7)","v":122},{"$f":"OFFSET(Balance!F181,0,($I$1-1)*7)","v":67},{"$f":"OFFSET(Balance!G181,0,($I$1-1)*7)","v":"-"},{"$f":"OFFSET(Balance!H181,0,($I$1-1)*7)","v":"-"},{"$f":"OFFSET(Balance!I181,0,($I$1-1)*7)","v":"-"}]
[null,"Térmica no renovable (2)",{"$f":"OFFSET(Balance!C182,0,($I$1-1)*7)","v":8740},{"$f":"OFFSET(Balance!D182,0,($I$1-1)*7)","v":4842},{"$f":"OFFSET(Balance!E182,0,($I$1-1)*7)","v":7735},{"$f":"OFFSET(Balance!F182,0,($I$1-1)*7)","v":8028},{"$f":"OFFSET(Balance!G182,0,($I$1-1)*7)","v":"-"},{"$f":"OFFSET(Balance!H182,0,($I$1-1)*7)","v":"-"},{"$f":"OFFSET(Balance!I182,0,($I$1-1)*7)","v":"-"}]
[null,"Residuos no renovables",{"$f":"OFFSET(Balance!C183,0,($I$1-1)*7)","v":"-"},{"$f":"OFFSET(Balance!D183,0,($I$1-1)*7)","v":"-"},{"$f":"OFFSET(Balance!E183,0,($I$1-1)*7)","v":"-"},{"$f":"OFFSET(Balance!F183,0,($I$1-1)*7)","v":"-"},{"$f":"OFFSET(Balance!G183,0,($I$1-1)*7)","v":"-"},{"$f":"OFFSET(Balance!H183,0,($I$1-1)*7)","v":"-"},{"$f":"OFFSET(Balance!I183,0,($I$1-1)*7)","v":"-"}]
[null,"Residuos renovables",{"$f":"OFFSET(Balance!C184,0,($I$1-1)*7)","v":"-"},{"$f":"OFFSET(Balance!D184,0,($I$1-1)*7)","v":"-"},{"$f":"OFFSET(Balance!E184,0,($I$1-1)*7)","v":"-"},{"$f":"OFFSET(Balance!F184,0,($I$1-1)*7)","v":"-"},{"$f":"OFFSET(Balance!G184,0,($I$1-1)*7)","v":"-"},{"$f":"OFFSET(Balance!H184,0,($I$1-1)*7)","v":"-"},{"$f":"OFFSET(Balance!I184,0,($I$1-1)*7)","v":"-"}]
[null,"Régimen especial",{"$f":"OFFSET(Balance!C185,0,($I$1-1)*7)","v":8740},{"$f":"OFFSET(Balance!D185,0,($I$1-1)*7)","v":4848},{"$f":"OFFSET(Balance!E185,0,($I$1-1)*7)","v":7857},{"$f":"OFFSET(Balance!F185,0,($I$1-1)*7)","v":8095},{"$f":"OFFSET(Balance!G185,0,($I$1-1)*7)","v":"-"},{"$f":"OFFSET(Balance!H185,0,($I$1-1)*7)","v":"-"},{"$f":"OFFSET(Balance!I185,0,($I$1-1)*7)","v":"-"}]
[null,"Generación",{"$f":"OFFSET(Balance!C186,0,($I$1-1)*7)","v":193020},{"$f":"OFFSET(Balance!D186,0,($I$1-1)*7)","v":201054},{"$f":"OFFSET(Balance!E186,0,($I$1-1)*7)","v":205955},{"$f":"OFFSET(Balance!F186,0,($I$1-1)*7)","v":213311.42699999997},{"$f":"OFFSET(Balance!G186,0,($I$1-1)*7)","v":"-"},{"$f":"OFFSET(Balance!H186,0,($I$1-1)*7)","v":"-"},{"$f":"OFFSET(Balance!I186,0,($I$1-1)*7)","v":"-"}]
[null,"Demanda transporte (b.c.)",{"$f":"OFFSET(Balance!C187,0,($I$1-1)*7)","v":193020},{"$f":"OFFSET(Balance!D187,0,($I$1-1)*7)","v":201054},{"$f":"OFFSET(Balance!E187,0,($I$1-1)*7)","v":205955},{"$f":"OFFSET(Balance!F187,0,($I$1-1)*7)","v":213311.42699999997},{"$f":"OFFSET(Balance!G187,0,($I$1-1)*7)","v":"-"},{"$f":"OFFSET(Balance!H187,0,($I$1-1)*7)","v":"-"},{"$f":"OFFSET(Balance!I187,0,($I$1-1)*7)","v":"-"}]
[null,"(1) Asignación de unidades de producción según combustible principal."]
[null,"(2) Hasta 2010 incluye residuos."]

{"sheet":"Balance","index":13,"n_rows":210,"n_cols":254,"rows_kept":210,"cut":false,"hidden":true,"merged":[]}
[]
[null,"Balance eléctrico mensual peninsular (GWh)","1990-01-01","1990-02-01","1990-03-01","1990-04-01","1990-05-01","1990-06-01","1990-07-01","1990-08-01","1990-09-01","1990-10-01","1990-11-01","1990-12-01","1991-01-01","1991-02-01","1991-03-01","1991-04-01","1991-05-01","1991-06-01","1991-07-01","1991-08-01","1991-09-01","1991-10-01","1991-11-01","1991-12-01","1992-01-01","1992-02-01","1992-03-01","1992-04-01","1992-05-01","1992-06-01","1992-07-01","1992-08-01","1992-09-01","1992-10-01","1992-11-01","1992-12-01","1993-01-01","1993-02-01","1993-03-01","1993-04-01","1993-05-01","1993-06-01","1993-07-01","1993-08-01","1993-09-01","1993-10-01","1993-11-01","1993-12-01","1994-01-01","1994-02-01","1994-03-01","1994-04-01","1994-05-01","1994-06-01","1994-07-01","1994-08-01","1994-09-01","1994-10-01","1994-11-01","1994-12-01","1995-01-01","1995-02-01","1995-03-01","1995-04-01","1995-05-01","1995-06-01","1995-07-01","1995-08-01","1995-09-01","1995-10-01","1995-11-01","1995-12-01","1996-01-01","1996-02-01","1996-03-01","1996-04-01","1996-05-01","1996-06-01","1996-07-01","1996-08-01","1996-09-01","1996-10-01","1996-11-01","1996-12-01","1997-01-01","1997-02-01","1997-03-01","1997-04-01","1997-05-01","1997-06-01","1997-07-01","1997-08-01","1997-09-01","1997-10-01","1997-11-01","1997-12-01","1998-01-01","1998-02-01","1998-03-01","1998-04-01","1998-05-01","1998-06-01","1998-07-01","1998-08-01","1998-09-01","1998-10-01","1998-11-01","1998-12-01","1999-01-01","1999-02-01","1999-03-01","1999-04-01","1999-05-01","1999-06-01","1999-07-01","1999-08-01","1999-09-01","1999-10-01","1999-11-01","1999-12-01","2000-01-01","2000-02-01","2000-03-01","2000-04-01","2000-05-01","2000-06-01","2000-07-01","2000-08-01","2000-09-01","2000-10-01","2000-11-01","2000-12-01","2001-01-01","2001-02-01","2001-03-01","2001-04-01","2001-05-01","2001-06-01","2001-07-01","2001-08-01","2001-09-01","2001-10-01","2001-11-01","2001-12-01","2002-01-01","2002-02-01","2002-03-01","2002-04-01","2002-05-01","2002-06-01","2002-07-01","2002-08-01","2002-09-01","2002-10-01","2002-11-01","2002-12-01","2003-01-01","2003-02-01","2003-03-01","2003-04-01","2003-05-01","2003-06-01","2003-07-01","2003-08-01","2003-09-01","2003-10-01","2003-11-01","2003-12-01","2004-01-01","2004-02-01","2004-03-01","2004-04-01","2004-05-01","2004-06-01","2004-07-01","2004-08-01","2004-09-01","2004-10-01","2004-11-01","2004-12-01","2005-01-01","2005-02-01","2005-03-01","2005-04-01","2005-05-01","2005-06-01","2005-07-01","2005-08-01","2005-09-01","2005-10-01","2005-11-01","2005-12-01","2006-01-01","2006-02-01","2006-03-01","2006-04-01","2006-05-01","2006-06-01","2006-07-01","2006-08-01","2006-09-01","2006-10-01","2006-11-01","2006-12-01","2007-01-01","2007-02-01","2007-03-01","2007-04-01","2007-05-01","2007-06-01","2007-07-01","2007-08-01","2007-09-01","2007-10-01","2007-11-01","2007-12-01","2008-01-01","2008-02-01","2008-03-01","2008-04-01","2008-05-01","2008-06-01","2008-07-01","2008-08-01","2008-09-01","2008-10-01","2008-11-01","2008-12-01","2009-01-01","2009-02-01","2009-03-01","2009-04-01","2009-05-01","2009-06-01","2009-07-01","2009-08-01","2009-09-01","2009-10-01","2009-11-01","2009-12-01","2010-01-01","2010-02-01","2010-03-01","2010-04-01","2010-05-01","2010-06-01","2010-07-01","2010-08-01","2010-09-01","2010-10-01","2010-11-01","2010-12-01"]
[null,"Hidráulica",3812.6836999999987,3241.3313999999987,2387.7997000000005,1664.4924999999992,1752.901800000001,1739.8822,1544.0681999999999,1169.8983999999989,1178.3229000000017,1337.0603000000017,1868.1971000000021,1844.1224000000009,2467.4703999999979,1919.5628999999992,3614.2048000000013,3316.7103000000006,2694.829699999998,1973.8522000000016,1620.9676000000009,1055.4560000000006,1050.6569000000009,1456.6256999999982,1844.0770999999968,1713.5203000000015,1250.8666000000014,723.77950000000226,698.12999999999874,1390.8228999999994,1287.4845000000005,1384.7241999999992,1490.8638999999987,1021.247400000003,1103.2181999999984,1653.1741000000013,1965.1256999999989,2587.4304999999986,1964.7223000000017,1382.2487000000033,1283.8341999999971,971.62319999999681,1629.2967000000003,1998.1276000000009,1732.0918000000011,1141.0418999999988,1098.4951999999985,2604.2501000000002,3227.9826999999968,2480.7752999999984,3506.1817999999994,2871.0269000000003,2559.2106999999965,2180.1566999999995,2397.3124999999977,2261.0100000000029,1724.8935999999999,1239.8088000000002,1153.1582000000008,1376.5238999999979,2086.2166000000016,1653.1660000000034,2531.9199000000003,2392.7034000000026,2922.0561999999995,1736.6887000000038,1575.2418999999973,1613.2683,1506.0024999999998,986.9472999999989,810.23769999999809,876.02170000000251,1104.648999999999,2183.3511999999996,5366.4255000000003,5212.2742000000007,3299.6810999999993,3427.3588999999974,3565.8544000000006,2717.445299999999,2133.1411999999978,1426.6442,1653.9289000000003,1642.9637000000023,2028.170699999999,3850.8693000000017,5243.6578000000009,3212.0474000000017,2463.6685999999991,2149.822099999999,2047.0708000000016,2156.1440999999982,1862.2452000000017,1573.612700000001,1466.7002999999995,1361.9637999999989,3192.0373000000009,4952.2926000000007,5470.6294999999982,3738.6073999999985,2434.159300000003,3142.3083000000001,3702.8203000000008,3175.0883999999992,2392.2328999999995,1887.271500000001,1699.3457999999996,1791.5409000000006,1342.3168000000005,1079.2141000000008,1111.8596000000011,1083.0403000000006,1671.6503000000014,1854.149699999999,2506.3907999999997,2240.7727999999997,1763.463400000001,1280.9923999999987,1341.8103000000001,1474.790199999999,2480.3627999999994,2488.0994000000019,2258.7286000000026,1356.0572000000002,1300.8535999999999,1804.3185999999987,2863.7578000000017,2010.3655000000006,1492.7415999999989,1557.3933000000006,1681.1606000000013,1511.4157000000005,2137.1221000000005,4083.9201999999987,5842.8609000000006,5371.9687000000013,6098.7381000000005,3956.8406999999988,2967.3583000000017,2227.5889000000011,1785.2493000000011,1721.3026000000004,1319.4317000000015,1577.8276999999989,1812.4448,1422.9655,1092.5866000000001,918.69360000000006,1561.1817000000001,1532.7879,1572.4141000000002,1595.1734000000001,1135.2789,844.28559999999993,837.77120000000014,937.81510000000003,1607.2706000000001,3690.6138999999998,5077.4655000000002,3962.1758999999997,4042.1839999999997,3389.9379999999996,3195.2093,2009.3285000000001,1705.3562000000002,1257.8616999999999,1451.1365000000001,1701.9632999999999,2809.7932000000001,4405.9511000000002,3194.3600999999985,2970.8209999999976,2675.6499000000003,2489.1504999999997,2791.3154000000013,2347.6550999999999,1776.8765999999987,1499.0746000000015,1336.6138000000053,1499.4952000000026,2039.2544999999986,1500.192400000001,1212.9129999999996,1247.2604000000024,1424.3981000000015,1633.9949999999992,1748.5583999999988,1526.0680999999977,1063.7019000000018,938.54999999999757,667.86839999999802,638.98779999999829,1022.1012999999966,1306.2117000000005,1233.9692999999993,869.53769999999804,2443.6332999999972,2221.2243000000017,1775.277900000001,1255.5403000000015,1280.5138000000029,855.7432,952.06890000000055,1324.1278999999988,2588.522599999998,4426.2256999999954,1920.0478000000003,2539.7347,3412.3603999999996,2337.7021,2328.2846,1896.4941999999999,2152.4522999999999,1514.2806,1189.9214999999999,1525.5493000000001,1152.0925,1010.0581,1052.9718,724.43350000000009,774.5612000000001,2158.8984000000028,2756.8809000000001,2593.9364999999998,1801.4576,1275.0206000000001,1101.1437999999998,904.63950000000011,1192.6748000000002,1959.02,1753.4290999999998,2852.5814999999998,2234.3775999999998,1704.1587,2008.6723999999999,1659.6541999999999,1393.0593999999999,1167.1748,750.34090000000003,1028.1299000000001,1560.9612999999999,2619.7628999999997,4414.2761132999995,3450.7255615999998,5031.7780444,4029.8561307,3174.5390475999998,2946.0881532000003,2437.1694070000003,1695.0818135,1249.4073436999997,1282.6130285000002,2043.8580677,3254.0614768999999]
[null,"Turbinación bombeo",161.4753,85.601599999999991,10.0023,19.701499999999999,30.440199999999997,9.1798000000000002,15.472799999999998,34.9846,112.49909999999998,108.8507,31.154899999999998,108.12759999999999,188.23560000000001,152.8681,120.1802,8.5406999999999993,10.940299999999999,28.968799999999998,40.398400000000002,50.463000000000001,78.941099999999992,56.615299999999998,131.96889999999999,134.7927,183.39439999999999,101.0205,119.30799999999999,208.3151,139.03049999999999,172.7978,194.17509999999996,192.34460000000001,192.08979999999997,204.50989999999999,127.22429999999999,119.28349999999999,97.118700000000004,78.882299999999987,132.29579999999999,141.7808,158.94829999999999,94.095399999999998,97.892200000000003,133.19809999999998,141.65479999999999,133.4529,59.527299999999997,52.444700000000005,212.85320000000002,87.943099999999987,11.206299999999999,24.212299999999999,37.103499999999997,28,78.989399999999989,20.304199999999998,118.04379999999998,131.6301,78.821399999999997,112.66499999999998,160.95309999999998,106.2796,104.93979999999999,97.369299999999981,88.76209999999999,88.375699999999995,114.76149999999998,110.08269999999999,122.0093,124.77429999999998,116.68299999999999,222.21779999999998,532.94150000000002,133.28979999999999,21.018899999999999,23.697099999999999,30.819599999999998,51.009699999999995,46.447799999999994,8.4517999999999986,16.242099999999997,27.432299999999998,48.775300000000001,125.70669999999998,177.05519999999999,26.094599999999996,8.5833999999999993,15.047899999999998,57.320199999999993,59.81989999999999,82.714799999999997,123.43729999999999,133.03569999999999,101.2872,186.24269999999999,261.98339999999996,194.00849999999997,94.386599999999987,77.847699999999989,150.40269999999998,127.23269999999999,80.190600000000003,142.36109999999999,223.94749999999999,135.36320000000001,120.20610000000001,149.65019999999998,315.83089999999999,328.1404,239.93270000000001,164.0667,151.03129999999999,153.87819999999999,124.34519999999999,150.1626,182.5866,238.65169999999998,342.83479999999997,221.2182,269.61759999999998,258.01439999999997,219.27780000000001,241.97040000000001,359.50039999999996,432.54820000000001,231.15049999999997,226.40939999999998,172.43869999999998,179.7824,253.77029999999999,316.1739,543.78379999999993,377.35109999999997,215.15129999999996,271.24790000000002,140.6713,150.2347,181.0641,212.10769999999999,204.07239999999999,258.12430000000001,254.86929999999998,235.3022,391.68849999999992,456.99639999999994,354.36939999999998,326.40229999999997,310.37509999999997,391.61989999999997,439.92059999999998,489.86909999999995,400.59039999999999,418.58179999999999,402.89689999999996,399.29539999999997,478.76009999999997,411.1345,265.81309999999996,258.05499999999995,153.08999999999997,186.19369999999998,291.00049999999999,293.89079999999996,330.62329999999997,305.91749999999996,273.21069999999997,225.48679999999999,280.27789999999999,283.37189999999998,193.28399999999999,237.30209999999997,230.29649999999998,275.3646,297.92489999999998,285.8184,270.50939999999997,271.4502,288.03879999999998,251.00249999999997,338.93159999999995,387.16300000000001,303.05659999999995,344.81089999999995,315.43399999999997,450.14759999999995,444.16890000000001,485.31909999999993,312.25599999999997,363.80259999999993,337.94319999999999,318.21369999999996,387.54730000000001,410.50869999999998,370.94329999999997,262.44469999999995,214.06069999999997,219.59209999999996,259.05669999999998,359.3492,280.24779999999998,340.60109999999997,379.06610000000001,379.10039999999998,268.89030000000002,260.2432,277.11529999999999,268.91759999999999,205.37789999999998,278.33539999999999,249.37780000000001,233.46469999999999,259.9674,242.14749999999998,221.90069999999997,268.90849999999995,336.8449,301.58519999999999,293.51349999999996,281.25579999999997,153.34059999999999,144.25110000000001,199.67849999999999,177.6474,133.56139999999999,158.58920000000001,208.00149999999996,287.87919999999997,322.44799999999998,344.55889999999994,274.42450000000002,197.03039999999999,179.03129999999999,173.24859999999998,157.21579999999997,168.71259999999998,171.5042,178.14509999999999,198.88609999999997,278.25069999999994,334.92410000000001,529.60983670000007,388.30555539999995,381.26509259999995,212.21241929999999,195.96443439999999,161.10858679999998,139.41769099999999,161.80076849999998,163.58696829999997,242.28118949999995,225.55656829999995,319.33869309999994]
[null,"Nuclear",5193.2669999999998,4339.07,4257.0429999999997,4556.652,3888.4780000000001,3340.7759999999998,4237.2030000000004,4785.9570000000003,3922.86,3724.6979999999999,4508.0119999999997,5151.652,5104.1710000000003,4384.2939999999999,4067.27,3992.02,4552.1890000000003,4225.1899999999996,4437.6530000000002,4942.09,4277.0730000000003,4464.0169999999998,4223.2820000000002,4493.1509999999998,5192.8770000000004,4385.7290000000003,4026.587,3462.453,4064.5410000000002,4293.1989999999996,4749.7550000000001,4946.1469999999999,4034.17,4813.0360000000001,4192.3450000000003,5199.2209999999995,5201.174,4155.7929999999997,4669.1880000000001,4062.3710000000001,3893.6060000000002,4183.93,4729.2460000000001,4829.7979999999998,4382.91,4501.3059999999996,4049.26,5006.7079999999996,4888.2139999999999,3958.1379999999999,3900.1210000000001,4180.04,4543.5010000000002,3955.25,4579.1760000000004,5011.7669999999998,4867.835,4055.7330000000002,3978.7339999999999,5077.2939999999999,5146.4290000000001,4395.348,4446.4219999999996,4134.1989999999996,4752.0510000000004,4513.0550000000003,4113.75,4140.442,3814.6640000000002,4207.8209999999999,4297.0649999999996,5176.8519999999999,5195.7539999999999,4737.4430000000002,4830.9219999999996,4445.9740000000002,5116.9250000000002,3774.4290000000001,3664.36,3673.0569999999998,3886.011,4866.2370000000001,4595.5460000000003,5326.0879999999997,5031.4409999999998,4410.6220000000003,3691.5619999999999,4062.0650000000001,4998.1310000000003,4588.0749999999998,4734.5360000000001,4656.4660000000003,4176.0129999999999,4076.8440000000001,4225.6610000000001,4396.9260000000004,4850.357,4864.741,4461.1189999999997,4236.9560000000001,4651.5559999999996,4934.2110000000002,5286.8950000000004,5284.7460000000001,4524.4040000000005,4228.4549999999999,4439.5460000000003,4809.0609999999997,5175.085,3934.9490000000001,4011.0189999999998,3517.41,4880.7039999999997,4516.8969999999999,4677.9319999999998,5216.1670000000004,4711.5259999999998,5076.299,5278.6869999999999,5381.5219999999999,5459.17,5121.3310000000001,4958.84,4468.1360000000004,4874.4319999999998,5231.8050000000003,5359.4309999999996,5001.26,4030.7669999999998,4407.5630000000001,5064.9549999999999,5552.63,5502.3770000000004,4781.0929999999998,4681.95,4579.076,5513.3280000000004,5103.848,5432.7079999999996,5308.9870000000001,4701.9359999999997,4737.7489999999998,5173.6959999999999,5468.4650000000001,5520.4269999999997,4774.6279999999997,4206.7129999999997,4213.8419999999996,4779.2070000000003,5056.317,5461.0479999999998,5342.009,4584.9179999999997,5397.9639999999999,5372.2539999999999,5579.12,5509.2039999999997,4935.9390000000003,4672.1049999999996,4666.5870000000004,4788.8159999999998,4456.1189999999997,5407.9309999999996,5310.3649999999998,4125.6400000000003,4543.8519999999999,5301.45,5501.5820000000003,5460.7179999999998,5125.5640000000003,4948.6270000000004,5126.8320000000003,4825.2929999999997,5119.8680000000004,5506.2659999999996,5391.1970000000001,4699.0659999999998,4456.99,5064.8130000000001,5150.5079999999998,5568.3090000000002,4881.1490000000003,4397.3779999999997,3772.4949999999999,3619.3679999999999,3778.6930000000002,3888.0259999999998,4532.116,5109.7690000000002,4710.4870000000001,5173.1639999999998,5470.8789999999999,5421.2830000000004,4884.5969999999998,5073.241,3528.8339999999998,4300.0879999999997,4842.6530000000002,4775.66,5164.5550000000003,4298.7560000000003,4620.2969999999996,5068.6260000000002,5375.116,5319.1580000000004,4778.3050000000003,4947.4629999999997,4342.93,3485.058,3161.45,3855.7460000000001,3976.62,4877.2839999999997,4891.0659999999998,3934.346,5069.5010000000002,5322.9409999999998,5119.9319999999998,5354.7060000000001,4039.7550000000001,4689.7039999999997,4579.7330000000002,4541.0349999999999,5013.9489999999996,4482.3890000000001,4314.4620000000004,4045.8270000000002,4955.8580000000002,5438.39,4335.1400000000003,3949.223,4063.489,3687.607,3530.33,3998.25,5278.1620000000003,4387.8469999999998,3957.8240000000001,3973.4949999999999,3949.6880000000001,4480.6099999999997,4635.9830000000002,4877.9646469999998,4894.268,4417.8689999999997,4693.97,5399.9840000000004,5421.2550000000001,5066.8190000000004,5429.7690000000002,5094.6189999999997,4829.2110000000002]
[null,"Carbón",3554.7130000000002,2808.93,4652.6989999999996,4136.5429999999997,4587.1109999999999,5321.4319999999998,5250.7060000000001,3947.904,5387.902,5510.9690000000001,4915.0630000000001,5264.8360000000002,5224.28,5296.625,3495.0279999999998,3481.8490000000002,3671.8180000000002,4256.6930000000002,4980.1729999999998,4086.721,5208.0709999999999,5263.2470000000003,5335.63,5504.1719999999996,5944.99,5738.3360000000002,6103.6019999999999,5201.3090000000002,4697.4560000000001,4286.62,5015.9709999999995,4074.3449999999998,5319.2740000000003,4625.6970000000001,4904.8990000000003,3913.3960000000002,5346.884,5513.03,5612.2,5170.2950000000001,4777.482,4212.7860000000001,4707.7950000000001,4404.0150000000003,5167.9459999999999,4033.7550000000001,4331.0810000000001,4573.8289999999997,3978.51,4574.6260000000002,4772.0309999999999,4414.0839999999998,3947.5819999999999,4969.9160000000002,5461.8220000000001,4646.473,4986.63,5297.8029999999999,4989.8029999999999,5135.4290000000001,4961.5429999999997,4086.7020000000002,4543.3760000000002,4764.9229999999998,4849.9660000000003,4988.4269999999997,5813.1210000000001,5715.2879999999996,5955.4340000000002,5452.8069999999998,5627.4120000000003,4475.7129999999997,2360.5059999999999,2530.3960000000002,3906.415,2566.183,2468.0160000000001,4802.9570000000003,6075.884,5718.72,5483.2709999999997,5300.6729999999998,5235.7960000000003,3019.8519999999999,3369.9650000000001,3440.4050000000002,5261.442,5405.2070000000003,4764.1080000000002,4851.4949999999999,5510.2690000000002,5458.799,6182.2820000000002,6159.8909999999996,4489.942,3626.0010000000002,2784.9969999999998,3170.357,5292.9309999999996,4252.3119999999999,3309.6819999999998,4052.5839999999998,5346.3990000000003,4423.5739999999996,5801.1279999999997,6013.634,6005.6689999999999,6472.7079999999996,6340.8639999999996,5930.6809999999996,6145.65,5483.5320000000002,4405.9440000000004,5287.6989999999996,6323.3829999999998,5275.55,6366.4870000000001,5855.6469999999999,5280.2830000000004,5709.9129999999996,6646.7269999999999,6309.58,6444.9,5440.6189999999997,4905.92,5885.0379999999996,6534.3549999999996,6262.8040000000001,6674.8770000000004,6592.7020000000002,6222.2370000000001,4308.4120000000003,3864.127,3418.3440000000001,3396.4870000000001,3806.2080000000001,4867.4440000000004,5835.1459999999997,6385.9369999999999,6261.54,6593.6639999999998,6585.9129999999996,6448.018,6986.076,6959.4219999999996,6404.2160000000003,6858.5259999999998,6465.3549999999996,6436.5510000000004,6061.0640000000003,6297.098,6142.6760000000004,6405.9840000000004,5954.9880000000003,6040.4160000000002,4529.3950000000004,4692.41,5217.6180000000004,5238.5379999999996,4917.42,5208.8059999999996,6150.0929999999998,6649.875,6645.7740000000003,6560.4669999999996,6463.7240000000002,5574.1440000000002,4974.2969999999996,5656.4549999999999,5871.2439999999997,6356.1559999999999,5163.0929999999998,5313.8549999999996,5886.91,6545.9870000000001,6332.2389999999996,6239.2479999999996,6190.8059999999996,5967.0519999999997,6597.0609999999997,6811.0429999999997,6089.2169999999996,6168.6570000000002,5506.63,5676.7759999999998,5758.9080000000004,6257.933,5758.1769999999997,5916.0669999999991,6141.5519999999997,6328.2110000000002,6580.9179999999997,6886.5889999999999,5775.3689999999997,4765.6580000000004,3496.4920000000002,5080.473,5562.59,6510.018,5286.5910000000003,5409.01,4807.43,4258.2139999999999,4287.6310000000003,6102.67,4895.3440000000001,4863.6350000000002,5834.9139999999998,5991.8040000000001,5773.7129999999997,5941.4759999999997,5886.2380000000003,5490.1840000000002,5348.8280000000004,5486.22,6071.2219999999998,4980.9620000000004,4597.7120000000004,3661.9070000000002,3107.0479999999998,2174.694,2041.751,3682.3649999999998,3065.9859999999999,3445.7359999999999,4099.5609999999997,4098.3509999999997,4453.4639999999999,4585.1629999999996,3015.4140000000002,2964.835,1785.3620000000001,2230.875,2454.0859999999998,3212.9270000000001,1795.0940000000001,2689.4720000000002,3054.2979999999998,1997.712,1837.3240000000001,1696.0940000000001,1367.2760000000001,844.19683400000008,633.69799999999998,823.90599999999995,1322.5630000000001,2450.4160000000002,2835.7339999999999,2971.1260000000002,1987.136,1627.231,2039.8789999999999]
[null,"Fuel + Gas",204.21799999999999,106.63200000000001,108.53100000000001,79.792000000000002,202.10499999999999,384.87799999999999,413.75400000000002,154.66399999999999,238.91200000000001,286.88600000000002,267.43900000000002,418.13499999999999,255.22300000000001,330.26900000000001,128.71299999999999,181.60300000000001,200.85400000000001,278.56799999999998,687.28200000000004,178.96100000000001,651.77,308.13900000000001,371.59300000000002,468.71,1299.375,1787.73,1434.2529999999999,698.91499999999996,614.41099999999994,147.673,415.72300000000001,221.51499999999999,529.48400000000004,185.83699999999999,87.533000000000001,41.134,95.265000000000001,339.47300000000001,343.83600000000001,259.45,99.405000000000001,120.458,38.927,88.599000000000004,185.27199999999999,52.688000000000002,79.194000000000003,74.58,99.884,90.411000000000001,115.89400000000001,122.31100000000001,19.071000000000002,97.451999999999998,377.67399999999998,54.8,84.703999999999994,118.869,64.489999999999995,166.625,152.78100000000001,37.526000000000003,143.05000000000001,120.69,108.38200000000001,288.23200000000003,593.74300000000005,231.72399999999999,578.34900000000005,658.57899999999995,432.286,315.82100000000003,15.11,185.81,257.11,138.06399999999999,30.667999999999999,162.97,265.834,140.58600000000001,231.84,97.462999999999994,243.30500000000001,274.57,261.459,382.80099999999999,453.16300000000001,496.78800000000001,437.55900000000003,493.38499999999999,819.47199999999998,582.31200000000001,735.84,822.64400000000001,542.72900000000004,524.38900000000001,69.924000000000007,100.93300000000001,152.994,52.481999999999999,36.298000000000002,200.45699999999999,473.96899999999999,507.113,713.85500000000002,389.214,997.22,1644.422,1502.4580000000001,1861.3040000000001,1086.079,532.75699999999995,168.64400000000001,532.41,1127.99,686.73099999999999,596.71299999999997,154.83099999999999,413.447,687.29899999999998,1113.6690000000001,491.26400000000001,1132.8869999999999,724.64300000000003,174.01300000000001,674.13099999999997,890.41,736.76900000000001,1450.383,931.17499999999995,755.077,490.87799999999999,502.29,406.87400000000002,415.24599999999998,162.84899999999999,332.142,1148.567,1351.6949999999999,1201.8900000000001,1299.134,1281.4549999999999,1320.4590000000001,2157.018,2663.5720000000001,1619.6969999999999,1419.443,1389.165,1086.731,1639.8030000000001,1896.914,889.726,1207.8599999999999,878.51300000000003,477.95100000000002,376.30700000000002,581.38300000000004,499.10700000000003,206.44800000000001,78.707999999999998,237.10300000000001,1224.425,1186.8030000000001,1068.492,943.46799999999996,648.37199999999996,347.553,409.78,431.41399999999999,344.90600000000001,608.28800000000001,174.5,312.65300000000002,737.54499999999996,1090.75,714.63199999999995,946.65800000000002,578.89200000000005,466.279,682.95100000000002,916.31399999999996,1095.0899999999999,1363.62,371.74299999999999,521.77099999999996,1160.585,1354.2950000000001,407.67500000000001,515.48199999999997,357.86500000000001,420.92899999999997,808.94899999999996,760.53599999999994,627.52300000000002,291.553,282.34699999999998,230.67099999999999,521.58600000000001,1004.05,339.096,760.59699999999998,340.62799999999999,131.166,106.30500000000001,102.61,220.43700000000001,191.126,113.172,166.47399999999999,83.596000000000004,272.95100000000002,212.661,233.035,127.13200000000001,199.01599999999999,168.55500000000001,142.142,124.255,70.555000000000007,137.19999999999999,147.767,248.85499999999999,154.96299999999999,242.51900000000001,189.06899999999999,200.066,227.26599999999999,190.238,128.80699999999999,119.209,191.56200000000001,137.76900000000001,91.483999999999995,147.09100000000001,212.322,171.65,154.518,104.51600000000001,165.87799999999999,164.78399999999999,153.209,126.666,22.518000000000001,105.508,163.869,165.56899999999999,138.49199999999999,113.152,138.31899999999999,124.90300000000001,166.81100000000001,147.00700000000001]
[null,"Ciclo combinado","-","-","-","-","-","-","-","-","-","-","-","-","-","-","-","-","-","-","-","-","-","-","-","-","-","-","-","-","-","-","-","-","-","-","-","-",0.21299999999999999,"-","-","-","-","-","-","-","-","-","-","-","-","-","-","-","-","-","-","-","-","-","-","-","-","-","-","-","-","-","-","-","-","-","-","-","-","-","-","-","-","-","-","-","-","-","-","-","-","-","-","-","-","-","-","-","-","-","-","-","-","-","-","-","-","-","-","-","-","-","-","-","-","-","-","-","-","-","-","-","-","-","-","-","-","-","-","-","-","-","-","-","-","-","-","-","-","-","-","-","-","-","-","-","-","-","-","-","-","-","-","-",121.518,305.00700000000001,520.59400000000005,763.19200000000001,1165.914,1151.1369999999999,610.33199999999999,517.97900000000004,436.83199999999999,845.81500000000005,761.98099999999999,386.589,799.41600000000005,1781.1379999999999,1927.3420000000001,1793.886,2025.4680000000001,1795.77,1208.1959999999999,863.65300000000002,1541.807,1943.2280000000001,2272.9110000000001,1822.15,2011.424,2317.6480000000001,2722.288,2333.433,2921.5369999999998,2845.4029999999998,2763.1559999999999,2817.86,3347.6289999999999,3357.8130000000001,3345.9479999999999,3237.21,3507.2539999999999,4645.3109999999997,5188.2110000000002,4424.9160000000002,4433.4340000000002,4074.636,4170.7370000000001,4113.6899999999996,5549.6480000000001,5482.8220000000001,4705.1390000000001,4650.8059999999996,4929.5569999999998,5469.55,6664.4570000000003,4828.1819999999998,6324.433,5050.22,4256.4570000000003,4211.1629999999996,6046.6490000000003,3813.0230000000001,3823.5529999999999,4054.7080000000001,4329.2470000000003,6168.9219999999996,6583.8389999999999,5145.5169999999998,5637.6090000000004,6092.1170000000002,7608.1620000000003,7269.5219999999999,7999.7709999999997,7995.5810000000001,6774.8040000000001,6899.11,7196.2809999999999,7596.2740000000003,8863.5310000000009,8223.3009999999995,7817.5169999999998,7214.4549999999999,6826.1670000000004,5693.94,5970.2749999999996,4444.1909999999998,5032.6499999999996,5434.4449999999997,5603.4830000000002,7620.6459999999997,8497.5750000000007,8177.8140000000003,7385.0879999999997,6555.009,5522.15,6135.9579999999996,5308.0950000000003,4758.78,4086.5899279999999,4360.6160999999993,4552.942,5475.442,6782.4560000000001,5736.69,6235.23,5277.7479999999996,5529.0940000000001,4851.2572170000003]
[null,"Régimen ordinario",12926.357,10581.564999999999,11416.075000000001,10457.180999999999,10461.036,10796.148000000001,11461.204000000002,10093.407999999999,10840.496000000003,10968.464000000002,11589.866000000002,12786.873000000001,13239.38,12083.618999999999,11425.396000000001,10980.723,11130.630999999998,10763.272000000001,11766.474,10313.691000000001,11266.512000000002,11548.643999999997,11906.550999999998,12314.346000000001,13871.503000000001,12736.595000000001,12381.88,10961.814999999999,10802.923000000001,10285.013999999999,11866.487999999999,10455.599000000002,11178.235999999999,11482.254000000001,11277.127,11860.464999999998,12705.377,11469.427000000001,12041.353999999996,10605.519999999997,10558.738000000001,10609.397000000003,11305.952000000001,10596.652,10976.277999999998,11325.451999999999,11747.044999999996,12188.336999999998,12685.643,11582.145,11358.462999999996,10920.803999999998,10944.569999999998,11311.628000000002,12222.555,10973.152999999998,11210.371000000001,10980.558999999999,11198.065000000001,12145.179000000004,12953.626000000002,11018.559000000003,12159.843999999999,10853.870000000004,11374.402999999997,11491.358,12141.378000000001,11184.483999999999,11280.693999999998,11320.003000000002,11578.094999999999,12373.954999999998,13470.736999999999,12799.213000000002,12315.147000000001,10601.276999999996,11212.282999999999,11508.811,12185.666999999999,10967.458999999999,11271.293000000001,11934.769000000002,12151.593000000001,12597.085999999999,14083.578000000001,11471.970000000001,11878.418999999998,12128.93,12304.189,12148.918999999998,13009.237000000003,12394.627000000002,12693.870999999999,12522.63,12636.612000000001,13761.592000000001,13369.915999999999,11969.025,12419.051000000001,11834.460999999999,11827.589000000002,12442.531000000001,13641.856999999998,12326.652,12874.096,12543.050000000001,12934.402,14321.236000000001,14458.407000000001,13049.906999999999,13078.465,11538.88,12115.561000000002,12702.124,14042.931,12642.026999999998,13255.187999999998,12904.402,13673.998,14536.451000000001,15736.309000000003,13497.509999999998,14079.450999999999,12797.216999999999,13250.671000000002,14032.49,14503.346999999998,13730.665000000001,14016.970000000001,13696.626,14495.565000000001,14979.624,16089.006000000001,14193.431,14863.669000000002,12645.645,13830.507000000001,14496.214,15167.697,14697.792000000001,14172.29,14437.813999999998,14989.92,16426.213,16693.004000000001,14071.603999999999,14372.266,13911.524999999998,14388.041000000001,15097.285,15800.802,14382.479000000003,14621.029000000002,14723.314000000002,14507.519000000002,15172.174999999999,16708.429,15726.468000000001,15179.310999999998,13592.332,14415.543999999996,15912.103999999999,17171.198,16407.002,15412.097000000002,15426.892,15466.623,16435.541000000001,16568.126,16449.046999999999,17098.934000000001,15006.021999999999,15529.905000000002,16707.550999999999,17927.985999999997,16541.084999999999,16414.573000000004,15859.625000000002,16551.557000000001,17087.504000000001,18243.370999999999,16973.586000000003,17044.812000000002,14837.507000000001,15523.875,17313.733999999997,18237.486000000001,16373.689999999999,17006.422999999999,16261.470999999998,17433.355999999996,18668.195,20262.534,18010.791999999994,17541.668999999998,14393.763999999999,16535.659,17910.976000000002,20594.048000000003,16754.415000000001,18085.466,16521.769,16682.085999999996,18675.330999999998,19751.378000000001,16523.958999999999,17507.055,16888.804,16579.203000000001,17333.553,19039.929,16995.284,17670.181,18206.593000000001,18648.744999999999,19925.703000000001,19800.373,18855.427,16917.789000000001,16495.352000000003,17109.577999999998,17260.227999999999,19220.999,17954.337,17194.444,16941.185000000001,16678.165000000001,17574.968000000001,18220.623,15040.960000000003,14569.678,13304.255000000001,13795.37,15569.023000000001,17482.846000000001,16761.399000000001,15545.411,14898.662999999999,13498.447,15042.440999999999,16581.893950000001,14727.736116999997,15244.312545999999,14236.158649999999,13329.089481999999,14764.740740000001,17347.935098000002,15963.713582,15824.488311999999,14344.450218,14687.169635999999,15440.754387000001]
[null,"Hidráulica/Resto hidráulica",105.99199999,92.305999990000004,64.729999989999996,90.829000010000001,84.022999960000007,91.299000000000007,55.459000000000003,57.632000010000006,34.01199999,69.633999989999992,110.01000001,126.70600002,179.13800000000001,122.81100000000001,215.011,190.10900000000001,195.07300000000001,144.59399999999999,99.561000000000007,80.388999999999996,78.209000000000003,93.88,141.988,164.018,125.13500000000001,89.668999999999997,114.31100000000001,191.75700000000001,193.59,203.803,181.00200000000001,118.066,117.869,215.52699999999999,233.875,297.16899999999998,208.39500000000001,120.724,171.35300000000001,192.554,247.309,207.114,151.58000000000001,102.715,108.434,243.80099999999999,228.351,251.898,342.685,275.54899999999998,261.048,218.69300000000001,253.36600000000001,170.89599999999999,113.035,101.443,106.75,171.69800000000001,238.982,221.12299999999999,329.74799999999999,321.577,299.32900000000001,168.03299999999999,176.27099999999999,142.42699999999999,114.44499999999999,86.066999999999993,110.54,88.179000000000002,129.774,256.48399999999998,431.99400000000003,394.01900000000001,364.69799999999998,371.68,349.161,242.65199999999999,197.03100000000001,174.12299999999999,161.74299999999999,181.57599999999999,235.11199999999999,440.05799999999999,440.79199999999997,368.97300000000001,267.72199999999998,216.18199999999999,261.68,278.39100000000002,254.60499999999999,204.18799999999999,190.68700000000001,154.25,310.86200000000002,480.66300000000001,492.71681900000027,339.41051800000037,327.06436500000001,403.45852500000007,412.07627199999973,315.95694499999991,207.93444699999981,197.43269499999997,167.836814,248.31532999999988,203.70192800000009,262.56925899999993,323.52239599999979,292.89981199999983,373.90223100000003,348.71718900000002,443.13831299999953,296.52359400000012,224.70694300000005,189.84542699999983,210.82529300000019,274.4117980000002,366.44797700000021,395.38163899999972,330.40558000000061,282.4367390000001,249.44621600000002,435.78321799999981,494.62790899999982,357.92745100000013,254.29291899999987,199.41030499999974,158.61218700000026,230.15518499999985,367.53720900000002,475.46501499999971,558.92030299999965,485.9960640000001,596.9482809999995,489.46396500000048,476.68399000000039,352.76099499999998,300.49062999999978,227.07167800000002,181.60083700000001,202.50831499999984,222.42956999999993,192.64800500000001,255.92034899999996,271.46624000000031,345.5155519999999,361.37205199999977,420.06244200000003,357.79012199999954,235.872343,210.05402300000023,204.41109700000004,280.620946,390.81764499999963,565.54952800000058,581.19393900000068,453.43333999999987,562.61659000000009,532.27852599999949,529.63067400000057,359.33567800000003,277.91316899999993,209.44763500000025,208.93049999999982,309.71749599999981,485.77285999999998,578.37363800000003,587.99536900000066,427.62895799999984,507.79213800000031,547.04272999999989,572.54148200000088,412.62300300000021,336.46757500000012,259.27092500000015,199.83813299999983,245.59888100000015,329.70104599999968,323.07814500000035,350.78451000000035,292.22942700000004,386.56584999999961,465.50854399999992,438.71030300000024,297.45351899999991,244.46804400000011,191.04961800000027,151.16209100000012,217.90684300000004,377.39904099999995,404.34514899999988,400.55887300000069,320.87833499999977,567.0589700000005,506.03915599999999,360.07454500000034,248.51400000000001,226.34899999999999,177.815,164.14,312.404,381.88099999999997,482.851,345.48899999999998,478.79599999999999,516.02800000000002,529.75900000000001,509.19,412.91699999999997,302.21199999999999,256.50099999999998,186.13399999999999,186.88800000000001,189.87299999999999,211.53800000000001,340.20600000000002,233.21799999999999,301.23399999999998,581.11099999999999,613.279,581.55499999999995,380.40899999999999,264.58100000000002,212.28,190.523,400.12099999999998,539.62599999999998,521.05499999999995,629.452,559.84500000000003,501.44200000000001,577.14200000000005,468.387,365.35300000000001,282.64999999999998,242.869,230.81,466.05,608.61800000000005,764.37,616.57799999999997,784.76,690.19600000000003,688.34299999999996,608.94799999999998,459.60300000000001,341.74799999999999,281.05,318.88900000000001,567.66,702.17499999999995]
[null,"Eólica",0.115,0.19899998999999999,0.18,0.189,0.17399999999999999,0.12,0.26,0.186,0.13100000000000001,0.17,0.20699999999999999,0.25599999000000001,0.192,0.14299999999999999,0.21199999999999999,0.56200000000000006,0.32200000000000001,0.2,0.184,0.21199999999999999,0.14399999999999999,0.24199999999999999,0.27100000000000002,0.18099999999999999,0.26200000000000001,0.22500000000000001,0.313,0.20699999999999999,0.19500000000000001,0.16300000000000001,0.19500000000000001,0.66600000000000004,1.2949999999999999,2.137,2.5070000000000001,9.1959999999999997,7.1150000000000002,11.385999999999999,7.3259999999999996,6.1639999999999997,5.2709999999999999,7.9740000000000002,7.391,6.9809999999999999,5.6310000000000002,7.1980000000000004,6.7279999999999998,5.6029999999999998,6.899,4.8140000000000001,8.7690000000000001,6.859,4.97,6.4619999999999997,3.859,5.3929999999999998,5.0469999999999997,6.3360000000000003,7.78,5.6719999999999997,7.87,7.6749999999999998,8.4960000000000004,11.901999999999999,9.2110000000000003,8.8979999999999997,14.465,17.63,14.853,27.623000000000001,13.795,17.439,18.829999999999998,22.030999999999999,24.646000000000001,26.102,23.157,27.099,25.434000000000001,15.643000000000001,22.706,30.321000000000002,31.616,36.543999999999997,39.627000000000002,32.179000000000002,46.04,56.365000000000002,39.409999999999997,43.759,57.268000000000001,41.052999999999997,45.835000000000001,69.47,72.793999999999997,76.084999999999994,85.726278999999991,73.041770999999997,100.15667400000001,97.154274999999998,87.936697000000009,72.687051000000011,112.78895799999999,131.01327799999996,104.74763500000003,104.14675399999999,128.51891699999999,138.738417,159.91106499999998,214.37513500000003,206.77279700000003,190.99942600000003,173.14856599999996,212.21415299999998,177.00095900000005,139.30212900000004,172.17858000000001,199.35031500000005,312.98064799999997,315.79952500000002,305.02478600000001,295.11369999999994,338.14951600000018,416.02144200000009,226.957358,365.846115,360.05244799999997,315.70721200000003,276.36600500000014,409.72117300000014,544.09382199999982,609.44247300000018,594.73167599999999,573.65477800000008,654.24861100000021,650.22456599999998,424.36108700000011,408.90728200000012,400.20572300000021,374.72081200000002,611.54289400000005,574.769948,768.828981,557.95175500000039,657.00929500000052,782.54075799999964,795.79277999999965,618.78730799999983,820.58633199999974,646.36536599999977,693.5828309999996,598.4340899999994,505.37139599999978,869.00001900000052,1056.9575050000003,1214.8690069999998,1395.1710190000006,997.62484999999981,837.86062599999968,1138.0008659999992,901.86601600000074,703.48306400000013,727.40598099999977,543.97083900000018,781.24529999999993,1086.9553520000009,1172.985179,1433.6770410000006,1685.3449229999994,1074.4477040000002,1281.2794619999981,1519.3727670000001,1019.3578530000005,1048.3327160000013,970.02610899999979,1114.316325,1147.637898,1635.2691430000013,1511.2452730000009,1747.4875960000002,1879.1933479999996,1745.3139569999989,1763.5135970000013,1926.4580810000014,1492.0681999999997,1261.4607640000008,1611.0284699999993,1640.4408529999992,1271.4945329999998,1902.7245970000004,1958.5321529999999,2405.4374059999986,1563.7009309999996,1924.8670310000009,2788.2671979999986,1955.917235000001,1670.5176799999992,1364.4480000000001,1171.7909999999999,2177.8209999999999,1465.816,2334.8020000000001,2279.5230000000001,2183.3850000000002,2149.8069999999998,2871.9189999999999,3086.2469999999998,1356.316,2605.873,1786.288,1888.6089999999999,2419.819,2028.855,1907.625,2752.3119999999999,2395.4850000000001,2651.4679999999998,2018.9480000000001,4092.55,3352.6860000000001,1737.1610000000001,2085.509,2124.2370000000001,1972.5229999999999,2129.8850000000002,2482.0129999999999,3462.6880000000001,3648.1819999999998,3503.799,3226.32,3100.5160000000001,3059.6579999999999,2698.0039999999999,2332.395,2426.1289999999999,2235.837,2466.7310000000002,3125.33,4792.63,4921.2280000000001,4292.0919999999996,4622.4350000000004,4546.5469999999996,2634.819,3619.3339999999998,2576.1970000000001,2798.1329999999998,2894.7440000000001,2301.3229999999999,3952.8310000000001,4348.0590000000002,4621.8819999999996]
[null,"Solar fotovoltaica",0,0,0,0,0,0,0,0,0,0,0,0,0,0,0,0,0,0,0,0,0,0,0,0,1.01,0.77200000000000002,0.57199999999999995,1.2889999999999999,1.113,1.1639999999999999,1.3069999999999999,1.155,1.2230000000000001,0.94399999999999995,0.56999999999999995,0.93700000000000006,0.53800000000000003,0.53300000000000003,1.252,1.3029999999999999,1.05,1.069,1.2729999999999999,1.1930000000000001,0.88,0.72,1.2629999999999999,0.92600000000000005,0.97799999999999998,1.242,1.0649999999999999,1.208,1.742,1.484,1.635,1.6679999999999999,1.69,1.5209999999999999,1.004,5.8900000000000001E-2,6.4000000000000001E-2,6.8000000000000005E-2,0.112,0.11700000000000001,0.13200000000000001,0.111,0.105,9.6000000000000002E-2,9.0999999999999998E-2,4.8000000000000001E-2,9.0999999999999998E-2,2.7E-2,2.4E-2,3.3000000000000002E-2,4.7E-2,9.2999999999999999E-2,8.5999999999999993E-2,0.11700000000000001,0.107,0.10299999999999999,9.6000000000000002E-2,9.5000000000000001E-2,6.4000000000000001E-2,2.5999999999999999E-2,4.1000000000000002E-2,8.7999999999999995E-2,8.7999999999999995E-2,0.11899999999999999,9.2999999999999999E-2,0.107,0.14299999999999999,8.6999999999999994E-2,0.12,9.6000000000000002E-2,0.105,0.04,4.9634999999999999E-2,7.0578000000000002E-2,0.11298999999999999,0.11806,9.6176999999999999E-2,0.13051699999999999,0.13625000000000001,0.11049299999999999,9.6509999999999999E-2,0.11281099999999999,6.9553000000000004E-2,6.6723000000000005E-2,5.3642000000000002E-2,0.107873,0.15287999999999999,0.117727,0.12252399999999999,0.14707999999999999,0.159277,0.14216999999999999,0.121715,8.8742000000000001E-2,7.9733999999999999E-2,4.7816999999999998E-2,-2.6860999999999999E-2,0.101559,0.124075,1.2024E-2,0.205484,0.16091,1.9984999999999999E-2,0.29827199999999998,0.13695099999999999,0.12126000000000001,7.2305999999999995E-2,4.3852000000000002E-2,5.4684999999999997E-2,9.8405999999999993E-2,0.10854,0.17056499999999999,0.156555,0.197492,0.16886599999999999,0.21376400000000001,0.12875300000000001,0.163998,9.4907000000000005E-2,8.3112000000000005E-2,0.126051,0.22952900000000001,0.27410599999999996,0.39638100000000026,0.47843600000000014,0.47939100000000001,0.5380640000000001,0.53365199999999957,0.48980900000000005,0.41930600000000023,0.31798800000000005,0.27873900000000007,0.33177200000000012,0.40585699999999975,0.56218699999999999,0.71534800000000021,0.85679699999999903,0.97693399999999941,1.1408959999999975,1.0179979999999982,0.91532600000000108,0.80906499999999926,0.5318040000000005,0.66612099999999963,0.57597900000000002,0.83336899999999914,1.1270059999999986,1.3765969999999994,1.6380649999999966,1.9365689999999964,2.0151259999999924,2.030071999999997,1.8506319999999978,1.7061280000000048,1.3758539999999999,1.3286139999999964,1.3100380000000011,1.5964899999999982,2.7521050000000016,2.9168830000000008,3.6370650000000015,4.27022700000001,4.3964089999999914,4.5427230000000041,4.2910249999999994,3.9432079999999976,3.2481789999999919,3.1839970000000024,2.5656399999999966,4.3413879999999949,5.1637430000000002,7.3147159999999678,8.7745119999999783,10.192,11.021000000000001,13.52,11.63,9.9489999999999998,8.077,9.8260000000000005,9.6859999999999999,12.005000000000001,20.550999999999998,24.491,34.18,38.843000000000004,49.655000000000001,53.862000000000002,58.231000000000002,55.534999999999997,52.622,52.915999999999997,57.420999999999999,70.549000000000007,104.43300000000001,126.235,131.75399999999999,189.70699999999999,232.23400000000001,288.11200000000002,317.11099999999999,320.166,324.32100000000003,244.02699999999999,248.703,380.17399999999998,508.66199999999998,546.45500000000004,647.31700000000001,618.52800000000002,690.86199999999997,637.125,492.28899999999999,482.28500000000003,345.4,231.20500000000001,248.57499999999999,289.95,458.21699999999998,565.84,683.24800000000005,656.76599999999996,752.89,691.53200000000004,605.38800000000003,525.85500000000002,364.05200000000002,297.46899999999999]
[null,"Solar térmica","-","-","-","-","-","-","-","-","-","-","-","-","-","-","-","-","-","-","-","-","-","-","-","-","-","-","-","-","-","-","-","-","-","-","-","-","-","-","-","-","-","-","-","-","-","-","-","-","-","-","-","-","-","-","-","-","-","-","-","-","-","-","-","-","-","-","-","-","-","-","-","-","-","-","-","-","-","-","-","-","-","-","-","-","-","-","-","-","-","-","-","-","-","-","-","-","-","-","-","-","-","-","-","-","-","-","-","-","-","-","-","-","-","-","-","-","-","-","-","-","-","-","-","-","-","-","-","-","-","-","-","-","-","-","-","-","-","-","-","-","-","-","-","-","-","-","-","-","-","-","-","-","-","-","-","-","-","-","-","-","-","-","-","-","-","-","-","-","-","-","-","-","-","-","-","-","-","-","-","-","-","-","-","-","-","-","-","-","-","-","-","-",0,0,0,0,0,0,0,0,0,0,0,0,0,0,0.43099999999999999,0.34200000000000003,0.55800000000000005,0.88300000000000001,1.256,1.1160000000000001,0.63900000000000001,1.214,0.997,0.191,1.0840000000000001,0.79700000000000004,1.4610000000000001,0.95799999999999996,0.94199999999999995,1.9630000000000001,2.0379999999999998,1.98,0.85899999999999999,0.86599999999999999,1.27,1.1599999999999999,0.69,1.236,2.323,7.2039999999999997,7.6580000000000004,6.7519999999999998,12.414,23.867999999999999,17.539000000000001,23.446000000000002,16.183,10.51,13.151999999999999,11.682,23.731999999999999,36.92,69.084000000000003,72.531999999999996,104.59,121.9,100.917,71.745000000000005,31.619,33.747]
[null,"Térmica renovable/Otras renovables","-","-","-","-","-","-","-","-","-","-","-","-","-","-","-","-","-","-","-","-","-",0.47899999999999998,0.19500000000000001,0.18,0.22600000000000001,0.185,0.20899999999999999,0.186,0.219,2.4910000000000001,0.85499999999999998,1.6519999999999999,2.1949999999999998,3.1859999999999999,2.8519999999999999,2.2930000000000001,2.7469999999999999,4.2910000000000004,5.55,5.08,5.1909999999999998,4.069,4.4050000000000002,5.0549999999999997,4.7699999999999996,5.9989999999999997,6.5289999999999999,5.1360000000000001,6.1820000000000004,4.2009999999999996,7.7879999999999994,12.483000000000001,22.434000000000001,14.593,25.895,34.064,35.963000000000001,40.081000000000003,55.064999999999998,63.701000000000001,52.516000000000005,54.168999999999997,59.649000000000001,59.275000000000006,60.629999999999995,38.39,56.09,56.16,55.471000000000004,65.760999999999996,51.017000000000003,62.140999999999998,61.97,55.767000000000003,73.194000000000003,69.39,67.606999999999999,74.480999999999995,76.311000000000007,76.088999999999999,74.905000000000001,70.728000000000009,57.923000000000002,56.715000000000003,56.474000000000004,46.637,55.156000000000006,57.041000000000004,57.334000000000003,33.856000000000002,57.003,53.271999999999998,57.103999999999999,61.066000000000003,58.17,55.262,29.002800999999998,53.305843000000003,61.54951100000001,62.649002999999993,69.878224000000017,68.57453000000001,70.406914,67.345651000000004,60.385233999999997,67.235011999999998,69.010128999999992,69.403475,71.806641999999997,67.74066400000001,76.241169000000014,70.55664800000001,71.228352999999998,64.031021999999993,80.270443,79.088937999999999,85.153421000000009,84.480839000000003,82.713457999999989,74.942079000000007,77.705164000000011,72.094493,81.578700000000012,75.639544999999998,57.155141000000015,64.878718000000006,80.062335000000004,78.219893000000013,86.225769,91.935601000000005,96.959690999999992,98.655336000000005,114.03217000000001,103.259727,115.38466,106.780576,116.22663500000002,163.25343300000003,164.15603399999998,142.64494099999999,174.91251699999998,184.36809099999999,170.80096299999997,182.63868100000002,102.326662,103.97290799999999,114.93776699999999,113.40504600000001,116.82101699999998,106.527145,125.927582,138.27553399999999,128.41537399999999,130.56901199999999,128.796967,143.04027199999999,125.499869,125.666718,141.367661,136.22556399999999,148.43464900000001,135.67495399999999,145.85112000000001,152.32964200000001,154.93832699999999,162.073384,144.46359000000001,164.51626000000002,165.78169199999999,141.425287,163.310002,158.00111900000002,158.15428799999998,141.57013900000001,142.66767899999999,139.21697600000002,148.774135,152.85692900000001,147.72687300000001,158.60851299999999,174.85460999999998,150.82777100000001,176.75611499999999,159.635672,172.11730599999999,162.54098200000001,167.51991400000003,173.00340799999998,160.25450599999999,152.959924,165.98202600000002,171.40583599999999,172.08671999999999,164.50467899999998,179.21714800000001,172.15726300000003,184.66687200000001,201.17400000000001,194.67,180.72499999999999,181.291,197.31100000000001,176.12700000000001,178.67599999999999,195.417,170.86799999999999,196.96199999999999,184.11799999999999,197.114,193.24700000000001,203.05199999999999,202.649,191.273,224.429,204.15700000000001,212.399,218.304,215.69800000000001,223.7,221.483,218.887,220.45099999999999,223.50399999999999,218.31,211.55500000000001,229.72499999999999,225.65600000000001,224.21600000000001,243.68600000000001,231.25299999999999,252.346,275.29700000000003,250.078,229.126,236.274,235.85900000000001,264.07600000000002,325.339,249.01,251.94300000000001,250.94,226.42400000000001,245.99799999999999,252.761,274.92500000000001,268.96100000000001,268.02999999999997,278.80399999999997,262.93700000000001,279.28699999999998,269.12099999999998,293.61099999999999]
[null,"Térmica no renovable/Cogeneración y resto/Cogeneración",35.685000010000024,38.351000019999979,45.945000009999994,29.542999990000006,39.724000039999993,36.553999999999988,59.265999999999998,54.415999989999989,70.548000009999996,79.426000009999981,86.149999990000012,79.248999989999987,95.989000000000019,93.531000000000006,115.05600000000001,116.111,113.29,97.624000000000009,119.55,109.12599999999999,134.50700000000001,150.72200000000001,140.30100000000002,150.17699999999999,158.54399999999998,156.649,153.35299999999998,133.67700000000002,150.357,147.03700000000003,147.13500000000008,155.59799999999998,159.136,169.63300000000004,179.52700000000002,192.23599999999996,216.233,207.39499999999998,238.97599999999997,228.40900000000002,230.78099999999998,243.42200000000008,273.03300000000002,222.17500000000004,290.86800000000005,356.51100000000002,393.02699999999999,406.67399999999998,424.01199999999994,397.50999999999993,428.83,427.68300000000005,448.76199999999989,440.01700000000005,418.09199999999998,419.03999999999996,459.93099999999993,463.43,473.75599999999997,510.92809999999992,488.05499999999995,461.94399999999996,538.60199999999998,514.274,531.6149999999999,523.03700000000003,524.91700000000003,510.6640000000001,559.84399999999994,605.28700000000003,625.35600000000011,657.15800000000013,649.31399999999996,674.23500000000001,693.76300000000003,721.26300000000015,706.92700000000013,708.29699999999991,764.04299999999989,721.08300000000008,746.32599999999991,827.94400000000007,871.21600000000001,907.40899999999999,907.43,826.93799999999999,929.04899999999986,911.04300000000012,932.33899999999994,902.09600000000012,984.03500000000008,910.40900000000011,947.55,1078.5139999999999,1050.981,1082.232,1132.4634659999997,1055.3262899999995,1179.4824599999999,1140.4561370000001,1143.3816300000001,1071.931957,1169.5214310000001,1090.5068830000002,1176.458807,1306.9340929999998,1295.514473,1406.3031259999998,1379.8752550000006,1318.561516,1436.0569230000001,1384.7270100000001,1425.3322440000002,1390.930151,1434.8443779999998,1350.318336,1395.920991,1537.4033059999997,1510.1531829999997,1573.1489400000003,1568.0163309999991,1437.8635089999998,1555.5964929999996,1469.5937710000005,1469.0271080000005,1426.760806,1439.9263130000002,1348.3463180000001,1376.7260879999997,1451.7187810000003,1351.8059720000003,1484.1733240000003,1509.9821660000005,1420.9730249999998,1480.3319080000003,1391.9773279999997,1478.9017329999997,1418.0977979999996,1481.5337469999999,1315.0298049999999,1436.0749989999999,1554.6446480000002,1587.637579,1581.5034469999994,1753.946643,1624.3835650000003,1752.2777950000002,1751.5292130000003,1747.5227730000001,1607.2819760000004,1731.7671800000005,1586.2397010000004,1675.7063240000002,1903.9247169999992,1846.9618950000001,1850.1104539999997,1949.8964009999988,1795.4542350000002,1917.1289360000001,1863.5466960000015,1892.4928639999987,1805.7993700000002,1913.7958340000005,1744.9618859999998,1903.9135469999999,2075.8847029999993,1958.6965669999997,2023.7759399999993,2046.9260369999997,1962.1146819999997,2107.6563920000017,1979.8427870000005,1934.4913119999985,1817.9965729999983,1921.3405109999997,1769.4697020000003,1826.6772020000005,1981.9419189999987,2074.2319539999994,2106.015132,2043.0234940000005,1951.7983550000013,2095.8113329999996,2039.9988199999989,2040.2971259999995,1919.5815079999988,1935.7391630000006,1786.1623980000002,1917.1898449999997,1838.2194279999994,1867.2426009999992,1828.6396120000024,1998.0738359999998,1940.3785669999995,2060.4519410000007,1910.7046299999986,1907.4363910000006,1747.2180000000001,1731.357,1635.847,1728.153,1850.3889999999999,1883.634,1925.296,1984.567,1757.03,1865.8879999999999,1831.5619999999999,1829.89,1893.941,1990.347,1868.579,1956.135,2102.7629999999999,2100.0659999999998,2146.989,2251.9169999999999,2226.8589999999999,2271.9859999999999,2229.3420000000001,2106.663,2078.8119999999999,2217.9769999999999,2016.6590000000001,2177.9,2358.9569999999999,2314.2759999999998,2324.6280000000002,2421.9630000000002,2242.4059999999999,2406.6460000000002,2338.3670000000002,2351.1260000000002,2309.7330000000002,2396.5940000000001,2034.3920000000001,2337.3000000000002,2464.42,2571.2600000000002,2591.7269999999999,2661.2139999999999,2477.0210000000002,2616.777,2550.3539999999998,2581.357,2541.7829999999999,2613.6729999999998,2153.4079999999999,2523.7640000000001,2647.1170000000002,2659.6819999999998,2762.902]
[null,"Residuos no renovables","-","-","-","-","-","-","-","-","-","-","-","-","-","-","-","-","-","-","-","-","-","-","-","-","-","-","-","-","-","-","-","-","-","-","-","-","-","-","-","-","-","-","-","-","-","-","-","-","-","-","-","-","-","-","-","-","-","-","-","-","-","-","-","-","-","-","-","-","-","-","-","-","-","-","-","-","-","-","-","-","-","-","-","-","-","-","-","-","-","-","-","-","-","-","-","-","-","-","-","-","-","-","-","-","-","-","-","-","-","-","-","-","-","-","-","-","-","-","-","-","-","-","-","-","-","-","-","-","-","-","-","-","-","-","-","-","-","-","-","-","-","-","-","-","-","-","-","-","-","-","-","-","-","-","-","-","-","-","-","-","-","-","-","-","-","-","-","-","-","-","-","-","-","-","-","-","-","-","-","-","-","-","-","-","-","-","-","-","-","-","-","-","-","-","-","-","-","-","-","-","-","-","-","-","-","-","-","-","-","-","-","-","-","-","-","-","-","-","-","-","-","-","-","-","-","-","-","-","-","-","-","-","-","-","-","-","-","-","-","-","-","-","-","-","-","-","-","-","-","-","-","-"]
[null,"Residuos renovables","-","-","-","-","-","-","-","-","-","-","-","-","-","-","-","-","-","-","-","-","-","-","-","-","-","-","-","-","-","-","-","-","-","-","-","-","-","-","-","-","-","-","-","-","-","-","-","-","-","-","-","-","-","-","-","-","-","-","-","-","-","-","-","-","-","-","-","-","-","-","-","-","-","-","-","-","-","-","-","-","-","-","-","-","-","-","-","-","-","-","-","-","-","-","-","-","-","-","-","-","-","-","-","-","-","-","-","-","-","-","-","-","-","-","-","-","-","-","-","-","-","-","-","-","-","-","-","-","-","-","-","-","-","-","-","-","-","-","-","-","-","-","-","-","-","-","-","-","-","-","-","-","-","-","-","-","-","-","-","-","-","-","-","-","-","-","-","-","-","-","-","-","-","-","-","-","-","-","-","-","-","-","-","-","-","-","-","-","-","-","-","-","-","-","-","-","-","-","-","-","-","-","-","-","-","-","-","-","-","-","-","-","-","-","-","-","-","-","-","-","-","-","-","-","-","-","-","-","-","-","-","-","-","-","-","-","-","-","-","-","-","-","-","-","-","-","-","-","-","-","-","-"]
[null,"Régimen especial",141.79200000000003,130.85599999999999,110.85499999999999,120.56100000000001,123.92100000000001,127.973,114.985,112.23399999999999,104.691,149.22999999999996,196.36700000000002,206.21100000000001,275.31900000000002,216.48500000000001,330.279,306.78200000000004,308.685,242.41800000000001,219.29500000000002,189.72699999999998,212.86,245.32300000000001,282.755,314.55600000000004,285.17700000000002,247.5,268.75799999999998,327.11599999999999,345.47399999999999,354.65800000000002,330.49400000000003,277.137,281.71799999999996,391.42700000000002,419.33100000000002,501.83100000000002,435.02800000000002,344.32899999999995,424.45699999999999,433.51,489.60199999999998,463.64800000000002,437.68200000000002,338.11900000000003,410.58300000000003,614.22900000000004,635.89800000000002,670.23699999999997,780.75599999999997,683.31600000000003,707.5,666.92600000000004,731.27399999999989,633.452,562.51599999999996,561.60799999999995,609.38099999999986,683.06600000000003,776.58699999999999,801.48299999999995,878.25299999999993,845.43299999999999,906.18799999999999,753.601,777.85899999999992,712.86300000000006,710.02200000000005,670.61700000000008,740.79899999999998,786.89800000000002,820.03300000000002,993.24900000000002,1162.1320000000001,1146.085,1156.348,1188.528,1146.9380000000001,1052.6459999999997,1062.9259999999999,987.04100000000005,1005.7759999999998,1110.6640000000002,1195.931,1440.752,1444.364,1274.8150000000001,1298.0549999999998,1240.75,1290.856,1258.2090000000001,1353.0540000000001,1209.009,1241.296,1363.396,1492.9119999999998,1694.2820000000002,1739.9590000000001,1521.155,1668.366,1703.8360000000002,1713.3689999999997,1529.2809999999999,1560.788,1486.4090000000001,1509.5250000000001,1726.7439999999997,1696.8150000000001,1877.0809999999997,1935.1690000000003,1893.6849999999999,2093.1260000000002,1995.1179999999999,2112.9699999999993,1963.846,1916.982,1758.6969999999999,1864.2,2095.7350000000001,2272.375,2359.3200000000002,2281.125,2087.6099999999997,2224.8949999999995,2397.0500000000002,2247.973,2215.5740000000001,2134.3539999999998,1941.982,1898.067,2183.652,2360.4690000000001,2667.78,2777.721,2583.982,2847.0219999999999,2638.6170000000002,2496.33,2343.2169999999996,2346.5549999999998,2059.681,2404.2600000000002,2516.4549999999999,2749.7919999999999,2514.8249999999998,2769.3290000000006,2782.5929999999998,3008.7979999999998,2845.49,3105.471,2718.4439999999995,2787.6880000000001,2533.5370000000003,2514.3940000000002,3184.5339999999997,3423.8519999999999,3773.848,4052.0929999999998,3372.585,3459.5360000000001,3670.7669999999998,3473.2809999999999,3005.2700000000004,3066.107,2651.7280000000001,3049.9429999999998,3635.4399999999996,3762.45,4201.009,4486.6239999999998,3606.45,4061.165,4205.6360000000004,3686.183,3422.4589999999998,3372.5169999999998,3284.3040000000001,3324.7780000000002,4017.3730000000005,4064.2809999999999,4336.518,4449.1660000000002,4141.7659999999996,4425.3990000000013,4594.518,4146.83,3645.3069999999998,3963.152,3795.1989999999996,3504.3919999999998,4115.7539999999999,4372.4039999999995,4813.0120000000006,4136.9859999999999,4354.97,5600.1589999999997,4552.1329999999998,4131.47,3571.5460000000003,3335.1880000000001,4185.7280000000001,3551.03,4704.8550000000005,4729.2420000000002,4780.0339999999997,4684.9660000000003,5290.6179999999995,5686.107,3926.5880000000002,5176.8050000000003,4326.1189999999997,4435.1310000000003,4802.5259999999998,4421.2670000000007,4478.4539999999997,5300.027,5019.518,5520.4,4766.0689999999995,6995.3640000000005,6511.8150000000005,4808.6859999999997,5157.9969999999994,5180.3989999999994,4762.165,5049.59,5582.25,6728.3320000000003,6981.8389999999999,6939.8959999999988,6710.8409999999994,6830.3380000000016,6728.4230000000007,6531.3249999999998,5964.9210000000003,6127.6260000000002,5449.7309999999998,5820.8040000000001,6651.63,8440.5329999999994,8615.2309999999998,8230.3429999999989,8244.09,8676.030999999999,6730.8899999999994,7916.2909999999993,6725.1869999999999,6996.918999999999,6482.1360000000004,6075.3789999999999,7795.7240000000011,8240.1929999999993,8711.7860000000001]
[null,"Generación",13068.148999999999,10712.420999999998,11526.93,10577.741999999998,10584.957,10924.121000000001,11576.189000000002,10205.642,10945.187000000004,11117.694000000001,11786.233000000002,12993.084000000001,13514.698999999999,12300.103999999999,11755.675000000001,11287.504999999999,11439.315999999997,11005.69,11985.769,10503.418000000001,11479.372000000003,11793.966999999997,12189.305999999997,12628.902000000002,14156.68,12984.095000000001,12650.637999999999,11288.930999999999,11148.397000000001,10639.671999999999,12196.982,10732.736000000003,11459.954,11873.681,11696.458000000001,12362.295999999998,13140.405000000001,11813.756000000001,12465.810999999996,11039.029999999997,11048.340000000002,11073.045000000002,11743.634000000002,10934.771000000001,11386.860999999999,11939.680999999999,12382.942999999996,12858.573999999997,13466.398999999999,12265.461000000001,12065.962999999996,11587.729999999998,11675.843999999997,11945.080000000002,12785.071,11534.760999999999,11819.752,11663.625,11974.652,12946.662000000004,13831.879000000003,11863.992000000002,13066.031999999999,11607.471000000005,12152.261999999997,12204.221,12851.400000000001,11855.100999999999,12021.492999999999,12106.901000000002,12398.127999999999,13367.203999999998,14632.868999999999,13945.298000000003,13471.495000000001,11789.804999999997,12359.221,12561.456999999999,13248.592999999999,11954.499999999998,12277.069000000001,13045.433000000003,13347.524000000001,14037.838,15527.942000000001,12746.785000000002,13176.473999999998,13369.68,13595.045,13407.127999999999,14362.291000000003,13603.636000000002,13935.166999999999,13886.026,14129.524000000001,15455.874,15109.875,13490.18,14087.417000000001,13538.296999999999,13540.958000000002,13971.812000000002,15202.644999999999,13813.061,14383.620999999999,14269.794000000002,14631.217000000001,16198.317000000001,16393.576000000001,14943.591999999999,15171.591,13533.998,14228.531000000001,14665.97,15959.913,14400.723999999998,15119.387999999999,15000.137000000001,15946.373,16895.771000000001,18017.434000000001,15585.119999999999,16304.345999999998,15194.267,15498.644000000002,16248.064,16637.700999999997,15672.647000000001,15915.037,15880.278,16856.034,17647.403999999999,18866.727000000003,16777.413,17710.691000000003,15284.262000000001,16326.837000000001,16839.431,17514.252,16757.473000000002,16576.550000000003,16954.269,17739.712,18941.038,19462.333000000002,16854.197,17381.063999999998,16757.014999999999,17493.512000000002,17815.728999999999,18588.489999999998,16916.016000000003,17135.423000000003,17907.848000000002,17931.371000000003,18946.023000000001,20760.522000000001,19099.053,18638.846999999998,17263.099000000002,17888.824999999997,18917.374,20237.305,19058.73,18462.04,19062.331999999999,19229.073,20636.550000000003,21054.75,20055.496999999999,21160.099000000002,19211.657999999999,19216.088000000003,20130.009999999998,21300.502999999997,19825.388999999999,19739.351000000002,19876.998000000003,20615.838,21424.022000000001,22692.537,21115.352000000003,21470.211000000003,19432.025000000001,19670.705000000002,20959.040999999997,22200.637999999999,20168.888999999999,20510.814999999999,20377.224999999999,21805.759999999995,23481.207000000002,24399.52,22365.761999999995,23141.827999999998,18945.896999999997,20667.129000000001,21482.522000000004,23929.236000000004,20940.143,21636.495999999999,21226.624,21411.327999999994,23455.364999999998,24436.344000000001,21814.576999999997,23193.162,20815.392,21756.008000000002,21659.671999999999,23475.06,21797.809999999998,22091.448,22685.046999999999,23948.771999999997,24945.221000000001,25320.773000000001,23621.495999999999,23913.153000000002,23007.167000000001,21918.263999999996,22418.224999999999,24401.398000000001,22716.502,22244.034,22523.435000000001,23406.497000000003,24556.807000000001,25160.519,21751.801000000003,21400.016000000003,20032.678,20326.695,21533.944000000003,23610.472000000002,22211.13,21366.215,21550.292999999998,21938.98,23657.671999999999,24812.236949999999,22971.826116999997,23920.343546,20967.048649999997,21245.380482,21489.927739999999,24344.854098,22445.849581999999,21899.867311999998,22140.174218,22927.362636000002,24152.540386999997]
[null,"Consumos en bombeo",-230.679,-122.288,-14.289,-28.145,-43.485999999999997,-13.114000000000001,-22.103999999999999,-49.978000000000002,-160.71299999999999,-155.501,-44.506999999999998,-154.46799999999999,-268.90800000000002,-218.38300000000001,-171.68600000000001,-12.201000000000001,-15.629,-41.384,-57.712000000000003,-72.09,-112.773,-80.879000000000005,-188.52699999999999,-192.56100000000001,-261.99200000000002,-144.315,-170.44,-297.59300000000002,-198.61500000000001,-246.85400000000001,-277.39299999999997,-274.77800000000002,-274.41399999999999,-292.15699999999998,-181.749,-170.405,-138.74100000000001,-112.68899999999999,-188.994,-202.54400000000001,-227.06899999999999,-134.422,-139.846,-190.28299999999999,-202.364,-190.64699999999999,-85.039000000000001,-74.921000000000006,-304.07600000000002,-125.633,-16.009,-34.588999999999999,-53.005000000000003,-40,-112.842,-29.006,-168.63399999999999,-188.04300000000001,-112.602,-160.94999999999999,-229.93299999999999,-151.828,-149.91399999999999,-139.09899999999999,-126.803,-126.251,-163.94499999999999,-157.261,-174.29900000000001,-178.249,-166.69,-317.45400000000001,-761.34500000000003,-190.41399999999999,-30.027000000000001,-33.853000000000002,-44.027999999999999,-72.870999999999995,-66.353999999999999,-12.074,-23.202999999999999,-39.189,-69.679000000000002,-179.58099999999999,-252.93600000000001,-37.277999999999999,-12.262,-21.497,-81.885999999999996,-85.456999999999994,-118.164,-176.339,-190.05099999999999,-144.696,-266.06099999999998,-374.262,-277.15499999999997,-134.83799999999999,-111.211,-214.86099999999999,-181.761,-114.55800000000001,-203.37299999999999,-319.92500000000001,-193.376,-171.72300000000001,-213.786,-451.18700000000001,-468.77199999999999,-342.76100000000002,-234.381,-215.75899999999999,-219.82599999999999,-177.636,-214.518,-260.83800000000002,-340.93099999999998,-489.76400000000001,-316.02600000000001,-385.16800000000001,-368.59199999999998,-313.25400000000002,-345.67200000000003,-513.572,-617.92600000000004,-330.21499999999997,-323.44200000000001,-246.34100000000001,-256.83199999999999,-362.529,-451.67700000000002,-776.83399999999995,-539.07299999999998,-307.35899999999998,-387.49700000000001,-200.959,-214.62100000000001,-258.66300000000001,-303.01100000000002,-291.53199999999998,-368.74900000000002,-364.09899999999999,-336.14600000000002,-559.55499999999995,-652.85199999999998,-506.24200000000002,-466.28899999999999,-443.39299999999997,-559.45699999999999,-628.45799999999997,-699.81299999999999,-572.27200000000005,-597.97400000000005,-575.56700000000001,-570.42200000000003,-683.94299999999998,-587.33500000000004,-379.733,-368.65,-218.7,-265.99099999999999,-415.71499999999997,-419.84399999999999,-472.31900000000002,-437.02499999999998,-390.30099999999999,-322.12400000000002,-400.39699999999999,-404.81700000000001,-276.12,-339.00299999999999,-328.995,-393.37799999999999,-425.60700000000003,-408.31200000000001,-386.44200000000001,-387.786,-411.48399999999998,-358.57499999999999,-484.18799999999999,-553.09,-432.93799999999999,-492.58699999999999,-450.62,-643.06799999999998,-634.52700000000004,-693.31299999999999,-446.08,-519.71799999999996,-482.77600000000001,-454.59100000000001,-553.63900000000001,-586.44100000000003,-529.91899999999998,-374.92099999999999,-305.80099999999999,-313.70299999999997,-370.08100000000002,-513.35599999999999,-400.35399999999998,-486.57299999999998,-541.52300000000002,-541.572,-384.12900000000002,-371.77600000000001,-395.87900000000002,-384.16800000000001,-293.39699999999999,-397.62200000000001,-356.25400000000002,-333.52100000000002,-371.38200000000001,-345.92500000000001,-317.00099999999998,-384.15499999999997,-481.20699999999999,-430.83600000000001,-419.30500000000001,-401.79399999999998,-219.05799999999999,-206.07300000000001,-285.255,-253.78200000000001,-190.80199999999999,-226.55600000000001,-297.14499999999998,-411.25599999999997,-460.64,-492.22699999999998,-392.03500000000003,-281.47199999999998,-255.75899999999999,-247.49799999999999,-224.59399999999999,-241.018,-245.006,-254.49299999999999,-284.12299999999999,-397.50099999999998,-478.46300000000002,-756.58548100000007,-554.72222199999999,-544.66441799999996,-303.16059899999999,-279.94919199999998,-230.155124,-199.16812999999999,-231.14395499999998,-233.69566899999998,-346.11598499999997,-322.22366899999997,-456.19813299999998]
[null,"Enlace Península-Baleares","-","-","-","-","-","-","-","-","-","-","-","-","-","-","-","-","-","-","-","-","-","-","-","-","-","-","-","-","-","-","-","-","-","-","-","-","-","-","-","-","-","-","-","-","-","-","-","-","-","-","-","-","-","-","-","-","-","-","-","-","-","-","-","-","-","-","-","-","-","-","-","-","-","-","-","-","-","-","-","-","-","-","-","-","-","-","-","-","-","-","-","-","-","-","-","-","-","-","-","-","-","-","-","-","-","-","-","-","-","-","-","-","-","-","-","-","-","-","-","-","-","-","-","-","-","-","-","-","-","-","-","-","-","-","-","-","-","-","-","-","-","-","-","-","-","-","-","-","-","-","-","-","-","-","-","-","-","-","-","-","-","-","-","-","-","-","-","-","-","-","-","-","-","-","-","-","-","-","-","-","-","-","-","-","-","-","-","-","-","-","-","-","-","-","-","-","-","-","-","-","-","-","-","-","-","-","-","-","-","-","-","-","-","-","-","-","-","-","-","-","-","-","-","-","-","-","-","-","-","-","-","-","-","-","-","-","-","-","-","-",0,0,0,0,0,0,0,0,0,0,0,0]
[null,"Saldo intercambios internacionales",-269.29700000000003,16.550999999999998,-11.987,-20.997,159.398,0.442,-28.161000000000001,-32.036000000000001,14.863,-21.733000000000001,-139.47,-87.152000000000001,-24.533000000000001,22.888999999999999,-122.07,-226.91900000000001,-191.566,-45.838999999999999,-92.111999999999995,27.849,-99.835999999999999,-14.272,56.173999999999999,33.649000000000001,-96.052000000000007,-312.209,-213.21600000000001,188.66300000000001,271.98,371.25900000000001,87.992000000000004,216.89599999999999,131.30699999999999,-16.239000000000001,8.0229999999999997,2.72,95.905000000000001,222.43799999999999,184.267,48.24,224.11500000000001,217.79499999999999,282.58,18.097999999999999,-4.7850000000000001,-0.85399999999999998,-0.36499999999999999,-20.361999999999998,-20.454999999999998,19.067,44.103000000000002,42.116,71.337999999999994,56.383000000000003,128.05099999999999,134.20599999999999,271.50099999999998,383.18400000000003,371.48200000000003,354.12900000000002,382.27800000000002,376.39499999999998,379.125,353.88600000000002,378.61599999999999,369.63499999999999,406.47899999999998,389.68700000000001,389.56900000000002,434.89600000000002,380.024,248.45500000000001,-23.15,-228.839,95.808999999999997,234.45,175.22300000000001,297.35899999999998,337.60500000000002,288.54199999999997,53.530999999999999,-123.297,-16.169,-31.698,-483.959,-204.565,-220.011,-410.142,-439.19400000000002,-268.20999999999998,-397.76100000000002,-455.005,-103.389,13.218999999999999,65.415999999999997,-169.27099999999999,339.84100000000001,345.96100000000001,404.92,388.81900000000002,355.11399999999998,244.86199999999999,284.57,320.09500000000003,-25.49,206.148,283.52199999999999,253.50200000000001,244.11699999999999,366.79399999999998,462.85599999999999,712.678,628.45799999999997,570.85799999999995,515.62199999999996,504.84,210.995,438.75,625.31500000000005,437.96199999999999,196.386,415.9,422.24900000000002,519.16999999999996,683.53800000000001,173.875,258.827,208.52799999999999,340.72800000000001,443.80599999999998,516.19799999999998,261.39,-38.209000000000003,21.672999999999998,-83.963999999999999,447.06200000000001,578.60299999999995,504.50400000000002,431.03699999999998,282.04500000000002,283.08600000000001,139.702,402.85199999999998,489.56900000000002,532.01599999999996,648.78599999999994,721.60400000000004,705.34900000000005,259.03800000000001,187.01,575.93600000000004,236.11799999999999,428.06299999999999,298.13900000000001,490.714,245.995,26.416,50.988,247.018,-36.927,134.05699999999999,409.34500000000003,237.34800000000001,123.48699999999999,160.179,55.116,-24.058,-119.06699999999999,-318.32600000000002,-299.78699999999998,-234.03200000000001,-621.22,-303.66399999999999,-321.33600000000001,-241.46199999999999,-454.68900000000002,-53.951999999999998,-330.99,-45.66,198.1,295.54899999999998,299.65800000000002,51.222999999999999,68.78,176.042,176.29,31.582000000000001,-174.63399999999999,-495.36900000000003,-662.58799999999997,-689.60500000000002,-420.322,-365.17399999999998,-583.77499999999998,-799.06,41.878,18.827999999999999,-262.10700000000003,-377.87900000000002,63.244999999999997,-310.53500000000003,-236.93299999999999,-285.29700000000003,-175.709,94.564999999999998,-235.49199999999999,-243.36199999999999,-261.05399999999997,-494.78800000000001,-223.46299999999999,-289.77800000000002,-314.01400000000001,-846.57600000000002,-1153.7719999999999,-1052.93,-729.80100000000004,-456.80399999999997,-655.58699999999999,-1199.348,-1291.615,-761.27499999999998,-1052.3420000000001,-907.81299999999999,-796.07299999999998,-935.81,-1102.0160000000001,-948.447,-932.45600000000002,-897.62800000000004,-474.27699999999999,-192.952,-548.93399999999997,-437.37599999999998,-769.16099999999994,-944.90899999999999,-817.41700000000003,-711.16800000000001,-941.36500000000001,-897.21199999999999,-454.01499999999999,-304.71344599999998,-506.196753,-560.11404599999992,-729.095102,-542.81502899999998,-821.22575100000006,-1000.6535670000001,-758.60105700000008,-964.2554520000001,-1295.5098870000002,-593.21057400000007,-256.28839399999998]
[null,"Demanda transporte (b.c.)",12568.172999999999,10606.683999999997,11500.654,10528.599999999999,10700.868999999999,10911.449000000001,11525.924000000003,10123.628000000001,10799.337000000003,10940.460000000001,11602.256000000003,12751.464,13221.258,12104.609999999999,11461.919000000002,11048.385,11232.120999999996,10918.467000000001,11835.945000000002,10459.177000000001,11266.763000000004,11698.815999999995,12056.952999999998,12469.990000000002,13798.636,12527.571,12266.981999999998,11180.000999999998,11221.762000000001,10764.076999999999,12007.581,10674.854000000003,11316.847,11565.285000000002,11522.732,12194.610999999997,13097.569000000001,11923.505000000001,12461.083999999995,10884.725999999997,11045.386000000002,11156.418000000001,11886.368000000002,10762.586000000001,11179.712,11748.179999999998,12297.538999999995,12763.290999999997,13141.868,12158.895,12094.056999999995,11595.256999999998,11694.176999999998,11961.463000000002,12800.279999999999,11639.960999999999,11922.619000000001,11858.766,12233.531999999999,13139.841000000004,13984.224000000004,12088.559000000003,13295.242999999999,11822.258000000005,12404.074999999997,12447.605,13093.934000000001,12087.526999999998,12236.762999999997,12363.548000000003,12611.461999999998,13298.204999999998,13848.374,13526.045000000002,13537.277,11990.401999999998,12490.415999999999,12785.945,13519.843999999999,12230.967999999997,12307.397000000003,12882.947000000002,13261.676000000001,13826.558999999999,14791.047,12504.942000000001,12944.200999999997,12938.041000000001,13073.965,13053.460999999999,13846.366000000002,12972.292000000003,13641.727000000001,13754.548999999999,13928.879000000001,14912.340999999999,15172.561,13701.303,14381.126000000002,13712.254999999997,13714.311000000002,14102.116,15283.841999999999,13813.231,14164.754999999999,14304.219000000001,14700.953000000001,16000.632000000001,16168.921,14967.624999999998,15400.066000000001,14030.916999999999,14637.163000000002,15059.191999999999,16261.017,14644.725999999999,14989.451999999999,14949.123000000001,16255.662,16948.564999999999,17845.227999999999,15687.765999999998,16380.922999999997,15199.865,15564.256000000003,16091.724,16573.085999999999,15634.834000000001,15998.932999999999,15961.555,16920.555,17131.96,18289.445000000003,16491.726999999999,17239.230000000003,15530.365,16690.819000000003,17085.272000000001,17642.278000000002,16747.986000000001,16490.887000000002,16729.872000000003,17806.417999999998,18871.052,19341.497000000003,16996.740999999998,17636.378999999997,17018.970999999998,17193.093000000004,17374.280999999999,18464.613000000001,16579.862000000001,16965.512000000002,17630.420000000002,17851.663000000004,18508.075000000001,20199.603000000003,18770.308000000001,18517.214999999997,17007.472000000002,17756.890999999996,18911.004000000001,20054.809000000001,18709.898000000001,18185.194,18727.147000000001,18882.891,20117.086000000003,20331.607,19479.59,20587.064000000002,18261.442999999999,18519.046000000002,19383.066999999999,20650.728999999996,18984.258000000002,19297.613000000001,19134.524000000001,20211.602999999999,21137.934000000001,22434.995999999999,20982.072000000004,21028.847000000005,19050.185000000001,19203.679000000004,20500.803999999996,21538.906999999999,19548.174999999999,19495.727999999999,19231.860999999997,20661.563999999995,22507.246000000003,23447.905000000002,21252.067999999992,21967.846999999998,18681.973999999998,20372.254000000001,20850.334000000006,23038.001000000004,20603.034,20839.387999999999,20448.167999999998,20584.458999999995,22895.526999999998,24159.132999999998,21183.205999999998,22565.631999999998,20260.940999999999,20863.598000000002,21079.954999999998,22851.761000000002,21112.413999999997,20898.947,21214.273999999998,22511.686999999998,23734.213000000003,24433.133000000002,22546.603999999999,22312.010999999999,21496.493999999999,20950.915999999994,21080.627999999997,23239.803000000004,21729.627,21081.667999999998,21124.274000000001,22046.794000000002,23163.711000000003,23770.664000000001,20885.489000000005,20925.592000000001,19227.985000000001,19641.821,20540.189000000002,22424.545000000002,21148.706999999999,20400.554,20324.804999999997,20644.267,22725.194,23750.938022999999,21910.907142,22815.565081999997,19934.792949000002,20422.616260999999,20438.546864999997,23145.032401,21456.10457,20701.916191,20498.548346,22011.928392999998,23440.05386]
[]
[null,"Balance eléctrico mensual Islas Baleares (MWh)","2006-01-01","2006-02-01","2006-03-01","2006-04-01","2006-05-01","2006-06-01","2006-07-01","2006-08-01","2006-09-01","2006-10-01","2006-11-01","2006-12-01","2007-01-01","2007-02-01","2007-03-01","2007-04-01","2007-05-01","2007-06-01","2007-07-01","2007-08-01","2007-09-01","2007-10-01","2007-11-01","2007-12-01","2008-01-01","2008-02-01","2008-03-01","2008-04-01","2008-05-01","2008-06-01","2008-07-01","2008-08-01","2008-09-01","2008-10-01","2008-11-01","2008-12-01","2009-01-01","2009-02-01","2009-03-01","2009-04-01","2009-05-01","2009-06-01","2009-07-01","2009-08-01","2009-09-01","2009-10-01","2009-11-01","2009-12-01","2010-01-01","2010-02-01","2010-03-01","2010-04-01","2010-05-01","2010-06-01","2010-07-01","2010-08-01","2010-09-01","2010-10-01","2010-11-01","2010-12-01"]
[null,"Carbón",281585,245804,280062,239665,271836,287051,292771,281322,254499,177022,201042,264651,253259,227525,220374,263500,228127,222675,278923,292687,263412,229147,201758,262468,287616,269886,265619,216223,246771,279366,294598,301838,286166,244583,217953,188207,186398,267602,230164,242090,270324,291327,298599,307579,259941,281704,254121,280614,288628.96399999998,253130.43700000001,284143.58,270785.11,229324.10800000001,279046.16200000001,292090,286753.92800000001,285293.82500000001,217296.101,192203.66699999999,222661.68400000001]
[null,"Motores diesel",79209,68329,70721,64718,79303,85154,104210,101456,93527,79792,63493,74990,78135,66061,74782,71646,84385,92577,102578,105250,96624,79159,73984,80425,80489,70911,75416,72520,86002,96520,116196,118501,98449,78246,72700,81131,85013,68206,71555,74273,75820,91793,105509,106425,86067,70751,62004,74409,80487.338000000003,71127.048999999999,78081.048999999999,70171.271999999997,83167.909,94393.464000000007,113035.62,113945.387,97806.403000000006,76729.221000000005,67045.221999999994,81630.111999999994]
[null,"Turbina de gas",6947,10938,22831,13569,15378,29015,55976,40768,31591,29413.95199999999,18468,17160,23585,20894,20510,16976,36834,31757,41358,38367,21309,20978,20783,18090,17521,19944,19984,12615,13376,22615,34364,38299,31566,20899,19341,21978,18986,20558,19663,12270,24409,33876,53107,52569,37227,24608,21181,20915,23036.824000000001,25540.649000000001,22064.976999999999,16837.77,15550.541999999999,20236.732,41379.637000000002,42027.091,26953.491999999998,22516.812000000002,21406.807000000001,21863.032999999999]
[null,"Fuel + Gas",86156,79267,93552,78287,94681,114169,160186,142224,125118,109205.95199999999,81961,92150,101720,86955,95292,88622,121219,124334,143936,143617,117933,100137,94767,98515,98010,90855,95400,85135,99378,119135,150560,156800,130015,99145,92041,103109,103999,88764,91218,86543,100229,125669,158616,158994,123294,95359,83185,95324,103524.16200000001,96667.698000000004,100146.026,87009.042000000001,98718.451000000001,114630.19600000001,154415.25699999998,155972.478,124759.895,99246.03300000001,88452.028999999995,103493.14499999999]
[null,"Ciclo combinado",115133,112851,71802,58291,79596,107515,173341,167753,132665,163572,80257,79139,109535,97337,133306,66630,113287,174631,186393,169251,141173,143962,135271,113219,92464,91614,97252,120602,114746,106773,178739,177899,121342,111682,111297,199080,206459,81850,132809,89788,70003,97131,175334,166521,120693,57370,29377,64848,83745.201000000001,90692.047000000006,69947.986000000004,35630.942999999999,87840.323999999993,61960.637999999999,159205.10999999999,145959.23199999999,74275.328999999998,107178.246,98555.293999999994,120643.372]
[null,"Generación auxiliar",0,0,0,0,0,0,213,3531,2469,1,0,136.219999999972,0,0,0,0,0,0,2447,8618,1547,0,0,0,0,0,0,0,0,0,2048,2600,1282,1,0,0,0,0,0,0,0,0,1489,3042,1037,-2,0,0,0,0,0,0,0,45.686,2619.5369999999998,2927.97,1100.336,0.80300000000000005,0,0]
[null,"Régimen ordinario",482874,437922,445416,376243,446113,508735,626511,594830,514751,449800.95199999999,363260,436076.22,464514,411817,448972,418752,462633,521640,611699,614173,524065,473246,431796,474202,478090,452355,458271,421960,460895,505274,625945,639137,538805,455411,421291,490396,496856,438216,454191,418421,440556,514127,634038,636136,504965,434431,366683,440786,475898.32699999999,440490.18200000003,454237.59200000006,393425.09499999997,415882.88300000003,455682.68199999997,608329.90399999998,591613.60800000001,485429.38500000001,423721.18300000002,379210.99,446798.201]
[null,"Eólica",514.35,371.37400000000002,548.18799999999999,366.096,438.988,366.65,202.55,548.33199999999999,264.46800000000002,347.64699999999999,407.40800000000002,501.30500000000001,402,480,585,246,392,334,358,444,320,541,784,770,415,420,575,741,212,290,272,328,462,470,620,692,472,688,529,482,477,383,126,147,346,531,538,824,599,689,590,377,312,275,322,395,303,477,529,703]
[null,"Solar fotovoltaica",43.972999999999999,50.86,83.445999999999998,87.706999999999994,102.911,110.639,126.145,120.86799999999999,111.756,105.83499999999999,84.200999999999993,72.453999999999994,95,122,165,156,211,207,226,209,180,139,119,123,134,194,416,664,955,1807,2659,4719,4821,4337,3391,4283,3838,5190,7556,7099,8802,9040,8898,8709,6680,6538,5096,3487,3845,4810,6958,8061,9047,8957,10437,10003,8360,6793,5600,4886]
[null,"Térmica renovable/Otras renovables","-","-","-","-","-","-","-","-","-","-","-","-","-","-","-","-","-","-","-","-","-","-","-","-","-","-","-","-","-","-","-","-","-","-","-","-","-","-","-","-","-","-","-","-","-","-","-","-","-","-","-","-","-","-","-","-","-","-","-","-"]
[null,"Térmica no renovable/Cogeneración y resto/Cogeneración",13134.677,11651.766,12757.366,12126.197,9241.1010000000006,11667.710999999999,11282.305,11336.8,10957.776,11996.518,10537.391,12423.241,10231,11272,12861,12018,8170,9987,8947,9642,9504,1019,8067,12215,11005,12227,12415,11349,11758,11450,11883,11405,10678,11820,11914,12428,12679,9600,972,11178,12259,11199,11190,10723,11294,11475,11970,12503,10815,9246,11253,11204,10903,10391,11522,22957,25904,13766,17545,20738]
[null,"Residuos no renovables","-","-","-","-","-","-","-","-","-","-","-","-","-","-","-","-","-","-","-","-","-","-","-","-","-","-","-","-","-","-","-","-","-","-","-","-","-","-","-","-","-","-","-","-","-","-","-","-","-","-","-","-","-","-","-","-","-","-","-","-"]
[null,"Residuos renovables","-","-","-","-","-","-","-","-","-","-","-","-","-","-","-","-","-","-","-","-","-","-","-","-","-","-","-","-","-","-","-","-","-","-","-","-","-","-","-","-","-","-","-","-","-","-","-","-","-","-","-","-","-","-","-","-","-","-","-","-"]
[null,"Régimen especial",13693,12074,13389,12580,9783,12145,11611,12006,11334,12450,11029,12997,10728,11874,13611,12420,8773,10528,9531,10295,10004,1699,8970,13108,11554,12841,13406,12754,12925,13547,14814,16452,15961,16627,15925,17403,16989,15478,9057,18759,21538,20622,20214,19579,18320,18544,17604,16814,15259,14745,18801,19642,20262,19623,22281,33355,34567,21036,23674,26327]
[null,"Generación",496567,449996,458805,388823,455896,520880,638122,606836,526085,462250.95199999999,374289,449073.22,475242,423691,462583,431172,471406,532168,621230,624468,534069,474945,440766,487310,489644,465196,471677,434714,473820,518821,640759,655589,554766,472038,437216,507799,513845,453694,463248,437180,462094,534749,654252,655715,523285,452975,384287,457600,491157.32699999999,455235.18199999997,473038.592,413067.09499999997,436144.88299999997,475305.68199999997,630610.90399999998,624968.60800000001,519996.38500000001,444757.18300000002,402884.99,473125.201]
[null,"Enlace Península-Baleares","-","-","-","-","-","-","-","-","-","-","-","-","-","-","-","-","-","-","-","-","-","-","-","-","-","-","-","-","-","-","-","-","-","-","-","-","-","-","-","-","-","-","-","-","-","-","-","-",0,0,0,0,0,0,0,0,0,0,0,0]
[null,"Demanda transporte (b.c.)",496567,449996,458805,388823,455896,520880,638122,606836,526085,462250.95199999999,374289,449073.22,475242,423691,462583,431172,471406,532168,621230,624468,534069,474945,440766,487310,489644,465196,471677,434714,473820,518821,640759,655589,554766,472038,437216,507799,513845,453694,463248,437180,462094,534749,654252,655715,523285,452975,384287,457600,491157.32699999999,455235.18199999997,473038.592,413067.09499999997,436144.88299999997,475305.68199999997,630610.90399999998,624968.60800000001,519996.38500000001,444757.18300000002,402884.99,473125.201]
[]
[null,"Balance eléctrico mensual Islas Canarias (MWh)","2006-01-01","2006-02-01","2006-03-01","2006-04-01","2006-05-01","2006-06-01","2006-07-01","2006-08-01","2006-09-01","2006-10-01","2006-11-01","2006-12-01","2007-01-01","2007-02-01","2007-03-01","2007-04-01","2007-05-01","2007-06-01","2007-07-01","2007-08-01","2007-09-01","2007-10-01","2007-11-01","2007-12-01","2008-01-01","2008-02-01","2008-03-01","2008-04-01","2008-05-01","2008-06-01","2008-07-01","2008-08-01","2008-09-01","2008-10-01","2008-11-01","2008-12-01","2009-01-01","2009-02-01","2009-03-01","2009-04-01","2009-05-01","2009-06-01","2009-07-01","2009-08-01","2009-09-01","2009-10-01","2009-11-01","2009-12-01","2010-01-01","2010-02-01","2010-03-01","2010-04-01","2010-05-01","2010-06-01","2010-07-01","2010-08-01","2010-09-01","2010-10-01","2010-11-01","2010-12-01"]
[null,"Hidráulica",0,0,0,0,0,0,0,0,0,0,0,0,0,0,0,0,0,0,0,0,0,0,0,0,0,0,0,0,0,0,0,0,0,0,0,0,0,0,0,0,0,0,0,0,0,0,0,0,0,0,0,0,0,0,0,0,0,0,0,0]
[null,"Motores diesel",165513,148359,156468,143502,170858,177722,176016,179233,182517,179648,157979,169849,187608,153155,170227,158998,161066,167755,183062,178646,169801,172067,170171,169446,169904,169953,164609,171005,184619,170736,180381,181406,184435,177595,169810,179313,175499,161432,167927,161723,174920,177098,181952,183950,185161,193478,183078,194481,187860.42600000001,166955.34899999999,187977.302,173369.21400000001,162133.90599999999,164800.02900000001,181346.47099999999,198336.867,189919.53599999999,200384.633,184885.12599999999,185418.913]
[null,"Turbina de gas",52857,58444,91260,61071,57809,75033,67196,68751,76471.12,83282,74117,58140,64149,63769,68930,63759,61840,50272,47789,55948,62897,57361,55111,47645,49303,38729,28799,32804,40343,47105,47074,42237,50914,36660,29392,30166,34805,21886,30042,11292,38398,37443,25400,29481,39778.542000000016,31205,25237.511999999988,17204,13491.04,18753.394,20108.357,13928.882,30855.155999999999,31941.35,29817.828000000001,24986.524000000001,28373.723999999998,46582.514999999999,44841.277999999998,39601.608999999997]
[null,"Turbina de vapor",348359,305913,351244,298246,274223,249935,254565,265884,284703,261074,270998,264847,267716,244594,270944,295087,222900,280003,253974,300035,289769,297640,280624,303519,325375,311290,288853,271239,285962,228474,273542,273013,285098,298907,282718,289770,283886,246215,277471,250511,289749,254556,266775,281781,281193,297557,249395,264539,275233.60499999998,239085.291,258003.02499999999,233931.054,254626.209,255627.035,246393.45,264783.53899999999,255925.19500000001,219068.06,221691.14600000001,248219.49600000001]
[null,"Fuel + Gas",566729,512716,598972,502819,502890,502690,497777,513868,543691.12,524004,503094,492836,519473,461518,510101,517844,445806,498030,484825,534629,522467,527068,505906,520610,544582,519972,482261,475048,510924,446315,500997,496656,520447,513162,481920,499249,494190,429533,475440,423526,503067,469097,474127,495212,506132.54200000002,522240,457710.51199999999,476224,476585.071,424794.03399999999,466088.68400000001,421229.15,447615.27099999995,452368.41399999999,457557.74900000001,488106.93,474218.45499999996,466035.20799999998,451417.55,473240.01800000004]
[null,"Ciclo combinado",125939,107765,79372,139320,154766,168017,187960,206155,200181,216209,204172,217541,203577,170340,199354,152118,243924,185380,229495,189228,195544,230632,226835,216848,199787,167592,219679,215393,194309,240047,218649,221342,228900,217782,219404,230433,218103,205178,222643,198070,148582,202502,234690,211977,201745,231922,241597,235319,230101.864,203031.70800000001,228450.67800000001,216494.734,193292.74799999999,190320.30900000001,218682.10200000001,224299.34099999999,235057.37,266936.90600000002,253781.81899999999,247960.606]
[null,"Generación auxiliar",0,0,0,0,0,0,0,0,0,0,0,0,12171,11523,11651,11641,10919,9438,10685,12461,11325,11933,10055,9038,10202,9659,10861,10032,6829,6410,7670,7858,5141,4729,5487,4869,4385,3909,4661,2586,2823,3208,5305,3351,1680,811,899,170,0,0,0,0,0,0,0,0,0,0,0,0]
[null,"Régimen ordinario",692668,620481,678344,642139,657656,670707,685737,720023,743872.12,740213,707266,710377,735221,643381,721106,681603,700649,692848,725005,736318,729336,769633,742796,746496,754571,697223,712801,700473,712062,692772,727316,725856,754488,735673,706811,734551,716678,638620,702744,624182,654472,674807,714122,710540,709557.54200000002,754973,700206.51199999999,711713,706686.93500000006,627825.74199999997,694539.36199999996,637723.88400000008,640908.01899999997,642688.723,676239.85100000002,712406.27099999995,709275.82499999995,732972.11400000006,705199.36899999995,721200.62400000007]
[null,"Hidroeólica","-","-","-","-","-","-","-","-","-","-","-","-","-","-","-","-","-","-","-","-","-","-","-","-","-","-","-","-","-","-","-","-","-","-","-","-","-","-","-","-","-","-","-","-","-","-","-","-","-","-","-","-","-","-","-","-","-","-","-","-"]
[null,"Hidráulica/Resto hidráulica",0,0,0,0,0,0,0,0,0,0,0,0,0,0,0,0,0,0,82,190,247,92,278,287,287,244,240,0,185,315,305,97,0,0,0,0,9,164,175,50,0,0,0,0,0,0,0,0,0,0,0,0,0,0,0,0,0,0,0,0]
[null,"Eólica",17431.845000000001,18906.552,22433.485000000001,28613.578000000001,35233.5,25590.253000000001,56231.544000000002,38386.534,22680.768,19552.138999999999,15309.171,25694.21,17536,22919,37045,26057,34949,31706,57951,48557,26273,19181,16085,18581,12697,16352,39237,36025,31842,39889,59648,61491,17713,33991,22016,25574,23706,17290,24349,46455,32116,20734,55995,57105,22914,12762,24732,20549,11740,14778,23015,32147,36251,38838,47304,42622,35769,14015,17956,16928]
[null,"Solar fotovoltaica",36.402000000000001,46.195999999999998,66.179000000000002,67.328000000000003,76.62,77.052999999999997,98.995000000000005,430.70800000000003,484.04,533.36199999999997,462.50200000000001,536.16499999999996,610,833,1268,1459,1737,1692,2046,2433,2017,2022,1635,1621,2022,2658,3713,4145,4312,4894,5548,5693,6152,9825,7689,6849,8709,10847,12492,16156,16219,16256,17530,17568,12555,13377,11497,9124,10698,10306,16328,16499,19138,19607,22480,21526,17621,15830,12519,12614]
[null,"Térmica renovable/Otras renovables",8687.5660000000044,11201.251999999999,21105.335999999999,20726.093999999997,19570.879999999997,20816.694,21169.460999999999,19156.758000000002,13239.191999999999,22026.499000000003,17532.326999999997,22967.625,21162,19576,5693,17196,15807,15288,19273,20695,19120,18295,18031,23147,22239,19665,20200,19685,21462,14780,144,21585,13957,17447,22889,23166,23472,22220,12230,24755,22920,23920,24575,24604,23900,22497,23578,24384,23902,18935,16313,24282,25112,19550,10072,5987,5025,5016,3979,2388]
[null,"Térmica no renovable/Cogeneración y resto/Cogeneración",2832.1869999999999,0,0,0,0,0,0,0,0,0,0,0,0,0,0,0,0,0,0,0,0,0,0,0,0,0,0,0,0,0,0,0,0,0,0,0,0,0,0,0,10,10,0,0,0,0,0,0,0,0,0,0,0,0,0,0,0,0,0,0]
[null,"Régimen especial",28988,30154,43605,49407,54881,46484,77500,57974,36404,42112,33304,49198,39308,43328,44006,44712,52493,48686,79352,71875,47657,39590,36029,43636,37245,38919,63390,59855,57801,59878,65645,88866,37822,61263,52594,55589,55896,50521,49246,87416,71265,60920,98100,99277,59369,48636,59807,54057,46340,44019,55656,72928,80501,77995,79856,70135,58415,34861,34454,31930]
[null,"Generación",721656,650635,721949,691546,712537,717191,763237,777997,780276.12,782325,740570,759575,774529,686709,765112,726315,753142,741534,804357,808193,776993,809223,778825,790132,791816,736142,776191,760328,769863,752650,792961,814722,792310,796936,759405,790140,772574,689141,751990,711598,725737,735727,812222,809817,768926.54200000002,803609,760013.51199999999,765770,753026.93500000006,671844.74199999997,750195.36199999996,710651.88399999996,721409.01899999997,720683.723,756095.85100000002,782541.27099999995,767690.82499999995,767833.11400000006,739653.36899999995,753130.62400000007]
[null,"Demanda transporte (b.c.)",721656,650635,721949,691546,712537,717191,763237,777997,780276.12,782325,740570,759575,774529,686709,765112,726315,753142,741534,804357,808193,776993,809223,778825,790132,791816,736142,776191,760328,769863,752650,792961,814722,792310,796936,759405,790140,772574,689141,751990,711598,725737,735727,812222,809817,768926.54200000002,803609,760013.51199999999,765770,753026.93500000006,671844.74199999997,750195.36199999996,710651.88399999996,721409.01899999997,720683.723,756095.85100000002,782541.27099999995,767690.82499999995,767833.11400000006,739653.36899999995,753130.62400000007]
[]
[null,"Balance eléctrico mensual Ceuta (MWh)","2007-01-01","2007-02-01","2007-03-01","2007-04-01","2007-05-01","2007-06-01","2007-07-01","2007-08-01","2007-09-01","2007-10-01","2007-11-01","2007-12-01","2008-01-01","2008-02-01","2008-03-01","2008-04-01","2008-05-01","2008-06-01","2008-07-01","2008-08-01","2008-09-01","2008-10-01","2008-11-01","2008-12-01","2009-01-01","2009-02-01","2009-03-01","2009-04-01","2009-05-01","2009-06-01","2009-07-01","2009-08-01","2009-09-01","2009-10-01","2009-11-01","2009-12-01","2010-01-01","2010-02-01","2010-03-01","2010-04-01","2010-05-01","2010-06-01","2010-07-01","2010-08-01","2010-09-01","2010-10-01","2010-11-01","2010-12-01"]
[null,"Motores diesel",17987,16069,16710,15678,16366,16225,17421,17411,16812,17279,16847,17839,18351,17181,16737,16313,16713,16662,18076,18122,17406,17168,17471,19471,19477,16819,17213,15436,16246,17311,18716,16715,17948,18184,16095,18156,16835.431,16928.368999999999,17444.607,16234.076999999999,17320.935000000001,17763.089,19394.422999999999,20221.285,18911.028999999999,18433.375,17839.231,17340.393]
[null,"Turbina de gas",0,0,0,0,0,0,0,0,0,0,0,0,0,0,0,0,0,0,0,0,0,0,0,0,0,0,0,0,0,0,159,1859,0,0,1026,209,2043.2850000000001,554.101,0,147.30500000000001,121.071,0,0,0,0,0,0,3.105]
[null,"Fuel + Gas",17987,16069,16710,15678,16366,16225,17421,17411,16812,17279,16847,17839,18351,17181,16737,16313,16713,16662,18076,18122,17406,17168,17471,19471,19477,16819,17213,15436,16246,17311,18875,18574,17948,18184,17121,18365,18878.716,17482.469999999998,17444.607,16381.382,17442.006000000001,17763.089,19394.422999999999,20221.285,18911.028999999999,18433.375,17839.231,17343.498]
[null,"Régimen ordinario",17987,16069,16710,15678,16366,16225,17421,17411,16812,17279,16847,17839,18351,17181,16737,16313,16713,16662,18076,18122,17406,17168,17471,19471,19477,16819,17213,15436,16246,17311,18875,18574,17948,18184,17121,18365,18878.716,17482.469999999998,17444.607,16381.382,17442.006000000001,17763.089,19394.422999999999,20221.285,18911.028999999999,18433.375,17839.231,17343.498]
[null,"Generación",17987,16069,16710,15678,16366,16225,17421,17411,16812,17279,16847,17839,18351,17181,16737,16313,16713,16662,18076,18122,17406,17168,17471,19471,19477,16819,17213,15436,16246,17311,18875,18574,17948,18184,17121,18365,18878.716,17482.469999999998,17444.607,16381.382,17442.006000000001,17763.089,19394.422999999999,20221.285,18911.028999999999,18433.375,17839.231,17343.498]
[null,"Demanda transporte (b.c.)",17987,16069,16710,15678,16366,16225,17421,17411,16812,17279,16847,17839,18351,17181,16737,16313,16713,16662,18076,18122,17406,17168,17471,19471,19477,16819,17213,15436,16246,17311,18875,18574,17948,18184,17121,18365,18878.716,17482.469999999998,17444.607,16381.382,17442.006000000001,17763.089,19394.422999999999,20221.285,18911.028999999999,18433.375,17839.231,17343.498]
[]
[null,"Balance eléctrico mensual Melilla (MWh)","2007-01-01","2007-02-01","2007-03-01","2007-04-01","2007-05-01","2007-06-01","2007-07-01","2007-08-01","2007-09-01","2007-10-01","2007-11-01","2007-12-01","2008-01-01","2008-02-01","2008-03-01","2008-04-01","2008-05-01","2008-06-01","2008-07-01","2008-08-01","2008-09-01","2008-10-01","2008-11-01","2008-12-01","2009-01-01","2009-02-01","2009-03-01","2009-04-01","2009-05-01","2009-06-01","2009-07-01","2009-08-01","2009-09-01","2009-10-01","2009-11-01","2009-12-01","2010-01-01","2010-02-01","2010-03-01","2010-04-01","2010-05-01","2010-06-01","2010-07-01","2010-08-01","2010-09-01","2010-10-01","2010-11-01","2010-12-01"]
[null,"Motores diesel",14250,12593,13459,13734.55,15030,15717.05,17790.86,17035.759999999998,16233.4,16172.12,14199,15653,15536,14623,14355,14494,14972,16029,18094,19226,16880,15757,15458,17701,17753,15189,15459,14176,15222,16183,18807,19379,16442,17363,15428,16152,16952.252,15255.491,16387.781999999999,15007.841,15685.419,16778.191999999999,18965.345000000001,20588.25,17840.763999999999,16821.623,16795.423999999999,17639.588]
[null,"Turbina de gas",389,201,257,105.44999999999999,69,0.95,123.13999999999999,231.23999999999998,37.599999999999994,48.879999999999995,484,465,838,433,488,171,45,136,205,76,213,250,217,9,10,11,77,53,2,63,0,61,78,7,126,57,16.721,21.806999999999999,3.2509999999999999,24.138000000000002,34.966000000000001,92.513000000000005,106.417,34.25,37.728999999999999,33.689,53.722999999999999,39.252000000000002]
[null,"Fuel + gas",14639,12794,13716,13840,15099,15718,17914,17267,16271,16221,14683,16118,16374,15056,14843,14665,15017,16165,18299,19302,17093,16007,15675,17710,17763,15200,15536,14229,15224,16246,18807,19440,16520,17370,15554,16209,16968.973000000002,15277.298000000001,16391.032999999999,15031.979000000001,15720.385,16870.704999999998,19071.762000000002,20622.5,17878.492999999999,16855.311999999998,16849.147000000001,17678.84]
[null,"Régimen ordinario",14639,12794,13716,13840,15099,15718,17914,17267,16271,16221,14683,16118,16374,15056,14843,14665,15017,16165,18299,19302,17093,16007,15675,17710,17763,15200,15536,14229,15224,16246,18807,19440,16520,17370,15554,16209,16968.973000000002,15277.298000000001,16391.032999999999,15031.979000000001,15720.385,16870.704999999998,19071.762000000002,20622.5,17878.492999999999,16855.311999999998,16849.147000000001,17678.84]
[null,"Solar fotovoltaica",0,0,0,0,0,0,0,0,0,0,0,0,1,0,0,0,0,1,1,1,1,0,1,0,8,17,22,28,9,8,8,8,7,6,0,1,1,5,6,7,9,1,8,9,7,6,5,3]
[null,"Térmica no renovable/Cogeneración y resto/Cogeneración",747,694,836,656,886,845,733,805,275,611,799,853,937,797,849,810,755,694,0,0,0,0,0,0,819,726,782,888,819,747,783,727,707,1,0,736,699,606,781,808,921,710,772,797,897,486,0,551]
[null,"Residuos no renovables","-","-","-","-","-","-","-","-","-","-","-","-","-","-","-","-","-","-","-","-","-","-","-","-","-","-","-","-","-","-","-","-","-","-","-","-","-","-","-","-","-","-","-","-","-","-","-","-"]
[null,"Residuos renovables","-","-","-","-","-","-","-","-","-","-","-","-","-","-","-","-","-","-","-","-","-","-","-","-","-","-","-","-","-","-","-","-","-","-","-","-","-","-","-","-","-","-","-","-","-","-","-","-"]
[null,"Régimen especial",747,694,836,656,886,845,733,805,275,611,799,853,938,797,849,810,755,695,1,1,1,0,1,0,827,743,804,916,828,755,791,735,714,7,0,737,700,611,787,815,930,711,780,806,904,492,5,554]
[null,"Generación",15386,13488,14552,14496,15985,16563,18647,18072,16546,16832,15482,16971,17312,15853,15692,15475,15772,16860,18300,19303,17094,16007,15676,17710,18590,15943,16340,15145,16052,17001,19598,20175,17234,17377,15554,16946,17668.973000000002,15888.298000000001,17178.032999999999,15846.978999999999,16650.384999999998,17581.705000000002,19851.761999999999,21428.5,18782.492999999999,17347.312000000002,16854.147000000001,18232.84]
[null,"Demanda transporte (b.c.)",15386,13488,14552,14496,15985,16563,18647,18072,16546,16832,15482,16971,17312,15853,15692,15475,15772,16860,18300,19303,17094,16007,15676,17710,18590,15943,16340,15145,16052,17001,19598,20175,17234,17377,15554,16946,17668.973000000002,15888.298000000001,17178.032999999999,15846.978999999999,16650.384999999998,17581.705000000002,19851.761999999999,21428.5,18782.492999999999,17347.312000000002,16854.147000000001,18232.84]
[]
[null,"Balance eléctrico mensual nacional (GWh)","2007-01-01","2007-02-01","2007-03-01","2007-04-01","2007-05-01","2007-06-01","2007-07-01","2007-08-01","2007-09-01","2007-10-01","2007-11-01","2007-12-01","2008-01-01","2008-02-01","2008-03-01","2008-04-01","2008-05-01","2008-06-01","2008-07-01","2008-08-01","2008-09-01","2008-10-01","2008-11-01","2008-12-01","2009-01-01","2009-02-01","2009-03-01","2009-04-01","2009-05-01","2009-06-01","2009-07-01","2009-08-01","2009-09-01","2009-10-01","2009-11-01","2009-12-01","2010-01-01","2010-02-01","2010-03-01","2010-04-01","2010-05-01","2010-06-01","2010-07-01","2010-08-01","2010-09-01","2010-10-01","2010-11-01","2010-12-01"]
[null,"Hidráulica",1920.0478000000003,2539.7347,3412.3603999999996,2337.7021,2328.2846,1896.4941999999999,2152.4522999999999,1514.2806,1189.9214999999999,1525.5493000000001,1152.0925,1010.0581,1052.9718,724.43350000000009,774.5612000000001,2158.8984000000028,2756.8809000000001,2593.9364999999998,1801.4576,1275.0206000000001,1101.1437999999998,904.63950000000011,1192.6748000000002,1959.02,1753.4290999999998,2852.5814999999998,2234.3775999999998,1704.1587,2008.6723999999999,1659.6541999999999,1393.0593999999999,1167.1748,750.34090000000003,1028.1299000000001,1560.9612999999999,2619.7628999999997,4414.2761132999995,3450.7255615999998,5031.7780444,4029.8561307,3174.5390475999998,2946.0881532000003,2437.1694070000003,1695.0818135,1249.4073436999997,1282.6130285000002,2043.8580677,3254.0614768999999]
[null,"Turbinación bombeo",260.2432,277.11529999999999,268.91759999999999,205.37789999999998,278.33539999999999,249.37780000000001,233.46469999999999,259.9674,242.14749999999998,221.90069999999997,268.90849999999995,336.8449,301.58519999999999,293.51349999999996,281.25579999999997,153.34059999999999,144.25110000000001,199.67849999999999,177.6474,133.56139999999999,158.58920000000001,208.00149999999996,287.87919999999997,322.44799999999998,344.55889999999994,274.42450000000002,197.03039999999999,179.03129999999999,173.24859999999998,157.21579999999997,168.71259999999998,171.5042,178.14509999999999,198.88609999999997,278.25069999999994,334.92410000000001,529.60983670000007,388.30555539999995,381.26509259999995,212.21241929999999,195.96443439999999,161.10858679999998,139.41769099999999,161.80076849999998,163.58696829999997,242.28118949999995,225.55656829999995,319.33869309999994]
[null,"Nuclear",5319.1580000000004,4778.3050000000003,4947.4629999999997,4342.93,3485.058,3161.45,3855.7460000000001,3976.62,4877.2839999999997,4891.0659999999998,3934.346,5069.5010000000002,5322.9409999999998,5119.9319999999998,5354.7060000000001,4039.7550000000001,4689.7039999999997,4579.7330000000002,4541.0349999999999,5013.9489999999996,4482.3890000000001,4314.4620000000004,4045.8270000000002,4955.8580000000002,5438.39,4335.1400000000003,3949.223,4063.489,3687.607,3530.33,3998.25,5278.1620000000003,4387.8469999999998,3957.8240000000001,3973.4949999999999,3949.6880000000001,4480.6099999999997,4635.9830000000002,4877.9646469999998,4894.268,4417.8689999999997,4693.97,5399.9840000000004,5421.2550000000001,5066.8190000000004,5429.7690000000002,5094.6189999999997,4829.2110000000002]
[null,"Carbón",6355.9290000000001,5122.8689999999997,5084.009,6098.4139999999998,6219.9310000000005,5996.3879999999999,6220.3989999999994,6178.9250000000002,5753.5960000000005,5577.9750000000004,5687.9780000000001,6333.69,5268.5780000000004,4867.5980000000009,3927.5260000000003,3323.2709999999997,2421.4650000000001,2321.1170000000002,3976.9629999999997,3367.8240000000001,3731.902,4344.1439999999993,4316.3040000000001,4641.6710000000003,4771.5609999999997,3283.0160000000001,3194.9989999999998,2027.452,2501.1990000000001,2745.4129999999996,3511.5260000000003,2102.6730000000002,2949.413,3336.002,2251.8330000000001,2117.9380000000001,1984.722964,1620.4064370000001,1128.3404140000002,904.4831099999999,1053.230108,1601.6091620000002,2742.5060000000003,3122.487928,3256.4198250000004,2204.4321009999999,1819.434667,2262.5406840000001]
[null,"Fuel + Gas",768.6,809.29600000000005,838.596,760.79700000000003,775.88300000000004,747.34100000000001,950.17899999999997,946.66399999999999,919.39,799.77,841.274,830.67499999999995,829.66100000000006,776.97799999999995,690.65699999999993,738.39300000000003,796.62799999999993,853.54200000000003,852.61299999999994,943.85699999999997,880.45299999999997,850.27800000000002,839.86,834.64599999999996,768.62099999999998,673.43399999999997,795.63,680.08900000000006,729.07300000000009,778.62199999999996,889.54100000000005,870.26300000000003,821.12954200000001,758.47799999999995,740.34751200000005,771.07600000000002,769.16592200000014,680.88749999999982,622.58834999999999,645.15955300000007,743.36511300000006,767.24708999999996,791.55072799999994,801.00316300000009,775.18720799999994,725.47373100000004,741.36895700000014,758.76250100000016]
[null,"Ciclo combinado",6359.7610000000004,4080.7000000000003,4156.2129999999997,4273.4560000000001,4686.4580000000005,6528.933,6999.7269999999999,5503.9960000000001,5974.326,6466.7110000000002,7970.268,7599.5889999999999,8292.021999999999,8254.7870000000003,7091.7349999999997,7235.1049999999996,7505.3360000000002,7943.0940000000001,9260.9190000000017,8622.5419999999995,8167.759,7543.9189999999999,7156.8680000000004,6123.4529999999995,6394.8369999999995,4731.2190000000001,5388.1019999999999,5722.3029999999999,5822.0680000000002,7920.2789999999995,8907.5990000000002,8556.3119999999999,7707.5259999999998,6844.3010000000004,5793.1239999999998,6436.125,5621.9420650000002,5052.5037549999997,4384.9885919999997,4612.7417769999993,4834.0750719999996,5727.7229470000002,7160.3432119999998,6106.9485729999997,6544.5626990000001,5651.8631519999999,5881.4311129999996,5219.8611950000004]
[null,"Régimen ordinario",20983.739000000001,17608.02,18707.558999999997,18018.677,17773.95,18579.984,20411.968000000001,18380.453000000001,18956.665000000001,19482.972000000002,19854.866999999998,21180.358,21067.758999999998,20037.241999999998,18120.440999999999,17648.763000000003,18314.264999999999,18491.100999999999,20610.635000000002,19356.754000000001,18522.235999999997,18165.444,17839.413,18837.095999999998,19471.396999999997,16149.814999999999,15759.361999999997,14376.523000000001,14921.868000000002,16791.513999999999,18868.688000000002,18146.089,16794.401542,16123.620999999999,14598.011512000001,16229.513999999999,17800.326901,15828.811808999997,16426.925139999999,15298.720989999998,14419.042774999998,15897.745939000002,18670.971038000003,17308.577246000001,17055.983044000001,15536.432202,15806.268372999999,16643.775550000002]
[null,"Hidroeólica","-","-","-","-","-","-","-","-","-","-","-","-","-","-","-","-","-","-","-","-","-","-","-","-","-","-","-","-","-","-","-","-","-","-","-","-","-","-","-","-","-","-","-","-","-","-","-","-"]
[null,"Hidráulica/Resto hidráulica",345.48899999999998,478.79599999999999,516.02800000000002,529.75900000000001,509.19,412.91699999999997,302.29399999999998,256.69099999999997,186.381,186.98000000000002,190.15099999999998,211.82500000000002,340.49299999999999,233.46199999999999,301.47399999999999,581.11099999999999,613.46399999999994,581.87,380.714,264.678,212.28,190.523,400.12099999999998,539.62599999999998,521.06399999999996,629.61599999999999,560.02,501.49200000000002,577.14200000000005,468.387,365.35300000000001,282.64999999999998,242.869,230.81,466.05,608.61800000000005,764.37,616.57799999999997,784.76,690.19600000000003,688.34299999999996,608.94799999999998,459.60300000000001,341.74799999999999,281.05,318.88900000000001,567.66,702.17499999999995]
[null,"Eólica",2167.7449999999999,2895.3179999999998,3123.877,1382.6190000000001,2641.2139999999999,1818.328,1946.9179999999999,2468.8200000000002,2055.4479999999999,1927.347,2769.181,2414.8360000000002,2664.58,2035.72,4132.3620000000001,3389.4520000000002,1769.2150000000001,2125.6880000000001,2184.1570000000002,2034.3419999999999,2148.0600000000004,2516.4739999999997,3485.3240000000001,3674.4479999999999,3527.9769999999999,3244.2980000000002,3125.3940000000002,3106.5949999999998,2730.5969999999998,2353.5120000000002,2482.25,2293.0889999999999,2489.9910000000004,3138.623,4817.9000000000005,4942.6009999999997,4304.4309999999996,4637.902,4570.1519999999991,2667.3429999999998,3655.8969999999999,2615.31,2845.759,2937.761,2337.395,3967.3230000000003,4366.5439999999999,4639.5129999999999]
[null,"Solar fotovoltaica",10.391,12.96,21.983999999999998,26.105999999999998,36.128,40.742000000000004,51.927,56.504000000000005,60.428000000000004,57.695999999999998,54.375999999999998,54.66,59.578000000000003,73.40100000000001,108.56200000000001,131.04400000000001,137.02099999999999,196.40899999999999,240.44200000000001,298.52500000000003,328.08499999999998,334.32799999999997,335.40200000000004,255.15899999999999,261.25799999999998,396.22799999999995,528.73199999999997,569.73800000000006,672.34699999999998,643.83199999999999,717.298,663.41,511.53100000000001,502.20600000000002,361.99299999999999,243.81700000000001,263.11899999999997,305.07099999999997,481.50900000000001,590.40700000000004,711.44200000000001,685.33100000000002,785.81499999999994,723.07,631.37599999999998,548.48400000000004,382.17600000000004,314.97199999999998]
[null,"Solar térmica",0,0,0.43099999999999999,0.34200000000000003,0.55800000000000005,0.88300000000000001,1.256,1.1160000000000001,0.63900000000000001,1.214,0.997,0.191,1.0840000000000001,0.79700000000000004,1.4610000000000001,0.95799999999999996,0.94199999999999995,1.9630000000000001,2.0379999999999998,1.98,0.85899999999999999,0.86599999999999999,1.27,1.1599999999999999,0.69,1.236,2.323,7.2039999999999997,7.6580000000000004,6.7519999999999998,12.414,23.867999999999999,17.539000000000001,23.446000000000002,16.183,10.51,13.151999999999999,11.682,23.731999999999999,36.92,69.084000000000003,72.531999999999996,104.59,121.9,100.917,71.745000000000005,31.619,33.747]
[null,"Térmica renovable/Otras renovables",216.57900000000001,190.44399999999999,202.655,201.31399999999999,212.92099999999999,208.53500000000003,222.32499999999999,223.34399999999999,210.393,242.72399999999999,222.18800000000002,235.54599999999999,240.54300000000001,235.363,243.89999999999998,241.16800000000001,240.34899999999999,235.23099999999999,223.648,239.89500000000001,225.512,247.172,248.54500000000002,247.38200000000001,267.15800000000002,253.47299999999998,264.57600000000002,300.05200000000002,272.99799999999999,253.04599999999999,260.84899999999999,260.46300000000002,287.976,347.83600000000001,272.58799999999997,276.327,274.84199999999998,245.35900000000001,262.31099999999998,277.04300000000001,300.03700000000003,288.51100000000002,278.10199999999998,284.791,267.96199999999999,284.303,273.09999999999997,295.99899999999997]
[null,"Térmica no renovable/Cogeneración y resto/Cogeneración",1995.5450000000001,1768.9959999999999,1879.5849999999998,1844.2359999999999,1838.9460000000001,1904.7730000000001,2000.027,1879.0259999999998,1965.914,2104.393,2108.9319999999998,2160.0570000000002,2263.8589999999999,2239.8829999999998,2285.25,2241.5010000000002,2119.1759999999999,2090.9559999999997,2229.8599999999997,2028.0640000000001,2188.578,2370.777,2326.19,2337.056,2435.4610000000002,2252.732,2408.4,2350.433,2364.2140000000004,2321.6890000000003,2408.567,2045.8420000000001,2349.3010000000004,2475.8960000000002,2583.23,2604.9659999999999,2672.7280000000001,2486.873,2628.8110000000001,2562.366,2593.181,2552.884,2625.9669999999996,2177.1619999999998,2550.5650000000001,2661.3690000000001,2677.2269999999999,2784.1910000000003]
[null,"Residuos no renovables","-","-","-","-","-","-","-","-","-","-","-","-","-","-","-","-","-","-","-","-","-","-","-","-","-","-","-","-","-","-","-","-","-","-","-","-","-","-","-","-","-","-","-","-","-","-","-","-"]
[null,"Residuos renovables","-","-","-","-","-","-","-","-","-","-","-","-","-","-","-","-","-","-","-","-","-","-","-","-","-","-","-","-","-","-","-","-","-","-","-","-","-","-","-","-","-","-","-","-","-","-","-","-"]
[null,"Régimen especial",4735.7489999999998,5346.5139999999992,5744.5599999999995,3984.3760000000002,5238.9570000000003,4386.1779999999999,4524.7469999999994,4885.5010000000002,4479.2029999999995,4520.3540000000003,5345.8249999999998,5077.1149999999998,5570.1369999999997,4818.6259999999993,7073.009,6585.2339999999995,4880.1670000000004,5232.1170000000002,5260.8590000000004,4867.4840000000004,5103.3740000000007,5660.1399999999994,6796.8520000000008,7054.8309999999983,7013.6080000000002,6777.5829999999996,6889.4450000000015,6835.5139999999992,6624.9560000000001,6047.2180000000008,6246.7309999999998,5569.3220000000001,5899.2070000000012,6718.8170000000009,8517.9440000000013,8686.8389999999999,8292.6419999999998,8303.4650000000001,8751.2749999999996,6824.2749999999996,8017.9840000000004,6823.5160000000005,7099.8359999999993,6586.4320000000007,6169.2649999999994,7852.1130000000012,8298.3260000000009,8770.5969999999998]
[null,"Generación",25719.488000000005,22954.533999999996,24452.118999999995,22003.053,23012.906999999999,22966.162000000004,24936.715000000004,23265.954000000005,23435.868000000002,24003.326000000001,25200.691999999999,26257.472999999998,26637.895999999997,24855.868000000002,25193.45,24233.997000000007,23194.431999999997,23723.217999999997,25871.494000000002,24224.238000000001,23625.609999999997,23825.584000000003,24636.264999999999,25891.927,26485.004999999994,22927.397999999997,22648.807000000001,21212.037000000004,21546.824000000004,22838.731999999996,25115.418999999998,23715.411,22693.608541999998,22842.437999999998,23115.955512,24916.352999999996,26092.968900999997,24132.276808999995,25178.200139999997,22122.995989999996,22437.026774999998,22721.261938999996,25770.807038000003,23895.009246000001,23225.248044,23388.545201999998,24104.594372999993,25414.37255]
[null,"Consumos en bombeo",-371.77600000000001,-395.87900000000002,-384.16800000000001,-293.39699999999999,-397.62200000000001,-356.25400000000002,-333.52100000000002,-371.38200000000001,-345.92500000000001,-317.00099999999998,-384.15499999999997,-481.20699999999999,-430.83600000000001,-419.30500000000001,-401.79399999999998,-219.05799999999999,-206.07300000000001,-285.255,-253.78200000000001,-190.80199999999999,-226.55600000000001,-297.14499999999998,-411.25599999999997,-460.64,-492.22699999999998,-392.03500000000003,-281.47199999999998,-255.75899999999999,-247.49799999999999,-224.59399999999999,-241.018,-245.006,-254.49299999999999,-284.12299999999999,-397.50099999999998,-478.46300000000002,-756.58548100000007,-554.72222199999999,-544.66441799999996,-303.16059899999999,-279.94919199999998,-230.155124,-199.16812999999999,-231.14395499999998,-233.69566899999998,-346.11598499999997,-322.22366899999997,-456.19813299999998]
[null,"Saldo intercambios internacionales",94.564999999999998,-235.49199999999999,-243.36199999999999,-261.05399999999997,-494.78800000000001,-223.46299999999999,-289.77800000000002,-314.01400000000001,-846.57600000000002,-1153.7719999999999,-1052.93,-729.80100000000004,-456.80399999999997,-655.58699999999999,-1199.348,-1291.615,-761.27499999999998,-1052.3420000000001,-907.81299999999999,-796.07299999999998,-935.81,-1102.0160000000001,-948.447,-932.45600000000002,-897.62800000000004,-474.27699999999999,-192.952,-548.93399999999997,-437.37599999999998,-769.16099999999994,-944.90899999999999,-817.41700000000003,-711.16800000000001,-941.36500000000001,-897.21199999999999,-454.01499999999999,-304.71344599999998,-506.196753,-560.11404599999992,-729.095102,-542.81502899999998,-821.22575100000006,-1000.6535670000001,-758.60105700000008,-964.2554520000001,-1295.5098870000002,-593.21057400000007,-256.28839399999998]
[null,"Demanda transporte (b.c.)",25442.277000000002,22323.162999999997,23824.588999999993,21448.601999999999,22120.496999999999,22386.445000000003,24313.416000000005,22580.558000000005,22243.367000000002,22532.553,23763.607,25046.465,25750.255999999998,23780.976000000002,23592.307999999997,22723.324000000004,22227.083999999995,22385.620999999996,24709.899000000005,23237.363000000001,22463.243999999995,22426.423000000003,23276.561999999998,24498.831000000002,25095.149999999994,22061.085999999999,22174.382999999998,20407.344000000005,20861.950000000004,21844.976999999995,23929.491999999998,22652.987999999998,21727.947541999998,21616.949999999997,21821.242512000001,23983.874999999996,25031.669973999997,23071.357833999995,24073.421675999998,21090.740288999998,21614.262553999997,21669.881063999994,24570.985341000003,22905.264234000002,22027.296922999998,21746.919329999997,23189.160129999993,24701.886022999999]
[]
[null,"Balance eléctrico anual peninsular (GWh)",1990,1991,1992,1993,1994,1995,1996,1997,1998,1999,2000,2001,2002,2003,2004,2005,2006,2007,2008,2009,2010,2011,2012,2013]
[null,"Hidráulica",23540.760600000001,24727.9339,16556.8675,21514.489699999995,25008.665699999998,20239.087800000001,36324.757399999995,31681.262700000003,31855.535200000002,21297.382000000005,24057.834800000004,36104.5772,17325.872599999999,35008.3632,26120.459100000004,14430.614099999992,21226.384899999994,22978.978099999993,18295.638600000002,20732.3027,35009.454188100004,"-","-","-"]
[null,"Turbinación bombeo",727.49040000000002,1002.9131,1953.4935,1321.2912999999999,941.77229999999986,1457.2081999999998,1065.8326000000002,1232.6223,1811.4277999999999,2566.4659999999999,3434.8202000000001,2891.8847999999998,4869.6773999999987,3274.6938,3223.2948999999999,4449.8628999999992,3743.8611000000001,3102.6008999999999,2661.7513999999996,2655.9322999999999,3120.4478038999996,"-","-","-"]
[null,"Nuclear",51905.668000000005,53162.400000000009,53360.06,53665.29,52995.802999999993,53138.097999999998,54112.745999999999,53048.341999999997,56572.047000000013,56378.196999999993,59530.32,60985.213000000003,60288.447,59219.589999999989,60875.742000000006,54901.832999999999,57353.705999999998,52638.926999999996,56460.290999999997,50549.445000000007,59242.321647000004,"-","-","-"]
[null,"Carbón",55338.808000000005,55804.307000000001,59825.894999999997,57851.097999999998,57174.709000000003,61234.712,49468.669000000002,58519.805999999997,56925.974999999999,68405.633000000002,72228.170999999988,64448.903999999995,74555.690999999992,68293.165999999997,72120.106,72994.088999999993,62126.065000000002,67686.248000000007,43409.537000000004,31622.562000000002,20599.255834,"-","-","-"]
[null,"Fuel + Gas",2865.9459999999999,4041.6849999999999,7463.5830000000014,1777.1469999999999,1412.1849999999999,3661.1629999999996,2043.33,6552.5410000000002,5338.8809999999994,9350.6630000000005,9565.2989999999991,11579.619000000001,15545.682000000004,7431.6419999999998,7089.4679999999998,9294.3179999999993,5396.0580000000009,2090.7650000000003,2074.895,1789.5900000000001,1566.0229999999999,"-","-","-"]
[null,"Ciclo combinado",0,0,0,0.21299999999999999,0,0,0,0,0,0,0,0,5155.6730000000007,14626.086000000003,28312.845000000001,47846.789000000004,62122.434000000001,66572.867999999988,89100.732000000004,76379.284,62954.940244999991,"-","-","-"]
[null,"Régimen ordinario",134378.67300000001,138739.239,139159.899,136129.52899999998,137533.13500000001,139730.269,143015.33499999999,151034.57399999999,152503.86600000001,157998.34100000001,168816.44500000001,176010.198,177741.04300000001,187853.541,197741.91500000001,203917.50599999999,211968.50899999999,215070.38700000002,212002.845,183729.11600000001,182492.44271799998,"-","-","-"]
[null,"Hidráulica/Resto hidráulica",982.63199996000014,1704.7810000000002,2081.7730000000001,2234.2280000000001,2475.268,2222.8739999999998,3543.8470000000002,3428.9950000000003,3578.4739169999993,3740.3226119999995,3836.0999330000004,4287.5226330000005,3899.4523389999999,5088.644045,4749.5783850000016,3817.5829390000013,4148.5638790000012,4125.3249999999998,4638.143,5453.6730000000007,6824.32,"-","-","-"]
[null,"Eólica",2.18699998,2.8650000000000002,17.361000000000001,84.768000000000001,72.859999999999985,159.85699999999997,304.12899999999996,619.88499999999999,1236.6567059999998,2474.0332980000003,4462.4960500000007,6594.1481130000002,9259.2966869999982,11720.246133000002,15754.117769000002,20857.665958999998,22880.856075000003,27249.154999999999,31757.850000000006,37888.576999999997,43208.396000000001,"-","-","-"]
[null,"Solar fotovoltaica",0,0,12.055999999999999,12.000000000000002,15.295899999999996,1.0619999999999998,0.89100000000000001,1.127,1.1702970000000001,1.341181,1.269817,1.639643,4.5614520000000001,8.9301049999999957,17.794010999999976,40.088349000000001,102.37499899999992,462.577,2406.0700000000002,5829.0049999999992,6139.7820000000002,"-","-","-"]
[null,"Solar térmica",0,0,0,0,0,0,0,0,0,0,0,0,0,0,0,0,0,7.6269999999999998,15.378,129.82299999999998,691.62,"-","-","-"]
[null,"Térmica renovable/Otras renovables",0,0.85399999999999987,16.548999999999999,58.82200000000001,322.45,671.26900000000001,815.08,648.375,748.74632699999995,908.25367599999993,961.11038600000018,1738.4584279999999,1453.0152859999998,1737.0417380000004,1818.0936319999998,1987.8580699999998,2182.6066820000001,2375.6849999999999,2651.4889999999996,3044.2870000000003,3171.7989999999995,"-","-","-"]
[null,"Térmica no renovable/Cogeneración y resto/Cogeneración",654.85700006000002,1435.9839999999997,1902.8819999999998,3307.5039999999999,5311.9911000000002,6540.7530000000006,8991.82,11462.615999999998,14168.280752999999,17137.272233000003,17379.554813999999,17656.688182999998,20831.652236000002,22845.346978999998,23528.704202999998,23263.703683,22318.939364999995,23327.756999999998,26575.975999999999,28465.934000000001,30789.052000000003,"-","-","-"]
[null,"Residuos no renovables"," "," "," "," "," "," "," "," "," "," "," "," "," "," "," "," "," "," "," "," "," ","-","-","-"]
[null,"Residuos renovables"," "," "," "," "," "," "," "," "," "," "," "," "," "," "," "," "," "," "," "," "," ","-","-","-"]
[null,"Régimen especial",1639.6760000000002,3144.4839999999999,4030.6210000000001,5697.3220000000001,8197.8649999999998,9595.8150000000005,13655.767,16160.997999999998,19733.327999999998,24261.223000000005,26640.531000000003,30278.456999999999,35447.978000000003,41400.209000000003,45868.288,49966.898999999998,51633.341,57548.125999999997,68044.906000000003,80811.298999999999,90824.969000000012,"-","-","-"]
[null,"Generación",136018.34900000002,141883.723,143190.52000000002,141826.85099999997,145731,149326.084,156671.10199999998,167195.57199999999,172237.19400000002,182259.56400000001,195456.97600000002,206288.655,213189.02100000001,229253.75,243610.20300000001,253884.405,263601.84999999998,272618.51300000004,280047.75099999999,264540.41500000004,273317.41171799996,"-","-","-"]
[null,"Consumos en bombeo",-1039.2719999999997,-1432.7330000000002,-2790.7050000000004,-1887.5589999999997,-1345.3890000000001,-2081.7260000000001,-1522.6180000000002,-1760.8889999999997,-2587.7539999999999,-3666.38,-4906.8859999999995,-4131.264000000001,-6956.6819999999998,-4678.134,-4604.7070000000003,-6356.9470000000001,-5348.3729999999996,-4432.2870000000003,-3802.502,-3794.1889999999999,-4457.7825769999999,"-","-","-"]
[null,"Enlace Península-Baleares","-","-","-","-","-","-","-","-","-","-","-","-","-","-","-","-","-","-","-","-","-","-","-","-"]
[null,"Saldo intercambios internacionales",-419.57900000000012,-676.58600000000001,641.12400000000002,1267.0719999999997,1855.105,4489.0450000000001,1059.3659999999998,-3072.8720000000003,3401.864,5719.244999999999,4440.5950000000003,3457.9599999999996,5328.768,1263.9020000000003,-3027.0179999999996,-1343.394,-3272.518,-5750.4650000000001,-11039.585999999999,-8086.4139999999998,-8332.6790579999997,"-","-","-"]
[null,"Demanda transporte (b.c.)",134559.49800000002,139774.40399999998,141040.93900000004,141206.36399999994,146240.71600000001,151733.40300000002,156207.85,162361.81099999999,173051.30400000003,184312.429,194990.68500000003,205615.351,211561.10700000002,225839.51800000001,235978.478,246184.06399999998,254980.95899999997,262435.761,265205.663,252659.81200000003,260526.95008299997,"-","-","-"]
[]
[null,"Balance eléctrico anual Islas Baleares (MWh)",2006,2007,2008,2009,2010,2011,2012,2013]
[null,"Carbón",3077310,2943855,3098826,3170463,3101357.5659999996,"-","-","-"]
[null,"Motores diesel",964902,1005606,1047081,971825,1027620.046,"-","-","-"]
[null,"Turbina de gas",292054.95199999999,311441,272502,339369,299414.36599999998,"-","-","-"]
[null,"Fuel + Gas",1256956.952,1317047,1319583,1311194,1327034.412,"-","-","-"]
[null,"Ciclo combinado",1341915,1583995,1523490,1292183,1135633.7220000001,"-","-","-"]
[null,"Generación auxiliar",6350.2199999999721,12612,5931,5566,6694.3319999999994,"-","-","-"]
[null,"Régimen ordinario",5682532.1719999993,5857509,5947830,5779406,5570720.0320000006,"-","-","-"]
[null,"Eólica",4877.3560000000007,5656,5497,5543,5571,"-","-","-"]
[null,"Solar fotovoltaica",1100.7949999999998,1952,28380,80933,87757,"-","-","-"]
[null,"Térmica renovable/Otras renovables",0,0,0,0,0,"-","-","-"]
[null,"Térmica no renovable/Cogeneración y resto/Cogeneración",139112.84899999999,113933,140332,127042,176244,"-","-","-"]
[null,"Residuos no renovables"," "," "," "," "," ","-","-","-"]
[null,"Residuos renovables"," "," "," "," "," ","-","-","-"]
[null,"Régimen especial",145091,121541,174209,213518,269572,"-","-","-"]
[null,"Generación",5827623.1719999993,5979050,6122039,5992924,5840292.0320000006,"-","-","-"]
[null,"Enlace Península-Baleares","-","-","-","-","-","-","-","-"]
[null,"Demanda transporte (b.c.)",5827623.1719999993,5979050,6122039,5992924,5840292.0320000006,"-","-","-"]
[]
[null,"Balance eléctrico anual Islas Canarias (MWh)",2006,2007,2008,2009,2010,2011,2012,2013]
[null,"Hidráulica",0,0,0,0,0,"-","-","-"]
[null,"Motores diesel",2007664,2042002,2103766,2140699,2183387.7719999999,"-","-","-"]
[null,"Turbina de gas",824431.12,699470,473526,342172.054,343281.65700000001,"-","-","-"]
[null,"Turbina de  vapor",3429991,3306805,3414241,3243628,2972587.1049999995,"-","-","-"]
[null,"Fuel + Gas",6262086.1200000001,6048277,5991533,5726499.0539999995,5499256.534,"-","-","-"]
[null,"Ciclo combinado",2007397,2443275,2573317,2552328,2708410.1850000001,"-","-","-"]
[null,"Generación auxiliar",0,132840,89747,33788,0,"-","-","-"]
[null,"Régimen ordinario",8269483.1200000001,8624392,8654597,8312615.0540000005,8207666.7189999996,"-","-","-"]
[null,"Hidroeólica","-","-","-","-","-","-","-","-"]
[null,"Hidráulica/Resto hidráulica",0,1176,1673,398,0,"-","-","-"]
[null,"Eólica",326063.57899999997,356840,396475,358707,331363,"-","-","-"]
[null,"Solar fotovoltaica",2915.5499999999997,19373,63500,162330,195166,"-","-","-"]
[null,"Térmica renovable/Otras renovables",218199.68400000001,213283,217219,273055,160561,"-","-","-"]
[null,"Térmica no renovable/Cogeneración y resto/Cogeneración",2832.1869999999999,0,0,20,0,"-","-","-"]
[null,"Régimen especial",550011,590672,678867,794510,687090,"-","-","-"]
[null,"Generación",8819494.120000001,9215064,9333464,9107125.0540000014,8894756.7190000005,"-","-","-"]
[null,"Demanda transporte (b.c.)",8819494.120000001,9215064,9333464,9107125.0540000014,8894756.7190000005,"-","-","-"]
[]
[null,"Balance eléctrico anual Ceuta (MWh)",2007,2008,2009,2010,2011,2012,2013]
[null,"Motores diesel",202644,209671,208316,214666.24400000001,"-","-","-"]
[null,"Turbina de gas",0,0,3253,2868.8669999999997,"-","-","-"]
[null,"Fuel + Gas",202644,209671,211569,217535.111,"-","-","-"]
[null,"Régimen ordinario",202644,209671,211569,217535.111,"-","-","-"]
[null,"Generación",202644,209671,211569,217535.111,"-","-","-"]
[null,"Demanda transporte (b.c.)",202644,209671,211569,217535.111,"-","-","-"]
[null,null,null,null,null,null,"-"]
[null,"Balance eléctrico anual Melilla (MWh)",2007,2008,2009,2010,2011,2012,2013]
[null,"Motores diesel",181867.74,193125,197553,204717.97099999996,"-","-","-"]
[null,"Turbina de gas",2412.2599999999998,3081,545,498.45600000000002,"-","-","-"]
[null,"Fuel + gas",184280,196206,198098,205216.42699999997,"-","-","-"]
[null,"Régimen ordinario",184280,196206,198098,205216.42699999997,"-","-","-"]
[null,"Solar fotovoltaica",0,6,122,67,"-","-","-"]
[null,"Térmica no renovable/Cogeneración y resto/Cogeneración",8740,4842,7735,8028,"-","-","-"]
[null,"Residuos no renovables","-","-","-","-","-","-","-"]
[null,"Residuos renovables","-","-","-","-","-","-","-"]
[null,"Régimen especial",8740,4848,7857,8095,"-","-","-"]
[null,"Generación",193020,201054,205955,213311.42699999997,"-","-","-"]
[null,"Demanda transporte (b.c.)",193020,201054,205955,213311.42699999997,"-","-","-"]
[]
[null,"Balance eléctrico anual nacional (GWh)",2007,2008,2009,2010,2011,2012,2013]
[null,"Hidráulica",22978.978099999993,18295.638600000002,20732.3027,35009.454188100004,"-","-","-"]
[null,"Turbinación bombeo",3102.6008999999999,2661.7513999999996,2655.9322999999999,3120.4478038999996,"-","-","-"]
[null,"Nuclear",52638.926999999996,56460.290999999997,50549.445000000007,59242.321647000004,"-","-","-"]
[null,"Carbón",70630.103000000003,46508.363000000005,34793.025000000001,23700.613399999998,"-","-","-"]
[null,"Fuel + Gas",9988.4650000000001,9887.5660000000007,9276.3040540000002,8821.7598159999998,"-","-","-"]
[null,"Ciclo combinado",70600.137999999992,93197.539000000004,80223.794999999998,66798.98415199999,"-","-","-"]
[null,"Régimen ordinario",229939.212,227011.14899999998,198230.80405400001,196693.581007,"-","-","-"]
[null,"Hidroeólica"," "," "," "," ","-","-","-"]
[null,"Hidráulica/Resto hidráulica",4126.5010000000002,4639.8159999999998,5454.0710000000008,6824.32,"-","-","-"]
[null,"Eólica",27611.650999999998,32159.822000000007,38252.826999999997,43545.33,"-","-","-"]
[null,"Solar fotovoltaica",483.90199999999999,2497.9560000000001,6072.3899999999994,6422.7719999999999,"-","-","-"]
[null,"Solar térmica",7.6269999999999998,15.378,129.82299999999998,691.62,"-","-","-"]
[null,"Térmica renovable/Otras renovables",2588.9679999999998,2868.7079999999996,3317.3420000000001,3332.3599999999997,"-","-","-"]
[null,"Térmica no renovable/Cogeneración y resto/Cogeneración",23450.429999999997,26721.149999999998,28600.731,30973.324000000004,"-","-","-"]
[null,"Residuos no renovables"," "," "," "," ","-","-","-"]
[null,"Residuos renovables"," "," "," "," ","-","-","-"]
[null,"Régimen especial",58269.078999999998,68902.83,81827.183999999994,91789.72600000001,"-","-","-"]
[null,"Generación",288208.29099999997,295913.97899999999,280057.98805400002,288483.30700700002,"-","-","-"]
[null,"Consumos en bombeo",-4432.2870000000003,-3802.502,-3794.1889999999999,-4457.7825769999999,"-","-","-"]
[null,"Saldo intercambios internacionales",-5750.4650000000001,-11039.585999999999,-8086.4139999999998,-8332.6790579999997,"-","-","-"]
[null,"Demanda transporte (b.c.)",278025.53899999993,281071.891,268177.38505400001,275692.84537200007,"-","-","-"]

{"sheet":"Mozart Reports","index":14,"n_rows":6,"n_cols":2,"rows_kept":6,"cut":false,"hidden":true,"merged":[]}
[5,"aeb79108330e49c98009308e1e48a942"]
["<mi app=\"e\" ver=\"22\"><rptloc guid=\"13af3534735e4c4ca05137df4b7861a7\" rank=\"0\" ds=\"1\"><ri hasPG=\"0\" name=\"Serie mensual Balance Ceuta\" id=\"6F2CD6824FBB0B41F382AAA8194FBE87\" path=\"Objetos públicos\\Informes\\Informes macros\\Series Estadisticas\\Serie mensual Balance Ceuta\" cf=\"0\" prompt=\"1\" ve=\"0\" vm=\"0\" flashpth=\"d:\\Usuarios\\RODORTJO\\AppData\\Local\\Temp\\1\\\" fimagepth=\"d:\\Usuarios\\RODORTJO\\AppData\\Local\\Temp\\1\\\" swfn=\"DashboardViewer.swf\" fvars=\"\" dvis=\"\"><ans /><ci ps=\"BI\" srv=\"apcpr64b\" prj=\"BDEbi\" prjid=\"D066E1C611E6257C10D00080EF253B44\" li=\"RODORTJO\" am=\"s\" /><lu ut=\"05/13/2019 10:42:46\" si=\"2.00000001f1070db6b726862da9c3d07819f07df4190e16ffdcb72bc8ffc05fcfa91dc57881eae42e1287be88cbeccf0644e6f70217e3b2d597a2de7c16a2c5bde5dbb27744a0abc6add7fcec7491f05d8ae3aaa75e3c4201373baddd7cadad122955ec809a4644b95f09870f778d4b42644bffbf6394c3e46ec13b6ca397e430dcab.3082.0.1.Europe/Madrid.upriv*_1*_pidn2*_146*_session*-lat*_1.0000000190ca75d6e25632675285665f942e78f893bcab4f8da4e3ef8220ee838ebeea95b53ba2451165fe09a8b2d588718673be18c5167c.00000001c064dd43b759380388ed375a265e2e15bf8b3a33c4af30bf12d92735558c5bd7cdb7774a834257ea146dd4f797a9a762230ce75f.0.1.1.BDEbi.D066E1C611E6257C10D00080EF253B44.0-3082.1.1_-0.1.0_-3082.1.1_5.5.0.*0.000000018af78f3496b9ef5c7306175cbcd3f752c911585a00a1feb81544a7a890510fa5a4c88e9b.0.10*.25*.15*.214.23.10*.4*.0400*.0074J.e.0000000134995268ac1123d5d3f3626985b62dd8c911585af17ce3f35a9b27d546be4254ab245a0c.0\" msgID=\"5657375F11E9756B69BB0080EF85CC9C\" /></ri><do pa=\"6\" cfmt=\"0\" fmt=\"1\" saf=\"0\" hd=\"0\" afg=\"1\" rafg=\"1\" arh=\"1\" gosdo=\"0\" cwd=\"1\" ab=\"0\" af=\"1\" om=\"0\" ag=\"0\" lck=\"0\" ppt=\"3\" wpt=\"3\" dai=\"0\" rscd=\"1\" rsrgb=\"1\" rsrl=\"1\" cit=\"2\" c2d=\"1\" cdf=\"0\" cdt=\"0\" dtlk=\"1\" gaf=\"17\" fqg=\"0\" xqg=\"0\" don=\"0\" dcom=\"0\" oaw=\"0\" tws=\"0\" ssm=\"1\" ssn=\"MSTRStyle.Todos\" glo=\"11101\" pgsel=\"4\" phdr=\"1\" rdc=\"0\" adt=\"0\" rsoox=\"0\" eco=\"1\" ecfw=\"400\" ecfh=\"300\" ecfsu=\"1\" ecwr=\"100\" echr=\"100\" eclar=\"1\" ecrups=\"1\"><details dbit=\"11169976358211\" dsel=\"239\" /></do><excel><epo ews=\"BDE\" ece=\"A77\" enr=\"MSTR.Serie_mensual_Balance_Ceuta\" ptn=\"\" qtn=\"\" rows=\"7\" cols=\"101\" /><esdo ews=\"\" ece=\"\" ptn=\"\" /></excel><pgs><pg rows=\"4\" cols=\"100\" nrr=\"56\" nrc=\"1245\"><pg /><bls><bl sr=\"1\" sc=\"1\" rfetch=\"4\" cfetch=\"100\" posid=\"1\" darows=\"0\" dacols=\"1\"><excel><epo ews=\"BDE\" ece=\"A77\" enr=\"MSTR.Serie_mensual_Balance_Ceuta\" ptn=\"\" qtn=\"\" rows=\"7\" cols=\"101\" /><esdo ews=\"\" ece=\"\" ptn=\"\" /></excel><gridRng><sect id=\"TITLE_AREA\" rngprop=\"1:1:3:1\" /><sect id=\"ROWHEADERS_AREA\" rngprop=\"4:1:4:1\" /><sect id=\"COLUMNHEADERS_AREA\" rngprop=\"1:2:3:100\" /><sect id=\"DATA_AREA\" rngprop=\"4:2:4:100\" /></gridRng><shapes /></bl></bls></pg></pgs></rptloc></mi>"]
["<mi app=\"e\" ver=\"22\"><rptloc guid=\"e59ff9b2b5394000907d97b26d4ae788\" rank=\"0\" ds=\"1\"><ri hasPG=\"0\" name=\"Serie mensual Balance Melilla\" id=\"F47A0BA049B29C2D1C7978B503DCBE43\" path=\"Objetos públicos\\Informes\\Informes macros\\Series Estadisticas\\Serie mensual Balance Melilla\" cf=\"0\" prompt=\"1\" ve=\"0\" vm=\"0\" flashpth=\"d:\\Usuarios\\RODORTJO\\AppData\\Local\\Temp\\1\\\" fimagepth=\"d:\\Usuarios\\RODORTJO\\AppData\\Local\\Temp\\1\\\" swfn=\"DashboardViewer.swf\" fvars=\"\" dvis=\"\"><ans /><ci ps=\"BI\" srv=\"apcpr64b\" prj=\"BDEbi\" prjid=\"D066E1C611E6257C10D00080EF253B44\" li=\"RODORTJO\" am=\"s\" /><lu ut=\"05/13/2019 10:42:48\" si=\"2.00000001f1070db6b726862da9c3d07819f07df4190e16ffdcb72bc8ffc05fcfa91dc57881eae42e1287be88cbeccf0644e6f70217e3b2d597a2de7c16a2c5bde5dbb27744a0abc6add7fcec7491f05d8ae3aaa75e3c4201373baddd7cadad122955ec809a4644b95f09870f778d4b42644bffbf6394c3e46ec13b6ca397e430dcab.3082.0.1.Europe/Madrid.upriv*_1*_pidn2*_146*_session*-lat*_1.0000000190ca75d6e25632675285665f942e78f893bcab4f8da4e3ef8220ee838ebeea95b53ba2451165fe09a8b2d588718673be18c5167c.00000001c064dd43b759380388ed375a265e2e15bf8b3a33c4af30bf12d92735558c5bd7cdb7774a834257ea146dd4f797a9a762230ce75f.0.1.1.BDEbi.D066E1C611E6257C10D00080EF253B44.0-3082.1.1_-0.1.0_-3082.1.1_5.5.0.*0.000000018af78f3496b9ef5c7306175cbcd3f752c911585a00a1feb81544a7a890510fa5a4c88e9b.0.10*.25*.15*.214.23.10*.4*.0400*.0074J.e.0000000134995268ac1123d5d3f3626985b62dd8c911585af17ce3f35a9b27d546be4254ab245a0c.0\" msgID=\"56A9A3B911E9756B69BB0080EF556C9B\" /></ri><do pa=\"6\" cfmt=\"0\" fmt=\"1\" saf=\"0\" hd=\"0\" afg=\"1\" rafg=\"1\" arh=\"1\" gosdo=\"0\" cwd=\"1\" ab=\"0\" af=\"1\" om=\"0\" ag=\"0\" lck=\"0\" ppt=\"3\" wpt=\"3\" dai=\"0\" rscd=\"1\" rsrgb=\"1\" rsrl=\"1\" cit=\"2\" c2d=\"1\" cdf=\"0\" cdt=\"0\" dtlk=\"1\" gaf=\"17\" fqg=\"0\" xqg=\"0\" don=\"0\" dcom=\"0\" oaw=\"0\" tws=\"0\" ssm=\"1\" ssn=\"MSTRStyle.Todos\" glo=\"11101\" pgsel=\"4\" phdr=\"1\" rdc=\"0\" adt=\"0\" rsoox=\"0\" eco=\"1\" ecfw=\"400\" ecfh=\"300\" ecfsu=\"1\" ecwr=\"100\" echr=\"100\" eclar=\"1\" ecrups=\"1\"><details dbit=\"11169976358211\" dsel=\"239\" /></do><excel><epo ews=\"BDE\" ece=\"A87\" enr=\"MSTR.Serie_mensual_Balance_Melilla\" ptn=\"\" qtn=\"\" rows=\"10\" cols=\"101\" /><esdo ews=\"\" ece=\"\" ptn=\"\" /></excel><pgs><pg rows=\"7\" cols=\"100\" nrr=\"98\" nrc=\"1245\"><pg /><bls><bl sr=\"1\" sc=\"1\" rfetch=\"7\" cfetch=\"100\" posid=\"1\" darows=\"0\" dacols=\"1\"><excel><epo ews=\"BDE\" ece=\"A87\" enr=\"MSTR.Serie_mensual_Balance_Melilla\" ptn=\"\" qtn=\"\" rows=\"10\" cols=\"101\" /><esdo ews=\"\" ece=\"\" ptn=\"\" /></excel><gridRng><sect id=\"TITLE_AREA\" rngprop=\"1:1:3:1\" /><sect id=\"ROWHEADERS_AREA\" rngprop=\"4:1:7:1\" /><sect id=\"COLUMNHEADERS_AREA\" rngprop=\"1:2:3:100\" /><sect id=\"DATA_AREA\" rngprop=\"4:2:7:100\" /></gridRng><shapes /></bl></bls></pg></pgs></rptloc></mi>"]
["<mi app=\"e\" ver=\"22\"><rptloc guid=\"90f221476e2f44209624066d52a5f0d1\" rank=\"0\" ds=\"1\"><ri hasPG=\"0\" name=\"Serie mensual Balance Peninsular\" id=\"96A0EAFC4AE8A78EF67C2F993551FF61\" path=\"Objetos públicos\\Informes\\Informes macros\\Series Estadisticas\\Serie mensual Balance Peninsular\" cf=\"0\" prompt=\"1\" ve=\"0\" vm=\"0\" flashpth=\"d:\\Usuarios\\RODORTJO\\AppData\\Local\\Temp\\1\\\" fimagepth=\"d:\\Usuarios\\RODORTJO\\AppData\\Local\\Temp\\1\\\" swfn=\"DashboardViewer.swf\" fvars=\"\" dvis=\"\"><ans /><ci ps=\"BI\" srv=\"apcpr64b\" prj=\"BDEbi\" prjid=\"D066E1C611E6257C10D00080EF253B44\" li=\"RODORTJO\" am=\"s\" /><lu ut=\"05/13/2019 10:43:49\" si=\"2.00000001f1070db6b726862da9c3d07819f07df4190e16ffdcb72bc8ffc05fcfa91dc57881eae42e1287be88cbeccf0644e6f70217e3b2d597a2de7c16a2c5bde5dbb27744a0abc6add7fcec7491f05d8ae3aaa75e3c4201373baddd7cadad122955ec809a4644b95f09870f778d4b42644bffbf6394c3e46ec13b6ca397e430dcab.3082.0.1.Europe/Madrid.upriv*_1*_pidn2*_146*_session*-lat*_1.0000000190ca75d6e25632675285665f942e78f893bcab4f8da4e3ef8220ee838ebeea95b53ba2451165fe09a8b2d588718673be18c5167c.00000001c064dd43b759380388ed375a265e2e15bf8b3a33c4af30bf12d92735558c5bd7cdb7774a834257ea146dd4f797a9a762230ce75f.0.1.1.BDEbi.D066E1C611E6257C10D00080EF253B44.0-3082.1.1_-0.1.0_-3082.1.1_5.5.0.*0.000000018af78f3496b9ef5c7306175cbcd3f752c911585a00a1feb81544a7a890510fa5a4c88e9b.0.10*.25*.15*.214.23.10*.4*.0400*.0074J.e.0000000134995268ac1123d5d3f3626985b62dd8c911585af17ce3f35a9b27d546be4254ab245a0c.0\" msgID=\"568A4CA211E9756B69BB0080EFA50B9A\" /></ri><do pa=\"6\" cfmt=\"0\" fmt=\"1\" saf=\"0\" hd=\"0\" afg=\"1\" rafg=\"1\" arh=\"1\" gosdo=\"0\" cwd=\"1\" ab=\"0\" af=\"1\" om=\"0\" ag=\"0\" lck=\"0\" ppt=\"3\" wpt=\"3\" dai=\"0\" rscd=\"1\" rsrgb=\"1\" rsrl=\"1\" cit=\"2\" c2d=\"1\" cdf=\"0\" cdt=\"0\" dtlk=\"1\" gaf=\"17\" fqg=\"0\" xqg=\"0\" don=\"0\" dcom=\"0\" oaw=\"0\" tws=\"0\" ssm=\"1\" ssn=\"MSTRStyle.Todos\" glo=\"11101\" pgsel=\"4\" phdr=\"1\" rdc=\"0\" adt=\"0\" rsoox=\"0\" eco=\"1\" ecfw=\"400\" ecfh=\"300\" ecfsu=\"1\" ecwr=\"100\" echr=\"100\" eclar=\"1\" ecrups=\"1\"><details dbit=\"11169976358211\" dsel=\"239\" /></do><excel><epo ews=\"BDE\" ece=\"A7\" enr=\"MSTR.Serie_mensual_Balance_Peninsular\" ptn=\"\" qtn=\"\" rows=\"21\" cols=\"101\" /><esdo ews=\"\" ece=\"\" ptn=\"\" /></excel><pgs><pg rows=\"18\" cols=\"100\" nrr=\"342\" nrc=\"1532\"><pg><attEl aeid=\"BB:5EAE1F1D48ED4011B00BAC90762C13F0:1:2:0:2:1:3:1:Península\" aedn=\"Península\" aen=\"Sistema Eléctrico\" /><attEl aeid=\"BB:AB973FBD4D0CA7EE4892009A2825B4C6:1:2:0:2:1:3:3:PUBLICADO\" aedn=\"PUBLICADO\" aen=\"Versión\" /></pg><bls><bl sr=\"1\" sc=\"1\" rfetch=\"18\" cfetch=\"100\" posid=\"1\" darows=\"0\" dacols=\"1\"><excel><epo ews=\"BDE\" ece=\"A7\" enr=\"MSTR.Serie_mensual_Balance_Peninsular\" ptn=\"\" qtn=\"\" rows=\"21\" cols=\"101\" /><esdo ews=\"\" ece=\"\" ptn=\"\" /></excel><gridRng><sect id=\"TITLE_AREA\" rngprop=\"1:1:3:1\" /><sect id=\"ROWHEADERS_AREA\" rngprop=\"4:1:18:1\" /><sect id=\"COLUMNHEADERS_AREA\" rngprop=\"1:2:3:100\" /><sect id=\"DATA_AREA\" rngprop=\"4:2:18:100\" /></gridRng><shapes /></bl></bls></pg></pgs></rptloc></mi>"]
["<mi app=\"e\" ver=\"22\"><rptloc guid=\"95b8c730cb95430298fde918f076b6cf\" rank=\"0\" ds=\"1\"><ri hasPG=\"0\" name=\"Serie mensual Balance Baleares\" id=\"DEC196524A40A58AC65C1DA090B9AE0E\" path=\"Objetos públicos\\Informes\\Informes macros\\Series Estadisticas\\Serie mensual Balance Baleares\" cf=\"0\" prompt=\"1\" ve=\"0\" vm=\"0\" flashpth=\"d:\\Usuarios\\RODORTJO\\AppData\\Local\\Temp\\1\\\" fimagepth=\"d:\\Usuarios\\RODORTJO\\AppData\\Local\\Temp\\1\\\" swfn=\"DashboardViewer.swf\" fvars=\"\" dvis=\"\"><ans><pan pk=\"6383F02949E1244BCE94A09C4486F039@0@10\" aid=\"\" /></ans><ci ps=\"BI\" srv=\"apcpr64b\" prj=\"BDEbi\" prjid=\"D066E1C611E6257C10D00080EF253B44\" li=\"RODORTJO\" am=\"s\" /><lu ut=\"05/13/2019 10:42:50\" si=\"2.00000001f1070db6b726862da9c3d07819f07df4190e16ffdcb72bc8ffc05fcfa91dc57881eae42e1287be88cbeccf0644e6f70217e3b2d597a2de7c16a2c5bde5dbb27744a0abc6add7fcec7491f05d8ae3aaa75e3c4201373baddd7cadad122955ec809a4644b95f09870f778d4b42644bffbf6394c3e46ec13b6ca397e430dcab.3082.0.1.Europe/Madrid.upriv*_1*_pidn2*_146*_session*-lat*_1.0000000190ca75d6e25632675285665f942e78f893bcab4f8da4e3ef8220ee838ebeea95b53ba2451165fe09a8b2d588718673be18c5167c.00000001c064dd43b759380388ed375a265e2e15bf8b3a33c4af30bf12d92735558c5bd7cdb7774a834257ea146dd4f797a9a762230ce75f.0.1.1.BDEbi.D066E1C611E6257C10D00080EF253B44.0-3082.1.1_-0.1.0_-3082.1.1_5.5.0.*0.000000018af78f3496b9ef5c7306175cbcd3f752c911585a00a1feb81544a7a890510fa5a4c88e9b.0.10*.25*.15*.214.23.10*.4*.0400*.0074J.e.0000000134995268ac1123d5d3f3626985b62dd8c911585af17ce3f35a9b27d546be4254ab245a0c.0\" msgID=\"565C081B11E9756B69BB0080EFF5AC9B\" /></ri><do pa=\"6\" cfmt=\"0\" fmt=\"1\" saf=\"0\" hd=\"0\" afg=\"1\" rafg=\"1\" arh=\"1\" gosdo=\"0\" cwd=\"1\" ab=\"0\" af=\"1\" om=\"0\" ag=\"0\" lck=\"0\" ppt=\"3\" wpt=\"3\" dai=\"0\" rscd=\"1\" rsrgb=\"1\" rsrl=\"1\" cit=\"2\" c2d=\"1\" cdf=\"0\" cdt=\"0\" dtlk=\"1\" gaf=\"17\" fqg=\"0\" xqg=\"0\" don=\"0\" dcom=\"0\" oaw=\"0\" tws=\"0\" ssm=\"1\" ssn=\"MSTRStyle.Todos\" glo=\"11101\" pgsel=\"4\" phdr=\"1\" rdc=\"0\" adt=\"0\" rsoox=\"0\" eco=\"1\" ecfw=\"400\" ecfh=\"300\" ecfsu=\"1\" ecwr=\"100\" echr=\"100\" eclar=\"1\" ecrups=\"1\"><details dbit=\"11169976358211\" dsel=\"239\" /></do><excel><epo ews=\"BDE\" ece=\"A37\" enr=\"MSTR.Serie_mensual_Balance_Baleares\" ptn=\"\" qtn=\"\" rows=\"17\" cols=\"101\" /><esdo ews=\"\" ece=\"\" ptn=\"\" /></excel><pgs><pg rows=\"14\" cols=\"100\" nrr=\"252\" nrc=\"1373\"><pg><attEl aeid=\"BB:5EAE1F1D48ED4011B00BAC90762C13F0:1:2:0:2:1:3:4:Baleares\" aedn=\"Baleares\" aen=\"Sistema Eléctrico\" /><attEl aeid=\"BB:AB973FBD4D0CA7EE4892009A2825B4C6:1:2:0:2:1:3:3:PUBLICADO\" aedn=\"PUBLICADO\" aen=\"Versión\" /></pg><bls><bl sr=\"1\" sc=\"1\" rfetch=\"14\" cfetch=\"100\" posid=\"1\" darows=\"0\" dacols=\"1\"><excel><epo ews=\"BDE\" ece=\"A37\" enr=\"MSTR.Serie_mensual_Balance_Baleares\" ptn=\"\" qtn=\"\" rows=\"17\" cols=\"101\" /><esdo ews=\"\" ece=\"\" ptn=\"\" /></excel><gridRng><sect id=\"TITLE_AREA\" rngprop=\"1:1:3:1\" /><sect id=\"ROWHEADERS_AREA\" rngprop=\"4:1:14:1\" /><sect id=\"COLUMNHEADERS_AREA\" rngprop=\"1:2:3:100\" /><sect id=\"DATA_AREA\" rngprop=\"4:2:14:100\" /></gridRng><shapes /></bl></bls></pg></pgs></rptloc></mi>"]
["<mi app=\"e\" ver=\"22\"><rptloc guid=\"308c3eaec61b4e15bc09b15f200740d1\" rank=\"0\" ds=\"1\"><ri hasPG=\"0\" name=\"Serie mensual Balance Canarias\" id=\"0D4A433A4CF4D0C4C4E4E1BEA007E1BE\" path=\"Objetos públicos\\Informes\\Informes macros\\Series Estadisticas\\Serie mensual Balance Canarias\" cf=\"0\" prompt=\"1\" ve=\"0\" vm=\"0\" flashpth=\"d:\\Usuarios\\RODORTJO\\AppData\\Local\\Temp\\1\\\" fimagepth=\"d:\\Usuarios\\RODORTJO\\AppData\\Local\\Temp\\1\\\" swfn=\"DashboardViewer.swf\" fvars=\"\" dvis=\"\"><ans /><ci ps=\"BI\" srv=\"apcpr64b\" prj=\"BDEbi\" prjid=\"D066E1C611E6257C10D00080EF253B44\" li=\"RODORTJO\" am=\"s\" /><lu ut=\"05/13/2019 10:42:47\" si=\"2.00000001f1070db6b726862da9c3d07819f07df4190e16ffdcb72bc8ffc05fcfa91dc57881eae42e1287be88cbeccf0644e6f70217e3b2d597a2de7c16a2c5bde5dbb27744a0abc6add7fcec7491f05d8ae3aaa75e3c4201373baddd7cadad122955ec809a4644b95f09870f778d4b42644bffbf6394c3e46ec13b6ca397e430dcab.3082.0.1.Europe/Madrid.upriv*_1*_pidn2*_146*_session*-lat*_1.0000000190ca75d6e25632675285665f942e78f893bcab4f8da4e3ef8220ee838ebeea95b53ba2451165fe09a8b2d588718673be18c5167c.00000001c064dd43b759380388ed375a265e2e15bf8b3a33c4af30bf12d92735558c5bd7cdb7774a834257ea146dd4f797a9a762230ce75f.0.1.1.BDEbi.D066E1C611E6257C10D00080EF253B44.0-3082.1.1_-0.1.0_-3082.1.1_5.5.0.*0.000000018af78f3496b9ef5c7306175cbcd3f752c911585a00a1feb81544a7a890510fa5a4c88e9b.0.10*.25*.15*.214.23.10*.4*.0400*.0074J.e.0000000134995268ac1123d5d3f3626985b62dd8c911585af17ce3f35a9b27d546be4254ab245a0c.0\" msgID=\"56830C3A11E9756B69BB0080EF85CB9A\" /></ri><do pa=\"6\" cfmt=\"0\" fmt=\"1\" saf=\"0\" hd=\"0\" afg=\"1\" rafg=\"1\" arh=\"1\" gosdo=\"0\" cwd=\"1\" ab=\"0\" af=\"1\" om=\"0\" ag=\"0\" lck=\"0\" ppt=\"3\" wpt=\"3\" dai=\"0\" rscd=\"1\" rsrgb=\"1\" rsrl=\"1\" cit=\"2\" c2d=\"1\" cdf=\"0\" cdt=\"0\" dtlk=\"1\" gaf=\"17\" fqg=\"0\" xqg=\"0\" don=\"0\" dcom=\"0\" oaw=\"0\" tws=\"0\" ssm=\"1\" ssn=\"MSTRStyle.Todos\" glo=\"11101\" pgsel=\"4\" phdr=\"1\" rdc=\"0\" adt=\"0\" rsoox=\"0\" eco=\"1\" ecfw=\"400\" ecfh=\"300\" ecfsu=\"1\" ecwr=\"100\" echr=\"100\" eclar=\"1\" ecrups=\"1\"><details dbit=\"11169976358211\" dsel=\"239\" /></do><excel><epo ews=\"BDE\" ece=\"A57\" enr=\"MSTR.Serie_mensual_Balance_Canarias\" ptn=\"\" qtn=\"\" rows=\"15\" cols=\"101\" /><esdo ews=\"\" ece=\"\" ptn=\"\" /></excel><pgs><pg rows=\"12\" cols=\"100\" nrr=\"179\" nrc=\"1337\"><pg /><bls><bl sr=\"1\" sc=\"1\" rfetch=\"12\" cfetch=\"100\" posid=\"1\" darows=\"0\" dacols=\"1\"><excel><epo ews=\"BDE\" ece=\"A57\" enr=\"MSTR.Serie_mensual_Balance_Canarias\" ptn=\"\" qtn=\"\" rows=\"15\" cols=\"101\" /><esdo ews=\"\" ece=\"\" ptn=\"\" /></excel><gridRng><sect id=\"TITLE_AREA\" rngprop=\"1:1:3:1\" /><sect id=\"ROWHEADERS_AREA\" rngprop=\"4:1:12:1\" /><sect id=\"COLUMNHEADERS_AREA\" rngprop=\"1:2:3:100\" /><sect id=\"DATA_AREA\" rngprop=\"4:2:12:100\" /></gridRng><shapes /></bl></bls></pg></pgs></rptloc></mi>"]

{"sheet":"Año","index":15,"n_rows":22,"n_cols":26,"rows_kept":22,"cut":false,"hidden":true,"merged":[]}
[null,null,null,null,null,null,null,null,null,null,null,null,null,null,null,null,null,null,null,null,null,null,null,null,1,1]
["Mensual","1990-1991",1990,"1990-1997","2006-2013","2007-2013",null,null,null,null,null,null,null,null,"Nacional","Mensual"]
["Trimestral","1992-1993",1991,"1998-2005","2014-2021","2014-2020",null,null,null,null,null,null,null,null,"Peninsular","Anual"]
["Anual","1994-1995",1992,"2006-2013",null,null,null,null,null,null,null,null,null,null,"Canarias"]
[null,"1996-1997",1993,"2014-2021",null,null,null,null,null,null,null,null,null,null,"Baleares"]
[null,"1998-1999",1994,null,null,null,null,null,null,null,null,null,null,null,"Ceuta"]
[null,"2000-2001",1995,null,null,null,null,null,null,null,null,null,null,null,"Melilla"]
[null,"2002-2003",1996]
[null,"2004-2005",1997]
[null,"2006-2007",1998]
[null,"2008-2009",1999]
[null,"2010-2011",2000]
[null,null,2001]
[null,null,2002]
[null,null,2003]
[null,null,2004]
[null,null,2005]
[null,null,2006]
[null,null,2007]
[null,null,2008]
[null,null,2009]
[null,null,2010]