{"text_format":"1","workbook":"xlsx","n_sheets":23,"sheets":["AVISO LEGAL","Precio final mensual","Precio final anual","Energía gestionada SA mensual","Energía gestionada SA anual","Restricciones PBF mensual","Restricciones PBF anual","Regulación secundaria mensual","Regulación secundaria anual","Regulación terciaria mensual","Regulación terciaria anual","Gestión de desvíos mensual","Gestión de desvíos anual","Restricciones TReal mensual","Restricciones TReal anual","Reserva adic subir mensual","Reserva adic subir anual","Banda mensual","Banda anual","BALIT mensual","BALIT anual","Precios finales ","Año"],"not_rendered":{"charts":0,"images":1,"macros":1,"external_links":0,"defined_names":21,"comments":0,"pivot_tables":0},"unopened":[],"bounds":{"document_bytes":16777216,"sheet_cells":100000,"rows_first":2000,"rows_last":500,"rows_between":2000,"halvings":0,"cell_chars":16384,"cell_head_chars":4096},"cells_cut":0,"cells_raw":0,"read":"whole","date_system":"1900"}

{"sheet":"AVISO LEGAL","index":0,"n_rows":23,"n_cols":10,"rows_kept":23,"cut":false,"hidden":false,"merged":[]}
[]
[]
[]
[]
[]
[]
[]
[]
[]
[]
[]
[]
[]
[]
[]
[]
[]
[]
[]
[]
[]
[]
[null,null,null,null,null,null,null,null,null,"www.ree.es"]

{"sheet":"Precio final mensual","index":1,"n_rows":27,"n_cols":15,"rows_kept":27,"cut":false,"hidden":false,"merged":[]}
[null,null,null,null,null,null,null,null,null,null,null,null,null,null,4]
[]
[]
[null,null,null,null,null,null,null,null,null,null,null,"Concepto"]
[null,null,null,null,null,null,null,null,null,null,null,"Horizonte temporal"]
[null,null,null,null,null,null,null,null,null,null,null,"Periodo"]
[]
[null,null,"Ene.","Feb.","Mar.","Abr.","May.","Jun.","Jul.","Ago.","Sep.","Oct.","Nov.","Dic.",{"$f":"OFFSET(Año!B2,($O$1-1),0)","v":2013}]
[]
[null,"Mercado diario",{"$f":"OFFSET('Precios finales '!AP3,0,($O$1-1)*13)","v":53.21},{"$f":"OFFSET('Precios finales '!AQ3,0,($O$1-1)*13)","v":46.9},{"$f":"OFFSET('Precios finales '!AR3,0,($O$1-1)*13)","v":28.41},{"$f":"OFFSET('Precios finales '!AS3,0,($O$1-1)*13)","v":19.329999999999998},{"$f":"OFFSET('Precios finales '!AT3,0,($O$1-1)*13)","v":44.14},{"$f":"OFFSET('Precios finales '!AU3,0,($O$1-1)*13)","v":42.14},{"$f":"OFFSET('Precios finales '!AV3,0,($O$1-1)*13)","v":52.25},{"$f":"OFFSET('Precios finales '!AW3,0,($O$1-1)*13)","v":49.01},{"$f":"OFFSET('Precios finales '!AX3,0,($O$1-1)*13)","v":51.68},{"$f":"OFFSET('Precios finales '!AY3,0,($O$1-1)*13)","v":52.78},{"$f":"OFFSET('Precios finales '!AZ3,0,($O$1-1)*13)","v":43.48},{"$f":"OFFSET('Precios finales '!BA3,0,($O$1-1)*13)","v":68.58},{"$f":"OFFSET('Precios finales '!BB3,0,($O$1-1)*13)","v":46.23}]
[null,"Mercado intradiario",{"$f":"OFFSET('Precios finales '!AP4,0,($O$1-1)*13)","v":-0.01},{"$f":"OFFSET('Precios finales '!AQ4,0,($O$1-1)*13)","v":-0.08},{"$f":"OFFSET('Precios finales '!AR4,0,($O$1-1)*13)","v":-0.11},{"$f":"OFFSET('Precios finales '!AS4,0,($O$1-1)*13)","v":-0.02},{"$f":"OFFSET('Precios finales '!AT4,0,($O$1-1)*13)","v":-0.09},{"$f":"OFFSET('Precios finales '!AU4,0,($O$1-1)*13)","v":-0.14000000000000001},{"$f":"OFFSET('Precios finales '!AV4,0,($O$1-1)*13)","v":0.02},{"$f":"OFFSET('Precios finales '!AW4,0,($O$1-1)*13)","v":-0.02},{"$f":"OFFSET('Precios finales '!AX4,0,($O$1-1)*13)","v":-0.02},{"$f":"OFFSET('Precios finales '!AY4,0,($O$1-1)*13)","v":-0.16},{"$f":"OFFSET('Precios finales '!AZ4,0,($O$1-1)*13)","v":-0.04},{"$f":"OFFSET('Precios finales '!BA4,0,($O$1-1)*13)","v":-0.03},{"$f":"OFFSET('Precios finales '!BB4,0,($O$1-1)*13)","v":-0.06}]
[null,"Servicio de interrumpibilidad",{"$f":"OFFSET('Precios finales '!AP5,0,($O$1-1)*13)","v":"-"},{"$f":"OFFSET('Precios finales '!AQ5,0,($O$1-1)*13)","v":"-"},{"$f":"OFFSET('Precios finales '!AR5,0,($O$1-1)*13)","v":"-"},{"$f":"OFFSET('Precios finales '!AS5,0,($O$1-1)*13)","v":"-"},{"$f":"OFFSET('Precios finales '!AT5,0,($O$1-1)*13)","v":"-"},{"$f":"OFFSET('Precios finales '!AU5,0,($O$1-1)*13)","v":"-"},{"$f":"OFFSET('Precios finales '!AV5,0,($O$1-1)*13)","v":"-"},{"$f":"OFFSET('Precios finales '!AW5,0,($O$1-1)*13)","v":"-"},{"$f":"OFFSET('Precios finales '!AX5,0,($O$1-1)*13)","v":"-"},{"$f":"OFFSET('Precios finales '!AY5,0,($O$1-1)*13)","v":"-"},{"$f":"OFFSET('Precios finales '!AZ5,0,($O$1-1)*13)","v":"-"},{"$f":"OFFSET('Precios finales '!BA5,0,($O$1-1)*13)","v":"-"},{"$f":"OFFSET('Precios finales '!BB5,0,($O$1-1)*13)","v":"-"}]
[null,"Pagos por capacidad",{"$f":"OFFSET('Precios finales '!AP6,0,($O$1-1)*13)","v":7.09},{"$f":"OFFSET('Precios finales '!AQ6,0,($O$1-1)*13)","v":6.95},{"$f":"OFFSET('Precios finales '!AR6,0,($O$1-1)*13)","v":5.71},{"$f":"OFFSET('Precios finales '!AS6,0,($O$1-1)*13)","v":5.46},{"$f":"OFFSET('Precios finales '!AT6,0,($O$1-1)*13)","v":5.36},{"$f":"OFFSET('Precios finales '!AU6,0,($O$1-1)*13)","v":6.13},{"$f":"OFFSET('Precios finales '!AV6,0,($O$1-1)*13)","v":7.29},{"$f":"OFFSET('Precios finales '!AW6,0,($O$1-1)*13)","v":4.87},{"$f":"OFFSET('Precios finales '!AX6,0,($O$1-1)*13)","v":5.48},{"$f":"OFFSET('Precios finales '!AY6,0,($O$1-1)*13)","v":5.39},{"$f":"OFFSET('Precios finales '!AZ6,0,($O$1-1)*13)","v":5.59},{"$f":"OFFSET('Precios finales '!BA6,0,($O$1-1)*13)","v":6.89},{"$f":"OFFSET('Precios finales '!BB6,0,($O$1-1)*13)","v":6.04}]
[null,"Servicios ajustes del sistema",{"$f":"OFFSET('Precios finales '!AP7,0,($O$1-1)*13)","v":5.21},{"$f":"OFFSET('Precios finales '!AQ7,0,($O$1-1)*13)","v":5.29},{"$f":"OFFSET('Precios finales '!AR7,0,($O$1-1)*13)","v":7.5699999999999994},{"$f":"OFFSET('Precios finales '!AS7,0,($O$1-1)*13)","v":7.53},{"$f":"OFFSET('Precios finales '!AT7,0,($O$1-1)*13)","v":5.2100000000000009},{"$f":"OFFSET('Precios finales '!AU7,0,($O$1-1)*13)","v":5.22},{"$f":"OFFSET('Precios finales '!AV7,0,($O$1-1)*13)","v":2.8699999999999997},{"$f":"OFFSET('Precios finales '!AW7,0,($O$1-1)*13)","v":3.7999999999999994},{"$f":"OFFSET('Precios finales '!AX7,0,($O$1-1)*13)","v":4.1800000000000006},{"$f":"OFFSET('Precios finales '!AY7,0,($O$1-1)*13)","v":7.07},{"$f":"OFFSET('Precios finales '!AZ7,0,($O$1-1)*13)","v":7.1},{"$f":"OFFSET('Precios finales '!BA7,0,($O$1-1)*13)","v":6.2299999999999995},{"$f":"OFFSET('Precios finales '!BB7,0,($O$1-1)*13)","v":5.58}]
[null,"Restricciones técnicas PDBF",{"$f":"OFFSET('Precios finales '!AP8,0,($O$1-1)*13)","v":2.27},{"$f":"OFFSET('Precios finales '!AQ8,0,($O$1-1)*13)","v":2.42},{"$f":"OFFSET('Precios finales '!AR8,0,($O$1-1)*13)","v":3.88},{"$f":"OFFSET('Precios finales '!AS8,0,($O$1-1)*13)","v":4.16},{"$f":"OFFSET('Precios finales '!AT8,0,($O$1-1)*13)","v":3.3},{"$f":"OFFSET('Precios finales '!AU8,0,($O$1-1)*13)","v":3.19},{"$f":"OFFSET('Precios finales '!AV8,0,($O$1-1)*13)","v":1.29},{"$f":"OFFSET('Precios finales '!AW8,0,($O$1-1)*13)","v":1.92},{"$f":"OFFSET('Precios finales '!AX8,0,($O$1-1)*13)","v":2.25},{"$f":"OFFSET('Precios finales '!AY8,0,($O$1-1)*13)","v":3.3},{"$f":"OFFSET('Precios finales '!AZ8,0,($O$1-1)*13)","v":3.38},{"$f":"OFFSET('Precios finales '!BA8,0,($O$1-1)*13)","v":2.81},{"$f":"OFFSET('Precios finales '!BB8,0,($O$1-1)*13)","v":2.83}]
[null,"Banda de regulación secundaria",{"$f":"OFFSET('Precios finales '!AP9,0,($O$1-1)*13)","v":1.55},{"$f":"OFFSET('Precios finales '!AQ9,0,($O$1-1)*13)","v":1.56},{"$f":"OFFSET('Precios finales '!AR9,0,($O$1-1)*13)","v":1.81},{"$f":"OFFSET('Precios finales '!AS9,0,($O$1-1)*13)","v":1.48},{"$f":"OFFSET('Precios finales '!AT9,0,($O$1-1)*13)","v":1.08},{"$f":"OFFSET('Precios finales '!AU9,0,($O$1-1)*13)","v":1.51},{"$f":"OFFSET('Precios finales '!AV9,0,($O$1-1)*13)","v":1.24},{"$f":"OFFSET('Precios finales '!AW9,0,($O$1-1)*13)","v":1.28},{"$f":"OFFSET('Precios finales '!AX9,0,($O$1-1)*13)","v":1.21},{"$f":"OFFSET('Precios finales '!AY9,0,($O$1-1)*13)","v":1.52},{"$f":"OFFSET('Precios finales '!AZ9,0,($O$1-1)*13)","v":1.3},{"$f":"OFFSET('Precios finales '!BA9,0,($O$1-1)*13)","v":1.87},{"$f":"OFFSET('Precios finales '!BB9,0,($O$1-1)*13)","v":1.45}]
[null,"Reserva de potencia adicional a subir",{"$f":"OFFSET('Precios finales '!AP10,0,($O$1-1)*13)","v":0.39},{"$f":"OFFSET('Precios finales '!AQ10,0,($O$1-1)*13)","v":0.42},{"$f":"OFFSET('Precios finales '!AR10,0,($O$1-1)*13)","v":0.84},{"$f":"OFFSET('Precios finales '!AS10,0,($O$1-1)*13)","v":0.76},{"$f":"OFFSET('Precios finales '!AT10,0,($O$1-1)*13)","v":0.19},{"$f":"OFFSET('Precios finales '!AU10,0,($O$1-1)*13)","v":0},{"$f":"OFFSET('Precios finales '!AV10,0,($O$1-1)*13)","v":0},{"$f":"OFFSET('Precios finales '!AW10,0,($O$1-1)*13)","v":0.05},{"$f":"OFFSET('Precios finales '!AX10,0,($O$1-1)*13)","v":0.21},{"$f":"OFFSET('Precios finales '!AY10,0,($O$1-1)*13)","v":0.94},{"$f":"OFFSET('Precios finales '!AZ10,0,($O$1-1)*13)","v":1.22},{"$f":"OFFSET('Precios finales '!BA10,0,($O$1-1)*13)","v":0.34},{"$f":"OFFSET('Precios finales '!BB10,0,($O$1-1)*13)","v":0.44}]
[null,"Restricciones técnicas en tiempo real",{"$f":"OFFSET('Precios finales '!AP11,0,($O$1-1)*13)","v":0.4},{"$f":"OFFSET('Precios finales '!AQ11,0,($O$1-1)*13)","v":0.41},{"$f":"OFFSET('Precios finales '!AR11,0,($O$1-1)*13)","v":0.64},{"$f":"OFFSET('Precios finales '!AS11,0,($O$1-1)*13)","v":0.77},{"$f":"OFFSET('Precios finales '!AT11,0,($O$1-1)*13)","v":0.43},{"$f":"OFFSET('Precios finales '!AU11,0,($O$1-1)*13)","v":0.24},{"$f":"OFFSET('Precios finales '!AV11,0,($O$1-1)*13)","v":0.1},{"$f":"OFFSET('Precios finales '!AW11,0,($O$1-1)*13)","v":0.32},{"$f":"OFFSET('Precios finales '!AX11,0,($O$1-1)*13)","v":0.28999999999999998},{"$f":"OFFSET('Precios finales '!AY11,0,($O$1-1)*13)","v":0.84},{"$f":"OFFSET('Precios finales '!AZ11,0,($O$1-1)*13)","v":0.72},{"$f":"OFFSET('Precios finales '!BA11,0,($O$1-1)*13)","v":0.4},{"$f":"OFFSET('Precios finales '!BB11,0,($O$1-1)*13)","v":0.46}]
[null,"Restricciones intradiario",{"$f":"OFFSET('Precios finales '!AP12,0,($O$1-1)*13)","v":0},{"$f":"OFFSET('Precios finales '!AQ12,0,($O$1-1)*13)","v":0},{"$f":"OFFSET('Precios finales '!AR12,0,($O$1-1)*13)","v":0},{"$f":"OFFSET('Precios finales '!AS12,0,($O$1-1)*13)","v":0},{"$f":"OFFSET('Precios finales '!AT12,0,($O$1-1)*13)","v":0},{"$f":"OFFSET('Precios finales '!AU12,0,($O$1-1)*13)","v":0},{"$f":"OFFSET('Precios finales '!AV12,0,($O$1-1)*13)","v":0},{"$f":"OFFSET('Precios finales '!AW12,0,($O$1-1)*13)","v":0},{"$f":"OFFSET('Precios finales '!AX12,0,($O$1-1)*13)","v":0},{"$f":"OFFSET('Precios finales '!AY12,0,($O$1-1)*13)","v":0},{"$f":"OFFSET('Precios finales '!AZ12,0,($O$1-1)*13)","v":0},{"$f":"OFFSET('Precios finales '!BA12,0,($O$1-1)*13)","v":0},{"$f":"OFFSET('Precios finales '!BB12,0,($O$1-1)*13)","v":0}]
[null,"Incumplimiento de energia de balance",{"$f":"OFFSET('Precios finales '!AP13,0,($O$1-1)*13)","v":"-"},{"$f":"OFFSET('Precios finales '!AQ13,0,($O$1-1)*13)","v":"-"},{"$f":"OFFSET('Precios finales '!AR13,0,($O$1-1)*13)","v":"-"},{"$f":"OFFSET('Precios finales '!AS13,0,($O$1-1)*13)","v":"-"},{"$f":"OFFSET('Precios finales '!AT13,0,($O$1-1)*13)","v":"-"},{"$f":"OFFSET('Precios finales '!AU13,0,($O$1-1)*13)","v":"-"},{"$f":"OFFSET('Precios finales '!AV13,0,($O$1-1)*13)","v":"-"},{"$f":"OFFSET('Precios finales '!AW13,0,($O$1-1)*13)","v":"-"},{"$f":"OFFSET('Precios finales '!AX13,0,($O$1-1)*13)","v":"-"},{"$f":"OFFSET('Precios finales '!AY13,0,($O$1-1)*13)","v":"-"},{"$f":"OFFSET('Precios finales '!AZ13,0,($O$1-1)*13)","v":"-"},{"$f":"OFFSET('Precios finales '!BA13,0,($O$1-1)*13)","v":"-"},{"$f":"OFFSET('Precios finales '!BB13,0,($O$1-1)*13)","v":"-"}]
[null,"Coste desvíos",{"$f":"OFFSET('Precios finales '!AP14,0,($O$1-1)*13)","v":0.57999999999999996},{"$f":"OFFSET('Precios finales '!AQ14,0,($O$1-1)*13)","v":0.47},{"$f":"OFFSET('Precios finales '!AR14,0,($O$1-1)*13)","v":0.31},{"$f":"OFFSET('Precios finales '!AS14,0,($O$1-1)*13)","v":0.23},{"$f":"OFFSET('Precios finales '!AT14,0,($O$1-1)*13)","v":0.23},{"$f":"OFFSET('Precios finales '!AU14,0,($O$1-1)*13)","v":0.23},{"$f":"OFFSET('Precios finales '!AV14,0,($O$1-1)*13)","v":0.28999999999999998},{"$f":"OFFSET('Precios finales '!AW14,0,($O$1-1)*13)","v":0.19},{"$f":"OFFSET('Precios finales '!AX14,0,($O$1-1)*13)","v":0.18},{"$f":"OFFSET('Precios finales '!AY14,0,($O$1-1)*13)","v":0.32},{"$f":"OFFSET('Precios finales '!AZ14,0,($O$1-1)*13)","v":0.24},{"$f":"OFFSET('Precios finales '!BA14,0,($O$1-1)*13)","v":0.33},{"$f":"OFFSET('Precios finales '!BB14,0,($O$1-1)*13)","v":0.3}]
[null,"Saldo desvíos",{"$f":"OFFSET('Precios finales '!AP15,0,($O$1-1)*13)","v":0.03},{"$f":"OFFSET('Precios finales '!AQ15,0,($O$1-1)*13)","v":0},{"$f":"OFFSET('Precios finales '!AR15,0,($O$1-1)*13)","v":0.09},{"$f":"OFFSET('Precios finales '!AS15,0,($O$1-1)*13)","v":0.13},{"$f":"OFFSET('Precios finales '!AT15,0,($O$1-1)*13)","v":-0.04},{"$f":"OFFSET('Precios finales '!AU15,0,($O$1-1)*13)","v":0.06},{"$f":"OFFSET('Precios finales '!AV15,0,($O$1-1)*13)","v":-0.06},{"$f":"OFFSET('Precios finales '!AW15,0,($O$1-1)*13)","v":0.04},{"$f":"OFFSET('Precios finales '!AX15,0,($O$1-1)*13)","v":0.05},{"$f":"OFFSET('Precios finales '!AY15,0,($O$1-1)*13)","v":0.15},{"$f":"OFFSET('Precios finales '!AZ15,0,($O$1-1)*13)","v":0.23},{"$f":"OFFSET('Precios finales '!BA15,0,($O$1-1)*13)","v":0.51},{"$f":"OFFSET('Precios finales '!BB15,0,($O$1-1)*13)","v":0.1}]
[null,"Control del factor de potencia",{"$f":"OFFSET('Precios finales '!AP16,0,($O$1-1)*13)","v":"-"},{"$f":"OFFSET('Precios finales '!AQ16,0,($O$1-1)*13)","v":"-"},{"$f":"OFFSET('Precios finales '!AR16,0,($O$1-1)*13)","v":"-"},{"$f":"OFFSET('Precios finales '!AS16,0,($O$1-1)*13)","v":"-"},{"$f":"OFFSET('Precios finales '!AT16,0,($O$1-1)*13)","v":"-"},{"$f":"OFFSET('Precios finales '!AU16,0,($O$1-1)*13)","v":"-"},{"$f":"OFFSET('Precios finales '!AV16,0,($O$1-1)*13)","v":"-"},{"$f":"OFFSET('Precios finales '!AW16,0,($O$1-1)*13)","v":0},{"$f":"OFFSET('Precios finales '!AX16,0,($O$1-1)*13)","v":0},{"$f":"OFFSET('Precios finales '!AY16,0,($O$1-1)*13)","v":0},{"$f":"OFFSET('Precios finales '!AZ16,0,($O$1-1)*13)","v":0},{"$f":"OFFSET('Precios finales '!BA16,0,($O$1-1)*13)","v":0},{"$f":"OFFSET('Precios finales '!BB16,0,($O$1-1)*13)","v":"-"}]
[null,"Saldo PO 14.6",{"$f":"OFFSET('Precios finales '!AP17,0,($O$1-1)*13)","v":-0.01},{"$f":"OFFSET('Precios finales '!AQ17,0,($O$1-1)*13)","v":0.01},{"$f":"OFFSET('Precios finales '!AR17,0,($O$1-1)*13)","v":0},{"$f":"OFFSET('Precios finales '!AS17,0,($O$1-1)*13)","v":0},{"$f":"OFFSET('Precios finales '!AT17,0,($O$1-1)*13)","v":0.02},{"$f":"OFFSET('Precios finales '!AU17,0,($O$1-1)*13)","v":-0.01},{"$f":"OFFSET('Precios finales '!AV17,0,($O$1-1)*13)","v":0.01},{"$f":"OFFSET('Precios finales '!AW17,0,($O$1-1)*13)","v":0},{"$f":"OFFSET('Precios finales '!AX17,0,($O$1-1)*13)","v":-0.01},{"$f":"OFFSET('Precios finales '!AY17,0,($O$1-1)*13)","v":0},{"$f":"OFFSET('Precios finales '!AZ17,0,($O$1-1)*13)","v":0.01},{"$f":"OFFSET('Precios finales '!BA17,0,($O$1-1)*13)","v":-0.03},{"$f":"OFFSET('Precios finales '!BB17,0,($O$1-1)*13)","v":0}]
[null,"Fallo nominación UPG",{"$f":"OFFSET('Precios finales '!AP18,0,($O$1-1)*13)","v":0},{"$f":"OFFSET('Precios finales '!AQ18,0,($O$1-1)*13)","v":0},{"$f":"OFFSET('Precios finales '!AR18,0,($O$1-1)*13)","v":0},{"$f":"OFFSET('Precios finales '!AS18,0,($O$1-1)*13)","v":0},{"$f":"OFFSET('Precios finales '!AT18,0,($O$1-1)*13)","v":0},{"$f":"OFFSET('Precios finales '!AU18,0,($O$1-1)*13)","v":0},{"$f":"OFFSET('Precios finales '!AV18,0,($O$1-1)*13)","v":0},{"$f":"OFFSET('Precios finales '!AW18,0,($O$1-1)*13)","v":0},{"$f":"OFFSET('Precios finales '!AX18,0,($O$1-1)*13)","v":0},{"$f":"OFFSET('Precios finales '!AY18,0,($O$1-1)*13)","v":0},{"$f":"OFFSET('Precios finales '!AZ18,0,($O$1-1)*13)","v":0},{"$f":"OFFSET('Precios finales '!BA18,0,($O$1-1)*13)","v":0},{"$f":"OFFSET('Precios finales '!BB18,0,($O$1-1)*13)","v":0}]
[null,"Precio total (€/MWh)",{"$f":"OFFSET('Precios finales '!AP19,0,($O$1-1)*13)","v":65.5},{"$f":"OFFSET('Precios finales '!AQ19,0,($O$1-1)*13)","v":59.06},{"$f":"OFFSET('Precios finales '!AR19,0,($O$1-1)*13)","v":41.58},{"$f":"OFFSET('Precios finales '!AS19,0,($O$1-1)*13)","v":32.299999999999997},{"$f":"OFFSET('Precios finales '!AT19,0,($O$1-1)*13)","v":54.62},{"$f":"OFFSET('Precios finales '!AU19,0,($O$1-1)*13)","v":53.35},{"$f":"OFFSET('Precios finales '!AV19,0,($O$1-1)*13)","v":62.43},{"$f":"OFFSET('Precios finales '!AW19,0,($O$1-1)*13)","v":57.66},{"$f":"OFFSET('Precios finales '!AX19,0,($O$1-1)*13)","v":61.32},{"$f":"OFFSET('Precios finales '!AY19,0,($O$1-1)*13)","v":65.08},{"$f":"OFFSET('Precios finales '!AZ19,0,($O$1-1)*13)","v":56.13},{"$f":"OFFSET('Precios finales '!BA19,0,($O$1-1)*13)","v":81.67},{"$f":"OFFSET('Precios finales '!BB19,0,($O$1-1)*13)","v":57.79}]
[null,"Energía cierre (GWh)",{"$f":"IF(OFFSET('Precios finales '!AP20,0,($O$1-1)*13)=\"-\",\"-\",OFFSET('Precios finales '!AP20,0,($O$1-1)*13)/1000)","v":22057.320881},{"$f":"IF(OFFSET('Precios finales '!AQ20,0,($O$1-1)*13)=\"-\",\"-\",OFFSET('Precios finales '!AQ20,0,($O$1-1)*13)/1000)","v":19810.467168000003},{"$f":"IF(OFFSET('Precios finales '!AR20,0,($O$1-1)*13)=\"-\",\"-\",OFFSET('Precios finales '!AR20,0,($O$1-1)*13)/1000)","v":20603.106780000002},{"$f":"IF(OFFSET('Precios finales '!AS20,0,($O$1-1)*13)=\"-\",\"-\",OFFSET('Precios finales '!AS20,0,($O$1-1)*13)/1000)","v":18943.445802999999},{"$f":"IF(OFFSET('Precios finales '!AT20,0,($O$1-1)*13)=\"-\",\"-\",OFFSET('Precios finales '!AT20,0,($O$1-1)*13)/1000)","v":19141.523519000002},{"$f":"IF(OFFSET('Precios finales '!AU20,0,($O$1-1)*13)=\"-\",\"-\",OFFSET('Precios finales '!AU20,0,($O$1-1)*13)/1000)","v":19066.235423000002},{"$f":"IF(OFFSET('Precios finales '!AV20,0,($O$1-1)*13)=\"-\",\"-\",OFFSET('Precios finales '!AV20,0,($O$1-1)*13)/1000)","v":21395.778107999999},{"$f":"IF(OFFSET('Precios finales '!AW20,0,($O$1-1)*13)=\"-\",\"-\",OFFSET('Precios finales '!AW20,0,($O$1-1)*13)/1000)","v":20118.985638000002},{"$f":"IF(OFFSET('Precios finales '!AX20,0,($O$1-1)*13)=\"-\",\"-\",OFFSET('Precios finales '!AX20,0,($O$1-1)*13)/1000)","v":19517.032243999998},{"$f":"IF(OFFSET('Precios finales '!AY20,0,($O$1-1)*13)=\"-\",\"-\",OFFSET('Precios finales '!AY20,0,($O$1-1)*13)/1000)","v":19552.300440000003},{"$f":"IF(OFFSET('Precios finales '!AZ20,0,($O$1-1)*13)=\"-\",\"-\",OFFSET('Precios finales '!AZ20,0,($O$1-1)*13)/1000)","v":19791.864992999999},{"$f":"IF(OFFSET('Precios finales '!BA20,0,($O$1-1)*13)=\"-\",\"-\",OFFSET('Precios finales '!BA20,0,($O$1-1)*13)/1000)","v":20662.852653000002},{"$f":"IF(OFFSET('Precios finales '!BB20,0,($O$1-1)*13)=\"-\",\"-\",OFFSET('Precios finales '!BB20,0,($O$1-1)*13)/1000)","v":240660.91365}]

{"sheet":"Precio final anual","index":2,"n_rows":27,"n_cols":16,"rows_kept":27,"cut":false,"hidden":false,"merged":[]}
[null,null,null,null,null,null,null,null,null,null,null,null,null,null,1]
[]
[]
[null,null,null,null,null,null,null,null,"Concepto"]
[null,null,null,null,null,null,null,null,"Horizonte temporal"]
[null,null,null,null,null,null,null,null,"Periodo"]
[]
[null,null,{"$f":"OFFSET('Precios finales '!F24,0,($O$1-1)*10)","v":2010},{"$f":"OFFSET('Precios finales '!G24,0,($O$1-1)*10)","v":2011},{"$f":"OFFSET('Precios finales '!H24,0,($O$1-1)*10)","v":2012},{"$f":"OFFSET('Precios finales '!I24,0,($O$1-1)*10)","v":2013},{"$f":"OFFSET('Precios finales '!J24,0,($O$1-1)*10)","v":2014},{"$f":"OFFSET('Precios finales '!K24,0,($O$1-1)*10)","v":2015},{"$f":"OFFSET('Precios finales '!L24,0,($O$1-1)*10)","v":2016},{"$f":"OFFSET('Precios finales '!M24,0,($O$1-1)*10)","v":2017},{"$f":"OFFSET('Precios finales '!N24,0,($O$1-1)*10)","v":2018},{"$f":"OFFSET('Precios finales '!O24,0,($O$1-1)*10)","v":2019}]
[null,null,{"$f":"OFFSET('Precios finales '!C25,0,($O$1-1)*10)","v":0},{"$f":"OFFSET('Precios finales '!D25,0,($O$1-1)*10)","v":0},{"$f":"OFFSET('Precios finales '!E25,0,($O$1-1)*10)","v":0},{"$f":"OFFSET('Precios finales '!F25,0,($O$1-1)*10)","v":38.46},{"$f":"OFFSET('Precios finales '!G25,0,($O$1-1)*10)","v":50.97},{"$f":"OFFSET('Precios finales '!H25,0,($O$1-1)*10)","v":48.88},{"$f":"OFFSET('Precios finales '!I25,0,($O$1-1)*10)","v":46.23},{"$f":"OFFSET('Precios finales '!J25,0,($O$1-1)*10)","v":"-"},{"$f":"OFFSET('Precios finales '!K25,0,($O$1-1)*10)","v":"-"},{"$f":"OFFSET('Precios finales '!L25,0,($O$1-1)*10)","v":"-"}]
[null,"Mercado diario",{"$f":"OFFSET('Precios finales '!F25,0,($O$1-1)*10)","v":38.46},{"$f":"OFFSET('Precios finales '!G25,0,($O$1-1)*10)","v":50.97},{"$f":"OFFSET('Precios finales '!H25,0,($O$1-1)*10)","v":48.88},{"$f":"OFFSET('Precios finales '!I25,0,($O$1-1)*10)","v":46.23},{"$f":"OFFSET('Precios finales '!J25,0,($O$1-1)*10)","v":"-"},{"$f":"OFFSET('Precios finales '!K25,0,($O$1-1)*10)","v":"-"},{"$f":"OFFSET('Precios finales '!L25,0,($O$1-1)*10)","v":"-"},{"$f":"OFFSET('Precios finales '!M25,0,($O$1-1)*10)","v":"-"},{"$f":"OFFSET('Precios finales '!N25,0,($O$1-1)*10)","v":"-"},{"$f":"OFFSET('Precios finales '!O25,0,($O$1-1)*10)","v":"-"}]
[null,"Mercado intradiario",{"$f":"OFFSET('Precios finales '!F26,0,($O$1-1)*10)","v":-0.02},{"$f":"OFFSET('Precios finales '!G26,0,($O$1-1)*10)","v":-0.06},{"$f":"OFFSET('Precios finales '!H26,0,($O$1-1)*10)","v":-0.04},{"$f":"OFFSET('Precios finales '!I26,0,($O$1-1)*10)","v":-0.06},{"$f":"OFFSET('Precios finales '!J26,0,($O$1-1)*10)","v":"-"},{"$f":"OFFSET('Precios finales '!K26,0,($O$1-1)*10)","v":"-"},{"$f":"OFFSET('Precios finales '!L26,0,($O$1-1)*10)","v":"-"},{"$f":"OFFSET('Precios finales '!M26,0,($O$1-1)*10)","v":"-"},{"$f":"OFFSET('Precios finales '!N26,0,($O$1-1)*10)","v":"-"},{"$f":"OFFSET('Precios finales '!O26,0,($O$1-1)*10)","v":"-"}]
[null,"Servicio de interrumpibilidad",{"$f":"OFFSET('Precios finales '!F27,0,($O$1-1)*10)","v":"-"},{"$f":"OFFSET('Precios finales '!G27,0,($O$1-1)*10)","v":"-"},{"$f":"OFFSET('Precios finales '!H27,0,($O$1-1)*10)","v":"-"},{"$f":"OFFSET('Precios finales '!I27,0,($O$1-1)*10)","v":"-"},{"$f":"OFFSET('Precios finales '!J27,0,($O$1-1)*10)","v":"-"},{"$f":"OFFSET('Precios finales '!K27,0,($O$1-1)*10)","v":"-"},{"$f":"OFFSET('Precios finales '!L27,0,($O$1-1)*10)","v":"-"},{"$f":"OFFSET('Precios finales '!M27,0,($O$1-1)*10)","v":"-"},{"$f":"OFFSET('Precios finales '!N27,0,($O$1-1)*10)","v":"-"},{"$f":"OFFSET('Precios finales '!O27,0,($O$1-1)*10)","v":"-"}]
[null,"Pagos por capacidad",{"$f":"OFFSET('Precios finales '!F28,0,($O$1-1)*10)","v":3.63},{"$f":"OFFSET('Precios finales '!G28,0,($O$1-1)*10)","v":6.1},{"$f":"OFFSET('Precios finales '!H28,0,($O$1-1)*10)","v":6.1},{"$f":"OFFSET('Precios finales '!I28,0,($O$1-1)*10)","v":6.04},{"$f":"OFFSET('Precios finales '!J28,0,($O$1-1)*10)","v":"-"},{"$f":"OFFSET('Precios finales '!K28,0,($O$1-1)*10)","v":"-"},{"$f":"OFFSET('Precios finales '!L28,0,($O$1-1)*10)","v":"-"},{"$f":"OFFSET('Precios finales '!M28,0,($O$1-1)*10)","v":"-"},{"$f":"OFFSET('Precios finales '!N28,0,($O$1-1)*10)","v":"-"},{"$f":"OFFSET('Precios finales '!O28,0,($O$1-1)*10)","v":"-"}]
[null,"Servicios ajustes del sistema",{"$f":"OFFSET('Precios finales '!F29,0,($O$1-1)*10)","v":3.76},{"$f":"OFFSET('Precios finales '!G29,0,($O$1-1)*10)","v":3.2099999999999995},{"$f":"OFFSET('Precios finales '!H29,0,($O$1-1)*10)","v":4.63},{"$f":"OFFSET('Precios finales '!I29,0,($O$1-1)*10)","v":5.58},{"$f":"OFFSET('Precios finales '!J29,0,($O$1-1)*10)","v":"-"},{"$f":"OFFSET('Precios finales '!K29,0,($O$1-1)*10)","v":"-"},{"$f":"OFFSET('Precios finales '!L29,0,($O$1-1)*10)","v":"-"},{"$f":"OFFSET('Precios finales '!M29,0,($O$1-1)*10)","v":"-"},{"$f":"OFFSET('Precios finales '!N29,0,($O$1-1)*10)","v":"-"},{"$f":"OFFSET('Precios finales '!O29,0,($O$1-1)*10)","v":"-"}]
[null,"Restricciones técnicas PDBF",{"$f":"OFFSET('Precios finales '!F30,0,($O$1-1)*10)","v":2.29},{"$f":"OFFSET('Precios finales '!G30,0,($O$1-1)*10)","v":1.85},{"$f":"OFFSET('Precios finales '!H30,0,($O$1-1)*10)","v":2.11},{"$f":"OFFSET('Precios finales '!I30,0,($O$1-1)*10)","v":2.83},{"$f":"OFFSET('Precios finales '!J30,0,($O$1-1)*10)","v":"-"},{"$f":"OFFSET('Precios finales '!K30,0,($O$1-1)*10)","v":"-"},{"$f":"OFFSET('Precios finales '!L30,0,($O$1-1)*10)","v":"-"},{"$f":"OFFSET('Precios finales '!M30,0,($O$1-1)*10)","v":"-"},{"$f":"OFFSET('Precios finales '!N30,0,($O$1-1)*10)","v":"-"},{"$f":"OFFSET('Precios finales '!O30,0,($O$1-1)*10)","v":"-"},null,null,null," "]
[null,"Banda de regulación secundaria",{"$f":"OFFSET('Precios finales '!F31,0,($O$1-1)*10)","v":0.7},{"$f":"OFFSET('Precios finales '!G31,0,($O$1-1)*10)","v":0.76},{"$f":"OFFSET('Precios finales '!H31,0,($O$1-1)*10)","v":1.37},{"$f":"OFFSET('Precios finales '!I31,0,($O$1-1)*10)","v":1.45},{"$f":"OFFSET('Precios finales '!J31,0,($O$1-1)*10)","v":"-"},{"$f":"OFFSET('Precios finales '!K31,0,($O$1-1)*10)","v":"-"},{"$f":"OFFSET('Precios finales '!L31,0,($O$1-1)*10)","v":"-"},{"$f":"OFFSET('Precios finales '!M31,0,($O$1-1)*10)","v":"-"},{"$f":"OFFSET('Precios finales '!N31,0,($O$1-1)*10)","v":"-"},{"$f":"OFFSET('Precios finales '!O31,0,($O$1-1)*10)","v":"-"}]
[null,"Reserva de potencia adicional a subir",{"$f":"OFFSET('Precios finales '!F32,0,($O$1-1)*10)","v":"-"},{"$f":"OFFSET('Precios finales '!G32,0,($O$1-1)*10)","v":0},{"$f":"OFFSET('Precios finales '!H32,0,($O$1-1)*10)","v":0.25},{"$f":"OFFSET('Precios finales '!I32,0,($O$1-1)*10)","v":0.44},{"$f":"OFFSET('Precios finales '!J32,0,($O$1-1)*10)","v":"-"},{"$f":"OFFSET('Precios finales '!K32,0,($O$1-1)*10)","v":"-"},{"$f":"OFFSET('Precios finales '!L32,0,($O$1-1)*10)","v":"-"},{"$f":"OFFSET('Precios finales '!M32,0,($O$1-1)*10)","v":"-"},{"$f":"OFFSET('Precios finales '!N32,0,($O$1-1)*10)","v":"-"},{"$f":"OFFSET('Precios finales '!O32,0,($O$1-1)*10)","v":"-"}]
[null,"Restricciones técnicas en tiempo real",{"$f":"OFFSET('Precios finales '!F33,0,($O$1-1)*10)","v":0.26},{"$f":"OFFSET('Precios finales '!G33,0,($O$1-1)*10)","v":0.24},{"$f":"OFFSET('Precios finales '!H33,0,($O$1-1)*10)","v":0.48},{"$f":"OFFSET('Precios finales '!I33,0,($O$1-1)*10)","v":0.46},{"$f":"OFFSET('Precios finales '!J33,0,($O$1-1)*10)","v":"-"},{"$f":"OFFSET('Precios finales '!K33,0,($O$1-1)*10)","v":"-"},{"$f":"OFFSET('Precios finales '!L33,0,($O$1-1)*10)","v":"-"},{"$f":"OFFSET('Precios finales '!M33,0,($O$1-1)*10)","v":"-"},{"$f":"OFFSET('Precios finales '!N33,0,($O$1-1)*10)","v":"-"},{"$f":"OFFSET('Precios finales '!O33,0,($O$1-1)*10)","v":"-"}]
[null,"Restricciones intradiario",{"$f":"OFFSET('Precios finales '!F34,0,($O$1-1)*10)","v":0},{"$f":"OFFSET('Precios finales '!G34,0,($O$1-1)*10)","v":0},{"$f":"OFFSET('Precios finales '!H34,0,($O$1-1)*10)","v":0},{"$f":"OFFSET('Precios finales '!I34,0,($O$1-1)*10)","v":0},{"$f":"OFFSET('Precios finales '!J34,0,($O$1-1)*10)","v":"-"},{"$f":"OFFSET('Precios finales '!K34,0,($O$1-1)*10)","v":"-"},{"$f":"OFFSET('Precios finales '!L34,0,($O$1-1)*10)","v":"-"},{"$f":"OFFSET('Precios finales '!M34,0,($O$1-1)*10)","v":"-"},{"$f":"OFFSET('Precios finales '!N34,0,($O$1-1)*10)","v":"-"},{"$f":"OFFSET('Precios finales '!O34,0,($O$1-1)*10)","v":"-"}]
[null,"Incumplimiento de energia de balance",{"$f":"OFFSET('Precios finales '!F35,0,($O$1-1)*10)","v":"-"},{"$f":"OFFSET('Precios finales '!G35,0,($O$1-1)*10)","v":"-"},{"$f":"OFFSET('Precios finales '!H35,0,($O$1-1)*10)","v":"-"},{"$f":"OFFSET('Precios finales '!I35,0,($O$1-1)*10)","v":"-"},{"$f":"OFFSET('Precios finales '!J35,0,($O$1-1)*10)","v":"-"},{"$f":"OFFSET('Precios finales '!K35,0,($O$1-1)*10)","v":"-"},{"$f":"OFFSET('Precios finales '!L35,0,($O$1-1)*10)","v":"-"},{"$f":"OFFSET('Precios finales '!M35,0,($O$1-1)*10)","v":"-"},{"$f":"OFFSET('Precios finales '!N35,0,($O$1-1)*10)","v":"-"},{"$f":"OFFSET('Precios finales '!O35,0,($O$1-1)*10)","v":"-"}]
[null,"Coste desvíos",{"$f":"OFFSET('Precios finales '!F36,0,($O$1-1)*10)","v":0.38},{"$f":"OFFSET('Precios finales '!G36,0,($O$1-1)*10)","v":0.33},{"$f":"OFFSET('Precios finales '!H36,0,($O$1-1)*10)","v":0.28000000000000003},{"$f":"OFFSET('Precios finales '!I36,0,($O$1-1)*10)","v":0.3},{"$f":"OFFSET('Precios finales '!J36,0,($O$1-1)*10)","v":"-"},{"$f":"OFFSET('Precios finales '!K36,0,($O$1-1)*10)","v":"-"},{"$f":"OFFSET('Precios finales '!L36,0,($O$1-1)*10)","v":"-"},{"$f":"OFFSET('Precios finales '!M36,0,($O$1-1)*10)","v":"-"},{"$f":"OFFSET('Precios finales '!N36,0,($O$1-1)*10)","v":"-"},{"$f":"OFFSET('Precios finales '!O36,0,($O$1-1)*10)","v":"-"}]
[null,"Saldo desvíos",{"$f":"OFFSET('Precios finales '!F37,0,($O$1-1)*10)","v":0.13},{"$f":"OFFSET('Precios finales '!G37,0,($O$1-1)*10)","v":0.03},{"$f":"OFFSET('Precios finales '!H37,0,($O$1-1)*10)","v":0.14000000000000001},{"$f":"OFFSET('Precios finales '!I37,0,($O$1-1)*10)","v":0.1},{"$f":"OFFSET('Precios finales '!J37,0,($O$1-1)*10)","v":"-"},{"$f":"OFFSET('Precios finales '!K37,0,($O$1-1)*10)","v":"-"},{"$f":"OFFSET('Precios finales '!L37,0,($O$1-1)*10)","v":"-"},{"$f":"OFFSET('Precios finales '!M37,0,($O$1-1)*10)","v":"-"},{"$f":"OFFSET('Precios finales '!N37,0,($O$1-1)*10)","v":"-"},{"$f":"OFFSET('Precios finales '!O37,0,($O$1-1)*10)","v":"-"}]
[null,"Control del factor de potencia",{"$f":"OFFSET('Precios finales '!F38,0,($O$1-1)*10)","v":"-"},{"$f":"OFFSET('Precios finales '!G38,0,($O$1-1)*10)","v":"-"},{"$f":"OFFSET('Precios finales '!H38,0,($O$1-1)*10)","v":"-"},{"$f":"OFFSET('Precios finales '!I38,0,($O$1-1)*10)","v":"-"},{"$f":"OFFSET('Precios finales '!J38,0,($O$1-1)*10)","v":"-"},{"$f":"OFFSET('Precios finales '!K38,0,($O$1-1)*10)","v":"-"},{"$f":"OFFSET('Precios finales '!L38,0,($O$1-1)*10)","v":"-"},{"$f":"OFFSET('Precios finales '!M38,0,($O$1-1)*10)","v":"-"},{"$f":"OFFSET('Precios finales '!N38,0,($O$1-1)*10)","v":"-"},{"$f":"OFFSET('Precios finales '!O38,0,($O$1-1)*10)","v":"-"}]
[null,"Saldo PO 14.6",{"$f":"OFFSET('Precios finales '!F39,0,($O$1-1)*10)","v":0},{"$f":"OFFSET('Precios finales '!G39,0,($O$1-1)*10)","v":0},{"$f":"OFFSET('Precios finales '!H39,0,($O$1-1)*10)","v":0},{"$f":"OFFSET('Precios finales '!I39,0,($O$1-1)*10)","v":0},{"$f":"OFFSET('Precios finales '!J39,0,($O$1-1)*10)","v":"-"},{"$f":"OFFSET('Precios finales '!K39,0,($O$1-1)*10)","v":"-"},{"$f":"OFFSET('Precios finales '!L39,0,($O$1-1)*10)","v":"-"},{"$f":"OFFSET('Precios finales '!M39,0,($O$1-1)*10)","v":"-"},{"$f":"OFFSET('Precios finales '!N39,0,($O$1-1)*10)","v":"-"},{"$f":"OFFSET('Precios finales '!O39,0,($O$1-1)*10)","v":"-"}]
[null,"Fallo nominación UPG",{"$f":"OFFSET('Precios finales '!F40,0,($O$1-1)*10)","v":0},{"$f":"OFFSET('Precios finales '!G40,0,($O$1-1)*10)","v":0},{"$f":"OFFSET('Precios finales '!H40,0,($O$1-1)*10)","v":0},{"$f":"OFFSET('Precios finales '!I40,0,($O$1-1)*10)","v":0},{"$f":"OFFSET('Precios finales '!J40,0,($O$1-1)*10)","v":"-"},{"$f":"OFFSET('Precios finales '!K40,0,($O$1-1)*10)","v":"-"},{"$f":"OFFSET('Precios finales '!L40,0,($O$1-1)*10)","v":"-"},{"$f":"OFFSET('Precios finales '!M40,0,($O$1-1)*10)","v":"-"},{"$f":"OFFSET('Precios finales '!N40,0,($O$1-1)*10)","v":"-"},{"$f":"OFFSET('Precios finales '!O40,0,($O$1-1)*10)","v":"-"}]
[null,"Precio total (€/MWh)",{"$f":"OFFSET('Precios finales '!F41,0,($O$1-1)*10)","v":45.83},{"$f":"OFFSET('Precios finales '!G41,0,($O$1-1)*10)","v":60.22},{"$f":"OFFSET('Precios finales '!H41,0,($O$1-1)*10)","v":59.57},{"$f":"OFFSET('Precios finales '!I41,0,($O$1-1)*10)","v":57.79},{"$f":"OFFSET('Precios finales '!J41,0,($O$1-1)*10)","v":"-"},{"$f":"OFFSET('Precios finales '!K41,0,($O$1-1)*10)","v":"-"},{"$f":"OFFSET('Precios finales '!L41,0,($O$1-1)*10)","v":"-"},{"$f":"OFFSET('Precios finales '!M41,0,($O$1-1)*10)","v":"-"},{"$f":"OFFSET('Precios finales '!N41,0,($O$1-1)*10)","v":"-"},{"$f":"OFFSET('Precios finales '!O41,0,($O$1-1)*10)","v":"-"}]
[null,"Energía final (GWh)",{"$f":"IF(OFFSET('Precios finales '!F42,0,($O$1-1)*10)=\"-\",\"-\",OFFSET('Precios finales '!F42,0,($O$1-1)*10)/1000)","v":259577.016741},{"$f":"IF(OFFSET('Precios finales '!G42,0,($O$1-1)*10)=\"-\",\"-\",OFFSET('Precios finales '!G42,0,($O$1-1)*10)/1000)","v":253050.142299},{"$f":"IF(OFFSET('Precios finales '!H42,0,($O$1-1)*10)=\"-\",\"-\",OFFSET('Precios finales '!H42,0,($O$1-1)*10)/1000)","v":247643.577472},{"$f":"IF(OFFSET('Precios finales '!I42,0,($O$1-1)*10)=\"-\",\"-\",OFFSET('Precios finales '!I42,0,($O$1-1)*10)/1000)","v":240660.91365},{"$f":"IF(OFFSET('Precios finales '!J42,0,($O$1-1)*10)=\"-\",\"-\",OFFSET('Precios finales '!J42,0,($O$1-1)*10)/1000)","v":"-"},{"$f":"IF(OFFSET('Precios finales '!K42,0,($O$1-1)*10)=\"-\",\"-\",OFFSET('Precios finales '!K42,0,($O$1-1)*10)/1000)","v":"-"},{"$f":"IF(OFFSET('Precios finales '!L42,0,($O$1-1)*10)=\"-\",\"-\",OFFSET('Precios finales '!L42,0,($O$1-1)*10)/1000)","v":"-"},{"$f":"IF(OFFSET('Precios finales '!M42,0,($O$1-1)*10)=\"-\",\"-\",OFFSET('Precios finales '!M42,0,($O$1-1)*10)/1000)","v":"-"},{"$f":"IF(OFFSET('Precios finales '!N42,0,($O$1-1)*10)=\"-\",\"-\",OFFSET('Precios finales '!N42,0,($O$1-1)*10)/1000)","v":"-"},{"$f":"IF(OFFSET('Precios finales '!O42,0,($O$1-1)*10)=\"-\",\"-\",OFFSET('Precios finales '!O42,0,($O$1-1)*10)/1000)","v":"-"}]

{"sheet":"Energía gestionada SA mensual","index":3,"n_rows":35,"n_cols":15,"rows_kept":35,"cut":false,"hidden":false,"merged":[]}
[null,null,null,null,null,null,null,null,null,null,null,null,null,null,4]
[]
[]
[null,null,null,null,null,null,null,null,null,null,null,"Concepto"]
[null,null,null,null,null,null,null,null,null,null,null,"Horizonte temporal"]
[null,null,null,null,null,null,null,null,null,null,null,"Periodo"]
[]
[null,null,"Ene.","Feb.","Mar.","Abr.","May.","Jun.","Jul.","Ago.","Sep.","Oct.","Nov.","Dic.",{"$f":"OFFSET(Año!B2,($O$1-1),0)","v":2013}]
[]
[null,"Subir"]
[null,"Restricciones garantía de suministro",{"$f":"OFFSET('Precios finales '!AP118,0,($O$1-1)*13)","v":"-"},{"$f":"OFFSET('Precios finales '!AQ118,0,($O$1-1)*13)","v":76.639899999999997},{"$f":"OFFSET('Precios finales '!AR118,0,($O$1-1)*13)","v":21.868400000000001},{"$f":"OFFSET('Precios finales '!AS118,0,($O$1-1)*13)","v":42.463300000000004},{"$f":"OFFSET('Precios finales '!AT118,0,($O$1-1)*13)","v":283.62040000000002},{"$f":"OFFSET('Precios finales '!AU118,0,($O$1-1)*13)","v":739.9203},{"$f":"OFFSET('Precios finales '!AV118,0,($O$1-1)*13)","v":741.81040000000007},{"$f":"OFFSET('Precios finales '!AW118,0,($O$1-1)*13)","v":862.36159999999995},{"$f":"OFFSET('Precios finales '!AX118,0,($O$1-1)*13)","v":696.41459999999995},{"$f":"OFFSET('Precios finales '!AY118,0,($O$1-1)*13)","v":344.07900000000001},{"$f":"OFFSET('Precios finales '!AZ118,0,($O$1-1)*13)","v":226.11539999999999},{"$f":"OFFSET('Precios finales '!BA118,0,($O$1-1)*13)","v":50.093400000000003},{"$f":"OFFSET('Precios finales '!BB118,0,($O$1-1)*13)","v":4085.3867000000005}]
[null,"Restricciones técnicas al PDBF",{"$f":"OFFSET('Precios finales '!AP119,0,($O$1-1)*13)","v":422.77929999999998},{"$f":"OFFSET('Precios finales '!AQ119,0,($O$1-1)*13)","v":578.4982},{"$f":"OFFSET('Precios finales '!AR119,0,($O$1-1)*13)","v":1034.7455},{"$f":"OFFSET('Precios finales '!AS119,0,($O$1-1)*13)","v":1006.4628},{"$f":"OFFSET('Precios finales '!AT119,0,($O$1-1)*13)","v":944.24590000000001},{"$f":"OFFSET('Precios finales '!AU119,0,($O$1-1)*13)","v":762.76099999999997},{"$f":"OFFSET('Precios finales '!AV119,0,($O$1-1)*13)","v":202.0059},{"$f":"OFFSET('Precios finales '!AW119,0,($O$1-1)*13)","v":199.38739999999999},{"$f":"OFFSET('Precios finales '!AX119,0,($O$1-1)*13)","v":210.84649999999999},{"$f":"OFFSET('Precios finales '!AY119,0,($O$1-1)*13)","v":563.00169999999991},{"$f":"OFFSET('Precios finales '!AZ119,0,($O$1-1)*13)","v":630.27750000000003},{"$f":"OFFSET('Precios finales '!BA119,0,($O$1-1)*13)","v":684.78980000000001},{"$f":"OFFSET('Precios finales '!BB119,0,($O$1-1)*13)","v":7239.8014999999996}]
[null,"Regulación secundaria",{"$f":"OFFSET('Precios finales '!AP120,0,($O$1-1)*13)","v":171.79729699999999},{"$f":"OFFSET('Precios finales '!AQ120,0,($O$1-1)*13)","v":146.23201299999999},{"$f":"OFFSET('Precios finales '!AR120,0,($O$1-1)*13)","v":176.833415},{"$f":"OFFSET('Precios finales '!AS120,0,($O$1-1)*13)","v":192.20975799999999},{"$f":"OFFSET('Precios finales '!AT120,0,($O$1-1)*13)","v":170.30642600000002},{"$f":"OFFSET('Precios finales '!AU120,0,($O$1-1)*13)","v":149.06502499999999},{"$f":"OFFSET('Precios finales '!AV120,0,($O$1-1)*13)","v":124.773447},{"$f":"OFFSET('Precios finales '!AW120,0,($O$1-1)*13)","v":125.84460199999999},{"$f":"OFFSET('Precios finales '!AX120,0,($O$1-1)*13)","v":111.60823500000001},{"$f":"OFFSET('Precios finales '!AY120,0,($O$1-1)*13)","v":133.01477199999999},{"$f":"OFFSET('Precios finales '!AZ120,0,($O$1-1)*13)","v":153.51644200000001},{"$f":"OFFSET('Precios finales '!BA120,0,($O$1-1)*13)","v":150.42656200000002},{"$f":"OFFSET('Precios finales '!BB120,0,($O$1-1)*13)","v":1805.6279939999999}]
[null,"Regulación terciaria",{"$f":"OFFSET('Precios finales '!AP121,0,($O$1-1)*13)","v":321.34790000000004},{"$f":"OFFSET('Precios finales '!AQ121,0,($O$1-1)*13)","v":357.91020000000003},{"$f":"OFFSET('Precios finales '!AR121,0,($O$1-1)*13)","v":221.20699999999999},{"$f":"OFFSET('Precios finales '!AS121,0,($O$1-1)*13)","v":187.1326},{"$f":"OFFSET('Precios finales '!AT121,0,($O$1-1)*13)","v":252.4547},{"$f":"OFFSET('Precios finales '!AU121,0,($O$1-1)*13)","v":215.8065},{"$f":"OFFSET('Precios finales '!AV121,0,($O$1-1)*13)","v":298.54990000000004},{"$f":"OFFSET('Precios finales '!AW121,0,($O$1-1)*13)","v":307.22359999999998},{"$f":"OFFSET('Precios finales '!AX121,0,($O$1-1)*13)","v":235.2833},{"$f":"OFFSET('Precios finales '!AY121,0,($O$1-1)*13)","v":274.08670000000001},{"$f":"OFFSET('Precios finales '!AZ121,0,($O$1-1)*13)","v":305.58780000000002},{"$f":"OFFSET('Precios finales '!BA121,0,($O$1-1)*13)","v":353.71600000000001},{"$f":"OFFSET('Precios finales '!BB121,0,($O$1-1)*13)","v":3330.3061999999995}]
[null,"Gestión de desvíos",{"$f":"OFFSET('Precios finales '!AP122,0,($O$1-1)*13)","v":219.4743},{"$f":"OFFSET('Precios finales '!AQ122,0,($O$1-1)*13)","v":231.1867},{"$f":"OFFSET('Precios finales '!AR122,0,($O$1-1)*13)","v":173.43520000000001},{"$f":"OFFSET('Precios finales '!AS122,0,($O$1-1)*13)","v":91.917400000000001},{"$f":"OFFSET('Precios finales '!AT122,0,($O$1-1)*13)","v":121.3096},{"$f":"OFFSET('Precios finales '!AU122,0,($O$1-1)*13)","v":113.4507},{"$f":"OFFSET('Precios finales '!AV122,0,($O$1-1)*13)","v":140.9461},{"$f":"OFFSET('Precios finales '!AW122,0,($O$1-1)*13)","v":235.16920000000002},{"$f":"OFFSET('Precios finales '!AX122,0,($O$1-1)*13)","v":113.08810000000001},{"$f":"OFFSET('Precios finales '!AY122,0,($O$1-1)*13)","v":145.90539999999999},{"$f":"OFFSET('Precios finales '!AZ122,0,($O$1-1)*13)","v":374.12559999999996},{"$f":"OFFSET('Precios finales '!BA122,0,($O$1-1)*13)","v":386.66759999999999},{"$f":"OFFSET('Precios finales '!BB122,0,($O$1-1)*13)","v":2346.6759000000002}]
[null,"Restricciones en tiempo real ",{"$f":"OFFSET('Precios finales '!AP123,0,($O$1-1)*13)","v":41.3003},{"$f":"OFFSET('Precios finales '!AQ123,0,($O$1-1)*13)","v":29.834099999999999},{"$f":"OFFSET('Precios finales '!AR123,0,($O$1-1)*13)","v":92.657499999999999},{"$f":"OFFSET('Precios finales '!AS123,0,($O$1-1)*13)","v":95.014699999999991},{"$f":"OFFSET('Precios finales '!AT123,0,($O$1-1)*13)","v":33.741800000000005},{"$f":"OFFSET('Precios finales '!AU123,0,($O$1-1)*13)","v":27.040900000000001},{"$f":"OFFSET('Precios finales '!AV123,0,($O$1-1)*13)","v":16.872900000000001},{"$f":"OFFSET('Precios finales '!AW123,0,($O$1-1)*13)","v":47.549100000000003},{"$f":"OFFSET('Precios finales '!AX123,0,($O$1-1)*13)","v":34.831199999999995},{"$f":"OFFSET('Precios finales '!AY123,0,($O$1-1)*13)","v":45.701500000000003},{"$f":"OFFSET('Precios finales '!AZ123,0,($O$1-1)*13)","v":53.030099999999997},{"$f":"OFFSET('Precios finales '!BA123,0,($O$1-1)*13)","v":40.758000000000003},{"$f":"OFFSET('Precios finales '!BB123,0,($O$1-1)*13)","v":558.33210000000008}]
[null,"Energía a subir",{"$f":"IF(SUM(C11:C16)=0,\"-\",SUM(C11:C16))","v":1176.6990970000002},{"$f":"IF(SUM(D11:D16)=0,\"-\",SUM(D11:D16))","v":1420.301113},{"$f":"IF(SUM(E11:E16)=0,\"-\",SUM(E11:E16))","v":1720.7470150000001},{"$f":"IF(SUM(F11:F16)=0,\"-\",SUM(F11:F16))","v":1615.200558},{"$f":"IF(SUM(G11:G16)=0,\"-\",SUM(G11:G16))","v":1805.6788260000003},{"$f":"IF(SUM(H11:H16)=0,\"-\",SUM(H11:H16))","v":2008.044425},{"$f":"IF(SUM(I11:I16)=0,\"-\",SUM(I11:I16))","v":1524.9586470000002},{"$f":"IF(SUM(J11:J16)=0,\"-\",SUM(J11:J16))","v":1777.535502},1402.0719349999999,1505.7890719999998,1742.652842,1666.451362,{"$f":"SUM(O11:O16)","v":19366.130394}]
[]
[null,"Bajar"]
[null,"Restricciones garantía de suministro",{"$f":"OFFSET('Precios finales '!AP126,0,($O$1-1)*13)","v":"-"},{"$f":"OFFSET('Precios finales '!AQ126,0,($O$1-1)*13)","v":"-"},{"$f":"OFFSET('Precios finales '!AR126,0,($O$1-1)*13)","v":"-"},{"$f":"OFFSET('Precios finales '!AS126,0,($O$1-1)*13)","v":"-"},{"$f":"OFFSET('Precios finales '!AT126,0,($O$1-1)*13)","v":"-"},{"$f":"OFFSET('Precios finales '!AU126,0,($O$1-1)*13)","v":"-"},{"$f":"OFFSET('Precios finales '!AV126,0,($O$1-1)*13)","v":"-"},{"$f":"OFFSET('Precios finales '!AW126,0,($O$1-1)*13)","v":"-"},{"$f":"OFFSET('Precios finales '!AX126,0,($O$1-1)*13)","v":"-"},{"$f":"OFFSET('Precios finales '!AY126,0,($O$1-1)*13)","v":"-"},{"$f":"OFFSET('Precios finales '!AZ126,0,($O$1-1)*13)","v":"-"},{"$f":"OFFSET('Precios finales '!BA126,0,($O$1-1)*13)","v":"-"},{"$f":"OFFSET('Precios finales '!BB126,0,($O$1-1)*13)","v":"-"}]
[null,"Restricciones técnicas al PDBF",{"$f":"OFFSET('Precios finales '!AP127,0,($O$1-1)*13)","v":4.8517999999999999},{"$f":"OFFSET('Precios finales '!AQ127,0,($O$1-1)*13)","v":0.64879999999999993},{"$f":"OFFSET('Precios finales '!AR127,0,($O$1-1)*13)","v":1.6876},{"$f":"OFFSET('Precios finales '!AS127,0,($O$1-1)*13)","v":0.45729999999999998},{"$f":"OFFSET('Precios finales '!AT127,0,($O$1-1)*13)","v":1.4307000000000001},{"$f":"OFFSET('Precios finales '!AU127,0,($O$1-1)*13)","v":6.0181000000000004},{"$f":"OFFSET('Precios finales '!AV127,0,($O$1-1)*13)","v":27.627200000000002},{"$f":"OFFSET('Precios finales '!AW127,0,($O$1-1)*13)","v":56.895099999999999},{"$f":"OFFSET('Precios finales '!AX127,0,($O$1-1)*13)","v":26.092400000000001},{"$f":"OFFSET('Precios finales '!AY127,0,($O$1-1)*13)","v":23.398799999999998},{"$f":"OFFSET('Precios finales '!AZ127,0,($O$1-1)*13)","v":2.2016},{"$f":"OFFSET('Precios finales '!BA127,0,($O$1-1)*13)","v":42.038699999999999},{"$f":"OFFSET('Precios finales '!BB127,0,($O$1-1)*13)","v":193.34809999999999}]
[null,"Regulación secundaria",{"$f":"OFFSET('Precios finales '!AP128,0,($O$1-1)*13)","v":94.286029999999997},{"$f":"OFFSET('Precios finales '!AQ128,0,($O$1-1)*13)","v":81.404216000000005},{"$f":"OFFSET('Precios finales '!AR128,0,($O$1-1)*13)","v":98.453812999999997},{"$f":"OFFSET('Precios finales '!AS128,0,($O$1-1)*13)","v":86.494074999999995},{"$f":"OFFSET('Precios finales '!AT128,0,($O$1-1)*13)","v":76.518190000000004},{"$f":"OFFSET('Precios finales '!AU128,0,($O$1-1)*13)","v":77.887855000000002},{"$f":"OFFSET('Precios finales '!AV128,0,($O$1-1)*13)","v":87.973297000000002},{"$f":"OFFSET('Precios finales '!AW128,0,($O$1-1)*13)","v":92.756681},{"$f":"OFFSET('Precios finales '!AX128,0,($O$1-1)*13)","v":100.82392400000001},{"$f":"OFFSET('Precios finales '!AY128,0,($O$1-1)*13)","v":101.598428},{"$f":"OFFSET('Precios finales '!AZ128,0,($O$1-1)*13)","v":84.130255000000005},{"$f":"OFFSET('Precios finales '!BA128,0,($O$1-1)*13)","v":87.995928000000006},{"$f":"OFFSET('Precios finales '!BB128,0,($O$1-1)*13)","v":1070.322692}]
[null,"Regulación terciaria",{"$f":"OFFSET('Precios finales '!AP129,0,($O$1-1)*13)","v":220.85070000000002},{"$f":"OFFSET('Precios finales '!AQ129,0,($O$1-1)*13)","v":135.4076},{"$f":"OFFSET('Precios finales '!AR129,0,($O$1-1)*13)","v":208.66979999999998},{"$f":"OFFSET('Precios finales '!AS129,0,($O$1-1)*13)","v":170.53970000000001},{"$f":"OFFSET('Precios finales '!AT129,0,($O$1-1)*13)","v":153.6566},{"$f":"OFFSET('Precios finales '!AU129,0,($O$1-1)*13)","v":152.21260000000001},{"$f":"OFFSET('Precios finales '!AV129,0,($O$1-1)*13)","v":129.52619999999999},{"$f":"OFFSET('Precios finales '!AW129,0,($O$1-1)*13)","v":93.740399999999994},{"$f":"OFFSET('Precios finales '!AX129,0,($O$1-1)*13)","v":126.33019999999999},{"$f":"OFFSET('Precios finales '!AY129,0,($O$1-1)*13)","v":192.60300000000001},{"$f":"OFFSET('Precios finales '!AZ129,0,($O$1-1)*13)","v":103.0528},{"$f":"OFFSET('Precios finales '!BA129,0,($O$1-1)*13)","v":125.0324},{"$f":"OFFSET('Precios finales '!BB129,0,($O$1-1)*13)","v":1811.6219999999998}]
[null,"Gestión de desvíos",{"$f":"OFFSET('Precios finales '!AP130,0,($O$1-1)*13)","v":181.83459999999999},{"$f":"OFFSET('Precios finales '!AQ130,0,($O$1-1)*13)","v":90.775100000000009},{"$f":"OFFSET('Precios finales '!AR130,0,($O$1-1)*13)","v":112.4418},{"$f":"OFFSET('Precios finales '!AS130,0,($O$1-1)*13)","v":124.32719999999999},{"$f":"OFFSET('Precios finales '!AT130,0,($O$1-1)*13)","v":51.113599999999998},{"$f":"OFFSET('Precios finales '!AU130,0,($O$1-1)*13)","v":58.682600000000001},{"$f":"OFFSET('Precios finales '!AV130,0,($O$1-1)*13)","v":58.374000000000002},{"$f":"OFFSET('Precios finales '!AW130,0,($O$1-1)*13)","v":9.6},{"$f":"OFFSET('Precios finales '!AX130,0,($O$1-1)*13)","v":34.451300000000003},{"$f":"OFFSET('Precios finales '!AY130,0,($O$1-1)*13)","v":110.13719999999999},{"$f":"OFFSET('Precios finales '!AZ130,0,($O$1-1)*13)","v":28.9923},{"$f":"OFFSET('Precios finales '!BA130,0,($O$1-1)*13)","v":44.270199999999996},{"$f":"OFFSET('Precios finales '!BB130,0,($O$1-1)*13)","v":904.99990000000014}]
[null,"Restricciones en tiempo real",{"$f":"OFFSET('Precios finales '!AP131,0,($O$1-1)*13)","v":99.4863},{"$f":"OFFSET('Precios finales '!AQ131,0,($O$1-1)*13)","v":58.030099999999997},{"$f":"OFFSET('Precios finales '!AR131,0,($O$1-1)*13)","v":544.5603000000001},{"$f":"OFFSET('Precios finales '!AS131,0,($O$1-1)*13)","v":559.52290000000005},{"$f":"OFFSET('Precios finales '!AT131,0,($O$1-1)*13)","v":76.331800000000001},{"$f":"OFFSET('Precios finales '!AU131,0,($O$1-1)*13)","v":61.548900000000003},{"$f":"OFFSET('Precios finales '!AV131,0,($O$1-1)*13)","v":13.886600000000001},{"$f":"OFFSET('Precios finales '!AW131,0,($O$1-1)*13)","v":50.900199999999998},{"$f":"OFFSET('Precios finales '!AX131,0,($O$1-1)*13)","v":13.206799999999999},{"$f":"OFFSET('Precios finales '!AY131,0,($O$1-1)*13)","v":45.131599999999999},{"$f":"OFFSET('Precios finales '!AZ131,0,($O$1-1)*13)","v":60.625800000000005},{"$f":"OFFSET('Precios finales '!BA131,0,($O$1-1)*13)","v":118.23439999999999},{"$f":"OFFSET('Precios finales '!BB131,0,($O$1-1)*13)","v":1701.4657}]
[null,"Energía a Bajar",{"$f":"IF(SUM(C20:C25)=0,\"-\",SUM(C20:C25))","v":601.30943000000002},{"$f":"IF(SUM(D20:D25)=0,\"-\",SUM(D20:D25))","v":366.26581600000003},{"$f":"IF(SUM(E20:E25)=0,\"-\",SUM(E20:E25))","v":965.81331300000011},{"$f":"IF(SUM(F20:F25)=0,\"-\",SUM(F20:F25))","v":941.34117500000002},{"$f":"IF(SUM(G20:G25)=0,\"-\",SUM(G20:G25))","v":359.05088999999998},{"$f":"IF(SUM(H20:H25)=0,\"-\",SUM(H20:H25))","v":356.350055},{"$f":"IF(SUM(I20:I25)=0,\"-\",SUM(I20:I25))","v":317.38729699999999},{"$f":"IF(SUM(J20:J25)=0,\"-\",SUM(J20:J25))","v":303.892381},{"$f":"IF(SUM(K20:K25)=0,\"-\",SUM(K20:K25))","v":300.90462399999996},{"$f":"IF(SUM(L20:L25)=0,\"-\",SUM(L20:L25))","v":472.86902800000001},{"$f":"IF(SUM(M20:M25)=0,\"-\",SUM(M20:M25))","v":279.00275500000004},{"$f":"IF(SUM(N20:N25)=0,\"-\",SUM(N20:N25))","v":417.57162799999998},{"$f":"SUM(O20:O25)","v":5681.7583919999997}]
[]
[null,"Volumen"]
[null,"Restricciones garantía de suministro",{"$f":"OFFSET('Precios finales '!AP134,0,($O$1-1)*13)","v":"-"},{"$f":"OFFSET('Precios finales '!AQ134,0,($O$1-1)*13)","v":76.639899999999997},{"$f":"OFFSET('Precios finales '!AR134,0,($O$1-1)*13)","v":21.868400000000001},{"$f":"OFFSET('Precios finales '!AS134,0,($O$1-1)*13)","v":42.463300000000004},{"$f":"OFFSET('Precios finales '!AT134,0,($O$1-1)*13)","v":283.62040000000002},{"$f":"OFFSET('Precios finales '!AU134,0,($O$1-1)*13)","v":739.9203},{"$f":"OFFSET('Precios finales '!AV134,0,($O$1-1)*13)","v":741.81040000000007},{"$f":"OFFSET('Precios finales '!AW134,0,($O$1-1)*13)","v":862.36159999999995},{"$f":"OFFSET('Precios finales '!AX134,0,($O$1-1)*13)","v":696.41459999999995},{"$f":"OFFSET('Precios finales '!AY134,0,($O$1-1)*13)","v":344.07900000000001},{"$f":"OFFSET('Precios finales '!AZ134,0,($O$1-1)*13)","v":226.11539999999999},{"$f":"OFFSET('Precios finales '!BA134,0,($O$1-1)*13)","v":50.093400000000003},{"$f":"OFFSET('Precios finales '!BB134,0,($O$1-1)*13)","v":4085.3867000000005}]
[null,"Restricciones técnicas al PDBF",{"$f":"OFFSET('Precios finales '!AP135,0,($O$1-1)*13)","v":427.6311},{"$f":"OFFSET('Precios finales '!AQ135,0,($O$1-1)*13)","v":579.14700000000005},{"$f":"OFFSET('Precios finales '!AR135,0,($O$1-1)*13)","v":1036.4331},{"$f":"OFFSET('Precios finales '!AS135,0,($O$1-1)*13)","v":1006.9201},{"$f":"OFFSET('Precios finales '!AT135,0,($O$1-1)*13)","v":945.67660000000001},{"$f":"OFFSET('Precios finales '!AU135,0,($O$1-1)*13)","v":768.77909999999997},{"$f":"OFFSET('Precios finales '!AV135,0,($O$1-1)*13)","v":229.63310000000001},{"$f":"OFFSET('Precios finales '!AW135,0,($O$1-1)*13)","v":256.28249999999997},{"$f":"OFFSET('Precios finales '!AX135,0,($O$1-1)*13)","v":236.93889999999999},{"$f":"OFFSET('Precios finales '!AY135,0,($O$1-1)*13)","v":586.40049999999997},{"$f":"OFFSET('Precios finales '!AZ135,0,($O$1-1)*13)","v":632.47910000000002},{"$f":"OFFSET('Precios finales '!BA135,0,($O$1-1)*13)","v":726.82849999999996},{"$f":"OFFSET('Precios finales '!BB135,0,($O$1-1)*13)","v":7433.1495999999997}]
[null,"Regulación secundaria",{"$f":"OFFSET('Precios finales '!AP136,0,($O$1-1)*13)","v":266.083327},{"$f":"OFFSET('Precios finales '!AQ136,0,($O$1-1)*13)","v":227.63622900000001},{"$f":"OFFSET('Precios finales '!AR136,0,($O$1-1)*13)","v":275.28722800000003},{"$f":"OFFSET('Precios finales '!AS136,0,($O$1-1)*13)","v":278.70383299999997},{"$f":"OFFSET('Precios finales '!AT136,0,($O$1-1)*13)","v":246.82461600000002},{"$f":"OFFSET('Precios finales '!AU136,0,($O$1-1)*13)","v":226.95287999999999},{"$f":"OFFSET('Precios finales '!AV136,0,($O$1-1)*13)","v":212.74674400000001},{"$f":"OFFSET('Precios finales '!AW136,0,($O$1-1)*13)","v":218.601283},{"$f":"OFFSET('Precios finales '!AX136,0,($O$1-1)*13)","v":212.43215900000001},{"$f":"OFFSET('Precios finales '!AY136,0,($O$1-1)*13)","v":234.61320000000001},{"$f":"OFFSET('Precios finales '!AZ136,0,($O$1-1)*13)","v":237.64669700000002},{"$f":"OFFSET('Precios finales '!BA136,0,($O$1-1)*13)","v":238.42249000000004},{"$f":"OFFSET('Precios finales '!BB136,0,($O$1-1)*13)","v":2875.9506860000001}]
[null,"Regulación terciaria",{"$f":"OFFSET('Precios finales '!AP137,0,($O$1-1)*13)","v":542.19860000000006},{"$f":"OFFSET('Precios finales '!AQ137,0,($O$1-1)*13)","v":493.31780000000003},{"$f":"OFFSET('Precios finales '!AR137,0,($O$1-1)*13)","v":429.8768},{"$f":"OFFSET('Precios finales '!AS137,0,($O$1-1)*13)","v":357.67230000000001},{"$f":"OFFSET('Precios finales '!AT137,0,($O$1-1)*13)","v":406.11130000000003},{"$f":"OFFSET('Precios finales '!AU137,0,($O$1-1)*13)","v":368.01909999999998},{"$f":"OFFSET('Precios finales '!AV137,0,($O$1-1)*13)","v":428.0761},{"$f":"OFFSET('Precios finales '!AW137,0,($O$1-1)*13)","v":400.96399999999994},{"$f":"OFFSET('Precios finales '!AX137,0,($O$1-1)*13)","v":361.61349999999999},{"$f":"OFFSET('Precios finales '!AY137,0,($O$1-1)*13)","v":466.68970000000002},{"$f":"OFFSET('Precios finales '!AZ137,0,($O$1-1)*13)","v":408.64060000000001},{"$f":"OFFSET('Precios finales '!BA137,0,($O$1-1)*13)","v":478.7484},{"$f":"OFFSET('Precios finales '!BB137,0,($O$1-1)*13)","v":5141.9281999999994}]
[null,"Gestión de desvíos",{"$f":"OFFSET('Precios finales '!AP138,0,($O$1-1)*13)","v":401.30889999999999},{"$f":"OFFSET('Precios finales '!AQ138,0,($O$1-1)*13)","v":321.96180000000004},{"$f":"OFFSET('Precios finales '!AR138,0,($O$1-1)*13)","v":285.87700000000001},{"$f":"OFFSET('Precios finales '!AS138,0,($O$1-1)*13)","v":216.24459999999999},{"$f":"OFFSET('Precios finales '!AT138,0,($O$1-1)*13)","v":172.42320000000001},{"$f":"OFFSET('Precios finales '!AU138,0,($O$1-1)*13)","v":172.13329999999999},{"$f":"OFFSET('Precios finales '!AV138,0,($O$1-1)*13)","v":199.3201},{"$f":"OFFSET('Precios finales '!AW138,0,($O$1-1)*13)","v":244.76920000000001},{"$f":"OFFSET('Precios finales '!AX138,0,($O$1-1)*13)","v":147.5394},{"$f":"OFFSET('Precios finales '!AY138,0,($O$1-1)*13)","v":256.04259999999999},{"$f":"OFFSET('Precios finales '!AZ138,0,($O$1-1)*13)","v":403.11789999999996},{"$f":"OFFSET('Precios finales '!BA138,0,($O$1-1)*13)","v":430.93779999999998},{"$f":"OFFSET('Precios finales '!BB138,0,($O$1-1)*13)","v":3251.6758000000004}]
[null,"Restricciones en tiempo real",{"$f":"OFFSET('Precios finales '!AP139,0,($O$1-1)*13)","v":140.78659999999999},{"$f":"OFFSET('Precios finales '!AQ139,0,($O$1-1)*13)","v":87.864199999999997},{"$f":"OFFSET('Precios finales '!AR139,0,($O$1-1)*13)","v":637.21780000000012},{"$f":"OFFSET('Precios finales '!AS139,0,($O$1-1)*13)","v":654.5376},{"$f":"OFFSET('Precios finales '!AT139,0,($O$1-1)*13)","v":110.0736},{"$f":"OFFSET('Precios finales '!AU139,0,($O$1-1)*13)","v":88.589799999999997},{"$f":"OFFSET('Precios finales '!AV139,0,($O$1-1)*13)","v":30.759500000000003},{"$f":"OFFSET('Precios finales '!AW139,0,($O$1-1)*13)","v":98.449299999999994},{"$f":"OFFSET('Precios finales '!AX139,0,($O$1-1)*13)","v":48.037999999999997},{"$f":"OFFSET('Precios finales '!AY139,0,($O$1-1)*13)","v":90.833100000000002},{"$f":"OFFSET('Precios finales '!AZ139,0,($O$1-1)*13)","v":113.6559},{"$f":"OFFSET('Precios finales '!BA139,0,($O$1-1)*13)","v":158.9924},{"$f":"OFFSET('Precios finales '!BB139,0,($O$1-1)*13)","v":2259.7978000000003}]
[null,"Volumen total de energía",{"$f":"IF(SUM(C29:C34)=0,\"-\",SUM(C29:C34))","v":1778.008527},{"$f":"IF(SUM(D29:D34)=0,\"-\",SUM(D29:D34))","v":1786.5669290000001},{"$f":"IF(SUM(E29:E34)=0,\"-\",SUM(E29:E34))","v":2686.5603280000005},{"$f":"IF(SUM(F29:F34)=0,\"-\",SUM(F29:F34))","v":2556.541733},{"$f":"IF(SUM(G29:G34)=0,\"-\",SUM(G29:G34))","v":2164.7297160000003},{"$f":"IF(SUM(H29:H34)=0,\"-\",SUM(H29:H34))","v":2364.3944799999999},{"$f":"IF(SUM(I29:I34)=0,\"-\",SUM(I29:I34))","v":1842.3459440000001},{"$f":"IF(SUM(J29:J34)=0,\"-\",SUM(J29:J34))","v":2081.4278829999998},{"$f":"IF(SUM(K29:K34)=0,\"-\",SUM(K29:K34))","v":1702.9765589999997},{"$f":"IF(SUM(L29:L34)=0,\"-\",SUM(L29:L34))","v":1978.6581000000001},{"$f":"IF(SUM(M29:M34)=0,\"-\",SUM(M29:M34))","v":2021.6555969999999},{"$f":"IF(SUM(N29:N34)=0,\"-\",SUM(N29:N34))","v":2084.0229899999999},{"$f":"SUM(O29:O34)","v":25047.888786}]

{"sheet":"Energía gestionada SA anual","index":4,"n_rows":35,"n_cols":15,"rows_kept":35,"cut":false,"hidden":false,"merged":[]}
[null,null,null,null,null,null,null,null,null,null,null,null,null,null,1]
[]
[]
[null,null,null,null,null,null,null,null,"Concepto"]
[null,null,null,null,null,null,null,null,"Horizonte temporal"]
[null,null,null,null,null,null,null,null,"Periodo"]
[]
[null,null,{"$f":"OFFSET('Precios finales '!F24,0,($O$1-1)*10)","v":2010},{"$f":"OFFSET('Precios finales '!G24,0,($O$1-1)*10)","v":2011},{"$f":"OFFSET('Precios finales '!H24,0,($O$1-1)*10)","v":2012},{"$f":"OFFSET('Precios finales '!I24,0,($O$1-1)*10)","v":2013},{"$f":"OFFSET('Precios finales '!J24,0,($O$1-1)*10)","v":2014},{"$f":"OFFSET('Precios finales '!K24,0,($O$1-1)*10)","v":2015},{"$f":"OFFSET('Precios finales '!L24,0,($O$1-1)*10)","v":2016},{"$f":"OFFSET('Precios finales '!M24,0,($O$1-1)*10)","v":2017},{"$f":"OFFSET('Precios finales '!N24,0,($O$1-1)*10)","v":2018},{"$f":"OFFSET('Precios finales '!O24,0,($O$1-1)*10)","v":2019}]
[null,null,{"$f":"OFFSET('Precios finales '!C25,0,($O$1-1)*10)","v":0},{"$f":"OFFSET('Precios finales '!D25,0,($O$1-1)*10)","v":0},{"$f":"OFFSET('Precios finales '!E25,0,($O$1-1)*10)","v":0},{"$f":"OFFSET('Precios finales '!F25,0,($O$1-1)*10)","v":38.46},{"$f":"OFFSET('Precios finales '!G25,0,($O$1-1)*10)","v":50.97},{"$f":"OFFSET('Precios finales '!H25,0,($O$1-1)*10)","v":48.88},{"$f":"OFFSET('Precios finales '!I25,0,($O$1-1)*10)","v":46.23},{"$f":"OFFSET('Precios finales '!J25,0,($O$1-1)*10)","v":"-"},{"$f":"OFFSET('Precios finales '!K25,0,($O$1-1)*10)","v":"-"},{"$f":"OFFSET('Precios finales '!L25,0,($O$1-1)*10)","v":"-"}]
[null,"Subir"]
[null,"Restricciones garantía de suministro",{"$f":"OFFSET('Precios finales '!F145,0,($O$1-1)*10)","v":"-"},{"$f":"OFFSET('Precios finales '!G145,0,($O$1-1)*10)","v":12773.194900000002},{"$f":"OFFSET('Precios finales '!H145,0,($O$1-1)*10)","v":12008.1666},{"$f":"OFFSET('Precios finales '!I145,0,($O$1-1)*10)","v":4085.3867000000005},{"$f":"OFFSET('Precios finales '!J145,0,($O$1-1)*10)","v":"-"},{"$f":"OFFSET('Precios finales '!K145,0,($O$1-1)*10)","v":"-"},{"$f":"OFFSET('Precios finales '!L145,0,($O$1-1)*10)","v":"-"},{"$f":"OFFSET('Precios finales '!M145,0,($O$1-1)*10)","v":"-"},{"$f":"OFFSET('Precios finales '!N145,0,($O$1-1)*10)","v":"-"},{"$f":"OFFSET('Precios finales '!O145,0,($O$1-1)*10)","v":"-"}]
[null,"Restricciones técnicas al PDBF",{"$f":"OFFSET('Precios finales '!F146,0,($O$1-1)*10)","v":12509.2726},{"$f":"OFFSET('Precios finales '!G146,0,($O$1-1)*10)","v":9997.6437999999998},{"$f":"OFFSET('Precios finales '!H146,0,($O$1-1)*10)","v":6162.0610999999999},{"$f":"OFFSET('Precios finales '!I146,0,($O$1-1)*10)","v":7239.8014999999996},{"$f":"OFFSET('Precios finales '!J146,0,($O$1-1)*10)","v":"-"},{"$f":"OFFSET('Precios finales '!K146,0,($O$1-1)*10)","v":"-"},{"$f":"OFFSET('Precios finales '!L146,0,($O$1-1)*10)","v":"-"},{"$f":"OFFSET('Precios finales '!M146,0,($O$1-1)*10)","v":"-"},{"$f":"OFFSET('Precios finales '!N146,0,($O$1-1)*10)","v":"-"},{"$f":"OFFSET('Precios finales '!O146,0,($O$1-1)*10)","v":"-"}]
[null,"Regulación secundaria",{"$f":"OFFSET('Precios finales '!F147,0,($O$1-1)*10)","v":1165.0906299999999},{"$f":"OFFSET('Precios finales '!G147,0,($O$1-1)*10)","v":1212.5075409999999},{"$f":"OFFSET('Precios finales '!H147,0,($O$1-1)*10)","v":1510.36508},{"$f":"OFFSET('Precios finales '!I147,0,($O$1-1)*10)","v":1805.6279939999999},{"$f":"OFFSET('Precios finales '!J147,0,($O$1-1)*10)","v":"-"},{"$f":"OFFSET('Precios finales '!K147,0,($O$1-1)*10)","v":"-"},{"$f":"OFFSET('Precios finales '!L147,0,($O$1-1)*10)","v":"-"},{"$f":"OFFSET('Precios finales '!M147,0,($O$1-1)*10)","v":"-"},{"$f":"OFFSET('Precios finales '!N147,0,($O$1-1)*10)","v":"-"},{"$f":"OFFSET('Precios finales '!O147,0,($O$1-1)*10)","v":"-"}]
[null,"Regulación terciaria",{"$f":"OFFSET('Precios finales '!F148,0,($O$1-1)*10)","v":2725.7446000000004},{"$f":"OFFSET('Precios finales '!G148,0,($O$1-1)*10)","v":2693.8276999999998},{"$f":"OFFSET('Precios finales '!H148,0,($O$1-1)*10)","v":2991.6151999999997},{"$f":"OFFSET('Precios finales '!I148,0,($O$1-1)*10)","v":3330.3061999999995},{"$f":"OFFSET('Precios finales '!J148,0,($O$1-1)*10)","v":"-"},{"$f":"OFFSET('Precios finales '!K148,0,($O$1-1)*10)","v":"-"},{"$f":"OFFSET('Precios finales '!L148,0,($O$1-1)*10)","v":"-"},{"$f":"OFFSET('Precios finales '!M148,0,($O$1-1)*10)","v":"-"},{"$f":"OFFSET('Precios finales '!N148,0,($O$1-1)*10)","v":"-"},{"$f":"OFFSET('Precios finales '!O148,0,($O$1-1)*10)","v":"-"}]
[null,"Gestión de desvíos",{"$f":"OFFSET('Precios finales '!F149,0,($O$1-1)*10)","v":2198.4272000000005},{"$f":"OFFSET('Precios finales '!G149,0,($O$1-1)*10)","v":1774.5752999999997},{"$f":"OFFSET('Precios finales '!H149,0,($O$1-1)*10)","v":2658.2958999999996},{"$f":"OFFSET('Precios finales '!I149,0,($O$1-1)*10)","v":2346.6759000000002},{"$f":"OFFSET('Precios finales '!J149,0,($O$1-1)*10)","v":"-"},{"$f":"OFFSET('Precios finales '!K149,0,($O$1-1)*10)","v":"-"},{"$f":"OFFSET('Precios finales '!L149,0,($O$1-1)*10)","v":"-"},{"$f":"OFFSET('Precios finales '!M149,0,($O$1-1)*10)","v":"-"},{"$f":"OFFSET('Precios finales '!N149,0,($O$1-1)*10)","v":"-"},{"$f":"OFFSET('Precios finales '!O149,0,($O$1-1)*10)","v":"-"}]
[null,"Restricciones en tiempo real",{"$f":"OFFSET('Precios finales '!F150,0,($O$1-1)*10)","v":887.02429999999993},{"$f":"OFFSET('Precios finales '!G150,0,($O$1-1)*10)","v":657.36989999999992},{"$f":"OFFSET('Precios finales '!H150,0,($O$1-1)*10)","v":635.17180000000019},{"$f":"OFFSET('Precios finales '!I150,0,($O$1-1)*10)","v":558.33210000000008},{"$f":"OFFSET('Precios finales '!J150,0,($O$1-1)*10)","v":"-"},{"$f":"OFFSET('Precios finales '!K150,0,($O$1-1)*10)","v":"-"},{"$f":"OFFSET('Precios finales '!L150,0,($O$1-1)*10)","v":"-"},{"$f":"OFFSET('Precios finales '!M150,0,($O$1-1)*10)","v":"-"},{"$f":"OFFSET('Precios finales '!N150,0,($O$1-1)*10)","v":"-"},{"$f":"OFFSET('Precios finales '!O150,0,($O$1-1)*10)","v":"-"}]
[null,"Energía a subir",{"$f":"IF(SUM(C11:C16)=0,\"-\",SUM(C11:C16))","v":19485.559330000004},29109.119141000003,25965.67568,19366.130394,"-","-","-","-","-","-"]
[]
[null,"Bajar"]
[null,"Restricciones garantía de suministro",{"$f":"OFFSET('Precios finales '!F153,0,($O$1-1)*10)","v":"-"},{"$f":"OFFSET('Precios finales '!G153,0,($O$1-1)*10)","v":"-"},{"$f":"OFFSET('Precios finales '!H153,0,($O$1-1)*10)","v":"-"},{"$f":"OFFSET('Precios finales '!I153,0,($O$1-1)*10)","v":"-"},{"$f":"OFFSET('Precios finales '!J153,0,($O$1-1)*10)","v":"-"},{"$f":"OFFSET('Precios finales '!K153,0,($O$1-1)*10)","v":"-"},{"$f":"OFFSET('Precios finales '!L153,0,($O$1-1)*10)","v":"-"},{"$f":"OFFSET('Precios finales '!M153,0,($O$1-1)*10)","v":"-"},{"$f":"OFFSET('Precios finales '!N153,0,($O$1-1)*10)","v":"-"},{"$f":"OFFSET('Precios finales '!O153,0,($O$1-1)*10)","v":"-"}]
[null,"Restricciones técnicas al PDBF",{"$f":"OFFSET('Precios finales '!F154,0,($O$1-1)*10)","v":446.6936},{"$f":"OFFSET('Precios finales '!G154,0,($O$1-1)*10)","v":228.4256},{"$f":"OFFSET('Precios finales '!H154,0,($O$1-1)*10)","v":60.889099999999999},{"$f":"OFFSET('Precios finales '!I154,0,($O$1-1)*10)","v":193.34809999999999},{"$f":"OFFSET('Precios finales '!J154,0,($O$1-1)*10)","v":"-"},{"$f":"OFFSET('Precios finales '!K154,0,($O$1-1)*10)","v":"-"},{"$f":"OFFSET('Precios finales '!L154,0,($O$1-1)*10)","v":"-"},{"$f":"OFFSET('Precios finales '!M154,0,($O$1-1)*10)","v":"-"},{"$f":"OFFSET('Precios finales '!N154,0,($O$1-1)*10)","v":"-"},{"$f":"OFFSET('Precios finales '!O154,0,($O$1-1)*10)","v":"-"}]
[null,"Regulación secundaria",{"$f":"OFFSET('Precios finales '!F155,0,($O$1-1)*10)","v":1723.829504},{"$f":"OFFSET('Precios finales '!G155,0,($O$1-1)*10)","v":1514.3416440000001},{"$f":"OFFSET('Precios finales '!H155,0,($O$1-1)*10)","v":1262.4166740000001},{"$f":"OFFSET('Precios finales '!I155,0,($O$1-1)*10)","v":1070.322692},{"$f":"OFFSET('Precios finales '!J155,0,($O$1-1)*10)","v":"-"},{"$f":"OFFSET('Precios finales '!K155,0,($O$1-1)*10)","v":"-"},{"$f":"OFFSET('Precios finales '!L155,0,($O$1-1)*10)","v":"-"},{"$f":"OFFSET('Precios finales '!M155,0,($O$1-1)*10)","v":"-"},{"$f":"OFFSET('Precios finales '!N155,0,($O$1-1)*10)","v":"-"},{"$f":"OFFSET('Precios finales '!O155,0,($O$1-1)*10)","v":"-"}]
[null,"Regulación terciaria",{"$f":"OFFSET('Precios finales '!F156,0,($O$1-1)*10)","v":2982.6401999999994},{"$f":"OFFSET('Precios finales '!G156,0,($O$1-1)*10)","v":2804.8267000000001},{"$f":"OFFSET('Precios finales '!H156,0,($O$1-1)*10)","v":2330.1929999999998},{"$f":"OFFSET('Precios finales '!I156,0,($O$1-1)*10)","v":1811.6219999999998},{"$f":"OFFSET('Precios finales '!J156,0,($O$1-1)*10)","v":"-"},{"$f":"OFFSET('Precios finales '!K156,0,($O$1-1)*10)","v":"-"},{"$f":"OFFSET('Precios finales '!L156,0,($O$1-1)*10)","v":"-"},{"$f":"OFFSET('Precios finales '!M156,0,($O$1-1)*10)","v":"-"},{"$f":"OFFSET('Precios finales '!N156,0,($O$1-1)*10)","v":"-"},{"$f":"OFFSET('Precios finales '!O156,0,($O$1-1)*10)","v":"-"}]
[null,"Gestión de desvíos",{"$f":"OFFSET('Precios finales '!F157,0,($O$1-1)*10)","v":2674.5383999999995},{"$f":"OFFSET('Precios finales '!G157,0,($O$1-1)*10)","v":2238.4267999999993},{"$f":"OFFSET('Precios finales '!H157,0,($O$1-1)*10)","v":1231.8156000000001},{"$f":"OFFSET('Precios finales '!I157,0,($O$1-1)*10)","v":904.99990000000014},{"$f":"OFFSET('Precios finales '!J157,0,($O$1-1)*10)","v":"-"},{"$f":"OFFSET('Precios finales '!K157,0,($O$1-1)*10)","v":"-"},{"$f":"OFFSET('Precios finales '!L157,0,($O$1-1)*10)","v":"-"},{"$f":"OFFSET('Precios finales '!M157,0,($O$1-1)*10)","v":"-"},{"$f":"OFFSET('Precios finales '!N157,0,($O$1-1)*10)","v":"-"},{"$f":"OFFSET('Precios finales '!O157,0,($O$1-1)*10)","v":"-"}]
[null,"Restricciones en tiempo real",{"$f":"OFFSET('Precios finales '!F158,0,($O$1-1)*10)","v":900.83240000000001},{"$f":"OFFSET('Precios finales '!G158,0,($O$1-1)*10)","v":509.32060000000007},{"$f":"OFFSET('Precios finales '!H158,0,($O$1-1)*10)","v":483.82709999999997},{"$f":"OFFSET('Precios finales '!I158,0,($O$1-1)*10)","v":1701.4657},{"$f":"OFFSET('Precios finales '!J158,0,($O$1-1)*10)","v":"-"},{"$f":"OFFSET('Precios finales '!K158,0,($O$1-1)*10)","v":"-"},{"$f":"OFFSET('Precios finales '!L158,0,($O$1-1)*10)","v":"-"},{"$f":"OFFSET('Precios finales '!M158,0,($O$1-1)*10)","v":"-"},{"$f":"OFFSET('Precios finales '!N158,0,($O$1-1)*10)","v":"-"},{"$f":"OFFSET('Precios finales '!O158,0,($O$1-1)*10)","v":"-"}]
[null,"Energía a Bajar",{"$f":"IF(SUM(C20:C25)=0,\"-\",SUM(C20:C25))","v":8728.5341039999985},7295.3413439999995,5369.141474,5681.7583919999997,"-","-","-","-","-","-"]
[]
[null,"Volumen"]
[null,"Restricciones garantía de suministro",{"$f":"OFFSET('Precios finales '!F161,0,($O$1-1)*10)","v":"-"},{"$f":"OFFSET('Precios finales '!G161,0,($O$1-1)*10)","v":12773.194900000002},{"$f":"OFFSET('Precios finales '!H161,0,($O$1-1)*10)","v":12008.1666},{"$f":"OFFSET('Precios finales '!I161,0,($O$1-1)*10)","v":4085.3867000000005},{"$f":"OFFSET('Precios finales '!J161,0,($O$1-1)*10)","v":"-"},{"$f":"OFFSET('Precios finales '!K161,0,($O$1-1)*10)","v":"-"},{"$f":"OFFSET('Precios finales '!L161,0,($O$1-1)*10)","v":"-"},{"$f":"OFFSET('Precios finales '!M161,0,($O$1-1)*10)","v":"-"},{"$f":"OFFSET('Precios finales '!N161,0,($O$1-1)*10)","v":"-"},{"$f":"OFFSET('Precios finales '!O161,0,($O$1-1)*10)","v":"-"}]
[null,"Restricciones técnicas al PDBF",{"$f":"OFFSET('Precios finales '!F162,0,($O$1-1)*10)","v":12955.966200000001},{"$f":"OFFSET('Precios finales '!G162,0,($O$1-1)*10)","v":10226.0694},{"$f":"OFFSET('Precios finales '!H162,0,($O$1-1)*10)","v":6222.9502000000002},{"$f":"OFFSET('Precios finales '!I162,0,($O$1-1)*10)","v":7433.1495999999997},{"$f":"OFFSET('Precios finales '!J162,0,($O$1-1)*10)","v":"-"},{"$f":"OFFSET('Precios finales '!K162,0,($O$1-1)*10)","v":"-"},{"$f":"OFFSET('Precios finales '!L162,0,($O$1-1)*10)","v":"-"},{"$f":"OFFSET('Precios finales '!M162,0,($O$1-1)*10)","v":"-"},{"$f":"OFFSET('Precios finales '!N162,0,($O$1-1)*10)","v":"-"},{"$f":"OFFSET('Precios finales '!O162,0,($O$1-1)*10)","v":"-"}]
[null,"Regulación secundaria",{"$f":"OFFSET('Precios finales '!F163,0,($O$1-1)*10)","v":2888.920134},{"$f":"OFFSET('Precios finales '!G163,0,($O$1-1)*10)","v":2726.849185},{"$f":"OFFSET('Precios finales '!H163,0,($O$1-1)*10)","v":2772.7817540000001},{"$f":"OFFSET('Precios finales '!I163,0,($O$1-1)*10)","v":2875.9506860000001},{"$f":"OFFSET('Precios finales '!J163,0,($O$1-1)*10)","v":"-"},{"$f":"OFFSET('Precios finales '!K163,0,($O$1-1)*10)","v":"-"},{"$f":"OFFSET('Precios finales '!L163,0,($O$1-1)*10)","v":"-"},{"$f":"OFFSET('Precios finales '!M163,0,($O$1-1)*10)","v":"-"},{"$f":"OFFSET('Precios finales '!N163,0,($O$1-1)*10)","v":"-"},{"$f":"OFFSET('Precios finales '!O163,0,($O$1-1)*10)","v":"-"}]
[null,"Regulación terciaria",{"$f":"OFFSET('Precios finales '!F164,0,($O$1-1)*10)","v":5708.3847999999998},{"$f":"OFFSET('Precios finales '!G164,0,($O$1-1)*10)","v":5498.6543999999994},{"$f":"OFFSET('Precios finales '!H164,0,($O$1-1)*10)","v":5321.8081999999995},{"$f":"OFFSET('Precios finales '!I164,0,($O$1-1)*10)","v":5141.9281999999994},{"$f":"OFFSET('Precios finales '!J164,0,($O$1-1)*10)","v":"-"},{"$f":"OFFSET('Precios finales '!K164,0,($O$1-1)*10)","v":"-"},{"$f":"OFFSET('Precios finales '!L164,0,($O$1-1)*10)","v":"-"},{"$f":"OFFSET('Precios finales '!M164,0,($O$1-1)*10)","v":"-"},{"$f":"OFFSET('Precios finales '!N164,0,($O$1-1)*10)","v":"-"},{"$f":"OFFSET('Precios finales '!O164,0,($O$1-1)*10)","v":"-"}]
[null,"Gestión de desvíos",{"$f":"OFFSET('Precios finales '!F165,0,($O$1-1)*10)","v":4872.9655999999995},{"$f":"OFFSET('Precios finales '!G165,0,($O$1-1)*10)","v":4013.0020999999988},{"$f":"OFFSET('Precios finales '!H165,0,($O$1-1)*10)","v":3890.1115},{"$f":"OFFSET('Precios finales '!I165,0,($O$1-1)*10)","v":3251.6758000000004},{"$f":"OFFSET('Precios finales '!J165,0,($O$1-1)*10)","v":"-"},{"$f":"OFFSET('Precios finales '!K165,0,($O$1-1)*10)","v":"-"},{"$f":"OFFSET('Precios finales '!L165,0,($O$1-1)*10)","v":"-"},{"$f":"OFFSET('Precios finales '!M165,0,($O$1-1)*10)","v":"-"},{"$f":"OFFSET('Precios finales '!N165,0,($O$1-1)*10)","v":"-"},{"$f":"OFFSET('Precios finales '!O165,0,($O$1-1)*10)","v":"-"}]
[null,"Restricciones en tiempo real",{"$f":"OFFSET('Precios finales '!F166,0,($O$1-1)*10)","v":1787.8566999999998},{"$f":"OFFSET('Precios finales '!G166,0,($O$1-1)*10)","v":1166.6904999999999},{"$f":"OFFSET('Precios finales '!H166,0,($O$1-1)*10)","v":1118.9989},{"$f":"OFFSET('Precios finales '!I166,0,($O$1-1)*10)","v":2259.7978000000003},{"$f":"OFFSET('Precios finales '!J166,0,($O$1-1)*10)","v":"-"},{"$f":"OFFSET('Precios finales '!K166,0,($O$1-1)*10)","v":"-"},{"$f":"OFFSET('Precios finales '!L166,0,($O$1-1)*10)","v":"-"},{"$f":"OFFSET('Precios finales '!M166,0,($O$1-1)*10)","v":"-"},{"$f":"OFFSET('Precios finales '!N166,0,($O$1-1)*10)","v":"-"},{"$f":"OFFSET('Precios finales '!O166,0,($O$1-1)*10)","v":"-"}]
[null,"Volumen total de energía",{"$f":"IF(SUM(C29:C34)=0,\"-\",SUM(C29:C34))","v":28214.093434000002},36404.460484999996,31334.817153999997,25047.888786,"-","-","-","-","-","-"]

{"sheet":"Restricciones PBF mensual","index":5,"n_rows":14,"n_cols":15,"rows_kept":14,"cut":false,"hidden":false,"merged":[]}
[null,null,null,null,null,null,null,null,null,null,null,null,null,null,4]
[]
[]
[null,null,null,null,null,null,null,null,null,null,null,"Concepto"]
[null,null,null,null,null,null,null,null,null,null,null,"Horizonte temporal"]
[null,null,null,null,null,null,null,null,null,null,null,"Periodo"]
[]
[null,null,"Ene.","Feb.","Mar.","Abr.","May.","Jun.","Jul.","Ago.","Sep.","Oct.","Nov.","Dic.",{"$f":"OFFSET(Año!B2,($O$1-1),0)","v":2013}]
[]
[null,"Energía a subir fase I (GWh)",{"$f":"OFFSET('Precios finales '!AP47,0,($O$1-1)*13)","v":422.77929999999998},{"$f":"OFFSET('Precios finales '!AQ47,0,($O$1-1)*13)","v":578.4982},{"$f":"OFFSET('Precios finales '!AR47,0,($O$1-1)*13)","v":1034.7455},{"$f":"OFFSET('Precios finales '!AS47,0,($O$1-1)*13)","v":1006.4628},{"$f":"OFFSET('Precios finales '!AT47,0,($O$1-1)*13)","v":944.24590000000001},{"$f":"OFFSET('Precios finales '!AU47,0,($O$1-1)*13)","v":762.76099999999997},{"$f":"OFFSET('Precios finales '!AV47,0,($O$1-1)*13)","v":202.0059},{"$f":"OFFSET('Precios finales '!AW47,0,($O$1-1)*13)","v":199.38739999999999},{"$f":"OFFSET('Precios finales '!AX47,0,($O$1-1)*13)","v":210.84649999999999},{"$f":"OFFSET('Precios finales '!AY47,0,($O$1-1)*13)","v":563.00169999999991},{"$f":"OFFSET('Precios finales '!AZ47,0,($O$1-1)*13)","v":630.27750000000003},{"$f":"OFFSET('Precios finales '!BA47,0,($O$1-1)*13)","v":684.78980000000001},{"$f":"OFFSET('Precios finales '!BB47,0,($O$1-1)*13)","v":7239.8014999999996}]
[null,"Precio a subir (€/MWh)",{"$f":"OFFSET('Precios finales '!AP49,0,($O$1-1)*13)","v":165.93707164560001},{"$f":"OFFSET('Precios finales '!AQ49,0,($O$1-1)*13)","v":124.2752143222},{"$f":"OFFSET('Precios finales '!AR49,0,($O$1-1)*13)","v":96.754313558299998},{"$f":"OFFSET('Precios finales '!AS49,0,($O$1-1)*13)","v":90.724558493399996},{"$f":"OFFSET('Precios finales '!AT49,0,($O$1-1)*13)","v":102.424630099},{"$f":"OFFSET('Precios finales '!AU49,0,($O$1-1)*13)","v":111.7444780868},{"$f":"OFFSET('Precios finales '!AV49,0,($O$1-1)*13)","v":182.18602505640001},{"$f":"OFFSET('Precios finales '!AW49,0,($O$1-1)*13)","v":244.80226052079999},{"$f":"OFFSET('Precios finales '!AX49,0,($O$1-1)*13)","v":256.82400309090002},{"$f":"OFFSET('Precios finales '!AY49,0,($O$1-1)*13)","v":156.7742408947},{"$f":"OFFSET('Precios finales '!AZ49,0,($O$1-1)*13)","v":142.71552079840001},{"$f":"OFFSET('Precios finales '!BA49,0,($O$1-1)*13)","v":128.56228564540001},{"$f":"OFFSET('Precios finales '!BB49,0,($O$1-1)*13)","v":127.3998389811}]
[]
[null,"Energía a bajar fase I (GWh)",{"$f":"OFFSET('Precios finales '!AP48,0,($O$1-1)*13)","v":4.8517999999999999},{"$f":"OFFSET('Precios finales '!AQ48,0,($O$1-1)*13)","v":0.64879999999999993},{"$f":"OFFSET('Precios finales '!AR48,0,($O$1-1)*13)","v":1.6876},{"$f":"OFFSET('Precios finales '!AS48,0,($O$1-1)*13)","v":0.45729999999999998},{"$f":"OFFSET('Precios finales '!AT48,0,($O$1-1)*13)","v":1.4307000000000001},{"$f":"OFFSET('Precios finales '!AU48,0,($O$1-1)*13)","v":6.0181000000000004},{"$f":"OFFSET('Precios finales '!AV48,0,($O$1-1)*13)","v":27.627200000000002},{"$f":"OFFSET('Precios finales '!AW48,0,($O$1-1)*13)","v":56.895099999999999},{"$f":"OFFSET('Precios finales '!AX48,0,($O$1-1)*13)","v":26.092400000000001},{"$f":"OFFSET('Precios finales '!AY48,0,($O$1-1)*13)","v":23.398799999999998},{"$f":"OFFSET('Precios finales '!AZ48,0,($O$1-1)*13)","v":2.2016},{"$f":"OFFSET('Precios finales '!BA48,0,($O$1-1)*13)","v":42.038699999999999},{"$f":"OFFSET('Precios finales '!BB48,0,($O$1-1)*13)","v":193.34809999999999}]
[null,"Precio a bajar  (€/MWh)",{"$f":"OFFSET('Precios finales '!AP50,0,($O$1-1)*13)","v":47.380756853599998},{"$f":"OFFSET('Precios finales '!AQ50,0,($O$1-1)*13)","v":41.056779951999999},{"$f":"OFFSET('Precios finales '!AR50,0,($O$1-1)*13)","v":18.706244859200002},{"$f":"OFFSET('Precios finales '!AS50,0,($O$1-1)*13)","v":11.683811006199999},{"$f":"OFFSET('Precios finales '!AT50,0,($O$1-1)*13)","v":35.461503883699997},{"$f":"OFFSET('Precios finales '!AU50,0,($O$1-1)*13)","v":31.366280512500001},{"$f":"OFFSET('Precios finales '!AV50,0,($O$1-1)*13)","v":48.196277409099999},{"$f":"OFFSET('Precios finales '!AW50,0,($O$1-1)*13)","v":46.1768206335},{"$f":"OFFSET('Precios finales '!AX50,0,($O$1-1)*13)","v":44.082771123000001},{"$f":"OFFSET('Precios finales '!AY50,0,($O$1-1)*13)","v":40.755381519499998},{"$f":"OFFSET('Precios finales '!AZ50,0,($O$1-1)*13)","v":35.865301093600003},{"$f":"OFFSET('Precios finales '!BA50,0,($O$1-1)*13)","v":45.413179481},{"$f":"OFFSET('Precios finales '!BB50,0,($O$1-1)*13)","v":32.880269698799999}]

{"sheet":"Restricciones PBF anual","index":6,"n_rows":14,"n_cols":15,"rows_kept":14,"cut":false,"hidden":false,"merged":[]}
[null,null,null,null,null,null,null,null,null,null,null,null,null,null,1]
[]
[]
[null,null,null,null,null,null,null,null,"Concepto"]
[null,null,null,null,null,null,null,null,"Horizonte temporal"]
[null,null,null,null,null,null,null,null,"Periodo"]
[]
[null,null,{"$f":"OFFSET('Precios finales '!F53,0,($O$1-1)*10)","v":2010},{"$f":"OFFSET('Precios finales '!G24,0,($O$1-1)*10)","v":2011},{"$f":"OFFSET('Precios finales '!H24,0,($O$1-1)*10)","v":2012},{"$f":"OFFSET('Precios finales '!I24,0,($O$1-1)*10)","v":2013},{"$f":"OFFSET('Precios finales '!J24,0,($O$1-1)*10)","v":2014},{"$f":"OFFSET('Precios finales '!K24,0,($O$1-1)*10)","v":2015},{"$f":"OFFSET('Precios finales '!L24,0,($O$1-1)*10)","v":2016},{"$f":"OFFSET('Precios finales '!M24,0,($O$1-1)*10)","v":2017},{"$f":"OFFSET('Precios finales '!N24,0,($O$1-1)*10)","v":2018},{"$f":"OFFSET('Precios finales '!O24,0,($O$1-1)*10)","v":2019}]
[null,null,{"$f":"OFFSET('Precios finales '!C25,0,($O$1-1)*10)","v":0}]
[null,"Energía a subir fase I (GWh)",{"$f":"OFFSET('Precios finales '!F54,0,($O$1-1)*10)","v":12509.2726},{"$f":"OFFSET('Precios finales '!G54,0,($O$1-1)*10)","v":9997.6437999999998},{"$f":"OFFSET('Precios finales '!H54,0,($O$1-1)*10)","v":6162.0610999999999},{"$f":"OFFSET('Precios finales '!I54,0,($O$1-1)*10)","v":7239.8014999999996},{"$f":"OFFSET('Precios finales '!J54,0,($O$1-1)*10)","v":"-"},{"$f":"OFFSET('Precios finales '!K54,0,($O$1-1)*10)","v":"-"},{"$f":"OFFSET('Precios finales '!L54,0,($O$1-1)*10)","v":"-"},{"$f":"OFFSET('Precios finales '!M54,0,($O$1-1)*10)","v":"-"},{"$f":"OFFSET('Precios finales '!N54,0,($O$1-1)*10)","v":"-"},{"$f":"OFFSET('Precios finales '!O54,0,($O$1-1)*10)","v":"-"}]
[null,"Precio a subir (€/MWh)",{"$f":"OFFSET('Precios finales '!F56,0,($O$1-1)*10)","v":80.497924119800004},{"$f":"OFFSET('Precios finales '!G56,0,($O$1-1)*10)","v":94.111846963900007},{"$f":"OFFSET('Precios finales '!H56,0,($O$1-1)*10)","v":129.9352769299},{"$f":"OFFSET('Precios finales '!I56,0,($O$1-1)*10)","v":127.3998389811},{"$f":"OFFSET('Precios finales '!J56,0,($O$1-1)*10)","v":"-"},{"$f":"OFFSET('Precios finales '!K56,0,($O$1-1)*10)","v":"-"},{"$f":"OFFSET('Precios finales '!L56,0,($O$1-1)*10)","v":"-"},{"$f":"OFFSET('Precios finales '!M56,0,($O$1-1)*10)","v":"-"},{"$f":"OFFSET('Precios finales '!N56,0,($O$1-1)*10)","v":"-"},{"$f":"OFFSET('Precios finales '!O56,0,($O$1-1)*10)","v":"-"}]
[]
[null,"Energía a bajar fase I (GWh)",{"$f":"OFFSET('Precios finales '!F55,0,($O$1-1)*10)","v":446.6936},{"$f":"OFFSET('Precios finales '!G55,0,($O$1-1)*10)","v":228.4256},{"$f":"OFFSET('Precios finales '!H55,0,($O$1-1)*10)","v":60.889099999999999},{"$f":"OFFSET('Precios finales '!I55,0,($O$1-1)*10)","v":193.34809999999999},{"$f":"OFFSET('Precios finales '!J55,0,($O$1-1)*10)","v":"-"},{"$f":"OFFSET('Precios finales '!K55,0,($O$1-1)*10)","v":"-"},{"$f":"OFFSET('Precios finales '!L55,0,($O$1-1)*10)","v":"-"},{"$f":"OFFSET('Precios finales '!M55,0,($O$1-1)*10)","v":"-"},{"$f":"OFFSET('Precios finales '!N55,0,($O$1-1)*10)","v":"-"},{"$f":"OFFSET('Precios finales '!O55,0,($O$1-1)*10)","v":"-"}]
[null,"Precio a bajar  (€/MWh)",{"$f":"OFFSET('Precios finales '!F57,0,($O$1-1)*10)","v":32.419213093099998},{"$f":"OFFSET('Precios finales '!G57,0,($O$1-1)*10)","v":46.717540110100003},{"$f":"OFFSET('Precios finales '!H57,0,($O$1-1)*10)","v":44.363934886099997},{"$f":"OFFSET('Precios finales '!I57,0,($O$1-1)*10)","v":32.880269698799999},{"$f":"OFFSET('Precios finales '!J57,0,($O$1-1)*10)","v":"-"},{"$f":"OFFSET('Precios finales '!K57,0,($O$1-1)*10)","v":"-"},{"$f":"OFFSET('Precios finales '!L57,0,($O$1-1)*10)","v":"-"},{"$f":"OFFSET('Precios finales '!M57,0,($O$1-1)*10)","v":"-"},{"$f":"OFFSET('Precios finales '!N57,0,($O$1-1)*10)","v":"-"},{"$f":"OFFSET('Precios finales '!O57,0,($O$1-1)*10)","v":"-"}]

{"sheet":"Regulación secundaria mensual","index":7,"n_rows":14,"n_cols":15,"rows_kept":14,"cut":false,"hidden":false,"merged":[]}
[null,null,null,null,null,null,null,null,null,null,null,null,null,null,4]
[]
[]
[null,null,null,null,null,null,null,null,null,null,null,"Concepto"]
[null,null,null,null,null,null,null,null,null,null,null,"Horizonte temporal"]
[null,null,null,null,null,null,null,null,null,null,null,"Periodo"]
[]
[null,null,"Ene.","Feb.","Mar.","Abr.","May.","Jun.","Jul.","Ago.","Sep.","Oct.","Nov.","Dic.",{"$f":"OFFSET(Año!B2,($O$1-1),0)","v":2013}]
[]
[null,"Energía a subir (GWh)",{"$f":"OFFSET('Precios finales '!AP61,0,($O$1-1)*13)","v":171.79729699999999},{"$f":"OFFSET('Precios finales '!AQ61,0,($O$1-1)*13)","v":146.23201299999999},{"$f":"OFFSET('Precios finales '!AR61,0,($O$1-1)*13)","v":176.833415},{"$f":"OFFSET('Precios finales '!AS61,0,($O$1-1)*13)","v":192.20975799999999},{"$f":"OFFSET('Precios finales '!AT61,0,($O$1-1)*13)","v":170.30642600000002},{"$f":"OFFSET('Precios finales '!AU61,0,($O$1-1)*13)","v":149.06502499999999},{"$f":"OFFSET('Precios finales '!AV61,0,($O$1-1)*13)","v":124.773447},{"$f":"OFFSET('Precios finales '!AW61,0,($O$1-1)*13)","v":125.84460199999999},{"$f":"OFFSET('Precios finales '!AX61,0,($O$1-1)*13)","v":111.60823500000001},{"$f":"OFFSET('Precios finales '!AY61,0,($O$1-1)*13)","v":133.01477199999999},{"$f":"OFFSET('Precios finales '!AZ61,0,($O$1-1)*13)","v":153.51644200000001},{"$f":"OFFSET('Precios finales '!BA61,0,($O$1-1)*13)","v":150.42656200000002},{"$f":"OFFSET('Precios finales '!BB61,0,($O$1-1)*13)","v":1805.6279939999999}]
[null,"Precio a subir (€/MWh)",{"$f":"OFFSET('Precios finales '!AP63,0,($O$1-1)*13)","v":58.926739167500003},{"$f":"OFFSET('Precios finales '!AQ63,0,($O$1-1)*13)","v":53.963011984300003},{"$f":"OFFSET('Precios finales '!AR63,0,($O$1-1)*13)","v":33.562337468899997},{"$f":"OFFSET('Precios finales '!AS63,0,($O$1-1)*13)","v":31.197973622100001},{"$f":"OFFSET('Precios finales '!AT63,0,($O$1-1)*13)","v":49.693818129900002},{"$f":"OFFSET('Precios finales '!AU63,0,($O$1-1)*13)","v":47.040825237200004},{"$f":"OFFSET('Precios finales '!AV63,0,($O$1-1)*13)","v":56.266319868499998},{"$f":"OFFSET('Precios finales '!AW63,0,($O$1-1)*13)","v":52.071400805899998},{"$f":"OFFSET('Precios finales '!AX63,0,($O$1-1)*13)","v":53.195285007400003},{"$f":"OFFSET('Precios finales '!AY63,0,($O$1-1)*13)","v":52.430417953899997},{"$f":"OFFSET('Precios finales '!AZ63,0,($O$1-1)*13)","v":50.476701446699998},{"$f":"OFFSET('Precios finales '!BA63,0,($O$1-1)*13)","v":77.197518214900001},{"$f":"OFFSET('Precios finales '!BB63,0,($O$1-1)*13)","v":50.546098622400002}]
[]
[null,"Energía a bajar (GWh)",{"$f":"OFFSET('Precios finales '!AP62,0,($O$1-1)*13)","v":94.286029999999997},{"$f":"OFFSET('Precios finales '!AQ62,0,($O$1-1)*13)","v":81.404216000000005},{"$f":"OFFSET('Precios finales '!AR62,0,($O$1-1)*13)","v":98.453812999999997},{"$f":"OFFSET('Precios finales '!AS62,0,($O$1-1)*13)","v":86.494074999999995},{"$f":"OFFSET('Precios finales '!AT62,0,($O$1-1)*13)","v":76.518190000000004},{"$f":"OFFSET('Precios finales '!AU62,0,($O$1-1)*13)","v":77.887855000000002},{"$f":"OFFSET('Precios finales '!AV62,0,($O$1-1)*13)","v":87.973297000000002},{"$f":"OFFSET('Precios finales '!AW62,0,($O$1-1)*13)","v":92.756681},{"$f":"OFFSET('Precios finales '!AX62,0,($O$1-1)*13)","v":100.82392400000001},{"$f":"OFFSET('Precios finales '!AY62,0,($O$1-1)*13)","v":101.598428},{"$f":"OFFSET('Precios finales '!AZ62,0,($O$1-1)*13)","v":84.130255000000005},{"$f":"OFFSET('Precios finales '!BA62,0,($O$1-1)*13)","v":87.995928000000006},{"$f":"OFFSET('Precios finales '!BB62,0,($O$1-1)*13)","v":1070.322692}]
[null,"Precio a bajar  (€/MWh)",{"$f":"OFFSET('Precios finales '!AP64,0,($O$1-1)*13)","v":35.4429613804},{"$f":"OFFSET('Precios finales '!AQ64,0,($O$1-1)*13)","v":30.158850126400001},{"$f":"OFFSET('Precios finales '!AR64,0,($O$1-1)*13)","v":12.889779698},{"$f":"OFFSET('Precios finales '!AS64,0,($O$1-1)*13)","v":10.3012032905},{"$f":"OFFSET('Precios finales '!AT64,0,($O$1-1)*13)","v":24.807837064600001},{"$f":"OFFSET('Precios finales '!AU64,0,($O$1-1)*13)","v":23.976008069599999},{"$f":"OFFSET('Precios finales '!AV64,0,($O$1-1)*13)","v":35.688743710499999},{"$f":"OFFSET('Precios finales '!AW64,0,($O$1-1)*13)","v":33.569875683699998},{"$f":"OFFSET('Precios finales '!AX64,0,($O$1-1)*13)","v":33.013261316799998},{"$f":"OFFSET('Precios finales '!AY64,0,($O$1-1)*13)","v":30.095342518500001},{"$f":"OFFSET('Precios finales '!AZ64,0,($O$1-1)*13)","v":27.956118402400001},{"$f":"OFFSET('Precios finales '!BA64,0,($O$1-1)*13)","v":44.960147814999999},{"$f":"OFFSET('Precios finales '!BB64,0,($O$1-1)*13)","v":28.655361209500001}]

{"sheet":"Regulación secundaria anual","index":8,"n_rows":14,"n_cols":15,"rows_kept":14,"cut":false,"hidden":false,"merged":[]}
[null,null,null,null,null,null,null,null,null,null,null,null,null,null,1]
[]
[]
[null,null,null,null,null,null,null,null,"Concepto"]
[null,null,null,null,null,null,null,null,"Horizonte temporal"]
[null,null,null,null,null,null,null,null,"Periodo"]
[]
[null,null,{"$f":"OFFSET('Precios finales '!F53,0,($O$1-1)*10)","v":2010},{"$f":"OFFSET('Precios finales '!G24,0,($O$1-1)*10)","v":2011},{"$f":"OFFSET('Precios finales '!H24,0,($O$1-1)*10)","v":2012},{"$f":"OFFSET('Precios finales '!I24,0,($O$1-1)*10)","v":2013},{"$f":"OFFSET('Precios finales '!J24,0,($O$1-1)*10)","v":2014},{"$f":"OFFSET('Precios finales '!K24,0,($O$1-1)*10)","v":2015},{"$f":"OFFSET('Precios finales '!L24,0,($O$1-1)*10)","v":2016},{"$f":"OFFSET('Precios finales '!M24,0,($O$1-1)*10)","v":2017},{"$f":"OFFSET('Precios finales '!N24,0,($O$1-1)*10)","v":2018},{"$f":"OFFSET('Precios finales '!O24,0,($O$1-1)*10)","v":2019}]
[null,null,{"$f":"OFFSET('Precios finales '!C25,0,($O$1-1)*10)","v":0}]
[null,"Energía a subir (GWh)",{"$f":"OFFSET('Precios finales '!F68,0,($O$1-1)*10)","v":1165.0906299999999},{"$f":"OFFSET('Precios finales '!G68,0,($O$1-1)*10)","v":1212.5075409999999},{"$f":"OFFSET('Precios finales '!H68,0,($O$1-1)*10)","v":1510.36508},{"$f":"OFFSET('Precios finales '!I68,0,($O$1-1)*10)","v":1805.6279939999999},{"$f":"OFFSET('Precios finales '!J68,0,($O$1-1)*10)","v":"-"},{"$f":"OFFSET('Precios finales '!K68,0,($O$1-1)*10)","v":"-"},{"$f":"OFFSET('Precios finales '!L68,0,($O$1-1)*10)","v":"-"},{"$f":"OFFSET('Precios finales '!M68,0,($O$1-1)*10)","v":"-"},{"$f":"OFFSET('Precios finales '!N68,0,($O$1-1)*10)","v":"-"},{"$f":"OFFSET('Precios finales '!O68,0,($O$1-1)*10)","v":"-"}]
[null,"Precio a subir (€/MWh)",{"$f":"OFFSET('Precios finales '!F70,0,($O$1-1)*10)","v":40.364603567400003},{"$f":"OFFSET('Precios finales '!G70,0,($O$1-1)*10)","v":51.579798809700002},{"$f":"OFFSET('Precios finales '!H70,0,($O$1-1)*10)","v":50.978784639300002},{"$f":"OFFSET('Precios finales '!I70,0,($O$1-1)*10)","v":50.546098622400002},{"$f":"OFFSET('Precios finales '!J70,0,($O$1-1)*10)","v":"-"},{"$f":"OFFSET('Precios finales '!K70,0,($O$1-1)*10)","v":"-"},{"$f":"OFFSET('Precios finales '!L70,0,($O$1-1)*10)","v":"-"},{"$f":"OFFSET('Precios finales '!M70,0,($O$1-1)*10)","v":"-"},{"$f":"OFFSET('Precios finales '!N70,0,($O$1-1)*10)","v":"-"},{"$f":"OFFSET('Precios finales '!O70,0,($O$1-1)*10)","v":"-"}]
[]
[null,"Energía a bajar (GWh)",{"$f":"OFFSET('Precios finales '!F69,0,($O$1-1)*10)","v":1723.829504},{"$f":"OFFSET('Precios finales '!G69,0,($O$1-1)*10)","v":1514.3416440000001},{"$f":"OFFSET('Precios finales '!H69,0,($O$1-1)*10)","v":1262.4166740000001},{"$f":"OFFSET('Precios finales '!I69,0,($O$1-1)*10)","v":1070.322692},{"$f":"OFFSET('Precios finales '!J69,0,($O$1-1)*10)","v":"-"},{"$f":"OFFSET('Precios finales '!K69,0,($O$1-1)*10)","v":"-"},{"$f":"OFFSET('Precios finales '!L69,0,($O$1-1)*10)","v":"-"},{"$f":"OFFSET('Precios finales '!M69,0,($O$1-1)*10)","v":"-"},{"$f":"OFFSET('Precios finales '!N69,0,($O$1-1)*10)","v":"-"},{"$f":"OFFSET('Precios finales '!O69,0,($O$1-1)*10)","v":"-"}]
[null,"Precio a bajar  (€/MWh)",{"$f":"OFFSET('Precios finales '!F71,0,($O$1-1)*10)","v":24.684436164499999},{"$f":"OFFSET('Precios finales '!G71,0,($O$1-1)*10)","v":33.323169543600002},{"$f":"OFFSET('Precios finales '!H71,0,($O$1-1)*10)","v":32.859999803800001},{"$f":"OFFSET('Precios finales '!I71,0,($O$1-1)*10)","v":28.655361209500001},{"$f":"OFFSET('Precios finales '!J71,0,($O$1-1)*10)","v":"-"},{"$f":"OFFSET('Precios finales '!K71,0,($O$1-1)*10)","v":"-"},{"$f":"OFFSET('Precios finales '!L71,0,($O$1-1)*10)","v":"-"},{"$f":"OFFSET('Precios finales '!M71,0,($O$1-1)*10)","v":"-"},{"$f":"OFFSET('Precios finales '!N71,0,($O$1-1)*10)","v":"-"},{"$f":"OFFSET('Precios finales '!O71,0,($O$1-1)*10)","v":"-"}]

{"sheet":"Regulación terciaria mensual","index":9,"n_rows":14,"n_cols":15,"rows_kept":14,"cut":false,"hidden":false,"merged":[]}
[null,null,null,null,null,null,null,null,null,null,null,null,null,null,4]
[]
[]
[null,null,null,null,null,null,null,null,null,null,null,"Concepto"]
[null,null,null,null,null,null,null,null,null,null,null,"Horizonte temporal"]
[null,null,null,null,null,null,null,null,null,null,null,"Periodo"]
[]
[null,null,"Ene.","Feb.","Mar.","Abr.","May.","Jun.","Jul.","Ago.","Sep.","Oct.","Nov.","Dic.",{"$f":"OFFSET(Año!B2,($O$1-1),0)","v":2013}]
[]
[null,"Energía a subir (GWh)",{"$f":"OFFSET('Precios finales '!AP75,0,($O$1-1)*13)","v":321.34790000000004},{"$f":"OFFSET('Precios finales '!AQ75,0,($O$1-1)*13)","v":357.91020000000003},{"$f":"OFFSET('Precios finales '!AR75,0,($O$1-1)*13)","v":221.20699999999999},{"$f":"OFFSET('Precios finales '!AS75,0,($O$1-1)*13)","v":187.1326},{"$f":"OFFSET('Precios finales '!AT75,0,($O$1-1)*13)","v":252.4547},{"$f":"OFFSET('Precios finales '!AU75,0,($O$1-1)*13)","v":215.8065},{"$f":"OFFSET('Precios finales '!AV75,0,($O$1-1)*13)","v":298.54990000000004},{"$f":"OFFSET('Precios finales '!AW75,0,($O$1-1)*13)","v":307.22359999999998},{"$f":"OFFSET('Precios finales '!AX75,0,($O$1-1)*13)","v":235.2833},{"$f":"OFFSET('Precios finales '!AY75,0,($O$1-1)*13)","v":274.08670000000001},{"$f":"OFFSET('Precios finales '!AZ75,0,($O$1-1)*13)","v":305.58780000000002},{"$f":"OFFSET('Precios finales '!BA75,0,($O$1-1)*13)","v":353.71600000000001},{"$f":"OFFSET('Precios finales '!BB75,0,($O$1-1)*13)","v":3330.3061999999995}]
[null,"Precio a subir (€/MWh)",{"$f":"OFFSET('Precios finales '!AP77,0,($O$1-1)*13)","v":70.838375231300006},{"$f":"OFFSET('Precios finales '!AQ77,0,($O$1-1)*13)","v":62.899864295599997},{"$f":"OFFSET('Precios finales '!AR77,0,($O$1-1)*13)","v":53.130263825299998},{"$f":"OFFSET('Precios finales '!AS77,0,($O$1-1)*13)","v":46.026168182299998},{"$f":"OFFSET('Precios finales '!AT77,0,($O$1-1)*13)","v":54.027506083299997},{"$f":"OFFSET('Precios finales '!AU77,0,($O$1-1)*13)","v":51.641156359999997},{"$f":"OFFSET('Precios finales '!AV77,0,($O$1-1)*13)","v":61.163696119100003},{"$f":"OFFSET('Precios finales '!AW77,0,($O$1-1)*13)","v":60.830093619099998},{"$f":"OFFSET('Precios finales '!AX77,0,($O$1-1)*13)","v":61.536000812600001},{"$f":"OFFSET('Precios finales '!AY77,0,($O$1-1)*13)","v":63.055165172199999},{"$f":"OFFSET('Precios finales '!AZ77,0,($O$1-1)*13)","v":56.8542280156},{"$f":"OFFSET('Precios finales '!BA77,0,($O$1-1)*13)","v":89.495754390499997},{"$f":"OFFSET('Precios finales '!BB77,0,($O$1-1)*13)","v":62.506538852181926}]
[]
[null,"Energía a bajar (GWh)",{"$f":"OFFSET('Precios finales '!AP76,0,($O$1-1)*13)","v":220.85070000000002},{"$f":"OFFSET('Precios finales '!AQ76,0,($O$1-1)*13)","v":135.4076},{"$f":"OFFSET('Precios finales '!AR76,0,($O$1-1)*13)","v":208.66979999999998},{"$f":"OFFSET('Precios finales '!AS76,0,($O$1-1)*13)","v":170.53970000000001},{"$f":"OFFSET('Precios finales '!AT76,0,($O$1-1)*13)","v":153.6566},{"$f":"OFFSET('Precios finales '!AU76,0,($O$1-1)*13)","v":152.21260000000001},{"$f":"OFFSET('Precios finales '!AV76,0,($O$1-1)*13)","v":129.52619999999999},{"$f":"OFFSET('Precios finales '!AW76,0,($O$1-1)*13)","v":93.740399999999994},{"$f":"OFFSET('Precios finales '!AX76,0,($O$1-1)*13)","v":126.33019999999999},{"$f":"OFFSET('Precios finales '!AY76,0,($O$1-1)*13)","v":192.60300000000001},{"$f":"OFFSET('Precios finales '!AZ76,0,($O$1-1)*13)","v":103.0528},{"$f":"OFFSET('Precios finales '!BA76,0,($O$1-1)*13)","v":125.0324},{"$f":"OFFSET('Precios finales '!BB76,0,($O$1-1)*13)","v":1811.6219999999998}]
[null,"Precio a bajar  (€/MWh)",{"$f":"OFFSET('Precios finales '!AP78,0,($O$1-1)*13)","v":22.0749749491},{"$f":"OFFSET('Precios finales '!AQ78,0,($O$1-1)*13)","v":23.061099967800001},{"$f":"OFFSET('Precios finales '!AR78,0,($O$1-1)*13)","v":6.4406571531000001},{"$f":"OFFSET('Precios finales '!AS78,0,($O$1-1)*13)","v":5.3539116698000004},{"$f":"OFFSET('Precios finales '!AT78,0,($O$1-1)*13)","v":14.177448869799999},{"$f":"OFFSET('Precios finales '!AU78,0,($O$1-1)*13)","v":13.4832268813},{"$f":"OFFSET('Precios finales '!AV78,0,($O$1-1)*13)","v":24.866433277599999},{"$f":"OFFSET('Precios finales '!AW78,0,($O$1-1)*13)","v":22.6959882825},{"$f":"OFFSET('Precios finales '!AX78,0,($O$1-1)*13)","v":19.6980150431},{"$f":"OFFSET('Precios finales '!AY78,0,($O$1-1)*13)","v":15.9124452371},{"$f":"OFFSET('Precios finales '!AZ78,0,($O$1-1)*13)","v":13.018607063599999},{"$f":"OFFSET('Precios finales '!BA78,0,($O$1-1)*13)","v":30.1327596687},{"$f":"OFFSET('Precios finales '!BB78,0,($O$1-1)*13)","v":16.833822000391116}]

{"sheet":"Regulación terciaria anual","index":10,"n_rows":14,"n_cols":15,"rows_kept":14,"cut":false,"hidden":false,"merged":[]}
[null,null,null,null,null,null,null,null,null,null,null,null,null,null,1]
[]
[]
[null,null,null,null,null,null,null,null,"Concepto"]
[null,null,null,null,null,null,null,null,"Horizonte temporal"]
[null,null,null,null,null,null,null,null,"Periodo"]
[]
[null,null,{"$f":"OFFSET('Precios finales '!F53,0,($O$1-1)*10)","v":2010},{"$f":"OFFSET('Precios finales '!G24,0,($O$1-1)*10)","v":2011},{"$f":"OFFSET('Precios finales '!H24,0,($O$1-1)*10)","v":2012},{"$f":"OFFSET('Precios finales '!I24,0,($O$1-1)*10)","v":2013},{"$f":"OFFSET('Precios finales '!J24,0,($O$1-1)*10)","v":2014},{"$f":"OFFSET('Precios finales '!K24,0,($O$1-1)*10)","v":2015},{"$f":"OFFSET('Precios finales '!L24,0,($O$1-1)*10)","v":2016},{"$f":"OFFSET('Precios finales '!M24,0,($O$1-1)*10)","v":2017},{"$f":"OFFSET('Precios finales '!N24,0,($O$1-1)*10)","v":2018},{"$f":"OFFSET('Precios finales '!O24,0,($O$1-1)*10)","v":2019}]
[null,null,{"$f":"OFFSET('Precios finales '!C25,0,($O$1-1)*10)","v":0}]
[null,"Energía a subir (GWh)",{"$f":"OFFSET('Precios finales '!F82,0,($O$1-1)*10)","v":2725.7446000000004},{"$f":"OFFSET('Precios finales '!G82,0,($O$1-1)*10)","v":2693.8276999999998},{"$f":"OFFSET('Precios finales '!H82,0,($O$1-1)*10)","v":2991.6151999999997},{"$f":"OFFSET('Precios finales '!I82,0,($O$1-1)*10)","v":3330.3061999999995},{"$f":"OFFSET('Precios finales '!J82,0,($O$1-1)*10)","v":"-"},{"$f":"OFFSET('Precios finales '!K82,0,($O$1-1)*10)","v":"-"},{"$f":"OFFSET('Precios finales '!L82,0,($O$1-1)*10)","v":"-"},{"$f":"OFFSET('Precios finales '!M82,0,($O$1-1)*10)","v":"-"},{"$f":"OFFSET('Precios finales '!N82,0,($O$1-1)*10)","v":"-"},{"$f":"OFFSET('Precios finales '!O82,0,($O$1-1)*10)","v":"-"}]
[null,"Precio a subir (€/MWh)",{"$f":"OFFSET('Precios finales '!F84,0,($O$1-1)*10)","v":50.410609904529892},{"$f":"OFFSET('Precios finales '!G84,0,($O$1-1)*10)","v":57.971337758552892},{"$f":"OFFSET('Precios finales '!H84,0,($O$1-1)*10)","v":59.728704239764546},{"$f":"OFFSET('Precios finales '!I84,0,($O$1-1)*10)","v":62.506538852181926},{"$f":"OFFSET('Precios finales '!J84,0,($O$1-1)*10)","v":"-"},{"$f":"OFFSET('Precios finales '!K84,0,($O$1-1)*10)","v":"-"},{"$f":"OFFSET('Precios finales '!L84,0,($O$1-1)*10)","v":"-"},{"$f":"OFFSET('Precios finales '!M84,0,($O$1-1)*10)","v":"-"},{"$f":"OFFSET('Precios finales '!N84,0,($O$1-1)*10)","v":"-"},{"$f":"OFFSET('Precios finales '!O84,0,($O$1-1)*10)","v":"-"}]
[]
[null,"Energía a bajar (GWh)",{"$f":"OFFSET('Precios finales '!F83,0,($O$1-1)*10)","v":2982.6401999999994},{"$f":"OFFSET('Precios finales '!G83,0,($O$1-1)*10)","v":2804.8267000000001},{"$f":"OFFSET('Precios finales '!H83,0,($O$1-1)*10)","v":2330.1929999999998},{"$f":"OFFSET('Precios finales '!I83,0,($O$1-1)*10)","v":1811.6219999999998},{"$f":"OFFSET('Precios finales '!J83,0,($O$1-1)*10)","v":"-"},{"$f":"OFFSET('Precios finales '!K83,0,($O$1-1)*10)","v":"-"},{"$f":"OFFSET('Precios finales '!L83,0,($O$1-1)*10)","v":"-"},{"$f":"OFFSET('Precios finales '!M83,0,($O$1-1)*10)","v":"-"},{"$f":"OFFSET('Precios finales '!N83,0,($O$1-1)*10)","v":"-"},{"$f":"OFFSET('Precios finales '!O83,0,($O$1-1)*10)","v":"-"}]
[null,"Precio a bajar  (€/MWh)",{"$f":"OFFSET('Precios finales '!F85,0,($O$1-1)*10)","v":17.878162481690598},{"$f":"OFFSET('Precios finales '!G85,0,($O$1-1)*10)","v":24.456675544914432},{"$f":"OFFSET('Precios finales '!H85,0,($O$1-1)*10)","v":22.169726044146785},{"$f":"OFFSET('Precios finales '!I85,0,($O$1-1)*10)","v":16.833822000391116},{"$f":"OFFSET('Precios finales '!J85,0,($O$1-1)*10)","v":"-"},{"$f":"OFFSET('Precios finales '!K85,0,($O$1-1)*10)","v":"-"},{"$f":"OFFSET('Precios finales '!L85,0,($O$1-1)*10)","v":"-"},{"$f":"OFFSET('Precios finales '!M85,0,($O$1-1)*10)","v":"-"},{"$f":"OFFSET('Precios finales '!N85,0,($O$1-1)*10)","v":"-"},{"$f":"OFFSET('Precios finales '!O85,0,($O$1-1)*10)","v":"-"}]

{"sheet":"Gestión de desvíos mensual","index":11,"n_rows":14,"n_cols":15,"rows_kept":14,"cut":false,"hidden":false,"merged":[]}
[null,null,null,null,null,null,null,null,null,null,null,null,null,null,4]
[]
[]
[null,null,null,null,null,null,null,null,null,null,null,"Concepto"]
[null,null,null,null,null,null,null,null,null,null,null,"Horizonte temporal"]
[null,null,null,null,null,null,null,null,null,null,null,"Periodo"]
[]
[null,null,"Ene.","Feb.","Mar.","Abr.","May.","Jun.","Jul.","Ago.","Sep.","Oct.","Nov.","Dic.",{"$f":"OFFSET(Año!B2,($O$1-1),0)","v":2013}]
[]
[null,"Energía a subir (GWh)",{"$f":"OFFSET('Precios finales '!AP89,0,($O$1-1)*13)","v":219.4743},{"$f":"OFFSET('Precios finales '!AQ89,0,($O$1-1)*13)","v":231.1867},{"$f":"OFFSET('Precios finales '!AR89,0,($O$1-1)*13)","v":173.43520000000001},{"$f":"OFFSET('Precios finales '!AS89,0,($O$1-1)*13)","v":91.917400000000001},{"$f":"OFFSET('Precios finales '!AT89,0,($O$1-1)*13)","v":121.3096},{"$f":"OFFSET('Precios finales '!AU89,0,($O$1-1)*13)","v":113.4507},{"$f":"OFFSET('Precios finales '!AV89,0,($O$1-1)*13)","v":140.9461},{"$f":"OFFSET('Precios finales '!AW89,0,($O$1-1)*13)","v":235.16920000000002},{"$f":"OFFSET('Precios finales '!AX89,0,($O$1-1)*13)","v":113.08810000000001},{"$f":"OFFSET('Precios finales '!AY89,0,($O$1-1)*13)","v":145.90539999999999},{"$f":"OFFSET('Precios finales '!AZ89,0,($O$1-1)*13)","v":374.12559999999996},{"$f":"OFFSET('Precios finales '!BA89,0,($O$1-1)*13)","v":386.66759999999999},{"$f":"OFFSET('Precios finales '!BB89,0,($O$1-1)*13)","v":2346.6759000000002}]
[null,"Precio a subir (€/MWh)",{"$f":"OFFSET('Precios finales '!AP91,0,($O$1-1)*13)","v":65.483475149499995},{"$f":"OFFSET('Precios finales '!AQ91,0,($O$1-1)*13)","v":56.201393721999999},{"$f":"OFFSET('Precios finales '!AR91,0,($O$1-1)*13)","v":51.278345399300001},{"$f":"OFFSET('Precios finales '!AS91,0,($O$1-1)*13)","v":50.199888922},{"$f":"OFFSET('Precios finales '!AT91,0,($O$1-1)*13)","v":49.8680945284},{"$f":"OFFSET('Precios finales '!AU91,0,($O$1-1)*13)","v":47.483465681600002},{"$f":"OFFSET('Precios finales '!AV91,0,($O$1-1)*13)","v":65.343433340800004},{"$f":"OFFSET('Precios finales '!AW91,0,($O$1-1)*13)","v":56.854287551299997},{"$f":"OFFSET('Precios finales '!AX91,0,($O$1-1)*13)","v":58.7772699338},{"$f":"OFFSET('Precios finales '!AY91,0,($O$1-1)*13)","v":60.287857132100001},{"$f":"OFFSET('Precios finales '!AZ91,0,($O$1-1)*13)","v":58.262561343000002},{"$f":"OFFSET('Precios finales '!BA91,0,($O$1-1)*13)","v":74.737672745300003},{"$f":"OFFSET('Precios finales '!BB91,0,($O$1-1)*13)","v":60.097325058820452}]
[]
[null,"Energía a bajar (GWh)",{"$f":"OFFSET('Precios finales '!AP90,0,($O$1-1)*13)","v":181.83459999999999},{"$f":"OFFSET('Precios finales '!AQ90,0,($O$1-1)*13)","v":90.775100000000009},{"$f":"OFFSET('Precios finales '!AR90,0,($O$1-1)*13)","v":112.4418},{"$f":"OFFSET('Precios finales '!AS90,0,($O$1-1)*13)","v":124.32719999999999},{"$f":"OFFSET('Precios finales '!AT90,0,($O$1-1)*13)","v":51.113599999999998},{"$f":"OFFSET('Precios finales '!AU90,0,($O$1-1)*13)","v":58.682600000000001},{"$f":"OFFSET('Precios finales '!AV90,0,($O$1-1)*13)","v":58.374000000000002},{"$f":"OFFSET('Precios finales '!AW90,0,($O$1-1)*13)","v":9.6},{"$f":"OFFSET('Precios finales '!AX90,0,($O$1-1)*13)","v":34.451300000000003},{"$f":"OFFSET('Precios finales '!AY90,0,($O$1-1)*13)","v":110.13719999999999},{"$f":"OFFSET('Precios finales '!AZ90,0,($O$1-1)*13)","v":28.9923},{"$f":"OFFSET('Precios finales '!BA90,0,($O$1-1)*13)","v":44.270199999999996},{"$f":"OFFSET('Precios finales '!BB90,0,($O$1-1)*13)","v":904.99990000000014}]
[null,"Precio a bajar  (€/MWh)",{"$f":"OFFSET('Precios finales '!AP92,0,($O$1-1)*13)","v":31.2668890299},{"$f":"OFFSET('Precios finales '!AQ92,0,($O$1-1)*13)","v":25.874230928999999},{"$f":"OFFSET('Precios finales '!AR92,0,($O$1-1)*13)","v":6.8337161981000003},{"$f":"OFFSET('Precios finales '!AS92,0,($O$1-1)*13)","v":2.6084883275999999},{"$f":"OFFSET('Precios finales '!AT92,0,($O$1-1)*13)","v":21.5635582311},{"$f":"OFFSET('Precios finales '!AU92,0,($O$1-1)*13)","v":20.476996588399999},{"$f":"OFFSET('Precios finales '!AV92,0,($O$1-1)*13)","v":32.204360674299998},{"$f":"OFFSET('Precios finales '!AW92,0,($O$1-1)*13)","v":25.373336458299999},{"$f":"OFFSET('Precios finales '!AX92,0,($O$1-1)*13)","v":31.330110619900001},{"$f":"OFFSET('Precios finales '!AY92,0,($O$1-1)*13)","v":27.174998456499999},{"$f":"OFFSET('Precios finales '!AZ92,0,($O$1-1)*13)","v":14.1134728876},{"$f":"OFFSET('Precios finales '!BA92,0,($O$1-1)*13)","v":53.572404009899998},{"$f":"OFFSET('Precios finales '!BB92,0,($O$1-1)*13)","v":22.549549220953207}]

{"sheet":"Gestión de desvíos anual","index":12,"n_rows":14,"n_cols":15,"rows_kept":14,"cut":false,"hidden":false,"merged":[]}
[null,null,null,null,null,null,null,null,null,null,null,null,null,null,1]
[]
[]
[null,null,null,null,null,null,null,null,"Concepto"]
[null,null,null,null,null,null,null,null,"Horizonte temporal"]
[null,null,null,null,null,null,null,null,"Periodo"]
[]
[null,null,{"$f":"OFFSET('Precios finales '!F53,0,($O$1-1)*10)","v":2010},{"$f":"OFFSET('Precios finales '!G24,0,($O$1-1)*10)","v":2011},{"$f":"OFFSET('Precios finales '!H24,0,($O$1-1)*10)","v":2012},{"$f":"OFFSET('Precios finales '!I24,0,($O$1-1)*10)","v":2013},{"$f":"OFFSET('Precios finales '!J24,0,($O$1-1)*10)","v":2014},{"$f":"OFFSET('Precios finales '!K24,0,($O$1-1)*10)","v":2015},{"$f":"OFFSET('Precios finales '!L24,0,($O$1-1)*10)","v":2016},{"$f":"OFFSET('Precios finales '!M24,0,($O$1-1)*10)","v":2017},{"$f":"OFFSET('Precios finales '!N24,0,($O$1-1)*10)","v":2018},{"$f":"OFFSET('Precios finales '!O24,0,($O$1-1)*10)","v":2019}]
[null,null,{"$f":"OFFSET('Precios finales '!C25,0,($O$1-1)*10)","v":0}]
[null,"Energía a subir (GWh)",{"$f":"OFFSET('Precios finales '!F96,0,($O$1-1)*10)","v":2198.4272000000005},{"$f":"OFFSET('Precios finales '!G96,0,($O$1-1)*10)","v":1774.5752999999997},{"$f":"OFFSET('Precios finales '!H96,0,($O$1-1)*10)","v":2658.2958999999996},{"$f":"OFFSET('Precios finales '!I96,0,($O$1-1)*10)","v":2346.6759000000002},{"$f":"OFFSET('Precios finales '!J96,0,($O$1-1)*10)","v":"-"},{"$f":"OFFSET('Precios finales '!K96,0,($O$1-1)*10)","v":"-"},{"$f":"OFFSET('Precios finales '!L96,0,($O$1-1)*10)","v":"-"},{"$f":"OFFSET('Precios finales '!M96,0,($O$1-1)*10)","v":"-"},{"$f":"OFFSET('Precios finales '!N96,0,($O$1-1)*10)","v":"-"},{"$f":"OFFSET('Precios finales '!O96,0,($O$1-1)*10)","v":"-"}]
[null,"Precio a subir (€/MWh)",{"$f":"OFFSET('Precios finales '!F98,0,($O$1-1)*10)","v":51.005715972772144},{"$f":"OFFSET('Precios finales '!G98,0,($O$1-1)*10)","v":54.295402612671296},{"$f":"OFFSET('Precios finales '!H98,0,($O$1-1)*10)","v":60.242896654220097},{"$f":"OFFSET('Precios finales '!I98,0,($O$1-1)*10)","v":60.097325058820452},{"$f":"OFFSET('Precios finales '!J98,0,($O$1-1)*10)","v":"-"},{"$f":"OFFSET('Precios finales '!K98,0,($O$1-1)*10)","v":"-"},{"$f":"OFFSET('Precios finales '!L98,0,($O$1-1)*10)","v":"-"},{"$f":"OFFSET('Precios finales '!M98,0,($O$1-1)*10)","v":"-"},{"$f":"OFFSET('Precios finales '!N98,0,($O$1-1)*10)","v":"-"},{"$f":"OFFSET('Precios finales '!O98,0,($O$1-1)*10)","v":"-"}]
[]
[null,"Energía a bajar (GWh)",{"$f":"OFFSET('Precios finales '!F97,0,($O$1-1)*10)","v":2674.5383999999995},{"$f":"OFFSET('Precios finales '!G97,0,($O$1-1)*10)","v":2238.4267999999993},{"$f":"OFFSET('Precios finales '!H97,0,($O$1-1)*10)","v":1231.8156000000001},{"$f":"OFFSET('Precios finales '!I97,0,($O$1-1)*10)","v":904.99990000000014},{"$f":"OFFSET('Precios finales '!J97,0,($O$1-1)*10)","v":"-"},{"$f":"OFFSET('Precios finales '!K97,0,($O$1-1)*10)","v":"-"},{"$f":"OFFSET('Precios finales '!L97,0,($O$1-1)*10)","v":"-"},{"$f":"OFFSET('Precios finales '!M97,0,($O$1-1)*10)","v":"-"},{"$f":"OFFSET('Precios finales '!N97,0,($O$1-1)*10)","v":"-"},{"$f":"OFFSET('Precios finales '!O97,0,($O$1-1)*10)","v":"-"}]
[null,"Precio a bajar  (€/MWh)",{"$f":"OFFSET('Precios finales '!F99,0,($O$1-1)*10)","v":20.699586702520467},{"$f":"OFFSET('Precios finales '!G99,0,($O$1-1)*10)","v":29.833354070828552},{"$f":"OFFSET('Precios finales '!H99,0,($O$1-1)*10)","v":27.388385623624416},{"$f":"OFFSET('Precios finales '!I99,0,($O$1-1)*10)","v":22.549549220953207},{"$f":"OFFSET('Precios finales '!J99,0,($O$1-1)*10)","v":"-"},{"$f":"OFFSET('Precios finales '!K99,0,($O$1-1)*10)","v":"-"},{"$f":"OFFSET('Precios finales '!L99,0,($O$1-1)*10)","v":"-"},{"$f":"OFFSET('Precios finales '!M99,0,($O$1-1)*10)","v":"-"},{"$f":"OFFSET('Precios finales '!N99,0,($O$1-1)*10)","v":"-"},{"$f":"OFFSET('Precios finales '!O99,0,($O$1-1)*10)","v":"-"}]

{"sheet":"Restricciones TReal mensual","index":13,"n_rows":14,"n_cols":15,"rows_kept":14,"cut":false,"hidden":false,"merged":[]}
[null,null,null,null,null,null,null,null,null,null,null,null,null,null,4]
[]
[]
[null,null,null,null,null,null,null,null,null,null,null,"Concepto"]
[null,null,null,null,null,null,null,null,null,null,null,"Horizonte temporal"]
[null,null,null,null,null,null,null,null,null,null,null,"Periodo"]
[]
[null,null,"Ene.","Feb.","Mar.","Abr.","May.","Jun.","Jul.","Ago.","Sep.","Oct.","Nov.","Dic.",{"$f":"OFFSET(Año!B2,($O$1-1),0)","v":2013}]
[]
[null,"Energía a subir (GWh)",{"$f":"OFFSET('Precios finales '!AP103,0,($O$1-1)*13)","v":41.3003},{"$f":"OFFSET('Precios finales '!AQ103,0,($O$1-1)*13)","v":29.834099999999999},{"$f":"OFFSET('Precios finales '!AR103,0,($O$1-1)*13)","v":92.657499999999999},{"$f":"OFFSET('Precios finales '!AS103,0,($O$1-1)*13)","v":95.014699999999991},{"$f":"OFFSET('Precios finales '!AT103,0,($O$1-1)*13)","v":33.741800000000005},{"$f":"OFFSET('Precios finales '!AU103,0,($O$1-1)*13)","v":27.040900000000001},{"$f":"OFFSET('Precios finales '!AV103,0,($O$1-1)*13)","v":16.872900000000001},{"$f":"OFFSET('Precios finales '!AW103,0,($O$1-1)*13)","v":47.549100000000003},{"$f":"OFFSET('Precios finales '!AX103,0,($O$1-1)*13)","v":34.831199999999995},{"$f":"OFFSET('Precios finales '!AY103,0,($O$1-1)*13)","v":45.701500000000003},{"$f":"OFFSET('Precios finales '!AZ103,0,($O$1-1)*13)","v":53.030099999999997},{"$f":"OFFSET('Precios finales '!BA103,0,($O$1-1)*13)","v":40.758000000000003},{"$f":"OFFSET('Precios finales '!BB103,0,($O$1-1)*13)","v":558.33210000000008}]
[null,"Precio a subir (€/MWh)",{"$f":"OFFSET('Precios finales '!AP105,0,($O$1-1)*13)","v":239.777507185178},{"$f":"OFFSET('Precios finales '!AQ105,0,($O$1-1)*13)","v":311.65828397706002},{"$f":"OFFSET('Precios finales '!AR105,0,($O$1-1)*13)","v":151.039581253541},{"$f":"OFFSET('Precios finales '!AS105,0,($O$1-1)*13)","v":168.83646267367001},{"$f":"OFFSET('Precios finales '!AT105,0,($O$1-1)*13)","v":275.07276404933901},{"$f":"OFFSET('Precios finales '!AU105,0,($O$1-1)*13)","v":208.062993835264},{"$f":"OFFSET('Precios finales '!AV105,0,($O$1-1)*13)","v":160.35353910708901},{"$f":"OFFSET('Precios finales '!AW105,0,($O$1-1)*13)","v":173.03733950800299},{"$f":"OFFSET('Precios finales '!AX105,0,($O$1-1)*13)","v":219.75003416477199},{"$f":"OFFSET('Precios finales '!AY105,0,($O$1-1)*13)","v":416.809571677078},{"$f":"OFFSET('Precios finales '!AZ105,0,($O$1-1)*13)","v":320.64850056854499},{"$f":"OFFSET('Precios finales '!BA105,0,($O$1-1)*13)","v":250.74616762353401},{"$f":"OFFSET('Precios finales '!BB105,0,($O$1-1)*13)","v":231.05566993192801}]
[]
[null,"Energía a bajar (GWh)",{"$f":"OFFSET('Precios finales '!AP104,0,($O$1-1)*13)","v":99.4863},{"$f":"OFFSET('Precios finales '!AQ104,0,($O$1-1)*13)","v":58.030099999999997},{"$f":"OFFSET('Precios finales '!AR104,0,($O$1-1)*13)","v":544.5603000000001},{"$f":"OFFSET('Precios finales '!AS104,0,($O$1-1)*13)","v":559.52290000000005},{"$f":"OFFSET('Precios finales '!AT104,0,($O$1-1)*13)","v":76.331800000000001},{"$f":"OFFSET('Precios finales '!AU104,0,($O$1-1)*13)","v":61.548900000000003},{"$f":"OFFSET('Precios finales '!AV104,0,($O$1-1)*13)","v":13.886600000000001},{"$f":"OFFSET('Precios finales '!AW104,0,($O$1-1)*13)","v":50.900199999999998},{"$f":"OFFSET('Precios finales '!AX104,0,($O$1-1)*13)","v":13.206799999999999},{"$f":"OFFSET('Precios finales '!AY104,0,($O$1-1)*13)","v":45.131599999999999},{"$f":"OFFSET('Precios finales '!AZ104,0,($O$1-1)*13)","v":60.625800000000005},{"$f":"OFFSET('Precios finales '!BA104,0,($O$1-1)*13)","v":118.23439999999999},{"$f":"OFFSET('Precios finales '!BB104,0,($O$1-1)*13)","v":1701.4657}]
[null,"Precio a bajar  (€/MWh)",{"$f":"OFFSET('Precios finales '!AP106,0,($O$1-1)*13)","v":14.1373077511875},{"$f":"OFFSET('Precios finales '!AQ106,0,($O$1-1)*13)","v":14.870123540002},{"$f":"OFFSET('Precios finales '!AR106,0,($O$1-1)*13)","v":1.48888611446792},{"$f":"OFFSET('Precios finales '!AS106,0,($O$1-1)*13)","v":1.35195030219936},{"$f":"OFFSET('Precios finales '!AT106,0,($O$1-1)*13)","v":19.9253170329062},{"$f":"OFFSET('Precios finales '!AU106,0,($O$1-1)*13)","v":17.875394524514299},{"$f":"OFFSET('Precios finales '!AV106,0,($O$1-1)*13)","v":26.3815447789522},{"$f":"OFFSET('Precios finales '!AW106,0,($O$1-1)*13)","v":28.579767097775601},{"$f":"OFFSET('Precios finales '!AX106,0,($O$1-1)*13)","v":22.923087432827501},{"$f":"OFFSET('Precios finales '!AY106,0,($O$1-1)*13)","v":20.181741163156101},{"$f":"OFFSET('Precios finales '!AZ106,0,($O$1-1)*13)","v":14.3744485643894},{"$f":"OFFSET('Precios finales '!BA106,0,($O$1-1)*13)","v":14.1802445195215},{"$f":"OFFSET('Precios finales '!BB106,0,($O$1-1)*13)","v":7.9333984241144}]

{"sheet":"Restricciones TReal anual","index":14,"n_rows":14,"n_cols":15,"rows_kept":14,"cut":false,"hidden":false,"merged":[]}
[null,null,null,null,null,null,null,null,null,null,null,null,null,null,1]
[]
[]
[null,null,null,null,null,null,null,null,"Concepto"]
[null,null,null,null,null,null,null,null,"Horizonte temporal"]
[null,null,null,null,null,null,null,null,"Periodo"]
[]
[null,null,{"$f":"OFFSET('Precios finales '!F53,0,($O$1-1)*10)","v":2010},{"$f":"OFFSET('Precios finales '!G24,0,($O$1-1)*10)","v":2011},{"$f":"OFFSET('Precios finales '!H24,0,($O$1-1)*10)","v":2012},{"$f":"OFFSET('Precios finales '!I24,0,($O$1-1)*10)","v":2013},{"$f":"OFFSET('Precios finales '!J24,0,($O$1-1)*10)","v":2014},{"$f":"OFFSET('Precios finales '!K24,0,($O$1-1)*10)","v":2015},{"$f":"OFFSET('Precios finales '!L24,0,($O$1-1)*10)","v":2016},{"$f":"OFFSET('Precios finales '!M24,0,($O$1-1)*10)","v":2017},{"$f":"OFFSET('Precios finales '!N24,0,($O$1-1)*10)","v":2018},{"$f":"OFFSET('Precios finales '!O24,0,($O$1-1)*10)","v":2019}]
[null,null,{"$f":"OFFSET('Precios finales '!C25,0,($O$1-1)*10)","v":0}]
[null,"Energía a subir (GWh)",{"$f":"OFFSET('Precios finales '!F110,0,($O$1-1)*10)","v":887.02429999999993},{"$f":"OFFSET('Precios finales '!G110,0,($O$1-1)*10)","v":657.36989999999992},{"$f":"OFFSET('Precios finales '!H110,0,($O$1-1)*10)","v":635.17180000000019},{"$f":"OFFSET('Precios finales '!I110,0,($O$1-1)*10)","v":558.33210000000008},{"$f":"OFFSET('Precios finales '!J110,0,($O$1-1)*10)","v":"-"},{"$f":"OFFSET('Precios finales '!K110,0,($O$1-1)*10)","v":"-"},{"$f":"OFFSET('Precios finales '!L110,0,($O$1-1)*10)","v":"-"},{"$f":"OFFSET('Precios finales '!M110,0,($O$1-1)*10)","v":"-"},{"$f":"OFFSET('Precios finales '!N110,0,($O$1-1)*10)","v":"-"},{"$f":"OFFSET('Precios finales '!O110,0,($O$1-1)*10)","v":"-"}]
[null,"Precio a subir (€/MWh)",{"$f":"OFFSET('Precios finales '!F112,0,($O$1-1)*10)","v":104.692255544747},{"$f":"OFFSET('Precios finales '!G112,0,($O$1-1)*10)","v":129.951439197323},{"$f":"OFFSET('Precios finales '!H112,0,($O$1-1)*10)","v":230.65816043785301},{"$f":"OFFSET('Precios finales '!I112,0,($O$1-1)*10)","v":231.05566993192801},{"$f":"OFFSET('Precios finales '!J112,0,($O$1-1)*10)","v":"-"},{"$f":"OFFSET('Precios finales '!K112,0,($O$1-1)*10)","v":"-"},{"$f":"OFFSET('Precios finales '!L112,0,($O$1-1)*10)","v":"-"},{"$f":"OFFSET('Precios finales '!M112,0,($O$1-1)*10)","v":"-"},{"$f":"OFFSET('Precios finales '!N112,0,($O$1-1)*10)","v":"-"},{"$f":"OFFSET('Precios finales '!O112,0,($O$1-1)*10)","v":"-"}]
[]
[null,"Energía a bajar (GWh)",{"$f":"OFFSET('Precios finales '!F111,0,($O$1-1)*10)","v":900.83240000000001},{"$f":"OFFSET('Precios finales '!G111,0,($O$1-1)*10)","v":509.32060000000007},{"$f":"OFFSET('Precios finales '!H111,0,($O$1-1)*10)","v":483.82709999999997},{"$f":"OFFSET('Precios finales '!I111,0,($O$1-1)*10)","v":1701.4657},{"$f":"OFFSET('Precios finales '!J111,0,($O$1-1)*10)","v":"-"},{"$f":"OFFSET('Precios finales '!K111,0,($O$1-1)*10)","v":"-"},{"$f":"OFFSET('Precios finales '!L111,0,($O$1-1)*10)","v":"-"},{"$f":"OFFSET('Precios finales '!M111,0,($O$1-1)*10)","v":"-"},{"$f":"OFFSET('Precios finales '!N111,0,($O$1-1)*10)","v":"-"},{"$f":"OFFSET('Precios finales '!O111,0,($O$1-1)*10)","v":"-"}]
[null,"Precio a bajar  (€/MWh)",{"$f":"OFFSET('Precios finales '!F113,0,($O$1-1)*10)","v":8.7815585171494206},{"$f":"OFFSET('Precios finales '!G113,0,($O$1-1)*10)","v":17.639194911920502},{"$f":"OFFSET('Precios finales '!H113,0,($O$1-1)*10)","v":16.951263693273901},{"$f":"OFFSET('Precios finales '!I113,0,($O$1-1)*10)","v":7.9333984241144},{"$f":"OFFSET('Precios finales '!J113,0,($O$1-1)*10)","v":"-"},{"$f":"OFFSET('Precios finales '!K113,0,($O$1-1)*10)","v":"-"},{"$f":"OFFSET('Precios finales '!L113,0,($O$1-1)*10)","v":"-"},{"$f":"OFFSET('Precios finales '!M113,0,($O$1-1)*10)","v":"-"},{"$f":"OFFSET('Precios finales '!N113,0,($O$1-1)*10)","v":"-"},{"$f":"OFFSET('Precios finales '!O113,0,($O$1-1)*10)","v":"-"}]

{"sheet":"Reserva adic subir mensual","index":15,"n_rows":11,"n_cols":15,"rows_kept":11,"cut":false,"hidden":false,"merged":[]}
[null,null,null,null,null,null,null,null,null,null,null,null,null,null,4]
[]
[]
[null,null,null,null,null,null,null,null,null,null,null,"Concepto"]
[null,null,null,null,null,null,null,null,null,null,null,"Horizonte temporal"]
[null,null,null,null,null,null,null,null,null,null,null,"Periodo"]
[]
[null,null,"Ene.","Feb.","Mar.","Abr.","May.","Jun.","Jul.","Ago.","Sep.","Oct.","Nov.","Dic.",{"$f":"OFFSET(Año!B2,($O$1-1),0)","v":2013}]
[]
[null,"Potencia a subir (GW)",{"$f":"OFFSET('Precios finales '!AP171,0,($O$1-1)*13)","v":364.80369999999999},{"$f":"OFFSET('Precios finales '!AQ171,0,($O$1-1)*13)","v":273.72030000000001},{"$f":"OFFSET('Precios finales '!AR171,0,($O$1-1)*13)","v":354.85490000000004},{"$f":"OFFSET('Precios finales '!AS171,0,($O$1-1)*13)","v":251.0849},{"$f":"OFFSET('Precios finales '!AT171,0,($O$1-1)*13)","v":106.2975},{"$f":"OFFSET('Precios finales '!AU171,0,($O$1-1)*13)","v":0},{"$f":"OFFSET('Precios finales '!AV171,0,($O$1-1)*13)","v":1.5},{"$f":"OFFSET('Precios finales '!AW171,0,($O$1-1)*13)","v":43.448},{"$f":"OFFSET('Precios finales '!AX171,0,($O$1-1)*13)","v":134.69220000000001},{"$f":"OFFSET('Precios finales '!AY171,0,($O$1-1)*13)","v":440.0684},{"$f":"OFFSET('Precios finales '!AZ171,0,($O$1-1)*13)","v":778.87369999999999},{"$f":"OFFSET('Precios finales '!BA171,0,($O$1-1)*13)","v":260.5668},{"$f":"OFFSET('Precios finales '!BB171,0,($O$1-1)*13)","v":3009.9104000000002}]
[null,"Precio a subir (€/MW)",{"$f":"OFFSET('Precios finales '!AP172,0,($O$1-1)*13)","v":24.492978662222999},{"$f":"OFFSET('Precios finales '!AQ172,0,($O$1-1)*13)","v":31.393437680727398},{"$f":"OFFSET('Precios finales '!AR172,0,($O$1-1)*13)","v":49.3207645998407},{"$f":"OFFSET('Precios finales '!AS172,0,($O$1-1)*13)","v":59.916731631412297},{"$f":"OFFSET('Precios finales '!AT172,0,($O$1-1)*13)","v":38.903971589171903},{"$f":"OFFSET('Precios finales '!AU172,0,($O$1-1)*13)","v":"-"},{"$f":"OFFSET('Precios finales '!AV172,0,($O$1-1)*13)","v":9.98},{"$f":"OFFSET('Precios finales '!AW172,0,($O$1-1)*13)","v":26.386500184128199},{"$f":"OFFSET('Precios finales '!AX172,0,($O$1-1)*13)","v":32.152535855825398},{"$f":"OFFSET('Precios finales '!AY172,0,($O$1-1)*13)","v":43.392251545441603},{"$f":"OFFSET('Precios finales '!AZ172,0,($O$1-1)*13)","v":32.082891500894199},{"$f":"OFFSET('Precios finales '!BA172,0,($O$1-1)*13)","v":28.3515667383565},{"$f":"OFFSET('Precios finales '!BB172,0,($O$1-1)*13)","v":36.9356873513577}]

{"sheet":"Reserva adic subir anual","index":16,"n_rows":11,"n_cols":15,"rows_kept":11,"cut":false,"hidden":false,"merged":[]}
[null,null,null,null,null,null,null,null,null,null,null,null,null,null,1]
[]
[]
[null,null,null,null,null,null,null,null,"Concepto"]
[null,null,null,null,null,null,null,null,"Horizonte temporal"]
[null,null,null,null,null,null,null,null,"Periodo"]
[]
[null,null,{"$f":"OFFSET('Precios finales '!F175,0,($O$1-1))","v":2010},{"$f":"OFFSET('Precios finales '!G175,0,($O$1-1)*10)","v":2011},{"$f":"OFFSET('Precios finales '!H175,0,($O$1-1)*10)","v":2012},{"$f":"OFFSET('Precios finales '!I175,0,($O$1-1)*10)","v":2013},{"$f":"OFFSET('Precios finales '!J175,0,($O$1-1)*10)","v":2014},{"$f":"OFFSET('Precios finales '!K175,0,($O$1-1)*10)","v":2015},{"$f":"OFFSET('Precios finales '!L175,0,($O$1-1)*10)","v":2016},{"$f":"OFFSET('Precios finales '!M175,0,($O$1-1)*10)","v":2017},{"$f":"OFFSET('Precios finales '!N175,0,($O$1-1)*10)","v":2018},{"$f":"OFFSET('Precios finales '!O175,0,($O$1-1)*10)","v":2019}]
[]
[null,"Potencia a subir (GW)",{"$f":"OFFSET('Precios finales '!F176,0,($O$1-1)*10)","v":"-"},{"$f":"OFFSET('Precios finales '!G176,0,($O$1-1)*10)","v":"-"},{"$f":"OFFSET('Precios finales '!H176,0,($O$1-1)*10)","v":1635.6698999999999},{"$f":"OFFSET('Precios finales '!I176,0,($O$1-1)*10)","v":3009.9104000000002},{"$f":"OFFSET('Precios finales '!J176,0,($O$1-1)*10)","v":"-"},{"$f":"OFFSET('Precios finales '!K176,0,($O$1-1)*10)","v":"-"},{"$f":"OFFSET('Precios finales '!L176,0,($O$1-1)*10)","v":"-"},{"$f":"OFFSET('Precios finales '!M176,0,($O$1-1)*10)","v":"-"},{"$f":"OFFSET('Precios finales '!N176,0,($O$1-1)*10)","v":"-"},{"$f":"OFFSET('Precios finales '!O176,0,($O$1-1)*10)","v":"-"}]
[null,"Precio a subir (€/MW)",{"$f":"OFFSET('Precios finales '!F177,0,($O$1-1)*10)","v":"-"},{"$f":"OFFSET('Precios finales '!G177,0,($O$1-1)*10)","v":"-"},{"$f":"OFFSET('Precios finales '!H177,0,($O$1-1)*10)","v":39.675586320931899},{"$f":"OFFSET('Precios finales '!I177,0,($O$1-1)*10)","v":36.9356873513577},{"$f":"OFFSET('Precios finales '!J177,0,($O$1-1)*10)","v":"-"},{"$f":"OFFSET('Precios finales '!K177,0,($O$1-1)*10)","v":"-"},{"$f":"OFFSET('Precios finales '!L177,0,($O$1-1)*10)","v":"-"},{"$f":"OFFSET('Precios finales '!M177,0,($O$1-1)*10)","v":"-"},{"$f":"OFFSET('Precios finales '!N177,0,($O$1-1)*10)","v":"-"},{"$f":"OFFSET('Precios finales '!O177,0,($O$1-1)*10)","v":"-"}]

{"sheet":"Banda mensual","index":17,"n_rows":12,"n_cols":15,"rows_kept":12,"cut":false,"hidden":false,"merged":[]}
[null,null,null,null,null,null,null,null,null,null,null,null,null,null,4]
[]
[]
[null,null,null,null,null,null,null,null,null,null,null,"Concepto"]
[null,null,null,null,null,null,null,null,null,null,null,"Horizonte temporal"]
[null,null,null,null,null,null,null,null,null,null,null,"Periodo"]
[]
[null,null,"Ene.","Feb.","Mar.","Abr.","May.","Jun.","Jul.","Ago.","Sep.","Oct.","Nov.","Dic.",{"$f":"OFFSET(Año!B2,($O$1-1),0)","v":2013}]
[]
[null,"Potencia a subir (MW)",{"$f":"OFFSET('Precios finales '!AP181,0,($O$1-1)*13)","v":722.31586021505382},{"$f":"OFFSET('Precios finales '!AQ181,0,($O$1-1)*13)","v":703.27083333333337},{"$f":"OFFSET('Precios finales '!AR181,0,($O$1-1)*13)","v":697.92732166890983},{"$f":"OFFSET('Precios finales '!AS181,0,($O$1-1)*13)","v":679.32083333333333},{"$f":"OFFSET('Precios finales '!AT181,0,($O$1-1)*13)","v":678.91263440860212},{"$f":"OFFSET('Precios finales '!AU181,0,($O$1-1)*13)","v":676.8555555555555},{"$f":"OFFSET('Precios finales '!AV181,0,($O$1-1)*13)","v":698.02016129032256},{"$f":"OFFSET('Precios finales '!AW181,0,($O$1-1)*13)","v":693.68010752688178},{"$f":"OFFSET('Precios finales '!AX181,0,($O$1-1)*13)","v":666.45277777777778},{"$f":"OFFSET('Precios finales '!AY181,0,($O$1-1)*13)","v":685.71677852348989},{"$f":"OFFSET('Precios finales '!AZ181,0,($O$1-1)*13)","v":697.77638888888896},{"$f":"OFFSET('Precios finales '!BA181,0,($O$1-1)*13)","v":695.77150537634407},{"$f":"OFFSET('Precios finales '!BB181,0,($O$1-1)*13)","v":691.35867579908677}]
[null,"Potencia a bajar (MW)",{"$f":"OFFSET('Precios finales '!AP182,0,($O$1-1)*13)","v":529.30645161290329},{"$f":"OFFSET('Precios finales '!AQ182,0,($O$1-1)*13)","v":526.50892857142856},{"$f":"OFFSET('Precios finales '!AR182,0,($O$1-1)*13)","v":516.99596231493945},{"$f":"OFFSET('Precios finales '!AS182,0,($O$1-1)*13)","v":504.97499999999997},{"$f":"OFFSET('Precios finales '!AT182,0,($O$1-1)*13)","v":506.02553763440864},{"$f":"OFFSET('Precios finales '!AU182,0,($O$1-1)*13)","v":506.33750000000003},{"$f":"OFFSET('Precios finales '!AV182,0,($O$1-1)*13)","v":519.84543010752691},{"$f":"OFFSET('Precios finales '!AW182,0,($O$1-1)*13)","v":509.61290322580641},{"$f":"OFFSET('Precios finales '!AX182,0,($O$1-1)*13)","v":491.8416666666667},{"$f":"OFFSET('Precios finales '!AY182,0,($O$1-1)*13)","v":505.52483221476513},{"$f":"OFFSET('Precios finales '!AZ182,0,($O$1-1)*13)","v":509.2},{"$f":"OFFSET('Precios finales '!BA182,0,($O$1-1)*13)","v":516.14381720430106},{"$f":"OFFSET('Precios finales '!BB182,0,($O$1-1)*13)","v":511.83424657534249}]
[null,"Precio  (€/MW)",{"$f":"OFFSET('Precios finales '!AP183,0,($O$1-1)*13)","v":32.410573319800001},{"$f":"OFFSET('Precios finales '!AQ183,0,($O$1-1)*13)","v":32.6732232349},{"$f":"OFFSET('Precios finales '!AR183,0,($O$1-1)*13)","v":36.428950927499997},{"$f":"OFFSET('Precios finales '!AS183,0,($O$1-1)*13)","v":28.520254160099999},{"$f":"OFFSET('Precios finales '!AT183,0,($O$1-1)*13)","v":20.776980208600001},{"$f":"OFFSET('Precios finales '!AU183,0,($O$1-1)*13)","v":30.349194035899998},{"$f":"OFFSET('Precios finales '!AV183,0,($O$1-1)*13)","v":26.834151929400001},{"$f":"OFFSET('Precios finales '!AW183,0,($O$1-1)*13)","v":26.291471365500001},{"$f":"OFFSET('Precios finales '!AX183,0,($O$1-1)*13)","v":25.433117454800001},{"$f":"OFFSET('Precios finales '!AY183,0,($O$1-1)*13)","v":30.121223834399999},{"$f":"OFFSET('Precios finales '!AZ183,0,($O$1-1)*13)","v":26.111512100399999},{"$f":"OFFSET('Precios finales '!BA183,0,($O$1-1)*13)","v":38.194591727499997},{"$f":"OFFSET('Precios finales '!BB183,0,($O$1-1)*13)","v":29.552212425980649}]

{"sheet":"Banda anual","index":18,"n_rows":12,"n_cols":15,"rows_kept":12,"cut":false,"hidden":false,"merged":[]}
[null,null,null,null,null,null,null,null,null,null,null,null,null,null,1]
[]
[]
[null,null,null,null,null,null,null,null,"Concepto"]
[null,null,null,null,null,null,null,null,"Horizonte temporal"]
[null,null,null,null,null,null,null,null,"Periodo"]
[]
[null,null,{"$f":"OFFSET('Precios finales '!F175,0,($O$1-1))","v":2010},{"$f":"OFFSET('Precios finales '!G175,0,($O$1-1)*10)","v":2011},{"$f":"OFFSET('Precios finales '!H175,0,($O$1-1)*10)","v":2012},{"$f":"OFFSET('Precios finales '!I175,0,($O$1-1)*10)","v":2013},{"$f":"OFFSET('Precios finales '!J175,0,($O$1-1)*10)","v":2014},{"$f":"OFFSET('Precios finales '!K175,0,($O$1-1)*10)","v":2015},{"$f":"OFFSET('Precios finales '!L175,0,($O$1-1)*10)","v":2016},{"$f":"OFFSET('Precios finales '!M175,0,($O$1-1)*10)","v":2017},{"$f":"OFFSET('Precios finales '!N175,0,($O$1-1)*10)","v":2018},{"$f":"OFFSET('Precios finales '!O175,0,($O$1-1)*10)","v":2019}]
[]
[null,"Potencia a subir (MW)",{"$f":"OFFSET('Precios finales '!F187,0,($O$1-1)*10)","v":727.14063926940639},{"$f":"OFFSET('Precios finales '!G187,0,($O$1-1)*10)","v":716.18344748858442},{"$f":"OFFSET('Precios finales '!H187,0,($O$1-1)*10)","v":708.8869535519126},{"$f":"OFFSET('Precios finales '!I187,0,($O$1-1)*10)","v":691.35867579908677},{"$f":"OFFSET('Precios finales '!J187,0,($O$1-1)*10)","v":"-"},{"$f":"OFFSET('Precios finales '!K187,0,($O$1-1)*10)","v":"-"},{"$f":"OFFSET('Precios finales '!L187,0,($O$1-1)*10)","v":"-"},{"$f":"OFFSET('Precios finales '!M187,0,($O$1-1)*10)","v":"-"},{"$f":"OFFSET('Precios finales '!N187,0,($O$1-1)*10)","v":"-"},{"$f":"OFFSET('Precios finales '!O187,0,($O$1-1)*10)","v":"-"}]
[null,"Potencia a bajar (MW)",{"$f":"OFFSET('Precios finales '!F188,0,($O$1-1)*10)","v":531.09703196347027},{"$f":"OFFSET('Precios finales '!G188,0,($O$1-1)*10)","v":526.39086757990867},{"$f":"OFFSET('Precios finales '!H188,0,($O$1-1)*10)","v":522.3331056466302},{"$f":"OFFSET('Precios finales '!I188,0,($O$1-1)*10)","v":511.83424657534249},{"$f":"OFFSET('Precios finales '!J188,0,($O$1-1)*10)","v":"-"},{"$f":"OFFSET('Precios finales '!K188,0,($O$1-1)*10)","v":"-"},{"$f":"OFFSET('Precios finales '!L188,0,($O$1-1)*10)","v":"-"},{"$f":"OFFSET('Precios finales '!M188,0,($O$1-1)*10)","v":"-"},{"$f":"OFFSET('Precios finales '!N188,0,($O$1-1)*10)","v":"-"},{"$f":"OFFSET('Precios finales '!O188,0,($O$1-1)*10)","v":"-"}]
[null,"Precio  (€/MW)",{"$f":"OFFSET('Precios finales '!F189,0,($O$1-1)*10)","v":14.716310431321039},{"$f":"OFFSET('Precios finales '!G189,0,($O$1-1)*10)","v":15.87339089511657},{"$f":"OFFSET('Precios finales '!H189,0,($O$1-1)*10)","v":28.05767822669576},{"$f":"OFFSET('Precios finales '!I189,0,($O$1-1)*10)","v":29.552212425980649},{"$f":"OFFSET('Precios finales '!J189,0,($O$1-1)*10)","v":"-"},{"$f":"OFFSET('Precios finales '!K189,0,($O$1-1)*10)","v":"-"},{"$f":"OFFSET('Precios finales '!L189,0,($O$1-1)*10)","v":"-"},{"$f":"OFFSET('Precios finales '!M189,0,($O$1-1)*10)","v":"-"},{"$f":"OFFSET('Precios finales '!N189,0,($O$1-1)*10)","v":"-"},{"$f":"OFFSET('Precios finales '!O189,0,($O$1-1)*10)","v":"-"}]

{"sheet":"BALIT mensual","index":19,"n_rows":46,"n_cols":15,"rows_kept":46,"cut":false,"hidden":false,"merged":[]}
[null,null,null,null,null,null,null,null,null,null,null,null,null,null,4]
[]
[]
[null,null,null,null,null,null,null,null,null,null,null,"Concepto"]
[null,null,null,null,null,null,null,null,null,null,null,"Horizonte temporal"]
[null,null,null,null,null,null,null,null,null,null,null,"Periodo"]
[]
[null,null,"Ene.","Feb.","Mar.","Abr.","May.","Jun.","Jul.","Ago.","Sep.","Oct.","Nov.","Dic.",{"$f":"OFFSET(Año!B2,($O$1-1),0)","v":2013}]
[]
[null,"Energía y precios ofertados desde el sistema eléctrico español y activado por operadores externos"]
[null,"Ofertada por el sistema eléctrico español"]
[null,"Capacidad ofertada importación (GWh)",{"$f":"OFFSET('Precios finales '!AP195,0,($O$1-1)*13)","v":"-"},{"$f":"OFFSET('Precios finales '!AQ195,0,($O$1-1)*13)","v":"-"},{"$f":"OFFSET('Precios finales '!AR195,0,($O$1-1)*13)","v":"-"},{"$f":"OFFSET('Precios finales '!AS195,0,($O$1-1)*13)","v":"-"},{"$f":"OFFSET('Precios finales '!AT195,0,($O$1-1)*13)","v":"-"},{"$f":"OFFSET('Precios finales '!AU195,0,($O$1-1)*13)","v":"-"},{"$f":"OFFSET('Precios finales '!AV195,0,($O$1-1)*13)","v":"-"},{"$f":"OFFSET('Precios finales '!AW195,0,($O$1-1)*13)","v":"-"},{"$f":"OFFSET('Precios finales '!AX195,0,($O$1-1)*13)","v":"-"},{"$f":"OFFSET('Precios finales '!AY195,0,($O$1-1)*13)","v":"-"},{"$f":"OFFSET('Precios finales '!AZ195,0,($O$1-1)*13)","v":"-"},{"$f":"OFFSET('Precios finales '!BA195,0,($O$1-1)*13)","v":"-"},{"$f":"OFFSET('Precios finales '!BB195,0,($O$1-1)*13)","v":"-"}]
[null,"Precio ofertado importación (€/MWh)",{"$f":"OFFSET('Precios finales '!AP196,0,($O$1-1)*13)","v":"-"},{"$f":"OFFSET('Precios finales '!AQ196,0,($O$1-1)*13)","v":"-"},{"$f":"OFFSET('Precios finales '!AR196,0,($O$1-1)*13)","v":"-"},{"$f":"OFFSET('Precios finales '!AS196,0,($O$1-1)*13)","v":"-"},{"$f":"OFFSET('Precios finales '!AT196,0,($O$1-1)*13)","v":"-"},{"$f":"OFFSET('Precios finales '!AU196,0,($O$1-1)*13)","v":"-"},{"$f":"OFFSET('Precios finales '!AV196,0,($O$1-1)*13)","v":"-"},{"$f":"OFFSET('Precios finales '!AW196,0,($O$1-1)*13)","v":"-"},{"$f":"OFFSET('Precios finales '!AX196,0,($O$1-1)*13)","v":"-"},{"$f":"OFFSET('Precios finales '!AY196,0,($O$1-1)*13)","v":"-"},{"$f":"OFFSET('Precios finales '!AZ196,0,($O$1-1)*13)","v":"-"},{"$f":"OFFSET('Precios finales '!BA196,0,($O$1-1)*13)","v":"-"},{"$f":"OFFSET('Precios finales '!BB196,0,($O$1-1)*13)","v":"-"}]
[null,"Capacidad ofertada exportación (GWh)",{"$f":"OFFSET('Precios finales '!AP197,0,($O$1-1)*13)","v":"-"},{"$f":"OFFSET('Precios finales '!AQ197,0,($O$1-1)*13)","v":"-"},{"$f":"OFFSET('Precios finales '!AR197,0,($O$1-1)*13)","v":"-"},{"$f":"OFFSET('Precios finales '!AS197,0,($O$1-1)*13)","v":"-"},{"$f":"OFFSET('Precios finales '!AT197,0,($O$1-1)*13)","v":"-"},{"$f":"OFFSET('Precios finales '!AU197,0,($O$1-1)*13)","v":"-"},{"$f":"OFFSET('Precios finales '!AV197,0,($O$1-1)*13)","v":"-"},{"$f":"OFFSET('Precios finales '!AW197,0,($O$1-1)*13)","v":"-"},{"$f":"OFFSET('Precios finales '!AX197,0,($O$1-1)*13)","v":"-"},{"$f":"OFFSET('Precios finales '!AY197,0,($O$1-1)*13)","v":"-"},{"$f":"OFFSET('Precios finales '!AZ197,0,($O$1-1)*13)","v":"-"},{"$f":"OFFSET('Precios finales '!BA197,0,($O$1-1)*13)","v":"-"},{"$f":"OFFSET('Precios finales '!BB197,0,($O$1-1)*13)","v":"-"}]
[null,"Precio ofertado exportación (€/MWh)",{"$f":"OFFSET('Precios finales '!AP198,0,($O$1-1)*13)","v":"-"},{"$f":"OFFSET('Precios finales '!AQ198,0,($O$1-1)*13)","v":"-"},{"$f":"OFFSET('Precios finales '!AR198,0,($O$1-1)*13)","v":"-"},{"$f":"OFFSET('Precios finales '!AS198,0,($O$1-1)*13)","v":"-"},{"$f":"OFFSET('Precios finales '!AT198,0,($O$1-1)*13)","v":"-"},{"$f":"OFFSET('Precios finales '!AU198,0,($O$1-1)*13)","v":"-"},{"$f":"OFFSET('Precios finales '!AV198,0,($O$1-1)*13)","v":"-"},{"$f":"OFFSET('Precios finales '!AW198,0,($O$1-1)*13)","v":"-"},{"$f":"OFFSET('Precios finales '!AX198,0,($O$1-1)*13)","v":"-"},{"$f":"OFFSET('Precios finales '!AY198,0,($O$1-1)*13)","v":"-"},{"$f":"OFFSET('Precios finales '!AZ198,0,($O$1-1)*13)","v":"-"},{"$f":"OFFSET('Precios finales '!BA198,0,($O$1-1)*13)","v":"-"},{"$f":"OFFSET('Precios finales '!BB198,0,($O$1-1)*13)","v":"-"}]
[null,"Activados por operadores externos (RTE, REN)"]
[null,"Activado Francia importación (GWh)",{"$f":"OFFSET('Precios finales '!AP199,0,($O$1-1)*13)","v":"-"},{"$f":"OFFSET('Precios finales '!AQ199,0,($O$1-1)*13)","v":"-"},{"$f":"OFFSET('Precios finales '!AR199,0,($O$1-1)*13)","v":"-"},{"$f":"OFFSET('Precios finales '!AS199,0,($O$1-1)*13)","v":"-"},{"$f":"OFFSET('Precios finales '!AT199,0,($O$1-1)*13)","v":"-"},{"$f":"OFFSET('Precios finales '!AU199,0,($O$1-1)*13)","v":"-"},{"$f":"OFFSET('Precios finales '!AV199,0,($O$1-1)*13)","v":"-"},{"$f":"OFFSET('Precios finales '!AW199,0,($O$1-1)*13)","v":"-"},{"$f":"OFFSET('Precios finales '!AX199,0,($O$1-1)*13)","v":"-"},{"$f":"OFFSET('Precios finales '!AY199,0,($O$1-1)*13)","v":"-"},{"$f":"OFFSET('Precios finales '!AZ199,0,($O$1-1)*13)","v":"-"},{"$f":"OFFSET('Precios finales '!BA199,0,($O$1-1)*13)","v":"-"},{"$f":"OFFSET('Precios finales '!BB199,0,($O$1-1)*13)","v":"-"}]
[null,"Precio Francia importación (€/MWh)",{"$f":"OFFSET('Precios finales '!AP200,0,($O$1-1)*13)","v":"-"},{"$f":"OFFSET('Precios finales '!AQ200,0,($O$1-1)*13)","v":"-"},{"$f":"OFFSET('Precios finales '!AR200,0,($O$1-1)*13)","v":"-"},{"$f":"OFFSET('Precios finales '!AS200,0,($O$1-1)*13)","v":"-"},{"$f":"OFFSET('Precios finales '!AT200,0,($O$1-1)*13)","v":"-"},{"$f":"OFFSET('Precios finales '!AU200,0,($O$1-1)*13)","v":"-"},{"$f":"OFFSET('Precios finales '!AV200,0,($O$1-1)*13)","v":"-"},{"$f":"OFFSET('Precios finales '!AW200,0,($O$1-1)*13)","v":"-"},{"$f":"OFFSET('Precios finales '!AX200,0,($O$1-1)*13)","v":"-"},{"$f":"OFFSET('Precios finales '!AY200,0,($O$1-1)*13)","v":"-"},{"$f":"OFFSET('Precios finales '!AZ200,0,($O$1-1)*13)","v":"-"},{"$f":"OFFSET('Precios finales '!BA200,0,($O$1-1)*13)","v":"-"},{"$f":"OFFSET('Precios finales '!BB200,0,($O$1-1)*13)","v":"-"}]
[null,"Activado Portugal importación (GWh)",{"$f":"OFFSET('Precios finales '!AP203,0,($O$1-1)*13)","v":"-"},{"$f":"OFFSET('Precios finales '!AQ203,0,($O$1-1)*13)","v":"-"},{"$f":"OFFSET('Precios finales '!AR203,0,($O$1-1)*13)","v":"-"},{"$f":"OFFSET('Precios finales '!AS203,0,($O$1-1)*13)","v":"-"},{"$f":"OFFSET('Precios finales '!AT203,0,($O$1-1)*13)","v":"-"},{"$f":"OFFSET('Precios finales '!AU203,0,($O$1-1)*13)","v":"-"},{"$f":"OFFSET('Precios finales '!AV203,0,($O$1-1)*13)","v":"-"},{"$f":"OFFSET('Precios finales '!AW203,0,($O$1-1)*13)","v":"-"},{"$f":"OFFSET('Precios finales '!AX203,0,($O$1-1)*13)","v":"-"},{"$f":"OFFSET('Precios finales '!AY203,0,($O$1-1)*13)","v":"-"},{"$f":"OFFSET('Precios finales '!AZ203,0,($O$1-1)*13)","v":"-"},{"$f":"OFFSET('Precios finales '!BA203,0,($O$1-1)*13)","v":"-"},{"$f":"OFFSET('Precios finales '!BB203,0,($O$1-1)*13)","v":"-"}]
[null,"Precio Portugal importación (€/MWh)",{"$f":"OFFSET('Precios finales '!AP204,0,($O$1-1)*13)","v":"-"},{"$f":"OFFSET('Precios finales '!AQ204,0,($O$1-1)*13)","v":"-"},{"$f":"OFFSET('Precios finales '!AR204,0,($O$1-1)*13)","v":"-"},{"$f":"OFFSET('Precios finales '!AS204,0,($O$1-1)*13)","v":"-"},{"$f":"OFFSET('Precios finales '!AT204,0,($O$1-1)*13)","v":"-"},{"$f":"OFFSET('Precios finales '!AU204,0,($O$1-1)*13)","v":"-"},{"$f":"OFFSET('Precios finales '!AV204,0,($O$1-1)*13)","v":"-"},{"$f":"OFFSET('Precios finales '!AW204,0,($O$1-1)*13)","v":"-"},{"$f":"OFFSET('Precios finales '!AX204,0,($O$1-1)*13)","v":"-"},{"$f":"OFFSET('Precios finales '!AY204,0,($O$1-1)*13)","v":"-"},{"$f":"OFFSET('Precios finales '!AZ204,0,($O$1-1)*13)","v":"-"},{"$f":"OFFSET('Precios finales '!BA204,0,($O$1-1)*13)","v":"-"},{"$f":"OFFSET('Precios finales '!BB204,0,($O$1-1)*13)","v":"-"}]
[null,"Activado Francia exportación (GWh)",{"$f":"OFFSET('Precios finales '!AP201,0,($O$1-1)*13)","v":"-"},{"$f":"OFFSET('Precios finales '!AQ201,0,($O$1-1)*13)","v":"-"},{"$f":"OFFSET('Precios finales '!AR201,0,($O$1-1)*13)","v":"-"},{"$f":"OFFSET('Precios finales '!AS201,0,($O$1-1)*13)","v":"-"},{"$f":"OFFSET('Precios finales '!AT201,0,($O$1-1)*13)","v":"-"},{"$f":"OFFSET('Precios finales '!AU201,0,($O$1-1)*13)","v":"-"},{"$f":"OFFSET('Precios finales '!AV201,0,($O$1-1)*13)","v":"-"},{"$f":"OFFSET('Precios finales '!AW201,0,($O$1-1)*13)","v":"-"},{"$f":"OFFSET('Precios finales '!AX201,0,($O$1-1)*13)","v":"-"},{"$f":"OFFSET('Precios finales '!AY201,0,($O$1-1)*13)","v":"-"},{"$f":"OFFSET('Precios finales '!AZ201,0,($O$1-1)*13)","v":"-"},{"$f":"OFFSET('Precios finales '!BA201,0,($O$1-1)*13)","v":"-"},{"$f":"OFFSET('Precios finales '!BB201,0,($O$1-1)*13)","v":"-"}]
[null,"Precio Francia exportación (€/MWh)",{"$f":"OFFSET('Precios finales '!AP202,0,($O$1-1)*13)","v":"-"},{"$f":"OFFSET('Precios finales '!AQ202,0,($O$1-1)*13)","v":"-"},{"$f":"OFFSET('Precios finales '!AR202,0,($O$1-1)*13)","v":"-"},{"$f":"OFFSET('Precios finales '!AS202,0,($O$1-1)*13)","v":"-"},{"$f":"OFFSET('Precios finales '!AT202,0,($O$1-1)*13)","v":"-"},{"$f":"OFFSET('Precios finales '!AU202,0,($O$1-1)*13)","v":"-"},{"$f":"OFFSET('Precios finales '!AV202,0,($O$1-1)*13)","v":"-"},{"$f":"OFFSET('Precios finales '!AW202,0,($O$1-1)*13)","v":"-"},{"$f":"OFFSET('Precios finales '!AX202,0,($O$1-1)*13)","v":"-"},{"$f":"OFFSET('Precios finales '!AY202,0,($O$1-1)*13)","v":"-"},{"$f":"OFFSET('Precios finales '!AZ202,0,($O$1-1)*13)","v":"-"},{"$f":"OFFSET('Precios finales '!BA202,0,($O$1-1)*13)","v":"-"},{"$f":"OFFSET('Precios finales '!BB202,0,($O$1-1)*13)","v":"-"}]
[null,"Activado Portugal exportación (GWh)",{"$f":"OFFSET('Precios finales '!AP205,0,($O$1-1)*13)","v":"-"},{"$f":"OFFSET('Precios finales '!AQ205,0,($O$1-1)*13)","v":"-"},{"$f":"OFFSET('Precios finales '!AR205,0,($O$1-1)*13)","v":"-"},{"$f":"OFFSET('Precios finales '!AS205,0,($O$1-1)*13)","v":"-"},{"$f":"OFFSET('Precios finales '!AT205,0,($O$1-1)*13)","v":"-"},{"$f":"OFFSET('Precios finales '!AU205,0,($O$1-1)*13)","v":"-"},{"$f":"OFFSET('Precios finales '!AV205,0,($O$1-1)*13)","v":"-"},{"$f":"OFFSET('Precios finales '!AW205,0,($O$1-1)*13)","v":"-"},{"$f":"OFFSET('Precios finales '!AX205,0,($O$1-1)*13)","v":"-"},{"$f":"OFFSET('Precios finales '!AY205,0,($O$1-1)*13)","v":"-"},{"$f":"OFFSET('Precios finales '!AZ205,0,($O$1-1)*13)","v":"-"},{"$f":"OFFSET('Precios finales '!BA205,0,($O$1-1)*13)","v":"-"},{"$f":"OFFSET('Precios finales '!BB205,0,($O$1-1)*13)","v":"-"}]
[null,"Precio Portugal exportación (€/MWh)",{"$f":"OFFSET('Precios finales '!AP206,0,($O$1-1)*13)","v":"-"},{"$f":"OFFSET('Precios finales '!AQ206,0,($O$1-1)*13)","v":"-"},{"$f":"OFFSET('Precios finales '!AR206,0,($O$1-1)*13)","v":"-"},{"$f":"OFFSET('Precios finales '!AS206,0,($O$1-1)*13)","v":"-"},{"$f":"OFFSET('Precios finales '!AT206,0,($O$1-1)*13)","v":"-"},{"$f":"OFFSET('Precios finales '!AU206,0,($O$1-1)*13)","v":"-"},{"$f":"OFFSET('Precios finales '!AV206,0,($O$1-1)*13)","v":"-"},{"$f":"OFFSET('Precios finales '!AW206,0,($O$1-1)*13)","v":"-"},{"$f":"OFFSET('Precios finales '!AX206,0,($O$1-1)*13)","v":"-"},{"$f":"OFFSET('Precios finales '!AY206,0,($O$1-1)*13)","v":"-"},{"$f":"OFFSET('Precios finales '!AZ206,0,($O$1-1)*13)","v":"-"},{"$f":"OFFSET('Precios finales '!BA206,0,($O$1-1)*13)","v":"-"},{"$f":"OFFSET('Precios finales '!BB206,0,($O$1-1)*13)","v":"-"}]
[]
[null,"Energía y precios ofertados por Francia (RTE) y activado por REE"]
[null,"Capacidad ofertada importación (GWh)",{"$f":"OFFSET('Precios finales '!AP209,0,($O$1-1)*13)","v":"-"},{"$f":"OFFSET('Precios finales '!AQ209,0,($O$1-1)*13)","v":"-"},{"$f":"OFFSET('Precios finales '!AR209,0,($O$1-1)*13)","v":"-"},{"$f":"OFFSET('Precios finales '!AS209,0,($O$1-1)*13)","v":"-"},{"$f":"OFFSET('Precios finales '!AT209,0,($O$1-1)*13)","v":"-"},{"$f":"OFFSET('Precios finales '!AU209,0,($O$1-1)*13)","v":"-"},{"$f":"OFFSET('Precios finales '!AV209,0,($O$1-1)*13)","v":"-"},{"$f":"OFFSET('Precios finales '!AW209,0,($O$1-1)*13)","v":"-"},{"$f":"OFFSET('Precios finales '!AX209,0,($O$1-1)*13)","v":"-"},{"$f":"OFFSET('Precios finales '!AY209,0,($O$1-1)*13)","v":"-"},{"$f":"OFFSET('Precios finales '!AZ209,0,($O$1-1)*13)","v":"-"},{"$f":"OFFSET('Precios finales '!BA209,0,($O$1-1)*13)","v":"-"},{"$f":"OFFSET('Precios finales '!BB209,0,($O$1-1)*13)","v":"-"}]
[null,"Precio ofertado importación (€/MWh)",{"$f":"OFFSET('Precios finales '!AP210,0,($O$1-1)*13)","v":"-"},{"$f":"OFFSET('Precios finales '!AQ210,0,($O$1-1)*13)","v":"-"},{"$f":"OFFSET('Precios finales '!AR210,0,($O$1-1)*13)","v":"-"},{"$f":"OFFSET('Precios finales '!AS210,0,($O$1-1)*13)","v":"-"},{"$f":"OFFSET('Precios finales '!AT210,0,($O$1-1)*13)","v":"-"},{"$f":"OFFSET('Precios finales '!AU210,0,($O$1-1)*13)","v":"-"},{"$f":"OFFSET('Precios finales '!AV210,0,($O$1-1)*13)","v":"-"},{"$f":"OFFSET('Precios finales '!AW210,0,($O$1-1)*13)","v":"-"},{"$f":"OFFSET('Precios finales '!AX210,0,($O$1-1)*13)","v":"-"},{"$f":"OFFSET('Precios finales '!AY210,0,($O$1-1)*13)","v":"-"},{"$f":"OFFSET('Precios finales '!AZ210,0,($O$1-1)*13)","v":"-"},{"$f":"OFFSET('Precios finales '!BA210,0,($O$1-1)*13)","v":"-"},{"$f":"OFFSET('Precios finales '!BB210,0,($O$1-1)*13)","v":"-"}]
[null,"Capacidad ofertada exportación (GWh)",{"$f":"OFFSET('Precios finales '!AP211,0,($O$1-1)*13)","v":"-"},{"$f":"OFFSET('Precios finales '!AQ211,0,($O$1-1)*13)","v":"-"},{"$f":"OFFSET('Precios finales '!AR211,0,($O$1-1)*13)","v":"-"},{"$f":"OFFSET('Precios finales '!AS211,0,($O$1-1)*13)","v":"-"},{"$f":"OFFSET('Precios finales '!AT211,0,($O$1-1)*13)","v":"-"},{"$f":"OFFSET('Precios finales '!AU211,0,($O$1-1)*13)","v":"-"},{"$f":"OFFSET('Precios finales '!AV211,0,($O$1-1)*13)","v":"-"},{"$f":"OFFSET('Precios finales '!AW211,0,($O$1-1)*13)","v":"-"},{"$f":"OFFSET('Precios finales '!AX211,0,($O$1-1)*13)","v":"-"},{"$f":"OFFSET('Precios finales '!AY211,0,($O$1-1)*13)","v":"-"},{"$f":"OFFSET('Precios finales '!AZ211,0,($O$1-1)*13)","v":"-"},{"$f":"OFFSET('Precios finales '!BA211,0,($O$1-1)*13)","v":"-"},{"$f":"OFFSET('Precios finales '!BB211,0,($O$1-1)*13)","v":"-"}]
[null,"Precio ofertado exportación (€/MWh)",{"$f":"OFFSET('Precios finales '!AP212,0,($O$1-1)*13)","v":"-"},{"$f":"OFFSET('Precios finales '!AQ212,0,($O$1-1)*13)","v":"-"},{"$f":"OFFSET('Precios finales '!AR212,0,($O$1-1)*13)","v":"-"},{"$f":"OFFSET('Precios finales '!AS212,0,($O$1-1)*13)","v":"-"},{"$f":"OFFSET('Precios finales '!AT212,0,($O$1-1)*13)","v":"-"},{"$f":"OFFSET('Precios finales '!AU212,0,($O$1-1)*13)","v":"-"},{"$f":"OFFSET('Precios finales '!AV212,0,($O$1-1)*13)","v":"-"},{"$f":"OFFSET('Precios finales '!AW212,0,($O$1-1)*13)","v":"-"},{"$f":"OFFSET('Precios finales '!AX212,0,($O$1-1)*13)","v":"-"},{"$f":"OFFSET('Precios finales '!AY212,0,($O$1-1)*13)","v":"-"},{"$f":"OFFSET('Precios finales '!AZ212,0,($O$1-1)*13)","v":"-"},{"$f":"OFFSET('Precios finales '!BA212,0,($O$1-1)*13)","v":"-"},{"$f":"OFFSET('Precios finales '!BB212,0,($O$1-1)*13)","v":"-"}]
[null,"Activados por REE"]
[null,"Activado importación (GWh)",{"$f":"OFFSET('Precios finales '!AP213,0,($O$1-1)*13)","v":"-"},{"$f":"OFFSET('Precios finales '!AQ213,0,($O$1-1)*13)","v":"-"},{"$f":"OFFSET('Precios finales '!AR213,0,($O$1-1)*13)","v":"-"},{"$f":"OFFSET('Precios finales '!AS213,0,($O$1-1)*13)","v":"-"},{"$f":"OFFSET('Precios finales '!AT213,0,($O$1-1)*13)","v":"-"},{"$f":"OFFSET('Precios finales '!AU213,0,($O$1-1)*13)","v":"-"},{"$f":"OFFSET('Precios finales '!AV213,0,($O$1-1)*13)","v":"-"},{"$f":"OFFSET('Precios finales '!AW213,0,($O$1-1)*13)","v":"-"},{"$f":"OFFSET('Precios finales '!AX213,0,($O$1-1)*13)","v":"-"},{"$f":"OFFSET('Precios finales '!AY213,0,($O$1-1)*13)","v":"-"},{"$f":"OFFSET('Precios finales '!AZ213,0,($O$1-1)*13)","v":"-"},{"$f":"OFFSET('Precios finales '!BA213,0,($O$1-1)*13)","v":"-"},{"$f":"OFFSET('Precios finales '!BB213,0,($O$1-1)*13)","v":"-"}]
[null,"Precio  importación (€/MWh)",{"$f":"OFFSET('Precios finales '!AP214,0,($O$1-1)*13)","v":"-"},{"$f":"OFFSET('Precios finales '!AQ214,0,($O$1-1)*13)","v":"-"},{"$f":"OFFSET('Precios finales '!AR214,0,($O$1-1)*13)","v":"-"},{"$f":"OFFSET('Precios finales '!AS214,0,($O$1-1)*13)","v":"-"},{"$f":"OFFSET('Precios finales '!AT214,0,($O$1-1)*13)","v":"-"},{"$f":"OFFSET('Precios finales '!AU214,0,($O$1-1)*13)","v":"-"},{"$f":"OFFSET('Precios finales '!AV214,0,($O$1-1)*13)","v":"-"},{"$f":"OFFSET('Precios finales '!AW214,0,($O$1-1)*13)","v":"-"},{"$f":"OFFSET('Precios finales '!AX214,0,($O$1-1)*13)","v":"-"},{"$f":"OFFSET('Precios finales '!AY214,0,($O$1-1)*13)","v":"-"},{"$f":"OFFSET('Precios finales '!AZ214,0,($O$1-1)*13)","v":"-"},{"$f":"OFFSET('Precios finales '!BA214,0,($O$1-1)*13)","v":"-"},{"$f":"OFFSET('Precios finales '!BB214,0,($O$1-1)*13)","v":"-"}]
[null,"Activado exportación (GWh)",{"$f":"OFFSET('Precios finales '!AP215,0,($O$1-1)*13)","v":"-"},{"$f":"OFFSET('Precios finales '!AQ215,0,($O$1-1)*13)","v":"-"},{"$f":"OFFSET('Precios finales '!AR215,0,($O$1-1)*13)","v":"-"},{"$f":"OFFSET('Precios finales '!AS215,0,($O$1-1)*13)","v":"-"},{"$f":"OFFSET('Precios finales '!AT215,0,($O$1-1)*13)","v":"-"},{"$f":"OFFSET('Precios finales '!AU215,0,($O$1-1)*13)","v":"-"},{"$f":"OFFSET('Precios finales '!AV215,0,($O$1-1)*13)","v":"-"},{"$f":"OFFSET('Precios finales '!AW215,0,($O$1-1)*13)","v":"-"},{"$f":"OFFSET('Precios finales '!AX215,0,($O$1-1)*13)","v":"-"},{"$f":"OFFSET('Precios finales '!AY215,0,($O$1-1)*13)","v":"-"},{"$f":"OFFSET('Precios finales '!AZ215,0,($O$1-1)*13)","v":"-"},{"$f":"OFFSET('Precios finales '!BA215,0,($O$1-1)*13)","v":"-"},{"$f":"OFFSET('Precios finales '!BB215,0,($O$1-1)*13)","v":"-"}]
[null,"Precio exportación (€/MWh)",{"$f":"OFFSET('Precios finales '!AP216,0,($O$1-1)*13)","v":"-"},{"$f":"OFFSET('Precios finales '!AQ216,0,($O$1-1)*13)","v":"-"},{"$f":"OFFSET('Precios finales '!AR216,0,($O$1-1)*13)","v":"-"},{"$f":"OFFSET('Precios finales '!AS216,0,($O$1-1)*13)","v":"-"},{"$f":"OFFSET('Precios finales '!AT216,0,($O$1-1)*13)","v":"-"},{"$f":"OFFSET('Precios finales '!AU216,0,($O$1-1)*13)","v":"-"},{"$f":"OFFSET('Precios finales '!AV216,0,($O$1-1)*13)","v":"-"},{"$f":"OFFSET('Precios finales '!AW216,0,($O$1-1)*13)","v":"-"},{"$f":"OFFSET('Precios finales '!AX216,0,($O$1-1)*13)","v":"-"},{"$f":"OFFSET('Precios finales '!AY216,0,($O$1-1)*13)","v":"-"},{"$f":"OFFSET('Precios finales '!AZ216,0,($O$1-1)*13)","v":"-"},{"$f":"OFFSET('Precios finales '!BA216,0,($O$1-1)*13)","v":"-"},{"$f":"OFFSET('Precios finales '!BB216,0,($O$1-1)*13)","v":"-"}]
[]
[null,"Energía y precios ofertados por Portugal (REN) y activado por REE"]
[null,"Capacidad ofertada importación (GWh)",{"$f":"OFFSET('Precios finales '!AP219,0,($O$1-1)*13)","v":"-"},{"$f":"OFFSET('Precios finales '!AQ219,0,($O$1-1)*13)","v":"-"},{"$f":"OFFSET('Precios finales '!AR219,0,($O$1-1)*13)","v":"-"},{"$f":"OFFSET('Precios finales '!AS219,0,($O$1-1)*13)","v":"-"},{"$f":"OFFSET('Precios finales '!AT219,0,($O$1-1)*13)","v":"-"},{"$f":"OFFSET('Precios finales '!AU219,0,($O$1-1)*13)","v":"-"},{"$f":"OFFSET('Precios finales '!AV219,0,($O$1-1)*13)","v":"-"},{"$f":"OFFSET('Precios finales '!AW219,0,($O$1-1)*13)","v":"-"},{"$f":"OFFSET('Precios finales '!AX219,0,($O$1-1)*13)","v":"-"},{"$f":"OFFSET('Precios finales '!AY219,0,($O$1-1)*13)","v":"-"},{"$f":"OFFSET('Precios finales '!AZ219,0,($O$1-1)*13)","v":"-"},{"$f":"OFFSET('Precios finales '!BA219,0,($O$1-1)*13)","v":"-"},{"$f":"OFFSET('Precios finales '!BB219,0,($O$1-1)*13)","v":"-"}]
[null,"Precio ofertado importación (€/MWh)",{"$f":"OFFSET('Precios finales '!AP220,0,($O$1-1)*13)","v":"-"},{"$f":"OFFSET('Precios finales '!AQ220,0,($O$1-1)*13)","v":"-"},{"$f":"OFFSET('Precios finales '!AR220,0,($O$1-1)*13)","v":"-"},{"$f":"OFFSET('Precios finales '!AS220,0,($O$1-1)*13)","v":"-"},{"$f":"OFFSET('Precios finales '!AT220,0,($O$1-1)*13)","v":"-"},{"$f":"OFFSET('Precios finales '!AU220,0,($O$1-1)*13)","v":"-"},{"$f":"OFFSET('Precios finales '!AV220,0,($O$1-1)*13)","v":"-"},{"$f":"OFFSET('Precios finales '!AW220,0,($O$1-1)*13)","v":"-"},{"$f":"OFFSET('Precios finales '!AX220,0,($O$1-1)*13)","v":"-"},{"$f":"OFFSET('Precios finales '!AY220,0,($O$1-1)*13)","v":"-"},{"$f":"OFFSET('Precios finales '!AZ220,0,($O$1-1)*13)","v":"-"},{"$f":"OFFSET('Precios finales '!BA220,0,($O$1-1)*13)","v":"-"},{"$f":"OFFSET('Precios finales '!BB220,0,($O$1-1)*13)","v":"-"}]
[null,"Capacidad ofertada exportación (GWh)",{"$f":"OFFSET('Precios finales '!AP221,0,($O$1-1)*13)","v":"-"},{"$f":"OFFSET('Precios finales '!AQ221,0,($O$1-1)*13)","v":"-"},{"$f":"OFFSET('Precios finales '!AR221,0,($O$1-1)*13)","v":"-"},{"$f":"OFFSET('Precios finales '!AS221,0,($O$1-1)*13)","v":"-"},{"$f":"OFFSET('Precios finales '!AT221,0,($O$1-1)*13)","v":"-"},{"$f":"OFFSET('Precios finales '!AU221,0,($O$1-1)*13)","v":"-"},{"$f":"OFFSET('Precios finales '!AV221,0,($O$1-1)*13)","v":"-"},{"$f":"OFFSET('Precios finales '!AW221,0,($O$1-1)*13)","v":"-"},{"$f":"OFFSET('Precios finales '!AX221,0,($O$1-1)*13)","v":"-"},{"$f":"OFFSET('Precios finales '!AY221,0,($O$1-1)*13)","v":"-"},{"$f":"OFFSET('Precios finales '!AZ221,0,($O$1-1)*13)","v":"-"},{"$f":"OFFSET('Precios finales '!BA221,0,($O$1-1)*13)","v":"-"},{"$f":"OFFSET('Precios finales '!BB221,0,($O$1-1)*13)","v":"-"}]
[null,"Precio ofertado exportación (€/MWh)",{"$f":"OFFSET('Precios finales '!AP222,0,($O$1-1)*13)","v":"-"},{"$f":"OFFSET('Precios finales '!AQ222,0,($O$1-1)*13)","v":"-"},{"$f":"OFFSET('Precios finales '!AR222,0,($O$1-1)*13)","v":"-"},{"$f":"OFFSET('Precios finales '!AS222,0,($O$1-1)*13)","v":"-"},{"$f":"OFFSET('Precios finales '!AT222,0,($O$1-1)*13)","v":"-"},{"$f":"OFFSET('Precios finales '!AU222,0,($O$1-1)*13)","v":"-"},{"$f":"OFFSET('Precios finales '!AV222,0,($O$1-1)*13)","v":"-"},{"$f":"OFFSET('Precios finales '!AW222,0,($O$1-1)*13)","v":"-"},{"$f":"OFFSET('Precios finales '!AX222,0,($O$1-1)*13)","v":"-"},{"$f":"OFFSET('Precios finales '!AY222,0,($O$1-1)*13)","v":"-"},{"$f":"OFFSET('Precios finales '!AZ222,0,($O$1-1)*13)","v":"-"},{"$f":"OFFSET('Precios finales '!BA222,0,($O$1-1)*13)","v":"-"},{"$f":"OFFSET('Precios finales '!BB222,0,($O$1-1)*13)","v":"-"}]
[null,"Activados por REE"]
[null,"Activado importación (GWh)",{"$f":"OFFSET('Precios finales '!AP223,0,($O$1-1)*13)","v":"-"},{"$f":"OFFSET('Precios finales '!AQ223,0,($O$1-1)*13)","v":"-"},{"$f":"OFFSET('Precios finales '!AR223,0,($O$1-1)*13)","v":"-"},{"$f":"OFFSET('Precios finales '!AS223,0,($O$1-1)*13)","v":"-"},{"$f":"OFFSET('Precios finales '!AT223,0,($O$1-1)*13)","v":"-"},{"$f":"OFFSET('Precios finales '!AU223,0,($O$1-1)*13)","v":"-"},{"$f":"OFFSET('Precios finales '!AV223,0,($O$1-1)*13)","v":"-"},{"$f":"OFFSET('Precios finales '!AW223,0,($O$1-1)*13)","v":"-"},{"$f":"OFFSET('Precios finales '!AX223,0,($O$1-1)*13)","v":"-"},{"$f":"OFFSET('Precios finales '!AY223,0,($O$1-1)*13)","v":"-"},{"$f":"OFFSET('Precios finales '!AZ223,0,($O$1-1)*13)","v":"-"},{"$f":"OFFSET('Precios finales '!BA223,0,($O$1-1)*13)","v":"-"},{"$f":"OFFSET('Precios finales '!BB223,0,($O$1-1)*13)","v":"-"}]
[null,"Precio  importación (€/MWh)",{"$f":"OFFSET('Precios finales '!AP224,0,($O$1-1)*13)","v":"-"},{"$f":"OFFSET('Precios finales '!AQ224,0,($O$1-1)*13)","v":"-"},{"$f":"OFFSET('Precios finales '!AR224,0,($O$1-1)*13)","v":"-"},{"$f":"OFFSET('Precios finales '!AS224,0,($O$1-1)*13)","v":"-"},{"$f":"OFFSET('Precios finales '!AT224,0,($O$1-1)*13)","v":"-"},{"$f":"OFFSET('Precios finales '!AU224,0,($O$1-1)*13)","v":"-"},{"$f":"OFFSET('Precios finales '!AV224,0,($O$1-1)*13)","v":"-"},{"$f":"OFFSET('Precios finales '!AW224,0,($O$1-1)*13)","v":"-"},{"$f":"OFFSET('Precios finales '!AX224,0,($O$1-1)*13)","v":"-"},{"$f":"OFFSET('Precios finales '!AY224,0,($O$1-1)*13)","v":"-"},{"$f":"OFFSET('Precios finales '!AZ224,0,($O$1-1)*13)","v":"-"},{"$f":"OFFSET('Precios finales '!BA224,0,($O$1-1)*13)","v":"-"},{"$f":"OFFSET('Precios finales '!BB224,0,($O$1-1)*13)","v":"-"}]
[null,"Activado exportación (GWh)",{"$f":"OFFSET('Precios finales '!AP225,0,($O$1-1)*13)","v":"-"},{"$f":"OFFSET('Precios finales '!AQ225,0,($O$1-1)*13)","v":"-"},{"$f":"OFFSET('Precios finales '!AR225,0,($O$1-1)*13)","v":"-"},{"$f":"OFFSET('Precios finales '!AS225,0,($O$1-1)*13)","v":"-"},{"$f":"OFFSET('Precios finales '!AT225,0,($O$1-1)*13)","v":"-"},{"$f":"OFFSET('Precios finales '!AU225,0,($O$1-1)*13)","v":"-"},{"$f":"OFFSET('Precios finales '!AV225,0,($O$1-1)*13)","v":"-"},{"$f":"OFFSET('Precios finales '!AW225,0,($O$1-1)*13)","v":"-"},{"$f":"OFFSET('Precios finales '!AX225,0,($O$1-1)*13)","v":"-"},{"$f":"OFFSET('Precios finales '!AY225,0,($O$1-1)*13)","v":"-"},{"$f":"OFFSET('Precios finales '!AZ225,0,($O$1-1)*13)","v":"-"},{"$f":"OFFSET('Precios finales '!BA225,0,($O$1-1)*13)","v":"-"},{"$f":"OFFSET('Precios finales '!BB225,0,($O$1-1)*13)","v":"-"}]
[null,"Precio exportación (€/MWh)",{"$f":"OFFSET('Precios finales '!AP226,0,($O$1-1)*13)","v":"-"},{"$f":"OFFSET('Precios finales '!AQ226,0,($O$1-1)*13)","v":"-"},{"$f":"OFFSET('Precios finales '!AR226,0,($O$1-1)*13)","v":"-"},{"$f":"OFFSET('Precios finales '!AS226,0,($O$1-1)*13)","v":"-"},{"$f":"OFFSET('Precios finales '!AT226,0,($O$1-1)*13)","v":"-"},{"$f":"OFFSET('Precios finales '!AU226,0,($O$1-1)*13)","v":"-"},{"$f":"OFFSET('Precios finales '!AV226,0,($O$1-1)*13)","v":"-"},{"$f":"OFFSET('Precios finales '!AW226,0,($O$1-1)*13)","v":"-"},{"$f":"OFFSET('Precios finales '!AX226,0,($O$1-1)*13)","v":"-"},{"$f":"OFFSET('Precios finales '!AY226,0,($O$1-1)*13)","v":"-"},{"$f":"OFFSET('Precios finales '!AZ226,0,($O$1-1)*13)","v":"-"},{"$f":"OFFSET('Precios finales '!BA226,0,($O$1-1)*13)","v":"-"},{"$f":"OFFSET('Precios finales '!BB226,0,($O$1-1)*13)","v":"-"}]

{"sheet":"BALIT anual","index":20,"n_rows":46,"n_cols":15,"rows_kept":46,"cut":false,"hidden":false,"merged":[]}
[null,null,null,null,null,null,null,null,null,null,null,null,null,null,1]
[]
[]
[null,null,null,null,null,null,null,null,"Concepto"]
[null,null,null,null,null,null,null,null,"Horizonte temporal"]
[null,null,null,null,null,null,null,null,"Periodo"]
[]
[null,null,{"$f":"OFFSET('Precios finales '!F24,0,($O$1-1)*10)","v":2010},{"$f":"OFFSET('Precios finales '!G24,0,($O$1-1)*10)","v":2011},{"$f":"OFFSET('Precios finales '!H24,0,($O$1-1)*10)","v":2012},{"$f":"OFFSET('Precios finales '!I24,0,($O$1-1)*10)","v":2013},{"$f":"OFFSET('Precios finales '!J24,0,($O$1-1)*10)","v":2014},{"$f":"OFFSET('Precios finales '!K24,0,($O$1-1)*10)","v":2015},{"$f":"OFFSET('Precios finales '!L24,0,($O$1-1)*10)","v":2016},{"$f":"OFFSET('Precios finales '!M24,0,($O$1-1)*10)","v":2017},{"$f":"OFFSET('Precios finales '!N24,0,($O$1-1)*10)","v":2018},{"$f":"OFFSET('Precios finales '!O24,0,($O$1-1)*10)","v":2019}]
[null,null,{"$f":"OFFSET('Precios finales '!C25,0,($O$1-1)*10)","v":0},{"$f":"OFFSET('Precios finales '!D25,0,($O$1-1)*10)","v":0},{"$f":"OFFSET('Precios finales '!E25,0,($O$1-1)*10)","v":0},{"$f":"OFFSET('Precios finales '!F25,0,($O$1-1)*10)","v":38.46},{"$f":"OFFSET('Precios finales '!G25,0,($O$1-1)*10)","v":50.97},{"$f":"OFFSET('Precios finales '!H25,0,($O$1-1)*10)","v":48.88},{"$f":"OFFSET('Precios finales '!I25,0,($O$1-1)*10)","v":46.23},{"$f":"OFFSET('Precios finales '!J25,0,($O$1-1)*10)","v":"-"},{"$f":"OFFSET('Precios finales '!K25,0,($O$1-1)*10)","v":"-"},{"$f":"OFFSET('Precios finales '!L25,0,($O$1-1)*10)","v":"-"}]
[null,"Energía y precios ofertados desde el sistema eléctrico español y activado por operadores externos"]
[null,"Ofertada por el sistema eléctrico español"]
[null,"Capacidad ofertada importación (GWh)",{"$f":"OFFSET('Precios finales '!F230,0,($O$1-1)*10)","v":"-"},{"$f":"OFFSET('Precios finales '!G230,0,($O$1-1)*10)","v":"-"},{"$f":"OFFSET('Precios finales '!H230,0,($O$1-1)*10)","v":"-"},{"$f":"OFFSET('Precios finales '!I230,0,($O$1-1)*10)","v":"-"},{"$f":"OFFSET('Precios finales '!J230,0,($O$1-1)*10)","v":"-"},{"$f":"OFFSET('Precios finales '!K230,0,($O$1-1)*10)","v":"-"},{"$f":"OFFSET('Precios finales '!L230,0,($O$1-1)*10)","v":"-"},{"$f":"OFFSET('Precios finales '!M230,0,($O$1-1)*10)","v":"-"},{"$f":"OFFSET('Precios finales '!N230,0,($O$1-1)*10)","v":"-"},{"$f":"OFFSET('Precios finales '!O230,0,($O$1-1)*10)","v":"-"}]
[null,"Precio ofertado importación (€/MWh)",{"$f":"OFFSET('Precios finales '!F231,0,($O$1-1)*10)","v":"-"},{"$f":"OFFSET('Precios finales '!G231,0,($O$1-1)*10)","v":"-"},{"$f":"OFFSET('Precios finales '!H231,0,($O$1-1)*10)","v":"-"},{"$f":"OFFSET('Precios finales '!I231,0,($O$1-1)*10)","v":"-"},{"$f":"OFFSET('Precios finales '!J231,0,($O$1-1)*10)","v":"-"},{"$f":"OFFSET('Precios finales '!K231,0,($O$1-1)*10)","v":"-"},{"$f":"OFFSET('Precios finales '!L231,0,($O$1-1)*10)","v":"-"},{"$f":"OFFSET('Precios finales '!M231,0,($O$1-1)*10)","v":"-"},{"$f":"OFFSET('Precios finales '!N231,0,($O$1-1)*10)","v":"-"},{"$f":"OFFSET('Precios finales '!O231,0,($O$1-1)*10)","v":"-"}]
[null,"Capacidad ofertada exportación (GWh)",{"$f":"OFFSET('Precios finales '!F232,0,($O$1-1)*10)","v":"-"},{"$f":"OFFSET('Precios finales '!G232,0,($O$1-1)*10)","v":"-"},{"$f":"OFFSET('Precios finales '!H232,0,($O$1-1)*10)","v":"-"},{"$f":"OFFSET('Precios finales '!I232,0,($O$1-1)*10)","v":"-"},{"$f":"OFFSET('Precios finales '!J232,0,($O$1-1)*10)","v":"-"},{"$f":"OFFSET('Precios finales '!K232,0,($O$1-1)*10)","v":"-"},{"$f":"OFFSET('Precios finales '!L232,0,($O$1-1)*10)","v":"-"},{"$f":"OFFSET('Precios finales '!M232,0,($O$1-1)*10)","v":"-"},{"$f":"OFFSET('Precios finales '!N232,0,($O$1-1)*10)","v":"-"},{"$f":"OFFSET('Precios finales '!O232,0,($O$1-1)*10)","v":"-"}]
[null,"Precio ofertado exportación (€/MWh)",{"$f":"OFFSET('Precios finales '!F233,0,($O$1-1)*10)","v":"-"},{"$f":"OFFSET('Precios finales '!G233,0,($O$1-1)*10)","v":"-"},{"$f":"OFFSET('Precios finales '!H233,0,($O$1-1)*10)","v":"-"},{"$f":"OFFSET('Precios finales '!I233,0,($O$1-1)*10)","v":"-"},{"$f":"OFFSET('Precios finales '!J233,0,($O$1-1)*10)","v":"-"},{"$f":"OFFSET('Precios finales '!K233,0,($O$1-1)*10)","v":"-"},{"$f":"OFFSET('Precios finales '!L233,0,($O$1-1)*10)","v":"-"},{"$f":"OFFSET('Precios finales '!M233,0,($O$1-1)*10)","v":"-"},{"$f":"OFFSET('Precios finales '!N233,0,($O$1-1)*10)","v":"-"},{"$f":"OFFSET('Precios finales '!O233,0,($O$1-1)*10)","v":"-"}]
[null,"Activados por operadores externos (RTE, REN)"]
[null,"Activado Francia importación (GWh)",{"$f":"OFFSET('Precios finales '!F234,0,($O$1-1)*10)","v":"-"},{"$f":"OFFSET('Precios finales '!G234,0,($O$1-1)*10)","v":"-"},{"$f":"OFFSET('Precios finales '!H234,0,($O$1-1)*10)","v":"-"},{"$f":"OFFSET('Precios finales '!I234,0,($O$1-1)*10)","v":"-"},{"$f":"OFFSET('Precios finales '!J234,0,($O$1-1)*10)","v":"-"},{"$f":"OFFSET('Precios finales '!K234,0,($O$1-1)*10)","v":"-"},{"$f":"OFFSET('Precios finales '!L234,0,($O$1-1)*10)","v":"-"},{"$f":"OFFSET('Precios finales '!M234,0,($O$1-1)*10)","v":"-"},{"$f":"OFFSET('Precios finales '!N234,0,($O$1-1)*10)","v":"-"},{"$f":"OFFSET('Precios finales '!O234,0,($O$1-1)*10)","v":"-"}]
[null,"Precio Francia importación (€/MWh)",{"$f":"OFFSET('Precios finales '!F235,0,($O$1-1)*10)","v":"-"},{"$f":"OFFSET('Precios finales '!G235,0,($O$1-1)*10)","v":"-"},{"$f":"OFFSET('Precios finales '!H235,0,($O$1-1)*10)","v":"-"},{"$f":"OFFSET('Precios finales '!I235,0,($O$1-1)*10)","v":"-"},{"$f":"OFFSET('Precios finales '!J235,0,($O$1-1)*10)","v":"-"},{"$f":"OFFSET('Precios finales '!K235,0,($O$1-1)*10)","v":"-"},{"$f":"OFFSET('Precios finales '!L235,0,($O$1-1)*10)","v":"-"},{"$f":"OFFSET('Precios finales '!M235,0,($O$1-1)*10)","v":"-"},{"$f":"OFFSET('Precios finales '!N235,0,($O$1-1)*10)","v":"-"},{"$f":"OFFSET('Precios finales '!O235,0,($O$1-1)*10)","v":"-"}]
[null,"Activado Portugal importación (GWh)",{"$f":"OFFSET('Precios finales '!F238,0,($O$1-1)*10)","v":"-"},{"$f":"OFFSET('Precios finales '!G238,0,($O$1-1)*10)","v":"-"},{"$f":"OFFSET('Precios finales '!H238,0,($O$1-1)*10)","v":"-"},{"$f":"OFFSET('Precios finales '!I238,0,($O$1-1)*10)","v":"-"},{"$f":"OFFSET('Precios finales '!J238,0,($O$1-1)*10)","v":"-"},{"$f":"OFFSET('Precios finales '!K238,0,($O$1-1)*10)","v":"-"},{"$f":"OFFSET('Precios finales '!L238,0,($O$1-1)*10)","v":"-"},{"$f":"OFFSET('Precios finales '!M238,0,($O$1-1)*10)","v":"-"},{"$f":"OFFSET('Precios finales '!N238,0,($O$1-1)*10)","v":"-"},{"$f":"OFFSET('Precios finales '!O238,0,($O$1-1)*10)","v":"-"}]
[null,"Precio Portugal importación (€/MWh)",{"$f":"OFFSET('Precios finales '!F239,0,($O$1-1)*10)","v":"-"},{"$f":"OFFSET('Precios finales '!G239,0,($O$1-1)*10)","v":"-"},{"$f":"OFFSET('Precios finales '!H239,0,($O$1-1)*10)","v":"-"},{"$f":"OFFSET('Precios finales '!I239,0,($O$1-1)*10)","v":"-"},{"$f":"OFFSET('Precios finales '!J239,0,($O$1-1)*10)","v":"-"},{"$f":"OFFSET('Precios finales '!K239,0,($O$1-1)*10)","v":"-"},{"$f":"OFFSET('Precios finales '!L239,0,($O$1-1)*10)","v":"-"},{"$f":"OFFSET('Precios finales '!M239,0,($O$1-1)*10)","v":"-"},{"$f":"OFFSET('Precios finales '!N239,0,($O$1-1)*10)","v":"-"},{"$f":"OFFSET('Precios finales '!O239,0,($O$1-1)*10)","v":"-"}]
[null,"Activado Francia exportación (GWh)",{"$f":"OFFSET('Precios finales '!F236,0,($O$1-1)*10)","v":"-"},{"$f":"OFFSET('Precios finales '!G236,0,($O$1-1)*10)","v":"-"},{"$f":"OFFSET('Precios finales '!H236,0,($O$1-1)*10)","v":"-"},{"$f":"OFFSET('Precios finales '!I236,0,($O$1-1)*10)","v":"-"},{"$f":"OFFSET('Precios finales '!J236,0,($O$1-1)*10)","v":"-"},{"$f":"OFFSET('Precios finales '!K236,0,($O$1-1)*10)","v":"-"},{"$f":"OFFSET('Precios finales '!L236,0,($O$1-1)*10)","v":"-"},{"$f":"OFFSET('Precios finales '!M236,0,($O$1-1)*10)","v":"-"},{"$f":"OFFSET('Precios finales '!N236,0,($O$1-1)*10)","v":"-"},{"$f":"OFFSET('Precios finales '!O236,0,($O$1-1)*10)","v":"-"}]
[null,"Precio Francia exportación (€/MWh)",{"$f":"OFFSET('Precios finales '!F237,0,($O$1-1)*10)","v":"-"},{"$f":"OFFSET('Precios finales '!G237,0,($O$1-1)*10)","v":"-"},{"$f":"OFFSET('Precios finales '!H237,0,($O$1-1)*10)","v":"-"},{"$f":"OFFSET('Precios finales '!I237,0,($O$1-1)*10)","v":"-"},{"$f":"OFFSET('Precios finales '!J237,0,($O$1-1)*10)","v":"-"},{"$f":"OFFSET('Precios finales '!K237,0,($O$1-1)*10)","v":"-"},{"$f":"OFFSET('Precios finales '!L237,0,($O$1-1)*10)","v":"-"},{"$f":"OFFSET('Precios finales '!M237,0,($O$1-1)*10)","v":"-"},{"$f":"OFFSET('Precios finales '!N237,0,($O$1-1)*10)","v":"-"},{"$f":"OFFSET('Precios finales '!O237,0,($O$1-1)*10)","v":"-"}]
[null,"Activado Portugal exportación (GWh)",{"$f":"OFFSET('Precios finales '!F240,0,($O$1-1)*10)","v":"-"},{"$f":"OFFSET('Precios finales '!G240,0,($O$1-1)*10)","v":"-"},{"$f":"OFFSET('Precios finales '!H240,0,($O$1-1)*10)","v":"-"},{"$f":"OFFSET('Precios finales '!I240,0,($O$1-1)*10)","v":"-"},{"$f":"OFFSET('Precios finales '!J240,0,($O$1-1)*10)","v":"-"},{"$f":"OFFSET('Precios finales '!K240,0,($O$1-1)*10)","v":"-"},{"$f":"OFFSET('Precios finales '!L240,0,($O$1-1)*10)","v":"-"},{"$f":"OFFSET('Precios finales '!M240,0,($O$1-1)*10)","v":"-"},{"$f":"OFFSET('Precios finales '!N240,0,($O$1-1)*10)","v":"-"},{"$f":"OFFSET('Precios finales '!O240,0,($O$1-1)*10)","v":"-"}]
[null,"Precio Portugal exportación (€/MWh)",{"$f":"OFFSET('Precios finales '!F241,0,($O$1-1)*10)","v":"-"},{"$f":"OFFSET('Precios finales '!G241,0,($O$1-1)*10)","v":"-"},{"$f":"OFFSET('Precios finales '!H241,0,($O$1-1)*10)","v":"-"},{"$f":"OFFSET('Precios finales '!I241,0,($O$1-1)*10)","v":"-"},{"$f":"OFFSET('Precios finales '!J241,0,($O$1-1)*10)","v":"-"},{"$f":"OFFSET('Precios finales '!K241,0,($O$1-1)*10)","v":"-"},{"$f":"OFFSET('Precios finales '!L241,0,($O$1-1)*10)","v":"-"},{"$f":"OFFSET('Precios finales '!M241,0,($O$1-1)*10)","v":"-"},{"$f":"OFFSET('Precios finales '!N241,0,($O$1-1)*10)","v":"-"},{"$f":"OFFSET('Precios finales '!O241,0,($O$1-1)*10)","v":"-"}]
[]
[null,"Energía y precios ofertados por Francia (RTE) y activado por REE"]
[null,"Capacidad ofertada importación (GWh)",{"$f":"OFFSET('Precios finales '!F244,0,($O$1-1)*10)","v":"-"},{"$f":"OFFSET('Precios finales '!G244,0,($O$1-1)*10)","v":"-"},{"$f":"OFFSET('Precios finales '!H244,0,($O$1-1)*10)","v":"-"},{"$f":"OFFSET('Precios finales '!I244,0,($O$1-1)*10)","v":"-"},{"$f":"OFFSET('Precios finales '!J244,0,($O$1-1)*10)","v":"-"},{"$f":"OFFSET('Precios finales '!K244,0,($O$1-1)*10)","v":"-"},{"$f":"OFFSET('Precios finales '!L244,0,($O$1-1)*10)","v":"-"},{"$f":"OFFSET('Precios finales '!M244,0,($O$1-1)*10)","v":"-"},{"$f":"OFFSET('Precios finales '!N244,0,($O$1-1)*10)","v":"-"},{"$f":"OFFSET('Precios finales '!O244,0,($O$1-1)*10)","v":"-"}]
[null,"Precio ofertado importación (€/MWh)",{"$f":"OFFSET('Precios finales '!F245,0,($O$1-1)*10)","v":"-"},{"$f":"OFFSET('Precios finales '!G245,0,($O$1-1)*10)","v":"-"},{"$f":"OFFSET('Precios finales '!H245,0,($O$1-1)*10)","v":"-"},{"$f":"OFFSET('Precios finales '!I245,0,($O$1-1)*10)","v":"-"},{"$f":"OFFSET('Precios finales '!J245,0,($O$1-1)*10)","v":"-"},{"$f":"OFFSET('Precios finales '!K245,0,($O$1-1)*10)","v":"-"},{"$f":"OFFSET('Precios finales '!L245,0,($O$1-1)*10)","v":"-"},{"$f":"OFFSET('Precios finales '!M245,0,($O$1-1)*10)","v":"-"},{"$f":"OFFSET('Precios finales '!N245,0,($O$1-1)*10)","v":"-"},{"$f":"OFFSET('Precios finales '!O245,0,($O$1-1)*10)","v":"-"}]
[null,"Capacidad ofertada exportación (GWh)",{"$f":"OFFSET('Precios finales '!F246,0,($O$1-1)*10)","v":"-"},{"$f":"OFFSET('Precios finales '!G246,0,($O$1-1)*10)","v":"-"},{"$f":"OFFSET('Precios finales '!H246,0,($O$1-1)*10)","v":"-"},{"$f":"OFFSET('Precios finales '!I246,0,($O$1-1)*10)","v":"-"},{"$f":"OFFSET('Precios finales '!J246,0,($O$1-1)*10)","v":"-"},{"$f":"OFFSET('Precios finales '!K246,0,($O$1-1)*10)","v":"-"},{"$f":"OFFSET('Precios finales '!L246,0,($O$1-1)*10)","v":"-"},{"$f":"OFFSET('Precios finales '!M246,0,($O$1-1)*10)","v":"-"},{"$f":"OFFSET('Precios finales '!N246,0,($O$1-1)*10)","v":"-"},{"$f":"OFFSET('Precios finales '!O246,0,($O$1-1)*10)","v":"-"}]
[null,"Precio ofertado exportación (€/MWh)",{"$f":"OFFSET('Precios finales '!F247,0,($O$1-1)*10)","v":"-"},{"$f":"OFFSET('Precios finales '!G247,0,($O$1-1)*10)","v":"-"},{"$f":"OFFSET('Precios finales '!H247,0,($O$1-1)*10)","v":"-"},{"$f":"OFFSET('Precios finales '!I247,0,($O$1-1)*10)","v":"-"},{"$f":"OFFSET('Precios finales '!J247,0,($O$1-1)*10)","v":"-"},{"$f":"OFFSET('Precios finales '!K247,0,($O$1-1)*10)","v":"-"},{"$f":"OFFSET('Precios finales '!L247,0,($O$1-1)*10)","v":"-"},{"$f":"OFFSET('Precios finales '!M247,0,($O$1-1)*10)","v":"-"},{"$f":"OFFSET('Precios finales '!N247,0,($O$1-1)*10)","v":"-"},{"$f":"OFFSET('Precios finales '!O247,0,($O$1-1)*10)","v":"-"}]
[null,"Activados por REE"]
[null,"Activado importación (GWh)",{"$f":"OFFSET('Precios finales '!F248,0,($O$1-1)*10)","v":"-"},{"$f":"OFFSET('Precios finales '!G248,0,($O$1-1)*10)","v":"-"},{"$f":"OFFSET('Precios finales '!H248,0,($O$1-1)*10)","v":"-"},{"$f":"OFFSET('Precios finales '!I248,0,($O$1-1)*10)","v":"-"},{"$f":"OFFSET('Precios finales '!J248,0,($O$1-1)*10)","v":"-"},{"$f":"OFFSET('Precios finales '!K248,0,($O$1-1)*10)","v":"-"},{"$f":"OFFSET('Precios finales '!L248,0,($O$1-1)*10)","v":"-"},{"$f":"OFFSET('Precios finales '!M248,0,($O$1-1)*10)","v":"-"},{"$f":"OFFSET('Precios finales '!N248,0,($O$1-1)*10)","v":"-"},{"$f":"OFFSET('Precios finales '!O248,0,($O$1-1)*10)","v":"-"}]
[null,"Precio  importación (€/MWh)",{"$f":"OFFSET('Precios finales '!F249,0,($O$1-1)*10)","v":"-"},{"$f":"OFFSET('Precios finales '!G249,0,($O$1-1)*10)","v":"-"},{"$f":"OFFSET('Precios finales '!H249,0,($O$1-1)*10)","v":"-"},{"$f":"OFFSET('Precios finales '!I249,0,($O$1-1)*10)","v":"-"},{"$f":"OFFSET('Precios finales '!J249,0,($O$1-1)*10)","v":"-"},{"$f":"OFFSET('Precios finales '!K249,0,($O$1-1)*10)","v":"-"},{"$f":"OFFSET('Precios finales '!L249,0,($O$1-1)*10)","v":"-"},{"$f":"OFFSET('Precios finales '!M249,0,($O$1-1)*10)","v":"-"},{"$f":"OFFSET('Precios finales '!N249,0,($O$1-1)*10)","v":"-"},{"$f":"OFFSET('Precios finales '!O249,0,($O$1-1)*10)","v":"-"}]
[null,"Activado exportación (GWh)",{"$f":"OFFSET('Precios finales '!F250,0,($O$1-1)*10)","v":"-"},{"$f":"OFFSET('Precios finales '!G250,0,($O$1-1)*10)","v":"-"},{"$f":"OFFSET('Precios finales '!H250,0,($O$1-1)*10)","v":"-"},{"$f":"OFFSET('Precios finales '!I250,0,($O$1-1)*10)","v":"-"},{"$f":"OFFSET('Precios finales '!J250,0,($O$1-1)*10)","v":"-"},{"$f":"OFFSET('Precios finales '!K250,0,($O$1-1)*10)","v":"-"},{"$f":"OFFSET('Precios finales '!L250,0,($O$1-1)*10)","v":"-"},{"$f":"OFFSET('Precios finales '!M250,0,($O$1-1)*10)","v":"-"},{"$f":"OFFSET('Precios finales '!N250,0,($O$1-1)*10)","v":"-"},{"$f":"OFFSET('Precios finales '!O250,0,($O$1-1)*10)","v":"-"}]
[null,"Precio exportación (€/MWh)",{"$f":"OFFSET('Precios finales '!F251,0,($O$1-1)*10)","v":"-"},{"$f":"OFFSET('Precios finales '!G251,0,($O$1-1)*10)","v":"-"},{"$f":"OFFSET('Precios finales '!H251,0,($O$1-1)*10)","v":"-"},{"$f":"OFFSET('Precios finales '!I251,0,($O$1-1)*10)","v":"-"},{"$f":"OFFSET('Precios finales '!J251,0,($O$1-1)*10)","v":"-"},{"$f":"OFFSET('Precios finales '!K251,0,($O$1-1)*10)","v":"-"},{"$f":"OFFSET('Precios finales '!L251,0,($O$1-1)*10)","v":"-"},{"$f":"OFFSET('Precios finales '!M251,0,($O$1-1)*10)","v":"-"},{"$f":"OFFSET('Precios finales '!N251,0,($O$1-1)*10)","v":"-"},{"$f":"OFFSET('Precios finales '!O251,0,($O$1-1)*10)","v":"-"}]
[]
[null,"Energía y precios ofertados por Portugal (REN) y activado por REE"]
[null,"Capacidad ofertada importación (GWh)",{"$f":"OFFSET('Precios finales '!F254,0,($O$1-1)*10)","v":"-"},{"$f":"OFFSET('Precios finales '!G254,0,($O$1-1)*10)","v":"-"},{"$f":"OFFSET('Precios finales '!H254,0,($O$1-1)*10)","v":"-"},{"$f":"OFFSET('Precios finales '!I254,0,($O$1-1)*10)","v":"-"},{"$f":"OFFSET('Precios finales '!J254,0,($O$1-1)*10)","v":"-"},{"$f":"OFFSET('Precios finales '!K254,0,($O$1-1)*10)","v":"-"},{"$f":"OFFSET('Precios finales '!L254,0,($O$1-1)*10)","v":"-"},{"$f":"OFFSET('Precios finales '!M254,0,($O$1-1)*10)","v":"-"},{"$f":"OFFSET('Precios finales '!N254,0,($O$1-1)*10)","v":"-"},{"$f":"OFFSET('Precios finales '!O254,0,($O$1-1)*10)","v":"-"}]
[null,"Precio ofertado importación (€/MWh)",{"$f":"OFFSET('Precios finales '!F255,0,($O$1-1)*10)","v":"-"},{"$f":"OFFSET('Precios finales '!G255,0,($O$1-1)*10)","v":"-"},{"$f":"OFFSET('Precios finales '!H255,0,($O$1-1)*10)","v":"-"},{"$f":"OFFSET('Precios finales '!I255,0,($O$1-1)*10)","v":"-"},{"$f":"OFFSET('Precios finales '!J255,0,($O$1-1)*10)","v":"-"},{"$f":"OFFSET('Precios finales '!K255,0,($O$1-1)*10)","v":"-"},{"$f":"OFFSET('Precios finales '!L255,0,($O$1-1)*10)","v":"-"},{"$f":"OFFSET('Precios finales '!M255,0,($O$1-1)*10)","v":"-"},{"$f":"OFFSET('Precios finales '!N255,0,($O$1-1)*10)","v":"-"},{"$f":"OFFSET('Precios finales '!O255,0,($O$1-1)*10)","v":"-"}]
[null,"Capacidad ofertada exportación (GWh)",{"$f":"OFFSET('Precios finales '!F256,0,($O$1-1)*10)","v":"-"},{"$f":"OFFSET('Precios finales '!G256,0,($O$1-1)*10)","v":"-"},{"$f":"OFFSET('Precios finales '!H256,0,($O$1-1)*10)","v":"-"},{"$f":"OFFSET('Precios finales '!I256,0,($O$1-1)*10)","v":"-"},{"$f":"OFFSET('Precios finales '!J256,0,($O$1-1)*10)","v":"-"},{"$f":"OFFSET('Precios finales '!K256,0,($O$1-1)*10)","v":"-"},{"$f":"OFFSET('Precios finales '!L256,0,($O$1-1)*10)","v":"-"},{"$f":"OFFSET('Precios finales '!M256,0,($O$1-1)*10)","v":"-"},{"$f":"OFFSET('Precios finales '!N256,0,($O$1-1)*10)","v":"-"},{"$f":"OFFSET('Precios finales '!O256,0,($O$1-1)*10)","v":"-"}]
[null,"Precio ofertado exportación (€/MWh)",{"$f":"OFFSET('Precios finales '!F257,0,($O$1-1)*10)","v":"-"},{"$f":"OFFSET('Precios finales '!G257,0,($O$1-1)*10)","v":"-"},{"$f":"OFFSET('Precios finales '!H257,0,($O$1-1)*10)","v":"-"},{"$f":"OFFSET('Precios finales '!I257,0,($O$1-1)*10)","v":"-"},{"$f":"OFFSET('Precios finales '!J257,0,($O$1-1)*10)","v":"-"},{"$f":"OFFSET('Precios finales '!K257,0,($O$1-1)*10)","v":"-"},{"$f":"OFFSET('Precios finales '!L257,0,($O$1-1)*10)","v":"-"},{"$f":"OFFSET('Precios finales '!M257,0,($O$1-1)*10)","v":"-"},{"$f":"OFFSET('Precios finales '!N257,0,($O$1-1)*10)","v":"-"},{"$f":"OFFSET('Precios finales '!O257,0,($O$1-1)*10)","v":"-"}]
[null,"Activados por REE"]
[null,"Activado importación (GWh)",{"$f":"OFFSET('Precios finales '!F258,0,($O$1-1)*10)","v":"-"},{"$f":"OFFSET('Precios finales '!G258,0,($O$1-1)*10)","v":"-"},{"$f":"OFFSET('Precios finales '!H258,0,($O$1-1)*10)","v":"-"},{"$f":"OFFSET('Precios finales '!I258,0,($O$1-1)*10)","v":"-"},{"$f":"OFFSET('Precios finales '!J258,0,($O$1-1)*10)","v":"-"},{"$f":"OFFSET('Precios finales '!K258,0,($O$1-1)*10)","v":"-"},{"$f":"OFFSET('Precios finales '!L258,0,($O$1-1)*10)","v":"-"},{"$f":"OFFSET('Precios finales '!M258,0,($O$1-1)*10)","v":"-"},{"$f":"OFFSET('Precios finales '!N258,0,($O$1-1)*10)","v":"-"},{"$f":"OFFSET('Precios finales '!O258,0,($O$1-1)*10)","v":"-"}]
[null,"Precio  importación (€/MWh)",{"$f":"OFFSET('Precios finales '!F259,0,($O$1-1)*10)","v":"-"},{"$f":"OFFSET('Precios finales '!G259,0,($O$1-1)*10)","v":"-"},{"$f":"OFFSET('Precios finales '!H259,0,($O$1-1)*10)","v":"-"},{"$f":"OFFSET('Precios finales '!I259,0,($O$1-1)*10)","v":"-"},{"$f":"OFFSET('Precios finales '!J259,0,($O$1-1)*10)","v":"-"},{"$f":"OFFSET('Precios finales '!K259,0,($O$1-1)*10)","v":"-"},{"$f":"OFFSET('Precios finales '!L259,0,($O$1-1)*10)","v":"-"},{"$f":"OFFSET('Precios finales '!M259,0,($O$1-1)*10)","v":"-"},{"$f":"OFFSET('Precios finales '!N259,0,($O$1-1)*10)","v":"-"},{"$f":"OFFSET('Precios finales '!O259,0,($O$1-1)*10)","v":"-"}]
[null,"Activado exportación (GWh)",{"$f":"OFFSET('Precios finales '!F260,0,($O$1-1)*10)","v":"-"},{"$f":"OFFSET('Precios finales '!G260,0,($O$1-1)*10)","v":"-"},{"$f":"OFFSET('Precios finales '!H260,0,($O$1-1)*10)","v":"-"},{"$f":"OFFSET('Precios finales '!I260,0,($O$1-1)*10)","v":"-"},{"$f":"OFFSET('Precios finales '!J260,0,($O$1-1)*10)","v":"-"},{"$f":"OFFSET('Precios finales '!K260,0,($O$1-1)*10)","v":"-"},{"$f":"OFFSET('Precios finales '!L260,0,($O$1-1)*10)","v":"-"},{"$f":"OFFSET('Precios finales '!M260,0,($O$1-1)*10)","v":"-"},{"$f":"OFFSET('Precios finales '!N260,0,($O$1-1)*10)","v":"-"},{"$f":"OFFSET('Precios finales '!O260,0,($O$1-1)*10)","v":"-"}]
[null,"Precio exportación (€/MWh)",{"$f":"OFFSET('Precios finales '!F261,0,($O$1-1)*10)","v":"-"},{"$f":"OFFSET('Precios finales '!G261,0,($O$1-1)*10)","v":"-"},{"$f":"OFFSET('Precios finales '!H261,0,($O$1-1)*10)","v":"-"},{"$f":"OFFSET('Precios finales '!I261,0,($O$1-1)*10)","v":"-"},{"$f":"OFFSET('Precios finales '!J261,0,($O$1-1)*10)","v":"-"},{"$f":"OFFSET('Precios finales '!K261,0,($O$1-1)*10)","v":"-"},{"$f":"OFFSET('Precios finales '!L261,0,($O$1-1)*10)","v":"-"},{"$f":"OFFSET('Precios finales '!M261,0,($O$1-1)*10)","v":"-"},{"$f":"OFFSET('Precios finales '!N261,0,($O$1-1)*10)","v":"-"},{"$f":"OFFSET('Precios finales '!O261,0,($O$1-1)*10)","v":"-"}]

{"sheet":"Precios finales ","index":21,"n_rows":261,"n_cols":93,"rows_kept":261,"cut":false,"hidden":true,"merged":[]}
[]
[null,"Componentes del precio final mensual","2007-01-01","2007-02-01","2007-03-01","2007-04-01","2007-05-01","2007-06-01","2007-07-01","2007-08-01","2007-09-01","2007-10-01","2007-11-01","2007-12-01","2007","2008-01-01","2008-02-01","2008-03-01","2008-04-01","2008-05-01","2008-06-01","2008-07-01","2008-08-01","2008-09-01","2008-10-01","2008-11-01","2008-12-01","2008","2009-01-01","2009-02-01","2009-03-01","2009-04-01","2009-05-01","2009-06-01","2009-07-01","2009-08-01","2009-09-01","2009-10-01","2009-11-01","2009-12-01","2009","2010-01-31","2010-02-28","2010-03-31","2010-04-30","2010-05-31","2010-06-30","2010-07-31","2010-08-31","2010-09-30","2010-10-31","2010-11-30","2010-12-31","2010","2011-01-31","2011-02-28","2011-03-31","2011-04-30","2011-05-31","2011-06-30","2011-07-31","2011-08-31","2011-09-30","2011-10-31","2011-11-30","2011-12-31","2011","2012-01-31","2012-02-29","2012-03-31","2012-04-30","2012-05-31","2012-06-30","2012-07-31","2012-08-31","2012-09-30","2012-10-31","2012-11-30","2012-12-31","2012","2013-01-31","2013-02-28","2013-03-31","2013-04-30","2013-05-31","2013-06-30","2013-07-31","2013-08-31","2013-09-30","2013-10-31","2013-11-30","2013-12-31","2013"]
[null,"Mercado diario",null,null,null,null,null,null,null,null,null,null,null,null,null,null,null,null,null,null,null,null,null,null,null,null,null,null,51.64,42.01,38.97,37.800000000000004,37.51,37.449999999999996,35.200000000000003,35.410000000000004,36.75,36.5,34.04,32.82,36.92,32.14,29.66,21.11,28.92,38.17,41.04,43.6,43.96,47.64,43.79,42.88,48.85,{"$f":"F25","v":38.46},43.2,49.01,47.63,46.21,49.58,50.63,51.47,54.18,59.55,58.8,50.22,51.73,{"$f":"G25","v":50.97},53.09,55.34,49.06,42.19,44.62,54.25,51.11,50.11,48.81,47.05,43.98,44.99,{"$f":"H25","v":48.88},53.21,46.9,28.41,19.329999999999998,44.14,42.14,52.25,49.01,51.68,52.78,43.48,68.58,{"$f":"I25","v":46.23}]
[null,"Mercado intradiario",null,null,null,null,null,null,null,null,null,null,null,null,null,null,null,null,null,null,null,null,null,null,null,null,null,null,null,null,null,null,null,null,null,null,null,null,null,null,null,-0.03,-0.02,-0.02,0,-0.01,-0.01,-0.01,-0.01,-0.02,-7.0000000000000007E-2,-0.03,-0.04,-0.02,-0.05,-0.03,-0.05,-0.01,-0.04,-0.05,-0.05,-0.08,-0.05,-0.03,-0.11,-0.15,-0.06,0,-0.04,-0.05,-0.03,-7.0000000000000007E-2,-7.0000000000000007E-2,-0.08,0,-0.03,-0.1,0,-0.03,-0.04,-0.01,-0.08,-0.11,-0.02,-0.09,-0.14000000000000001,0.02,-0.02,-0.02,-0.16,-0.04,-0.03,-0.06]
[null,"Servicio de interrumpibilidad","-","-","-","-","-","-","-","-","-","-","-","-","-","-","-","-","-","-","-","-","-","-","-","-","-","-","-","-","-","-","-","-","-","-","-","-","-","-","-","-","-","-","-","-","-","-","-","-","-","-","-","-","-","-","-","-","-","-","-","-","-","-","-","-","-","-","-","-","-","-","-","-","-","-","-","-","-","-","-","-","-","-","-","-","-","-","-","-","-","-","-"]
[null,"Pagos por capacidad",null,null,null,null,null,null,null,null,null,null,null,null,null,null,null,null,null,null,null,null,null,null,null,null,null,null,null,null,null,null,null,null,null,null,null,null,null,null,3.28,4.1100000000000003,4.1500000000000004,3.43,3.32,3.23,3.75,4.2699999999999996,2.99,3.41,3.26,3.34,4.0999999999999996,3.63,7.03,6.99,5.76,5.5,5.44,6.42,7.09,4.9800000000000004,5.67,5.5,5.65,6.95,6.1,7.08,7.08,5.64,5.59,5.42,6.31,7.2,4.99,5.55,5.59,5.61,6.83,6.1,7.09,6.95,5.71,5.46,5.36,6.13,7.29,4.87,5.48,5.39,5.59,6.89,6.04]
[null,"Servicios ajustes del sistema",null,null,null,null,null,null,null,null,null,null,null,null,null,null,null,null,null,null,null,null,null,null,null,null,null,null,null,null,null,null,null,null,null,null,null,null,null,null,2.71,5.5,4.26,5.9900000000000011,2.8600000000000003,2.4,2.0999999999999996,3.01,3.46,2.95,4.0200000000000005,4.34,3.8399999999999994,3.76,3.5599999999999992,2.2400000000000002,2.7099999999999995,2.29,1.7100000000000002,1.82,2.29,2.98,3.28,4.67,5.88,5.09,3.2099999999999995,3.6799999999999997,3.8400000000000003,4.5799999999999992,5.6599999999999993,3.7399999999999993,3.23,3.06,3.7399999999999993,3.9899999999999998,7.2199999999999989,7.4700000000000006,6,4.63,5.21,5.29,7.5699999999999994,7.53,5.2100000000000009,5.22,2.8699999999999997,3.7999999999999994,4.1800000000000006,7.07,7.1,6.2299999999999995,5.58]
[null,"Restricciones técnicasPBF",null,null,null,null,null,null,null,null,null,null,null,null,null,null,null,null,null,null,null,null,null,null,null,null,null,null,null,null,null,null,null,null,null,null,null,null,null,null,1.57,3.11,2.4500000000000002,3.99,1.89,1.45,1.18,2.3199999999999998,2.67,1.82,2.11,2.38,1.89,2.29,2.02,1.19,1.48,1.18,0.68,0.85,1.42,1.87,1.94,2.4300000000000002,3.75,3.42,1.85,2.13,1.97,2.44,2.85,2.0699999999999998,1.55,1.73,1.68,1.34,2.21,2.76,2.67,2.11,2.27,2.42,3.88,4.16,3.3,3.19,1.29,1.92,2.25,3.3,3.38,2.81,2.83]
[null,"Banda de regulación secundaria",null,null,null,null,null,null,null,null,null,null,null,null,null,null,null,null,null,null,null,null,null,null,null,null,null,null,null,null,null,null,null,null,null,null,null,null,null,null,0.53,1.03,0.98,1,0.45,0.52,0.43,0.34,0.43,0.49,0.81,0.84,0.97,0.7,0.74,0.45,0.44,0.49,0.55000000000000004,0.59,0.61,0.77,0.91,1.28,1.4,0.93,0.76,0.92,1.17,1.4,2.0099999999999998,1.1100000000000001,1.05,0.99,1.39,1.62,1.84,1.67,1.35,1.37,1.55,1.56,1.81,1.48,1.08,1.51,1.24,1.28,1.21,1.52,1.3,1.87,1.45]
[null,"Reserva de potencia adicional a subir","-","-","-","-","-","-","-","-","-","-","-","-","-","-","-","-","-","-","-","-","-","-","-","-","-","-","-","-","-","-","-","-","-","-","-","-","-","-","-","-","-","-","-","-","-","-","-","-","-","-","-","-","-","-","-","-","-",0,0,0,0,0,0,0,0,0,0,0,0,0.03,0,0,0.01,0.04,0.82,1.56,0.71,0.25,0.39,0.42,0.84,0.76,0.19,0,0,0.05,0.21,0.94,1.22,0.34,0.44]
[null,"Restricciones técnicas en tiempo real",null,null,null,null,null,null,null,null,null,null,null,null,null,null,null,null,null,null,null,null,null,null,null,null,null,null,null,null,null,null,null,null,null,null,null,null,null,null,0.32,0.36,0.21,0.4,0.17,0.18,0.09,0.21,0.16,0.23,0.5,0.28999999999999998,0.28999999999999998,0.26,0.3,0.1,0.28999999999999998,0.17,0.28000000000000003,0.18,0.06,0.15,0.11,0.4,0.47,0.34,0.24,0.18,0.19,0.28000000000000003,0.36,0.28999999999999998,0.28999999999999998,0.16,0.31,0.41,1.81,1.03,0.62,0.48,0.4,0.41,0.64,0.77,0.43,0.24,0.1,0.32,0.28999999999999998,0.84,0.72,0.4,0.46]
[null,"Restricciones intradiario",null,null,null,null,null,null,null,null,null,null,null,null,null,null,null,null,null,null,null,null,null,null,null,null,null,null,null,null,null,null,null,null,null,null,null,null,null,null,0,0,0,0,0,0,0,0,0,0,0,0,0,0,0,0,0,0,0,0,0,0,0,0,0,0,0,0,0,0,0,0,0,0,0,0,0,0,0,0,0,0,0,0,0,0,0,0,0,0,0,0,0]
[null,"Incumplimiento de energia de balance",null,null,null,null,null,null,null,null,null,null,null,null,null,null,null,null,null,null,null,null,null,null,null,null,null,null,null,null,null,null,null,null,null,null,null,null,null,null,"-","-","-","-","-","-","-","-","-","-","-","-","-","-","-","-","-","-","-","-","-","-","-","-","-","-","-","-","-","-","-","-","-","-","-","-","-","-","-","-","-","-","-","-","-","-","-","-","-","-","-","-","-"]
[null,"Coste desvíos",null,null,null,null,null,null,null,null,null,null,null,null,null,null,null,null,null,null,null,null,null,null,null,null,null,null,null,null,null,null,null,null,null,null,null,null,null,null,0.34,0.67,0.37,0.4,0.28000000000000003,0.24,0.39,0.2,0.28000000000000003,0.42,0.39,0.38,0.52,0.38,0.32,0.44,0.47,0.39,0.2,0.18,0.31,0.21,0.32,0.38,0.28999999999999998,0.41,0.33,0.28999999999999998,0.28999999999999998,0.33,0.35,0.23,0.24,0.22,0.27,0.47,0.26,0.15,0.31,0.28000000000000003,0.57999999999999996,0.47,0.31,0.23,0.23,0.23,0.28999999999999998,0.19,0.18,0.32,0.24,0.33,0.3]
[null,"Saldo desvíos",null,null,null,null,null,null,null,null,null,null,null,null,null,null,null,null,null,null,null,null,null,null,null,null,null,null,null,null,null,null,null,null,null,null,null,null,null,null,-0.05,0.32,0.26,0.19,0.08,0.02,0,-0.06,-0.08,-0.01,0.21,0.46,0.17,0.13,0.17,7.0000000000000007E-2,0.03,7.0000000000000007E-2,0.01,0,-0.09,-0.03,0,0.16,-0.01,0.01,0.03,0.13,0.23,0.14000000000000001,0.1,0,0.1,-0.04,7.0000000000000007E-2,0.11,0.27,0.28000000000000003,0.34,0.14000000000000001,0.03,0,0.09,0.13,-0.04,0.06,-0.06,0.04,0.05,0.15,0.23,0.51,0.1]
[null,"Control del factor de potencia","-","-","-","-","-","-","-","-","-","-","-","-","-","-","-","-","-","-","-","-","-","-","-","-","-","-","-","-","-","-","-","-","-","-","-","-","-","-","-","-","-","-","-","-","-","-","-","-","-","-","-","-","-","-","-","-","-","-","-","-","-","-","-","-","-","-","-","-","-","-","-","-","-","-","-","-","-","-","-","-","-","-","-","-","-",0,0,0,0,0,"-"]
[null,"Saldo PO 14.6",null,null,null,null,null,null,null,null,null,null,null,null,null,null,null,null,null,null,null,null,null,null,null,null,null,null,null,null,null,null,null,null,null,null,null,null,null,null,null,0.01,-0.01,0.01,-0.01,-0.01,0.01,0,0,0,0,-0.01,0,0,0.01,-0.01,0,-0.01,-0.01,0.02,-0.02,0.01,0,0.02,-0.02,-0.02,0,0.03,-0.01,-0.01,-0.01,0.01,0,0,0.01,0,0.01,0.02,0,0,-0.01,0.01,0,0,0.02,-0.01,0.01,0,-0.01,0,0.01,-0.03,0]
[null,"Fallo nominación UPG",null,null,null,null,null,null,null,null,null,null,null,null,null,null,null,null,null,null,null,null,null,null,null,null,null,null,null,null,null,null,null,null,null,null,null,null,null,null,null,0,0,0,0,0,0,0,0,0,0,0,0,0,0,0,0,0,0,0,0,0,0,0,0,0,0,0,0,0,0,0,0,0,0,0,0,0,0,0,0,0,0,0,0,0,0,0,0,0,0,0,0]
[null,"Precio total",null,null,null,null,null,null,null,null,null,null,null,null,null,null,null,null,null,null,null,null,null,null,null,null,null,null,null,null,null,null,null,null,null,null,null,null,null,null,42.91,41.72,38.049999999999997,30.51,35.1,43.79,46.88,50.87,50.4,53.98,51,50.53,56.75,45.83,53.74,58.21,56.05,53.99,56.69,58.82,60.8,62.06,68.45,68.94,61.64,63.62,60.22,63.85,66.22,59.23,53.41,53.71,63.72,61.29,58.84,58.32,59.76,57.06,57.79,59.57,65.5,59.06,41.58,32.299999999999997,54.62,53.35,62.43,57.66,61.32,65.08,56.13,81.67,57.79]
[null,"Energía cierre (MWh)",null,null,null,null,null,null,null,null,null,null,null,null,null,null,null,null,null,null,null,null,null,null,null,null,null,null,null,null,null,null,null,null,null,null,null,null,null,null,190936859.34599999,23120305.515999999,21792143.447999999,22462779.881999999,20152012.522999998,20801525.783,20496681.574000001,23264751.563000001,21083187.394000001,21414655.741,21046223.686999999,21491033.605,22451716.024999999,259577016.741,23136773.232999999,21112023.280999999,22403226.679000001,19485644.124000002,20326769.340999998,20627058.748,21799932.611000001,20989791.447000001,21072961.504000001,20936432.737,20047927.951000001,21111600.642999999,253050142.29899999,22373955.533,22249744.623,21165521.671,19329087.863000002,20080113.265000001,20561522.772999998,21545639.521000002,20705321.541000001,19989474.131999999,20182608.704999998,19090959.763,20369628.081999999,{"$f":"H42","v":247643577.472},22057320.881000001,19810467.168000001,20603106.780000001,18943445.802999999,19141523.519000001,19066235.423,21395778.107999999,20118985.638,19517032.243999999,19552300.440000001,19791864.993000001,20662852.653000001,{"$f":"I42","v":240660913.65000001}]
[]
[]
[]
[null,"Componentes del precio final anual",2007,2008,2009,2010,2011,2012,2013,2014,2015,2016,2017,2018,2019]
[null,"Mercado diario",null,null,null,38.46,50.97,48.88,46.23,"-","-","-","-","-","-"]
[null,"Mercado intradiario",null,null,null,-0.02,-0.06,-0.04,-0.06,"-","-","-","-","-","-"]
[null,"Servicio de interrumpibilidad",null,null,null,"-","-","-","-","-","-","-","-","-","-"]
[null,"Pagos por capacidad",null,null,null,3.63,6.1,6.1,6.04,"-","-","-","-","-","-"]
[null,"Servicios ajustes del sistema",null,null,null,3.76,3.2099999999999995,4.63,5.58,"-","-","-","-","-","-"]
[null,"Restricciones técnicasPBF",null,null,null,2.29,1.85,2.11,2.83,"-","-","-","-","-","-"]
[null,"Banda de regulación secundaria",null,null,null,0.7,0.76,1.37,1.45,"-","-","-","-","-","-"]
[null,"Reserva de potencia adicional a subir",null,null,null,"-",0,0.25,0.44,"-","-","-","-","-","-"]
[null,"Restricciones técnicas en tiempo real",null,null,null,0.26,0.24,0.48,0.46,"-","-","-","-","-","-"]
[null,"Restricciones intradiario",null,null,null,0,0,0,0,"-","-","-","-","-","-"]
[null,"Incumplimiento de energia de balance",null,null,null,"-","-","-","-","-","-","-","-","-","-"]
[null,"Coste desvíos",null,null,null,0.38,0.33,0.28000000000000003,0.3,"-","-","-","-","-","-"]
[null,"Saldo desvíos",null,null,null,0.13,0.03,0.14000000000000001,0.1,"-","-","-","-","-","-"]
[null,"Control del factor de potencia",null,null,null,"-","-","-","-","-","-","-","-","-","-"]
[null,"Saldo PO 14.6",null,null,null,0,0,0,0,"-","-","-","-","-","-"]
[null,"Fallo nominación UPG",null,null,null,0,0,0,0,"-","-","-","-","-","-"]
[null,"Precio total",null,null,null,45.83,60.22,59.57,57.79,"-","-","-","-","-","-"]
[null,"Energía cierre (MWh)",null,null,null,259577016.741,253050142.29899999,247643577.472,240660913.65000001,"-","-","-","-","-","-"]
[]
[]
[]
[null,"Energía de restricciones al PBF de fase I y precios medios mensuales","2007-01-01","2007-02-01","2007-03-01","2007-04-01","2007-05-01","2007-06-01","2007-07-01","2007-08-01","2007-09-01","2007-10-01","2007-11-01","2007-12-01","2007","2008-01-01","2008-02-01","2008-03-01","2008-04-01","2008-05-01","2008-06-01","2008-07-01","2008-08-01","2008-09-01","2008-10-01","2008-11-01","2008-12-01","2008","2009-01-01","2009-02-01","2009-03-01","2009-04-01","2009-05-01","2009-06-01","2009-07-01","2009-08-01","2009-09-01","2009-10-01","2009-11-01","2009-12-01","2009","2010-01-31","2010-02-28","2010-03-31","2010-04-30","2010-05-31","2010-06-30","2010-07-31","2010-08-31","2010-09-30","2010-10-31","2010-11-30","2010-12-31","2010","2011-01-31","2011-02-28","2011-03-31","2011-04-30","2011-05-31","2011-06-30","2011-07-31","2011-08-31","2011-09-30","2011-10-31","2011-11-30","2011-12-31","2011","2012-01-31","2012-02-29","2012-03-31","2012-04-30","2012-05-31","2012-06-30","2012-07-31","2012-08-31","2012-09-30","2012-10-31","2012-11-30","2012-12-31","2012","2013-01-31","2013-02-28","2013-03-31","2013-04-30","2013-05-31","2013-06-30","2013-07-31","2013-08-31","2013-09-30","2013-10-31","2013-11-30","2013-12-31","2013"]
[null,"Energía gestionada a subir",null,null,null,null,null,null,null,null,null,null,null,null,null,null,null,null,null,null,null,null,null,null,null,null,null,null,null,null,null,null,null,null,null,null,null,null,null,null,null,1246.3556000000001,1114.1255000000001,1556.7548999999999,912.1146,836.90940000000001,595.39959999999996,1034.7743,1045.1475,965.51869999999997,1060.9296000000002,1114.0440000000001,1027.1989000000001,{"$f":"F54","v":12509.2726},1065.6908999999998,715.69140000000004,804.26830000000007,609.6617,526.27949999999998,560.75669999999991,701.59100000000001,939.77260000000001,870.61659999999995,1049.8657000000001,1167.5563,985.8931,{"$f":"G54","v":9997.6437999999998},772.50540000000001,658.55909999999994,733.8913,670.42430000000002,526.65170000000001,507.70340000000004,565.86540000000002,334.62979999999999,190.02120000000002,474.07409999999999,414.30079999999998,313.43459999999999,{"$f":"H54","v":6162.0610999999999},422.77929999999998,578.4982,1034.7455,1006.4628,944.24590000000001,762.76099999999997,202.0059,199.38739999999999,210.84649999999999,563.00169999999991,630.27750000000003,684.78980000000001,{"$f":"I54","v":7239.8014999999996}]
[null,"Energía gestionada a bajar",null,null,null,null,null,null,null,null,null,null,null,null,null,null,null,null,null,null,null,null,null,null,null,null,null,null,null,null,null,null,null,null,null,null,null,null,null,null,null,12.360799999999999,3.7662,10.045500000000001,31.817299999999999,0.17330000000000001,17.864900000000002,215.9127,36.1145,47.259500000000003,62.188400000000001,9.1905000000000001,"-",{"$f":"F55","v":446.6936},0.23649999999999999,"-",5.3513000000000002,0.24249999999999999,2.6549,13.7782,18.1326,53.491900000000001,3.6820999999999997,130.06659999999999,0.17499999999999999,0.61399999999999999,{"$f":"G55","v":228.4256},0.60170000000000001,2.8,8.9878999999999998,"-",7.3286000000000007,10.944700000000001,14.381500000000001,7.8338999999999999,5.1983999999999995,2.7624,0.05,"-",{"$f":"H55","v":60.889099999999999},4.8517999999999999,0.64879999999999993,1.6876,0.45729999999999998,1.4307000000000001,6.0181000000000004,27.627200000000002,56.895099999999999,26.092400000000001,23.398799999999998,2.2016,42.038699999999999,{"$f":"I55","v":193.34809999999999}]
[null,"Precio medio a subir",null,null,null,null,null,null,null,null,null,null,null,null,null,null,null,null,null,null,null,null,null,null,null,null,null,null,null,null,null,null,null,null,null,null,null,null,null,null,null,88.704380586300005,73.177630877300004,67.155090806399997,65.289998041100006,69.0363873437,80.665191006399994,95.2552806992,94.666721295499997,86.043853071699999,81.4111015286,82.262669370799998,83.915334313499997,80.497924119800004,83.761942124399994,82.102451000499997,84.879587657499997,80.827680056000005,73.047125263300003,80.1583409168,92.580564089299997,91.128189170400006,106.2768084482,106.54065138590001,106.2821455805,114.4341474142,94.111846963900007,112.17308488720001,123.03498277529999,115.2613670172,119.3759135968,117.6533128631,114.8540979635,115.87363813020001,153.48868783200001,184.21680507229999,136.24204452430001,165.23527519140001,201.35362860390001,129.9352769299,165.93707164560001,124.2752143222,96.754313558299998,90.724558493399996,102.424630099,111.7444780868,182.18602505640001,244.80226052079999,256.82400309090002,156.7742408947,142.71552079840001,128.56228564540001,127.3998389811]
[null,"Precio medio a bajar",null,null,null,null,null,null,null,null,null,null,null,null,null,null,null,null,null,null,null,null,null,null,null,null,null,null,null,null,null,null,null,null,null,null,null,null,null,null,null,29.534063325399998,24.664818281199999,9.1705164559999996,23.385602460299999,32.790265123099999,38.892553299100001,42.792076283900002,40.360817909700003,45.177365226799999,38.930058566500001,36.090269115799998,42.175964528400002,32.419213093099998,39.310496614900003,46.965234345399999,42.885217140100004,42.893684202199999,46.8379382818,48.3626889879,48.289183514599998,49.017764822399997,58.756640684300002,57.186589031799997,40.963364970100002,40.648936613899998,46.717540110100003,50.033895258199998,56.104325943500001,44.017813847799999,35.650290912800003,38.261077046099999,51.700261254899999,49.711533359299999,48.492379018000001,41.9185420815,40.9328204599,36.843540007599998,26.077973012600001,44.363934886099997,47.380756853599998,41.056779951999999,18.706244859200002,11.683811006199999,35.461503883699997,31.366280512500001,48.196277409099999,46.1768206335,44.082771123000001,40.755381519499998,35.865301093600003,45.413179481,32.880269698799999]
[]
[]
[null,"Energía de restricciones al PBF de fase I y precios medios anuales",2007,2008,2009,2010,2011,2012,2013,2014,2015,2016,2017,2018,2019]
[null,"Energía gestionada a subir",8098.8977000000004,6765.0793000000003,9474.8608999999997,12509.2726,9997.6437999999998,6162.0610999999999,7239.8014999999996,"-","-","-","-","-","-"]
[null,"Energía gestionada a bajar",2601.5491000000002,857.4941,707.2473,446.6936,228.4256,60.889099999999999,193.34809999999999,"-","-","-","-","-","-"]
[null,"Precio medio a subir",74.559167989000002,123.8568415761,78.235505589300004,80.497924119800004,94.111846963900007,129.9352769299,127.3998389811,"-","-","-","-","-","-"]
[null,"Precio medio a bajar",45.496502814400003,72.918198527499996,38.612889338700001,32.419213093099998,46.717540110100003,44.363934886099997,32.880269698799999,"-","-","-","-","-","-"]
[]
[]
[null,"Energía de regulación secundaria y precios medios mensuales","2007-01-01","2007-02-01","2007-03-01","2007-04-01","2007-05-01","2007-06-01","2007-07-01","2007-08-01","2007-09-01","2007-10-01","2007-11-01","2007-12-01","2007","2008-01-01","2008-02-01","2008-03-01","2008-04-01","2008-05-01","2008-06-01","2008-07-01","2008-08-01","2008-09-01","2008-10-01","2008-11-01","2008-12-01","2008","2009-01-01","2009-02-01","2009-03-01","2009-04-01","2009-05-01","2009-06-01","2009-07-01","2009-08-01","2009-09-01","2009-10-01","2009-11-01","2009-12-01","2009","2010-01-31","2010-02-28","2010-03-31","2010-04-30","2010-05-31","2010-06-30","2010-07-31","2010-08-31","2010-09-30","2010-10-31","2010-11-30","2010-12-31","2010","2011-01-31","2011-02-28","2011-03-31","2011-04-30","2011-05-31","2011-06-30","2011-07-31","2011-08-31","2011-09-30","2011-10-31","2011-11-30","2011-12-31","2011","2012-01-31","2012-02-29","2012-03-31","2012-04-30","2012-05-31","2012-06-30","2012-07-31","2012-08-31","2012-09-30","2012-10-31","2012-11-30","2012-12-31","2012","2013-01-31","2013-02-28","2013-03-31","2013-04-30","2013-05-31","2013-06-30","2013-07-31","2013-08-31","2013-09-30","2013-10-31","2013-11-30","2013-12-31","2013"]
[null,"Energía gestionada a subir",null,null,null,null,null,null,null,null,null,null,null,null,null,null,null,null,null,null,null,null,null,null,null,null,null,null,null,null,null,null,null,null,null,null,null,null,null,null,null,111.85845399999999,99.514528999999996,140.082268,126.675298,98.163101999999995,97.723264999999998,82.815490000000011,63.901694000000006,68.299137000000002,83.241491999999994,89.086753000000002,103.729148,{"$f":"F68","v":1165.0906299999999},85.516714999999991,75.794835000000006,131.80452,115.39443900000001,89.892107999999993,91.209007,78.721740999999994,99.772313999999994,92.656922000000009,104.534155,122.79389200000001,124.416893,{"$f":"G68","v":1212.5075409999999},95.829729,104.23274000000001,137.45184099999997,150.49971100000002,161.227113,102.838663,110.171751,88.116839999999996,103.859213,128.61634100000001,143.90511699999999,183.61602100000002,{"$f":"H68","v":1510.36508},171.79729699999999,146.23201299999999,176.833415,192.20975799999999,170.30642600000002,149.06502499999999,124.773447,125.84460199999999,111.60823500000001,133.01477199999999,153.51644200000001,150.42656200000002,{"$f":"I68","v":1805.6279939999999}]
[null,"Energía gestionada a bajar",null,null,null,null,null,null,null,null,null,null,null,null,null,null,null,null,null,null,null,null,null,null,null,null,null,null,null,null,null,null,null,null,null,null,null,null,null,null,null,134.546976,141.97060300000001,140.09879100000001,102.705868,135.31416200000001,121.52149199999999,150.07562200000001,164.768756,170.05854399999998,155.938918,161.88616200000001,144.94360999999998,{"$f":"F69","v":1723.829504},153.223893,150.99631099999999,129.52820600000001,100.37770399999999,147.39467400000001,128.570257,135.58817800000003,115.53548499999999,125.95819,108.941399,104.67173299999999,113.55561400000001,{"$f":"G69","v":1514.3416440000001},124.63860200000001,125.344257,107.943651,82.488202999999999,78.09535000000001,104.37577400000001,115.074921,130.54371499999999,121.41986999999999,118.735159,87.962190000000007,65.794982000000005,{"$f":"H69","v":1262.4166740000001},94.286029999999997,81.404216000000005,98.453812999999997,86.494074999999995,76.518190000000004,77.887855000000002,87.973297000000002,92.756681,100.82392400000001,101.598428,84.130255000000005,87.995928000000006,{"$f":"I69","v":1070.322692}]
[null,"Precio medio a subir",null,null,null,null,null,null,null,null,null,null,null,null,null,null,null,null,null,null,null,null,null,null,null,null,null,null,null,null,null,null,null,null,null,null,null,null,null,null,null,46.110010066800001,31.409607133800002,29.505466030899999,30.441932964700001,40.659486290499999,42.567680582500003,43.929317812400001,43.802985880199998,45.585383604500002,42.668610985500003,48.418996929899997,50.019901252799997,40.364603567400003,42.863828784799999,49.687588079100003,48.074833852399998,47.430949423800001,51.463622813299999,52.683241250499997,51.699487184900001,55.978856719699998,56.689891339100001,57.713392144399997,53.7380693984,50.866877619299999,51.579798809700002,54.763679859699998,56.236599268100001,51.087381507000003,50.077858355499998,47.7578421937,54.207311505,47.555197702199997,53.324089129800001,50.386268958199999,46.646079287900001,54.428566428300002,49.290923638999999,50.978784639300002,58.926739167500003,53.963011984300003,33.562337468899997,31.197973622100001,49.693818129900002,47.040825237200004,56.266319868499998,52.071400805899998,53.195285007400003,52.430417953899997,50.476701446699998,77.197518214900001,50.546098622400002]
[null,"Precio medio a bajar",null,null,null,null,null,null,null,null,null,null,null,null,null,null,null,null,null,null,null,null,null,null,null,null,null,null,null,null,null,null,null,null,null,null,null,null,null,null,null,20.724271722000001,13.641993054,7.8157249050999997,18.058768073500001,24.5828922179,26.7661976204,31.631094022700001,32.150863298399997,33.174767449500003,24.6338596501,28.393805271600002,28.7953666947,24.684436164499999,26.642735412,34.870194212900003,27.2481797517,26.0699915989,32.9280758815,34.823839389200003,34.361742585000002,38.495085470900001,41.915667571900002,39.352288380300003,33.280745623999998,30.6566926757,33.323169543600002,38.1227081639,38.186224997899998,31.309102005500002,24.492915671799999,26.8063354604,37.7247187647,32.749353788400001,36.164720760400002,26.628545970299999,30.29631139,32.959178824399999,34.876437385499997,32.859999803800001,35.4429613804,30.158850126400001,12.889779698,10.3012032905,24.807837064600001,23.976008069599999,35.688743710499999,33.569875683699998,33.013261316799998,30.095342518500001,27.956118402400001,44.960147814999999,28.655361209500001]
[]
[]
[null,"Energía de regulación secundaria y precios medios anuales",2007,2008,2009,2010,2011,2012,2013,2014,2015,2016,2017,2018,2019]
[null,"Energía gestionada a subir",null,null,null,1165.0906299999999,1212.5075409999999,1510.36508,1805.6279939999999,"-","-","-","-","-","-"]
[null,"Energía gestionada a bajar",null,null,null,1723.829504,1514.3416440000001,1262.4166740000001,1070.322692,"-","-","-","-","-","-"]
[null,"Precio medio a subir",null,null,null,40.364603567400003,51.579798809700002,50.978784639300002,50.546098622400002,"-","-","-","-","-","-"]
[null,"Precio medio a bajar",null,null,null,24.684436164499999,33.323169543600002,32.859999803800001,28.655361209500001,"-","-","-","-","-","-"]
[]
[]
[null,"Energía de regulación terciaria y precios medios mensuales","2007-01-01","2007-02-01","2007-03-01","2007-04-01","2007-05-01","2007-06-01","2007-07-01","2007-08-01","2007-09-01","2007-10-01","2007-11-01","2007-12-01","2007","2008-01-01","2008-02-01","2008-03-01","2008-04-01","2008-05-01","2008-06-01","2008-07-01","2008-08-01","2008-09-01","2008-10-01","2008-11-01","2008-12-01","2008","2009-01-01","2009-02-01","2009-03-01","2009-04-01","2009-05-01","2009-06-01","2009-07-01","2009-08-01","2009-09-01","2009-10-01","2009-11-01","2009-12-01","2009","2010-01-31","2010-02-28","2010-03-31","2010-04-30","2010-05-31","2010-06-30","2010-07-31","2010-08-31","2010-09-30","2010-10-31","2010-11-30","2010-12-31","2010","2011-01-31","2011-02-28","2011-03-31","2011-04-30","2011-05-31","2011-06-30","2011-07-31","2011-08-31","2011-09-30","2011-10-31","2011-11-30","2011-12-31","2011","2012-01-31","2012-02-29","2012-03-31","2012-04-30","2012-05-31","2012-06-30","2012-07-31","2012-08-31","2012-09-30","2012-10-31","2012-11-30","2012-12-31","2012","2013-01-31","2013-02-28","2013-03-31","2013-04-30","2013-05-31","2013-06-30","2013-07-31","2013-08-31","2013-09-30","2013-10-31","2013-11-30","2013-12-31","2013"]
[null,"Energía gestionada a subir",null,null,null,null,null,null,null,null,null,null,null,null,null,null,null,null,null,null,null,null,null,null,null,null,null,null,null,null,null,null,null,null,null,null,null,null,null,null,null,438.97290000000004,229.85599999999999,270.09870000000001,129.63910000000001,196.3184,139.53059999999999,174.92370000000003,231.03970000000001,105.3176,101.85130000000001,360.7269,347.46969999999999,{"$f":"F82","v":2725.7446000000004},263.3304,158.30590000000001,227.25920000000002,134.25910000000002,293.53719999999998,239.29589999999999,156.87049999999999,301.05599999999998,164.58429999999998,154.0874,279.803,321.43880000000001,{"$f":"G82","v":2693.8276999999998},321.96370000000002,218.48609999999999,206.05240000000001,253.27459999999999,223.50639999999999,269.25740000000002,203.08349999999999,285.0872,131.2475,182.7602,391.34429999999998,305.55190000000005,{"$f":"H82","v":2991.6151999999997},321.34790000000004,357.91020000000003,221.20699999999999,187.1326,252.4547,215.8065,298.54990000000004,307.22359999999998,235.2833,274.08670000000001,305.58780000000002,353.71600000000001,{"$f":"I82","v":3330.3061999999995}]
[null,"Energía gestionada a bajar",null,null,null,null,null,null,null,null,null,null,null,null,null,null,null,null,null,null,null,null,null,null,null,null,null,null,null,null,null,null,null,null,null,null,null,null,null,null,null,238.8434,292.67359999999996,309.0188,248.7834,228.6602,246.74929999999998,205.08610000000002,175.56629999999998,281.68579999999997,388.65229999999997,153.52470000000002,213.3963,{"$f":"F83","v":2982.6401999999994},206.04560000000001,321.00290000000001,399.6712,295.2901,127.79180000000001,98.346699999999998,235.7071,116.52369999999999,185.7216,252.5488,145.45959999999999,207.32129999999998,{"$f":"G83","v":2804.8267000000001},152.11579999999998,215.77699999999999,282.39679999999998,248.5352,170.6696,159.93529999999998,194.82320000000001,113.161,300.19319999999999,245.78659999999999,74.353800000000007,172.44550000000001,{"$f":"H83","v":2330.1929999999998},220.85070000000002,135.4076,208.66979999999998,170.53970000000001,153.6566,152.21260000000001,129.52619999999999,93.740399999999994,126.33019999999999,192.60300000000001,103.0528,125.0324,{"$f":"I83","v":1811.6219999999998}]
[null,"Precio medio a subir",null,null,null,null,null,null,null,null,null,null,null,null,null,null,null,null,null,null,null,null,null,null,null,null,null,null,null,null,null,null,null,null,null,null,null,null,null,null,null,58.546321310499998,40.134155297200003,41.771446437900003,34.9580206897,47.688907458499997,45.163143281799996,47.373836764300002,49.317889219900003,48.3766779722,51.894223834199998,57.984054308099999,57.630687193699998,50.410609904529892,50.454858269299997,57.382386885099997,56.395159183899999,52.130471528599998,54.326086676599999,55.939167908899996,56.571096477700003,61.487464491700003,63.722948908200003,69.997680796699996,63.367217578100004,56.797983753099999,{"$f":"G84","v":57.971337758552892},64.779241666100006,65.152750174999994,60.2743181831,63.288666135500002,53.065064445600001,62.448826921699997,55.157855217200002,61.6988175197,59.594847368499998,55.340950546099997,58.077654586999998,55.6833213277,{"$f":"H84","v":59.728704239764546},70.838375231300006,62.899864295599997,53.130263825299998,46.026168182299998,54.027506083299997,51.641156359999997,61.163696119100003,60.830093619099998,61.536000812600001,63.055165172199999,56.8542280156,89.495754390499997,{"$f":"I84","v":62.506538852181926}]
[null,"Precio medio a bajar",null,null,null,null,null,null,null,null,null,null,null,null,null,null,null,null,null,null,null,null,null,null,null,null,null,null,null,null,null,null,null,null,null,null,null,null,null,null,null,15.7114293717,9.4708723642999999,3.3029438662000001,13.4754496482,17.103483553299998,20.9664343526,27.857449481,26.322684079999998,29.993527469299998,18.040007662400001,18.120504518200001,22.3324561391,17.878162481690598,14.6859442279,27.4165415328,19.048003233700001,19.6055303242,23.826958850299999,29.997210989300001,28.089262181799999,26.713878807499999,35.064009086699997,30.502068471499999,24.728530396099998,22.224873372899999,{"$f":"G85","v":24.456675544914432},29.000052657299999,29.592329812700001,22.0658497901,13.594184002900001,18.096935716699999,26.808755165400001,25.482445673800001,23.591473299099999,19.9736918091,22.0545371473,22.739378350500001,18.180623559299999,{"$f":"H85","v":22.169726044146785},22.0749749491,23.061099967800001,6.4406571531000001,5.3539116698000004,14.177448869799999,13.4832268813,24.866433277599999,22.6959882825,19.6980150431,15.9124452371,13.018607063599999,30.1327596687,{"$f":"I85","v":16.833822000391116}]
[]
[]
[null,"Energía de regulación terciaria y precios medios anuales",2007,2008,2009,2010,2011,2012,2013,2014,2015,2016,2017,2018,2019]
[null,"Energía gestionada a subir",null,null,null,2725.7446000000004,2693.8276999999998,2991.6151999999997,3330.3061999999995,"-","-","-","-","-","-"]
[null,"Energía gestionada a bajar",null,null,null,2982.6401999999994,2804.8267000000001,2330.1929999999998,1811.6219999999998,"-","-","-","-","-","-"]
[null,"Precio medio a subir",null,null,null,50.410609904529892,57.971337758552892,59.728704239764546,62.506538852181926,"-","-","-","-","-","-"]
[null,"Precio medio a bajar",null,null,null,17.878162481690598,24.456675544914432,22.169726044146785,16.833822000391116,"-","-","-","-","-","-"]
[]
[]
[null,"Energía de gestión de desvíos y precios medios mensuales","2007-01-01","2007-02-01","2007-03-01","2007-04-01","2007-05-01","2007-06-01","2007-07-01","2007-08-01","2007-09-01","2007-10-01","2007-11-01","2007-12-01","2007","2008-01-01","2008-02-01","2008-03-01","2008-04-01","2008-05-01","2008-06-01","2008-07-01","2008-08-01","2008-09-01","2008-10-01","2008-11-01","2008-12-01","2008","2009-01-01","2009-02-01","2009-03-01","2009-04-01","2009-05-01","2009-06-01","2009-07-01","2009-08-01","2009-09-01","2009-10-01","2009-11-01","2009-12-01","2009","2010-01-31","2010-02-28","2010-03-31","2010-04-30","2010-05-31","2010-06-30","2010-07-31","2010-08-31","2010-09-30","2010-10-31","2010-11-30","2010-12-31","2010","2011-01-31","2011-02-28","2011-03-31","2011-04-30","2011-05-31","2011-06-30","2011-07-31","2011-08-31","2011-09-30","2011-10-31","2011-11-30","2011-12-31","2011","2012-01-31","2012-02-29","2012-03-31","2012-04-30","2012-05-31","2012-06-30","2012-07-31","2012-08-31","2012-09-30","2012-10-31","2012-11-30","2012-12-31","2012","2013-01-31","2013-02-28","2013-03-31","2013-04-30","2013-05-31","2013-06-30","2013-07-31","2013-08-31","2013-09-30","2013-10-31","2013-11-30","2013-12-31","2013"]
[null,"Energía gestionada a subir",null,null,null,null,null,null,null,null,null,null,null,null,null,null,null,null,null,null,null,null,null,null,null,null,null,null,null,null,null,null,null,null,null,null,null,null,null,null,null,418.93900000000002,167.47020000000001,300.27320000000003,30.735400000000002,85.737200000000001,92.16,130.2662,153.0204,64.380499999999998,21.700099999999999,320.60590000000002,413.13909999999998,{"$f":"F96","v":2198.4272000000005},261.2235,112.0228,106.1044,21.7,130.36699999999999,174.6514,46.991500000000002,315.1456,73.548299999999998,39.239199999999997,247.05870000000002,246.52289999999999,{"$f":"G96","v":1774.5752999999997},406.27229999999997,296.88220000000001,156.87690000000001,151.3974,105.78269999999999,227.8451,94.955799999999996,356.62020000000001,36.529199999999996,67.769800000000004,421.4633,335.90100000000001,{"$f":"H96","v":2658.2958999999996},219.4743,231.1867,173.43520000000001,91.917400000000001,121.3096,113.4507,140.9461,235.16920000000002,113.08810000000001,145.90539999999999,374.12559999999996,386.66759999999999,{"$f":"I96","v":2346.6759000000002}]
[null,"Energía gestionada a bajar",null,null,null,null,null,null,null,null,null,null,null,null,null,null,null,null,null,null,null,null,null,null,null,null,null,null,null,null,null,null,null,null,null,null,null,null,null,null,null,171.34399999999999,390.1447,208.274,264.79640000000001,175.88849999999999,237.29270000000002,66.286000000000001,99.838200000000001,306.90790000000004,426.5652,134.82679999999999,192.374,{"$f":"F97","v":2674.5383999999995},191.8707,414.94319999999999,290.48669999999998,269.57279999999997,78.654800000000009,51.216900000000003,71.249300000000005,17.619799999999998,137.04479999999998,264.15690000000001,83.311800000000005,175.92510000000001,{"$f":"G97","v":2238.4267999999993},85.645200000000003,162.7954,152.1473,96.606899999999996,81.061199999999999,64.662000000000006,66.954300000000003,10.8,193.21340000000001,233.3021,13.7088,70.918999999999997,{"$f":"H97","v":1231.8156000000001},181.83459999999999,90.775100000000009,112.4418,124.32719999999999,51.113599999999998,58.682600000000001,58.374000000000002,9.6,34.451300000000003,110.13719999999999,28.9923,44.270199999999996,{"$f":"I97","v":904.99990000000014}]
[null,"Precio medio a subir",null,null,null,null,null,null,null,null,null,null,null,null,null,null,null,null,null,null,null,null,null,null,null,null,null,null,null,null,null,null,null,null,null,null,null,null,null,null,null,51.303498337500002,35.479514325499999,34.963191387000002,31.261876207899999,42.356059796700002,44.653775390600003,48.164135669899999,46.767989496799999,45.474603334900003,48.7994202792,78.220120465700006,55.662464893799999,51.005715972772144,48.9078224203,51.382005448900003,52.3273849152,51.362627649799997,53.2061975807,54.187548396399997,53.455346818000002,58.946074608099998,56.036473582699998,62.046344981499999,56.023323525899997,53.8157898921,{"$f":"G98","v":54.295402612671296},61.154612755999999,63.635349576400003,52.339822242799997,61.279174014900001,49.210887697099999,76.1808359276,52.636787010399999,63.791859294600002,50.260361573799997,57.647273859400002,53.125403184600003,60.951153435099997,{"$f":"H98","v":60.242896654220097},65.483475149499995,56.201393721999999,51.278345399300001,50.199888922,49.8680945284,47.483465681600002,65.343433340800004,56.854287551299997,58.7772699338,60.287857132100001,58.262561343000002,74.737672745300003,{"$f":"I98","v":60.097325058820452}]
[null,"Precio medio a bajar",null,null,null,null,null,null,null,null,null,null,null,null,null,null,null,null,null,null,null,null,null,null,null,null,null,null,null,null,null,null,null,null,null,null,null,null,null,null,null,20.839296152799999,10.4677122104,5.620231714,15.2865798024,21.330226478699998,22.853037198399999,30.458503907299999,31.015286733899998,31.933342315400001,23.897961273,24.2100709206,25.678968987499999,20.699586702520467,17.8635886042,32.456415793799998,26.268290080100002,26.906140382099998,27.3050378362,36.849014290200003,36.965313062699998,37.386222885599999,38.195275486600003,35.402076455299998,26.052638161699999,29.431178325299999,{"$f":"G99","v":29.833354070828552},35.760188078299997,34.124395345300002,26.240222008500002,19.3416043782,23.189790306599999,26.7199868547,30.8419647431,36.730833333299998,26.208440304900002,25.7407010481,23.104877159200001,25.428579929200001,{"$f":"H99","v":27.388385623624416},31.2668890299,25.874230928999999,6.8337161981000003,2.6084883275999999,21.5635582311,20.476996588399999,32.204360674299998,25.373336458299999,31.330110619900001,27.174998456499999,14.1134728876,53.572404009899998,{"$f":"I99","v":22.549549220953207}]
[]
[]
[null,"Energía de gestión de desvíos y precios medios anuales",2007,2008,2009,2010,2011,2012,2013,2014,2015,2016,2017,2018,2019]
[null,"Energía gestionada a subir",null,null,null,2198.4272000000005,1774.5752999999997,2658.2958999999996,2346.6759000000002,"-","-","-","-","-","-"]
[null,"Energía gestionada a bajar",null,null,null,2674.5383999999995,2238.4267999999993,1231.8156000000001,904.99990000000014,"-","-","-","-","-","-"]
[null,"Precio medio a subir",null,null,null,51.005715972772144,54.295402612671296,60.242896654220097,60.097325058820452,"-","-","-","-","-","-"]
[null,"Precio medio a bajar",null,null,null,20.699586702520467,29.833354070828552,27.388385623624416,22.549549220953207,"-","-","-","-","-","-"]
[]
[]
[null,"Energía de restricciones en tiempo real  y precios medios mensuales","2007-01-01","2007-02-01","2007-03-01","2007-04-01","2007-05-01","2007-06-01","2007-07-01","2007-08-01","2007-09-01","2007-10-01","2007-11-01","2007-12-01","2007","2008-01-01","2008-02-01","2008-03-01","2008-04-01","2008-05-01","2008-06-01","2008-07-01","2008-08-01","2008-09-01","2008-10-01","2008-11-01","2008-12-01","2008","2009-01-01","2009-02-01","2009-03-01","2009-04-01","2009-05-01","2009-06-01","2009-07-01","2009-08-01","2009-09-01","2009-10-01","2009-11-01","2009-12-01","2009","2010-01-31","2010-02-28","2010-03-31","2010-04-30","2010-05-31","2010-06-30","2010-07-31","2010-08-31","2010-09-30","2010-10-31","2010-11-30","2010-12-31","2010","2011-01-31","2011-02-28","2011-03-31","2011-04-30","2011-05-31","2011-06-30","2011-07-31","2011-08-31","2011-09-30","2011-10-31","2011-11-30","2011-12-31","2011","2012-01-31","2012-02-29","2012-03-31","2012-04-30","2012-05-31","2012-06-30","2012-07-31","2012-08-31","2012-09-30","2012-10-31","2012-11-30","2012-12-31","2012","2013-01-31","2013-02-28","2013-03-31","2013-04-30","2013-05-31","2013-06-30","2013-07-31","2013-08-31","2013-09-30","2013-10-31","2013-11-30","2013-12-31","2013"]
[null,"Energía gestionada a subir",null,null,null,null,null,null,null,null,null,null,null,null,null,null,null,null,null,null,null,null,null,null,null,null,null,null,null,null,null,null,null,null,null,null,null,null,null,null,null,104.08619999999999,73.05810000000001,125.34819999999999,60.569099999999999,73.290600000000012,31.116799999999998,54.482800000000005,50.101300000000002,46.203000000000003,165.803,52.125999999999998,50.839199999999998,{"$f":"F110","v":887.02429999999993},68.645399999999995,27.374400000000001,92.207899999999995,49.216699999999996,52.668399999999998,29.822900000000001,24.220599999999997,35.5291,24.556099999999997,82.980199999999996,87.684899999999999,82.463300000000004,{"$f":"G110","v":657.36989999999992},35.570599999999999,50.071199999999997,67.528300000000002,69.992699999999999,44.761499999999998,70.043000000000006,29.485400000000002,57.896999999999998,49.3553,66.828100000000006,38.044699999999999,55.594000000000001,{"$f":"H110","v":635.17180000000019},41.3003,29.834099999999999,92.657499999999999,95.014699999999991,33.741800000000005,27.040900000000001,16.872900000000001,47.549100000000003,34.831199999999995,45.701500000000003,53.030099999999997,40.758000000000003,{"$f":"I110","v":558.33210000000008}]
[null,"Energía gestionada a bajar",null,null,null,null,null,null,null,null,null,null,null,null,null,null,null,null,null,null,null,null,null,null,null,null,null,null,null,null,null,null,null,null,null,null,null,null,null,null,null,132.0453,150.73339999999999,159.4941,57.531800000000004,29.517499999999998,32.590900000000005,42.9407,20.810700000000001,42.785699999999999,103.20819999999999,60.8752,68.298899999999989,{"$f":"F111","v":900.83240000000001},87.889800000000008,28.7318,46.375099999999996,44.627000000000002,46.069900000000004,39.154600000000002,23.735799999999998,39.111599999999996,20.234099999999998,25.7468,61.546099999999996,46.097999999999999,{"$f":"G111","v":509.32060000000007},18.212299999999999,19.262700000000002,18.713099999999997,80.834699999999998,38.3752,36.238,27.075200000000002,25.780200000000001,62.01,82.814999999999998,31.272400000000001,43.238300000000002,{"$f":"H111","v":483.82709999999997},99.4863,58.030099999999997,544.5603000000001,559.52290000000005,76.331800000000001,61.548900000000003,13.886600000000001,50.900199999999998,13.206799999999999,45.131599999999999,60.625800000000005,118.23439999999999,{"$f":"I111","v":1701.4657}]
[null,"Precio medio a subir",null,null,null,null,null,null,null,null,null,null,null,null,null,null,null,null,null,null,null,null,null,null,null,null,null,null,null,null,null,null,null,null,null,null,null,null,null,null,null,113.14800828544,78.421559553286997,96.038869405384403,80.341586386457806,88.245567371532005,85.578605447860994,116.565777456372,100.918791528364,133.109004393654,97.7251997249748,151.87224398572701,150.40414896379201,{"$f":"F112","v":104.692255544747},120.162637700414,105.183079811795,112.634800380445,102.83628565100901,141.663734421399,144.252948237764,92.345938994079404,104.856965135621,139.27267359230501,154.822440654518,156.92015386913801,134.59366299917701,{"$f":"G112","v":129.951439197323},162.533244589633,139.790198357539,135.29378808588399,138.44199295069299,158.45195960814499,133.51153876904201,156.88854246508399,154.69607406255901,200.601078708872,585.124751564088,563.86471703023005,259.35497697593303,{"$f":"H112","v":230.65816043785301},239.777507185178,311.65828397706002,151.039581253541,168.83646267367001,275.07276404933901,208.062993835264,160.35353910708901,173.03733950800299,219.75003416477199,416.809571677078,320.64850056854499,250.74616762353401,{"$f":"I112","v":231.05566993192801}]
[null,"Precio medio a bajar",null,null,null,null,null,null,null,null,null,null,null,null,null,null,null,null,null,null,null,null,null,null,null,null,null,null,null,null,null,null,null,null,null,null,null,null,null,null,null,4.7927012244889404,3.7705392997996601,4.3641682011247003,4.6097024062525804,19.239936389188301,10.2762646012805,13.741592928949,10.7119931127258,14.018855027440701,15.9369980008365,9.8457035249296005,14.2655143450863,{"$f":"F113","v":8.7815585171494206},10.1828181888449,16.177043577899799,16.531920666093001,17.754106967136298,20.664808768488601,20.3143064996978,33.883450218726097,15.7025924340857,23.784198704217999,18.387674042804999,14.3146275896072,22.084489664544702,{"$f":"G113","v":17.639194911920502},18.818040780541001,22.915679495539901,17.576173389150998,11.327599286950999,17.377907513950198,25.6551545105979,22.144321061280799,20.011714327231001,16.872113763798801,15.353944917494299,16.5722766732267,12.6396715456466,{"$f":"H113","v":16.951263693273901},14.1373077511875,14.870123540002,1.48888611446792,1.35195030219936,19.9253170329062,17.875394524514299,26.3815447789522,28.579767097775601,22.923087432827501,20.181741163156101,14.3744485643894,14.1802445195215,{"$f":"I113","v":7.9333984241144}]
[]
[]
[null,"Energía de restricciones en tiempo real  y precios medios anuales",2007,2008,2009,2010,2011,2012,2013,2014,2015,2016,2017,2018,2019]
[null,"Energía gestionada a subir",null,null,null,887.02429999999993,657.36989999999992,635.17180000000019,558.33210000000008,"-","-","-","-","-","-"]
[null,"Energía gestionada a bajar",null,null,null,900.83240000000001,509.32060000000007,483.82709999999997,1701.4657,"-","-","-","-","-","-"]
[null,"Precio medio a subir",null,null,null,104.692255544747,129.951439197323,230.65816043785301,231.05566993192801,"-","-","-","-","-","-"]
[null,"Precio medio a bajar",null,null,null,8.7815585171494206,17.639194911920502,16.951263693273901,7.9333984241144,"-","-","-","-","-","-"]
[]
[]
[null,"Energía gestionada en los servicios de ajuste mensual","2007-01-01","2007-02-01","2007-03-01","2007-04-01","2007-05-01","2007-06-01","2007-07-01","2007-08-01","2007-09-01","2007-10-01","2007-11-01","2007-12-01","2007","2008-01-01","2008-02-01","2008-03-01","2008-04-01","2008-05-01","2008-06-01","2008-07-01","2008-08-01","2008-09-01","2008-10-01","2008-11-01","2008-12-01","2008","2009-01-01","2009-02-01","2009-03-01","2009-04-01","2009-05-01","2009-06-01","2009-07-01","2009-08-01","2009-09-01","2009-10-01","2009-11-01","2009-12-01","2009","2010-01-31","2010-02-28","2010-03-31","2010-04-30","2010-05-31","2010-06-30","2010-07-31","2010-08-31","2010-09-30","2010-10-31","2010-11-30","2010-12-31","2010","2011-01-31","2011-02-28","2011-03-31","2011-04-30","2011-05-31","2011-06-30","2011-07-31","2011-08-31","2011-09-30","2011-10-31","2011-11-30","2011-12-31","2011","2012-01-31","2012-02-29","2012-03-31","2012-04-30","2012-05-31","2012-06-30","2012-07-31","2012-08-31","2012-09-30","2012-10-31","2012-11-30","2012-12-31","2012","2013-01-31","2013-02-28","2013-03-31","2013-04-30","2013-05-31","2013-06-30","2013-07-31","2013-08-31","2013-09-30","2013-10-31","2013-11-30","2013-12-31","2013"]
[null,"subir"]
[null,"Restricciones garantia suministro",null,null,null,null,null,null,null,null,null,null,null,null,null,null,null,null,null,null,null,null,null,null,null,null,null,null,null,null,null,null,null,null,null,null,null,null,null,null,null,"-","-","-","-","-","-","-","-","-","-","-","-","-","-",88.152600000000007,1443.2758999999999,1436.3099,1897.5696,1581.9083000000001,1728.5361,1214.8078,791.99659999999994,656.13440000000003,1014.076,920.42769999999996,{"$f":"SUM(BC118:BN118)","v":12773.194900000002},888.86109999999996,876.37159999999994,1366.9492,605.58050000000003,1308.0091,978.15519999999992,1263.6622,1411.6549,977.87270000000001,912.97930000000008,922.74069999999995,495.33009999999996,{"$f":"SUM(BP118:CA118)","v":12008.1666},"-",76.639899999999997,21.868400000000001,42.463300000000004,283.62040000000002,739.9203,741.81040000000007,862.36159999999995,696.41459999999995,344.07900000000001,226.11539999999999,50.093400000000003,{"$f":"SUM(CC118:CN118)","v":4085.3867000000005}]
[null,"Restricciones PBF",null,null,null,null,null,null,null,null,null,null,null,null,null,null,null,null,null,null,null,null,null,null,null,null,null,null,null,null,null,null,null,null,null,null,null,null,null,null,null,{"$f":"AP47","v":1246.3556000000001},{"$f":"AQ47","v":1114.1255000000001},1556.7548999999999,912.1146,836.90940000000001,595.39959999999996,1034.7743,1045.1475,965.51869999999997,1060.9296000000002,1114.0440000000001,1027.1989000000001,12509.2726,1065.6908999999998,715.69140000000004,804.26830000000007,609.6617,526.27949999999998,560.75669999999991,701.59100000000001,939.77260000000001,870.61659999999995,1049.8657000000001,1167.5563,985.8931,9997.6437999999998,772.50540000000001,658.55909999999994,733.8913,670.42430000000002,526.65170000000001,507.70340000000004,565.86540000000002,334.62979999999999,190.02120000000002,474.07409999999999,414.30079999999998,313.43459999999999,6162.0610999999999,422.77929999999998,578.4982,1034.7455,1006.4628,944.24590000000001,762.76099999999997,202.0059,199.38739999999999,210.84649999999999,563.00169999999991,630.27750000000003,684.78980000000001,7239.8014999999996]
[null,"Regulación secundaria",null,null,null,null,null,null,null,null,null,null,null,null,null,null,null,null,null,null,null,null,null,null,null,null,null,null,null,null,null,null,null,null,null,null,null,null,null,null,null,{"$f":"AP61","v":111.85845399999999},{"$f":"AQ61","v":99.514528999999996},140.082268,126.675298,98.163101999999995,97.723264999999998,82.815490000000011,63.901694000000006,68.299137000000002,83.241491999999994,89.086753000000002,103.729148,1165.0906299999999,85.516714999999991,75.794835000000006,131.80452,115.39443900000001,89.892107999999993,91.209007,78.721740999999994,99.772313999999994,92.656922000000009,104.534155,122.79389200000001,124.416893,1212.5075409999999,95.829729,104.23274000000001,137.45184099999997,150.49971100000002,161.227113,102.838663,110.171751,88.116839999999996,103.859213,128.61634100000001,143.90511699999999,183.61602100000002,1510.36508,171.79729699999999,146.23201299999999,176.833415,192.20975799999999,170.30642600000002,149.06502499999999,124.773447,125.84460199999999,111.60823500000001,133.01477199999999,153.51644200000001,150.42656200000002,1805.6279939999999]
[null,"Regulación terciaria",null,null,null,null,null,null,null,null,null,null,null,null,null,null,null,null,null,null,null,null,null,null,null,null,null,null,null,null,null,null,null,null,null,null,null,null,null,null,null,{"$f":"AP75","v":438.97290000000004},{"$f":"AQ75","v":229.85599999999999},270.09870000000001,129.63910000000001,196.3184,139.53059999999999,174.92370000000003,231.03970000000001,105.3176,101.85130000000001,360.7269,347.46969999999999,2725.7446000000004,263.3304,158.30590000000001,227.25920000000002,134.25910000000002,293.53719999999998,239.29589999999999,156.87049999999999,301.05599999999998,164.58429999999998,154.0874,279.803,321.43880000000001,2693.8276999999998,321.96370000000002,218.48609999999999,206.05240000000001,253.27459999999999,223.50639999999999,269.25740000000002,203.08349999999999,285.0872,131.2475,182.7602,391.34429999999998,305.55190000000005,2991.6151999999997,321.34790000000004,357.91020000000003,221.20699999999999,187.1326,252.4547,215.8065,298.54990000000004,307.22359999999998,235.2833,274.08670000000001,305.58780000000002,353.71600000000001,3330.3061999999995]
[null,"Gestión de desvíos",null,null,null,null,null,null,null,null,null,null,null,null,null,null,null,null,null,null,null,null,null,null,null,null,null,null,null,null,null,null,null,null,null,null,null,null,null,null,null,{"$f":"AP89","v":418.93900000000002},{"$f":"AQ89","v":167.47020000000001},300.27320000000003,30.735400000000002,85.737200000000001,92.16,130.2662,153.0204,64.380499999999998,21.700099999999999,320.60590000000002,413.13909999999998,2198.4272000000005,261.2235,112.0228,106.1044,21.7,130.36699999999999,174.6514,46.991500000000002,315.1456,73.548299999999998,39.239199999999997,247.05870000000002,246.52289999999999,1774.5752999999997,406.27229999999997,296.88220000000001,156.87690000000001,151.3974,105.78269999999999,227.8451,94.955799999999996,356.62020000000001,36.529199999999996,67.769800000000004,421.4633,335.90100000000001,2658.2958999999996,219.4743,231.1867,173.43520000000001,91.917400000000001,121.3096,113.4507,140.9461,235.16920000000002,113.08810000000001,145.90539999999999,374.12559999999996,386.66759999999999,2346.6759000000002]
[null,"Restricciones en tiempo real",null,null,null,null,null,null,null,null,null,null,null,null,null,null,null,null,null,null,null,null,null,null,null,null,null,null,null,null,null,null,null,null,null,null,null,null,null,null,null,{"$f":"AP103","v":104.08619999999999},{"$f":"AQ103","v":73.05810000000001},125.34819999999999,60.569099999999999,73.290600000000012,31.116799999999998,54.482800000000005,50.101300000000002,46.203000000000003,165.803,52.125999999999998,50.839199999999998,887.02429999999993,68.645399999999995,27.374400000000001,92.207899999999995,49.216699999999996,52.668399999999998,29.822900000000001,24.220599999999997,35.5291,24.556099999999997,82.980199999999996,87.684899999999999,82.463300000000004,657.36989999999992,35.570599999999999,50.071199999999997,67.528300000000002,69.992699999999999,44.761499999999998,70.043000000000006,29.485400000000002,57.896999999999998,49.3553,66.828100000000006,38.044699999999999,55.594000000000001,635.17180000000019,41.3003,29.834099999999999,92.657499999999999,95.014699999999991,33.741800000000005,27.040900000000001,16.872900000000001,47.549100000000003,34.831199999999995,45.701500000000003,53.030099999999997,40.758000000000003,558.33210000000008]
[null,"Total subir",null,null,null,null,null,null,null,null,null,null,null,null,null,null,null,null,null,null,null,null,null,null,null,null,null,null,null,null,null,null,null,null,null,null,null,null,null,null,null,{"$f":"SUM(AP119:AP123)","v":2320.2121540000003},{"$f":"SUM(AQ119:AQ123)","v":1684.0243290000001},2392.557268,1259.7334980000001,1290.4187020000002,955.93026499999985,1477.2624900000001,1543.2105939999999,1249.7189370000001,1433.5254920000002,1936.589553,1942.3760479999996,19485.559330000004,1744.406915,1089.189335,1361.6443199999999,930.23193900000001,1092.7442080000001,1095.7359069999998,1008.3953409999999,1691.2756140000001,1225.9622219999999,1430.706655,1904.8967919999998,1760.734993,16335.924241000001,1632.1417289999999,1328.23134,1301.8007409999998,1295.5887110000001,1061.9294130000001,1177.687563,1003.5618509999999,1122.35104,511.01241300000004,920.04854099999989,1409.0582169999998,1194.0975210000001,13957.50908,1176.6990970000002,1343.6612130000001,1698.8786149999999,1572.7372579999999,1522.0584260000001,1268.124125,783.14824700000008,915.173902,705.6573350000001,1161.7100719999996,1516.5374419999998,1616.357962,15280.743693999999]
[null,"bajar"]
[null,"Restricciones garantia suministro",null,null,null,null,null,null,null,null,null,null,null,null,null,null,null,null,null,null,null,null,null,null,null,null,null,null,null,null,null,null,null,null,null,null,null,null,null,null,null,"-","-","-","-","-","-","-","-","-","-","-","-","-","-","-","-","-","-","-","-","-","-","-","-","-","-","-","-","-","-","-","-","-","-","-","-","-","-","-","-","-","-","-","-","-","-","-","-","-","-","-","-"]
[null,"Restricciones PBF",null,null,null,null,null,null,null,null,null,null,null,null,null,null,null,null,null,null,null,null,null,null,null,null,null,null,null,null,null,null,null,null,null,null,null,null,null,null,null,{"$f":"AP48","v":12.360799999999999},{"$f":"AQ48","v":3.7662},10.045500000000001,31.817299999999999,0.17330000000000001,17.864900000000002,215.9127,36.1145,47.259500000000003,62.188400000000001,9.1905000000000001,null,446.6936,0.23649999999999999,null,5.3513000000000002,0.24249999999999999,2.6549,13.7782,18.1326,53.491900000000001,3.6820999999999997,130.06659999999999,0.17499999999999999,0.61399999999999999,228.4256,0.60170000000000001,2.8,8.9878999999999998,null,7.3286000000000007,10.944700000000001,14.381500000000001,7.8338999999999999,5.1983999999999995,2.7624,0.05,null,60.889099999999999,4.8517999999999999,0.64879999999999993,1.6876,0.45729999999999998,1.4307000000000001,6.0181000000000004,27.627200000000002,56.895099999999999,26.092400000000001,23.398799999999998,2.2016,42.038699999999999,193.34809999999999]
[null,"Regulación secundaria",null,null,null,null,null,null,null,null,null,null,null,null,null,null,null,null,null,null,null,null,null,null,null,null,null,null,null,null,null,null,null,null,null,null,null,null,null,null,null,{"$f":"AP62","v":134.546976},{"$f":"AQ62","v":141.97060300000001},140.09879100000001,102.705868,135.31416200000001,121.52149199999999,150.07562200000001,164.768756,170.05854399999998,155.938918,161.88616200000001,144.94360999999998,1723.829504,153.223893,150.99631099999999,129.52820600000001,100.37770399999999,147.39467400000001,128.570257,135.58817800000003,115.53548499999999,125.95819,108.941399,104.67173299999999,113.55561400000001,1514.3416440000001,124.63860200000001,125.344257,107.943651,82.488202999999999,78.09535000000001,104.37577400000001,115.074921,130.54371499999999,121.41986999999999,118.735159,87.962190000000007,65.794982000000005,1262.4166740000001,94.286029999999997,81.404216000000005,98.453812999999997,86.494074999999995,76.518190000000004,77.887855000000002,87.973297000000002,92.756681,100.82392400000001,101.598428,84.130255000000005,87.995928000000006,1070.322692]
[null,"Regulación terciaria",null,null,null,null,null,null,null,null,null,null,null,null,null,null,null,null,null,null,null,null,null,null,null,null,null,null,null,null,null,null,null,null,null,null,null,null,null,null,null,{"$f":"AP76","v":238.8434},{"$f":"AQ76","v":292.67359999999996},309.0188,248.7834,228.6602,246.74929999999998,205.08610000000002,175.56629999999998,281.68579999999997,388.65229999999997,153.52470000000002,213.3963,2982.6401999999994,206.04560000000001,321.00290000000001,399.6712,295.2901,127.79180000000001,98.346699999999998,235.7071,116.52369999999999,185.7216,252.5488,145.45959999999999,207.32129999999998,2804.8267000000001,152.11579999999998,215.77699999999999,282.39679999999998,248.5352,170.6696,159.93529999999998,194.82320000000001,113.161,300.19319999999999,245.78659999999999,74.353800000000007,172.44550000000001,2330.1929999999998,220.85070000000002,135.4076,208.66979999999998,170.53970000000001,153.6566,152.21260000000001,129.52619999999999,93.740399999999994,126.33019999999999,192.60300000000001,103.0528,125.0324,1811.6219999999998]
[null,"Gestión de desvíos",null,null,null,null,null,null,null,null,null,null,null,null,null,null,null,null,null,null,null,null,null,null,null,null,null,null,null,null,null,null,null,null,null,null,null,null,null,null,null,{"$f":"AP90","v":171.34399999999999},{"$f":"AQ90","v":390.1447},208.274,264.79640000000001,175.88849999999999,237.29270000000002,66.286000000000001,99.838200000000001,306.90790000000004,426.5652,134.82679999999999,192.374,2674.5383999999995,191.8707,414.94319999999999,290.48669999999998,269.57279999999997,78.654800000000009,51.216900000000003,71.249300000000005,17.619799999999998,137.04479999999998,264.15690000000001,83.311800000000005,175.92510000000001,2238.4267999999993,85.645200000000003,162.7954,152.1473,96.606899999999996,81.061199999999999,64.662000000000006,66.954300000000003,10.8,193.21340000000001,233.3021,13.7088,70.918999999999997,1231.8156000000001,181.83459999999999,90.775100000000009,112.4418,124.32719999999999,51.113599999999998,58.682600000000001,58.374000000000002,9.6,34.451300000000003,110.13719999999999,28.9923,44.270199999999996,904.99990000000014]
[null,"Restricciones en tiempo real",null,null,null,null,null,null,null,null,null,null,null,null,null,null,null,null,null,null,null,null,null,null,null,null,null,null,null,null,null,null,null,null,null,null,null,null,null,null,null,{"$f":"AP104","v":132.0453},{"$f":"AQ104","v":150.73339999999999},159.4941,57.531800000000004,29.517499999999998,32.590900000000005,42.9407,20.810700000000001,42.785699999999999,103.20819999999999,60.8752,68.298899999999989,900.83240000000001,87.889800000000008,28.7318,46.375099999999996,44.627000000000002,46.069900000000004,39.154600000000002,23.735799999999998,39.111599999999996,20.234099999999998,25.7468,61.546099999999996,46.097999999999999,509.32060000000007,18.212299999999999,19.262700000000002,18.713099999999997,80.834699999999998,38.3752,36.238,27.075200000000002,25.780200000000001,62.01,82.814999999999998,31.272400000000001,43.238300000000002,483.82709999999997,99.4863,58.030099999999997,544.5603000000001,559.52290000000005,76.331800000000001,61.548900000000003,13.886600000000001,50.900199999999998,13.206799999999999,45.131599999999999,60.625800000000005,118.23439999999999,1701.4657]
[null,"Total bajar",null,null,null,null,null,null,null,null,null,null,null,null,null,null,null,null,null,null,null,null,null,null,null,null,null,null,null,null,null,null,null,null,null,null,null,null,null,null,null,{"$f":"SUM(AP127:AP131)","v":689.14047600000004},{"$f":"SUM(AQ127:AQ131)","v":979.28850299999988},826.93119100000001,705.63476799999989,569.55366200000003,656.01929200000006,680.30112199999996,497.09845599999994,848.69744400000002,1136.5530180000001,520.30336199999999,619.01280999999994,8728.5341039999985,639.26649299999997,915.67421100000001,871.41250599999989,710.11010399999986,402.56607400000007,331.06665700000002,484.41297800000001,342.28248499999995,472.64079000000004,781.46049899999991,395.16423299999997,543.51401399999997,7295.3413439999995,381.21360199999992,525.97935699999994,570.18875099999991,508.46500300000002,375.52994999999999,376.15577400000001,418.309121,288.11881499999998,682.03486999999996,683.40125899999998,207.34719000000001,352.39778200000001,5369.141474,601.30943000000002,366.26581600000003,965.81331300000011,941.34117500000002,359.05088999999998,356.350055,317.38729699999999,303.892381,300.90462399999996,472.86902800000001,279.00275500000004,417.57162799999998,5681.7583919999997]
[null,"volumen"]
[null,"Restricciones garantia suministro",null,null,null,null,null,null,null,null,null,null,null,null,null,null,null,null,null,null,null,null,null,null,null,null,null,null,null,null,null,null,null,null,null,null,null,null,null,null,null,{"$f":"AP118","v":"-"},{"$f":"AQ118","v":"-"},"-","-","-","-","-","-","-","-","-","-","-","-",88.152600000000007,1443.2758999999999,1436.3099,1897.5696,1581.9083000000001,1728.5361,1214.8078,791.99659999999994,656.13440000000003,1014.076,920.42769999999996,12773.194900000002,888.86109999999996,876.37159999999994,1366.9492,605.58050000000003,1308.0091,978.15519999999992,1263.6622,1411.6549,977.87270000000001,912.97930000000008,922.74069999999995,495.33009999999996,12008.1666,"-",76.639899999999997,21.868400000000001,42.463300000000004,283.62040000000002,739.9203,741.81040000000007,862.36159999999995,696.41459999999995,344.07900000000001,226.11539999999999,50.093400000000003,4085.3867000000005]
[null,"Restricciones PBF",null,null,null,null,null,null,null,null,null,null,null,null,null,null,null,null,null,null,null,null,null,null,null,null,null,null,null,null,null,null,null,null,null,null,null,null,null,null,null,{"$f":"AP119+AP127","v":1258.7164},{"$f":"AQ119+AQ127","v":1117.8917000000001},1566.8003999999999,943.93190000000004,837.08270000000005,613.2645,1250.6870000000001,1081.2619999999999,1012.7782,1123.1180000000002,1123.2345,1027.1989000000001,12955.966200000001,1065.9273999999998,715.69140000000004,809.6196000000001,609.90419999999995,528.93439999999998,574.53489999999988,719.72360000000003,993.2645,874.29869999999994,1179.9322999999999,1167.7312999999999,986.50710000000004,10226.0694,773.10710000000006,661.3590999999999,742.87919999999997,670.42430000000002,533.98030000000006,518.6481,580.24689999999998,342.46370000000002,195.21960000000001,476.8365,414.35079999999999,313.43459999999999,6222.9502000000002,427.6311,579.14700000000005,1036.4331,1006.9201,945.67660000000001,768.77909999999997,229.63310000000001,256.28249999999997,236.93889999999999,586.40049999999997,632.47910000000002,726.82849999999996,7433.1495999999997]
[null,"Regulación secundaria",null,null,null,null,null,null,null,null,null,null,null,null,null,null,null,null,null,null,null,null,null,null,null,null,null,null,null,null,null,null,null,null,null,null,null,null,null,null,null,{"$f":"AP120+AP128","v":246.40543},241.48513200000002,280.181059,229.38116600000001,233.47726399999999,219.24475699999999,232.89111200000002,228.67045000000002,238.35768099999999,239.18040999999999,250.972915,248.67275799999999,2888.920134,238.74060800000001,226.791146,261.33272599999998,215.772143,237.28678200000002,219.77926400000001,214.30991900000004,215.30779899999999,218.61511200000001,213.47555399999999,227.46562499999999,237.97250700000001,2726.849185,220.46833100000001,229.57699700000001,245.39549199999999,232.98791400000002,239.32246300000003,207.214437,225.24667199999999,218.66055499999999,225.27908299999999,247.35149999999999,231.86730699999998,249.41100300000002,2772.7817540000001,266.083327,227.63622900000001,275.28722800000003,278.70383299999997,246.82461600000002,226.95287999999999,212.74674400000001,218.601283,212.43215900000001,234.61320000000001,237.64669700000002,238.42249000000004,2875.9506860000001]
[null,"Regulación terciaria",null,null,null,null,null,null,null,null,null,null,null,null,null,null,null,null,null,null,null,null,null,null,null,null,null,null,null,null,null,null,null,null,null,null,null,null,null,null,null,{"$f":"AP121+AP129","v":677.81630000000007},522.52959999999996,579.11750000000006,378.42250000000001,424.97860000000003,386.2799,380.00980000000004,406.60599999999999,387.00339999999994,490.50360000000001,514.25160000000005,560.86599999999999,5708.3847999999998,469.37599999999998,479.30880000000002,626.93039999999996,429.54920000000004,421.32900000000001,337.64260000000002,392.57759999999996,417.5797,350.30589999999995,406.63620000000003,425.26260000000002,528.76009999999997,5498.6543999999994,474.0795,434.26310000000001,488.44920000000002,501.8098,394.17599999999999,429.1927,397.9067,398.2482,431.44069999999999,428.54679999999996,465.69809999999995,477.99740000000008,5321.8081999999995,542.19860000000006,493.31780000000003,429.8768,357.67230000000001,406.11130000000003,368.01909999999998,428.0761,400.96399999999994,361.61349999999999,466.68970000000002,408.64060000000001,478.7484,5141.9281999999994]
[null,"Gestión de desvíos",null,null,null,null,null,null,null,null,null,null,null,null,null,null,null,null,null,null,null,null,null,null,null,null,null,null,null,null,null,null,null,null,null,null,null,null,null,null,null,590.28300000000002,557.61490000000003,508.54720000000003,295.53180000000003,261.62569999999999,329.45270000000005,196.5522,252.8586,371.28840000000002,448.26530000000002,455.43270000000001,605.51310000000001,4872.9655999999995,453.0942,526.96600000000001,396.59109999999998,291.27279999999996,209.02179999999998,225.8683,118.24080000000001,332.7654,210.59309999999999,303.39609999999999,330.37049999999999,422.44799999999998,4013.0020999999988,491.91749999999996,459.67759999999998,309.02420000000001,248.0043,186.84389999999999,292.50710000000004,161.9101,367.42020000000002,229.74260000000001,301.07190000000003,435.1721,406.82,3890.1115,401.30889999999999,321.96180000000004,285.87700000000001,216.24459999999999,172.42320000000001,172.13329999999999,199.3201,244.76920000000001,147.5394,256.04259999999999,403.11789999999996,430.93779999999998,3251.6758000000004]
[null,"Restricciones en tiempo real",null,null,null,null,null,null,null,null,null,null,null,null,null,null,null,null,null,null,null,null,null,null,null,null,null,null,null,null,null,null,null,null,null,null,null,null,null,null,null,236.13149999999999,223.79149999999998,284.84230000000002,118.1009,102.80810000000001,63.707700000000003,97.423500000000004,70.912000000000006,88.988699999999994,269.01119999999997,113.0012,119.13809999999998,1787.8566999999998,156.5352,56.106200000000001,138.583,93.843699999999998,98.73830000000001,68.977500000000006,47.956399999999995,74.640699999999995,44.790199999999999,108.727,149.23099999999999,128.56130000000002,1166.6904999999999,53.782899999999998,69.3339,86.241399999999999,150.82740000000001,{"$f":"BT123+BT131","v":83.13669999999999},106.28100000000001,56.560600000000008,83.677199999999999,111.36529999999999,149.6431,69.317099999999996,98.832300000000004,1118.9989,140.78659999999999,87.864199999999997,637.21780000000012,654.5376,110.0736,88.589799999999997,30.759500000000003,98.449299999999994,48.037999999999997,90.833100000000002,113.6559,158.9924,2259.7978000000003]
[null,"Volumen de energía",null,null,null,null,null,null,null,null,null,null,null,null,null,null,null,null,null,null,null,null,null,null,null,null,null,null,null,null,null,null,null,null,null,null,null,null,null,null,null,{"$f":"SUM(AP135:AP139)","v":3009.3526299999999},{"$f":"SUM(AQ135:AQ139)","v":2663.3128320000001},3219.4884590000001,1965.3682660000002,1859.972364,1611.9495569999999,2157.5636119999999,2040.3090500000001,2098.4163809999995,2570.0785100000003,2456.8929150000004,2561.3888580000003,28214.093434000002,2383.6734079999997,2004.8635459999998,2233.056826,1640.3420429999999,1495.3102819999999,1426.8025640000001,1492.8083190000002,2033.5580989999999,1698.603012,2212.1671539999998,2300.061025,2304.2490069999999,23631.265584999997,2013.355331,1854.210697,1871.9894920000002,1804.0537140000001,1437.4593630000002,1553.843337,1421.8709719999999,1410.4698550000001,1193.0472829999999,1603.4498000000001,1616.4054069999997,1546.4953029999999,19326.650554,1778.008527,1709.9270290000002,2664.6919280000002,2514.0784330000001,1881.109316,1624.4741799999999,1100.5355439999998,1219.0662829999999,1006.561959,1634.5790999999999,1795.540197,2033.92959,20962.502086]
[]
[]
[null,"Energía gestionada en los servicios de ajuste anual",2007,2008,2009,2010,2011,2012,2013,2014,2015,2016,2017,2018,2019]
[null,"subir"]
[null,"Restricciones garantia suministro",null,null,null,"-",12773.194900000002,12008.1666,4085.3867000000005,"-","-","-","-","-","-"]
[null,"Restricciones PBF",null,null,null,{"$f":"F54","v":12509.2726},{"$f":"G54","v":9997.6437999999998},6162.0610999999999,7239.8014999999996,"-","-","-","-","-","-"]
[null,"Regulación secundaria",null,null,null,{"$f":"F68","v":1165.0906299999999},{"$f":"G68","v":1212.5075409999999},1510.36508,1805.6279939999999,"-","-","-","-","-","-"]
[null,"Regulación terciaria",null,null,null,{"$f":"F82","v":2725.7446000000004},{"$f":"G82","v":2693.8276999999998},2991.6151999999997,3330.3061999999995,"-","-","-","-","-","-"]
[null,"Gestión de desvíos",null,null,null,{"$f":"F96","v":2198.4272000000005},{"$f":"G96","v":1774.5752999999997},2658.2958999999996,2346.6759000000002,"-","-","-","-","-","-"]
[null,"Restricciones en tiempo real",null,null,null,{"$f":"F110","v":887.02429999999993},{"$f":"G110","v":657.36989999999992},635.17180000000019,558.33210000000008,"-","-","-","-","-","-"]
[null,"Total subir"]
[null,"bajar"]
[null,"Restricciones garantia suministro",null,null,null,"-","-","-","-","-","-","-","-","-","-"]
[null,"Restricciones PBF",null,null,null,{"$f":"F55","v":446.6936},{"$f":"G55","v":228.4256},60.889099999999999,193.34809999999999,"-","-","-","-",{"$f":"N55","v":"-"},"-"]
[null,"Regulación secundaria",null,null,null,{"$f":"F69","v":1723.829504},{"$f":"G69","v":1514.3416440000001},1262.4166740000001,1070.322692,"-","-","-","-",{"$f":"N69","v":"-"},"-"]
[null,"Regulación terciaria",null,null,null,{"$f":"F83","v":2982.6401999999994},{"$f":"G83","v":2804.8267000000001},2330.1929999999998,1811.6219999999998,"-","-","-","-",{"$f":"N83","v":"-"},"-"]
[null,"Gestión de desvíos",null,null,null,{"$f":"F97","v":2674.5383999999995},{"$f":"G97","v":2238.4267999999993},1231.8156000000001,904.99990000000014,"-","-","-","-",{"$f":"N97","v":"-"},"-"]
[null,"Restricciones en tiempo real",null,null,null,{"$f":"F111","v":900.83240000000001},{"$f":"G111","v":509.32060000000007},483.82709999999997,1701.4657,"-","-","-","-",{"$f":"N111","v":"-"},"-"]
[null,"Total bajar"]
[null,"volumen"]
[null,"Restricciones garantia suministro",null,null,null,{"$f":"F145","v":"-"},{"$f":"G145","v":12773.194900000002},12008.1666,4085.3867000000005,{"$f":"J145","v":"-"},"-","-","-","-","-"]
[null,"Restricciones PBF",null,null,null,{"$f":"F146+F154","v":12955.966200000001},{"$f":"G146+G154","v":10226.0694},6222.9502000000002,7433.1495999999997,"-","-","-","-","-","-"]
[null,"Regulación secundaria",null,null,null,{"$f":"F147+F155","v":2888.920134},2726.849185,2772.7817540000001,2875.9506860000001,"-","-","-","-","-","-"]
[null,"Regulación terciaria",null,null,null,5708.3847999999998,5498.6543999999994,5321.8081999999995,5141.9281999999994,"-","-","-","-","-","-"]
[null,"Gestión de desvíos",null,null,null,4872.9655999999995,4013.0020999999988,3890.1115,3251.6758000000004,"-","-","-","-","-","-"]
[null,"Restricciones en tiempo real",null,null,null,1787.8566999999998,1166.6904999999999,1118.9989,2259.7978000000003,"-","-","-","-","-","-"]
[null,"Volumen de energía"]
[]
[]
[null,"Reserva adicional a subir mensual","2007-01-01","2007-02-01","2007-03-01","2007-04-01","2007-05-01","2007-06-01","2007-07-01","2007-08-01","2007-09-01","2007-10-01","2007-11-01","2007-12-01","2007","2008-01-01","2008-02-01","2008-03-01","2008-04-01","2008-05-01","2008-06-01","2008-07-01","2008-08-01","2008-09-01","2008-10-01","2008-11-01","2008-12-01","2008","2009-01-01","2009-02-01","2009-03-01","2009-04-01","2009-05-01","2009-06-01","2009-07-01","2009-08-01","2009-09-01","2009-10-01","2009-11-01","2009-12-01","2009","2010-01-31","2010-02-28","2010-03-31","2010-04-30","2010-05-31","2010-06-30","2010-07-31","2010-08-31","2010-09-30","2010-10-31","2010-11-30","2010-12-31","2010","2011-01-31","2011-02-28","2011-03-31","2011-04-30","2011-05-31","2011-06-30","2011-07-31","2011-08-31","2011-09-30","2011-10-31","2011-11-30","2011-12-31","2011","2012-01-31","2012-02-29","2012-03-31","2012-04-30","2012-05-31","2012-06-30","2012-07-31","2012-08-31","2012-09-30","2012-10-31","2012-11-30","2012-12-31","2012","2013-01-31","2013-02-28","2013-03-31","2013-04-30","2013-05-31","2013-06-30","2013-07-31","2013-08-31","2013-09-30","2013-10-31","2013-11-30","2013-12-31","2013"]
[null,"Energía gestionada a subir",null,null,null,null,null,null,null,null,null,null,null,null,null,null,null,null,null,null,null,null,null,null,null,null,null,null,null,null,null,null,null,null,null,null,null,null,null,null,null,"-","-","-","-","-","-","-","-","-","-","-","-","-","-","-","-","-","-","-","-","-","-","-","-","-","-","-","-","-","-",31.2027,4.7,5.2186000000000003,7.8959999999999999,41.869399999999999,285.36109999999996,661.48500000000001,597.93709999999999,{"$f":"H176","v":1635.6698999999999},364.80369999999999,273.72030000000001,354.85490000000004,251.0849,106.2975,0,1.5,43.448,134.69220000000001,440.0684,778.87369999999999,260.5668,{"$f":"I176","v":3009.9104000000002}]
[null,"Precio medio a subir",null,null,null,null,null,null,null,null,null,null,null,null,null,null,null,null,null,null,null,null,null,null,null,null,null,null,null,null,null,null,null,null,null,null,null,null,null,null,null,"-","-","-","-","-","-","-","-","-","-","-","-","-","-","-","-","-","-","-","-","-","-","-","-","-","-","-","-","-","-",20.017718017991999,3.8187234042553202,3.8653297819338501,15.1204913880446,19.6940944938308,60.4623718159202,47.211845665434602,24.761681237039799,{"$f":"H177","v":39.675586320931899},24.492978662222999,31.393437680727398,49.3207645998407,59.916731631412297,38.903971589171903,"-",9.98,26.386500184128199,32.152535855825398,43.392251545441603,32.082891500894199,28.3515667383565,{"$f":"I177","v":36.9356873513577}]
[]
[]
[null,"Reserva adicional a subir anual",2007,2008,2009,2010,2011,2012,2013,2014,2015,2016,2017,2018,2019]
[null,"Energía gestionada a subir",null,null,null,"-","-",1635.6698999999999,3009.9104000000002,"-","-","-","-","-","-"]
[null,"Precio medio a subir",null,null,null,"-","-",39.675586320931899,36.9356873513577,"-","-","-","-","-","-"]
[]
[]
[null,"Banda mensual","2007-01-01","2007-02-01","2007-03-01","2007-04-01","2007-05-01","2007-06-01","2007-07-01","2007-08-01","2007-09-01","2007-10-01","2007-11-01","2007-12-01","2007","2008-01-01","2008-02-01","2008-03-01","2008-04-01","2008-05-01","2008-06-01","2008-07-01","2008-08-01","2008-09-01","2008-10-01","2008-11-01","2008-12-01","2008","2009-01-01","2009-02-01","2009-03-01","2009-04-01","2009-05-01","2009-06-01","2009-07-01","2009-08-01","2009-09-01","2009-10-01","2009-11-01","2009-12-01","2009","2010-01-31","2010-02-28","2010-03-31","2010-04-30","2010-05-31","2010-06-30","2010-07-31","2010-08-31","2010-09-30","2010-10-31","2010-11-30","2010-12-31","2010","2011-01-31","2011-02-28","2011-03-31","2011-04-30","2011-05-31","2011-06-30","2011-07-31","2011-08-31","2011-09-30","2011-10-31","2011-11-30","2011-12-31","2011","2012-01-31","2012-02-29","2012-03-31","2012-04-30","2012-05-31","2012-06-30","2012-07-31","2012-08-31","2012-09-30","2012-10-31","2012-11-30","2012-12-31","2012","2013-01-31","2013-02-28","2013-03-31","2013-04-30","2013-05-31","2013-06-30","2013-07-31","2013-08-31","2013-09-30","2013-10-31","2013-11-30","2013-12-31","2013"]
[null,"Potencia subir",null,null,null,null,null,null,null,null,null,null,null,null,null,null,null,null,null,null,null,null,null,null,null,null,null,null,null,null,null,null,null,null,null,null,null,null,null,null,null,748.18413978494618,751.25595238095241,731.13324360699869,714.06666666666661,705.25672043010752,709.75833333333333,743.02016129032256,734.36290322580646,723.32916666666677,699.29932885906044,721.73194444444448,745.38575268817203,{"$f":"F187","v":727.14063926940639},736.20833333333337,728.02232142857144,723.88694481830419,697.83611111111111,703.24327956989248,714.93333333333339,711.36155913978484,724.77016129032256,727.38333333333333,696.18523489932886,716.31111111111113,714.97580645161281,{"$f":"G187","v":716.18344748858442},728.9354838709678,756.00574712643675,706.6043068640646,690.90555555555557,687.53629032258061,694.38611111111106,693.13575268817203,718.91263440860212,701.53194444444443,702.20536912751675,709.09861111111115,719.15322580645159,{"$f":"H187","v":708.8869535519126},722.31586021505382,703.27083333333337,697.92732166890983,679.32083333333333,678.91263440860212,676.8555555555555,698.02016129032256,693.68010752688178,666.45277777777778,685.71677852348989,697.77638888888896,695.77150537634407,{"$f":"I187","v":691.35867579908677}]
[null,"Potencia bajar",null,null,null,null,null,null,null,null,null,null,null,null,null,null,null,null,null,null,null,null,null,null,null,null,null,null,null,null,null,null,null,null,null,null,null,null,null,null,null,542.15456989247309,549.05803571428567,539.08344549125172,524.44166666666672,513.56048387096769,520.25277777777785,548.01209677419354,529.00268817204301,523.94861111111106,514.35973154362421,531.42083333333335,538.85618279569894,{"$f":"F188","v":531.09703196347027},540.27688172043008,543.05654761904759,537.19246298788698,511.32638888888891,514.75268817204301,522.72222222222229,532.02688172043008,527.08736559139788,525.18194444444441,513.93154362416112,523.63888888888891,526.4086021505376,{"$f":"G188","v":526.39086757990867},539.90053763440858,549.98275862068965,530.33512786002689,510.3486111111111,510.22580645161293,516.0625,522.52956989247309,524.60618279569894,515.3555555555555,507.9234899328859,520.71388888888885,520.96102150537638,{"$f":"H188","v":522.3331056466302},529.30645161290329,526.50892857142856,516.99596231493945,504.97499999999997,506.02553763440864,506.33750000000003,519.84543010752691,509.61290322580641,491.8416666666667,505.52483221476513,509.2,516.14381720430106,{"$f":"I188","v":511.83424657534249}]
[null,"Precio medio ",null,null,null,null,null,null,null,null,null,null,null,null,null,null,null,null,null,null,null,null,null,null,null,null,null,null,null,null,null,null,null,null,null,null,null,null,null,null,null,22.4687435365,21.695417670400001,21.145424281899999,9.1992548383999999,10.727096416,8.9034321843999997,7.3719868968000002,8.5748516827000003,10.343102356199999,17.540991388799998,17.949105500600002,20.326191077699999,14.716310431321039,16.100797466900001,9.5544437783999996,9.0233802115999993,9.6989046130999998,10.8710424001,12.3206656066,13.290021511599999,16.027082592199999,19.254210819299999,26.974014532999998,28.4106801125,18.764473435199999,{"$f":"G189","v":15.87339089511657},19.709201752199998,25.291557752799999,28.5410106458,40.367290905600001,22.301910260500001,22.581808156499999,21.4745322421,28.663850221299999,33.5276249745,36.5655294572,32.183426132000001,26.415298408400002,28.05767822669576,32.410573319800001,32.6732232349,36.428950927499997,28.520254160099999,20.776980208600001,30.349194035899998,26.834151929400001,26.291471365500001,25.433117454800001,30.121223834399999,26.111512100399999,38.194591727499997,29.552212425980649]
[]
[]
[null,"Banda anual",2007,2008,2009,2010,2011,2012,2013,2014,2015,2016,2017,2018,2019]
[null,"Potencia subir",null,null,null,727.14063926940639,716.18344748858442,708.8869535519126,691.35867579908677,"-","-","-","-","-","-"]
[null,"Potencia bajar",null,null,null,531.09703196347027,526.39086757990867,522.3331056466302,511.83424657534249,"-","-","-","-","-","-"]
[null,"Precio medio ",null,null,null,14.716310431321039,15.87339089511657,28.05767822669576,29.552212425980649,"-","-","-","-","-","-"]
[]
[]
[]
[null,"Servicios transfronterizos de Balance"]
[null,"Energía y precios ofertados desde el sistema eléctrico español y activado por operadores externos","2007-01-01","2007-02-01","2007-03-01","2007-04-01","2007-05-01","2007-06-01","2007-07-01","2007-08-01","2007-09-01","2007-10-01","2007-11-01","2007-12-01","2007","2008-01-01","2008-02-01","2008-03-01","2008-04-01","2008-05-01","2008-06-01","2008-07-01","2008-08-01","2008-09-01","2008-10-01","2008-11-01","2008-12-01","2008","2009-01-01","2009-02-01","2009-03-01","2009-04-01","2009-05-01","2009-06-01","2009-07-01","2009-08-01","2009-09-01","2009-10-01","2009-11-01","2009-12-01","2009","2010-01-31","2010-02-28","2010-03-31","2010-04-30","2010-05-31","2010-06-30","2010-07-31","2010-08-31","2010-09-30","2010-10-31","2010-11-30","2010-12-31","2010","2011-01-31","2011-02-28","2011-03-31","2011-04-30","2011-05-31","2011-06-30","2011-07-31","2011-08-31","2011-09-30","2011-10-31","2011-11-30","2011-12-31","2011","2012-01-31","2012-02-29","2012-03-31","2012-04-30","2012-05-31","2012-06-30","2012-07-31","2012-08-31","2012-09-30","2012-10-31","2012-11-30","2012-12-31","2012","2013-01-31","2013-02-28","2013-03-31","2013-04-30","2013-05-31","2013-06-30","2013-07-31","2013-08-31","2013-09-30","2013-10-31","2013-11-30","2013-12-31","2013"]
[null,"Capacidad ofertada importación","-","-","-","-","-","-","-","-","-","-","-","-","-","-","-","-","-","-","-","-","-","-","-","-","-","-","-","-","-","-","-","-","-","-","-","-","-","-","-","-","-","-","-","-","-","-","-","-","-","-","-","-","-","-","-","-","-","-","-","-","-","-","-","-","-","-","-","-","-","-","-","-","-","-","-","-","-","-","-","-","-","-","-","-","-","-","-","-","-","-","-"]
[null,"Precio ofertado importación","-","-","-","-","-","-","-","-","-","-","-","-","-","-","-","-","-","-","-","-","-","-","-","-","-","-","-","-","-","-","-","-","-","-","-","-","-","-","-","-","-","-","-","-","-","-","-","-","-","-","-","-","-","-","-","-","-","-","-","-","-","-","-","-","-","-","-","-","-","-","-","-","-","-","-","-","-","-","-","-","-","-","-","-","-","-","-","-","-","-","-"]
[null,"Capacidad ofertada exportación","-","-","-","-","-","-","-","-","-","-","-","-","-","-","-","-","-","-","-","-","-","-","-","-","-","-","-","-","-","-","-","-","-","-","-","-","-","-","-","-","-","-","-","-","-","-","-","-","-","-","-","-","-","-","-","-","-","-","-","-","-","-","-","-","-","-","-","-","-","-","-","-","-","-","-","-","-","-","-","-","-","-","-","-","-","-","-","-","-","-","-"]
[null,"Precio ofertado exportación","-","-","-","-","-","-","-","-","-","-","-","-","-","-","-","-","-","-","-","-","-","-","-","-","-","-","-","-","-","-","-","-","-","-","-","-","-","-","-","-","-","-","-","-","-","-","-","-","-","-","-","-","-","-","-","-","-","-","-","-","-","-","-","-","-","-","-","-","-","-","-","-","-","-","-","-","-","-","-","-","-","-","-","-","-","-","-","-","-","-","-"]
[null,"Activado Francia Importación ","-","-","-","-","-","-","-","-","-","-","-","-","-","-","-","-","-","-","-","-","-","-","-","-","-","-","-","-","-","-","-","-","-","-","-","-","-","-","-","-","-","-","-","-","-","-","-","-","-","-","-","-","-","-","-","-","-","-","-","-","-","-","-","-","-","-","-","-","-","-","-","-","-","-","-","-","-","-","-","-","-","-","-","-","-","-","-","-","-","-","-"]
[null,"Precio Francia Importación ","-","-","-","-","-","-","-","-","-","-","-","-","-","-","-","-","-","-","-","-","-","-","-","-","-","-","-","-","-","-","-","-","-","-","-","-","-","-","-","-","-","-","-","-","-","-","-","-","-","-","-","-","-","-","-","-","-","-","-","-","-","-","-","-","-","-","-","-","-","-","-","-","-","-","-","-","-","-","-","-","-","-","-","-","-","-","-","-","-","-","-"]
[null,"Activado Francia exportación ","-","-","-","-","-","-","-","-","-","-","-","-","-","-","-","-","-","-","-","-","-","-","-","-","-","-","-","-","-","-","-","-","-","-","-","-","-","-","-","-","-","-","-","-","-","-","-","-","-","-","-","-","-","-","-","-","-","-","-","-","-","-","-","-","-","-","-","-","-","-","-","-","-","-","-","-","-","-","-","-","-","-","-","-","-","-","-","-","-","-","-"]
[null,"Precio Francia exportación ","-","-","-","-","-","-","-","-","-","-","-","-","-","-","-","-","-","-","-","-","-","-","-","-","-","-","-","-","-","-","-","-","-","-","-","-","-","-","-","-","-","-","-","-","-","-","-","-","-","-","-","-","-","-","-","-","-","-","-","-","-","-","-","-","-","-","-","-","-","-","-","-","-","-","-","-","-","-","-","-","-","-","-","-","-","-","-","-","-","-","-"]
[null,"Activado Portugal Importación ","-","-","-","-","-","-","-","-","-","-","-","-","-","-","-","-","-","-","-","-","-","-","-","-","-","-","-","-","-","-","-","-","-","-","-","-","-","-","-","-","-","-","-","-","-","-","-","-","-","-","-","-","-","-","-","-","-","-","-","-","-","-","-","-","-","-","-","-","-","-","-","-","-","-","-","-","-","-","-","-","-","-","-","-","-","-","-","-","-","-","-"]
[null,"Precio Portugal Importación ","-","-","-","-","-","-","-","-","-","-","-","-","-","-","-","-","-","-","-","-","-","-","-","-","-","-","-","-","-","-","-","-","-","-","-","-","-","-","-","-","-","-","-","-","-","-","-","-","-","-","-","-","-","-","-","-","-","-","-","-","-","-","-","-","-","-","-","-","-","-","-","-","-","-","-","-","-","-","-","-","-","-","-","-","-","-","-","-","-","-","-"]
[null,"Activado Portugal exportación ","-","-","-","-","-","-","-","-","-","-","-","-","-","-","-","-","-","-","-","-","-","-","-","-","-","-","-","-","-","-","-","-","-","-","-","-","-","-","-","-","-","-","-","-","-","-","-","-","-","-","-","-","-","-","-","-","-","-","-","-","-","-","-","-","-","-","-","-","-","-","-","-","-","-","-","-","-","-","-","-","-","-","-","-","-","-","-","-","-","-","-"]
[null,"Precio Portugal exportación ","-","-","-","-","-","-","-","-","-","-","-","-","-","-","-","-","-","-","-","-","-","-","-","-","-","-","-","-","-","-","-","-","-","-","-","-","-","-","-","-","-","-","-","-","-","-","-","-","-","-","-","-","-","-","-","-","-","-","-","-","-","-","-","-","-","-","-","-","-","-","-","-","-","-","-","-","-","-","-","-","-","-","-","-","-","-","-","-","-","-","-"]
[]
[null,"Energía y precios ofertados por RTE y activados por REE"]
[null,"Capacidad ofertada importación (GWh)","-","-","-","-","-","-","-","-","-","-","-","-","-","-","-","-","-","-","-","-","-","-","-","-","-","-","-","-","-","-","-","-","-","-","-","-","-","-","-","-","-","-","-","-","-","-","-","-","-","-","-","-","-","-","-","-","-","-","-","-","-","-","-","-","-","-","-","-","-","-","-","-","-","-","-","-","-","-","-","-","-","-","-","-","-","-","-","-","-","-","-"]
[null,"Precio ofertado importación (€/MWh)","-","-","-","-","-","-","-","-","-","-","-","-","-","-","-","-","-","-","-","-","-","-","-","-","-","-","-","-","-","-","-","-","-","-","-","-","-","-","-","-","-","-","-","-","-","-","-","-","-","-","-","-","-","-","-","-","-","-","-","-","-","-","-","-","-","-","-","-","-","-","-","-","-","-","-","-","-","-","-","-","-","-","-","-","-","-","-","-","-","-","-"]
[null,"Capacidad ofertada exportación (GWh)","-","-","-","-","-","-","-","-","-","-","-","-","-","-","-","-","-","-","-","-","-","-","-","-","-","-","-","-","-","-","-","-","-","-","-","-","-","-","-","-","-","-","-","-","-","-","-","-","-","-","-","-","-","-","-","-","-","-","-","-","-","-","-","-","-","-","-","-","-","-","-","-","-","-","-","-","-","-","-","-","-","-","-","-","-","-","-","-","-","-","-"]
[null,"Precio ofertado exportación (€/MWh)","-","-","-","-","-","-","-","-","-","-","-","-","-","-","-","-","-","-","-","-","-","-","-","-","-","-","-","-","-","-","-","-","-","-","-","-","-","-","-","-","-","-","-","-","-","-","-","-","-","-","-","-","-","-","-","-","-","-","-","-","-","-","-","-","-","-","-","-","-","-","-","-","-","-","-","-","-","-","-","-","-","-","-","-","-","-","-","-","-","-","-"]
[null,"Activado importación (GWh)","-","-","-","-","-","-","-","-","-","-","-","-","-","-","-","-","-","-","-","-","-","-","-","-","-","-","-","-","-","-","-","-","-","-","-","-","-","-","-","-","-","-","-","-","-","-","-","-","-","-","-","-","-","-","-","-","-","-","-","-","-","-","-","-","-","-","-","-","-","-","-","-","-","-","-","-","-","-","-","-","-","-","-","-","-","-","-","-","-","-","-"]
[null,"Precio  importación (€/MWh)","-","-","-","-","-","-","-","-","-","-","-","-","-","-","-","-","-","-","-","-","-","-","-","-","-","-","-","-","-","-","-","-","-","-","-","-","-","-","-","-","-","-","-","-","-","-","-","-","-","-","-","-","-","-","-","-","-","-","-","-","-","-","-","-","-","-","-","-","-","-","-","-","-","-","-","-","-","-","-","-","-","-","-","-","-","-","-","-","-","-","-"]
[null,"Activado exportación (GWh)","-","-","-","-","-","-","-","-","-","-","-","-","-","-","-","-","-","-","-","-","-","-","-","-","-","-","-","-","-","-","-","-","-","-","-","-","-","-","-","-","-","-","-","-","-","-","-","-","-","-","-","-","-","-","-","-","-","-","-","-","-","-","-","-","-","-","-","-","-","-","-","-","-","-","-","-","-","-","-","-","-","-","-","-","-","-","-","-","-","-","-"]
[null,"Precio exportación (€/MWh)","-","-","-","-","-","-","-","-","-","-","-","-","-","-","-","-","-","-","-","-","-","-","-","-","-","-","-","-","-","-","-","-","-","-","-","-","-","-","-","-","-","-","-","-","-","-","-","-","-","-","-","-","-","-","-","-","-","-","-","-","-","-","-","-","-","-","-","-","-","-","-","-","-","-","-","-","-","-","-","-","-","-","-","-","-","-","-","-","-","-","-"]
[]
[null,"Energía y precios ofertados por REN y activados por REE"]
[null,"Capacidad ofertada importación (GWh)","-","-","-","-","-","-","-","-","-","-","-","-","-","-","-","-","-","-","-","-","-","-","-","-","-","-","-","-","-","-","-","-","-","-","-","-","-","-","-","-","-","-","-","-","-","-","-","-","-","-","-","-","-","-","-","-","-","-","-","-","-","-","-","-","-","-","-","-","-","-","-","-","-","-","-","-","-","-","-","-","-","-","-","-","-","-","-","-","-","-","-"]
[null,"Precio ofertado importación (€/MWh)","-","-","-","-","-","-","-","-","-","-","-","-","-","-","-","-","-","-","-","-","-","-","-","-","-","-","-","-","-","-","-","-","-","-","-","-","-","-","-","-","-","-","-","-","-","-","-","-","-","-","-","-","-","-","-","-","-","-","-","-","-","-","-","-","-","-","-","-","-","-","-","-","-","-","-","-","-","-","-","-","-","-","-","-","-","-","-","-","-","-","-"]
[null,"Capacidad ofertada exportación (GWh)","-","-","-","-","-","-","-","-","-","-","-","-","-","-","-","-","-","-","-","-","-","-","-","-","-","-","-","-","-","-","-","-","-","-","-","-","-","-","-","-","-","-","-","-","-","-","-","-","-","-","-","-","-","-","-","-","-","-","-","-","-","-","-","-","-","-","-","-","-","-","-","-","-","-","-","-","-","-","-","-","-","-","-","-","-","-","-","-","-","-","-"]
[null,"Precio ofertado exportación (€/MWh)","-","-","-","-","-","-","-","-","-","-","-","-","-","-","-","-","-","-","-","-","-","-","-","-","-","-","-","-","-","-","-","-","-","-","-","-","-","-","-","-","-","-","-","-","-","-","-","-","-","-","-","-","-","-","-","-","-","-","-","-","-","-","-","-","-","-","-","-","-","-","-","-","-","-","-","-","-","-","-","-","-","-","-","-","-","-","-","-","-","-","-"]
[null,"Activado importación (GWh)","-","-","-","-","-","-","-","-","-","-","-","-","-","-","-","-","-","-","-","-","-","-","-","-","-","-","-","-","-","-","-","-","-","-","-","-","-","-","-","-","-","-","-","-","-","-","-","-","-","-","-","-","-","-","-","-","-","-","-","-","-","-","-","-","-","-","-","-","-","-","-","-","-","-","-","-","-","-","-","-","-","-","-","-","-","-","-","-","-","-","-"]
[null,"Precio  importación (€/MWh)","-","-","-","-","-","-","-","-","-","-","-","-","-","-","-","-","-","-","-","-","-","-","-","-","-","-","-","-","-","-","-","-","-","-","-","-","-","-","-","-","-","-","-","-","-","-","-","-","-","-","-","-","-","-","-","-","-","-","-","-","-","-","-","-","-","-","-","-","-","-","-","-","-","-","-","-","-","-","-","-","-","-","-","-","-","-","-","-","-","-","-"]
[null,"Activado exportación (GWh)","-","-","-","-","-","-","-","-","-","-","-","-","-","-","-","-","-","-","-","-","-","-","-","-","-","-","-","-","-","-","-","-","-","-","-","-","-","-","-","-","-","-","-","-","-","-","-","-","-","-","-","-","-","-","-","-","-","-","-","-","-","-","-","-","-","-","-","-","-","-","-","-","-","-","-","-","-","-","-","-","-","-","-","-","-","-","-","-","-","-","-"]
[null,"Precio exportación (€/MWh)","-","-","-","-","-","-","-","-","-","-","-","-","-","-","-","-","-","-","-","-","-","-","-","-","-","-","-","-","-","-","-","-","-","-","-","-","-","-","-","-","-","-","-","-","-","-","-","-","-","-","-","-","-","-","-","-","-","-","-","-","-","-","-","-","-","-","-","-","-","-","-","-","-","-","-","-","-","-","-","-","-","-","-","-","-","-","-","-","-","-","-"]
[]
[null,"Energía y precios ofertados desde el sistema eléctrico español y activado por operadores externos"]
[null,null,2007,2008,2009,2010,2011,2012,2013,2014,2015,2016,2017,2018,2019]
[null,"Capacidad ofertada importación","-","-","-","-","-","-","-","-","-","-","-","-","-"]
[null,"Precio ofertado importación","-","-","-","-","-","-","-","-","-","-","-","-","-"]
[null,"Capacidad ofertada exportación","-","-","-","-","-","-","-","-","-","-","-","-","-"]
[null,"Precio ofertado exportación","-","-","-","-","-","-","-","-","-","-","-","-","-"]
[null,"Activado Francia Importación ","-","-","-","-","-","-","-","-","-","-","-","-","-"]
[null,"Precio Francia Importación ","-","-","-","-","-","-","-","-","-","-","-","-","-"]
[null,"Activado Francia exportación ","-","-","-","-","-","-","-","-","-","-","-","-","-"]
[null,"Precio Francia exportación ","-","-","-","-","-","-","-","-","-","-","-","-","-"]
[null,"Activado Portugal Importación ","-","-","-","-","-","-","-","-","-","-","-","-","-"]
[null,"Precio Portugal Importación ","-","-","-","-","-","-","-","-","-","-","-","-","-"]
[null,"Activado Portugal exportación ","-","-","-","-","-","-","-","-","-","-","-","-","-"]
[null,"Precio Portugal exportación ","-","-","-","-","-","-","-","-","-","-","-","-","-"]
[]
[null,"Energía y precios ofertados por RTE y activados por REE"]
[null,"Capacidad ofertada importación (GWh)","-","-","-","-","-","-","-","-","-","-","-","-","-"]
[null,"Precio ofertado importación (€/MWh)","-","-","-","-","-","-","-","-","-","-","-","-","-"]
[null,"Capacidad ofertada exportación (GWh)","-","-","-","-","-","-","-","-","-","-","-","-","-"]
[null,"Precio ofertado exportación (€/MWh)","-","-","-","-","-","-","-","-","-","-","-","-","-"]
[null,"Activado importación (GWh)","-","-","-","-","-","-","-","-","-","-","-","-","-"]
[null,"Precio  importación (€/MWh)","-","-","-","-","-","-","-","-","-","-","-","-","-"]
[null,"Activado exportación (GWh)","-","-","-","-","-","-","-","-","-","-","-","-","-"]
[null,"Precio exportación (€/MWh)","-","-","-","-","-","-","-","-","-","-","-","-","-"]
[]
[null,"Energía y precios ofertados por REN y activados por REE"]
[null,"Capacidad ofertada importación (GWh)","-","-","-","-","-","-","-","-","-","-","-","-","-"]
[null,"Precio ofertado importación (€/MWh)","-","-","-","-","-","-","-","-","-","-","-","-","-"]
[null,"Capacidad ofertada exportación (GWh)","-","-","-","-","-","-","-","-","-","-","-","-","-"]
[null,"Precio ofertado exportación (€/MWh)","-","-","-","-","-","-","-","-","-","-","-","-","-"]
[null,"Activado importación (GWh)","-","-","-","-","-","-","-","-","-","-","-","-","-"]
[null,"Precio  importación (€/MWh)","-","-","-","-","-","-","-","-","-","-","-","-","-"]
[null,"Activado exportación (GWh)","-","-","-","-","-","-","-","-","-","-","-","-","-"]
[null,"Precio exportación (€/MWh)","-","-","-","-","-","-","-","-","-","-","-","-","-"]

{"sheet":"Año","index":22,"n_rows":11,"n_cols":26,"rows_kept":11,"cut":false,"hidden":true,"merged":[]}
[null,null,null,null,null,null,null,null,null,null,null,null,null,null,null,null,null,null,null,null,null,null,null,1,null,1]
[null,2010,"2010-2019",null,null,null,null,null,null,null,null,null,null,"Precios finales",null,"Mensual"]
[null,2011,null,null,null,null,null,null,null,null,null,null,null,"Servicios de ajuste",null,"Anual"]
[null,2012,null,null,null,null,null,null,null,null,null,null,null,"Restricciones PBF"]
[null,2013,null,null,null,null,null,null,null,null,null,null,null,"Regulación secundaria"]
[null,null,null,null,null,null,null,null,null,null,null,null,null,"Regulación terciaria"]
[null,null,null,null,null,null,null,null,null,null,null,null,null,"Gestión de desvíos"]
[null,null,null,null,null,null,null,null,null,null,null,null,null,"Restricciones en tiempo real"]
[null,null,null,null,null,null,null,null,null,null,null,null,null,"Reserva adicional a subir"]
[null,null,null,null,null,null,null,null,null,null,null,null,null,"Banda regulación secundaria"]
[null,null,null,null,null,null,null,null,null,null,null,null,null,"Serv. transfront. balance"]