{"text_format":"1","workbook":"xlsx","n_sheets":6,"sheets":["Inicio","Red_de_transporte","AVISO LEGAL","datos_RdT","EVOLUCION_RdT","Año"],"not_rendered":{"charts":3,"images":6,"macros":1,"external_links":0,"defined_names":1,"comments":2,"pivot_tables":0},"unopened":[],"bounds":{"document_bytes":16777216,"sheet_cells":100000,"rows_first":2000,"rows_last":500,"rows_between":2000,"halvings":0,"cell_chars":16384,"cell_head_chars":4096},"cells_cut":0,"cells_raw":0,"read":"whole","date_system":"1900"}

{"sheet":"Inicio","index":0,"n_rows":3,"n_cols":15,"rows_kept":3,"cut":false,"hidden":false,"merged":[[3,2,3,7]]}
[null,null,null,null,null,null,null,null,null,null,null,null,null,null,6]
[null,null,null,"Indicadores Sistema Eléctrico CCAA",null,null,null,null,"www.ree.es"]
[null,null,null,null,null,null,null,null,"Fecha de actualización:",null,"2020-05-11"]

{"sheet":"Red_de_transporte","index":1,"n_rows":26,"n_cols":8,"rows_kept":26,"cut":false,"hidden":false,"merged":[[1,1,1,6],[6,1,6,5],[6,7,6,12],[25,1,25,5],[25,7,25,12],[2,0,2,9]]}
[]
[]
["Red de transporte Castilla y León 2019"]
[]
[]
[]
[null,"RED DE TRANSPORTE1",null,null,null,null,null,"VARIACIONES DE LA RdT"]
[]
[]
[]
[null,"AÑO 2019",null,{"$f":"datos_RdT!K72","v":"Castilla y León"},"  España ","% del total "]
[null,"  km circuitos   400 kV ",null,{"$f":"datos_RdT!K73","v":4511.6604318758336},{"$f":"datos_RdT!V73","v":21736.281999999999},{"$f":"D12*100/E12","v":20.756357650659087}]
[null,"  km circuitos   220 kV ",null,{"$f":"datos_RdT!K74","v":3317.344073934732},{"$f":"datos_RdT!V74","v":19906.930800000006},{"$f":"D13*100/E13","v":16.664266868977769}]
[null,"  km circuitos <220 kV ",null,{"$f":"datos_RdT!K75","v":0},{"$f":"datos_RdT!V75","v":2809.6439000000005},0]
[null,"km circuitos",null,{"$f":"datos_RdT!K76","v":7829.0045058105661},{"$f":"datos_RdT!V76","v":44452.856700000011},17.611926627452416]
[null,"  Posiciones     400 kV ",null,{"$f":"datos_RdT!K78","v":251},{"$f":"datos_RdT!V78","v":1535},{"$f":"D16*100/E16","v":16.351791530944624}]
[null,"  Posiciones     220 kV ",null,{"$f":"datos_RdT!K79","v":254},{"$f":"datos_RdT!V79","v":3468},{"$f":"D17*100/E17","v":7.3241061130334488}]
[null,"  Posiciones   <220 kV ",null,{"$f":"datos_RdT!K80","v":0},{"$f":"datos_RdT!V80","v":1083},0]
[null,"Posiciones ",null,{"$f":"datos_RdT!K81","v":505},{"$f":"datos_RdT!V81","v":6086},8.2977325008215583]
[null,"Transformadores2 (MVA)",null,{"$f":"datos_RdT!K83","v":6131},{"$f":"datos_RdT!V83","v":91165},6.7251686502495476]
[]
[null,"(1) Incluye los activos de la red de transporte del resto de empresas."]
[null,"(2) No contempla desfasadores"]
[]
[]
[null,"EVOLUCIÓN DE LA RdT",null,null,null,null,null,"% km LÍNEAS C.A. vs. KILÓMETROS TOTALES"]

{"sheet":"AVISO LEGAL","index":2,"n_rows":0,"n_cols":0,"rows_kept":0,"cut":false,"hidden":false,"merged":[]}

{"sheet":"datos_RdT","index":3,"n_rows":84,"n_cols":25,"rows_kept":84,"cut":false,"hidden":true,"merged":[]}
[null,2014]
[null,"CCAA","Andalucía","Aragón","Asturias","Baleares","C. Valenciana","Canarias","Cantabria","Castilla-La Mancha","Castilla y León","Cataluña","Ceuta","Extremadura","Galicia","La Rioja","Madrid","Melilla","Murcia","Navarra","País Vasco","TOTAL","MÓVILES","PENINSULAR","NO PENINSULAR"]
[null,"km líneas 400 kV",2764.0095895177315,1237.7757990595844,493.54276425955516,0,959.3983884508599,0,238.86270433523271,2578.5344960363045,4452.1190318758336,2235.610333304126,null,2285.5084469315311,1218.4757272727279,114.94905945892347,965.95810872910772,null,708.11213708924197,175.97007024489812,661.46634343434312,{"$f":"SUM(C3:U3)","v":21090.293000000001},null,{"$f":"V3-Y3","v":21090.293000000001},{"$f":"F3+H3","v":0}]
[null,"km líneas 220 kV",3137.3834949494972,1848.8408170329992,431.51102020202001,431.08800000000002,1263.8337599999995,163.35300000000001,307.56910606060615,1524.5439794976151,3258.0390739347322,2494.2702940781141,null,780.66986742420033,1324.4759999999999,142.30800000000002,1186.7873854014158,null,107.71574,318.82902020202016,661.74694121678192,{"$f":"SUM(C4:U4)","v":19382.965500000002},null,{"$f":"V4-Y4","v":18788.524500000003},{"$f":"F4+H4","v":594.44100000000003}]
[null,"km líneas <220 kV",null,null,null,1114.204,null,1125.7819999999999,null,null,null,39.44,null,23,12.3,null,null,null,null,null,null,2314.7260000000001,null,74.740000000000236,2239.9859999999999]
[null,"Total km líneas",{"$f":"SUM(C3:C5)","v":5901.3930844672286},{"$f":"SUM(D3:D5)","v":3086.6166160925836},925.05378446157511,1545.2919999999999,2223.2321484508593,1289.135,546.43181039583885,4103.0784755339191,7710.1581058105658,4769.3206273822398,0,3089.1783143557313,2555.2517272727282,257.25705945892349,2152.7454941305236,0,815.82787708924195,494.79909044691829,1323.2132846511249,{"$f":"SUM(V3:V5)","v":42787.984500000006},null,{"$f":"SUM(X3:X5)","v":39953.557500000003},{"$f":"SUM(Y3:Y5)","v":2834.4269999999997}]
[null,{"$f":"CONCATENATE(\"Δ\" & $B$1 & \"/\" & $B$1-1)","v":"Δ2014/2013"},1.8385370422316916,0,0,9.3986362585263272E-2,1.8754255978445933,6.5940033358025119E-3,0,0.99068912808852883,0,3.3613477231579925,null,8.3158370205744134,0.2530600921595294,0,0.31290328904300946,null,0,0,0,1.4094312819313615,null,1.5069696949834066,5.4220229440504752E-2]
[null,"Posiciones 400 kV",194,89,48,null,143,null,10,112,200,133,null,103,71,8,103,null,66,28,78,{"$f":"SUM(C8:U8)+W8","v":1386},null,{"$f":"V8-Y8","v":1386},{"$f":"F8+H8","v":0}]
[null,"Posiciones 220 kV",415,213,45,114,291,40,46,137,234,592,null,88,216,30,524,null,46,49,147,{"$f":"SUM(C9:U9)+W9","v":3234},7,{"$f":"V9-Y9","v":3080},{"$f":"F9+H9","v":154}]
[null,"Posiciones <220 kV",null,null,null,493,null,375,null,null,null,3,null,null,1,null,null,null,null,null,null,872,null,{"$f":"V10-Y10","v":4},{"$f":"F10+H10","v":868}]
[null,"Total posiciones",{"$f":"SUM(C8:C10)","v":609},302,93,607,434,415,56,249,434,728,0,191,288,38,627,0,112,77,{"$f":"SUM(U8:U10)","v":225},{"$f":"SUM(V8:V10)","v":5492},7,{"$f":"SUM(X8:X10)","v":4470},{"$f":"SUM(Y8:Y10)","v":1022}]
[null,{"$f":"CONCATENATE(\"Δ\" & $B$1 & \"/\" & $B$1-1)","v":"Δ2014/2013"},0.66115702479339067,0,0,4.116638078902235,4.8309178743961345,1.4669926650366705,0,2.4691358024691468,0.23094688221709792,2.3909985935302469,null,0.52631578947368585,1.0526315789473717,null,0.64205457463883953,null,7.6923076923076872,0,0.44642857142858094,1.7602371687974738,0,1.4755959137343844,3.0241935483870996]
[null,"Transformadores",14420,4674,1300,2983,8350,1875,2100,1200,6131,11050,null,2700,5700,600,11700,null,3450,1600,4300,81289.474999999991,900,76871.474999999991,4418]
[null,{"$f":"CONCATENATE(\"Δ\" & $B$1 & \"/\" & $B$1-1)","v":"Δ2014/2013"},0,0,0,0,0,15.384615384615374,0,null,0,5.741626794258381,null,0,0,null,11.595995516215062,null,0,0,0,3.3829553103336796,80,3.0497419616677623,9.5462434911976146]
[null,2015]
[null,"CCAA","Andalucía","Aragón","Asturias","Baleares","C. Valenciana","Canarias","Cantabria","Castilla-La Mancha","Castilla y León","Cataluña","Ceuta","Extremadura","Galicia","La Rioja","Madrid","Melilla","Murcia","Navarra","País Vasco","TOTAL","MÓVILES","PENINSULAR","NO PENINSULAR"]
[null,"km líneas 400 kV",2764.0095895177315,1276.0257990595844,493.54276425955516,0,972.50738845085993,0,240.51070433523273,2578.5344960363045,4453.5300318758336,2235.610333304126,null,2285.5084469315311,1218.4757272727279,114.94905945892347,965.95810872910772,null,708.11213708924197,175.97007024489812,697.36234343434307,{"$f":"SUM(C17:U17)","v":21180.607000000004},null,{"$f":"V17-Y17","v":21180.607000000004},{"$f":"F17+H17","v":0}]
[null,"km líneas 220 kV",3169.4744949494971,1848.8408170329992,431.51102020202001,431.36,1263.9677599999995,215.86700000000002,324.12110606060617,1524.5439794976151,3258.0390739347322,2511.9252940781139,null,854.54086742420031,1324.4759999999999,142.30800000000002,1186.7873854014158,null,107.71574,318.82902020202016,661.74694121678192,{"$f":"SUM(C18:U18)","v":19576.054499999998},null,{"$f":"V18-Y18","v":18928.827499999999},{"$f":"F18+H18","v":647.22700000000009}]
[null,"km líneas <220 kV",null,null,null,1242.6420000000001,null,1131.0919999999999,null,null,null,39.44,null,23,12.3,null,null,null,null,null,null,2448.4740000000002,null,74.740000000000236,2373.7339999999999]
[null,"Total km líneas",{"$f":"SUM(C17:C19)","v":5933.484084467229},{"$f":"SUM(D17:D19)","v":3124.8666160925836},925.05378446157511,1674.002,2236.4751484508597,1346.9589999999998,564.6318103958389,4103.0784755339191,7711.5691058105658,4786.9756273822395,0,3163.0493143557314,2555.2517272727282,257.25705945892349,2152.7454941305236,0,815.82787708924195,494.79909044691829,1359.1092846511251,{"$f":"SUM(V17:V19)","v":43205.135500000004},null,{"$f":"SUM(X17:X19)","v":40184.174500000001},{"$f":"SUM(Y17:Y19)","v":3020.9610000000002}]
[null,{"$f":"CONCATENATE(\"Δ\" & $B$15 & \"/\" & $B$15-1)","v":"Δ2015/2014"},{"$f":"(C20/C6-1)*100","v":0.54378685745346544},{"$f":"(D20/D6-1)*100","v":1.2392209580087465},0,8.3291701503664051,0.59566429035438073,4.4854883313229399,3.3306992114561895,{"$f":"(J20/J6-1)*100","v":0},{"$f":"(K20/K6-1)*100","v":1.8300532630277644E-2},{"$f":"(L20/L6-1)*100","v":0.37017850925427087},null,{"$f":"(N20/N6-1)*100","v":2.3912831336641904},0,{"$f":"(P20/P6-1)*100","v":0},{"$f":"(Q20/Q6-1)*100","v":0},null,{"$f":"(S20/S6-1)*100","v":0},{"$f":"(T20/T6-1)*100","v":0},2.7127901764880225,{"$f":"(V20/V6-1)*100","v":0.97492556584430901},null,{"$f":"(X20/X6-1)*100","v":0.57721267999726322},{"$f":"(Y20/Y6-1)*100","v":6.5810126702857685}]
[null,"Posiciones 400 kV",194,98,48,null,153,null,15,112,219,136,null,103,71,8,103,null,66,28,79,{"$f":"SUM(C22:U22)+W22","v":1433},null,{"$f":"V22-Y22","v":1433},{"$f":"F22+H22","v":0}]
[null,"Posiciones 220 kV",435,214,45,114,291,46,50,137,242,598,null,88,216,30,524,null,48,49,147,{"$f":"SUM(C23:U23)+W23","v":3281},7,{"$f":"V23-Y23","v":3121},{"$f":"F23+H23","v":160}]
[null,"Posiciones <220 kV",null,null,null,526,null,384,null,null,null,3,null,null,1,null,null,null,null,null,null,914,null,{"$f":"V24-Y24","v":4},{"$f":"F24+H24","v":910}]
[null,"Total posiciones",{"$f":"SUM(C22:C24)","v":629},312,93,640,444,430,65,249,461,737,0,191,288,38,627,0,114,77,226,{"$f":"SUM(V22:V24)","v":5628},7,{"$f":"SUM(X22:X24)","v":4558},{"$f":"SUM(Y22:Y24)","v":1070}]
[null,{"$f":"CONCATENATE(\"Δ\" & $B$15 & \"/\" & $B$15-1)","v":"Δ2015/2014"},{"$f":"(C25/C11-1)*100","v":3.284072249589487},{"$f":"(D25/D11-1)*100","v":3.3112582781456901},0,5.4365733113673764,2.3041474654377891,3.6144578313253017,16.07142857142858,0,6.2211981566820285,1.2362637362637319,null,0,0,0,0,null,1.7857142857142794,0,0.44444444444444731,2.4763292061179998,0,1.9686800894854528,4.6966731898238745]
[null,"Transformadores",14420,4674,1300,3463,8350,2250,2100,1200,6131,11050,null,2700,5700,600,11700,null,3450,1600,4300,83939.474999999991,900,79271.474999999991,4668]
[null,{"$f":"CONCATENATE(\"Δ\" & $B$15 & \"/\" & $B$15-1)","v":"Δ2015/2014"},{"$f":"(C27/C13-1)*100","v":0},{"$f":"(D27/D13-1)*100","v":0},0,16.09118337244384,0,19.999999999999996,0,0,0,0,null,0,0,0,0,null,0,0,0,3.2599546251221412,0,3.1220943789617595,5.6586690810321416]
[null,2016]
[null,"CCAA","Andalucía","Aragón","Asturias","Baleares","C. Valenciana","Canarias","Cantabria","Castilla-La Mancha","Castilla y León","Cataluña","Ceuta","Extremadura","Galicia","La Rioja","Madrid","Melilla","Murcia","Navarra","País Vasco","TOTAL","MÓVILES","PENINSULAR","NO PENINSULAR"]
[null,"km líneas 400 kV",2764.0095895177315,1447.051699059585,529.50220425955513,0,1073.1714884508594,0,240.51070433523273,2578.5344960363045,4453.5300318758336,2235.610333304126,null,2285.5084469315311,1345.968287272728,114.94905945892347,965.95810872910772,null,708.11213708924197,175.97007024489812,697.36234343434307,{"$f":"SUM(C31:U31)","v":21615.749},null,{"$f":"V31-Y31","v":21615.749},{"$f":"F31+H31","v":0}]
[null,"km líneas 220 kV",3194.4214949494967,1848.8408170329992,431.51102020202001,432.214,1291.8027599999994,220.24300000000002,324.12110606060617,1524.5439794976151,3258.0390739347322,2529.785294078114,null,854.54086742420031,1325.1759999999997,142.30800000000002,1186.7873854014158,null,124.31174,318.82902020202016,661.78594121678191,{"$f":"SUM(C32:U32)","v":19669.261500000004},null,{"$f":"V32-Y32","v":19016.804500000006},{"$f":"F32+H32","v":652.45699999999999}]
[null,"km líneas <220 kV",null,null,null,1368.722,null,1133.9219999999998,null,null,null,39.44,null,23,12.3,null,null,null,null,null,null,{"$f":"SUM(C33:U33)","v":2577.384},null,74.740000000000236,2502.6439999999998]
[null,"Total km líneas",{"$f":"SUM(C31:C33)","v":5958.4310844672282},{"$f":"SUM(D31:D33)","v":3295.8925160925842},961.01322446157519,1800.9359999999999,2364.9742484508588,1354.1649999999997,564.6318103958389,4103.0784755339191,7711.5691058105658,4804.8356273822401,0,3163.0493143557314,2683.4442872727277,257.25705945892349,2152.7454941305236,0,832.42387708924196,494.79909044691829,1359.1482846511249,{"$f":"SUM(V31:V33)","v":43862.394500000002},{"$f":"SUM(W31:W33)","v":0},40707.293500000007,3155.1009999999997]
[null,{"$f":"CONCATENATE(\"Δ\" & $B$29 & \"/\" & $B$29-1)","v":"Δ2016/2015"},{"$f":"(C34/C20-1)*100","v":0.42044437374166854},{"$f":"(D34/D20-1)*100","v":5.4730624059037725},3.8872809996588709,7.5826671652722055,5.7456082214464299,0.53498287624196283,0,0,0,0.37309569528281017,null,0,5.0168270558933248,0,0,null,2.0342526243663173,0,2.86952641999072E-3,1.5212520280141195,null,1.3018035246686654,4.4403088950833558]
[null,"Posiciones 400 kV",195,98,48,null,167,null,15,113,219,136,null,103,71,8,103,null,66,28,80,{"$f":"SUM(C36:U36)+W36","v":1450},null,{"$f":"V36-Y36","v":1450},{"$f":"F36+H36","v":0}]
[null,"Posiciones 220 kV",437,214,45,115,297,55,50,137,243,598,null,88,222,30,526,null,48,49,148,{"$f":"SUM(C37:U37)+W37","v":3309},7,{"$f":"V37-Y37","v":3139},{"$f":"F37+H37","v":170}]
[null,"Posiciones <220 kV",null,null,null,533,null,395,null,null,null,3,null,null,1,null,null,null,null,null,null,932,null,{"$f":"V38-Y38","v":4},{"$f":"F38+H38","v":928}]
[null,"Total posiciones",{"$f":"SUM(C36:C38)","v":632},312,93,648,464,450,65,250,462,737,0,191,294,38,629,0,114,77,228,{"$f":"SUM(V36:V38)","v":5691},7,{"$f":"SUM(X36:X38)","v":4593},{"$f":"SUM(Y36:Y38)","v":1098}]
[null,{"$f":"CONCATENATE(\"Δ\" & $B$29 & \"/\" & $B$29-1)","v":"Δ2016/2015"},{"$f":"(C39/C25-1)*100","v":0.47694753577105509},{"$f":"(D39/D25-1)*100","v":0},0,1.2499999999999956,4.5045045045045029,{"$f":"(H39/H25-1)*100","v":4.6511627906976827},{"$f":"(I39/I25-1)*100","v":0},{"$f":"(J39/J25-1)*100","v":0.40160642570281624},0.21691973969630851,{"$f":"(L39/L25-1)*100","v":0},null,{"$f":"(N39/N25-1)*100","v":0},2.0833333333333259,{"$f":"(P39/P25-1)*100","v":0},{"$f":"(Q39/Q25-1)*100","v":0.31897926634769647},null,{"$f":"(S39/S25-1)*100","v":0},{"$f":"(T39/T25-1)*100","v":0},{"$f":"(U39/U25-1)*100","v":0.88495575221239076},{"$f":"(V39/V25-1)*100","v":1.1194029850746245},0,{"$f":"(X39/X25-1)*100","v":0.76788064940762624},{"$f":"(Y39/Y25-1)*100","v":2.6168224299065512}]
[null,"Transformadores",14420,4674,1300,3463,8950,2250,2100,1200,6131,11050,null,2700,5700,600,11700,null,3450,1600,4300,{"$f":"SUM(C41:U41)+W41","v":86488},900,79271.474999999991,5273]
[null,{"$f":"CONCATENATE(\"Δ\" & $B$29 & \"/\" & $B$29-1)","v":"Δ2016/2015"},{"$f":"(C41/C27-1)*100","v":0},{"$f":"(D41/D27-1)*100","v":0},0,0,7.1856287425149601,0,0,0,0,0,null,0,0,0,0,null,0,0,0,3.0361459849492789,0,0,12.960582690659805]
[null,2017]
[null,"CCAA","Andalucía","Aragón","Asturias","Baleares","C. Valenciana","Canarias","Cantabria","Castilla-La Mancha","Castilla y León","Cataluña","Ceuta","Extremadura","Galicia","La Rioja","Madrid","Melilla","Murcia","Navarra","País Vasco","TOTAL","MÓVILES","PENINSULAR","NO PENINSULAR"]
[null,"km líneas 400 kV",2764.0095895177315,1447.051699059585,529.50220425955513,0,1073.1714884508594,0,240.51070433523273,2612.8144960363043,4501.0884318758335,2236.0793333041261,null,2285.5084469315311,1345.968287272728,114.94905945892347,992.61170872910782,null,708.11213708924197,175.97007024489812,697.36234343434307,{"$f":"SUM(C45:U45)","v":21724.71},null,{"$f":"V45-Y45","v":21724.71},{"$f":"F45+H45","v":0}]
[null,"km líneas 220 kV",3194.4214949494967,1858.520817032999,431.51102020202001,432.214,1306.9717599999992,220.24300000000002,324.12110606060617,1524.5439794976151,3258.0390739347322,2530.1852940781137,null,854.54086742420031,1325.1759999999997,142.30800000000002,1186.7873854014158,null,124.31174,318.82902020202016,661.89994121678194,{"$f":"SUM(C46:U46)","v":19694.624500000005},null,{"$f":"V46-Y46","v":19042.167500000007},{"$f":"F46+H46","v":652.45699999999999}]
[null,"km líneas <220 kV",null,null,null,1377.0049999999999,null,1134.8539999999998,null,null,null,39.44,null,23,12.3,null,null,null,null,null,null,{"$f":"SUM(C47:U47)","v":2586.5989999999997},null,74.740000000000236,2511.8589999999995]
[null,"Total km líneas",{"$f":"SUM(C45:C47)","v":5958.4310844672282},{"$f":"SUM(D45:D47)","v":3305.572516092584},961.01322446157519,1809.2189999999998,2380.1432484508587,1355.0969999999998,564.6318103958389,4137.3584755339198,7759.1275058105657,4805.7046273822389,0,3163.0493143557314,2683.4442872727277,257.25705945892349,2179.3990941305237,0,832.42387708924196,494.79909044691829,1359.2622846511249,{"$f":"SUM(V45:V47)","v":44005.933500000006},null,{"$f":"SUM(X45:X47)","v":40841.6175},{"$f":"SUM(Y45:Y47)","v":3164.3159999999993}]
[null,{"$f":"CONCATENATE(\"Δ\" & $B$43 & \"/\" & $B$43-1)","v":"Δ2017/2016"},{"$f":"(C48/C34-1)*100","v":0},{"$f":"(D48/D34-1)*100","v":0.2936988980294819},0,0.45992750436438801,0.64140233281340109,6.8824700091929536E-2,0,0.83547025006729392,0.61671495576904878,1.8085946479562409E-2,null,0,0,0,1.2381212768843852,null,0,0,8.3876057739518117E-3,0.3272484360150596,null,0.32997526598026461,0.29206671989263633]
[null,"Posiciones 400 kV",195,99,48,null,171,null,15,113,233,142,null,103,71,8,104,null,66,28,80,{"$f":"SUM(C50:U50)+W50","v":1476},null,{"$f":"V50-Y50","v":1476},{"$f":"F50+H50","v":0}]
[null,"Posiciones 220 kV",437,215,45,115,310,55,50,139,243,600,null,88,222,30,526,null,48,50,150,{"$f":"SUM(C51:U51)+W51","v":3330},7,{"$f":"V51-Y51","v":3160},{"$f":"F51+H51","v":170}]
[null,"Posiciones <220 kV",null,null,null,539,null,445,null,null,null,3,null,null,1,null,null,null,null,null,null,{"$f":"SUM(C52:U52)+W52","v":988},null,{"$f":"V52-Y52","v":4},{"$f":"F52+H52","v":984}]
[null,"Total posiciones",{"$f":"SUM(C50:C52)","v":632},314,93,{"$f":"SUM(F50:F52)","v":654},481,500,65,252,476,745,0,191,294,38,630,0,114,78,230,{"$f":"SUM(V50:V52)","v":5794},7,{"$f":"SUM(X50:X52)","v":4640},{"$f":"SUM(Y50:Y52)","v":1154}]
[null,{"$f":"CONCATENATE(\"Δ\" & $B$43 & \"/\" & $B$43-1)","v":"Δ2017/2016"},{"$f":"(C53/C39-1)*100","v":0},{"$f":"(D53/D39-1)*100","v":0.64102564102563875},0,0.92592592592593004,3.6637931034482651,11.111111111111116,0,0.80000000000000071,3.0303030303030276,1.0854816824966029,null,0,{"$f":"(O53/O39-1)*100","v":0},{"$f":"(P53/P39-1)*100","v":0},{"$f":"(Q53/Q39-1)*100","v":0.15898251192367763},null,{"$f":"(S53/S39-1)*100","v":0},{"$f":"(T53/T39-1)*100","v":1.298701298701288},{"$f":"(U53/U39-1)*100","v":0.87719298245614308},{"$f":"(V53/V39-1)*100","v":1.8098752416095598},0,0,0]
[null,"Transformadores",14420,4674,1300,3463,8950,2810,2100,1200,6131,11050,null,2700,5700,600,11700,null,3450,1600,4300,{"$f":"SUM(C55:U55)+W55","v":87048},900,{"$f":"V55-Y55","v":80775},{"$f":"F55+H55","v":6273}]
[null,{"$f":"CONCATENATE(\"Δ\" & $B$43 & \"/\" & $B$43-1)","v":"Δ2017/2016"},{"$f":"(C55/C41-1)*100","v":0},{"$f":"(D55/D41-1)*100","v":0},0,0,0,24.888888888888893,0,0,0,0,null,0,0,0,0,null,0,0,0,0.64748866894830392,0,1.8966784710389373,18.964536317087056]
[null,2018]
[null,"CCAA","Andalucía","Aragón","Asturias","Baleares","C. Valenciana","Canarias","Cantabria","Castilla-La Mancha","Castilla y León","Cataluña","Ceuta","Extremadura","Galicia","La Rioja","Madrid","Melilla","Murcia","Navarra","País Vasco","TOTAL","MÓVILES","PENINSULAR","NO PENINSULAR"]
[null,"km líneas 400 kV",2764.0095895177315,1447.051699059585,529.50220425955513,{"$f":"F45","v":0},1073.1714884508594,0,240.51070433523273,2612.8144960363043,4501.8484318758337,2237.0793333041261,null,2285.5084469315311,1345.968287272728,114.94905945892347,992.61170872910782,null,708.11213708924197,175.97007024489812,697.36234343434307,{"$f":"SUM(C59:U59)","v":21726.47},null,{"$f":"V59-Y59","v":21726.47},{"$f":"F59+H59","v":0}]
[null,"km líneas 220 kV",3209.6874949494963,1858.520817032999,431.51102020202001,432.214,1333.5157599999995,239.14500000000004,324.12110606060617,1524.5439794976151,3287.7540739347319,2534.1632940781151,null,854.54086742420031,1325.1759999999997,142.30800000000002,1186.7873854014158,null,124.31174,318.82902020202016,661.89994121678194,{"$f":"SUM(C60:U60)","v":19789.029500000004},null,{"$f":"V60-Y60","v":19117.670500000004},{"$f":"F60+H60","v":671.35900000000004}]
[null,"km líneas <220 kV",null,null,null,1421.7279999999998,null,1242.6909999999998,null,null,null,39.44,null,23,12.3,null,null,null,null,null,null,2739.1590000000001,null,74.740000000000236,2664.4189999999999]
[null,"Total km líneas",{"$f":"SUM(C59:C61)","v":5973.6970844672278},{"$f":"SUM(D59:D61)","v":3305.572516092584},961.01322446157519,1853.9419999999998,2406.687248450859,1481.8359999999998,564.6318103958389,4137.3584755339198,7789.6025058105661,4810.6826273822408,0,3163.0493143557314,2683.4442872727277,257.25705945892349,2179.3990941305237,0,832.42387708924196,494.79909044691829,1359.2622846511249,44254.658500000005,null,{"$f":"SUM(X59:X61)","v":40918.880500000007},{"$f":"SUM(Y59:Y61)","v":3335.7779999999998}]
[null,{"$f":"CONCATENATE(\"Δ\" & $B$57 & \"/\" & $B$57-1)","v":"Δ2018/2017"},0.26660369152702312,0.53064570328800187,0,2.4440297601610705,1.0902331967244772,8.5343184370815237,0,0,0.38787010141192457,0.10523657199379421,null,0,0,0,0,null,0,0,0,0.33529350985312956,null,0.33864287460050324,0.29215033425298298]
[null,"Posiciones 400 kV",197,99,49,null,171,null,15,114,242,150,0,104,71,8,104,null,66,28,80,{"$f":"SUM(C64:U64)+W64","v":1498},null,{"$f":"V64-Y64","v":1498},{"$f":"F64+H64","v":0}]
[null,"Posiciones 220 kV",448,217,45,116,310,69,50,139,248,613,0,88,222,30,526,null,48,50,151,{"$f":"SUM(C65:U65)+W65","v":3377},7,{"$f":"V65-Y65","v":3192},{"$f":"F65+H65","v":185}]
[null,"Posiciones <220 kV",null,null,null,539,null,500,null,null,null,3,null,null,1,null,null,null,null,null,null,{"$f":"SUM(C66:U66)+W66","v":1043},null,{"$f":"V66-Y66","v":4},{"$f":"F66+H66","v":1039}]
[null,"Total posiciones",{"$f":"SUM(C64:C66)","v":645},{"$f":"SUM(D64:D66)","v":316},94,{"$f":"SUM(F64:F66)","v":655},481,569,65,253,490,766,0,192,294,38,630,0,114,78,231,{"$f":"SUM(V64:V66)","v":5918},{"$f":"SUM(W64:W66)","v":7},{"$f":"SUM(X64:X66)","v":4694},{"$f":"SUM(Y64:Y66)","v":1224}]
[null,{"$f":"CONCATENATE(\"Δ\" & $B$57 & \"/\" & $B$57-1)","v":"Δ2018/2017"},{"$f":"(C67/C53-1)*100","v":2.0569620253164667},{"$f":"(D67/D53-1)*100","v":0.63694267515923553},1.0752688172043001,0.15290519877675379,0,13.79999999999999,{"$f":"(I67/I53-1)*100","v":0},{"$f":"(J67/J53-1)*100","v":0.39682539682539542},{"$f":"(K67/K53-1)*100","v":2.9411764705882248},{"$f":"(L67/L53-1)*100","v":2.8187919463087185},null,{"$f":"(N67/N53-1)*100","v":0.52356020942407877},{"$f":"(O67/O53-1)*100","v":0},{"$f":"(P67/P53-1)*100","v":0},{"$f":"(Q67/Q53-1)*100","v":0},null,{"$f":"(S67/S53-1)*100","v":0},{"$f":"(T67/T53-1)*100","v":0},{"$f":"(U67/U53-1)*100","v":0.43478260869564966},{"$f":"(V67/V53-1)*100","v":2.1401449775629855},0,{"$f":"(X67/X53-1)*100","v":1.163793103448274},{"$f":"(Y67/Y53-1)*100","v":6.0658578856152445}]
[null,"Transformadores",14420,5456,1300,3463,8950,3310,2100,1200,6131,12350,null,2700,5700,600,11700,null,3450,1600,4500,{"$f":"SUM(C69:U69)+W69","v":89830},900,{"$f":"V69-Y69","v":83057},{"$f":"F69+H69","v":6773}]
[null,{"$f":"CONCATENATE(\"Δ\" & $B$57 & \"/\" & $B$57-1)","v":"Δ2018/2017"},{"$f":"(C69/C55-1)*100","v":0},{"$f":"(D69/D55-1)*100","v":16.730851519041501},0,0,0,17.793594306049833,0,0,0,11.764705882352944,null,0,0,0,0,null,0,0,4.6511627906976827,3.1959378733572352,0,2.8251315382234576,7.9706679419735416]
[null,2019]
[null,"CCAA","Andalucía","Aragón","Asturias","Baleares","C. Valenciana","Canarias","Cantabria","Castilla-La Mancha","Castilla y León","Cataluña","Ceuta","Extremadura","Galicia","La Rioja","Madrid","Melilla","Murcia","Navarra","País Vasco","TOTAL","MÓVILES","PENINSULAR","NO PENINSULAR"]
[null,"km líneas 400 kV",2764.0095895177315,1447.051699059585,529.50220425955513,0,1073.1714884508594,0,240.51070433523273,2612.8144960363043,4511.6604318758336,2237.0793333041261,null,2285.5084469315311,1345.968287272728,114.94905945892347,992.61170872910782,null,708.11213708924197,175.97007024489812,697.36234343434307,{"$f":"SUM(C73:U73)","v":21736.281999999999},null,{"$f":"V73-Y73","v":21736.281999999999},{"$f":"F73+H73","v":0}]
[null,"km líneas 220 kV",3258.4144949494967,1876.5478170329991,431.51102020202001,447.66380000000004,1334.3462599999998,239.14500000000004,324.12110606060617,1524.5439794976151,3317.344073934732,2535.964294078115,null,854.54086742420031,1328.5019999999997,142.30800000000002,1186.9373854014159,null,124.31174,318.82902020202016,661.89994121678194,{"$f":"SUM(C74:U74)","v":19906.930800000006},null,{"$f":"V74-Y74","v":19220.122000000007},{"$f":"F74+H74","v":686.80880000000002}]
[null,"km líneas <220 kV",null,null,null,1425.2809000000002,null,1309.623,null,null,null,39.44,null,23,12.3,null,null,null,null,null,null,2809.6439000000005,null,74.740000000000236,2734.9039000000002]
[null,"Total km líneas",{"$f":"SUM(C73:C75)","v":6022.4240844672277},3323.5995160925841,961.01322446157519,1872.9447000000002,2407.5177484508595,1548.768,564.6318103958389,4137.3584755339198,7829.0045058105661,4812.4836273822411,0,3163.0493143557314,2686.7702872727277,257.25705945892349,2179.5490941305238,0,832.42387708924196,494.79909044691829,1359.2622846511249,44452.856700000011,null,{"$f":"SUM(X73:X75)","v":41031.144000000008},{"$f":"SUM(Y73:Y75)","v":3421.7127}]
[null,{"$f":"CONCATENATE(\"Δ\" & $B$71 & \"/\" & $B$71-1)","v":"Δ2019/2018"},{"$f":"(C76/C62-1)*100","v":0.81569251522142228},{"$f":"(D76/D62-1)*100","v":0.54535182369284119},0,1.0249889155108605,3.4508015137202364E-2,4.5168291227909441,0,0,0.5058281211475002,3.7437514371641001E-2,null,0,0.12394518551306355,0,6.8826311070857571E-3,null,0,0,0,{"$f":"(V76/V62-1)*100","v":0.44785838760907914},null,{"$f":"(X76/X62-1)*100","v":0.27435623513698548},2.57615165037961]
[null,"Posiciones 400 kV",199,100,49,0,184,0,15,116,251,151,0,107,73,8,106,0,68,28,80,{"$f":"SUM(C78:U78)+W78","v":1535},null,{"$f":"V78-F78-H78-M78-R78","v":1535},{"$f":"F78+H78+M78+R78","v":0}]
[null,"Posiciones 220 kV",464,224,45,124,324,72,50,144,254,627,0,91,233,30,530,0,48,50,151,{"$f":"SUM(C79:U79)+W79","v":3468},7,{"$f":"V79-F79-H79-M79-R79","v":3272},{"$f":"F79+H79+M79+R79","v":196}]
[null,"Posiciones <220 kV",null,null,null,565,null,514,null,null,null,3,null,null,1,null,null,null,null,null,null,1083,null,{"$f":"V80-F80-H80-M80-R80","v":4},{"$f":"F80+H80+M80+R80","v":1079}]
[null,"Total posiciones",{"$f":"SUM(C78:C80)","v":663},{"$f":"SUM(D78:D80)","v":324},94,689,508,586,65,260,505,781,0,198,307,38,636,0,116,78,231,{"$f":"SUM(V78:V80)","v":6086},{"$f":"SUM(W78:W80)","v":7},{"$f":"SUM(X78:X80)","v":4811},1275]
[null,{"$f":"CONCATENATE(\"Δ\" & $B$71 & \"/\" & $B$71-1)","v":"Δ2019/2018"},{"$f":"(C81/C67-1)*100","v":2.7906976744185963},{"$f":"(D81/D67-1)*100","v":2.5316455696202445},0,5.1908396946564794,5.6133056133056192,2.987697715289972,0,2.7667984189723382,3.0612244897959107,1.9582245430809442,null,3.125,4.421768707482987,0,0.952380952380949,null,1.7543859649122862,0,0,{"$f":"(V81/V67-1)*100","v":2.8387968908414996},0,2.4925436727737615,4.1666666666666741]
[null,"Transformadores",15020,5456,1300,3838,8950,3470,2100,1200,6131,12350,null,2700,5700,600,11700,null,3450,1600,4700,{"$f":"SUM(C83:U83)+W83","v":91165},900,{"$f":"V83-F83-H83-M83-R83","v":83857},{"$f":"F83+H83+M83+R83","v":7308}]
[null,{"$f":"CONCATENATE(\"Δ\" & $B$71 & \"/\" & $B$71-1)","v":"Δ2019/2018"},{"$f":"(C83/C69-1)*100","v":4.1608876560332853},{"$f":"(D83/D69-1)*100","v":0},0,10.828761189719893,0,4.8338368580060465,0,0,0,0,null,0,0,0,0,null,0,0,4.4444444444444509,{"$f":"(V83/V69-1)*100","v":1.4861404875876616},0,0.96319395114199402,7.8990107780894769]

{"sheet":"EVOLUCION_RdT","index":4,"n_rows":38,"n_cols":24,"rows_kept":38,"cut":false,"hidden":true,"merged":[]}
[]
[null,"evolución líneas","Andalucía","Aragón","Asturias","Baleares","C. Valenciana","Canarias","Cantabria","Castilla-La Mancha","Castilla y León","Cataluña","Ceuta","Extremadura","Galicia","La Rioja","Madrid","Melilla","Murcia","Navarra","País Vasco","TOTAL","MÓVILES","Resto nacional"]
[2014,"líneas ",{"$f":"datos_RdT!C6","v":5901.3930844672286},{"$f":"datos_RdT!D6","v":3086.6166160925836},{"$f":"datos_RdT!E6","v":925.05378446157511},{"$f":"datos_RdT!F6","v":1545.2919999999999},{"$f":"datos_RdT!G6","v":2223.2321484508593},{"$f":"datos_RdT!H6","v":1289.135},{"$f":"datos_RdT!I6","v":546.43181039583885},{"$f":"datos_RdT!J6","v":4103.0784755339191},{"$f":"datos_RdT!K6","v":7710.1581058105658},{"$f":"datos_RdT!L6","v":4769.3206273822398},null,{"$f":"datos_RdT!N6","v":3089.1783143557313},{"$f":"datos_RdT!O6","v":2555.2517272727282},{"$f":"datos_RdT!P6","v":257.25705945892349},{"$f":"datos_RdT!Q6","v":2152.7454941305236},null,{"$f":"datos_RdT!S6","v":815.82787708924195},{"$f":"datos_RdT!T6","v":494.79909044691829},{"$f":"datos_RdT!U6","v":1323.2132846511249},{"$f":"SUM(C3:U3)","v":42787.984500000006},null,{"$f":"V3-K3","v":35077.82639418944}]
[2014,"posiciones",{"$f":"datos_RdT!C11","v":609},{"$f":"datos_RdT!D11","v":302},{"$f":"datos_RdT!E11","v":93},{"$f":"datos_RdT!F11","v":607},{"$f":"datos_RdT!G11","v":434},{"$f":"datos_RdT!H11","v":415},{"$f":"datos_RdT!I11","v":56},{"$f":"datos_RdT!J11","v":249},{"$f":"datos_RdT!K11","v":434},{"$f":"datos_RdT!L11","v":728},null,{"$f":"datos_RdT!N11","v":191},{"$f":"datos_RdT!O11","v":288},{"$f":"datos_RdT!P11","v":38},{"$f":"datos_RdT!Q11","v":627},null,{"$f":"datos_RdT!S11","v":112},{"$f":"datos_RdT!T11","v":77},{"$f":"datos_RdT!U11","v":225},{"$f":"SUM(C4:U4)+W4","v":5492},{"$f":"datos_RdT!W11","v":7},{"$f":"V4-K4","v":5058}]
[2014,"transformadores",{"$f":"datos_RdT!C13","v":14420},{"$f":"datos_RdT!D13","v":4674},{"$f":"datos_RdT!E13","v":1300},{"$f":"datos_RdT!F13","v":2983},{"$f":"datos_RdT!G13","v":8350},{"$f":"datos_RdT!H13","v":1875},{"$f":"datos_RdT!I13","v":2100},{"$f":"datos_RdT!J13","v":1200},{"$f":"datos_RdT!K13","v":6131},{"$f":"datos_RdT!L13","v":11050},null,{"$f":"datos_RdT!N13","v":2700},{"$f":"datos_RdT!O13","v":5700},{"$f":"datos_RdT!P13","v":600},{"$f":"datos_RdT!Q13","v":11700},null,{"$f":"datos_RdT!S13","v":3450},{"$f":"datos_RdT!T13","v":1600},{"$f":"datos_RdT!U13","v":4300},{"$f":"SUM(C5:U5)","v":84133},{"$f":"datos_RdT!W13","v":900},{"$f":"V5-K5","v":78002}]
[2014,"líneas ",{"$f":"datos_RdT!C7/100","v":1.8385370422316916E-2},{"$f":"datos_RdT!D7/100","v":0},{"$f":"datos_RdT!E7/100","v":0},{"$f":"datos_RdT!F7/100","v":9.3986362585263272E-4},{"$f":"datos_RdT!G7/100","v":1.8754255978445933E-2},{"$f":"datos_RdT!H7/100","v":6.5940033358025119E-5},{"$f":"datos_RdT!I7/100","v":0},{"$f":"datos_RdT!J7/100","v":9.9068912808852883E-3},{"$f":"datos_RdT!K7/100","v":0},{"$f":"datos_RdT!L7/100","v":3.3613477231579925E-2},null,{"$f":"datos_RdT!N7/100","v":8.3158370205744139E-2},{"$f":"datos_RdT!O7/100","v":2.530600921595294E-3},{"$f":"datos_RdT!P7/100","v":0},{"$f":"datos_RdT!Q7/100","v":3.1290328904300946E-3},null,{"$f":"datos_RdT!S7/100","v":0},{"$f":"datos_RdT!T7/100","v":0},{"$f":"datos_RdT!U7/100","v":0},{"$f":"datos_RdT!V7/100","v":1.4094312819313615E-2}]
[2014,"posiciones",{"$f":"datos_RdT!C12/100","v":6.6115702479339067E-3},{"$f":"datos_RdT!D12/100","v":0},{"$f":"datos_RdT!E12/100","v":0},{"$f":"datos_RdT!F12/100","v":4.116638078902235E-2},{"$f":"datos_RdT!G12/100","v":4.8309178743961345E-2},{"$f":"datos_RdT!H12/100","v":1.4669926650366705E-2},{"$f":"datos_RdT!I12/100","v":0},{"$f":"datos_RdT!J12/100","v":2.4691358024691468E-2},{"$f":"datos_RdT!K12/100","v":2.3094688221709792E-3},{"$f":"datos_RdT!L12/100","v":2.3909985935302469E-2},null,{"$f":"datos_RdT!N12/100","v":5.2631578947368585E-3},{"$f":"datos_RdT!O12/100","v":1.0526315789473717E-2},{"$f":"datos_RdT!P12/100","v":0},{"$f":"datos_RdT!Q12/100","v":6.4205457463883953E-3},null,{"$f":"datos_RdT!S12/100","v":7.6923076923076872E-2},{"$f":"datos_RdT!T12/100","v":0},{"$f":"datos_RdT!U12/100","v":4.4642857142858094E-3},{"$f":"datos_RdT!V12/100","v":1.7602371687974738E-2}]
[2014,"transformadores",{"$f":"datos_RdT!C14/100","v":0},{"$f":"datos_RdT!D14/100","v":0},{"$f":"datos_RdT!E14/100","v":0},{"$f":"datos_RdT!F14/100","v":0},{"$f":"datos_RdT!G14/100","v":0},{"$f":"datos_RdT!H14/100","v":0.15384615384615374},{"$f":"datos_RdT!I14/100","v":0},{"$f":"datos_RdT!J14/100","v":0},{"$f":"datos_RdT!K14/100","v":0},{"$f":"datos_RdT!L14/100","v":5.741626794258381E-2},null,{"$f":"datos_RdT!N14/100","v":0},{"$f":"datos_RdT!O14/100","v":0},{"$f":"datos_RdT!P14/100","v":0},{"$f":"datos_RdT!Q14/100","v":0.11595995516215062},null,{"$f":"datos_RdT!S14/100","v":0},{"$f":"datos_RdT!T14/100","v":0},{"$f":"datos_RdT!U14/100","v":0},{"$f":"datos_RdT!V14/100","v":3.3829553103336796E-2}]
[2015,"líneas ",{"$f":"datos_RdT!C20","v":5933.484084467229},{"$f":"datos_RdT!D20","v":3124.8666160925836},{"$f":"datos_RdT!E20","v":925.05378446157511},{"$f":"datos_RdT!F20","v":1674.002},{"$f":"datos_RdT!G20","v":2236.4751484508597},{"$f":"datos_RdT!H20","v":1346.9589999999998},{"$f":"datos_RdT!I20","v":564.6318103958389},{"$f":"datos_RdT!J20","v":4103.0784755339191},{"$f":"datos_RdT!K20","v":7711.5691058105658},{"$f":"datos_RdT!L20","v":4786.9756273822395},null,{"$f":"datos_RdT!N20","v":3163.0493143557314},{"$f":"datos_RdT!O20","v":2555.2517272727282},{"$f":"datos_RdT!P20","v":257.25705945892349},{"$f":"datos_RdT!Q20","v":2152.7454941305236},null,{"$f":"datos_RdT!S20","v":815.82787708924195},{"$f":"datos_RdT!T20","v":494.79909044691829},{"$f":"datos_RdT!U20","v":1359.1092846511251},{"$f":"SUM(C9:U9)","v":43205.135500000004},null,{"$f":"V9-K9","v":35493.566394189438}]
[2015,"posiciones",{"$f":"datos_RdT!C25","v":629},{"$f":"datos_RdT!D25","v":312},{"$f":"datos_RdT!E25","v":93},{"$f":"datos_RdT!F25","v":640},{"$f":"datos_RdT!G25","v":444},{"$f":"datos_RdT!H25","v":430},{"$f":"datos_RdT!I25","v":65},{"$f":"datos_RdT!J25","v":249},{"$f":"datos_RdT!K25","v":461},{"$f":"datos_RdT!L25","v":737},null,{"$f":"datos_RdT!N25","v":191},{"$f":"datos_RdT!O25","v":288},{"$f":"datos_RdT!P25","v":38},{"$f":"datos_RdT!Q25","v":627},null,{"$f":"datos_RdT!S25","v":114},{"$f":"datos_RdT!T25","v":77},{"$f":"datos_RdT!U25","v":226},{"$f":"SUM(C10:U10)+W10","v":5628},{"$f":"datos_RdT!W25","v":7},{"$f":"V10-K10","v":5167}]
[2015,"transformadores",{"$f":"datos_RdT!C27","v":14420},{"$f":"datos_RdT!D27","v":4674},{"$f":"datos_RdT!E27","v":1300},{"$f":"datos_RdT!F27","v":3463},{"$f":"datos_RdT!G27","v":8350},{"$f":"datos_RdT!H27","v":2250},{"$f":"datos_RdT!I27","v":2100},{"$f":"datos_RdT!J27","v":1200},{"$f":"datos_RdT!K27","v":6131},{"$f":"datos_RdT!L27","v":11050},null,{"$f":"datos_RdT!N27","v":2700},{"$f":"datos_RdT!O27","v":5700},{"$f":"datos_RdT!P27","v":600},{"$f":"datos_RdT!Q27","v":11700},null,{"$f":"datos_RdT!S27","v":3450},{"$f":"datos_RdT!T27","v":1600},{"$f":"datos_RdT!U27","v":4300},{"$f":"SUM(C11:U11)","v":84988},{"$f":"datos_RdT!W27","v":900},{"$f":"V11-K11","v":78857}]
[2015,"líneas ",{"$f":"(C9/C3-1)","v":5.4378685745346544E-3},{"$f":"(D9/D3-1)","v":1.2392209580087465E-2},{"$f":"(E9/E3-1)","v":0},{"$f":"(F9/F3-1)","v":8.3291701503664051E-2},5.9566429035438073E-3,4.4854883313229399E-2,3.3306992114561895E-2,0,1.8300532630277644E-4,3.7017850925427087E-3,null,2.3912831336641904E-2,0,0,0,null,0,0,2.7127901764880225E-2,9.7492556584430901E-3]
[2015,"posiciones",{"$f":"(C10/C4-1)","v":3.284072249589487E-2},{"$f":"(D10/D4-1)","v":3.3112582781456901E-2},0,5.4365733113673764E-2,2.3041474654377891E-2,3.6144578313253017E-2,0.16071428571428581,0,6.2211981566820285E-2,1.2362637362637319E-2,null,0,0,0,0,null,1.7857142857142794E-2,0,4.4444444444444731E-3,2.4763292061179998E-2]
[2015,"transformadores",{"$f":"(C11/C5-1)","v":0},{"$f":"(D11/D5-1)","v":0},0,0.1609118337244384,0,0.19999999999999996,0,null,0,0,null,0,0,null,0,null,0,0,0,1.0162480833917797E-2]
[2016,"líneas ",{"$f":"datos_RdT!C34","v":5958.4310844672282},{"$f":"datos_RdT!D34","v":3295.8925160925842},{"$f":"datos_RdT!E34","v":961.01322446157519},{"$f":"datos_RdT!F34","v":1800.9359999999999},{"$f":"datos_RdT!G34","v":2364.9742484508588},{"$f":"datos_RdT!H34","v":1354.1649999999997},{"$f":"datos_RdT!I34","v":564.6318103958389},{"$f":"datos_RdT!J34","v":4103.0784755339191},{"$f":"datos_RdT!K34","v":7711.5691058105658},{"$f":"datos_RdT!L34","v":4804.8356273822401},null,{"$f":"datos_RdT!N34","v":3163.0493143557314},{"$f":"datos_RdT!O34","v":2683.4442872727277},{"$f":"datos_RdT!P34","v":257.25705945892349},{"$f":"datos_RdT!Q34","v":2152.7454941305236},null,{"$f":"datos_RdT!S34","v":832.42387708924196},{"$f":"datos_RdT!T34","v":494.79909044691829},{"$f":"datos_RdT!U34","v":1359.1482846511249},{"$f":"SUM(C15:U15)","v":43862.394500000009},null,{"$f":"V15-K15","v":36150.825394189444}]
[2016,"posiciones",{"$f":"datos_RdT!C39","v":632},{"$f":"datos_RdT!D39","v":312},{"$f":"datos_RdT!E39","v":93},{"$f":"datos_RdT!F39","v":648},{"$f":"datos_RdT!G39","v":464},{"$f":"datos_RdT!H39","v":450},{"$f":"datos_RdT!I39","v":65},{"$f":"datos_RdT!J39","v":250},{"$f":"datos_RdT!K39","v":462},{"$f":"datos_RdT!L39","v":737},null,{"$f":"datos_RdT!N39","v":191},{"$f":"datos_RdT!O39","v":294},{"$f":"datos_RdT!P39","v":38},{"$f":"datos_RdT!Q39","v":629},null,{"$f":"datos_RdT!S39","v":114},{"$f":"datos_RdT!T39","v":77},{"$f":"datos_RdT!U39","v":228},{"$f":"SUM(C16:U16)+W16","v":5691},{"$f":"datos_RdT!W39","v":7},{"$f":"V16-K16","v":5229}]
[2016,"transformadores",{"$f":"datos_RdT!C41","v":14420},{"$f":"datos_RdT!D41","v":4674},{"$f":"datos_RdT!E41","v":1300},{"$f":"datos_RdT!F41","v":3463},{"$f":"datos_RdT!G41","v":8950},{"$f":"datos_RdT!H41","v":2250},{"$f":"datos_RdT!I41","v":2100},{"$f":"datos_RdT!J41","v":1200},{"$f":"datos_RdT!K41","v":6131},{"$f":"datos_RdT!L41","v":11050},null,{"$f":"datos_RdT!N41","v":2700},{"$f":"datos_RdT!O41","v":5700},{"$f":"datos_RdT!P41","v":600},{"$f":"datos_RdT!Q41","v":11700},null,{"$f":"datos_RdT!S41","v":3450},{"$f":"datos_RdT!T41","v":1600},{"$f":"datos_RdT!U41","v":4300},{"$f":"SUM(C17:U17)","v":85588},{"$f":"datos_RdT!W41","v":900},{"$f":"V17-K17","v":79457}]
[2016,"líneas ",{"$f":"(C15/C9-1)","v":4.2044437374166854E-3},{"$f":"(D15/D9-1)","v":5.4730624059037725E-2},3.8872809996588709E-2,7.5826671652722055E-2,5.7456082214464299E-2,5.3498287624196283E-3,0,0,0,3.7309569528281017E-3,null,0,5.0168270558933248E-2,0,0,null,2.0342526243663173E-2,0,2.86952641999072E-5,1.5212520280141417E-2]
[2016,"posiciones",{"$f":"(C16/C10-1)","v":4.7694753577105509E-3},{"$f":"(D16/D10-1)","v":0},0,1.2499999999999956E-2,4.5045045045045029E-2,4.6511627906976827E-2,0,4.0160642570281624E-3,2.1691973969630851E-3,0,null,0,2.0833333333333259E-2,0,3.1897926634769647E-3,null,0,0,8.8495575221239076E-3,1.1194029850746245E-2]
[2016,"transformadores",{"$f":"(C17/C11-1)","v":0},{"$f":"(D17/D11-1)","v":0},0,0,7.1856287425149601E-2,0,0,{"$f":"(J17/J11-1)","v":0},0,0,null,0,0,null,0,null,0,0,0,7.0598202099119156E-3]
[2017,"líneas ",{"$f":"datos_RdT!C48","v":5958.4310844672282},{"$f":"datos_RdT!D48","v":3305.572516092584},{"$f":"datos_RdT!E48","v":961.01322446157519},{"$f":"datos_RdT!F48","v":1809.2189999999998},{"$f":"datos_RdT!G48","v":2380.1432484508587},{"$f":"datos_RdT!H48","v":1355.0969999999998},{"$f":"datos_RdT!I48","v":564.6318103958389},{"$f":"datos_RdT!J48","v":4137.3584755339198},{"$f":"datos_RdT!K48","v":7759.1275058105657},{"$f":"datos_RdT!L48","v":4805.7046273822389},null,{"$f":"datos_RdT!N48","v":3163.0493143557314},{"$f":"datos_RdT!O48","v":2683.4442872727277},{"$f":"datos_RdT!P48","v":257.25705945892349},{"$f":"datos_RdT!Q48","v":2179.3990941305237},null,{"$f":"datos_RdT!S48","v":832.42387708924196},{"$f":"datos_RdT!T48","v":494.79909044691829},{"$f":"datos_RdT!U48","v":1359.2622846511249},{"$f":"SUM(C21:U21)","v":44005.933500000006},null,{"$f":"V21-K21","v":36246.805994189439}]
[2017,"posiciones",{"$f":"datos_RdT!C53","v":632},{"$f":"datos_RdT!D53","v":314},{"$f":"datos_RdT!E53","v":93},{"$f":"datos_RdT!F53","v":654},{"$f":"datos_RdT!G53","v":481},{"$f":"datos_RdT!H53","v":500},{"$f":"datos_RdT!I53","v":65},{"$f":"datos_RdT!J53","v":252},{"$f":"datos_RdT!K53","v":476},{"$f":"datos_RdT!L53","v":745},null,{"$f":"datos_RdT!N53","v":191},{"$f":"datos_RdT!O53","v":294},{"$f":"datos_RdT!P53","v":38},{"$f":"datos_RdT!Q53","v":630},null,{"$f":"datos_RdT!S53","v":114},{"$f":"datos_RdT!T53","v":78},{"$f":"datos_RdT!U53","v":230},{"$f":"SUM(C22:U22)+W22","v":5794},{"$f":"datos_RdT!W53","v":7},{"$f":"V22-K22","v":5318}]
[2017,"transformadores",{"$f":"datos_RdT!C55","v":14420},{"$f":"datos_RdT!D55","v":4674},{"$f":"datos_RdT!E55","v":1300},{"$f":"datos_RdT!F55","v":3463},{"$f":"datos_RdT!G55","v":8950},{"$f":"datos_RdT!H55","v":2810},{"$f":"datos_RdT!I55","v":2100},{"$f":"datos_RdT!J55","v":1200},{"$f":"datos_RdT!K55","v":6131},{"$f":"datos_RdT!L55","v":11050},null,{"$f":"datos_RdT!N55","v":2700},{"$f":"datos_RdT!O55","v":5700},{"$f":"datos_RdT!P55","v":600},{"$f":"datos_RdT!Q55","v":11700},null,{"$f":"datos_RdT!S55","v":3450},{"$f":"datos_RdT!T55","v":1600},{"$f":"datos_RdT!U55","v":4300},{"$f":"SUM(C23:U23)","v":86148},{"$f":"datos_RdT!W55","v":900},{"$f":"V23-K23","v":80017}]
[2017,"líneas ",{"$f":"(C21/C15-1)","v":0},{"$f":"(D21/D15-1)","v":2.936988980294819E-3},0,4.5992750436438801E-3,6.4140233281340109E-3,6.8824700091929536E-4,0,8.3547025006729392E-3,6.1671495576904878E-3,1.8085946479562409E-4,null,0,0,0,1.2381212768843852E-2,null,0,0,8.3876057739518117E-5,3.2724843601503739E-3]
[2017,"posiciones",{"$f":"(C22/C16-1)","v":0},{"$f":"(D22/D16-1)","v":6.4102564102563875E-3},0,9.2592592592593004E-3,3.6637931034482651E-2,0.11111111111111116,0,8.0000000000000071E-3,3.0303030303030276E-2,1.0854816824966029E-2,null,0,0,0,1.5898251192367763E-3,null,0,1.298701298701288E-2,8.7719298245614308E-3,1.8098752416095598E-2]
[2017,"transformadores",{"$f":"(C23/C17-1)","v":0},{"$f":"(D23/D17-1)","v":0},0,0,0,0.24888888888888894,0,0,0,0,null,0,0,0,0,null,0,0,0,6.5429733140158763E-3]
[2018,"líneas ",{"$f":"datos_RdT!C62","v":5973.6970844672278},{"$f":"datos_RdT!D62","v":3305.572516092584},{"$f":"datos_RdT!E62","v":961.01322446157519},{"$f":"datos_RdT!F62","v":1853.9419999999998},{"$f":"datos_RdT!G62","v":2406.687248450859},{"$f":"datos_RdT!H62","v":1481.8359999999998},{"$f":"datos_RdT!I62","v":564.6318103958389},{"$f":"datos_RdT!J62","v":4137.3584755339198},{"$f":"datos_RdT!K62","v":7789.6025058105661},{"$f":"datos_RdT!L62","v":4810.6826273822408},null,{"$f":"datos_RdT!N62","v":3163.0493143557314},{"$f":"datos_RdT!O62","v":2683.4442872727277},{"$f":"datos_RdT!P62","v":257.25705945892349},{"$f":"datos_RdT!Q62","v":2179.3990941305237},null,{"$f":"datos_RdT!S62","v":832.42387708924196},{"$f":"datos_RdT!T62","v":494.79909044691829},{"$f":"datos_RdT!U62","v":1359.2622846511249},44254.658499999998,null,{"$f":"V27-K27","v":36465.055994189432}]
[2018,"posiciones",{"$f":"datos_RdT!C67","v":645},{"$f":"datos_RdT!D67","v":316},{"$f":"datos_RdT!E67","v":94},{"$f":"datos_RdT!F67","v":655},{"$f":"datos_RdT!G67","v":481},{"$f":"datos_RdT!H67","v":569},{"$f":"datos_RdT!I67","v":65},{"$f":"datos_RdT!J67","v":253},{"$f":"datos_RdT!K67","v":490},{"$f":"datos_RdT!L67","v":766},null,{"$f":"datos_RdT!N67","v":192},{"$f":"datos_RdT!O67","v":294},{"$f":"datos_RdT!P67","v":38},{"$f":"datos_RdT!Q67","v":630},null,{"$f":"datos_RdT!S67","v":114},{"$f":"datos_RdT!T67","v":78},{"$f":"datos_RdT!U67","v":231},{"$f":"SUM(C28:U28)+W28","v":5918},{"$f":"datos_RdT!W67","v":7},{"$f":"V28-K28","v":5428}]
[2018,"transformadores",{"$f":"datos_RdT!C69","v":14420},{"$f":"datos_RdT!D69","v":5456},{"$f":"datos_RdT!E69","v":1300},{"$f":"datos_RdT!F69","v":3463},{"$f":"datos_RdT!G69","v":8950},{"$f":"datos_RdT!H69","v":3310},{"$f":"datos_RdT!I69","v":2100},{"$f":"datos_RdT!J69","v":1200},{"$f":"datos_RdT!K69","v":6131},{"$f":"datos_RdT!L69","v":12350},null,{"$f":"datos_RdT!N69","v":2700},{"$f":"datos_RdT!O69","v":5700},{"$f":"datos_RdT!P69","v":600},{"$f":"datos_RdT!Q69","v":11700},null,{"$f":"datos_RdT!S69","v":3450},{"$f":"datos_RdT!T69","v":1600},{"$f":"datos_RdT!U69","v":4500},{"$f":"SUM(C29:U29)","v":88930},{"$f":"datos_RdT!W69","v":900},{"$f":"V29-K29","v":82799}]
[2018,"líneas ",{"$f":"(C27/C21-1)","v":2.5620838411299918E-3},{"$f":"(D27/D21-1)","v":0},0,2.4719506041004369E-2,1.115226993891083E-2,9.3527622007871125E-2,0,0,3.9276323242760647E-3,1.0358522601738862E-3,null,0,0,0,0,null,0,0,0,5.6520787134306527E-3]
[2018,"posiciones",{"$f":"(C28/C22-1)","v":2.0569620253164667E-2},{"$f":"(D28/D22-1)","v":6.3694267515923553E-3},1.0752688172043001E-2,1.5290519877675379E-3,0,0.1379999999999999,0,3.9682539682539542E-3,2.9411764705882248E-2,2.8187919463087185E-2,null,5.2356020942407877E-3,0,0,0,null,0,0,4.3478260869564966E-3,2.1401449775629855E-2]
[2018,"transformadores",{"$f":"(C29/C23-1)","v":0},{"$f":"(D29/D23-1)","v":0.16730851519041501},0,0,0,0.17793594306049831,0,0,0,0.11764705882352944,null,0,0,0,0,null,0,0,4.6511627906976827E-2,3.2293262757115748E-2]
[2019,"líneas ",{"$f":"datos_RdT!C76","v":6022.4240844672277},{"$f":"datos_RdT!D76","v":3323.5995160925841},{"$f":"datos_RdT!E76","v":961.01322446157519},{"$f":"datos_RdT!F76","v":1872.9447000000002},{"$f":"datos_RdT!G76","v":2407.5177484508595},{"$f":"datos_RdT!H76","v":1548.768},{"$f":"datos_RdT!I76","v":564.6318103958389},{"$f":"datos_RdT!J76","v":4137.3584755339198},{"$f":"datos_RdT!K76","v":7829.0045058105661},{"$f":"datos_RdT!L76","v":4812.4836273822411},null,{"$f":"datos_RdT!N76","v":3163.0493143557314},{"$f":"datos_RdT!O76","v":2686.7702872727277},{"$f":"datos_RdT!P76","v":257.25705945892349},{"$f":"datos_RdT!Q76","v":2179.5490941305238},null,{"$f":"datos_RdT!S76","v":832.42387708924196},{"$f":"datos_RdT!T76","v":494.79909044691829},{"$f":"datos_RdT!U76","v":1359.2622846511249},{"$f":"datos_RdT!V76","v":44452.856700000011},null,{"$f":"V33-K33","v":36623.852194189443}]
[2019,"posiciones",{"$f":"datos_RdT!C81","v":663},{"$f":"datos_RdT!D81","v":324},{"$f":"datos_RdT!E81","v":94},{"$f":"datos_RdT!F81","v":689},{"$f":"datos_RdT!G81","v":508},{"$f":"datos_RdT!H81","v":586},{"$f":"datos_RdT!I81","v":65},{"$f":"datos_RdT!J81","v":260},{"$f":"datos_RdT!K81","v":505},{"$f":"datos_RdT!L81","v":781},null,{"$f":"datos_RdT!N81","v":198},{"$f":"datos_RdT!O81","v":307},{"$f":"datos_RdT!P81","v":38},{"$f":"datos_RdT!Q81","v":636},null,{"$f":"datos_RdT!S81","v":116},{"$f":"datos_RdT!T81","v":78},{"$f":"datos_RdT!U81","v":231},{"$f":"datos_RdT!V81","v":6086},{"$f":"datos_RdT!W81","v":7},{"$f":"V34-K34","v":5581}]
[2019,"transformadores",{"$f":"datos_RdT!C83","v":15020},{"$f":"datos_RdT!D83","v":5456},{"$f":"datos_RdT!E83","v":1300},{"$f":"datos_RdT!F83","v":3838},{"$f":"datos_RdT!G83","v":8950},{"$f":"datos_RdT!H83","v":3470},{"$f":"datos_RdT!I83","v":2100},{"$f":"datos_RdT!J83","v":1200},{"$f":"datos_RdT!K83","v":6131},{"$f":"datos_RdT!L83","v":12350},null,{"$f":"datos_RdT!N83","v":2700},{"$f":"datos_RdT!O83","v":5700},{"$f":"datos_RdT!P83","v":600},{"$f":"datos_RdT!Q83","v":11700},null,{"$f":"datos_RdT!S83","v":3450},{"$f":"datos_RdT!T83","v":1600},{"$f":"datos_RdT!U83","v":4700},{"$f":"datos_RdT!V83","v":91165},{"$f":"datos_RdT!W83","v":900},{"$f":"V35-K35","v":85034}]
[2019,"líneas ",{"$f":"(C33/C27-1)","v":8.1569251522142228E-3},{"$f":"(D33/D27-1)","v":5.4535182369284119E-3},0,1.0249889155108605E-2,3.4508015137202364E-4,4.5168291227909441E-2,0,0,5.058281211475002E-3,3.7437514371641001E-4,null,0,1.2394518551306355E-3,0,6.8826311070857571E-5,null,0,0,0,4.4785838760910135E-3]
[2019,"posiciones",{"$f":"(C34/C28-1)","v":2.7906976744185963E-2},{"$f":"(D34/D28-1)","v":2.5316455696202445E-2},0,5.1908396946564794E-2,5.6133056133056192E-2,2.987697715289972E-2,0,2.7667984189723382E-2,3.0612244897959107E-2,1.9582245430809442E-2,null,3.125E-2,4.421768707482987E-2,0,9.52380952380949E-3,null,1.7543859649122862E-2,0,0,2.8387968908414996E-2]
[2019,"transformadores",{"$f":"(C35/C29-1)","v":4.1608876560332853E-2},{"$f":"(D35/D29-1)","v":0},0,0.10828761189719893,0,4.8338368580060465E-2,0,0,0,0,null,0,0,0,0,null,0,0,4.4444444444444509E-2,2.513212639154383E-2]

{"sheet":"Año","index":5,"n_rows":7,"n_cols":2,"rows_kept":7,"cut":false,"hidden":true,"merged":[]}
[]
[null,2014]
[null,2015]
[null,2016]
[null,2017]
[null,2018]
[null,2019]