{"text_format":"1","workbook":"xlsx","n_sheets":36,"sheets":["AVISO LEGAL","Renovable mes nacional","Renovable año nacional","Renovable mes Peninsular","Renovable año Peninsular","Renovable mes Baleares","Renovable año Baleares","Renovable mes Canarias","Renovable año Canarias","Renovable mes Melilla","Renovable año Melilla","% Renovable mes nacional","% Renovable año nacional","% Renovable mes Peninsular","% Renovable año Peninsular","% Renovable mes Baleares","% Renovable año Baleares","% Renovable mes Canarias","% Renovable año Canarias","% Renovable mes Melilla","% Renovable año Melilla","Maxima renovable mes nacional","Maxima renovable año nacional","Maxima renovable mes Peninsular","Maxima renovable año Peninsular","Maxima renovable mes Baleares","Maxima renovable año Baleares","Maxima renovable mes Canarias","Maxima renovable año Canarias","Maxima renovable mes Melilla","Maxima renovable año Melilla","Renovable","Mozart Reports","Año","Maximo renovable año I-V","Maximos I-V"],"not_rendered":{"charts":0,"images":1,"macros":1,"external_links":0,"defined_names":42,"comments":0,"pivot_tables":0},"unopened":[],"bounds":{"document_bytes":16777216,"sheet_cells":100000,"rows_first":2000,"rows_last":500,"rows_between":2000,"halvings":0,"cell_chars":16384,"cell_head_chars":4096},"cells_cut":0,"cells_raw":0,"read":"whole","date_system":"1900"}

{"sheet":"AVISO LEGAL","index":0,"n_rows":23,"n_cols":10,"rows_kept":23,"cut":false,"hidden":false,"merged":[]}
[]
[null,null,null,null,null,null,null,"Fecha de actualización:",null,"2019-02-11"]
[]
[]
[]
[]
[]
[]
[]
[]
[]
[]
[]
[]
[]
[]
[]
[]
[]
[]
[]
[]
[null,null,null,null,null,null,null,null,null,"www.ree.es"]

{"sheet":"Renovable mes nacional","index":1,"n_rows":22,"n_cols":15,"rows_kept":22,"cut":false,"hidden":false,"merged":[[21,1,21,14],[5,2,5,9],[17,1,17,14],[18,1,18,14],[19,1,19,14],[20,1,20,14]]}
[null,null,null,null,null,null,null,null,null,null,null,null,null,null,13]
[]
[null,null,null,null,null,null,null,null,null,null,null,null,"Concepto"]
[null,null,null,null,null,null,null,null,null,null,null,null,"Sistema eléctrico"]
[null,null,null,null,null,null,null,null,null,null,null,null,"Horizonte temporal"]
[null,null,null,null,null,null,null,null,null,null,null,null,"Periodo"]
[]
[null,null,"Ene.","Feb.","Mar.","Abr.","May.","Jun.","Jul.","Ago.","Sep.","Oct.","Nov.","Dic.",{"$f":"OFFSET(Año!B19,($O$1-1),0)","v":2019}]
[]
[null,"Hidráulica (2)",{"$f":"OFFSET(Renovable!C32,0,($O$1-1)*12)","v":2126.0730832559998},{"$f":"OFFSET(Renovable!D32,0,($O$1-1)*12)","v":"-"},{"$f":"OFFSET(Renovable!E32,0,($O$1-1)*12)","v":"-"},{"$f":"OFFSET(Renovable!F32,0,($O$1-1)*12)","v":"-"},{"$f":"OFFSET(Renovable!G32,0,($O$1-1)*12)","v":"-"},{"$f":"OFFSET(Renovable!H32,0,($O$1-1)*12)","v":"-"},{"$f":"OFFSET(Renovable!I32,0,($O$1-1)*12)","v":"-"},{"$f":"OFFSET(Renovable!J32,0,($O$1-1)*12)","v":"-"},{"$f":"OFFSET(Renovable!K32,0,($O$1-1)*12)","v":"-"},{"$f":"OFFSET(Renovable!L32,0,($O$1-1)*12)","v":"-"},{"$f":"OFFSET(Renovable!M32,0,($O$1-1)*12)","v":"-"},{"$f":"OFFSET(Renovable!N32,0,($O$1-1)*12)","v":"-"},{"$f":"IF(SUM(C10:N10)=0,\"-\",SUM(C10:N10))","v":2126.0730832559998}]
[null,"Hidroeólica",{"$f":"OFFSET(Renovable!C33,0,($O$1-1)*12)","v":1.109656},{"$f":"OFFSET(Renovable!D33,0,($O$1-1)*12)","v":"-"},{"$f":"OFFSET(Renovable!E33,0,($O$1-1)*12)","v":"-"},{"$f":"OFFSET(Renovable!F33,0,($O$1-1)*12)","v":"-"},{"$f":"OFFSET(Renovable!G33,0,($O$1-1)*12)","v":"-"},{"$f":"OFFSET(Renovable!H33,0,($O$1-1)*12)","v":"-"},{"$f":"OFFSET(Renovable!I33,0,($O$1-1)*12)","v":"-"},{"$f":"OFFSET(Renovable!J33,0,($O$1-1)*12)","v":"-"},{"$f":"OFFSET(Renovable!K33,0,($O$1-1)*12)","v":"-"},{"$f":"OFFSET(Renovable!L33,0,($O$1-1)*12)","v":"-"},{"$f":"OFFSET(Renovable!M33,0,($O$1-1)*12)","v":"-"},{"$f":"OFFSET(Renovable!N33,0,($O$1-1)*12)","v":"-"},1.109656]
[null,"Eólica",{"$f":"OFFSET(Renovable!C34,0,($O$1-1)*12)","v":6027.1285189999999},{"$f":"OFFSET(Renovable!D34,0,($O$1-1)*12)","v":"-"},{"$f":"OFFSET(Renovable!E34,0,($O$1-1)*12)","v":"-"},{"$f":"OFFSET(Renovable!F34,0,($O$1-1)*12)","v":"-"},{"$f":"OFFSET(Renovable!G34,0,($O$1-1)*12)","v":"-"},{"$f":"OFFSET(Renovable!H34,0,($O$1-1)*12)","v":"-"},{"$f":"OFFSET(Renovable!I34,0,($O$1-1)*12)","v":"-"},{"$f":"OFFSET(Renovable!J34,0,($O$1-1)*12)","v":"-"},{"$f":"OFFSET(Renovable!K34,0,($O$1-1)*12)","v":"-"},{"$f":"OFFSET(Renovable!L34,0,($O$1-1)*12)","v":"-"},{"$f":"OFFSET(Renovable!M34,0,($O$1-1)*12)","v":"-"},{"$f":"OFFSET(Renovable!N34,0,($O$1-1)*12)","v":"-"},6027.1285189999999]
[null,"Solar fotovoltaica",{"$f":"OFFSET(Renovable!C35,0,($O$1-1)*12)","v":501.505987},{"$f":"OFFSET(Renovable!D35,0,($O$1-1)*12)","v":"-"},{"$f":"OFFSET(Renovable!E35,0,($O$1-1)*12)","v":"-"},{"$f":"OFFSET(Renovable!F35,0,($O$1-1)*12)","v":"-"},{"$f":"OFFSET(Renovable!G35,0,($O$1-1)*12)","v":"-"},{"$f":"OFFSET(Renovable!H35,0,($O$1-1)*12)","v":"-"},{"$f":"OFFSET(Renovable!I35,0,($O$1-1)*12)","v":"-"},{"$f":"OFFSET(Renovable!J35,0,($O$1-1)*12)","v":"-"},{"$f":"OFFSET(Renovable!K35,0,($O$1-1)*12)","v":"-"},{"$f":"OFFSET(Renovable!L35,0,($O$1-1)*12)","v":"-"},{"$f":"OFFSET(Renovable!M35,0,($O$1-1)*12)","v":"-"},{"$f":"OFFSET(Renovable!N35,0,($O$1-1)*12)","v":"-"},501.505987]
[null,"Solar térmica",{"$f":"OFFSET(Renovable!C36,0,($O$1-1)*12)","v":166.15013300000001},{"$f":"OFFSET(Renovable!D36,0,($O$1-1)*12)","v":"-"},{"$f":"OFFSET(Renovable!E36,0,($O$1-1)*12)","v":"-"},{"$f":"OFFSET(Renovable!F36,0,($O$1-1)*12)","v":"-"},{"$f":"OFFSET(Renovable!G36,0,($O$1-1)*12)","v":"-"},{"$f":"OFFSET(Renovable!H36,0,($O$1-1)*12)","v":"-"},{"$f":"OFFSET(Renovable!I36,0,($O$1-1)*12)","v":"-"},{"$f":"OFFSET(Renovable!J36,0,($O$1-1)*12)","v":"-"},{"$f":"OFFSET(Renovable!K36,0,($O$1-1)*12)","v":"-"},{"$f":"OFFSET(Renovable!L36,0,($O$1-1)*12)","v":"-"},{"$f":"OFFSET(Renovable!M36,0,($O$1-1)*12)","v":"-"},{"$f":"OFFSET(Renovable!N36,0,($O$1-1)*12)","v":"-"},166.15013300000001]
[null,"Térmica renovable (3)/Otras renovables (4)",{"$f":"OFFSET(Renovable!C37,0,($O$1-1)*12)","v":304.46479899999997},{"$f":"OFFSET(Renovable!D37,0,($O$1-1)*12)","v":"-"},{"$f":"OFFSET(Renovable!E37,0,($O$1-1)*12)","v":"-"},{"$f":"OFFSET(Renovable!F37,0,($O$1-1)*12)","v":"-"},{"$f":"OFFSET(Renovable!G37,0,($O$1-1)*12)","v":"-"},{"$f":"OFFSET(Renovable!H37,0,($O$1-1)*12)","v":"-"},{"$f":"OFFSET(Renovable!I37,0,($O$1-1)*12)","v":"-"},{"$f":"OFFSET(Renovable!J37,0,($O$1-1)*12)","v":"-"},{"$f":"OFFSET(Renovable!K37,0,($O$1-1)*12)","v":"-"},{"$f":"OFFSET(Renovable!L37,0,($O$1-1)*12)","v":"-"},{"$f":"OFFSET(Renovable!M37,0,($O$1-1)*12)","v":"-"},{"$f":"OFFSET(Renovable!N37,0,($O$1-1)*12)","v":"-"},{"$f":"IF(SUM(C15:N15)=0,\"-\",SUM(C15:N15))","v":304.46479899999997}]
[null,"Residuos renovables (5)",{"$f":"OFFSET(Renovable!C38,0,($O$1-1)*12)","v":73.61360950000001},{"$f":"OFFSET(Renovable!D38,0,($O$1-1)*12)","v":"-"},{"$f":"OFFSET(Renovable!E38,0,($O$1-1)*12)","v":"-"},{"$f":"OFFSET(Renovable!F38,0,($O$1-1)*12)","v":"-"},{"$f":"OFFSET(Renovable!G38,0,($O$1-1)*12)","v":"-"},{"$f":"OFFSET(Renovable!H38,0,($O$1-1)*12)","v":"-"},{"$f":"OFFSET(Renovable!I38,0,($O$1-1)*12)","v":"-"},{"$f":"OFFSET(Renovable!J38,0,($O$1-1)*12)","v":"-"},{"$f":"OFFSET(Renovable!K38,0,($O$1-1)*12)","v":"-"},{"$f":"OFFSET(Renovable!L38,0,($O$1-1)*12)","v":"-"},{"$f":"OFFSET(Renovable!M38,0,($O$1-1)*12)","v":"-"},{"$f":"OFFSET(Renovable!N38,0,($O$1-1)*12)","v":"-"},{"$f":"IF(SUM(C16:N16)=0,\"-\",SUM(C16:N16))","v":73.61360950000001}]
[null,"Generación renovable",{"$f":"IF(SUM(C10:C16)=0,\"-\",SUM(C10:C16))","v":9200.0457867559981},{"$f":"IF(SUM(D10:D16)=0,\"-\",SUM(D10:D16))","v":"-"},"-","-","-","-","-","-",{"$f":"IF(SUM(K10:K16)=0,\"-\",SUM(K10:K16))","v":"-"},"-","-","-",{"$f":"IF(SUM(C17:N17)=0,\"-\",SUM(C17:N17))","v":9200.0457867559981}]
[null,"(1) Asignación de unidades de producción según combustible principal."]
[null,"(2) No incluye la generación bombeo."]
[null,"(3) Incluye residuos hasta el 31/12/2014."]
[null,"(4) Otras renovables incluyen biogás, biomasa, hidráulica marina y geotérmica."]
[null,"(5) El 50% de la generación procedente de residuos sólidos urbanos se considera renovable."]

{"sheet":"Renovable año nacional","index":2,"n_rows":23,"n_cols":10,"rows_kept":23,"cut":false,"hidden":false,"merged":[[17,1,17,9],[18,1,18,14],[19,1,19,14],[20,1,20,14],[22,1,22,9],[21,1,21,14]]}
[null,null,null,null,null,null,null,null,null,2]
[]
[null,null,null,null,null,null,null,"Concepto"]
[null,null,null,null,null,null,null,"Sistema eléctrico"]
[null,null,null,null,null,null,null,"Horizonte temporal"]
[null,null,null,null,null,null,null,"Periodo"]
[]
[null,null,{"$f":"OFFSET(Renovable!C70,0,($J$1-1)*8)","v":2015},{"$f":"OFFSET(Renovable!D70,0,($J$1-1)*8)","v":2016},{"$f":"OFFSET(Renovable!E70,0,($J$1-1)*8)","v":2017},{"$f":"OFFSET(Renovable!F70,0,($J$1-1)*8)","v":2018},{"$f":"OFFSET(Renovable!G70,0,($J$1-1)*8)","v":2019},{"$f":"OFFSET(Renovable!H70,0,($J$1-1)*8)","v":2020},{"$f":"OFFSET(Renovable!I70,0,($J$1-1)*8)","v":2021},{"$f":"OFFSET(Renovable!J70,0,($J$1-1)*8)","v":2022}]
[]
[null,"Hidráulica (2)",{"$f":"OFFSET(Renovable!C71,0,($J$1-1)*8)","v":28382.579963850003},{"$f":"OFFSET(Renovable!D71,0,($J$1-1)*8)","v":36114.888326772001},{"$f":"OFFSET(Renovable!E71,0,($J$1-1)*8)","v":18450.618750660004},{"$f":"OFFSET(Renovable!F71,0,($J$1-1)*8)","v":34100.072694872004},{"$f":"OFFSET(Renovable!G71,0,($J$1-1)*8)","v":2126.0730832559998},{"$f":"OFFSET(Renovable!H71,0,($J$1-1)*8)","v":"-"},{"$f":"OFFSET(Renovable!I71,0,($J$1-1)*8)","v":"-"},{"$f":"OFFSET(Renovable!J71,0,($J$1-1)*8)","v":"-"}]
[null,"Hidroeólica",{"$f":"OFFSET(Renovable!C72,0,($J$1-1)*8)","v":8.2074240000000014},{"$f":"OFFSET(Renovable!D72,0,($J$1-1)*8)","v":17.891935999999998},{"$f":"OFFSET(Renovable!E72,0,($J$1-1)*8)","v":20.233057000000002},{"$f":"OFFSET(Renovable!F72,0,($J$1-1)*8)","v":23.655544000000003},{"$f":"OFFSET(Renovable!G72,0,($J$1-1)*8)","v":1.109656},{"$f":"OFFSET(Renovable!H72,0,($J$1-1)*8)","v":"-"},{"$f":"OFFSET(Renovable!I72,0,($J$1-1)*8)","v":"-"},{"$f":"OFFSET(Renovable!J72,0,($J$1-1)*8)","v":"-"}]
[null,"Eólica",{"$f":"OFFSET(Renovable!C73,0,($J$1-1)*8)","v":48117.887515999995},{"$f":"OFFSET(Renovable!D73,0,($J$1-1)*8)","v":47696.660308999999},{"$f":"OFFSET(Renovable!E73,0,($J$1-1)*8)","v":47906.955560999995},{"$f":"OFFSET(Renovable!F73,0,($J$1-1)*8)","v":49526.055933000011},{"$f":"OFFSET(Renovable!G73,0,($J$1-1)*8)","v":6027.1285189999999},{"$f":"OFFSET(Renovable!H73,0,($J$1-1)*8)","v":"-"},{"$f":"OFFSET(Renovable!I73,0,($J$1-1)*8)","v":"-"},{"$f":"OFFSET(Renovable!J73,0,($J$1-1)*8)","v":"-"}]
[null,"Solar fotovoltaica",{"$f":"OFFSET(Renovable!C74,0,($J$1-1)*8)","v":8243.5609049999985},{"$f":"OFFSET(Renovable!D74,0,($J$1-1)*8)","v":7977.4671849999995},{"$f":"OFFSET(Renovable!E74,0,($J$1-1)*8)","v":8397.7526929999985},{"$f":"OFFSET(Renovable!F74,0,($J$1-1)*8)","v":7746.6839170000003},{"$f":"OFFSET(Renovable!G74,0,($J$1-1)*8)","v":501.505987},{"$f":"OFFSET(Renovable!H74,0,($J$1-1)*8)","v":"-"},{"$f":"OFFSET(Renovable!I74,0,($J$1-1)*8)","v":"-"},{"$f":"OFFSET(Renovable!J74,0,($J$1-1)*8)","v":"-"}]
[null,"Solar térmica",{"$f":"OFFSET(Renovable!C75,0,($J$1-1)*8)","v":5085.235514},{"$f":"OFFSET(Renovable!D75,0,($J$1-1)*8)","v":5071.2017019999994},{"$f":"OFFSET(Renovable!E75,0,($J$1-1)*8)","v":5347.9524650000003},{"$f":"OFFSET(Renovable!F75,0,($J$1-1)*8)","v":4424.3286090000001},{"$f":"OFFSET(Renovable!G75,0,($J$1-1)*8)","v":166.15013300000001},{"$f":"OFFSET(Renovable!H75,0,($J$1-1)*8)","v":"-"},{"$f":"OFFSET(Renovable!I75,0,($J$1-1)*8)","v":"-"},{"$f":"OFFSET(Renovable!J75,0,($J$1-1)*8)","v":"-"}]
[null,"Térmica renovable (3)/Otras renovables (4)",{"$f":"OFFSET(Renovable!C76,0,($J$1-1)*8)","v":3432.5919209999997},{"$f":"OFFSET(Renovable!D76,0,($J$1-1)*8)","v":3425.6648279999999},{"$f":"OFFSET(Renovable!E76,0,($J$1-1)*8)","v":3610.3478820000005},{"$f":"OFFSET(Renovable!F76,0,($J$1-1)*8)","v":3556.3822129999994},{"$f":"OFFSET(Renovable!G76,0,($J$1-1)*8)","v":304.46479899999997},{"$f":"OFFSET(Renovable!H76,0,($J$1-1)*8)","v":"-"},{"$f":"OFFSET(Renovable!I76,0,($J$1-1)*8)","v":"-"},{"$f":"OFFSET(Renovable!J76,0,($J$1-1)*8)","v":"-"}]
[null,"Residuos renovables (5)",{"$f":"OFFSET(Renovable!C77,0,($J$1-1)*8)","v":818.04970249999997},{"$f":"OFFSET(Renovable!D77,0,($J$1-1)*8)","v":785.39502949999996},{"$f":"OFFSET(Renovable!E77,0,($J$1-1)*8)","v":877.00608699999998},{"$f":"OFFSET(Renovable!F77,0,($J$1-1)*8)","v":874.075245},{"$f":"OFFSET(Renovable!G77,0,($J$1-1)*8)","v":73.61360950000001},{"$f":"OFFSET(Renovable!H77,0,($J$1-1)*8)","v":"-"},{"$f":"OFFSET(Renovable!I77,0,($J$1-1)*8)","v":"-"},{"$f":"OFFSET(Renovable!J77,0,($J$1-1)*8)","v":"-"}]
[null,"Generación renovable",{"$f":"IF(SUM(C10:C16)=0,\"-\",SUM(C10:C16))","v":94088.112946349996},{"$f":"IF(SUM(D10:D16)=0,\"-\",SUM(D10:D16))","v":101089.16931627199},84610.866495659997,100251.25415587203,9200.0457867559981,"-","-","-"]
[null,"(1) Asignación de unidades de producción según combustible principal."]
[null,"(2) No incluye la generación bombeo."]
[null,"(3) Incluye residuos hasta el 31/12/2014."]
[null,"(4) Otras renovables incluyen biogás, biomasa, hidráulica marina y geotérmica."]
[null,"(5) El 50% de la generación procedente de residuos sólidos urbanos se considera renovable."]
[null,{"$f":"IF(J1=1,\"\",IF(MONTH('AVISO LEGAL'!J2)=1,CONCATENATE(\"    Para el año \",YEAR('AVISO LEGAL'!J2)-1, \" valores acumulados hasta \",TEXT('AVISO LEGAL'!J2-30,\"mmmm\"),\" de \",YEAR('AVISO LEGAL'!J2)-1,\".\"),CONCATENATE(\"    Para el año \",YEAR('AVISO LEGAL'!J2), \" valores acumulados hasta \",TEXT('AVISO LEGAL'!J2-30,\"mmmm\"),\" de \",YEAR('AVISO LEGAL'!J2),\".\")))","v":"    Para el año 2019 valores acumulados hasta enero de 2019."}]

{"sheet":"Renovable mes Peninsular","index":3,"n_rows":21,"n_cols":15,"rows_kept":21,"cut":false,"hidden":false,"merged":[[20,1,20,14],[5,2,5,9],[16,1,16,14],[17,1,17,14],[18,1,18,14],[19,1,19,14]]}
[null,null,null,null,null,null,null,null,null,null,null,null,null,null,30]
[]
[null,null,null,null,null,null,null,null,null,null,null,null,"Concepto"]
[null,null,null,null,null,null,null,null,null,null,null,null,"Sistema eléctrico"]
[null,null,null,null,null,null,null,null,null,null,null,null,"Horizonte temporal"]
[null,null,null,null,null,null,null,null,null,null,null,null,"Periodo"]
[]
[null,null,"Ene.","Feb.","Mar.","Abr.","May.","Jun.","Jul.","Ago.","Sep.","Oct.","Nov.","Dic.",{"$f":"OFFSET(Año!B2,($O$1-1),0)","v":2019}]
[]
[null,"Hidráulica (2)",{"$f":"OFFSET(Renovable!C3,0,($O$1-1)*12)","v":2125.7801672559999},{"$f":"OFFSET(Renovable!D3,0,($O$1-1)*12)","v":"-"},{"$f":"OFFSET(Renovable!E3,0,($O$1-1)*12)","v":"-"},{"$f":"OFFSET(Renovable!F3,0,($O$1-1)*12)","v":"-"},{"$f":"OFFSET(Renovable!G3,0,($O$1-1)*12)","v":"-"},{"$f":"OFFSET(Renovable!H3,0,($O$1-1)*12)","v":"-"},{"$f":"OFFSET(Renovable!I3,0,($O$1-1)*12)","v":"-"},{"$f":"OFFSET(Renovable!J3,0,($O$1-1)*12)","v":"-"},{"$f":"OFFSET(Renovable!K3,0,($O$1-1)*12)","v":"-"},{"$f":"OFFSET(Renovable!L3,0,($O$1-1)*12)","v":"-"},{"$f":"OFFSET(Renovable!M3,0,($O$1-1)*12)","v":"-"},{"$f":"OFFSET(Renovable!N3,0,($O$1-1)*12)","v":"-"},{"$f":"IF(SUM(C10:N10)=0,\"-\",SUM(C10:N10))","v":2125.7801672559999}]
[null,"Eólica",{"$f":"OFFSET(Renovable!C4,0,($O$1-1)*12)","v":5970.5410169999996},{"$f":"OFFSET(Renovable!D4,0,($O$1-1)*12)","v":"-"},{"$f":"OFFSET(Renovable!E4,0,($O$1-1)*12)","v":"-"},{"$f":"OFFSET(Renovable!F4,0,($O$1-1)*12)","v":"-"},{"$f":"OFFSET(Renovable!G4,0,($O$1-1)*12)","v":"-"},{"$f":"OFFSET(Renovable!H4,0,($O$1-1)*12)","v":"-"},{"$f":"OFFSET(Renovable!I4,0,($O$1-1)*12)","v":"-"},{"$f":"OFFSET(Renovable!J4,0,($O$1-1)*12)","v":"-"},{"$f":"OFFSET(Renovable!K4,0,($O$1-1)*12)","v":"-"},{"$f":"OFFSET(Renovable!L4,0,($O$1-1)*12)","v":"-"},{"$f":"OFFSET(Renovable!M4,0,($O$1-1)*12)","v":"-"},{"$f":"OFFSET(Renovable!N4,0,($O$1-1)*12)","v":"-"},5970.5410169999996]
[null,"Solar fotovoltaica",{"$f":"OFFSET(Renovable!C5,0,($O$1-1)*12)","v":476.80772400000001},{"$f":"OFFSET(Renovable!D5,0,($O$1-1)*12)","v":"-"},{"$f":"OFFSET(Renovable!E5,0,($O$1-1)*12)","v":"-"},{"$f":"OFFSET(Renovable!F5,0,($O$1-1)*12)","v":"-"},{"$f":"OFFSET(Renovable!G5,0,($O$1-1)*12)","v":"-"},{"$f":"OFFSET(Renovable!H5,0,($O$1-1)*12)","v":"-"},{"$f":"OFFSET(Renovable!I5,0,($O$1-1)*12)","v":"-"},{"$f":"OFFSET(Renovable!J5,0,($O$1-1)*12)","v":"-"},{"$f":"OFFSET(Renovable!K5,0,($O$1-1)*12)","v":"-"},{"$f":"OFFSET(Renovable!L5,0,($O$1-1)*12)","v":"-"},{"$f":"OFFSET(Renovable!M5,0,($O$1-1)*12)","v":"-"},{"$f":"OFFSET(Renovable!N5,0,($O$1-1)*12)","v":"-"},476.80772400000001]
[null,"Solar térmica",{"$f":"OFFSET(Renovable!C6,0,($O$1-1)*12)","v":166.15013300000001},{"$f":"OFFSET(Renovable!D6,0,($O$1-1)*12)","v":"-"},{"$f":"OFFSET(Renovable!E6,0,($O$1-1)*12)","v":"-"},{"$f":"OFFSET(Renovable!F6,0,($O$1-1)*12)","v":"-"},{"$f":"OFFSET(Renovable!G6,0,($O$1-1)*12)","v":"-"},{"$f":"OFFSET(Renovable!H6,0,($O$1-1)*12)","v":"-"},{"$f":"OFFSET(Renovable!I6,0,($O$1-1)*12)","v":"-"},{"$f":"OFFSET(Renovable!J6,0,($O$1-1)*12)","v":"-"},{"$f":"OFFSET(Renovable!K6,0,($O$1-1)*12)","v":"-"},{"$f":"OFFSET(Renovable!L6,0,($O$1-1)*12)","v":"-"},{"$f":"OFFSET(Renovable!M6,0,($O$1-1)*12)","v":"-"},{"$f":"OFFSET(Renovable!N6,0,($O$1-1)*12)","v":"-"},166.15013300000001]
[null,"Térmica renovable (3)/Otras renovables (4)",{"$f":"OFFSET(Renovable!C7,0,($O$1-1)*12)","v":303.39382699999999},{"$f":"OFFSET(Renovable!D7,0,($O$1-1)*12)","v":"-"},{"$f":"OFFSET(Renovable!E7,0,($O$1-1)*12)","v":"-"},{"$f":"OFFSET(Renovable!F7,0,($O$1-1)*12)","v":"-"},{"$f":"OFFSET(Renovable!G7,0,($O$1-1)*12)","v":"-"},{"$f":"OFFSET(Renovable!H7,0,($O$1-1)*12)","v":"-"},{"$f":"OFFSET(Renovable!I7,0,($O$1-1)*12)","v":"-"},{"$f":"OFFSET(Renovable!J7,0,($O$1-1)*12)","v":"-"},{"$f":"OFFSET(Renovable!K7,0,($O$1-1)*12)","v":"-"},{"$f":"OFFSET(Renovable!L7,0,($O$1-1)*12)","v":"-"},{"$f":"OFFSET(Renovable!M7,0,($O$1-1)*12)","v":"-"},{"$f":"OFFSET(Renovable!N7,0,($O$1-1)*12)","v":"-"},303.39382699999999]
[null,"Residuos renovables (5)",{"$f":"OFFSET(Renovable!C8,0,($O$1-1)*12)","v":63.503646000000003},{"$f":"OFFSET(Renovable!D8,0,($O$1-1)*12)","v":"-"},{"$f":"OFFSET(Renovable!E8,0,($O$1-1)*12)","v":"-"},{"$f":"OFFSET(Renovable!F8,0,($O$1-1)*12)","v":"-"},{"$f":"OFFSET(Renovable!G8,0,($O$1-1)*12)","v":"-"},{"$f":"OFFSET(Renovable!H8,0,($O$1-1)*12)","v":"-"},{"$f":"OFFSET(Renovable!I8,0,($O$1-1)*12)","v":"-"},{"$f":"OFFSET(Renovable!J8,0,($O$1-1)*12)","v":"-"},{"$f":"OFFSET(Renovable!K8,0,($O$1-1)*12)","v":"-"},{"$f":"OFFSET(Renovable!L8,0,($O$1-1)*12)","v":"-"},{"$f":"OFFSET(Renovable!M8,0,($O$1-1)*12)","v":"-"},{"$f":"OFFSET(Renovable!N8,0,($O$1-1)*12)","v":"-"},{"$f":"IF(SUM(C15:N15)=0,\"-\",SUM(C15:N15))","v":63.503646000000003}]
[null,"Generación renovable",{"$f":"IF(SUM(C10:C15)=0,\"-\",SUM(C10:C15))","v":9106.176514255998},{"$f":"IF(SUM(D10:D15)=0,\"-\",SUM(D10:D15))","v":"-"},"-","-","-","-","-","-","-","-","-","-",9106.176514255998]
[null,"(1) Asignación de unidades de producción según combustible principal."]
[null,"(2) No incluye la generación bombeo."]
[null,"(3) Incluye residuos hasta el 31/12/2014."]
[null,"(4) Otras renovables incluyen biogás, biomasa, hidráulica marina y geotérmica."]
[null,"(5) El 50% de la generación procedente de residuos sólidos urbanos se considera renovable."]

{"sheet":"Renovable año Peninsular","index":4,"n_rows":22,"n_cols":10,"rows_kept":22,"cut":false,"hidden":false,"merged":[[16,1,16,9],[21,1,21,9],[17,1,17,14],[18,1,18,14],[19,1,19,14],[20,1,20,14]]}
[null,null,null,null,null,null,null,null,null,4]
[]
[null,null,null,null,null,null,null,"Concepto"]
[null,null,null,null,null,null,null,"Sistema eléctrico"]
[null,null,null,null,null,null,null,"Horizonte temporal"]
[null,null,null,null,null,null,null,"Periodo"]
[]
[null,null,{"$f":"OFFSET(Renovable!C41,0,($J$1-1)*8)","v":2014},{"$f":"OFFSET(Renovable!D41,0,($J$1-1)*8)","v":2015},{"$f":"OFFSET(Renovable!E41,0,($J$1-1)*8)","v":2016},{"$f":"OFFSET(Renovable!F41,0,($J$1-1)*8)","v":2017},{"$f":"OFFSET(Renovable!G41,0,($J$1-1)*8)","v":2018},{"$f":"OFFSET(Renovable!H41,0,($J$1-1)*8)","v":2019},{"$f":"OFFSET(Renovable!I41,0,($J$1-1)*8)","v":2020},{"$f":"OFFSET(Renovable!J41,0,($J$1-1)*8)","v":2021}]
[]
[null,"Hidráulica (2)",{"$f":"OFFSET(Renovable!C42,0,($J$1-1)*8)","v":39178.524159204004},{"$f":"OFFSET(Renovable!D42,0,($J$1-1)*8)","v":28379.011570850002},{"$f":"OFFSET(Renovable!E42,0,($J$1-1)*8)","v":36111.434365772002},{"$f":"OFFSET(Renovable!F42,0,($J$1-1)*8)","v":18447.346771660003},{"$f":"OFFSET(Renovable!G42,0,($J$1-1)*8)","v":34096.796785872},{"$f":"OFFSET(Renovable!H42,0,($J$1-1)*8)","v":2125.7801672559999},{"$f":"OFFSET(Renovable!I42,0,($J$1-1)*8)","v":"-"},{"$f":"OFFSET(Renovable!J42,0,($J$1-1)*8)","v":"-"}]
[null,"Eólica",{"$f":"OFFSET(Renovable!C43,0,($J$1-1)*8)","v":50636.662464000008},{"$f":"OFFSET(Renovable!D43,0,($J$1-1)*8)","v":47715.882144999996},{"$f":"OFFSET(Renovable!E43,0,($J$1-1)*8)","v":47298.163668000001},{"$f":"OFFSET(Renovable!F43,0,($J$1-1)*8)","v":47508.105951999998},{"$f":"OFFSET(Renovable!G43,0,($J$1-1)*8)","v":48901.728058000008},{"$f":"OFFSET(Renovable!H43,0,($J$1-1)*8)","v":5970.5410169999996},{"$f":"OFFSET(Renovable!I43,0,($J$1-1)*8)","v":"-"},{"$f":"OFFSET(Renovable!J43,0,($J$1-1)*8)","v":"-"}]
[null,"Solar fotovoltaica",{"$f":"OFFSET(Renovable!C44,0,($J$1-1)*8)","v":7802.7909199999995},{"$f":"OFFSET(Renovable!D44,0,($J$1-1)*8)","v":7845.3145369999993},{"$f":"OFFSET(Renovable!E44,0,($J$1-1)*8)","v":7579.2182119999998},{"$f":"OFFSET(Renovable!F44,0,($J$1-1)*8)","v":8000.7121639999987},{"$f":"OFFSET(Renovable!G44,0,($J$1-1)*8)","v":7362.7444519999999},{"$f":"OFFSET(Renovable!H44,0,($J$1-1)*8)","v":476.80772400000001},{"$f":"OFFSET(Renovable!I44,0,($J$1-1)*8)","v":"-"},{"$f":"OFFSET(Renovable!J44,0,($J$1-1)*8)","v":"-"}]
[null,"Solar térmica",{"$f":"OFFSET(Renovable!C45,0,($J$1-1)*8)","v":4958.9149259999995},{"$f":"OFFSET(Renovable!D45,0,($J$1-1)*8)","v":5085.235514},{"$f":"OFFSET(Renovable!E45,0,($J$1-1)*8)","v":5071.2017019999994},{"$f":"OFFSET(Renovable!F45,0,($J$1-1)*8)","v":5347.9524650000003},{"$f":"OFFSET(Renovable!G45,0,($J$1-1)*8)","v":4424.3286090000001},{"$f":"OFFSET(Renovable!H45,0,($J$1-1)*8)","v":166.15013300000001},{"$f":"OFFSET(Renovable!I45,0,($J$1-1)*8)","v":"-"},{"$f":"OFFSET(Renovable!J45,0,($J$1-1)*8)","v":"-"}]
[null,"Térmica renovable (3)/Otras renovables (4)",{"$f":"OFFSET(Renovable!C46,0,($J$1-1)*8)","v":3805.563474},{"$f":"OFFSET(Renovable!D46,0,($J$1-1)*8)","v":3422.5667469999999},{"$f":"OFFSET(Renovable!E46,0,($J$1-1)*8)","v":3415.0193380000001},{"$f":"OFFSET(Renovable!F46,0,($J$1-1)*8)","v":3599.1558820000005},{"$f":"OFFSET(Renovable!G46,0,($J$1-1)*8)","v":3546.1180209999993},{"$f":"OFFSET(Renovable!H46,0,($J$1-1)*8)","v":303.39382699999999},{"$f":"OFFSET(Renovable!I46,0,($J$1-1)*8)","v":"-"},{"$f":"OFFSET(Renovable!J46,0,($J$1-1)*8)","v":"-"}]
[null,"Residuos renovables (5)",{"$f":"OFFSET(Renovable!C47,0,($J$1-1)*8)","v":545.53808600000002},{"$f":"OFFSET(Renovable!D47,0,($J$1-1)*8)","v":662.65547500000002},{"$f":"OFFSET(Renovable!E47,0,($J$1-1)*8)","v":649.73991049999995},{"$f":"OFFSET(Renovable!F47,0,($J$1-1)*8)","v":728.15043300000002},{"$f":"OFFSET(Renovable!G47,0,($J$1-1)*8)","v":732.97066150000001},{"$f":"OFFSET(Renovable!H47,0,($J$1-1)*8)","v":63.503646000000003},{"$f":"OFFSET(Renovable!I47,0,($J$1-1)*8)","v":"-"},{"$f":"OFFSET(Renovable!J47,0,($J$1-1)*8)","v":"-"}]
[null,"Generación renovable",{"$f":"IF(SUM(C10:C15)=0,\"-\",SUM(C10:C15))","v":106927.994029204},{"$f":"IF(SUM(D10:D15)=0,\"-\",SUM(D10:D15))","v":93110.66598885},100124.777196272,83631.423667659998,99064.686587372009,9106.176514255998,"-","-"]
[null,"(1) Asignación de unidades de producción según combustible principal."]
[null,"(2) No incluye la generación bombeo."]
[null,"(3) Incluye residuos hasta el 31/12/2014."]
[null,"(4) Otras renovables incluyen biogás, biomasa, hidráulica marina y geotérmica."]
[null,"(5) El 50% de la generación procedente de residuos sólidos urbanos se considera renovable."]
[null,{"$f":"'Renovable año nacional'!B23:J23","v":"    Para el año 2019 valores acumulados hasta enero de 2019."}]

{"sheet":"Renovable mes Baleares","index":5,"n_rows":17,"n_cols":15,"rows_kept":17,"cut":false,"hidden":false,"merged":[[5,2,5,9],[14,1,14,14],[15,1,15,14],[16,1,16,14]]}
[null,null,null,null,null,null,null,null,null,null,null,null,null,null,14]
[]
[null,null,null,null,null,null,null,null,null,null,null,null,"Concepto"]
[null,null,null,null,null,null,null,null,null,null,null,null,"Sistema eléctrico"]
[null,null,null,null,null,null,null,null,null,null,null,null,"Horizonte temporal"]
[null,null,null,null,null,null,null,null,null,null,null,null,"Periodo"]
[]
[null,null,"Ene.","Feb.","Mar.","Abr.","May.","Jun.","Jul.","Ago.","Sep.","Oct.","Nov.","Dic.",{"$f":"OFFSET(Año!B18,($O$1-1),0)","v":2019}]
[]
[null,"Eólica",{"$f":"OFFSET(Renovable!C12,0,($O$1-1)*12)","v":805.42700000000002},{"$f":"OFFSET(Renovable!D12,0,($O$1-1)*12)","v":"-"},{"$f":"OFFSET(Renovable!E12,0,($O$1-1)*12)","v":"-"},{"$f":"OFFSET(Renovable!F12,0,($O$1-1)*12)","v":"-"},{"$f":"OFFSET(Renovable!G12,0,($O$1-1)*12)","v":"-"},{"$f":"OFFSET(Renovable!H12,0,($O$1-1)*12)","v":"-"},{"$f":"OFFSET(Renovable!I12,0,($O$1-1)*12)","v":"-"},{"$f":"OFFSET(Renovable!J12,0,($O$1-1)*12)","v":"-"},{"$f":"OFFSET(Renovable!K12,0,($O$1-1)*12)","v":"-"},{"$f":"OFFSET(Renovable!L12,0,($O$1-1)*12)","v":"-"},{"$f":"OFFSET(Renovable!M12,0,($O$1-1)*12)","v":"-"},{"$f":"OFFSET(Renovable!N12,0,($O$1-1)*12)","v":"-"},{"$f":"IF(SUM(C10:N10)=0,\"-\",SUM(C10:N10))","v":805.42700000000002}]
[null,"Solar fotovoltaica",{"$f":"OFFSET(Renovable!C13,0,($O$1-1)*12)","v":7209.6450000000004},{"$f":"OFFSET(Renovable!D13,0,($O$1-1)*12)","v":"-"},{"$f":"OFFSET(Renovable!E13,0,($O$1-1)*12)","v":"-"},{"$f":"OFFSET(Renovable!F13,0,($O$1-1)*12)","v":"-"},{"$f":"OFFSET(Renovable!G13,0,($O$1-1)*12)","v":"-"},{"$f":"OFFSET(Renovable!H13,0,($O$1-1)*12)","v":"-"},{"$f":"OFFSET(Renovable!I13,0,($O$1-1)*12)","v":"-"},{"$f":"OFFSET(Renovable!J13,0,($O$1-1)*12)","v":"-"},{"$f":"OFFSET(Renovable!K13,0,($O$1-1)*12)","v":"-"},{"$f":"OFFSET(Renovable!L13,0,($O$1-1)*12)","v":"-"},{"$f":"OFFSET(Renovable!M13,0,($O$1-1)*12)","v":"-"},{"$f":"OFFSET(Renovable!N13,0,($O$1-1)*12)","v":"-"},{"$f":"IF(SUM(C11:N11)=0,\"-\",SUM(C11:N11))","v":7209.6450000000004}]
[null,"Térmica renovable/Otras renovables (2)",{"$f":"OFFSET(Renovable!C14,0,($O$1-1)*12)","v":107.643},{"$f":"OFFSET(Renovable!D14,0,($O$1-1)*12)","v":"-"},{"$f":"OFFSET(Renovable!E14,0,($O$1-1)*12)","v":"-"},{"$f":"OFFSET(Renovable!F14,0,($O$1-1)*12)","v":"-"},{"$f":"OFFSET(Renovable!G14,0,($O$1-1)*12)","v":"-"},{"$f":"OFFSET(Renovable!H14,0,($O$1-1)*12)","v":"-"},{"$f":"OFFSET(Renovable!I14,0,($O$1-1)*12)","v":"-"},{"$f":"OFFSET(Renovable!J14,0,($O$1-1)*12)","v":"-"},{"$f":"OFFSET(Renovable!K14,0,($O$1-1)*12)","v":"-"},{"$f":"OFFSET(Renovable!L14,0,($O$1-1)*12)","v":"-"},{"$f":"OFFSET(Renovable!M14,0,($O$1-1)*12)","v":"-"},{"$f":"OFFSET(Renovable!N14,0,($O$1-1)*12)","v":"-"},{"$f":"IF(SUM(C12:N12)=0,\"-\",SUM(C12:N12))","v":107.643}]
[null,"Residuos renovables (3)",{"$f":"OFFSET(Renovable!C15,0,($O$1-1)*12)","v":9560.5395000000008},{"$f":"OFFSET(Renovable!D15,0,($O$1-1)*12)","v":"-"},{"$f":"OFFSET(Renovable!E15,0,($O$1-1)*12)","v":"-"},{"$f":"OFFSET(Renovable!F15,0,($O$1-1)*12)","v":"-"},{"$f":"OFFSET(Renovable!G15,0,($O$1-1)*12)","v":"-"},{"$f":"OFFSET(Renovable!H15,0,($O$1-1)*12)","v":"-"},{"$f":"OFFSET(Renovable!I15,0,($O$1-1)*12)","v":"-"},{"$f":"OFFSET(Renovable!J15,0,($O$1-1)*12)","v":"-"},{"$f":"OFFSET(Renovable!K15,0,($O$1-1)*12)","v":"-"},{"$f":"OFFSET(Renovable!L15,0,($O$1-1)*12)","v":"-"},{"$f":"OFFSET(Renovable!M15,0,($O$1-1)*12)","v":"-"},{"$f":"OFFSET(Renovable!N15,0,($O$1-1)*12)","v":"-"},{"$f":"IF(SUM(C13:N13)=0,\"-\",SUM(C13:N13))","v":9560.5395000000008}]
[null,"Generación renovable",{"$f":"IF(SUM(C10:C13)=0,\"-\",SUM(C10:C13))","v":17683.254500000003},{"$f":"IF(SUM(D10:D13)=0,\"-\",SUM(D10:D13))","v":"-"},"-","-","-","-","-","-","-","-","-","-",{"$f":"IF(SUM(O10:O13)=0,\"-\",SUM(O10:O13))","v":17683.254500000003}]
[null,"(1) Asignación de unidades de producción según combustible principal."]
[null,"(2) Otras renovables incluyen biogás y biomasa."]
[null,"(3) El 50% de la generación procedente de residuos sólidos urbanos se considera renovable."]

{"sheet":"Renovable año Baleares","index":6,"n_rows":18,"n_cols":10,"rows_kept":18,"cut":false,"hidden":false,"merged":[[14,1,14,9],[15,1,15,14],[17,1,17,9],[16,1,16,14]]}
[null,null,null,null,null,null,null,null,null,2]
[]
[null,null,null,null,null,null,null,"Concepto"]
[null,null,null,null,null,null,null,"Sistema eléctrico"]
[null,null,null,null,null,null,null,"Horizonte temporal"]
[null,null,null,null,null,null,null,"Periodo"]
[]
[null,null,{"$f":"OFFSET(Renovable!C50,0,($J$1-1)*8)","v":2014},{"$f":"OFFSET(Renovable!D50,0,($J$1-1)*8)","v":2015},{"$f":"OFFSET(Renovable!E50,0,($J$1-1)*8)","v":2016},{"$f":"OFFSET(Renovable!F50,0,($J$1-1)*8)","v":2017},{"$f":"OFFSET(Renovable!G50,0,($J$1-1)*8)","v":2018},{"$f":"OFFSET(Renovable!H50,0,($J$1-1)*8)","v":2019},{"$f":"OFFSET(Renovable!I50,0,($J$1-1)*8)","v":2020},{"$f":"OFFSET(Renovable!J50,0,($J$1-1)*8)","v":2021}]
[]
[null,"Eólica",{"$f":"OFFSET(Renovable!C51,0,($J$1-1)*8)","v":5839.5779999999995},{"$f":"OFFSET(Renovable!D51,0,($J$1-1)*8)","v":5318.2280000000001},{"$f":"OFFSET(Renovable!E51,0,($J$1-1)*8)","v":5416.058},{"$f":"OFFSET(Renovable!F51,0,($J$1-1)*8)","v":2924.2759999999998},{"$f":"OFFSET(Renovable!G51,0,($J$1-1)*8)","v":3757.1709999999998},{"$f":"OFFSET(Renovable!H51,0,($J$1-1)*8)","v":805.42700000000002},{"$f":"OFFSET(Renovable!I51,0,($J$1-1)*8)","v":"-"},{"$f":"OFFSET(Renovable!J51,0,($J$1-1)*8)","v":"-"}]
[null,"Solar fotovoltaica",{"$f":"OFFSET(Renovable!C52,0,($J$1-1)*8)","v":122765.68900000001},{"$f":"OFFSET(Renovable!D52,0,($J$1-1)*8)","v":122619.80299999999},{"$f":"OFFSET(Renovable!E52,0,($J$1-1)*8)","v":120507.53},{"$f":"OFFSET(Renovable!F52,0,($J$1-1)*8)","v":123336.99499999998},{"$f":"OFFSET(Renovable!G52,0,($J$1-1)*8)","v":112251.64200000001},{"$f":"OFFSET(Renovable!H52,0,($J$1-1)*8)","v":7209.6450000000004},{"$f":"OFFSET(Renovable!I52,0,($J$1-1)*8)","v":"-"},{"$f":"OFFSET(Renovable!J52,0,($J$1-1)*8)","v":"-"}]
[null,"Térmica renovable/Otras renovables (2)",{"$f":"OFFSET(Renovable!C53,0,($J$1-1)*8)","v":1945.6589999999999},{"$f":"OFFSET(Renovable!D53,0,($J$1-1)*8)","v":1971.549},{"$f":"OFFSET(Renovable!E53,0,($J$1-1)*8)","v":1309.7150000000001},{"$f":"OFFSET(Renovable!F53,0,($J$1-1)*8)","v":1626.7410000000002},{"$f":"OFFSET(Renovable!G53,0,($J$1-1)*8)","v":1332.595},{"$f":"OFFSET(Renovable!H53,0,($J$1-1)*8)","v":107.643},{"$f":"OFFSET(Renovable!I53,0,($J$1-1)*8)","v":"-"},{"$f":"OFFSET(Renovable!J53,0,($J$1-1)*8)","v":"-"}]
[null,"Residuos renovables (3)",{"$f":"OFFSET(Renovable!C54,0,($J$1-1)*8)","v":128084.32949999999},{"$f":"OFFSET(Renovable!D54,0,($J$1-1)*8)","v":151097.72949999999},{"$f":"OFFSET(Renovable!E54,0,($J$1-1)*8)","v":130805.0665},{"$f":"OFFSET(Renovable!F54,0,($J$1-1)*8)","v":143878.66800000001},{"$f":"OFFSET(Renovable!G54,0,($J$1-1)*8)","v":135757.74450000003},{"$f":"OFFSET(Renovable!H54,0,($J$1-1)*8)","v":9560.5395000000008},{"$f":"OFFSET(Renovable!I54,0,($J$1-1)*8)","v":"-"},{"$f":"OFFSET(Renovable!J54,0,($J$1-1)*8)","v":"-"}]
[null,"Generación renovable",{"$f":"IF(SUM(C10:C13)=0,\"-\",SUM(C10:C13))","v":258635.2555},{"$f":"IF(SUM(D10:D13)=0,\"-\",SUM(D10:D13))","v":281007.30949999997},258038.3695,271766.68,253099.15250000003,17683.254500000003,"-","-"]
[null,"(1) Asignación de unidades de producción según combustible principal."]
[null,"(2) Otras renovables incluyen biogás y biomasa."]
[null,"(3) El 50% de la generación procedente de residuos sólidos urbanos se considera renovable."]
[null,{"$f":"'Renovable año nacional'!B23:J23","v":"    Para el año 2019 valores acumulados hasta enero de 2019."}]

{"sheet":"Renovable mes Canarias","index":7,"n_rows":17,"n_cols":15,"rows_kept":17,"cut":false,"hidden":false,"merged":[[5,2,5,9],[15,1,15,14],[16,1,16,14]]}
[null,null,null,null,null,null,null,null,null,null,null,null,null,null,14]
[]
[null,null,null,null,null,null,null,null,null,null,null,null,"Concepto"]
[null,null,null,null,null,null,null,null,null,null,null,null,"Sistema eléctrico"]
[null,null,null,null,null,null,null,null,null,null,null,null,"Horizonte temporal"]
[null,null,null,null,null,null,null,null,null,null,null,null,"Periodo"]
[]
[null,null,"Ene.","Feb.","Mar.","Abr.","May.","Jun.","Jul.","Ago.","Sep.","Oct.","Nov.","Dic.",{"$f":"OFFSET(Año!B18,($O$1-1),0)","v":2019}]
[]
[null,"Hidráulica",{"$f":"OFFSET(Renovable!C19,0,($O$1-1)*12)","v":292.916},{"$f":"OFFSET(Renovable!D19,0,($O$1-1)*12)","v":"-"},{"$f":"OFFSET(Renovable!E19,0,($O$1-1)*12)","v":"-"},{"$f":"OFFSET(Renovable!F19,0,($O$1-1)*12)","v":"-"},{"$f":"OFFSET(Renovable!G19,0,($O$1-1)*12)","v":"-"},{"$f":"OFFSET(Renovable!H19,0,($O$1-1)*12)","v":"-"},{"$f":"OFFSET(Renovable!I19,0,($O$1-1)*12)","v":"-"},{"$f":"OFFSET(Renovable!J19,0,($O$1-1)*12)","v":"-"},{"$f":"OFFSET(Renovable!K19,0,($O$1-1)*12)","v":"-"},{"$f":"OFFSET(Renovable!L19,0,($O$1-1)*12)","v":"-"},{"$f":"OFFSET(Renovable!M19,0,($O$1-1)*12)","v":"-"},{"$f":"OFFSET(Renovable!N19,0,($O$1-1)*12)","v":"-"},{"$f":"IF(SUM(C10:N10)=0,\"-\",SUM(C10:N10))","v":292.916}]
[null,"Hidroeólica",{"$f":"OFFSET(Renovable!C20,0,($O$1-1)*12)","v":1109.6559999999999},{"$f":"OFFSET(Renovable!D20,0,($O$1-1)*12)","v":"-"},{"$f":"OFFSET(Renovable!E20,0,($O$1-1)*12)","v":"-"},{"$f":"OFFSET(Renovable!F20,0,($O$1-1)*12)","v":"-"},{"$f":"OFFSET(Renovable!G20,0,($O$1-1)*12)","v":"-"},{"$f":"OFFSET(Renovable!H20,0,($O$1-1)*12)","v":"-"},{"$f":"OFFSET(Renovable!I20,0,($O$1-1)*12)","v":"-"},{"$f":"OFFSET(Renovable!J20,0,($O$1-1)*12)","v":"-"},{"$f":"OFFSET(Renovable!K20,0,($O$1-1)*12)","v":"-"},{"$f":"OFFSET(Renovable!L20,0,($O$1-1)*12)","v":"-"},{"$f":"OFFSET(Renovable!M20,0,($O$1-1)*12)","v":"-"},{"$f":"OFFSET(Renovable!N20,0,($O$1-1)*12)","v":"-"},1109.6559999999999]
[null,"Eólica",{"$f":"OFFSET(Renovable!C21,0,($O$1-1)*12)","v":55782.074999999997},{"$f":"OFFSET(Renovable!D21,0,($O$1-1)*12)","v":"-"},{"$f":"OFFSET(Renovable!E21,0,($O$1-1)*12)","v":"-"},{"$f":"OFFSET(Renovable!F21,0,($O$1-1)*12)","v":"-"},{"$f":"OFFSET(Renovable!G21,0,($O$1-1)*12)","v":"-"},{"$f":"OFFSET(Renovable!H21,0,($O$1-1)*12)","v":"-"},{"$f":"OFFSET(Renovable!I21,0,($O$1-1)*12)","v":"-"},{"$f":"OFFSET(Renovable!J21,0,($O$1-1)*12)","v":"-"},{"$f":"OFFSET(Renovable!K21,0,($O$1-1)*12)","v":"-"},{"$f":"OFFSET(Renovable!L21,0,($O$1-1)*12)","v":"-"},{"$f":"OFFSET(Renovable!M21,0,($O$1-1)*12)","v":"-"},{"$f":"OFFSET(Renovable!N21,0,($O$1-1)*12)","v":"-"},55782.074999999997]
[null,"Solar fotovoltaica",{"$f":"OFFSET(Renovable!C22,0,($O$1-1)*12)","v":17483.564999999999},{"$f":"OFFSET(Renovable!D22,0,($O$1-1)*12)","v":"-"},{"$f":"OFFSET(Renovable!E22,0,($O$1-1)*12)","v":"-"},{"$f":"OFFSET(Renovable!F22,0,($O$1-1)*12)","v":"-"},{"$f":"OFFSET(Renovable!G22,0,($O$1-1)*12)","v":"-"},{"$f":"OFFSET(Renovable!H22,0,($O$1-1)*12)","v":"-"},{"$f":"OFFSET(Renovable!I22,0,($O$1-1)*12)","v":"-"},{"$f":"OFFSET(Renovable!J22,0,($O$1-1)*12)","v":"-"},{"$f":"OFFSET(Renovable!K22,0,($O$1-1)*12)","v":"-"},{"$f":"OFFSET(Renovable!L22,0,($O$1-1)*12)","v":"-"},{"$f":"OFFSET(Renovable!M22,0,($O$1-1)*12)","v":"-"},{"$f":"OFFSET(Renovable!N22,0,($O$1-1)*12)","v":"-"},17483.564999999999]
[null,"Térmica renovable/Otras renovables (2)",{"$f":"OFFSET(Renovable!C23,0,($O$1-1)*12)","v":963.32899999999995},{"$f":"OFFSET(Renovable!D23,0,($O$1-1)*12)","v":"-"},{"$f":"OFFSET(Renovable!E23,0,($O$1-1)*12)","v":"-"},{"$f":"OFFSET(Renovable!F23,0,($O$1-1)*12)","v":"-"},{"$f":"OFFSET(Renovable!G23,0,($O$1-1)*12)","v":"-"},{"$f":"OFFSET(Renovable!H23,0,($O$1-1)*12)","v":"-"},{"$f":"OFFSET(Renovable!I23,0,($O$1-1)*12)","v":"-"},{"$f":"OFFSET(Renovable!J23,0,($O$1-1)*12)","v":"-"},{"$f":"OFFSET(Renovable!K23,0,($O$1-1)*12)","v":"-"},{"$f":"OFFSET(Renovable!L23,0,($O$1-1)*12)","v":"-"},{"$f":"OFFSET(Renovable!M23,0,($O$1-1)*12)","v":"-"},{"$f":"OFFSET(Renovable!N23,0,($O$1-1)*12)","v":"-"},963.32899999999995]
[null,"Generación renovable",{"$f":"IF(SUM(C10:C14)=0,\"-\",SUM(C10:C14))","v":75631.540999999997},{"$f":"IF(SUM(D10:D14)=0,\"-\",SUM(D10:D14))","v":"-"},"-","-","-","-","-","-","-","-","-","-",75631.540999999997]
[null,"(1) Asignación de unidades de producción según combustible principal."]
[null,"(2) Otras renovables incluyen biogás y biomasa."]

{"sheet":"Renovable año Canarias","index":8,"n_rows":18,"n_cols":10,"rows_kept":18,"cut":false,"hidden":false,"merged":[[15,1,15,9],[16,1,16,14],[17,1,17,9]]}
[null,null,null,null,null,null,null,null,null,2]
[]
[null,null,null,null,null,null,null,"Concepto"]
[null,null,null,null,null,null,null,"Sistema eléctrico"]
[null,null,null,null,null,null,null,"Horizonte temporal"]
[null,null,null,null,null,null,null,"Periodo"]
[]
[null,null,{"$f":"OFFSET(Renovable!C57,0,($J$1-1)*8)","v":2014},{"$f":"OFFSET(Renovable!D57,0,($J$1-1)*8)","v":2015},{"$f":"OFFSET(Renovable!E57,0,($J$1-1)*8)","v":2016},{"$f":"OFFSET(Renovable!F57,0,($J$1-1)*8)","v":2017},{"$f":"OFFSET(Renovable!G57,0,($J$1-1)*8)","v":2018},{"$f":"OFFSET(Renovable!H57,0,($J$1-1)*8)","v":2019},{"$f":"OFFSET(Renovable!I57,0,($J$1-1)*8)","v":2020},{"$f":"OFFSET(Renovable!J57,0,($J$1-1)*8)","v":2021}]
[]
[null,"Hidráulica",{"$f":"OFFSET(Renovable!C58,0,($J$1-1)*8)","v":3461.0559999999996},{"$f":"OFFSET(Renovable!D58,0,($J$1-1)*8)","v":3568.393},{"$f":"OFFSET(Renovable!E58,0,($J$1-1)*8)","v":3453.9609999999993},{"$f":"OFFSET(Renovable!F58,0,($J$1-1)*8)","v":3271.9790000000003},{"$f":"OFFSET(Renovable!G58,0,($J$1-1)*8)","v":3275.9090000000006},{"$f":"OFFSET(Renovable!H58,0,($J$1-1)*8)","v":292.916},{"$f":"OFFSET(Renovable!I58,0,($J$1-1)*8)","v":"-"},{"$f":"OFFSET(Renovable!J58,0,($J$1-1)*8)","v":"-"}]
[null,"Hidroeólica",{"$f":"OFFSET(Renovable!C59,0,($J$1-1)*8)","v":728.83699999999999},{"$f":"OFFSET(Renovable!D59,0,($J$1-1)*8)","v":8207.4240000000009},{"$f":"OFFSET(Renovable!E59,0,($J$1-1)*8)","v":17891.935999999998},{"$f":"OFFSET(Renovable!F59,0,($J$1-1)*8)","v":20233.057000000001},{"$f":"OFFSET(Renovable!G59,0,($J$1-1)*8)","v":23655.544000000002},{"$f":"OFFSET(Renovable!H59,0,($J$1-1)*8)","v":1109.6559999999999},{"$f":"OFFSET(Renovable!I59,0,($J$1-1)*8)","v":"-"},{"$f":"OFFSET(Renovable!J59,0,($J$1-1)*8)","v":"-"}]
[null,"Eólica",{"$f":"OFFSET(Renovable!C60,0,($J$1-1)*8)","v":389528.80599999998},{"$f":"OFFSET(Renovable!D60,0,($J$1-1)*8)","v":396687.14299999998},{"$f":"OFFSET(Renovable!E60,0,($J$1-1)*8)","v":393080.58299999998},{"$f":"OFFSET(Renovable!F60,0,($J$1-1)*8)","v":395925.33299999993},{"$f":"OFFSET(Renovable!G60,0,($J$1-1)*8)","v":620570.70399999991},{"$f":"OFFSET(Renovable!H60,0,($J$1-1)*8)","v":55782.074999999997},{"$f":"OFFSET(Renovable!I60,0,($J$1-1)*8)","v":"-"},{"$f":"OFFSET(Renovable!J60,0,($J$1-1)*8)","v":"-"}]
[null,"Solar fotovoltaica",{"$f":"OFFSET(Renovable!C61,0,($J$1-1)*8)","v":282285.68899999995},{"$f":"OFFSET(Renovable!D61,0,($J$1-1)*8)","v":275546.60499999998},{"$f":"OFFSET(Renovable!E61,0,($J$1-1)*8)","v":277661.34299999999},{"$f":"OFFSET(Renovable!F61,0,($J$1-1)*8)","v":273626.66499999998},{"$f":"OFFSET(Renovable!G61,0,($J$1-1)*8)","v":271613.212},{"$f":"OFFSET(Renovable!H61,0,($J$1-1)*8)","v":17483.564999999999},{"$f":"OFFSET(Renovable!I61,0,($J$1-1)*8)","v":"-"},{"$f":"OFFSET(Renovable!J61,0,($J$1-1)*8)","v":"-"}]
[null,"Térmica renovable/Otras renovables (2)",{"$f":"OFFSET(Renovable!C62,0,($J$1-1)*8)","v":8806.5839999999989},{"$f":"OFFSET(Renovable!D62,0,($J$1-1)*8)","v":8053.625},{"$f":"OFFSET(Renovable!E62,0,($J$1-1)*8)","v":9335.7749999999996},{"$f":"OFFSET(Renovable!F62,0,($J$1-1)*8)","v":9565.259},{"$f":"OFFSET(Renovable!G62,0,($J$1-1)*8)","v":8931.5969999999998},{"$f":"OFFSET(Renovable!H62,0,($J$1-1)*8)","v":963.32899999999995},{"$f":"OFFSET(Renovable!I62,0,($J$1-1)*8)","v":"-"},{"$f":"OFFSET(Renovable!J62,0,($J$1-1)*8)","v":"-"}]
[null,"Generación renovable",{"$f":"IF(SUM(C10:C14)=0,\"-\",SUM(C10:C14))","v":684810.97199999995},{"$f":"IF(SUM(D10:D14)=0,\"-\",SUM(D10:D14))","v":692063.19},701423.598,702622.29299999995,928046.9659999999,75631.540999999997,"-","-"]
[null,"(1) Asignación de unidades de producción según combustible principal."]
[null,"(2) Otras renovables incluyen biogás y biomasa."]
[null,{"$f":"'Renovable año nacional'!B23:J23","v":"    Para el año 2019 valores acumulados hasta enero de 2019."}]

{"sheet":"Renovable mes Melilla","index":9,"n_rows":14,"n_cols":15,"rows_kept":14,"cut":false,"hidden":false,"merged":[[5,2,5,9],[12,1,12,14],[13,1,13,14]]}
[null,null,null,null,null,null,null,null,null,null,null,null,null,null,13]
[]
[null,null,null,null,null,null,null,null,null,null,null,null,"Concepto"]
[null,null,null,null,null,null,null,null,null,null,null,null,"Sistema eléctrico"]
[null,null,null,null,null,null,null,null,null,null,null,null,"Horizonte temporal"]
[null,null,null,null,null,null,null,null,null,null,null,null,"Periodo"]
[]
[null,null,"Ene.","Feb.","Mar.","Abr.","May.","Jun.","Jul.","Ago.","Sep.","Oct.","Nov.","Dic.",{"$f":"OFFSET(Año!B19,($O$1-1),0)","v":2019}]
[]
[null,"Solar fotovoltaica",{"$f":"OFFSET(Renovable!C27,0,($O$1-1)*12)","v":5.0529999999999999},{"$f":"OFFSET(Renovable!D27,0,($O$1-1)*12)","v":"-"},{"$f":"OFFSET(Renovable!E27,0,($O$1-1)*12)","v":"-"},{"$f":"OFFSET(Renovable!F27,0,($O$1-1)*12)","v":"-"},{"$f":"OFFSET(Renovable!G27,0,($O$1-1)*12)","v":"-"},{"$f":"OFFSET(Renovable!H27,0,($O$1-1)*12)","v":"-"},{"$f":"OFFSET(Renovable!I27,0,($O$1-1)*12)","v":"-"},{"$f":"OFFSET(Renovable!J27,0,($O$1-1)*12)","v":"-"},{"$f":"OFFSET(Renovable!K27,0,($O$1-1)*12)","v":"-"},{"$f":"OFFSET(Renovable!L27,0,($O$1-1)*12)","v":"-"},{"$f":"OFFSET(Renovable!M27,0,($O$1-1)*12)","v":"-"},{"$f":"OFFSET(Renovable!N27,0,($O$1-1)*12)","v":"-"},{"$f":"IF(SUM(C10:N10)=0,\"-\",SUM(C10:N10))","v":5.0529999999999999}]
[null,"Residuos renovables (2)",{"$f":"OFFSET(Renovable!C28,0,($O$1-1)*12)","v":549.42399999999998},{"$f":"OFFSET(Renovable!D28,0,($O$1-1)*12)","v":"-"},{"$f":"OFFSET(Renovable!E28,0,($O$1-1)*12)","v":"-"},{"$f":"OFFSET(Renovable!F28,0,($O$1-1)*12)","v":"-"},{"$f":"OFFSET(Renovable!G28,0,($O$1-1)*12)","v":"-"},{"$f":"OFFSET(Renovable!H28,0,($O$1-1)*12)","v":"-"},{"$f":"OFFSET(Renovable!I28,0,($O$1-1)*12)","v":"-"},{"$f":"OFFSET(Renovable!J28,0,($O$1-1)*12)","v":"-"},{"$f":"OFFSET(Renovable!K28,0,($O$1-1)*12)","v":"-"},{"$f":"OFFSET(Renovable!L28,0,($O$1-1)*12)","v":"-"},{"$f":"OFFSET(Renovable!M28,0,($O$1-1)*12)","v":"-"},{"$f":"OFFSET(Renovable!N28,0,($O$1-1)*12)","v":"-"},{"$f":"IF(SUM(C11:N11)=0,\"-\",SUM(C11:N11))","v":549.42399999999998}]
[null,"Generación renovable",{"$f":"IF(SUM(C10:C11)=0,\"-\",SUM(C10:C11))","v":554.47699999999998},"-","-","-","-",{"$f":"IF(SUM(H10:H11)=0,\"-\",SUM(H10:H11))","v":"-"},{"$f":"IF(SUM(I10:I11)=0,\"-\",SUM(I10:I11))","v":"-"},"-","-","-","-","-",{"$f":"SUM(O10:O11)","v":554.47699999999998}]
[null,"(1) Asignación de unidades de producción según combustible principal."]
[null,"(2) El 50% de la generación procedente de residuos sólidos urbanos se considera renovable."]

{"sheet":"Renovable año Melilla","index":10,"n_rows":15,"n_cols":10,"rows_kept":15,"cut":false,"hidden":false,"merged":[[12,1,12,9],[14,1,14,9],[13,1,13,14]]}
[null,null,null,null,null,null,null,null,null,2]
[]
[null,null,null,null,null,null,null,"Concepto"]
[null,null,null,null,null,null,null,"Sistema eléctrico"]
[null,null,null,null,null,null,null,"Horizonte temporal"]
[null,null,null,null,null,null,null,"Periodo"]
[]
[null,null,{"$f":"OFFSET(Renovable!C65,0,($J$1-1)*8)","v":2015},{"$f":"OFFSET(Renovable!D65,0,($J$1-1)*8)","v":2016},{"$f":"OFFSET(Renovable!E65,0,($J$1-1)*8)","v":2017},{"$f":"OFFSET(Renovable!F65,0,($J$1-1)*8)","v":2018},{"$f":"OFFSET(Renovable!G65,0,($J$1-1)*8)","v":2019},{"$f":"OFFSET(Renovable!H65,0,($J$1-1)*8)","v":2020},{"$f":"OFFSET(Renovable!I65,0,($J$1-1)*8)","v":2021},{"$f":"OFFSET(Renovable!J65,0,($J$1-1)*8)","v":2022}]
[]
[null,"Solar fotovoltaica",{"$f":"OFFSET(Renovable!C66,0,($J$1-1)*8)","v":79.959999999999994},{"$f":"OFFSET(Renovable!D66,0,($J$1-1)*8)","v":80.09999999999998},{"$f":"OFFSET(Renovable!E66,0,($J$1-1)*8)","v":76.868999999999986},{"$f":"OFFSET(Renovable!F66,0,($J$1-1)*8)","v":74.611000000000004},{"$f":"OFFSET(Renovable!G66,0,($J$1-1)*8)","v":5.0529999999999999},{"$f":"OFFSET(Renovable!H66,0,($J$1-1)*8)","v":"-"},{"$f":"OFFSET(Renovable!I66,0,($J$1-1)*8)","v":"-"},{"$f":"OFFSET(Renovable!J66,0,($J$1-1)*8)","v":"-"}]
[null,"Residuos renovables (2)",{"$f":"OFFSET(Renovable!C67,0,($J$1-1)*8)","v":4296.4980000000005},{"$f":"OFFSET(Renovable!D67,0,($J$1-1)*8)","v":4850.0525000000016},{"$f":"OFFSET(Renovable!E67,0,($J$1-1)*8)","v":4976.9860000000008},{"$f":"OFFSET(Renovable!F67,0,($J$1-1)*8)","v":5346.8390000000009},{"$f":"OFFSET(Renovable!G67,0,($J$1-1)*8)","v":549.42399999999998},{"$f":"OFFSET(Renovable!H67,0,($J$1-1)*8)","v":"-"},{"$f":"OFFSET(Renovable!I67,0,($J$1-1)*8)","v":"-"},{"$f":"OFFSET(Renovable!J67,0,($J$1-1)*8)","v":"-"}]
[null,"Generación renovable",{"$f":"IF(SUM(C10:C11)>0,SUM(C10:C11),\"-\")","v":4376.4580000000005},{"$f":"IF(SUM(D10:D11)>0,SUM(D10:D11),\"-\")","v":4930.152500000002},5053.8550000000005,5421.4500000000007,554.47699999999998,"-","-","-"]
[null,"(1) Asignación de unidades de producción según combustible principal."]
[null,"(2) El 50% de la generación procedente de residuos sólidos urbanos se considera renovable."]
[null,{"$f":"'Renovable año nacional'!B23:J23","v":"    Para el año 2019 valores acumulados hasta enero de 2019."}]

{"sheet":"% Renovable mes nacional","index":11,"n_rows":22,"n_cols":15,"rows_kept":22,"cut":false,"hidden":false,"merged":[[21,1,21,14],[5,2,5,9],[17,1,17,14],[18,1,18,14],[19,1,19,14],[20,1,20,14]]}
[null,null,null,null,null,null,null,null,null,null,null,null,null,null,13]
[]
[null,null,null,null,null,null,null,null,null,null,null,null,"Concepto"]
[null,null,null,null,null,null,null,null,null,null,null,null,"Sistema eléctrico"]
[null,null,null,null,null,null,null,null,null,null,null,null,"Horizonte temporal"]
[null,null,null,null,null,null,null,null,null,null,null,null,"Periodo"]
[]
[null,null,"Ene.","Feb.","Mar.","Abr.","May.","Jun.","Jul.","Ago.","Sep.","Oct.","Nov.","Dic.",{"$f":"OFFSET(Año!B19,($O$1-1),0)","v":2019}]
[]
[null,"Hidráulica (2)",{"$f":"OFFSET(Renovable!C110,0,($O$1-1)*12)","v":8.6999999999999993},{"$f":"OFFSET(Renovable!D110,0,($O$1-1)*12)","v":"-"},{"$f":"OFFSET(Renovable!E110,0,($O$1-1)*12)","v":"-"},{"$f":"OFFSET(Renovable!F110,0,($O$1-1)*12)","v":"-"},{"$f":"OFFSET(Renovable!G110,0,($O$1-1)*12)","v":"-"},{"$f":"OFFSET(Renovable!H110,0,($O$1-1)*12)","v":"-"},{"$f":"OFFSET(Renovable!I110,0,($O$1-1)*12)","v":"-"},{"$f":"OFFSET(Renovable!J110,0,($O$1-1)*12)","v":"-"},{"$f":"OFFSET(Renovable!K110,0,($O$1-1)*12)","v":"-"},{"$f":"OFFSET(Renovable!L110,0,($O$1-1)*12)","v":"-"},{"$f":"OFFSET(Renovable!M110,0,($O$1-1)*12)","v":"-"},{"$f":"OFFSET(Renovable!N110,0,($O$1-1)*12)","v":"-"},{"$f":"OFFSET(Renovable!C149,0,($O$1-1))","v":8.6999999999999993}]
[null,"Hidroeólica",{"$f":"OFFSET(Renovable!C111,0,($O$1-1)*12)","v":0},{"$f":"OFFSET(Renovable!D111,0,($O$1-1)*12)","v":"-"},{"$f":"OFFSET(Renovable!E111,0,($O$1-1)*12)","v":"-"},{"$f":"OFFSET(Renovable!F111,0,($O$1-1)*12)","v":"-"},{"$f":"OFFSET(Renovable!G111,0,($O$1-1)*12)","v":"-"},{"$f":"OFFSET(Renovable!H111,0,($O$1-1)*12)","v":"-"},{"$f":"OFFSET(Renovable!I111,0,($O$1-1)*12)","v":"-"},{"$f":"OFFSET(Renovable!J111,0,($O$1-1)*12)","v":"-"},{"$f":"OFFSET(Renovable!K111,0,($O$1-1)*12)","v":"-"},{"$f":"OFFSET(Renovable!L111,0,($O$1-1)*12)","v":"-"},{"$f":"OFFSET(Renovable!M111,0,($O$1-1)*12)","v":"-"},{"$f":"OFFSET(Renovable!N111,0,($O$1-1)*12)","v":"-"},{"$f":"OFFSET(Renovable!C150,0,($O$1-1))","v":0}]
[null,"Eólica",{"$f":"OFFSET(Renovable!C112,0,($O$1-1)*12)","v":24.5},{"$f":"OFFSET(Renovable!D112,0,($O$1-1)*12)","v":"-"},{"$f":"OFFSET(Renovable!E112,0,($O$1-1)*12)","v":"-"},{"$f":"OFFSET(Renovable!F112,0,($O$1-1)*12)","v":"-"},{"$f":"OFFSET(Renovable!G112,0,($O$1-1)*12)","v":"-"},{"$f":"OFFSET(Renovable!H112,0,($O$1-1)*12)","v":"-"},{"$f":"OFFSET(Renovable!I112,0,($O$1-1)*12)","v":"-"},{"$f":"OFFSET(Renovable!J112,0,($O$1-1)*12)","v":"-"},{"$f":"OFFSET(Renovable!K112,0,($O$1-1)*12)","v":"-"},{"$f":"OFFSET(Renovable!L112,0,($O$1-1)*12)","v":"-"},{"$f":"OFFSET(Renovable!M112,0,($O$1-1)*12)","v":"-"},{"$f":"OFFSET(Renovable!N112,0,($O$1-1)*12)","v":"-"},{"$f":"OFFSET(Renovable!C151,0,($O$1-1))","v":24.5}]
[null,"Solar fotovoltaica",{"$f":"OFFSET(Renovable!C113,0,($O$1-1)*12)","v":2},{"$f":"OFFSET(Renovable!D113,0,($O$1-1)*12)","v":"-"},{"$f":"OFFSET(Renovable!E113,0,($O$1-1)*12)","v":"-"},{"$f":"OFFSET(Renovable!F113,0,($O$1-1)*12)","v":"-"},{"$f":"OFFSET(Renovable!G113,0,($O$1-1)*12)","v":"-"},{"$f":"OFFSET(Renovable!H113,0,($O$1-1)*12)","v":"-"},{"$f":"OFFSET(Renovable!I113,0,($O$1-1)*12)","v":"-"},{"$f":"OFFSET(Renovable!J113,0,($O$1-1)*12)","v":"-"},{"$f":"OFFSET(Renovable!K113,0,($O$1-1)*12)","v":"-"},{"$f":"OFFSET(Renovable!L113,0,($O$1-1)*12)","v":"-"},{"$f":"OFFSET(Renovable!M113,0,($O$1-1)*12)","v":"-"},{"$f":"OFFSET(Renovable!N113,0,($O$1-1)*12)","v":"-"},{"$f":"OFFSET(Renovable!C152,0,($O$1-1))","v":2}]
[null,"Solar térmica",{"$f":"OFFSET(Renovable!C114,0,($O$1-1)*12)","v":0.7},{"$f":"OFFSET(Renovable!D114,0,($O$1-1)*12)","v":"-"},{"$f":"OFFSET(Renovable!E114,0,($O$1-1)*12)","v":"-"},{"$f":"OFFSET(Renovable!F114,0,($O$1-1)*12)","v":"-"},{"$f":"OFFSET(Renovable!G114,0,($O$1-1)*12)","v":"-"},{"$f":"OFFSET(Renovable!H114,0,($O$1-1)*12)","v":"-"},{"$f":"OFFSET(Renovable!I114,0,($O$1-1)*12)","v":"-"},{"$f":"OFFSET(Renovable!J114,0,($O$1-1)*12)","v":"-"},{"$f":"OFFSET(Renovable!K114,0,($O$1-1)*12)","v":"-"},{"$f":"OFFSET(Renovable!L114,0,($O$1-1)*12)","v":"-"},{"$f":"OFFSET(Renovable!M114,0,($O$1-1)*12)","v":"-"},{"$f":"OFFSET(Renovable!N114,0,($O$1-1)*12)","v":"-"},{"$f":"OFFSET(Renovable!C153,0,($O$1-1))","v":0.7}]
[null,"Térmica renovable (3)/Otras renovables (4)",{"$f":"OFFSET(Renovable!C115,0,($O$1-1)*12)","v":1.2},{"$f":"OFFSET(Renovable!D115,0,($O$1-1)*12)","v":"-"},{"$f":"OFFSET(Renovable!E115,0,($O$1-1)*12)","v":"-"},{"$f":"OFFSET(Renovable!F115,0,($O$1-1)*12)","v":"-"},{"$f":"OFFSET(Renovable!G115,0,($O$1-1)*12)","v":"-"},{"$f":"OFFSET(Renovable!H115,0,($O$1-1)*12)","v":"-"},{"$f":"OFFSET(Renovable!I115,0,($O$1-1)*12)","v":"-"},{"$f":"OFFSET(Renovable!J115,0,($O$1-1)*12)","v":"-"},{"$f":"OFFSET(Renovable!K115,0,($O$1-1)*12)","v":"-"},{"$f":"OFFSET(Renovable!L115,0,($O$1-1)*12)","v":"-"},{"$f":"OFFSET(Renovable!M115,0,($O$1-1)*12)","v":"-"},{"$f":"OFFSET(Renovable!N115,0,($O$1-1)*12)","v":"-"},{"$f":"OFFSET(Renovable!C154,0,($O$1-1))","v":1.2}]
[null,"Residuos renovables (5)",{"$f":"OFFSET(Renovable!C116,0,($O$1-1)*12)","v":0.3},{"$f":"OFFSET(Renovable!D116,0,($O$1-1)*12)","v":"-"},{"$f":"OFFSET(Renovable!E116,0,($O$1-1)*12)","v":"-"},{"$f":"OFFSET(Renovable!F116,0,($O$1-1)*12)","v":"-"},{"$f":"OFFSET(Renovable!G116,0,($O$1-1)*12)","v":"-"},{"$f":"OFFSET(Renovable!H116,0,($O$1-1)*12)","v":"-"},{"$f":"OFFSET(Renovable!I116,0,($O$1-1)*12)","v":"-"},{"$f":"OFFSET(Renovable!J116,0,($O$1-1)*12)","v":"-"},{"$f":"OFFSET(Renovable!K116,0,($O$1-1)*12)","v":"-"},{"$f":"OFFSET(Renovable!L116,0,($O$1-1)*12)","v":"-"},{"$f":"OFFSET(Renovable!M116,0,($O$1-1)*12)","v":"-"},{"$f":"OFFSET(Renovable!N116,0,($O$1-1)*12)","v":"-"},{"$f":"OFFSET(Renovable!C155,0,($O$1-1))","v":0.3}]
[null,"Generación renovable",{"$f":"IF(SUM(C10:C16)=0,\"-\",SUM(C10:C16))","v":37.400000000000006},{"$f":"IF(SUM(D10:D16)=0,\"-\",SUM(D10:D16))","v":"-"},"-","-","-","-","-","-","-","-","-","-",{"$f":"IF(SUM(O10:O16)=0,\"-\",SUM(O10:O16))","v":37.400000000000006}]
[null,"(1) Asignación de unidades de producción según combustible principal."]
[null,"(2) No incluye la generación bombeo."]
[null,"(3) Incluye residuos hasta el 31/12/2014."]
[null,"(4) Otras renovables incluyen biogás, biomasa, hidráulica marina y geotérmica."]
[null,"(5) El 50% de la generación procedente de residuos sólidos urbanos se considera renovable."]

{"sheet":"% Renovable año nacional","index":12,"n_rows":23,"n_cols":10,"rows_kept":23,"cut":false,"hidden":false,"merged":[[17,1,17,9],[18,1,18,9],[19,1,19,9],[20,1,20,9],[22,1,22,9],[21,1,21,14]]}
[null,null,null,null,null,null,null,null,null,2]
[]
[null,null,null,null,null,null,null,"Concepto"]
[null,null,null,null,null,null,null,"Sistema eléctrico"]
[null,null,null,null,null,null,null,"Horizonte temporal"]
[null,null,null,null,null,null,null,"Periodo"]
[]
[null,null,{"$f":"OFFSET(Renovable!C148,0,($J$1-1)*8)","v":2015},{"$f":"OFFSET(Renovable!D148,0,($J$1-1)*8)","v":2016},{"$f":"OFFSET(Renovable!E148,0,($J$1-1)*8)","v":2017},{"$f":"OFFSET(Renovable!F148,0,($J$1-1)*8)","v":2018},{"$f":"OFFSET(Renovable!G148,0,($J$1-1)*8)","v":2019},{"$f":"OFFSET(Renovable!H148,0,($J$1-1)*8)","v":2020},{"$f":"OFFSET(Renovable!I148,0,($J$1-1)*8)","v":2021},{"$f":"OFFSET(Renovable!J148,0,($J$1-1)*8)","v":2022}]
[]
[null,"Hidráulica (2)",{"$f":"OFFSET(Renovable!C149,0,($J$1-1)*8)","v":10.6},{"$f":"OFFSET(Renovable!D149,0,($J$1-1)*8)","v":13.8},{"$f":"OFFSET(Renovable!E149,0,($J$1-1)*8)","v":7},{"$f":"OFFSET(Renovable!F149,0,($J$1-1)*8)","v":13.1},{"$f":"OFFSET(Renovable!G149,0,($J$1-1)*8)","v":8.6999999999999993},{"$f":"OFFSET(Renovable!H149,0,($J$1-1)*8)","v":"-"},{"$f":"OFFSET(Renovable!I149,0,($J$1-1)*8)","v":"-"},{"$f":"OFFSET(Renovable!J149,0,($J$1-1)*8)","v":"-"}]
[null,"Hidroeólica",{"$f":"OFFSET(Renovable!C150,0,($J$1-1)*8)","v":0},{"$f":"OFFSET(Renovable!D150,0,($J$1-1)*8)","v":0},{"$f":"OFFSET(Renovable!E150,0,($J$1-1)*8)","v":0},{"$f":"OFFSET(Renovable!F150,0,($J$1-1)*8)","v":0},{"$f":"OFFSET(Renovable!G150,0,($J$1-1)*8)","v":0},{"$f":"OFFSET(Renovable!H150,0,($J$1-1)*8)","v":"-"},{"$f":"OFFSET(Renovable!I150,0,($J$1-1)*8)","v":"-"},{"$f":"OFFSET(Renovable!J150,0,($J$1-1)*8)","v":"-"}]
[null,"Eólica",{"$f":"OFFSET(Renovable!C151,0,($J$1-1)*8)","v":18},{"$f":"OFFSET(Renovable!D151,0,($J$1-1)*8)","v":18.2},{"$f":"OFFSET(Renovable!E151,0,($J$1-1)*8)","v":18.3},{"$f":"OFFSET(Renovable!F151,0,($J$1-1)*8)","v":19},{"$f":"OFFSET(Renovable!G151,0,($J$1-1)*8)","v":24.5},{"$f":"OFFSET(Renovable!H151,0,($J$1-1)*8)","v":"-"},{"$f":"OFFSET(Renovable!I151,0,($J$1-1)*8)","v":"-"},{"$f":"OFFSET(Renovable!J151,0,($J$1-1)*8)","v":"-"}]
[null,"Solar fotovoltaica",{"$f":"OFFSET(Renovable!C152,0,($J$1-1)*8)","v":3.1},{"$f":"OFFSET(Renovable!D152,0,($J$1-1)*8)","v":3},{"$f":"OFFSET(Renovable!E152,0,($J$1-1)*8)","v":3.2},{"$f":"OFFSET(Renovable!F152,0,($J$1-1)*8)","v":3},{"$f":"OFFSET(Renovable!G152,0,($J$1-1)*8)","v":2},{"$f":"OFFSET(Renovable!H152,0,($J$1-1)*8)","v":"-"},{"$f":"OFFSET(Renovable!I152,0,($J$1-1)*8)","v":"-"},{"$f":"OFFSET(Renovable!J152,0,($J$1-1)*8)","v":"-"}]
[null,"Solar térmica",{"$f":"OFFSET(Renovable!C153,0,($J$1-1)*8)","v":1.9},{"$f":"OFFSET(Renovable!D153,0,($J$1-1)*8)","v":1.9},{"$f":"OFFSET(Renovable!E153,0,($J$1-1)*8)","v":2},{"$f":"OFFSET(Renovable!F153,0,($J$1-1)*8)","v":1.7},{"$f":"OFFSET(Renovable!G153,0,($J$1-1)*8)","v":0.7},{"$f":"OFFSET(Renovable!H153,0,($J$1-1)*8)","v":"-"},{"$f":"OFFSET(Renovable!I153,0,($J$1-1)*8)","v":"-"},{"$f":"OFFSET(Renovable!J153,0,($J$1-1)*8)","v":"-"}]
[null,"Térmica renovable (3)/Otras renovables (4)",{"$f":"OFFSET(Renovable!C154,0,($J$1-1)*8)","v":1.3},{"$f":"OFFSET(Renovable!D154,0,($J$1-1)*8)","v":1.3},{"$f":"OFFSET(Renovable!E154,0,($J$1-1)*8)","v":1.4},{"$f":"OFFSET(Renovable!F154,0,($J$1-1)*8)","v":1.4},{"$f":"OFFSET(Renovable!G154,0,($J$1-1)*8)","v":1.2},{"$f":"OFFSET(Renovable!H154,0,($J$1-1)*8)","v":"-"},{"$f":"OFFSET(Renovable!I154,0,($J$1-1)*8)","v":"-"},{"$f":"OFFSET(Renovable!J154,0,($J$1-1)*8)","v":"-"}]
[null,"Residuos renovables (5)",{"$f":"OFFSET(Renovable!C155,0,($J$1-1)*8)","v":0.3},{"$f":"OFFSET(Renovable!D155,0,($J$1-1)*8)","v":0.3},{"$f":"OFFSET(Renovable!E155,0,($J$1-1)*8)","v":0.3},{"$f":"OFFSET(Renovable!F155,0,($J$1-1)*8)","v":0.3},{"$f":"OFFSET(Renovable!G155,0,($J$1-1)*8)","v":0.3},{"$f":"OFFSET(Renovable!H155,0,($J$1-1)*8)","v":"-"},{"$f":"OFFSET(Renovable!I155,0,($J$1-1)*8)","v":"-"},{"$f":"OFFSET(Renovable!J155,0,($J$1-1)*8)","v":"-"}]
[null,"Generación renovable",{"$f":"IF(SUM(C10:C16)=0,\"-\",SUM(C10:C16))","v":35.199999999999996},{"$f":"IF(SUM(D10:D16)=0,\"-\",SUM(D10:D16))","v":38.499999999999993},{"$f":"IF(SUM(E10:E16)=0,\"-\",SUM(E10:E16))","v":32.199999999999996},38.5,37.400000000000006,"-","-","-"]
[null,"(1) Asignación de unidades de producción según combustible principal."]
[null,"(2) No incluye la generación bombeo."]
[null,"(3) Incluye residuos hasta el 31/12/2014."]
[null,"(4) Otras renovables incluyen biogás, biomasa, hidráulica marina y geotérmica."]
[null,"(5) El 50% de la generación procedente de residuos sólidos urbanos se considera renovable."]
[null,{"$f":"'Renovable año nacional'!B23:J23","v":"    Para el año 2019 valores acumulados hasta enero de 2019."}]

{"sheet":"% Renovable mes Peninsular","index":13,"n_rows":21,"n_cols":15,"rows_kept":21,"cut":false,"hidden":false,"merged":[[20,1,20,14],[5,2,5,9],[16,1,16,14],[17,1,17,14],[18,1,18,14],[19,1,19,14]]}
[null,null,null,null,null,null,null,null,null,null,null,null,null,null,30]
[]
[null,null,null,null,null,null,null,null,null,null,null,null,"Concepto"]
[null,null,null,null,null,null,null,null,null,null,null,null,"Sistema eléctrico"]
[null,null,null,null,null,null,null,null,null,null,null,null,"Horizonte temporal"]
[null,null,null,null,null,null,null,null,null,null,null,null,"Periodo"]
[]
[null,null,"Ene.","Feb.","Mar.","Abr.","May.","Jun.","Jul.","Ago.","Sep.","Oct.","Nov.","Dic.",{"$f":"OFFSET(Año!B2,($O$1-1),0)","v":2019}]
[]
[null,"Hidráulica (2)",{"$f":"OFFSET(Renovable!C81,0,($O$1-1)*12)","v":9.1},{"$f":"OFFSET(Renovable!D81,0,($O$1-1)*12)","v":"-"},{"$f":"OFFSET(Renovable!E81,0,($O$1-1)*12)","v":"-"},{"$f":"OFFSET(Renovable!F81,0,($O$1-1)*12)","v":"-"},{"$f":"OFFSET(Renovable!G81,0,($O$1-1)*12)","v":"-"},{"$f":"OFFSET(Renovable!H81,0,($O$1-1)*12)","v":"-"},{"$f":"OFFSET(Renovable!I81,0,($O$1-1)*12)","v":"-"},{"$f":"OFFSET(Renovable!J81,0,($O$1-1)*12)","v":"-"},{"$f":"OFFSET(Renovable!K81,0,($O$1-1)*12)","v":"-"},{"$f":"OFFSET(Renovable!L81,0,($O$1-1)*12)","v":"-"},{"$f":"OFFSET(Renovable!M81,0,($O$1-1)*12)","v":"-"},{"$f":"OFFSET(Renovable!N81,0,($O$1-1)*12)","v":"-"},{"$f":"OFFSET(Renovable!C120,0,($O$1-1))","v":9.1}]
[null,"Eólica",{"$f":"OFFSET(Renovable!C82,0,($O$1-1)*12)","v":25.5},{"$f":"OFFSET(Renovable!D82,0,($O$1-1)*12)","v":"-"},{"$f":"OFFSET(Renovable!E82,0,($O$1-1)*12)","v":"-"},{"$f":"OFFSET(Renovable!F82,0,($O$1-1)*12)","v":"-"},{"$f":"OFFSET(Renovable!G82,0,($O$1-1)*12)","v":"-"},{"$f":"OFFSET(Renovable!H82,0,($O$1-1)*12)","v":"-"},{"$f":"OFFSET(Renovable!I82,0,($O$1-1)*12)","v":"-"},{"$f":"OFFSET(Renovable!J82,0,($O$1-1)*12)","v":"-"},{"$f":"OFFSET(Renovable!K82,0,($O$1-1)*12)","v":"-"},{"$f":"OFFSET(Renovable!L82,0,($O$1-1)*12)","v":"-"},{"$f":"OFFSET(Renovable!M82,0,($O$1-1)*12)","v":"-"},{"$f":"OFFSET(Renovable!N82,0,($O$1-1)*12)","v":"-"},{"$f":"OFFSET(Renovable!C121,0,($O$1-1))","v":25.5}]
[null,"Solar fotovoltaica",{"$f":"OFFSET(Renovable!C83,0,($O$1-1)*12)","v":2},{"$f":"OFFSET(Renovable!D83,0,($O$1-1)*12)","v":"-"},{"$f":"OFFSET(Renovable!E83,0,($O$1-1)*12)","v":"-"},{"$f":"OFFSET(Renovable!F83,0,($O$1-1)*12)","v":"-"},{"$f":"OFFSET(Renovable!G83,0,($O$1-1)*12)","v":"-"},{"$f":"OFFSET(Renovable!H83,0,($O$1-1)*12)","v":"-"},{"$f":"OFFSET(Renovable!I83,0,($O$1-1)*12)","v":"-"},{"$f":"OFFSET(Renovable!J83,0,($O$1-1)*12)","v":"-"},{"$f":"OFFSET(Renovable!K83,0,($O$1-1)*12)","v":"-"},{"$f":"OFFSET(Renovable!L83,0,($O$1-1)*12)","v":"-"},{"$f":"OFFSET(Renovable!M83,0,($O$1-1)*12)","v":"-"},{"$f":"OFFSET(Renovable!N83,0,($O$1-1)*12)","v":"-"},{"$f":"OFFSET(Renovable!C122,0,($O$1-1))","v":2}]
[null,"Solar térmica",{"$f":"OFFSET(Renovable!C84,0,($O$1-1)*12)","v":0.7},{"$f":"OFFSET(Renovable!D84,0,($O$1-1)*12)","v":"-"},{"$f":"OFFSET(Renovable!E84,0,($O$1-1)*12)","v":"-"},{"$f":"OFFSET(Renovable!F84,0,($O$1-1)*12)","v":"-"},{"$f":"OFFSET(Renovable!G84,0,($O$1-1)*12)","v":"-"},{"$f":"OFFSET(Renovable!H84,0,($O$1-1)*12)","v":"-"},{"$f":"OFFSET(Renovable!I84,0,($O$1-1)*12)","v":"-"},{"$f":"OFFSET(Renovable!J84,0,($O$1-1)*12)","v":"-"},{"$f":"OFFSET(Renovable!K84,0,($O$1-1)*12)","v":"-"},{"$f":"OFFSET(Renovable!L84,0,($O$1-1)*12)","v":"-"},{"$f":"OFFSET(Renovable!M84,0,($O$1-1)*12)","v":"-"},{"$f":"OFFSET(Renovable!N84,0,($O$1-1)*12)","v":"-"},{"$f":"OFFSET(Renovable!C123,0,($O$1-1))","v":0.7}]
[null,"Térmica renovable (3)/Otras renovables (4)",{"$f":"OFFSET(Renovable!C85,0,($O$1-1)*12)","v":1.3},{"$f":"OFFSET(Renovable!D85,0,($O$1-1)*12)","v":"-"},{"$f":"OFFSET(Renovable!E85,0,($O$1-1)*12)","v":"-"},{"$f":"OFFSET(Renovable!F85,0,($O$1-1)*12)","v":"-"},{"$f":"OFFSET(Renovable!G85,0,($O$1-1)*12)","v":"-"},{"$f":"OFFSET(Renovable!H85,0,($O$1-1)*12)","v":"-"},{"$f":"OFFSET(Renovable!I85,0,($O$1-1)*12)","v":"-"},{"$f":"OFFSET(Renovable!J85,0,($O$1-1)*12)","v":"-"},{"$f":"OFFSET(Renovable!K85,0,($O$1-1)*12)","v":"-"},{"$f":"OFFSET(Renovable!L85,0,($O$1-1)*12)","v":"-"},{"$f":"OFFSET(Renovable!M85,0,($O$1-1)*12)","v":"-"},{"$f":"OFFSET(Renovable!N85,0,($O$1-1)*12)","v":"-"},{"$f":"OFFSET(Renovable!C124,0,($O$1-1))","v":1.3}]
[null,"Residuos renovables (5)",{"$f":"OFFSET(Renovable!C86,0,($O$1-1)*12)","v":0.3},{"$f":"OFFSET(Renovable!D86,0,($O$1-1)*12)","v":"-"},{"$f":"OFFSET(Renovable!E86,0,($O$1-1)*12)","v":"-"},{"$f":"OFFSET(Renovable!F86,0,($O$1-1)*12)","v":"-"},{"$f":"OFFSET(Renovable!G86,0,($O$1-1)*12)","v":"-"},{"$f":"OFFSET(Renovable!H86,0,($O$1-1)*12)","v":"-"},{"$f":"OFFSET(Renovable!I86,0,($O$1-1)*12)","v":"-"},{"$f":"OFFSET(Renovable!J86,0,($O$1-1)*12)","v":"-"},{"$f":"OFFSET(Renovable!K86,0,($O$1-1)*12)","v":"-"},{"$f":"OFFSET(Renovable!L86,0,($O$1-1)*12)","v":"-"},{"$f":"OFFSET(Renovable!M86,0,($O$1-1)*12)","v":"-"},{"$f":"OFFSET(Renovable!N86,0,($O$1-1)*12)","v":"-"},{"$f":"OFFSET(Renovable!C125,0,($O$1-1))","v":0.3}]
[null,"Generación renovable",{"$f":"IF(SUM(C10:C15)=0,\"-\",SUM(C10:C15))","v":38.9},{"$f":"IF(SUM(D10:D15)=0,\"-\",SUM(D10:D15))","v":"-"},"-","-","-","-","-","-","-","-","-","-",38.9]
[null,"(1) Asignación de unidades de producción según combustible principal."]
[null,"(2) No incluye la generación bombeo."]
[null,"(3) Incluye residuos hasta el 31/12/2014."]
[null,"(4) Otras renovables incluyen biogás, biomasa, hidráulica marina y geotérmica."]
[null,"(5) El 50% de la generación procedente de residuos sólidos urbanos se considera renovable."]

{"sheet":"% Renovable año Peninsular","index":14,"n_rows":22,"n_cols":10,"rows_kept":22,"cut":false,"hidden":false,"merged":[[16,1,16,9],[21,1,21,9],[17,1,17,9],[18,1,18,9],[19,1,19,9],[20,1,20,14]]}
[null,null,null,null,null,null,null,null,null,4]
[]
[null,null,null,null,null,null,null,"Concepto"]
[null,null,null,null,null,null,null,"Sistema eléctrico"]
[null,null,null,null,null,null,null,"Horizonte temporal"]
[null,null,null,null,null,null,null,"Periodo"]
[]
[null,null,{"$f":"OFFSET(Renovable!C119,0,($J$1-1)*8)","v":2014},{"$f":"OFFSET(Renovable!D119,0,($J$1-1)*8)","v":2015},{"$f":"OFFSET(Renovable!E119,0,($J$1-1)*8)","v":2016},{"$f":"OFFSET(Renovable!F119,0,($J$1-1)*8)","v":2017},{"$f":"OFFSET(Renovable!G119,0,($J$1-1)*8)","v":2018},{"$f":"OFFSET(Renovable!H119,0,($J$1-1)*8)","v":2019},{"$f":"OFFSET(Renovable!I119,0,($J$1-1)*8)","v":2020},{"$f":"OFFSET(Renovable!J119,0,($J$1-1)*8)","v":2021}]
[]
[null,"Hidráulica (2)",{"$f":"OFFSET(Renovable!C120,0,($J$1-1)*8)","v":15.5},{"$f":"OFFSET(Renovable!D120,0,($J$1-1)*8)","v":11.2},{"$f":"OFFSET(Renovable!E120,0,($J$1-1)*8)","v":14.6},{"$f":"OFFSET(Renovable!F120,0,($J$1-1)*8)","v":7.4},{"$f":"OFFSET(Renovable!G120,0,($J$1-1)*8)","v":13.8},{"$f":"OFFSET(Renovable!H120,0,($J$1-1)*8)","v":9.1},{"$f":"OFFSET(Renovable!I120,0,($J$1-1)*8)","v":"-"},{"$f":"OFFSET(Renovable!J120,0,($J$1-1)*8)","v":"-"}]
[null,"Eólica",{"$f":"OFFSET(Renovable!C121,0,($J$1-1)*8)","v":20},{"$f":"OFFSET(Renovable!D121,0,($J$1-1)*8)","v":18.8},{"$f":"OFFSET(Renovable!E121,0,($J$1-1)*8)","v":19.100000000000001},{"$f":"OFFSET(Renovable!F121,0,($J$1-1)*8)","v":19.100000000000001},{"$f":"OFFSET(Renovable!G121,0,($J$1-1)*8)","v":19.8},{"$f":"OFFSET(Renovable!H121,0,($J$1-1)*8)","v":25.5},{"$f":"OFFSET(Renovable!I121,0,($J$1-1)*8)","v":"-"},{"$f":"OFFSET(Renovable!J121,0,($J$1-1)*8)","v":"-"}]
[null,"Solar fotovoltaica",{"$f":"OFFSET(Renovable!C122,0,($J$1-1)*8)","v":3.1},{"$f":"OFFSET(Renovable!D122,0,($J$1-1)*8)","v":3.1},{"$f":"OFFSET(Renovable!E122,0,($J$1-1)*8)","v":3.1},{"$f":"OFFSET(Renovable!F122,0,($J$1-1)*8)","v":3.2},{"$f":"OFFSET(Renovable!G122,0,($J$1-1)*8)","v":3},{"$f":"OFFSET(Renovable!H122,0,($J$1-1)*8)","v":2},{"$f":"OFFSET(Renovable!I122,0,($J$1-1)*8)","v":"-"},{"$f":"OFFSET(Renovable!J122,0,($J$1-1)*8)","v":"-"}]
[null,"Solar térmica",{"$f":"OFFSET(Renovable!C123,0,($J$1-1)*8)","v":2},{"$f":"OFFSET(Renovable!D123,0,($J$1-1)*8)","v":2},{"$f":"OFFSET(Renovable!E123,0,($J$1-1)*8)","v":2},{"$f":"OFFSET(Renovable!F123,0,($J$1-1)*8)","v":2.2000000000000002},{"$f":"OFFSET(Renovable!G123,0,($J$1-1)*8)","v":1.8},{"$f":"OFFSET(Renovable!H123,0,($J$1-1)*8)","v":0.7},{"$f":"OFFSET(Renovable!I123,0,($J$1-1)*8)","v":"-"},{"$f":"OFFSET(Renovable!J123,0,($J$1-1)*8)","v":"-"}]
[null,"Térmica renovable (3)/Otras renovables (4)",{"$f":"OFFSET(Renovable!C124,0,($J$1-1)*8)","v":1.5},{"$f":"OFFSET(Renovable!D124,0,($J$1-1)*8)","v":1.3},{"$f":"OFFSET(Renovable!E124,0,($J$1-1)*8)","v":1.4},{"$f":"OFFSET(Renovable!F124,0,($J$1-1)*8)","v":1.5},{"$f":"OFFSET(Renovable!G124,0,($J$1-1)*8)","v":1.4},{"$f":"OFFSET(Renovable!H124,0,($J$1-1)*8)","v":1.3},{"$f":"OFFSET(Renovable!I124,0,($J$1-1)*8)","v":"-"},{"$f":"OFFSET(Renovable!J124,0,($J$1-1)*8)","v":"-"}]
[null,"Residuos renovables (5)",{"$f":"OFFSET(Renovable!C125,0,($J$1-1)*8)","v":0.2},{"$f":"OFFSET(Renovable!D125,0,($J$1-1)*8)","v":0.3},{"$f":"OFFSET(Renovable!E125,0,($J$1-1)*8)","v":0.3},{"$f":"OFFSET(Renovable!F125,0,($J$1-1)*8)","v":0.3},{"$f":"OFFSET(Renovable!G125,0,($J$1-1)*8)","v":0.3},{"$f":"OFFSET(Renovable!H125,0,($J$1-1)*8)","v":0.3},{"$f":"OFFSET(Renovable!I125,0,($J$1-1)*8)","v":"-"},{"$f":"OFFSET(Renovable!J125,0,($J$1-1)*8)","v":"-"}]
[null,"Generación renovable",{"$f":"IF(SUM(C10:C15)=0,\"-\",SUM(C10:C15))","v":42.300000000000004},{"$f":"IF(SUM(D10:D15)=0,\"-\",SUM(D10:D15))","v":36.699999999999996},40.5,33.699999999999996,40.099999999999994,38.9,"-","-"]
[null,"(1) Asignación de unidades de producción según combustible principal."]
[null,"(2) No incluye la generación bombeo."]
[null,"(3) Incluye residuos hasta el 31/12/2014."]
[null,"(4) Otras renovables incluyen biogás, biomasa, hidráulica marina y geotérmica."]
[null,"(5) El 50% de la generación procedente de residuos sólidos urbanos se considera renovable."]
[null,{"$f":"'Renovable año nacional'!B23:J23","v":"    Para el año 2019 valores acumulados hasta enero de 2019."}]

{"sheet":"% Renovable mes Baleares","index":15,"n_rows":17,"n_cols":15,"rows_kept":17,"cut":false,"hidden":false,"merged":[[5,2,5,9],[14,1,14,14],[15,1,15,14],[16,1,16,14]]}
[null,null,null,null,null,null,null,null,null,null,null,null,null,null,14]
[]
[null,null,null,null,null,null,null,null,null,null,null,null,"Concepto"]
[null,null,null,null,null,null,null,null,null,null,null,null,"Sistema eléctrico"]
[null,null,null,null,null,null,null,null,null,null,null,null,"Horizonte temporal"]
[null,null,null,null,null,null,null,null,null,null,null,null,"Periodo"]
[]
[null,null,"Ene.","Feb.","Mar.","Abr.","May.","Jun.","Jul.","Ago.","Sep.","Oct.","Nov.","Dic.",{"$f":"OFFSET(Año!B18,($O$1-1),0)","v":2019}]
[]
[null,"Eólica",{"$f":"OFFSET(Renovable!C90,0,($O$1-1)*12)","v":0.2},{"$f":"OFFSET(Renovable!D90,0,($O$1-1)*12)","v":"-"},{"$f":"OFFSET(Renovable!E90,0,($O$1-1)*12)","v":"-"},{"$f":"OFFSET(Renovable!F90,0,($O$1-1)*12)","v":"-"},{"$f":"OFFSET(Renovable!G90,0,($O$1-1)*12)","v":"-"},{"$f":"OFFSET(Renovable!H90,0,($O$1-1)*12)","v":"-"},{"$f":"OFFSET(Renovable!I90,0,($O$1-1)*12)","v":"-"},{"$f":"OFFSET(Renovable!J90,0,($O$1-1)*12)","v":"-"},{"$f":"OFFSET(Renovable!K90,0,($O$1-1)*12)","v":"-"},{"$f":"OFFSET(Renovable!L90,0,($O$1-1)*12)","v":"-"},{"$f":"OFFSET(Renovable!M90,0,($O$1-1)*12)","v":"-"},{"$f":"OFFSET(Renovable!N90,0,($O$1-1)*12)","v":"-"},{"$f":"OFFSET(Renovable!C129,0,($O$1-1))","v":0.2}]
[null,"Solar fotovoltaica",{"$f":"OFFSET(Renovable!C91,0,($O$1-1)*12)","v":2.1},{"$f":"OFFSET(Renovable!D91,0,($O$1-1)*12)","v":"-"},{"$f":"OFFSET(Renovable!E91,0,($O$1-1)*12)","v":"-"},{"$f":"OFFSET(Renovable!F91,0,($O$1-1)*12)","v":"-"},{"$f":"OFFSET(Renovable!G91,0,($O$1-1)*12)","v":"-"},{"$f":"OFFSET(Renovable!H91,0,($O$1-1)*12)","v":"-"},{"$f":"OFFSET(Renovable!I91,0,($O$1-1)*12)","v":"-"},{"$f":"OFFSET(Renovable!J91,0,($O$1-1)*12)","v":"-"},{"$f":"OFFSET(Renovable!K91,0,($O$1-1)*12)","v":"-"},{"$f":"OFFSET(Renovable!L91,0,($O$1-1)*12)","v":"-"},{"$f":"OFFSET(Renovable!M91,0,($O$1-1)*12)","v":"-"},{"$f":"OFFSET(Renovable!N91,0,($O$1-1)*12)","v":"-"},{"$f":"OFFSET(Renovable!C130,0,($O$1-1))","v":2.1}]
[null,"Térmica renovable/Otras renovables (2)",{"$f":"OFFSET(Renovable!C92,0,($O$1-1)*12)","v":0},{"$f":"OFFSET(Renovable!D92,0,($O$1-1)*12)","v":"-"},{"$f":"OFFSET(Renovable!E92,0,($O$1-1)*12)","v":"-"},{"$f":"OFFSET(Renovable!F92,0,($O$1-1)*12)","v":"-"},{"$f":"OFFSET(Renovable!G92,0,($O$1-1)*12)","v":"-"},{"$f":"OFFSET(Renovable!H92,0,($O$1-1)*12)","v":"-"},{"$f":"OFFSET(Renovable!I92,0,($O$1-1)*12)","v":"-"},{"$f":"OFFSET(Renovable!J92,0,($O$1-1)*12)","v":"-"},{"$f":"OFFSET(Renovable!K92,0,($O$1-1)*12)","v":"-"},{"$f":"OFFSET(Renovable!L92,0,($O$1-1)*12)","v":"-"},{"$f":"OFFSET(Renovable!M92,0,($O$1-1)*12)","v":"-"},{"$f":"OFFSET(Renovable!N92,0,($O$1-1)*12)","v":"-"},{"$f":"OFFSET(Renovable!C131,0,($O$1-1))","v":0}]
[null,"Residuos renovables (3)",{"$f":"OFFSET(Renovable!C93,0,($O$1-1)*12)","v":2.8},{"$f":"OFFSET(Renovable!D93,0,($O$1-1)*12)","v":"-"},{"$f":"OFFSET(Renovable!E93,0,($O$1-1)*12)","v":"-"},{"$f":"OFFSET(Renovable!F93,0,($O$1-1)*12)","v":"-"},{"$f":"OFFSET(Renovable!G93,0,($O$1-1)*12)","v":"-"},{"$f":"OFFSET(Renovable!H93,0,($O$1-1)*12)","v":"-"},{"$f":"OFFSET(Renovable!I93,0,($O$1-1)*12)","v":"-"},{"$f":"OFFSET(Renovable!J93,0,($O$1-1)*12)","v":"-"},{"$f":"OFFSET(Renovable!K93,0,($O$1-1)*12)","v":"-"},{"$f":"OFFSET(Renovable!L93,0,($O$1-1)*12)","v":"-"},{"$f":"OFFSET(Renovable!M93,0,($O$1-1)*12)","v":"-"},{"$f":"OFFSET(Renovable!N93,0,($O$1-1)*12)","v":"-"},{"$f":"OFFSET(Renovable!C132,0,($O$1-1))","v":2.8}]
[null,"Generación renovable",{"$f":"IF(SUM(C10:C13)=0,\"-\",SUM(C10:C13))","v":5.0999999999999996},{"$f":"IF(SUM(D10:D13)=0,\"-\",SUM(D10:D13))","v":"-"},"-","-","-","-","-","-","-","-","-","-",5.0999999999999996]
[null,"(1) Asignación de unidades de producción según combustible principal."]
[null,"(2) Otras renovables incluyen biogás y biomasa."]
[null,"(3) El 50% de la generación procedente de residuos sólidos urbanos se considera renovable."]

{"sheet":"% Renovable año Baleares","index":16,"n_rows":18,"n_cols":10,"rows_kept":18,"cut":false,"hidden":false,"merged":[[14,1,14,9],[15,1,15,9],[17,1,17,9],[16,1,16,14]]}
[null,null,null,null,null,null,null,null,null,2]
[]
[null,null,null,null,null,null,null,"Concepto"]
[null,null,null,null,null,null,null,"Sistema eléctrico"]
[null,null,null,null,null,null,null,"Horizonte temporal"]
[null,null,null,null,null,null,null,"Periodo"]
[]
[null,null,{"$f":"OFFSET(Renovable!C128,0,($J$1-1)*8)","v":2014},{"$f":"OFFSET(Renovable!D128,0,($J$1-1)*8)","v":2015},{"$f":"OFFSET(Renovable!E128,0,($J$1-1)*8)","v":2016},{"$f":"OFFSET(Renovable!F128,0,($J$1-1)*8)","v":2017},{"$f":"OFFSET(Renovable!G128,0,($J$1-1)*8)","v":2018},{"$f":"OFFSET(Renovable!H128,0,($J$1-1)*8)","v":2019},{"$f":"OFFSET(Renovable!I128,0,($J$1-1)*8)","v":2020},{"$f":"OFFSET(Renovable!J128,0,($J$1-1)*8)","v":2021}]
[]
[null,"Eólica",{"$f":"OFFSET(Renovable!C129,0,($J$1-1)*8)","v":0.1},{"$f":"OFFSET(Renovable!D129,0,($J$1-1)*8)","v":0.1},{"$f":"OFFSET(Renovable!E129,0,($J$1-1)*8)","v":0.1},{"$f":"OFFSET(Renovable!F129,0,($J$1-1)*8)","v":0.1},{"$f":"OFFSET(Renovable!G129,0,($J$1-1)*8)","v":0.1},{"$f":"OFFSET(Renovable!H129,0,($J$1-1)*8)","v":0.2},{"$f":"OFFSET(Renovable!I129,0,($J$1-1)*8)","v":"-"},{"$f":"OFFSET(Renovable!J129,0,($J$1-1)*8)","v":"-"}]
[null,"Solar fotovoltaica",{"$f":"OFFSET(Renovable!C130,0,($J$1-1)*8)","v":2.9},{"$f":"OFFSET(Renovable!D130,0,($J$1-1)*8)","v":2.8},{"$f":"OFFSET(Renovable!E130,0,($J$1-1)*8)","v":2.6},{"$f":"OFFSET(Renovable!F130,0,($J$1-1)*8)","v":2.5},{"$f":"OFFSET(Renovable!G130,0,($J$1-1)*8)","v":2.2999999999999998},{"$f":"OFFSET(Renovable!H130,0,($J$1-1)*8)","v":2.1},{"$f":"OFFSET(Renovable!I130,0,($J$1-1)*8)","v":"-"},{"$f":"OFFSET(Renovable!J130,0,($J$1-1)*8)","v":"-"}]
[null,"Térmica renovable/Otras renovables (2)",{"$f":"OFFSET(Renovable!C131,0,($J$1-1)*8)","v":0},{"$f":"OFFSET(Renovable!D131,0,($J$1-1)*8)","v":0},{"$f":"OFFSET(Renovable!E131,0,($J$1-1)*8)","v":0},{"$f":"OFFSET(Renovable!F131,0,($J$1-1)*8)","v":0},{"$f":"OFFSET(Renovable!G131,0,($J$1-1)*8)","v":0},{"$f":"OFFSET(Renovable!H131,0,($J$1-1)*8)","v":0},{"$f":"OFFSET(Renovable!I131,0,($J$1-1)*8)","v":"-"},{"$f":"OFFSET(Renovable!J131,0,($J$1-1)*8)","v":"-"}]
[null,"Residuos renovables (3)",{"$f":"OFFSET(Renovable!C132,0,($J$1-1)*8)","v":3},{"$f":"OFFSET(Renovable!D132,0,($J$1-1)*8)","v":3.4},{"$f":"OFFSET(Renovable!E132,0,($J$1-1)*8)","v":2.9},{"$f":"OFFSET(Renovable!F132,0,($J$1-1)*8)","v":3},{"$f":"OFFSET(Renovable!G132,0,($J$1-1)*8)","v":2.8},{"$f":"OFFSET(Renovable!H132,0,($J$1-1)*8)","v":2.8},{"$f":"OFFSET(Renovable!I132,0,($J$1-1)*8)","v":"-"},{"$f":"OFFSET(Renovable!J132,0,($J$1-1)*8)","v":"-"}]
[null,"Generación renovable",{"$f":"IF(SUM(C10:C13)=0,\"-\",SUM(C10:C13))","v":6},{"$f":"IF(SUM(D10:D13)=0,\"-\",SUM(D10:D13))","v":6.3},5.6,5.6,5.1999999999999993,5.0999999999999996,"-","-"]
[null,"(1) Asignación de unidades de producción según combustible principal."]
[null,"(2) Otras renovables incluyen biogás y biomasa."]
[null,"(3) El 50% de la generación procedente de residuos sólidos urbanos se considera renovable."]
[null,{"$f":"'Renovable año nacional'!B23:J23","v":"    Para el año 2019 valores acumulados hasta enero de 2019."}]

{"sheet":"% Renovable mes Canarias","index":17,"n_rows":17,"n_cols":15,"rows_kept":17,"cut":false,"hidden":false,"merged":[[5,2,5,9],[15,1,15,14],[16,1,16,14]]}
[null,null,null,null,null,null,null,null,null,null,null,null,null,null,14]
[]
[null,null,null,null,null,null,null,null,null,null,null,null,"Concepto"]
[null,null,null,null,null,null,null,null,null,null,null,null,"Sistema eléctrico"]
[null,null,null,null,null,null,null,null,null,null,null,null,"Horizonte temporal"]
[null,null,null,null,null,null,null,null,null,null,null,null,"Periodo"]
[]
[null,null,"Ene.","Feb.","Mar.","Abr.","May.","Jun.","Jul.","Ago.","Sep.","Oct.","Nov.","Dic.",{"$f":"OFFSET(Año!B18,($O$1-1),0)","v":2019}]
[]
[null,"Hidráulica",{"$f":"OFFSET(Renovable!C97,0,($O$1-1)*12)","v":0},{"$f":"OFFSET(Renovable!D97,0,($O$1-1)*12)","v":"-"},{"$f":"OFFSET(Renovable!E97,0,($O$1-1)*12)","v":"-"},{"$f":"OFFSET(Renovable!F97,0,($O$1-1)*12)","v":"-"},{"$f":"OFFSET(Renovable!G97,0,($O$1-1)*12)","v":"-"},{"$f":"OFFSET(Renovable!H97,0,($O$1-1)*12)","v":"-"},{"$f":"OFFSET(Renovable!I97,0,($O$1-1)*12)","v":"-"},{"$f":"OFFSET(Renovable!J97,0,($O$1-1)*12)","v":"-"},{"$f":"OFFSET(Renovable!K97,0,($O$1-1)*12)","v":"-"},{"$f":"OFFSET(Renovable!L97,0,($O$1-1)*12)","v":"-"},{"$f":"OFFSET(Renovable!M97,0,($O$1-1)*12)","v":"-"},{"$f":"OFFSET(Renovable!N97,0,($O$1-1)*12)","v":"-"},{"$f":"OFFSET(Renovable!C136,0,($O$1-1))","v":0}]
[null,"Hidroeólica",{"$f":"OFFSET(Renovable!C98,0,($O$1-1)*12)","v":0.1},{"$f":"OFFSET(Renovable!D98,0,($O$1-1)*12)","v":"-"},{"$f":"OFFSET(Renovable!E98,0,($O$1-1)*12)","v":"-"},{"$f":"OFFSET(Renovable!F98,0,($O$1-1)*12)","v":"-"},{"$f":"OFFSET(Renovable!G98,0,($O$1-1)*12)","v":"-"},{"$f":"OFFSET(Renovable!H98,0,($O$1-1)*12)","v":"-"},{"$f":"OFFSET(Renovable!I98,0,($O$1-1)*12)","v":"-"},{"$f":"OFFSET(Renovable!J98,0,($O$1-1)*12)","v":"-"},{"$f":"OFFSET(Renovable!K98,0,($O$1-1)*12)","v":"-"},{"$f":"OFFSET(Renovable!L98,0,($O$1-1)*12)","v":"-"},{"$f":"OFFSET(Renovable!M98,0,($O$1-1)*12)","v":"-"},{"$f":"OFFSET(Renovable!N98,0,($O$1-1)*12)","v":"-"},{"$f":"OFFSET(Renovable!C137,0,($O$1-1))","v":0.1}]
[null,"Eólica",{"$f":"OFFSET(Renovable!C99,0,($O$1-1)*12)","v":7.4},{"$f":"OFFSET(Renovable!D99,0,($O$1-1)*12)","v":"-"},{"$f":"OFFSET(Renovable!E99,0,($O$1-1)*12)","v":"-"},{"$f":"OFFSET(Renovable!F99,0,($O$1-1)*12)","v":"-"},{"$f":"OFFSET(Renovable!G99,0,($O$1-1)*12)","v":"-"},{"$f":"OFFSET(Renovable!H99,0,($O$1-1)*12)","v":"-"},{"$f":"OFFSET(Renovable!I99,0,($O$1-1)*12)","v":"-"},{"$f":"OFFSET(Renovable!J99,0,($O$1-1)*12)","v":"-"},{"$f":"OFFSET(Renovable!K99,0,($O$1-1)*12)","v":"-"},{"$f":"OFFSET(Renovable!L99,0,($O$1-1)*12)","v":"-"},{"$f":"OFFSET(Renovable!M99,0,($O$1-1)*12)","v":"-"},{"$f":"OFFSET(Renovable!N99,0,($O$1-1)*12)","v":"-"},{"$f":"OFFSET(Renovable!C138,0,($O$1-1))","v":7.4}]
[null,"Solar fotovoltaica",{"$f":"OFFSET(Renovable!C100,0,($O$1-1)*12)","v":2.2999999999999998},{"$f":"OFFSET(Renovable!D100,0,($O$1-1)*12)","v":"-"},{"$f":"OFFSET(Renovable!E100,0,($O$1-1)*12)","v":"-"},{"$f":"OFFSET(Renovable!F100,0,($O$1-1)*12)","v":"-"},{"$f":"OFFSET(Renovable!G100,0,($O$1-1)*12)","v":"-"},{"$f":"OFFSET(Renovable!H100,0,($O$1-1)*12)","v":"-"},{"$f":"OFFSET(Renovable!I100,0,($O$1-1)*12)","v":"-"},{"$f":"OFFSET(Renovable!J100,0,($O$1-1)*12)","v":"-"},{"$f":"OFFSET(Renovable!K100,0,($O$1-1)*12)","v":"-"},{"$f":"OFFSET(Renovable!L100,0,($O$1-1)*12)","v":"-"},{"$f":"OFFSET(Renovable!M100,0,($O$1-1)*12)","v":"-"},{"$f":"OFFSET(Renovable!N100,0,($O$1-1)*12)","v":"-"},{"$f":"OFFSET(Renovable!C139,0,($O$1-1))","v":2.2999999999999998}]
[null,"Térmica renovable/Otras renovables (2)",{"$f":"OFFSET(Renovable!C101,0,($O$1-1)*12)","v":0.1},{"$f":"OFFSET(Renovable!D101,0,($O$1-1)*12)","v":"-"},{"$f":"OFFSET(Renovable!E101,0,($O$1-1)*12)","v":"-"},{"$f":"OFFSET(Renovable!F101,0,($O$1-1)*12)","v":"-"},{"$f":"OFFSET(Renovable!G101,0,($O$1-1)*12)","v":"-"},{"$f":"OFFSET(Renovable!H101,0,($O$1-1)*12)","v":"-"},{"$f":"OFFSET(Renovable!I101,0,($O$1-1)*12)","v":"-"},{"$f":"OFFSET(Renovable!J101,0,($O$1-1)*12)","v":"-"},{"$f":"OFFSET(Renovable!K101,0,($O$1-1)*12)","v":"-"},{"$f":"OFFSET(Renovable!L101,0,($O$1-1)*12)","v":"-"},{"$f":"OFFSET(Renovable!M101,0,($O$1-1)*12)","v":"-"},{"$f":"OFFSET(Renovable!N101,0,($O$1-1)*12)","v":"-"},{"$f":"OFFSET(Renovable!C140,0,($O$1-1))","v":0.1}]
[null,"Generación renovable",{"$f":"IF(SUM(C10:C14)=0,\"-\",SUM(C10:C14))","v":9.9},{"$f":"IF(SUM(D10:D14)=0,\"-\",SUM(D10:D14))","v":"-"},"-","-","-","-","-","-","-","-","-","-",{"$f":"SUM(O10:O14)","v":9.9}]
[null,"(1) Asignación de unidades de producción según combustible principal."]
[null,"(2) Otras renovables incluyen biogás y biomasa."]

{"sheet":"% Renovable año Canarias","index":18,"n_rows":18,"n_cols":10,"rows_kept":18,"cut":false,"hidden":false,"merged":[[15,1,15,9],[16,1,16,9],[17,1,17,9]]}
[null,null,null,null,null,null,null,null,null,2]
[]
[null,null,null,null,null,null,null,"Concepto"]
[null,null,null,null,null,null,null,"Sistema eléctrico"]
[null,null,null,null,null,null,null,"Horizonte temporal"]
[null,null,null,null,null,null,null,"Periodo"]
[]
[null,null,{"$f":"OFFSET(Renovable!C135,0,($J$1-1)*8)","v":2014},{"$f":"OFFSET(Renovable!D135,0,($J$1-1)*8)","v":2015},{"$f":"OFFSET(Renovable!E135,0,($J$1-1)*8)","v":2016},{"$f":"OFFSET(Renovable!F135,0,($J$1-1)*8)","v":2017},{"$f":"OFFSET(Renovable!G135,0,($J$1-1)*8)","v":2018},{"$f":"OFFSET(Renovable!H135,0,($J$1-1)*8)","v":2019},{"$f":"OFFSET(Renovable!I135,0,($J$1-1)*8)","v":2020},{"$f":"OFFSET(Renovable!J135,0,($J$1-1)*8)","v":2021}]
[]
[null,"Hidráulica",{"$f":"OFFSET(Renovable!C136,0,($J$1-1)*8)","v":0},{"$f":"OFFSET(Renovable!D136,0,($J$1-1)*8)","v":0},{"$f":"OFFSET(Renovable!E136,0,($J$1-1)*8)","v":0},{"$f":"OFFSET(Renovable!F136,0,($J$1-1)*8)","v":0},{"$f":"OFFSET(Renovable!G136,0,($J$1-1)*8)","v":0},{"$f":"OFFSET(Renovable!H136,0,($J$1-1)*8)","v":0},{"$f":"OFFSET(Renovable!I136,0,($J$1-1)*8)","v":"-"},{"$f":"OFFSET(Renovable!J136,0,($J$1-1)*8)","v":"-"}]
[null,"Hidroeólica",{"$f":"OFFSET(Renovable!C137,0,($J$1-1)*8)","v":0},{"$f":"OFFSET(Renovable!D137,0,($J$1-1)*8)","v":0.1},{"$f":"OFFSET(Renovable!E137,0,($J$1-1)*8)","v":0.2},{"$f":"OFFSET(Renovable!F137,0,($J$1-1)*8)","v":0.2},{"$f":"OFFSET(Renovable!G137,0,($J$1-1)*8)","v":0.3},{"$f":"OFFSET(Renovable!H137,0,($J$1-1)*8)","v":0.1},{"$f":"OFFSET(Renovable!I137,0,($J$1-1)*8)","v":"-"},{"$f":"OFFSET(Renovable!J137,0,($J$1-1)*8)","v":"-"}]
[null,"Eólica",{"$f":"OFFSET(Renovable!C138,0,($J$1-1)*8)","v":4.5999999999999996},{"$f":"OFFSET(Renovable!D138,0,($J$1-1)*8)","v":4.5999999999999996},{"$f":"OFFSET(Renovable!E138,0,($J$1-1)*8)","v":4.5},{"$f":"OFFSET(Renovable!F138,0,($J$1-1)*8)","v":4.4000000000000004},{"$f":"OFFSET(Renovable!G138,0,($J$1-1)*8)","v":7},{"$f":"OFFSET(Renovable!H138,0,($J$1-1)*8)","v":7.4},{"$f":"OFFSET(Renovable!I138,0,($J$1-1)*8)","v":"-"},{"$f":"OFFSET(Renovable!J138,0,($J$1-1)*8)","v":"-"}]
[null,"Solar fotovoltaica",{"$f":"OFFSET(Renovable!C139,0,($J$1-1)*8)","v":3.3},{"$f":"OFFSET(Renovable!D139,0,($J$1-1)*8)","v":3.2},{"$f":"OFFSET(Renovable!E139,0,($J$1-1)*8)","v":3.2},{"$f":"OFFSET(Renovable!F139,0,($J$1-1)*8)","v":3.1},{"$f":"OFFSET(Renovable!G139,0,($J$1-1)*8)","v":3.1},{"$f":"OFFSET(Renovable!H139,0,($J$1-1)*8)","v":2.2999999999999998},{"$f":"OFFSET(Renovable!I139,0,($J$1-1)*8)","v":"-"},{"$f":"OFFSET(Renovable!J139,0,($J$1-1)*8)","v":"-"}]
[null,"Térmica renovable/Otras renovables (2)",{"$f":"OFFSET(Renovable!C140,0,($J$1-1)*8)","v":0.1},{"$f":"OFFSET(Renovable!D140,0,($J$1-1)*8)","v":0.1},{"$f":"OFFSET(Renovable!E140,0,($J$1-1)*8)","v":0.1},{"$f":"OFFSET(Renovable!F140,0,($J$1-1)*8)","v":0.1},{"$f":"OFFSET(Renovable!G140,0,($J$1-1)*8)","v":0.1},{"$f":"OFFSET(Renovable!H140,0,($J$1-1)*8)","v":0.1},{"$f":"OFFSET(Renovable!I140,0,($J$1-1)*8)","v":"-"},{"$f":"OFFSET(Renovable!J140,0,($J$1-1)*8)","v":"-"}]
[null,"Generación renovable",{"$f":"IF(SUM(C10:C14)=0,\"-\",SUM(C10:C14))","v":7.9999999999999991},{"$f":"IF(SUM(D10:D14)=0,\"-\",SUM(D10:D14))","v":7.9999999999999991},8,7.8000000000000007,10.5,9.9,"-","-"]
[null,"(1) Asignación de unidades de producción según combustible principal."]
[null,"(2) Otras renovables incluyen biogás y biomasa."]
[null,{"$f":"'Renovable año nacional'!B23:J23","v":"    Para el año 2019 valores acumulados hasta enero de 2019."}]

{"sheet":"% Renovable mes Melilla","index":19,"n_rows":14,"n_cols":15,"rows_kept":14,"cut":false,"hidden":false,"merged":[[5,2,5,9],[12,1,12,14],[13,1,13,14]]}
[null,null,null,null,null,null,null,null,null,null,null,null,null,null,13]
[]
[null,null,null,null,null,null,null,null,null,null,null,null,"Concepto"]
[null,null,null,null,null,null,null,null,null,null,null,null,"Sistema eléctrico"]
[null,null,null,null,null,null,null,null,null,null,null,null,"Horizonte temporal"]
[null,null,null,null,null,null,null,null,null,null,null,null,"Periodo"]
[]
[null,null,"Ene.","Feb.","Mar.","Abr.","May.","Jun.","Jul.","Ago.","Sep.","Oct.","Nov.","Dic.",{"$f":"OFFSET(Año!B19,($O$1-1),0)","v":2019}]
[]
[null,"Solar fotovoltaica",{"$f":"OFFSET(Renovable!C105,0,($O$1-1)*12)","v":0.03},{"$f":"OFFSET(Renovable!D105,0,($O$1-1)*12)","v":"-"},{"$f":"OFFSET(Renovable!E105,0,($O$1-1)*12)","v":"-"},{"$f":"OFFSET(Renovable!F105,0,($O$1-1)*12)","v":"-"},{"$f":"OFFSET(Renovable!G105,0,($O$1-1)*12)","v":"-"},{"$f":"OFFSET(Renovable!H105,0,($O$1-1)*12)","v":"-"},{"$f":"OFFSET(Renovable!I105,0,($O$1-1)*12)","v":"-"},{"$f":"OFFSET(Renovable!J105,0,($O$1-1)*12)","v":"-"},{"$f":"OFFSET(Renovable!K105,0,($O$1-1)*12)","v":"-"},{"$f":"OFFSET(Renovable!L105,0,($O$1-1)*12)","v":"-"},{"$f":"OFFSET(Renovable!M105,0,($O$1-1)*12)","v":"-"},{"$f":"OFFSET(Renovable!N105,0,($O$1-1)*12)","v":"-"},{"$f":"OFFSET(Renovable!C144,0,($O$1-1))","v":0.03}]
[null,"Residuos renovables (2)",{"$f":"OFFSET(Renovable!C106,0,($O$1-1)*12)","v":2.97},{"$f":"OFFSET(Renovable!D106,0,($O$1-1)*12)","v":"-"},{"$f":"OFFSET(Renovable!E106,0,($O$1-1)*12)","v":"-"},{"$f":"OFFSET(Renovable!F106,0,($O$1-1)*12)","v":"-"},{"$f":"OFFSET(Renovable!G106,0,($O$1-1)*12)","v":"-"},{"$f":"OFFSET(Renovable!H106,0,($O$1-1)*12)","v":"-"},{"$f":"OFFSET(Renovable!I106,0,($O$1-1)*12)","v":"-"},{"$f":"OFFSET(Renovable!J106,0,($O$1-1)*12)","v":"-"},{"$f":"OFFSET(Renovable!K106,0,($O$1-1)*12)","v":"-"},{"$f":"OFFSET(Renovable!L106,0,($O$1-1)*12)","v":"-"},{"$f":"OFFSET(Renovable!M106,0,($O$1-1)*12)","v":"-"},{"$f":"OFFSET(Renovable!N106,0,($O$1-1)*12)","v":"-"},{"$f":"OFFSET(Renovable!C145,0,($O$1-1))","v":2.97}]
[null,"Generación renovable",{"$f":"IF(SUM(C10:C11)=0,\"-\",SUM(C10:C11))","v":3},{"$f":"IF(SUM(D10:D11)=0,\"-\",SUM(D10:D11))","v":"-"},"-","-","-","-","-","-","-","-","-","-",3]
[null,"(1) Asignación de unidades de producción según combustible principal."]
[null,"(2) El 50% de la generación procedente de residuos sólidos urbanos se considera renovable."]

{"sheet":"% Renovable año Melilla","index":20,"n_rows":15,"n_cols":10,"rows_kept":15,"cut":false,"hidden":false,"merged":[[12,1,12,9],[14,1,14,9],[13,1,13,14]]}
[null,null,null,null,null,null,null,null,null,2]
[]
[null,null,null,null,null,null,null,"Concepto"]
[null,null,null,null,null,null,null,"Sistema eléctrico"]
[null,null,null,null,null,null,null,"Horizonte temporal"]
[null,null,null,null,null,null,null,"Periodo"]
[]
[null,null,{"$f":"OFFSET(Renovable!C143,0,($J$1-1)*8)","v":2015},{"$f":"OFFSET(Renovable!D143,0,($J$1-1)*8)","v":2016},{"$f":"OFFSET(Renovable!E143,0,($J$1-1)*8)","v":2017},{"$f":"OFFSET(Renovable!F143,0,($J$1-1)*8)","v":2018},{"$f":"OFFSET(Renovable!G143,0,($J$1-1)*8)","v":2019},{"$f":"OFFSET(Renovable!H143,0,($J$1-1)*8)","v":2020},{"$f":"OFFSET(Renovable!I143,0,($J$1-1)*8)","v":2021},{"$f":"OFFSET(Renovable!J143,0,($J$1-1)*8)","v":2022}]
[]
[null,"Solar fotovoltaica",{"$f":"OFFSET(Renovable!C144,0,($J$1-1)*8)","v":0.04},{"$f":"OFFSET(Renovable!D144,0,($J$1-1)*8)","v":0.04},{"$f":"OFFSET(Renovable!E144,0,($J$1-1)*8)","v":0.04},{"$f":"OFFSET(Renovable!F144,0,($J$1-1)*8)","v":0.04},{"$f":"OFFSET(Renovable!G144,0,($J$1-1)*8)","v":0.03},{"$f":"OFFSET(Renovable!H144,0,($J$1-1)*8)","v":"-"},{"$f":"OFFSET(Renovable!I144,0,($J$1-1)*8)","v":"-"},{"$f":"OFFSET(Renovable!J144,0,($J$1-1)*8)","v":"-"}]
[null,"Residuos renovables (2)",{"$f":"OFFSET(Renovable!C145,0,($J$1-1)*8)","v":2.02},{"$f":"OFFSET(Renovable!D145,0,($J$1-1)*8)","v":2.33},{"$f":"OFFSET(Renovable!E145,0,($J$1-1)*8)","v":2.37},{"$f":"OFFSET(Renovable!F145,0,($J$1-1)*8)","v":2.5099999999999998},{"$f":"OFFSET(Renovable!G145,0,($J$1-1)*8)","v":2.97},{"$f":"OFFSET(Renovable!H145,0,($J$1-1)*8)","v":"-"},{"$f":"OFFSET(Renovable!I145,0,($J$1-1)*8)","v":"-"},{"$f":"OFFSET(Renovable!J145,0,($J$1-1)*8)","v":"-"}]
[null,"Generación renovable",{"$f":"IF(SUM(C10:C11)=0,\"-\",SUM(C10:C11))","v":2.06},{"$f":"IF(SUM(D10:D11)=0,\"-\",SUM(D10:D11))","v":2.37},2.41,2.5499999999999998,3,"-","-","-"]
[null,"(1) Asignación de unidades de producción según combustible principal."]
[null,"(2) El 50% de la generación procedente de residuos sólidos urbanos se considera renovable."]
[null,{"$f":"'Renovable año nacional'!B23:J23","v":"    Para el año 2019 valores acumulados hasta enero de 2019."}]

{"sheet":"Maxima renovable mes nacional","index":21,"n_rows":20,"n_cols":15,"rows_kept":20,"cut":false,"hidden":false,"merged":[[19,1,19,14]]}
[null,null,null,null,null,null,null,null,null,null,null,null,null,null,10]
[]
[null,null,null,null,null,null,null,null,null,null,null,null,"Concepto"]
[null,null,null,null,null,null,null,null,null,null,null,null,"Sistema eléctrico"]
[null,null,null,null,null,null,null,null,null,null,null,null,"Horizonte temporal"]
[null,null,null,null,null,null,null,null,null,null,null,null,"Periodo"]
[]
[null,null,"Ene.","Feb.","Mar.","Abr.","May.","Jun.","Jul.","Ago.","Sep.","Oct.","Nov.","Dic.",{"$f":"OFFSET(Año!B22,($O$1-1),0)","v":2019}]
[]
[null,"Generación renovable (GWh)",{"$f":"OFFSET(Renovable!C192,0,($O$1-1)*12)","v":477.10214373999997},{"$f":"OFFSET(Renovable!D192,0,($O$1-1)*12)","v":"-"},{"$f":"OFFSET(Renovable!E192,0,($O$1-1)*12)","v":"-"},{"$f":"OFFSET(Renovable!F192,0,($O$1-1)*12)","v":"-"},{"$f":"OFFSET(Renovable!G192,0,($O$1-1)*12)","v":"-"},{"$f":"OFFSET(Renovable!H192,0,($O$1-1)*12)","v":"-"},{"$f":"OFFSET(Renovable!I192,0,($O$1-1)*12)","v":"-"},{"$f":"OFFSET(Renovable!J192,0,($O$1-1)*12)","v":"-"},{"$f":"OFFSET(Renovable!K192,0,($O$1-1)*12)","v":"-"},{"$f":"OFFSET(Renovable!L192,0,($O$1-1)*12)","v":"-"},{"$f":"OFFSET(Renovable!M192,0,($O$1-1)*12)","v":"-"},{"$f":"OFFSET(Renovable!N192,0,($O$1-1)*12)","v":"-"},{"$f":"MAX(C10:N10)","v":477.10214373999997}]
[null,"Día",{"$f":"OFFSET(Renovable!C193,0,($O$1-1)*12)","v":31},{"$f":"OFFSET(Renovable!D193,0,($O$1-1)*12)","v":"-"},{"$f":"OFFSET(Renovable!E193,0,($O$1-1)*12)","v":"-"},{"$f":"OFFSET(Renovable!F193,0,($O$1-1)*12)","v":"-"},{"$f":"OFFSET(Renovable!G193,0,($O$1-1)*12)","v":"-"},{"$f":"OFFSET(Renovable!H193,0,($O$1-1)*12)","v":"-"},{"$f":"OFFSET(Renovable!I193,0,($O$1-1)*12)","v":"-"},{"$f":"OFFSET(Renovable!J193,0,($O$1-1)*12)","v":"-"},{"$f":"OFFSET(Renovable!K193,0,($O$1-1)*12)","v":"-"},{"$f":"OFFSET(Renovable!L193,0,($O$1-1)*12)","v":"-"},{"$f":"OFFSET(Renovable!M193,0,($O$1-1)*12)","v":"-"},{"$f":"OFFSET(Renovable!N193,0,($O$1-1)*12)","v":"-"},{"$f":"HLOOKUP($O$10,C10:N11,2,0)&\" de \"&HLOOKUP($O$10,C10:N12,3,0)","v":"31 de enero"}]
[null,null,"enero","febrero","marzo","abril","mayo","junio","julio","agosto","septiembre","octubre","noviembre","diciembre"]
[]
[]
[null,null,"Ene.","Feb.","Mar.","Abr.","May.","Jun.","Jul.","Ago.","Sep.","Oct.","Nov.","Dic.",{"$f":"OFFSET(Año!B22,($O$1-1),0)","v":2019}]
[]
[null,"Participación de la generación renovable",{"$f":"OFFSET(Renovable!C196,0,($O$1-1)*12)","v":54.523968941609169},{"$f":"OFFSET(Renovable!D196,0,($O$1-1)*12)","v":"-"},{"$f":"OFFSET(Renovable!E196,0,($O$1-1)*12)","v":"-"},{"$f":"OFFSET(Renovable!F196,0,($O$1-1)*12)","v":"-"},{"$f":"OFFSET(Renovable!G196,0,($O$1-1)*12)","v":"-"},{"$f":"OFFSET(Renovable!H196,0,($O$1-1)*12)","v":"-"},{"$f":"OFFSET(Renovable!I196,0,($O$1-1)*12)","v":"-"},{"$f":"OFFSET(Renovable!J196,0,($O$1-1)*12)","v":"-"},{"$f":"OFFSET(Renovable!K196,0,($O$1-1)*12)","v":"-"},{"$f":"OFFSET(Renovable!L196,0,($O$1-1)*12)","v":"-"},{"$f":"OFFSET(Renovable!M196,0,($O$1-1)*12)","v":"-"},{"$f":"OFFSET(Renovable!N196,0,($O$1-1)*12)","v":"-"},{"$f":"MAX(C17:N17)","v":54.523968941609169}]
[null,"Día",{"$f":"OFFSET(Renovable!C197,0,($O$1-1)*12)","v":31},{"$f":"OFFSET(Renovable!D197,0,($O$1-1)*12)","v":"-"},{"$f":"OFFSET(Renovable!E197,0,($O$1-1)*12)","v":"-"},{"$f":"OFFSET(Renovable!F197,0,($O$1-1)*12)","v":"-"},{"$f":"OFFSET(Renovable!G197,0,($O$1-1)*12)","v":"-"},{"$f":"OFFSET(Renovable!H197,0,($O$1-1)*12)","v":"-"},{"$f":"OFFSET(Renovable!I197,0,($O$1-1)*12)","v":"-"},{"$f":"OFFSET(Renovable!J197,0,($O$1-1)*12)","v":"-"},{"$f":"OFFSET(Renovable!K197,0,($O$1-1)*12)","v":"-"},{"$f":"OFFSET(Renovable!L197,0,($O$1-1)*12)","v":"-"},{"$f":"OFFSET(Renovable!M197,0,($O$1-1)*12)","v":"-"},{"$f":"OFFSET(Renovable!N197,0,($O$1-1)*12)","v":"-"},{"$f":"HLOOKUP($O$17,C17:N18,2,0)&\" de \"&HLOOKUP($O$17,C17:N19,3,0)","v":"31 de enero"}]
[null,null,"enero","febrero","marzo","abril","mayo","junio","julio","agosto","septiembre","octubre","noviembre","diciembre"]
[null,"(1)Incluye hidráulica, hidroeólica, eólica, solar fotovoltaica, solar térmica y térmica renovable/otras renovables. No incluye la generación bombeo."]

{"sheet":"Maxima renovable año nacional","index":22,"n_rows":21,"n_cols":10,"rows_kept":21,"cut":false,"hidden":false,"merged":[[19,1,19,9],[20,1,20,9]]}
[null,null,null,null,null,null,null,null,null,2]
[]
[null,null,null,null,null,null,null,"Concepto"]
[null,null,null,null,null,null,null,"Sistema eléctrico"]
[null,null,null,null,null,null,null,"Horizonte temporal"]
[null,null,null,null,null,null,null,"Periodo"]
[]
[null,null,{"$f":"OFFSET(Renovable!C231,0,($J$1-1)*8)","v":"2018"},{"$f":"OFFSET(Renovable!D231,0,($J$1-1)*8)","v":"2019"},{"$f":"OFFSET(Renovable!E231,0,($J$1-1)*8)","v":"2020"},{"$f":"OFFSET(Renovable!F231,0,($J$1-1)*8)","v":"2021"},{"$f":"OFFSET(Renovable!G231,0,($J$1-1)*8)","v":"2022"},{"$f":"OFFSET(Renovable!H231,0,($J$1-1)*8)","v":"2023"},{"$f":"OFFSET(Renovable!I231,0,($J$1-1)*8)","v":"2024"},{"$f":"OFFSET(Renovable!J231,0,($J$1-1)*8)","v":"2025"}]
[]
[null,"Generación renovable (GWh)",{"$f":"OFFSET(Renovable!C232,0,($J$1-1)*8)","v":544.08694371799993},{"$f":"OFFSET(Renovable!D232,0,($J$1-1)*8)","v":477.10214373999997},{"$f":"OFFSET(Renovable!E232,0,($J$1-1)*8)","v":"-"},{"$f":"OFFSET(Renovable!F232,0,($J$1-1)*8)","v":"-"},{"$f":"OFFSET(Renovable!G232,0,($J$1-1)*8)","v":"-"},{"$f":"OFFSET(Renovable!H232,0,($J$1-1)*8)","v":"-"},{"$f":"OFFSET(Renovable!I232,0,($J$1-1)*8)","v":"-"},{"$f":"OFFSET(Renovable!J232,0,($J$1-1)*8)","v":"-"}]
[null,"Día",{"$f":"OFFSET(Renovable!C233,0,($J$1-1)*8)","v":"20 de marzo"},{"$f":"OFFSET(Renovable!D233,0,($J$1-1)*8)","v":"31 de enero"},{"$f":"OFFSET(Renovable!E233,0,($J$1-1)*8)","v":"-"},{"$f":"OFFSET(Renovable!F233,0,($J$1-1)*8)","v":"-"},{"$f":"OFFSET(Renovable!G233,0,($J$1-1)*8)","v":"-"},{"$f":"OFFSET(Renovable!H233,0,($J$1-1)*8)","v":"-"},{"$f":"OFFSET(Renovable!I233,0,($J$1-1)*8)","v":"-"},{"$f":"OFFSET(Renovable!J233,0,($J$1-1)*8)","v":"-"}]
[]
[]
[]
[null,null,{"$f":"OFFSET(Renovable!C235,0,($J$1-1)*8)","v":"2018"},{"$f":"OFFSET(Renovable!D235,0,($J$1-1)*8)","v":"2019"},{"$f":"OFFSET(Renovable!E235,0,($J$1-1)*8)","v":"2020"},{"$f":"OFFSET(Renovable!F235,0,($J$1-1)*8)","v":"2021"},{"$f":"OFFSET(Renovable!G235,0,($J$1-1)*8)","v":"2022"},{"$f":"OFFSET(Renovable!H235,0,($J$1-1)*8)","v":"2023"},{"$f":"OFFSET(Renovable!I235,0,($J$1-1)*8)","v":"2024"},{"$f":"OFFSET(Renovable!J235,0,($J$1-1)*8)","v":"2025"}]
[]
[null,"Participación generación renovable (%)",{"$f":"OFFSET(Renovable!C236,0,($J$1-1)*8)","v":64.967036900960011},{"$f":"OFFSET(Renovable!D236,0,($J$1-1)*8)","v":54.523968941609169},{"$f":"OFFSET(Renovable!E236,0,($J$1-1)*8)","v":"-"},{"$f":"OFFSET(Renovable!F236,0,($J$1-1)*8)","v":"-"},{"$f":"OFFSET(Renovable!G236,0,($J$1-1)*8)","v":"-"},{"$f":"OFFSET(Renovable!H236,0,($J$1-1)*8)","v":"-"},{"$f":"OFFSET(Renovable!I236,0,($J$1-1)*8)","v":"-"},{"$f":"OFFSET(Renovable!J236,0,($J$1-1)*8)","v":"-"}]
[null,"Día",{"$f":"OFFSET(Renovable!C237,0,($J$1-1)*8)","v":"11 de marzo"},{"$f":"OFFSET(Renovable!D237,0,($J$1-1)*8)","v":"31 de enero"},{"$f":"OFFSET(Renovable!E237,0,($J$1-1)*8)","v":"-"},{"$f":"OFFSET(Renovable!F237,0,($J$1-1)*8)","v":"-"},{"$f":"OFFSET(Renovable!G237,0,($J$1-1)*8)","v":"-"},{"$f":"OFFSET(Renovable!H237,0,($J$1-1)*8)","v":"-"},{"$f":"OFFSET(Renovable!I237,0,($J$1-1)*8)","v":"-"},{"$f":"OFFSET(Renovable!J237,0,($J$1-1)*8)","v":"-"}]
[]
[null,"(1) Incluye hidráulica, hidroeólica, eólica, solar fotovoltaica, solar térmica y térmica renovable/otras renovables. No incluye la generación bombeo."]
[null,{"$f":"'Renovable año nacional'!B23:J23","v":"    Para el año 2019 valores acumulados hasta enero de 2019."}]

{"sheet":"Maxima renovable mes Peninsular","index":23,"n_rows":20,"n_cols":15,"rows_kept":20,"cut":false,"hidden":false,"merged":[[19,1,19,14]]}
[null,null,null,null,null,null,null,null,null,null,null,null,null,null,10]
[]
[null,null,null,null,null,null,null,null,null,null,null,null,"Concepto"]
[null,null,null,null,null,null,null,null,null,null,null,null,"Sistema eléctrico"]
[null,null,null,null,null,null,null,null,null,null,null,null,"Horizonte temporal"]
[null,null,null,null,null,null,null,null,null,null,null,null,"Periodo"]
[]
[null,null,"Ene.","Feb.","Mar.","Abr.","May.","Jun.","Jul.","Ago.","Sep.","Oct.","Nov.","Dic.",{"$f":"OFFSET(Año!B22,($O$1-1),0)","v":2019}]
[]
[null,"Generación renovable (GWh)",{"$f":"OFFSET(Renovable!C160,0,($O$1-1)*12)","v":474.83674573999997},{"$f":"OFFSET(Renovable!D160,0,($O$1-1)*12)","v":"-"},{"$f":"OFFSET(Renovable!E160,0,($O$1-1)*12)","v":"-"},{"$f":"OFFSET(Renovable!F160,0,($O$1-1)*12)","v":"-"},{"$f":"OFFSET(Renovable!G160,0,($O$1-1)*12)","v":"-"},{"$f":"OFFSET(Renovable!H160,0,($O$1-1)*12)","v":"-"},{"$f":"OFFSET(Renovable!I160,0,($O$1-1)*12)","v":"-"},{"$f":"OFFSET(Renovable!J160,0,($O$1-1)*12)","v":"-"},{"$f":"OFFSET(Renovable!K160,0,($O$1-1)*12)","v":"-"},{"$f":"OFFSET(Renovable!L160,0,($O$1-1)*12)","v":"-"},{"$f":"OFFSET(Renovable!M160,0,($O$1-1)*12)","v":"-"},{"$f":"OFFSET(Renovable!N160,0,($O$1-1)*12)","v":"-"},{"$f":"MAX(C10:N10)","v":474.83674573999997}]
[null,"Día",{"$f":"OFFSET(Renovable!C161,0,($O$1-1)*12)","v":31},{"$f":"OFFSET(Renovable!D161,0,($O$1-1)*12)","v":"-"},{"$f":"OFFSET(Renovable!E161,0,($O$1-1)*12)","v":"-"},{"$f":"OFFSET(Renovable!F161,0,($O$1-1)*12)","v":"-"},{"$f":"OFFSET(Renovable!G161,0,($O$1-1)*12)","v":"-"},{"$f":"OFFSET(Renovable!H161,0,($O$1-1)*12)","v":"-"},{"$f":"OFFSET(Renovable!I161,0,($O$1-1)*12)","v":"-"},{"$f":"OFFSET(Renovable!J161,0,($O$1-1)*12)","v":"-"},{"$f":"OFFSET(Renovable!K161,0,($O$1-1)*12)","v":"-"},{"$f":"OFFSET(Renovable!L161,0,($O$1-1)*12)","v":"-"},{"$f":"OFFSET(Renovable!M161,0,($O$1-1)*12)","v":"-"},{"$f":"OFFSET(Renovable!N161,0,($O$1-1)*12)","v":"-"},{"$f":"HLOOKUP($O$10,C10:N11,2,0)&\" de \"&HLOOKUP($O$10,C10:N12,3,0)","v":"31 de enero"}]
[null,null,"enero","febrero","marzo","abril","mayo","junio","julio","agosto","septiembre","octubre","noviembre","diciembre"]
[]
[]
[null,null,"Ene.","Feb.","Mar.","Abr.","May.","Jun.","Jul.","Ago.","Sep.","Oct.","Nov.","Dic.",{"$f":"OFFSET(Año!B22,($O$1-1),0)","v":2019}]
[]
[null,"Participación generación renovable (%)",{"$f":"OFFSET(Renovable!C164,0,($O$1-1)*12)","v":56.726359428026342},{"$f":"OFFSET(Renovable!D164,0,($O$1-1)*12)","v":"-"},{"$f":"OFFSET(Renovable!E164,0,($O$1-1)*12)","v":"-"},{"$f":"OFFSET(Renovable!F164,0,($O$1-1)*12)","v":"-"},{"$f":"OFFSET(Renovable!G164,0,($O$1-1)*12)","v":"-"},{"$f":"OFFSET(Renovable!H164,0,($O$1-1)*12)","v":"-"},{"$f":"OFFSET(Renovable!I164,0,($O$1-1)*12)","v":"-"},{"$f":"OFFSET(Renovable!J164,0,($O$1-1)*12)","v":"-"},{"$f":"OFFSET(Renovable!K164,0,($O$1-1)*12)","v":"-"},{"$f":"OFFSET(Renovable!L164,0,($O$1-1)*12)","v":"-"},{"$f":"OFFSET(Renovable!M164,0,($O$1-1)*12)","v":"-"},{"$f":"OFFSET(Renovable!N164,0,($O$1-1)*12)","v":"-"},{"$f":"MAX(C17:N17)","v":56.726359428026342}]
[null,"Día",{"$f":"OFFSET(Renovable!C165,0,($O$1-1)*12)","v":31},{"$f":"OFFSET(Renovable!D165,0,($O$1-1)*12)","v":"-"},{"$f":"OFFSET(Renovable!E165,0,($O$1-1)*12)","v":"-"},{"$f":"OFFSET(Renovable!F165,0,($O$1-1)*12)","v":"-"},{"$f":"OFFSET(Renovable!G165,0,($O$1-1)*12)","v":"-"},{"$f":"OFFSET(Renovable!H165,0,($O$1-1)*12)","v":"-"},{"$f":"OFFSET(Renovable!I165,0,($O$1-1)*12)","v":"-"},{"$f":"OFFSET(Renovable!J165,0,($O$1-1)*12)","v":"-"},{"$f":"OFFSET(Renovable!K165,0,($O$1-1)*12)","v":"-"},{"$f":"OFFSET(Renovable!L165,0,($O$1-1)*12)","v":"-"},{"$f":"OFFSET(Renovable!M165,0,($O$1-1)*12)","v":"-"},{"$f":"OFFSET(Renovable!N165,0,($O$1-1)*12)","v":"-"},{"$f":"HLOOKUP($O$17,C17:N18,2,0)&\" de \"&HLOOKUP($O$17,C17:N19,3,0)","v":"31 de enero"}]
[null,null,"enero","febrero","marzo","abril","mayo","junio","julio","agosto","septiembre","octubre","noviembre","diciembre"]
[null,"(1) Incluye hidráulica, eólica, solar fotovoltaica, solar térmica y térmica renovable/otras renovables. No incluye la generación bombeo."]

{"sheet":"Maxima renovable año Peninsular","index":24,"n_rows":21,"n_cols":10,"rows_kept":21,"cut":false,"hidden":false,"merged":[[19,1,19,9],[20,1,20,9]]}
[null,null,null,null,null,null,null,null,null,2]
[]
[null,null,null,null,null,null,null,"Concepto"]
[null,null,null,null,null,null,null,"Sistema eléctrico"]
[null,null,null,null,null,null,null,"Horizonte temporal"]
[null,null,null,null,null,null,null,"Periodo"]
[]
[null,null,{"$f":"OFFSET(Renovable!C199,0,($J$1-1)*8)","v":"2018"},{"$f":"OFFSET(Renovable!D199,0,($J$1-1)*8)","v":"2019"},{"$f":"OFFSET(Renovable!E199,0,($J$1-1)*8)","v":"2020"},{"$f":"OFFSET(Renovable!F199,0,($J$1-1)*8)","v":"2021"},{"$f":"OFFSET(Renovable!G199,0,($J$1-1)*8)","v":"2022"},{"$f":"OFFSET(Renovable!H199,0,($J$1-1)*8)","v":"2023"},{"$f":"OFFSET(Renovable!I199,0,($J$1-1)*8)","v":"2024"},{"$f":"OFFSET(Renovable!J199,0,($J$1-1)*8)","v":"2025"}]
[]
[null,"Generación renovable (GWh)",{"$f":"OFFSET(Renovable!C200,0,($J$1-1)*8)","v":539.278649718},{"$f":"OFFSET(Renovable!D200,0,($J$1-1)*8)","v":474.83674573999997},{"$f":"OFFSET(Renovable!E200,0,($J$1-1)*8)","v":"-"},{"$f":"OFFSET(Renovable!F200,0,($J$1-1)*8)","v":"-"},{"$f":"OFFSET(Renovable!G200,0,($J$1-1)*8)","v":"-"},{"$f":"OFFSET(Renovable!H200,0,($J$1-1)*8)","v":"-"},{"$f":"OFFSET(Renovable!I200,0,($J$1-1)*8)","v":"-"},{"$f":"OFFSET(Renovable!J200,0,($J$1-1)*8)","v":"-"}]
[null,"Día",{"$f":"OFFSET(Renovable!C201,0,($J$1-1)*8)","v":"20 de marzo"},{"$f":"OFFSET(Renovable!D201,0,($J$1-1)*8)","v":"31 de enero"},{"$f":"OFFSET(Renovable!E201,0,($J$1-1)*8)","v":"-"},{"$f":"OFFSET(Renovable!F201,0,($J$1-1)*8)","v":"-"},{"$f":"OFFSET(Renovable!G201,0,($J$1-1)*8)","v":"-"},{"$f":"OFFSET(Renovable!H201,0,($J$1-1)*8)","v":"-"},{"$f":"OFFSET(Renovable!I201,0,($J$1-1)*8)","v":"-"},{"$f":"OFFSET(Renovable!J201,0,($J$1-1)*8)","v":"-"}]
[]
[]
[]
[null,null,{"$f":"OFFSET(Renovable!C203,0,($J$1-1)*8)","v":"2018"},{"$f":"OFFSET(Renovable!D203,0,($J$1-1)*8)","v":"2019"},{"$f":"OFFSET(Renovable!E203,0,($J$1-1)*8)","v":"2020"},{"$f":"OFFSET(Renovable!F203,0,($J$1-1)*8)","v":"2021"},{"$f":"OFFSET(Renovable!G203,0,($J$1-1)*8)","v":"2022"},{"$f":"OFFSET(Renovable!H203,0,($J$1-1)*8)","v":"2023"},{"$f":"OFFSET(Renovable!I203,0,($J$1-1)*8)","v":"2024"},{"$f":"OFFSET(Renovable!J203,0,($J$1-1)*8)","v":"2025"}]
[]
[null,"Participación generación renovable (%)",{"$f":"OFFSET(Renovable!C204,0,($J$1-1)*8)","v":67.672370256205085},{"$f":"OFFSET(Renovable!D204,0,($J$1-1)*8)","v":56.726359428026342},{"$f":"OFFSET(Renovable!E204,0,($J$1-1)*8)","v":"-"},{"$f":"OFFSET(Renovable!F204,0,($J$1-1)*8)","v":"-"},{"$f":"OFFSET(Renovable!G204,0,($J$1-1)*8)","v":"-"},{"$f":"OFFSET(Renovable!H204,0,($J$1-1)*8)","v":"-"},{"$f":"OFFSET(Renovable!I204,0,($J$1-1)*8)","v":"-"},{"$f":"OFFSET(Renovable!J204,0,($J$1-1)*8)","v":"-"}]
[null,"Día",{"$f":"OFFSET(Renovable!C205,0,($J$1-1)*8)","v":"11 de marzo"},{"$f":"OFFSET(Renovable!D205,0,($J$1-1)*8)","v":"31 de enero"},{"$f":"OFFSET(Renovable!E205,0,($J$1-1)*8)","v":"-"},{"$f":"OFFSET(Renovable!F205,0,($J$1-1)*8)","v":"-"},{"$f":"OFFSET(Renovable!G205,0,($J$1-1)*8)","v":"-"},{"$f":"OFFSET(Renovable!H205,0,($J$1-1)*8)","v":"-"},{"$f":"OFFSET(Renovable!I205,0,($J$1-1)*8)","v":"-"},{"$f":"OFFSET(Renovable!J205,0,($J$1-1)*8)","v":"-"}]
[]
[null,"(1) Incluye hidráulica, eólica, solar fotovoltaica, solar térmica y térmica renovable/otras renovables. No incluye la generación bombeo."]
[null,{"$f":"'Renovable año nacional'!B23:J23","v":"    Para el año 2019 valores acumulados hasta enero de 2019."}]

{"sheet":"Maxima renovable mes Baleares","index":25,"n_rows":20,"n_cols":15,"rows_kept":20,"cut":false,"hidden":false,"merged":[[19,1,19,14]]}
[null,null,null,null,null,null,null,null,null,null,null,null,null,null,10]
[]
[null,null,null,null,null,null,null,null,null,null,null,null,"Concepto"]
[null,null,null,null,null,null,null,null,null,null,null,null,"Sistema eléctrico"]
[null,null,null,null,null,null,null,null,null,null,null,null,"Horizonte temporal"]
[null,null,null,null,null,null,null,null,null,null,null,null,"Periodo"]
[]
[null,null,"Ene.","Feb.","Mar.","Abr.","May.","Jun.","Jul.","Ago.","Sep.","Oct.","Nov.","Dic.",{"$f":"OFFSET(Año!B22,($O$1-1),0)","v":2019}]
[]
[null,"Generación renovable (MWh)",{"$f":"OFFSET(Renovable!C168,0,($O$1-1)*12)","v":673.00850000000003},{"$f":"OFFSET(Renovable!D168,0,($O$1-1)*12)","v":"-"},{"$f":"OFFSET(Renovable!E168,0,($O$1-1)*12)","v":"-"},{"$f":"OFFSET(Renovable!F168,0,($O$1-1)*12)","v":"-"},{"$f":"OFFSET(Renovable!G168,0,($O$1-1)*12)","v":"-"},{"$f":"OFFSET(Renovable!H168,0,($O$1-1)*12)","v":"-"},{"$f":"OFFSET(Renovable!I168,0,($O$1-1)*12)","v":"-"},{"$f":"OFFSET(Renovable!J168,0,($O$1-1)*12)","v":"-"},{"$f":"OFFSET(Renovable!K168,0,($O$1-1)*12)","v":"-"},{"$f":"OFFSET(Renovable!L168,0,($O$1-1)*12)","v":"-"},{"$f":"OFFSET(Renovable!M168,0,($O$1-1)*12)","v":"-"},{"$f":"OFFSET(Renovable!N168,0,($O$1-1)*12)","v":"-"},{"$f":"MAX(C10:N10)","v":673.00850000000003}]
[null,"Día",{"$f":"OFFSET(Renovable!C169,0,($O$1-1)*12)","v":6},{"$f":"OFFSET(Renovable!D169,0,($O$1-1)*12)","v":"-"},{"$f":"OFFSET(Renovable!E169,0,($O$1-1)*12)","v":"-"},{"$f":"OFFSET(Renovable!F169,0,($O$1-1)*12)","v":"-"},{"$f":"OFFSET(Renovable!G169,0,($O$1-1)*12)","v":"-"},{"$f":"OFFSET(Renovable!H169,0,($O$1-1)*12)","v":"-"},{"$f":"OFFSET(Renovable!I169,0,($O$1-1)*12)","v":"-"},{"$f":"OFFSET(Renovable!J169,0,($O$1-1)*12)","v":"-"},{"$f":"OFFSET(Renovable!K169,0,($O$1-1)*12)","v":"-"},{"$f":"OFFSET(Renovable!L169,0,($O$1-1)*12)","v":"-"},{"$f":"OFFSET(Renovable!M169,0,($O$1-1)*12)","v":"-"},{"$f":"OFFSET(Renovable!N169,0,($O$1-1)*12)","v":"-"},{"$f":"HLOOKUP($O$10,C10:N11,2,0)&\" de \"&HLOOKUP($O$10,C10:N12,3,0)","v":"6 de enero"}]
[null,null,"enero","febrero","marzo","abril","mayo","junio","julio","agosto","septiembre","octubre","noviembre","diciembre"]
[]
[]
[null,null,"Ene.","Feb.","Mar.","Abr.","May.","Jun.","Jul.","Ago.","Sep.","Oct.","Nov.","Dic.",{"$f":"OFFSET(Año!B22,($O$1-1),0)","v":2019}]
[]
[null,"Participación generación renovable (%)",{"$f":"OFFSET(Renovable!C172,0,($O$1-1)*12)","v":6.7719566853813822},{"$f":"OFFSET(Renovable!D172,0,($O$1-1)*12)","v":"-"},{"$f":"OFFSET(Renovable!E172,0,($O$1-1)*12)","v":"-"},{"$f":"OFFSET(Renovable!F172,0,($O$1-1)*12)","v":"-"},{"$f":"OFFSET(Renovable!G172,0,($O$1-1)*12)","v":"-"},{"$f":"OFFSET(Renovable!H172,0,($O$1-1)*12)","v":"-"},{"$f":"OFFSET(Renovable!I172,0,($O$1-1)*12)","v":"-"},{"$f":"OFFSET(Renovable!J172,0,($O$1-1)*12)","v":"-"},{"$f":"OFFSET(Renovable!K172,0,($O$1-1)*12)","v":"-"},{"$f":"OFFSET(Renovable!L172,0,($O$1-1)*12)","v":"-"},{"$f":"OFFSET(Renovable!M172,0,($O$1-1)*12)","v":"-"},{"$f":"OFFSET(Renovable!N172,0,($O$1-1)*12)","v":"-"},{"$f":"MAX(C17:N17)","v":6.7719566853813822}]
[null,"Día",{"$f":"OFFSET(Renovable!C173,0,($O$1-1)*12)","v":6},{"$f":"OFFSET(Renovable!D173,0,($O$1-1)*12)","v":"-"},{"$f":"OFFSET(Renovable!E173,0,($O$1-1)*12)","v":"-"},{"$f":"OFFSET(Renovable!F173,0,($O$1-1)*12)","v":"-"},{"$f":"OFFSET(Renovable!G173,0,($O$1-1)*12)","v":"-"},{"$f":"OFFSET(Renovable!H173,0,($O$1-1)*12)","v":"-"},{"$f":"OFFSET(Renovable!I173,0,($O$1-1)*12)","v":"-"},{"$f":"OFFSET(Renovable!J173,0,($O$1-1)*12)","v":"-"},{"$f":"OFFSET(Renovable!K173,0,($O$1-1)*12)","v":"-"},{"$f":"OFFSET(Renovable!L173,0,($O$1-1)*12)","v":"-"},{"$f":"OFFSET(Renovable!M173,0,($O$1-1)*12)","v":"-"},{"$f":"OFFSET(Renovable!N173,0,($O$1-1)*12)","v":"-"},{"$f":"HLOOKUP($O$17,C17:N18,2,0)&\" de \"&HLOOKUP($O$17,C17:N19,3,0)","v":"6 de enero"}]
[null,null,"enero","febrero","marzo","abril","mayo","junio","julio","agosto","septiembre","octubre","noviembre","diciembre"]
[null,"(1) Incluye eólica, solar fotovoltaica y térmica renovable/otras renovables."]

{"sheet":"Maxima renovable año Baleares","index":26,"n_rows":21,"n_cols":10,"rows_kept":21,"cut":false,"hidden":false,"merged":[[19,1,19,9],[20,1,20,9]]}
[null,null,null,null,null,null,null,null,null,2]
[]
[null,null,null,null,null,null,null,"Concepto"]
[null,null,null,null,null,null,null,"Sistema eléctrico"]
[null,null,null,null,null,null,null,"Horizonte temporal"]
[null,null,null,null,null,null,null,"Periodo"]
[]
[null,null,{"$f":"OFFSET(Renovable!C207,0,($J$1-1)*8)","v":"2018"},{"$f":"OFFSET(Renovable!D207,0,($J$1-1)*8)","v":"2019"},{"$f":"OFFSET(Renovable!E207,0,($J$1-1)*8)","v":"2020"},{"$f":"OFFSET(Renovable!F207,0,($J$1-1)*8)","v":"2021"},{"$f":"OFFSET(Renovable!G207,0,($J$1-1)*8)","v":"2022"},{"$f":"OFFSET(Renovable!H207,0,($J$1-1)*8)","v":"2023"},{"$f":"OFFSET(Renovable!I207,0,($J$1-1)*8)","v":"2024"},{"$f":"OFFSET(Renovable!J207,0,($J$1-1)*8)","v":"2025"}]
[]
[null,"Generación renovable (MWh)",{"$f":"OFFSET(Renovable!C208,0,($J$1-1)*8)","v":1042.7764999999999},{"$f":"OFFSET(Renovable!D208,0,($J$1-1)*8)","v":673.00850000000003},{"$f":"OFFSET(Renovable!E208,0,($J$1-1)*8)","v":"-"},{"$f":"OFFSET(Renovable!F208,0,($J$1-1)*8)","v":"-"},{"$f":"OFFSET(Renovable!G208,0,($J$1-1)*8)","v":"-"},{"$f":"OFFSET(Renovable!H208,0,($J$1-1)*8)","v":"-"},{"$f":"OFFSET(Renovable!I208,0,($J$1-1)*8)","v":"-"},{"$f":"OFFSET(Renovable!J208,0,($J$1-1)*8)","v":"-"}]
[null,"Día",{"$f":"OFFSET(Renovable!C209,0,($J$1-1)*8)","v":"2 de mayo"},{"$f":"OFFSET(Renovable!D209,0,($J$1-1)*8)","v":"6 de enero"},{"$f":"OFFSET(Renovable!E209,0,($J$1-1)*8)","v":"-"},{"$f":"OFFSET(Renovable!F209,0,($J$1-1)*8)","v":"-"},{"$f":"OFFSET(Renovable!G209,0,($J$1-1)*8)","v":"-"},{"$f":"OFFSET(Renovable!H209,0,($J$1-1)*8)","v":"-"},{"$f":"OFFSET(Renovable!I209,0,($J$1-1)*8)","v":"-"},{"$f":"OFFSET(Renovable!J209,0,($J$1-1)*8)","v":"-"}]
[]
[]
[]
[null,null,{"$f":"OFFSET(Renovable!C211,0,($J$1-1)*8)","v":"2018"},{"$f":"OFFSET(Renovable!D211,0,($J$1-1)*8)","v":"2019"},{"$f":"OFFSET(Renovable!E211,0,($J$1-1)*8)","v":"2020"},{"$f":"OFFSET(Renovable!F211,0,($J$1-1)*8)","v":"2021"},{"$f":"OFFSET(Renovable!G211,0,($J$1-1)*8)","v":"2022"},{"$f":"OFFSET(Renovable!H211,0,($J$1-1)*8)","v":"2023"},{"$f":"OFFSET(Renovable!I211,0,($J$1-1)*8)","v":"2024"},{"$f":"OFFSET(Renovable!J211,0,($J$1-1)*8)","v":"2025"}]
[]
[null,"Participación generación renovable (%)",{"$f":"OFFSET(Renovable!C212,0,($J$1-1)*8)","v":8.7165538841565962},{"$f":"OFFSET(Renovable!D212,0,($J$1-1)*8)","v":6.7719566853813822},{"$f":"OFFSET(Renovable!E212,0,($J$1-1)*8)","v":"-"},{"$f":"OFFSET(Renovable!F212,0,($J$1-1)*8)","v":"-"},{"$f":"OFFSET(Renovable!G212,0,($J$1-1)*8)","v":"-"},{"$f":"OFFSET(Renovable!H212,0,($J$1-1)*8)","v":"-"},{"$f":"OFFSET(Renovable!I212,0,($J$1-1)*8)","v":"-"},{"$f":"OFFSET(Renovable!J212,0,($J$1-1)*8)","v":"-"}]
[null,"Día",{"$f":"OFFSET(Renovable!C213,0,($J$1-1)*8)","v":"2 de mayo"},{"$f":"OFFSET(Renovable!D213,0,($J$1-1)*8)","v":"6 de enero"},{"$f":"OFFSET(Renovable!E213,0,($J$1-1)*8)","v":"-"},{"$f":"OFFSET(Renovable!F213,0,($J$1-1)*8)","v":"-"},{"$f":"OFFSET(Renovable!G213,0,($J$1-1)*8)","v":"-"},{"$f":"OFFSET(Renovable!H213,0,($J$1-1)*8)","v":"-"},{"$f":"OFFSET(Renovable!I213,0,($J$1-1)*8)","v":"-"},{"$f":"OFFSET(Renovable!J213,0,($J$1-1)*8)","v":"-"}]
[]
[null,"(1) Incluye eólica, solar fotovoltaica y térmica renovable/otras renovables."]
[null,{"$f":"'Renovable año nacional'!B23:J23","v":"    Para el año 2019 valores acumulados hasta enero de 2019."}]

{"sheet":"Maxima renovable mes Canarias","index":27,"n_rows":20,"n_cols":15,"rows_kept":20,"cut":false,"hidden":false,"merged":[[19,1,19,14]]}
[null,null,null,null,null,null,null,null,null,null,null,null,null,null,10]
[]
[null,null,null,null,null,null,null,null,null,null,null,null,"Concepto"]
[null,null,null,null,null,null,null,null,null,null,null,null,"Sistema eléctrico"]
[null,null,null,null,null,null,null,null,null,null,null,null,"Horizonte temporal"]
[null,null,null,null,null,null,null,null,null,null,null,null,"Periodo"]
[]
[null,null,"Ene.","Feb.","Mar.","Abr.","May.","Jun.","Jul.","Ago.","Sep.","Oct.","Nov.","Dic.",{"$f":"OFFSET(Año!B22,($O$1-1),0)","v":2019}]
[]
[null,"Generación renovable (MWh)",{"$f":"OFFSET(Renovable!C176,0,($O$1-1)*12)","v":5803.0469999999996},{"$f":"OFFSET(Renovable!D176,0,($O$1-1)*12)","v":"-"},{"$f":"OFFSET(Renovable!E176,0,($O$1-1)*12)","v":"-"},{"$f":"OFFSET(Renovable!F176,0,($O$1-1)*12)","v":"-"},{"$f":"OFFSET(Renovable!G176,0,($O$1-1)*12)","v":"-"},{"$f":"OFFSET(Renovable!H176,0,($O$1-1)*12)","v":"-"},{"$f":"OFFSET(Renovable!I176,0,($O$1-1)*12)","v":"-"},{"$f":"OFFSET(Renovable!J176,0,($O$1-1)*12)","v":"-"},{"$f":"OFFSET(Renovable!K176,0,($O$1-1)*12)","v":"-"},{"$f":"OFFSET(Renovable!L176,0,($O$1-1)*12)","v":"-"},{"$f":"OFFSET(Renovable!M176,0,($O$1-1)*12)","v":"-"},{"$f":"OFFSET(Renovable!N176,0,($O$1-1)*12)","v":"-"},{"$f":"MAX(C10:N10)","v":5803.0469999999996}]
[null,"Día",{"$f":"OFFSET(Renovable!C177,0,($O$1-1)*12)","v":28},{"$f":"OFFSET(Renovable!D177,0,($O$1-1)*12)","v":"-"},{"$f":"OFFSET(Renovable!E177,0,($O$1-1)*12)","v":"-"},{"$f":"OFFSET(Renovable!F177,0,($O$1-1)*12)","v":"-"},{"$f":"OFFSET(Renovable!G177,0,($O$1-1)*12)","v":"-"},{"$f":"OFFSET(Renovable!H177,0,($O$1-1)*12)","v":"-"},{"$f":"OFFSET(Renovable!I177,0,($O$1-1)*12)","v":"-"},{"$f":"OFFSET(Renovable!J177,0,($O$1-1)*12)","v":"-"},{"$f":"OFFSET(Renovable!K177,0,($O$1-1)*12)","v":"-"},{"$f":"OFFSET(Renovable!L177,0,($O$1-1)*12)","v":"-"},{"$f":"OFFSET(Renovable!M177,0,($O$1-1)*12)","v":"-"},{"$f":"OFFSET(Renovable!N177,0,($O$1-1)*12)","v":"-"},{"$f":"HLOOKUP($O$10,C10:N11,2,0)&\" de \"&HLOOKUP($O$10,C10:N12,3,0)","v":"28 de enero"}]
[null,null,"enero","febrero","marzo","abril","mayo","junio","julio","agosto","septiembre","octubre","noviembre","diciembre"]
[]
[]
[null,null,"Ene.","Feb.","Mar.","Abr.","May.","Jun.","Jul.","Ago.","Sep.","Oct.","Nov.","Dic.",{"$f":"OFFSET(Año!B22,($O$1-1),0)","v":2019}]
[]
[null,"Participación generación renovable (%)",{"$f":"OFFSET(Renovable!C180,0,($O$1-1)*12)","v":23.378519877220029},{"$f":"OFFSET(Renovable!D180,0,($O$1-1)*12)","v":"-"},{"$f":"OFFSET(Renovable!E180,0,($O$1-1)*12)","v":"-"},{"$f":"OFFSET(Renovable!F180,0,($O$1-1)*12)","v":"-"},{"$f":"OFFSET(Renovable!G180,0,($O$1-1)*12)","v":"-"},{"$f":"OFFSET(Renovable!H180,0,($O$1-1)*12)","v":"-"},{"$f":"OFFSET(Renovable!I180,0,($O$1-1)*12)","v":"-"},{"$f":"OFFSET(Renovable!J180,0,($O$1-1)*12)","v":"-"},{"$f":"OFFSET(Renovable!K180,0,($O$1-1)*12)","v":"-"},{"$f":"OFFSET(Renovable!L180,0,($O$1-1)*12)","v":"-"},{"$f":"OFFSET(Renovable!M180,0,($O$1-1)*12)","v":"-"},{"$f":"OFFSET(Renovable!N180,0,($O$1-1)*12)","v":"-"},{"$f":"MAX(C17:N17)","v":23.378519877220029}]
[null,"Día",{"$f":"OFFSET(Renovable!C181,0,($O$1-1)*12)","v":28},{"$f":"OFFSET(Renovable!D181,0,($O$1-1)*12)","v":"-"},{"$f":"OFFSET(Renovable!E181,0,($O$1-1)*12)","v":"-"},{"$f":"OFFSET(Renovable!F181,0,($O$1-1)*12)","v":"-"},{"$f":"OFFSET(Renovable!G181,0,($O$1-1)*12)","v":"-"},{"$f":"OFFSET(Renovable!H181,0,($O$1-1)*12)","v":"-"},{"$f":"OFFSET(Renovable!I181,0,($O$1-1)*12)","v":"-"},{"$f":"OFFSET(Renovable!J181,0,($O$1-1)*12)","v":"-"},{"$f":"OFFSET(Renovable!K181,0,($O$1-1)*12)","v":"-"},{"$f":"OFFSET(Renovable!L181,0,($O$1-1)*12)","v":"-"},{"$f":"OFFSET(Renovable!M181,0,($O$1-1)*12)","v":"-"},{"$f":"OFFSET(Renovable!N181,0,($O$1-1)*12)","v":"-"},{"$f":"HLOOKUP($O$17,C17:N18,2,0)&\" de \"&HLOOKUP($O$17,C17:N19,3,0)","v":"28 de enero"}]
[null,null,"enero","febrero","marzo","abril","mayo","junio","julio","agosto","septiembre","octubre","noviembre","diciembre"]
[null,"(1) Incluye hidráulica, hidroeólica, eólica, solar fotovoltaica y térmica renovable/otras renovables."]

{"sheet":"Maxima renovable año Canarias","index":28,"n_rows":21,"n_cols":10,"rows_kept":21,"cut":false,"hidden":false,"merged":[[19,1,19,9],[20,1,20,9]]}
[null,null,null,null,null,null,null,null,null,2]
[]
[null,null,null,null,null,null,null,"Concepto"]
[null,null,null,null,null,null,null,"Sistema eléctrico"]
[null,null,null,null,null,null,null,"Horizonte temporal"]
[null,null,null,null,null,null,null,"Periodo"]
[]
[null,null,{"$f":"OFFSET(Renovable!C215,0,($J$1-1)*8)","v":"2018"},{"$f":"OFFSET(Renovable!D215,0,($J$1-1)*8)","v":"2019"},{"$f":"OFFSET(Renovable!E215,0,($J$1-1)*8)","v":"2020"},{"$f":"OFFSET(Renovable!F215,0,($J$1-1)*8)","v":"2021"},{"$f":"OFFSET(Renovable!G215,0,($J$1-1)*8)","v":"2022"},{"$f":"OFFSET(Renovable!H215,0,($J$1-1)*8)","v":"2023"},{"$f":"OFFSET(Renovable!I215,0,($J$1-1)*8)","v":"2024"},{"$f":"OFFSET(Renovable!J215,0,($J$1-1)*8)","v":"2025"}]
[]
[null,"Generación renovable (MWh)",{"$f":"OFFSET(Renovable!C216,0,($J$1-1)*8)","v":5430.7340000000004},{"$f":"OFFSET(Renovable!D216,0,($J$1-1)*8)","v":5803.0469999999996},{"$f":"OFFSET(Renovable!E216,0,($J$1-1)*8)","v":"-"},{"$f":"OFFSET(Renovable!F216,0,($J$1-1)*8)","v":"-"},{"$f":"OFFSET(Renovable!G216,0,($J$1-1)*8)","v":"-"},{"$f":"OFFSET(Renovable!H216,0,($J$1-1)*8)","v":"-"},{"$f":"OFFSET(Renovable!I216,0,($J$1-1)*8)","v":"-"},{"$f":"OFFSET(Renovable!J216,0,($J$1-1)*8)","v":"-"}]
[null,"Día",{"$f":"OFFSET(Renovable!C217,0,($J$1-1)*8)","v":"12 de mayo"},{"$f":"OFFSET(Renovable!D217,0,($J$1-1)*8)","v":"28 de enero"},{"$f":"OFFSET(Renovable!E217,0,($J$1-1)*8)","v":"-"},{"$f":"OFFSET(Renovable!F217,0,($J$1-1)*8)","v":"-"},{"$f":"OFFSET(Renovable!G217,0,($J$1-1)*8)","v":"-"},{"$f":"OFFSET(Renovable!H217,0,($J$1-1)*8)","v":"-"},{"$f":"OFFSET(Renovable!I217,0,($J$1-1)*8)","v":"-"},{"$f":"OFFSET(Renovable!J217,0,($J$1-1)*8)","v":"-"}]
[]
[]
[]
[null,null,{"$f":"OFFSET(Renovable!C219,0,($J$1-1)*8)","v":"2018"},{"$f":"OFFSET(Renovable!D219,0,($J$1-1)*8)","v":"2019"},{"$f":"OFFSET(Renovable!E219,0,($J$1-1)*8)","v":"2020"},{"$f":"OFFSET(Renovable!F219,0,($J$1-1)*8)","v":"2021"},{"$f":"OFFSET(Renovable!G219,0,($J$1-1)*8)","v":"2022"},{"$f":"OFFSET(Renovable!H219,0,($J$1-1)*8)","v":"2023"},{"$f":"OFFSET(Renovable!I219,0,($J$1-1)*8)","v":"2024"},{"$f":"OFFSET(Renovable!J219,0,($J$1-1)*8)","v":"2025"}]
[]
[null,"Participación generación renovable (%)",{"$f":"OFFSET(Renovable!C220,0,($J$1-1)*8)","v":25.599660635910958},{"$f":"OFFSET(Renovable!D220,0,($J$1-1)*8)","v":23.378519877220029},{"$f":"OFFSET(Renovable!E220,0,($J$1-1)*8)","v":"-"},{"$f":"OFFSET(Renovable!F220,0,($J$1-1)*8)","v":"-"},{"$f":"OFFSET(Renovable!G220,0,($J$1-1)*8)","v":"-"},{"$f":"OFFSET(Renovable!H220,0,($J$1-1)*8)","v":"-"},{"$f":"OFFSET(Renovable!I220,0,($J$1-1)*8)","v":"-"},{"$f":"OFFSET(Renovable!J220,0,($J$1-1)*8)","v":"-"}]
[null,"Día",{"$f":"OFFSET(Renovable!C221,0,($J$1-1)*8)","v":"13 de mayo"},{"$f":"OFFSET(Renovable!D221,0,($J$1-1)*8)","v":"28 de enero"},{"$f":"OFFSET(Renovable!E221,0,($J$1-1)*8)","v":"-"},{"$f":"OFFSET(Renovable!F221,0,($J$1-1)*8)","v":"-"},{"$f":"OFFSET(Renovable!G221,0,($J$1-1)*8)","v":"-"},{"$f":"OFFSET(Renovable!H221,0,($J$1-1)*8)","v":"-"},{"$f":"OFFSET(Renovable!I221,0,($J$1-1)*8)","v":"-"},{"$f":"OFFSET(Renovable!J221,0,($J$1-1)*8)","v":"-"}]
[]
[null,"(1) Incluye hidráulica, hidroeólica, eólica, solar fotovoltaica y térmica renovable/otras renovables."]
[null,{"$f":"'Renovable año nacional'!B23:J23","v":"    Para el año 2019 valores acumulados hasta enero de 2019."}]

{"sheet":"Maxima renovable mes Melilla","index":29,"n_rows":20,"n_cols":15,"rows_kept":20,"cut":false,"hidden":false,"merged":[[19,1,19,14]]}
[null,null,null,null,null,null,null,null,null,null,null,null,null,null,10]
[]
[null,null,null,null,null,null,null,null,null,null,null,null,"Concepto"]
[null,null,null,null,null,null,null,null,null,null,null,null,"Sistema eléctrico"]
[null,null,null,null,null,null,null,null,null,null,null,null,"Horizonte temporal"]
[null,null,null,null,null,null,null,null,null,null,null,null,"Periodo"]
[]
[null,null,"Ene.","Feb.","Mar.","Abr.","May.","Jun.","Jul.","Ago.","Sep.","Oct.","Nov.","Dic.",{"$f":"OFFSET(Año!B22,($O$1-1),0)","v":2019}]
[]
[null,"Generación renovable (MWh)",{"$f":"OFFSET(Renovable!C184,0,($O$1-1)*12)","v":19.371500000000001},{"$f":"OFFSET(Renovable!D184,0,($O$1-1)*12)","v":"-"},{"$f":"OFFSET(Renovable!E184,0,($O$1-1)*12)","v":"-"},{"$f":"OFFSET(Renovable!F184,0,($O$1-1)*12)","v":"-"},{"$f":"OFFSET(Renovable!G184,0,($O$1-1)*12)","v":"-"},{"$f":"OFFSET(Renovable!H184,0,($O$1-1)*12)","v":"-"},{"$f":"OFFSET(Renovable!I184,0,($O$1-1)*12)","v":"-"},{"$f":"OFFSET(Renovable!J184,0,($O$1-1)*12)","v":"-"},{"$f":"OFFSET(Renovable!K184,0,($O$1-1)*12)","v":"-"},{"$f":"OFFSET(Renovable!L184,0,($O$1-1)*12)","v":"-"},{"$f":"OFFSET(Renovable!M184,0,($O$1-1)*12)","v":"-"},{"$f":"OFFSET(Renovable!N184,0,($O$1-1)*12)","v":"-"},{"$f":"MAX(C10:N10)","v":19.371500000000001}]
[null,"Día",{"$f":"OFFSET(Renovable!C185,0,($O$1-1)*12)","v":1},{"$f":"OFFSET(Renovable!D185,0,($O$1-1)*12)","v":"-"},{"$f":"OFFSET(Renovable!E185,0,($O$1-1)*12)","v":"-"},{"$f":"OFFSET(Renovable!F185,0,($O$1-1)*12)","v":"-"},{"$f":"OFFSET(Renovable!G185,0,($O$1-1)*12)","v":"-"},{"$f":"OFFSET(Renovable!H185,0,($O$1-1)*12)","v":"-"},{"$f":"OFFSET(Renovable!I185,0,($O$1-1)*12)","v":"-"},{"$f":"OFFSET(Renovable!J185,0,($O$1-1)*12)","v":"-"},{"$f":"OFFSET(Renovable!K185,0,($O$1-1)*12)","v":"-"},{"$f":"OFFSET(Renovable!L185,0,($O$1-1)*12)","v":"-"},{"$f":"OFFSET(Renovable!M185,0,($O$1-1)*12)","v":"-"},{"$f":"OFFSET(Renovable!N185,0,($O$1-1)*12)","v":"-"},{"$f":"HLOOKUP($O$10,C10:N11,2,0)&\" de \"&HLOOKUP($O$10,C10:N12,3,0)","v":"1 de enero"}]
[null,null,"enero","febrero","marzo","abril","mayo","junio","julio","agosto","septiembre","octubre","noviembre","diciembre"]
[]
[]
[null,null,"Ene.","Feb.","Mar.","Abr.","May.","Jun.","Jul.","Ago.","Sep.","Oct.","Nov.","Dic.",{"$f":"OFFSET(Año!B22,($O$1-1),0)","v":2019}]
[]
[null,"Participación generación renovable (%)",{"$f":"OFFSET(Renovable!C188,0,($O$1-1)*12)","v":3.7948956043740774},{"$f":"OFFSET(Renovable!D188,0,($O$1-1)*12)","v":"-"},{"$f":"OFFSET(Renovable!E188,0,($O$1-1)*12)","v":"-"},{"$f":"OFFSET(Renovable!F188,0,($O$1-1)*12)","v":"-"},{"$f":"OFFSET(Renovable!G188,0,($O$1-1)*12)","v":"-"},{"$f":"OFFSET(Renovable!H188,0,($O$1-1)*12)","v":"-"},{"$f":"OFFSET(Renovable!I188,0,($O$1-1)*12)","v":"-"},{"$f":"OFFSET(Renovable!J188,0,($O$1-1)*12)","v":"-"},{"$f":"OFFSET(Renovable!K188,0,($O$1-1)*12)","v":"-"},{"$f":"OFFSET(Renovable!L188,0,($O$1-1)*12)","v":"-"},{"$f":"OFFSET(Renovable!M188,0,($O$1-1)*12)","v":"-"},{"$f":"OFFSET(Renovable!N188,0,($O$1-1)*12)","v":"-"},{"$f":"MAX(C17:N17)","v":3.7948956043740774}]
[null,"Día",{"$f":"OFFSET(Renovable!C189,0,($O$1-1)*12)","v":1},{"$f":"OFFSET(Renovable!D189,0,($O$1-1)*12)","v":"-"},{"$f":"OFFSET(Renovable!E189,0,($O$1-1)*12)","v":"-"},{"$f":"OFFSET(Renovable!F189,0,($O$1-1)*12)","v":"-"},{"$f":"OFFSET(Renovable!G189,0,($O$1-1)*12)","v":"-"},{"$f":"OFFSET(Renovable!H189,0,($O$1-1)*12)","v":"-"},{"$f":"OFFSET(Renovable!I189,0,($O$1-1)*12)","v":"-"},{"$f":"OFFSET(Renovable!J189,0,($O$1-1)*12)","v":"-"},{"$f":"OFFSET(Renovable!K189,0,($O$1-1)*12)","v":"-"},{"$f":"OFFSET(Renovable!L189,0,($O$1-1)*12)","v":"-"},{"$f":"OFFSET(Renovable!M189,0,($O$1-1)*12)","v":"-"},{"$f":"OFFSET(Renovable!N189,0,($O$1-1)*12)","v":"-"},{"$f":"HLOOKUP($O$17,C17:N18,2,0)&\" de \"&HLOOKUP($O$17,C17:N19,3,0)","v":"1 de enero"}]
[null,null,"enero","febrero","marzo","abril","mayo","junio","julio","agosto","septiembre","octubre","noviembre","diciembre"]
[null,"(1) Incluye solar fotovoltaica."]

{"sheet":"Maxima renovable año Melilla","index":30,"n_rows":21,"n_cols":10,"rows_kept":21,"cut":false,"hidden":false,"merged":[[19,1,19,9],[20,1,20,9]]}
[null,null,null,null,null,null,null,null,null,2]
[]
[null,null,null,null,null,null,null,"Concepto"]
[null,null,null,null,null,null,null,"Sistema eléctrico"]
[null,null,null,null,null,null,null,"Horizonte temporal"]
[null,null,null,null,null,null,null,"Periodo"]
[]
[null,null,{"$f":"OFFSET(Renovable!C223,0,($J$1-1)*8)","v":"2018"},{"$f":"OFFSET(Renovable!D223,0,($J$1-1)*8)","v":"2019"},{"$f":"OFFSET(Renovable!E223,0,($J$1-1)*8)","v":"2020"},{"$f":"OFFSET(Renovable!F223,0,($J$1-1)*8)","v":"2021"},{"$f":"OFFSET(Renovable!G223,0,($J$1-1)*8)","v":"2022"},{"$f":"OFFSET(Renovable!H223,0,($J$1-1)*8)","v":"2023"},{"$f":"OFFSET(Renovable!I223,0,($J$1-1)*8)","v":"2024"},{"$f":"OFFSET(Renovable!J223,0,($J$1-1)*8)","v":"2025"}]
[]
[null,"Generación renovable (MWh)",{"$f":"OFFSET(Renovable!C224,0,($J$1-1)*8)","v":20.782499999999999},{"$f":"OFFSET(Renovable!D224,0,($J$1-1)*8)","v":19.371500000000001},{"$f":"OFFSET(Renovable!E224,0,($J$1-1)*8)","v":"-"},{"$f":"OFFSET(Renovable!F224,0,($J$1-1)*8)","v":"-"},{"$f":"OFFSET(Renovable!G224,0,($J$1-1)*8)","v":"-"},{"$f":"OFFSET(Renovable!H224,0,($J$1-1)*8)","v":"-"},{"$f":"OFFSET(Renovable!I224,0,($J$1-1)*8)","v":"-"},{"$f":"OFFSET(Renovable!J224,0,($J$1-1)*8)","v":"-"}]
[null,"Día",{"$f":"OFFSET(Renovable!C225,0,($J$1-1)*8)","v":"24 de diciembre"},{"$f":"OFFSET(Renovable!D225,0,($J$1-1)*8)","v":"1 de enero"},{"$f":"OFFSET(Renovable!E225,0,($J$1-1)*8)","v":"-"},{"$f":"OFFSET(Renovable!F225,0,($J$1-1)*8)","v":"-"},{"$f":"OFFSET(Renovable!G225,0,($J$1-1)*8)","v":"-"},{"$f":"OFFSET(Renovable!H225,0,($J$1-1)*8)","v":"-"},{"$f":"OFFSET(Renovable!I225,0,($J$1-1)*8)","v":"-"},{"$f":"OFFSET(Renovable!J225,0,($J$1-1)*8)","v":"-"}]
[]
[]
[]
[null,null,{"$f":"OFFSET(Renovable!C227,0,($J$1-1)*8)","v":"2018"},{"$f":"OFFSET(Renovable!D227,0,($J$1-1)*8)","v":"2019"},{"$f":"OFFSET(Renovable!E227,0,($J$1-1)*8)","v":"2020"},{"$f":"OFFSET(Renovable!F227,0,($J$1-1)*8)","v":"2021"},{"$f":"OFFSET(Renovable!G227,0,($J$1-1)*8)","v":"2022"},{"$f":"OFFSET(Renovable!H227,0,($J$1-1)*8)","v":"2023"},{"$f":"OFFSET(Renovable!I227,0,($J$1-1)*8)","v":"2024"},{"$f":"OFFSET(Renovable!J227,0,($J$1-1)*8)","v":"2025"}]
[]
[null,"Participación generación renovable (%)",{"$f":"OFFSET(Renovable!C228,0,($J$1-1)*8)","v":3.90762553400576},{"$f":"OFFSET(Renovable!D228,0,($J$1-1)*8)","v":3.7948956043740774},{"$f":"OFFSET(Renovable!E228,0,($J$1-1)*8)","v":"-"},{"$f":"OFFSET(Renovable!F228,0,($J$1-1)*8)","v":"-"},{"$f":"OFFSET(Renovable!G228,0,($J$1-1)*8)","v":"-"},{"$f":"OFFSET(Renovable!H228,0,($J$1-1)*8)","v":"-"},{"$f":"OFFSET(Renovable!I228,0,($J$1-1)*8)","v":"-"},{"$f":"OFFSET(Renovable!J228,0,($J$1-1)*8)","v":"-"}]
[null,"Día",{"$f":"OFFSET(Renovable!C229,0,($J$1-1)*8)","v":"8 de diciembre"},{"$f":"OFFSET(Renovable!D229,0,($J$1-1)*8)","v":"1 de enero"},{"$f":"OFFSET(Renovable!E229,0,($J$1-1)*8)","v":"-"},{"$f":"OFFSET(Renovable!F229,0,($J$1-1)*8)","v":"-"},{"$f":"OFFSET(Renovable!G229,0,($J$1-1)*8)","v":"-"},{"$f":"OFFSET(Renovable!H229,0,($J$1-1)*8)","v":"-"},{"$f":"OFFSET(Renovable!I229,0,($J$1-1)*8)","v":"-"},{"$f":"OFFSET(Renovable!J229,0,($J$1-1)*8)","v":"-"}]
[]
[null,"(1) Incluye solar fotovoltaica."]
[null,{"$f":"'Renovable año nacional'!B23:J23","v":"    Para el año 2019 valores acumulados hasta enero de 2019."}]

{"sheet":"Renovable","index":31,"n_rows":237,"n_cols":362,"rows_kept":237,"cut":false,"hidden":true,"merged":[]}
[]
[null,"Generación renovable mensual peninsular (GWh)","1990-01-01","1990-02-01","1990-03-01","1990-04-01","1990-05-01","1990-06-01","1990-07-01","1990-08-01","1990-09-01","1990-10-01","1990-11-01","1990-12-01","1991-01-01","1991-02-01","1991-03-01","1991-04-01","1991-05-01","1991-06-01","1991-07-01","1991-08-01","1991-09-01","1991-10-01","1991-11-01","1991-12-01","1992-01-01","1992-02-01","1992-03-01","1992-04-01","1992-05-01","1992-06-01","1992-07-01","1992-08-01","1992-09-01","1992-10-01","1992-11-01","1992-12-01","1993-01-01","1993-02-01","1993-03-01","1993-04-01","1993-05-01","1993-06-01","1993-07-01","1993-08-01","1993-09-01","1993-10-01","1993-11-01","1993-12-01","1994-01-01","1994-02-01","1994-03-01","1994-04-01","1994-05-01","1994-06-01","1994-07-01","1994-08-01","1994-09-01","1994-10-01","1994-11-01","1994-12-01","1995-01-01","1995-02-01","1995-03-01","1995-04-01","1995-05-01","1995-06-01","1995-07-01","1995-08-01","1995-09-01","1995-10-01","1995-11-01","1995-12-01","1996-01-01","1996-02-01","1996-03-01","1996-04-01","1996-05-01","1996-06-01","1996-07-01","1996-08-01","1996-09-01","1996-10-01","1996-11-01","1996-12-01","1997-01-01","1997-02-01","1997-03-01","1997-04-01","1997-05-01","1997-06-01","1997-07-01","1997-08-01","1997-09-01","1997-10-01","1997-11-01","1997-12-01","1998-01-01","1998-02-01","1998-03-01","1998-04-01","1998-05-01","1998-06-01","1998-07-01","1998-08-01","1998-09-01","1998-10-01","1998-11-01","1998-12-01","1999-01-01","1999-02-01","1999-03-01","1999-04-01","1999-05-01","1999-06-01","1999-07-01","1999-08-01","1999-09-01","1999-10-01","1999-11-01","1999-12-01","2000-01-01","2000-02-01","2000-03-01","2000-04-01","2000-05-01","2000-06-01","2000-07-01","2000-08-01","2000-09-01","2000-10-01","2000-11-01","2000-12-01","2001-01-01","2001-02-01","2001-03-01","2001-04-01","2001-05-01","2001-06-01","2001-07-01","2001-08-01","2001-09-01","2001-10-01","2001-11-01","2001-12-01","2002-01-01","2002-02-01","2002-03-01","2002-04-01","2002-05-01","2002-06-01","2002-07-01","2002-08-01","2002-09-01","2002-10-01","2002-11-01","2002-12-01","2003-01-01","2003-02-01","2003-03-01","2003-04-01","2003-05-01","2003-06-01","2003-07-01","2003-08-01","2003-09-01","2003-10-01","2003-11-01","2003-12-01","2004-01-01","2004-02-01","2004-03-01","2004-04-01","2004-05-01","2004-06-01","2004-07-01","2004-08-01","2004-09-01","2004-10-01","2004-11-01","2004-12-01","2005-01-01","2005-02-01","2005-03-01","2005-04-01","2005-05-01","2005-06-01","2005-07-01","2005-08-01","2005-09-01","2005-10-01","2005-11-01","2005-12-01","2006-01-01","2006-02-01","2006-03-01","2006-04-01","2006-05-01","2006-06-01","2006-07-01","2006-08-01","2006-09-01","2006-10-01","2006-11-01","2006-12-01","2007-01-01","2007-02-01","2007-03-01","2007-04-01","2007-05-01","2007-06-01","2007-07-01","2007-08-01","2007-09-01","2007-10-01","2007-11-01","2007-12-01","2008-01-01","2008-02-01","2008-03-01","2008-04-01","2008-05-01","2008-06-01","2008-07-01","2008-08-01","2008-09-01","2008-10-01","2008-11-01","2008-12-01","2009-01-01","2009-02-01","2009-03-01","2009-04-01","2009-05-01","2009-06-01","2009-07-01","2009-08-01","2009-09-01","2009-10-01","2009-11-01","2009-12-01","2010-01-01","2010-02-01","2010-03-01","2010-04-01","2010-05-01","2010-06-01","2010-07-01","2010-08-01","2010-09-01","2010-10-01","2010-11-01","2010-12-01","2011-01-01","2011-02-01","2011-03-01","2011-04-01","2011-05-01","2011-06-01","2011-07-01","2011-08-01","2011-09-01","2011-10-01","2011-11-01","2011-12-01","2012-01-01","2012-02-01","2012-03-01","2012-04-01","2012-05-01","2012-06-01","2012-07-01","2012-08-01","2012-09-01","2012-10-01","2012-11-01","2012-12-01","2013-01-01","2013-02-01","2013-03-01","2013-04-01","2013-05-01","2013-06-01","2013-07-01","2013-08-01","2013-09-01","2013-10-01","2013-11-01","2013-12-01","2014-01-01","2014-02-01","2014-03-01","2014-04-01","2014-05-01","2014-06-01","2014-07-01","2014-08-01","2014-09-01","2014-10-01","2014-11-01","2014-12-01","2015-01-01","2015-02-01","2015-03-01","2015-04-01","2015-05-01","2015-06-01","2015-07-01","2015-08-01","2015-09-01","2015-10-01","2015-11-01","2015-12-01","2016-01-01","2016-02-01","2016-03-01","2016-04-01","2016-05-01","2016-06-01","2016-07-01","2016-08-01","2016-09-01","2016-10-01","2016-11-01","2016-12-01","2017-01-01","2017-02-01","2017-03-01","2017-04-01","2017-05-01","2017-06-01","2017-07-01","2017-08-01","2017-09-01","2017-10-01","2017-11-01","2017-12-01","2018-01-01","2018-02-01","2018-03-01","2018-04-01","2018-05-01","2018-06-01","2018-07-01","2018-08-01","2018-09-01","2018-10-01","2018-11-01","2018-12-01","2019-01-01","2019-02-01","2019-03-01","2019-04-01","2019-05-01","2019-06-01","2019-07-01","2019-08-01","2019-09-01","2019-10-01","2019-11-01","2019-12-01"]
[null,"Hidráulica",3918.6756999899985,3333.6373999899988,2452.5296999900006,1755.3215000099992,1836.9247999600011,1831.1812,1599.5272,1227.5304000099989,1212.3348999900018,1406.6942999900016,1978.2071000100023,1970.8284000200008,2646.6083999999978,2042.3738999999991,3829.2158000000013,3506.8193000000006,2889.9026999999978,2118.4462000000017,1720.5286000000008,1135.8450000000005,1128.8659000000009,1550.5056999999983,1986.0650999999968,1877.5383000000015,1376.0016000000014,813.44850000000224,812.44099999999878,1582.5798999999995,1481.0745000000004,1588.5271999999991,1671.8658999999986,1139.313400000003,1221.0871999999983,1868.7011000000014,2199.0006999999987,2884.5994999999984,2173.1173000000017,1502.9727000000032,1455.1871999999971,1164.1771999999969,1876.6057000000003,2205.2416000000007,1883.671800000001,1243.7568999999987,1206.9291999999984,2848.0511000000001,3456.333699999997,2732.6732999999986,3848.8667999999993,3146.5759000000003,2820.2586999999967,2398.8496999999998,2650.6784999999977,2431.9060000000031,1837.9286,1341.2518000000002,1259.9082000000008,1548.221899999998,2325.1986000000015,1874.2890000000034,2861.6679000000004,2714.2804000000024,3221.3851999999997,1904.7217000000037,1751.5128999999972,1755.6952999999999,1620.4474999999998,1073.0142999999989,920.77769999999805,964.20070000000248,1234.4229999999989,2439.8351999999995,5798.4195,5606.293200000001,3664.3790999999992,3799.0388999999973,3915.0154000000007,2960.097299999999,2330.1721999999977,1600.7672,1815.6719000000003,1824.5397000000023,2263.2826999999988,4290.9273000000012,5684.4498000000012,3581.0204000000017,2731.3905999999988,2366.0040999999987,2308.7508000000016,2434.5350999999982,2116.8502000000017,1777.8007000000011,1657.3872999999994,1516.2137999999989,3502.8993000000009,5432.9556000000011,5963.3463189999984,4078.0179179999986,2761.2236650000032,3545.7668250000002,4114.8965720000006,3491.0453449999991,2600.1673469999992,2084.7041950000012,1867.1826139999996,2039.8562300000006,1546.0187280000007,1341.7833590000007,1435.381996000001,1375.9401120000005,2045.5525310000014,2202.866888999999,2949.5291129999991,2537.296394,1988.1703430000011,1470.8378269999985,1552.6355930000002,1749.2019979999991,2846.8107769999997,2883.4810390000016,2589.1341800000032,1638.4939390000004,1550.299816,2240.1018179999983,3358.3857090000015,2368.2929510000008,1747.0345189999989,1756.8036050000003,1839.7727870000015,1741.5708850000003,2504.6593090000006,4559.3852149999984,6401.7812030000005,5857.9647640000012,6695.6863809999995,4446.3046649999997,3444.0422900000021,2580.3498950000012,2085.7399300000006,1948.3742780000005,1501.0325370000014,1780.3360149999987,2034.87437,1615.613505,1348.5069490000001,1190.1598400000003,1906.6972519999999,1894.1599519999997,1992.4765420000003,1952.9635219999996,1371.151243,1054.3396230000001,1042.1822970000003,1218.436046,1998.0882449999997,4256.1634280000007,5658.6594390000009,4415.6092399999998,4604.8005899999998,3922.2165259999992,3724.8399740000004,2368.664178,1983.2693690000001,1467.3093350000001,1660.067,2011.6807959999996,3295.5660600000001,4984.3247380000003,3782.3554689999992,3398.4499579999974,3183.4420380000006,3036.1932299999999,3363.8568820000023,2760.2781030000001,2113.3441749999988,1758.3455250000015,1536.4519330000051,1745.0940810000027,2368.9555459999983,1823.2705450000014,1563.69751,1539.4898270000024,1810.9639500000012,2099.5035439999992,2187.2687029999988,1823.5216189999976,1308.169944000002,1129.5996179999979,819.03049099999816,856.89464299999827,1399.5003409999965,1710.5568490000005,1634.5281729999999,1190.4160349999979,3010.6922699999977,2727.2634560000015,2135.3524450000014,1504.0543000000016,1506.8628000000028,1033.5581999999999,1116.2089000000005,1636.5318999999988,2970.4035999999978,4909.0766999999951,2265.5368000000003,3018.5306999999998,3928.3883999999998,2867.4611,2837.4746,2309.4112,2454.6642999999999,1770.7816,1376.0554999999999,1712.4373000000001,1341.9655,1221.5961,1393.1777999999999,957.65150000000006,1075.7952,2740.0094000000026,3370.1599000000001,3175.4914999999996,2181.8665999999998,1539.6016,1313.4237999999998,1095.1625000000001,1592.7958000000003,2498.6459999999997,2274.4840999999997,3482.0334999999995,2794.2226000000001,2205.6007,2585.8144000000002,2128.0412000000001,1758.4123999999999,1449.8247999999999,993.20990000000006,1258.9399000000001,2027.0112999999999,3228.3808999999997,5178.6461132999993,4067.3035615999997,5816.5380444000002,4720.0521306999999,3862.8820475999996,3555.0361532000002,2896.7724070000004,2036.8298135,1530.4573436999997,1601.5020285000001,2611.5180676999998,3956.2364768999996,5119.5142923059993,2998.0530731980002,3910.3634720999999,3537.700427364,2797.3373155580002,2070.1764733959999,1661.6813599360003,1520.7674838820001,1221.392502212,1250.0419452880001,2163.12471362,2185.5103413500001,1631.03818716,1224.63656702,1340.84974558,1743.8977061160001,2534.8081181940001,2105.9088873760002,1664.128374704,1334.583379312,1035.2794563020002,1388.690342006,1986.432599534,2661.544171994,3014.2266592600004,3550.9591098160004,4586.8360081000001,5389.8503917779999,3818.8021478500004,3208.6506248320002,2723.5418248139999,2143.5335464660002,1825.8582698720002,1866.4299935179999,2804.7062146239996,2449.0107400100001,4261.0894408300001,5762.97680786,5292.718580058,4986.5678638279996,2826.4663612419999,2485.440481572,2354.5106886840003,2044.576989228,1796.8504679580001,1631.74783108,2451.8058291900002,3283.7728176739997,2554.5274943639997,3558.7372285259999,3845.2803957779997,2662.5207724859997,2966.8797230719997,2497.294804308,2060.0958996879999,1643.4177310919999,1609.2271818899999,1649.8575365440001,1892.3834139960002,1438.789389106,3441.5204669499999,4052.6014005740003,4366.2379949660008,5244.5851729240003,5100.8993495119994,2955.8731448839999,2272.8888052259999,2046.8134319440001,1653.36592744,1631.5607705920002,1498.794683218,1846.2932175420001,2040.378652334,1956.351218862,2700.9675717360001,1897.7219954679999,1935.158531156,1637.6011437760001,1192.784178952,1082.4397687339999,1147.5808360619999,773.35631237799998,832.42263153200008,1250.58393067,2194.602565786,2388.8610043500003,4401.3150475559996,4717.0216492459995,3521.329633324,3710.881286584,3025.8312845859996,2104.5646688919996,1926.4552017620001,1460.273611328,2160.6427868139999,2485.0180456440003,2125.7801672559999,"-","-","-","-","-","-","-","-","-","-","-"]
[null,"Eólica",0.115,0.19899998999999999,0.18,0.189,0.17399999999999999,0.12,0.26,0.186,0.13100000000000001,0.17,0.20699999999999999,0.25599999000000001,0.192,0.14299999999999999,0.21199999999999999,0.56200000000000006,0.32200000000000001,0.2,0.184,0.21199999999999999,0.14399999999999999,0.24199999999999999,0.27100000000000002,0.18099999999999999,0.26200000000000001,0.22500000000000001,0.313,0.20699999999999999,0.19500000000000001,0.16300000000000001,0.19500000000000001,0.66600000000000004,1.2949999999999999,2.137,2.5070000000000001,9.1959999999999997,7.1150000000000002,11.385999999999999,7.3259999999999996,6.1639999999999997,5.2709999999999999,7.9740000000000002,7.391,6.9809999999999999,5.6310000000000002,7.1980000000000004,6.7279999999999998,5.6029999999999998,6.899,4.8140000000000001,8.7690000000000001,6.859,4.97,6.4619999999999997,3.859,5.3929999999999998,5.0469999999999997,6.3360000000000003,7.78,5.6719999999999997,7.87,7.6749999999999998,8.4960000000000004,11.901999999999999,9.2110000000000003,8.8979999999999997,14.465,17.63,14.853,27.623000000000001,13.795,17.439,18.829999999999998,22.030999999999999,24.646000000000001,26.102,23.157,27.099,25.434000000000001,15.643000000000001,22.706,30.321000000000002,31.616,36.543999999999997,39.627000000000002,32.179000000000002,46.04,56.365000000000002,39.409999999999997,43.759,57.268000000000001,41.052999999999997,45.835000000000001,69.47,72.793999999999997,76.084999999999994,85.726278999999991,73.041770999999997,100.15667400000001,97.154274999999998,87.936697000000009,72.687051000000011,112.78895799999999,131.01327799999996,104.74763500000003,104.14675399999999,128.51891699999999,138.738417,159.91106499999998,214.37513500000003,206.77279700000003,190.99942600000003,173.14856599999996,212.21415299999998,177.00095900000005,139.30212900000004,172.17858000000001,199.35031500000005,312.98064799999997,315.79952500000002,305.02478600000001,295.11369999999994,338.14951600000018,416.02144200000009,226.957358,365.846115,360.05244799999997,315.70721200000003,276.36600500000014,409.72117300000014,544.09382199999982,609.44247300000018,594.73167599999999,573.65477800000008,654.24861100000021,650.22456599999998,424.36108700000011,408.90728200000012,400.20572300000021,374.72081200000002,611.54289400000005,574.769948,768.828981,557.95175500000039,657.00929500000052,782.54075799999964,795.79277999999965,618.78730799999983,820.58633199999974,646.36536599999977,693.5828309999996,598.4340899999994,505.37139599999978,869.00001900000052,1056.9575050000003,1214.8690069999998,1395.1710190000006,997.62484999999981,837.86062599999968,1138.0008659999992,901.86601600000074,703.48306400000013,727.40598099999977,543.97083900000018,781.24529999999993,1086.9553520000009,1172.985179,1433.6770410000006,1685.3449229999994,1074.4477040000002,1281.2794619999981,1519.3727670000001,1019.3578530000005,1048.3327160000013,970.02610899999979,1114.316325,1147.637898,1635.2691430000013,1511.2452730000009,1747.4875960000002,1879.1933479999996,1745.3139569999989,1763.5135970000013,1926.4580810000014,1492.0681999999997,1261.4607640000008,1611.0284699999993,1640.4408529999992,1271.4945329999998,1902.7245970000004,1958.5321529999999,2405.4374059999986,1563.7009309999996,1924.8670310000009,2788.2671979999986,1955.917235000001,1670.5176799999992,1364.4480000000001,1171.7909999999999,2177.8209999999999,1465.816,2334.8020000000001,2279.5230000000001,2183.3850000000002,2149.8069999999998,2871.9189999999999,3086.2469999999998,1356.316,2605.873,1786.288,1888.6089999999999,2419.819,2028.855,1907.625,2752.3119999999999,2395.4850000000001,2651.4679999999998,2018.9480000000001,4092.55,3352.6860000000001,1737.1610000000001,2085.509,2124.2370000000001,1972.5229999999999,2129.8850000000002,2482.0129999999999,3462.6880000000001,3648.1819999999998,3503.799,3226.32,3100.5160000000001,3059.6579999999999,2698.0039999999999,2332.395,2426.1289999999999,2235.837,2466.7310000000002,3125.33,4792.63,4921.2280000000001,4292.0919999999996,4622.4350000000004,4546.5469999999996,2634.819,3619.3339999999998,2576.1970000000001,2798.1329999999998,2894.7440000000001,2301.3229999999999,3952.8310000000001,4348.0590000000002,4621.8819999999996,4021.6643770000001,4028.6172820000002,4692.9673940000002,3399.8872000000001,3166.0120389999997,2937.4943399999997,3254.704718,2730.8525729999997,2322.956455,3152.1980950000002,3819.8568319999999,4588.5757880000001,3648.791131,5018.8625980000006,3811.353286,5306.3904899999998,3707.8793420000002,3429.2009370000001,2981.9125909999998,3126.884376,3940.3415269999996,3129.8213919999998,4604.8423119999998,5449.977965,6291.5742340000006,5340.9964380000001,5749.1031590000002,4396.7821030000005,3932.3500819999999,3827.0522629999996,2844.212849,3411.0235109999999,3214.2725030000001,3963.879786,6429.8138399999998,4943.4400140000007,6540.9186050000008,5884.2852869999997,5050.0050980000005,3950.2180450000001,4134.8413840000003,3275.5992140000003,3591.601846,2857.5115260000002,2132.6135279999999,3382.7660619999997,5071.980759,4764.3211100000008,4912.4598219999998,5948.1740439999994,4865.124194,3904.5184380000001,4800.4531200000001,2873.2880989999999,3053.3742540000003,3237.3727000000003,3002.6945469999996,3889.9814689999998,3699.8798859999997,3528.5615720000001,5604.84411,6068.142812,5409.6029699999999,4414.6531100000002,3902.1857669999999,3226.8572280000003,3464.678578,3603.8620529999998,2666.8878199999999,2376.0109070000003,3888.7489649999998,2671.6893480000003,4796.9646359999997,4905.5372690000004,4687.8387709999997,4177.3396290000001,3440.3491309999999,3152.0795880000001,3336.7890189999998,3296.3615829999999,2817.340224,3186.7215690000003,3957.5312259999996,5753.2533069999999,5291.4194160000006,4633.9354239999993,7651.2250329999997,4411.1356210000004,3258.0972870000001,2571.6879290000002,2478.5888460000001,3064.8479609999999,2404.0393210000002,4295.7756229999995,4525.9501870000004,4315.0254100000002,5970.5410169999996,"-","-","-","-","-","-","-","-","-","-","-"]
[null,"Solar fotovoltaica","-","-","-","-","-","-","-","-","-","-","-","-","-","-","-","-","-","-","-","-","-","-","-","-",1.01,0.77200000000000002,0.57199999999999995,1.2889999999999999,1.113,1.1639999999999999,1.3069999999999999,1.155,1.2230000000000001,0.94399999999999995,0.56999999999999995,0.93700000000000006,0.53800000000000003,0.53300000000000003,1.252,1.3029999999999999,1.05,1.069,1.2729999999999999,1.1930000000000001,0.88,0.72,1.2629999999999999,0.92600000000000005,0.97799999999999998,1.242,1.0649999999999999,1.208,1.742,1.484,1.635,1.6679999999999999,1.69,1.5209999999999999,1.004,5.8900000000000001E-2,6.4000000000000001E-2,6.8000000000000005E-2,0.112,0.11700000000000001,0.13200000000000001,0.111,0.105,9.6000000000000002E-2,9.0999999999999998E-2,4.8000000000000001E-2,9.0999999999999998E-2,2.7E-2,2.4E-2,3.3000000000000002E-2,4.7E-2,9.2999999999999999E-2,8.5999999999999993E-2,0.11700000000000001,0.107,0.10299999999999999,9.6000000000000002E-2,9.5000000000000001E-2,6.4000000000000001E-2,2.5999999999999999E-2,4.1000000000000002E-2,8.7999999999999995E-2,8.7999999999999995E-2,0.11899999999999999,9.2999999999999999E-2,0.107,0.14299999999999999,8.6999999999999994E-2,0.12,9.6000000000000002E-2,0.105,0.04,4.9634999999999999E-2,7.0578000000000002E-2,0.11298999999999999,0.11806,9.6176999999999999E-2,0.13051699999999999,0.13625000000000001,0.11049299999999999,9.6509999999999999E-2,0.11281099999999999,6.9553000000000004E-2,6.6723000000000005E-2,5.3642000000000002E-2,0.107873,0.15287999999999999,0.117727,0.12252399999999999,0.14707999999999999,0.159277,0.14216999999999999,0.121715,8.8742000000000001E-2,7.9733999999999999E-2,4.7816999999999998E-2,-2.6860999999999999E-2,0.101559,0.124075,1.2024E-2,0.205484,0.16091,1.9984999999999999E-2,0.29827199999999998,0.13695099999999999,0.12126000000000001,7.2305999999999995E-2,4.3852000000000002E-2,5.4684999999999997E-2,9.8405999999999993E-2,0.10854,0.17056499999999999,0.156555,0.197492,0.16886599999999999,0.21376400000000001,0.12875300000000001,0.163998,9.4907000000000005E-2,8.3112000000000005E-2,0.126051,0.22952900000000001,0.27410599999999996,0.39638100000000026,0.47843600000000014,0.47939100000000001,0.5380640000000001,0.53365199999999957,0.48980900000000005,0.41930600000000023,0.31798800000000005,0.27873900000000007,0.33177200000000012,0.40585699999999975,0.56218699999999999,0.71534800000000021,0.85679699999999903,0.97693399999999941,1.1408959999999975,1.0179979999999982,0.91532600000000108,0.80906499999999926,0.5318040000000005,0.66612099999999963,0.57597900000000002,0.83336899999999914,1.1270059999999986,1.3765969999999994,1.6380649999999966,1.9365689999999964,2.0151259999999924,2.030071999999997,1.8506319999999978,1.7061280000000048,1.3758539999999999,1.3286139999999964,1.3100380000000011,1.5964899999999982,2.7521050000000016,2.9168830000000008,3.6370650000000015,4.27022700000001,4.3964089999999914,4.5427230000000041,4.2910249999999994,3.9432079999999976,3.2481789999999919,3.1839970000000024,2.5656399999999966,4.3413879999999949,5.1637430000000002,7.3147159999999678,8.7745119999999783,10.192,11.021000000000001,13.52,11.63,9.9489999999999998,8.077,9.8260000000000005,9.6859999999999999,12.005000000000001,20.550999999999998,24.491,34.18,38.843000000000004,49.655000000000001,53.862000000000002,58.231000000000002,55.534999999999997,52.622,52.915999999999997,57.420999999999999,70.549000000000007,104.43300000000001,126.235,131.75399999999999,189.70699999999999,232.23400000000001,288.11200000000002,317.11099999999999,320.166,324.32100000000003,244.02699999999999,248.703,380.17399999999998,508.66199999999998,546.45500000000004,647.31700000000001,618.52800000000002,690.86199999999997,637.125,492.28899999999999,482.28500000000003,345.4,231.20500000000001,248.57499999999999,289.95,458.21699999999998,565.84,683.24800000000005,656.76599999999996,752.89,691.53200000000004,605.38800000000003,525.85500000000002,364.05200000000002,297.46899999999999,330.68600699999996,481.49165600000003,508.85102799999999,631.95621400000005,716.83767699999999,778.34355299999993,825.35251599999992,772.15048100000001,705.19609800000001,603.4457460000001,345.87802099999999,405.681805,482.67955800000004,635.51407200000006,736.9448000000001,627.60361,826.20912199999998,839.14592000000005,902.62741599999993,826.45653000000004,658.33498299999997,566.69292599999994,350.39532500000001,377.46511400000003,418.75289099999998,500.85101500000002,531.47993799999995,725.43592799999999,832.56004599999994,886.25145299999997,929.53256899999997,857.08086300000002,724.78513499999997,603.79004599999996,490.22813000000002,417.62809000000004,352.69103699999999,405.78451200000001,697.70298899999989,753.33708700000011,882.62790899999993,862.91634699999997,910.10322699999995,871.55282799999998,655.18204099999991,616.96482700000001,362.10219900000004,431.825917,493.21754399999998,469.24167199999999,677.67495999999994,718.22592500000007,880.71278599999994,848.44801699999994,888.93508099999997,793.67625100000009,691.73586899999998,510.878196,503.19186200000001,369.376374,337.68606399999999,452.53453100000002,674.59281199999998,686.153009,769.18945700000006,881.46239099999991,875.51018299999998,855.09481499999993,730.02335900000003,555.78306200000009,402.9502,358.23832900000002,452.33744199999995,419.297686,679.82795399999998,798.19205199999999,834.11876599999994,840.61535100000003,875.22784799999999,779.85282999999993,742.38754799999992,652.66983100000004,516.98067500000002,409.20418100000001,418.42106100000001,487.84570400000001,555.91664099999991,664.77,778.08782200000007,779.94395099999997,890.96731299999999,806.33146099999999,686.52648799999997,539.81325900000002,352.61965600000002,401.50109600000002,476.80772400000001,"-","-","-","-","-","-","-","-","-","-","-"]
[null,"Solar térmica","-","-","-","-","-","-","-","-","-","-","-","-","-","-","-","-","-","-","-","-","-","-","-","-","-","-","-","-","-","-","-","-","-","-","-","-","-","-","-","-","-","-","-","-","-","-","-","-","-","-","-","-","-","-","-","-","-","-","-","-","-","-","-","-","-","-","-","-","-","-","-","-","-","-","-","-","-","-","-","-","-","-","-","-","-","-","-","-","-","-","-","-","-","-","-","-","-","-","-","-","-","-","-","-","-","-","-","-","-","-","-","-","-","-","-","-","-","-","-","-","-","-","-","-","-","-","-","-","-","-","-","-","-","-","-","-","-","-","-","-","-","-","-","-","-","-","-","-","-","-","-","-","-","-","-","-","-","-","-","-","-","-","-","-","-","-","-","-","-","-","-","-","-","-","-","-","-","-","-","-","-","-","-","-","-","-","-","-","-","-","-","-",0,0,0,0,0,0,0,0,0,0,0,0,0,0,0.43099999999999999,0.34200000000000003,0.55800000000000005,0.88300000000000001,1.256,1.1160000000000001,0.63900000000000001,1.214,0.997,0.191,1.0840000000000001,0.79700000000000004,1.4610000000000001,0.95799999999999996,0.94199999999999995,1.9630000000000001,2.0379999999999998,1.98,0.85899999999999999,0.86599999999999999,1.27,1.1599999999999999,0.69,1.236,2.323,7.2039999999999997,7.6580000000000004,6.7519999999999998,12.414,23.867999999999999,17.539000000000001,23.446000000000002,16.183,10.51,13.151999999999999,11.682,23.731999999999999,36.92,69.084000000000003,72.531999999999996,104.59,121.9,100.917,71.745000000000005,31.619,33.747,39.743130000000001,88.657368000000005,98.457166999999998,137.83512100000002,160.44092499999999,247.970979,284.05997400000001,235.32909799999999,228.55802400000002,172.94973899999999,81.173647000000003,86.466376999999994,117.342049,200.34185399999998,235.11348100000001,177.77704500000002,348.382183,414.74907200000001,541.31674100000009,485.12652700000001,368.64290099999999,289.15457700000002,133.961873,135.585309,113.494435,204.009049,125.370378,300.89360499999998,499.267989,647.33005299999991,758.52291099999991,661.85580500000003,478.95522799999998,294.24195199999997,199.223861,158.362269,79.800654999999992,103.26450199999999,385.17531600000001,435.52705900000001,729.93555500000002,687.28808200000003,811.15318400000001,833.17848000000004,389.59590299999996,289.33703000000003,90.187433999999996,124.47172599999999,176.95139600000002,190.92526000000001,415.82866200000001,393.16048599999999,694.83874000000003,734.05393700000002,888.91770999999994,607.62348800000007,483.25015300000001,188.16886600000001,226.81775099999999,84.699065000000004,59.913641000000005,133.00979000000001,387.86076199999997,408.32323200000002,498.79538199999996,813.99067100000002,825.32457999999997,805.81879700000002,595.62669299999993,284.70289100000002,139.69961799999999,118.13564500000001,149.21208100000001,88.740902000000006,340.84468499999997,535.25547800000004,607.89817700000003,761.902153,812.88028599999996,692.43517500000007,608.14265499999999,398.79322200000001,220.652322,131.19532899999999,112.387517,229.80815100000001,233.95594299999999,325.935092,477.20963399999999,551.29260299999999,858.89832999999999,688.557997,465.63698499999998,292.49343099999999,78.576116999999996,109.576809,166.15013300000001,"-","-","-","-","-","-","-","-","-","-","-"]
[null,"Térmica renovable/Otras renovables","-","-","-","-","-","-","-","-","-","-","-","-","-","-","-","-","-","-","-","-","-",0.47899999999999998,0.19500000000000001,0.18,0.22600000000000001,0.185,0.20899999999999999,0.186,0.219,2.4910000000000001,0.85499999999999998,1.6519999999999999,2.1949999999999998,3.1859999999999999,2.8519999999999999,2.2930000000000001,2.7469999999999999,4.2910000000000004,5.55,5.08,5.1909999999999998,4.069,4.4050000000000002,5.0549999999999997,4.7699999999999996,5.9989999999999997,6.5289999999999999,5.1360000000000001,6.1820000000000004,4.2009999999999996,7.7879999999999994,12.483000000000001,22.434000000000001,14.593,25.895,34.064,35.963000000000001,40.081000000000003,55.064999999999998,63.701000000000001,52.516000000000005,54.168999999999997,59.649000000000001,59.275000000000006,60.629999999999995,38.39,56.09,56.16,55.471000000000004,65.760999999999996,51.017000000000003,62.140999999999998,61.97,55.767000000000003,73.194000000000003,69.39,67.606999999999999,74.480999999999995,76.311000000000007,76.088999999999999,74.905000000000001,70.728000000000009,57.923000000000002,56.715000000000003,56.474000000000004,46.637,55.156000000000006,57.041000000000004,57.334000000000003,33.856000000000002,57.003,53.271999999999998,57.103999999999999,61.066000000000003,58.17,55.262,29.002800999999998,53.305843000000003,61.54951100000001,62.649002999999993,69.878224000000017,68.57453000000001,70.406914,67.345651000000004,60.385233999999997,67.235011999999998,69.010128999999992,69.403475,71.806641999999997,67.74066400000001,76.241169000000014,70.55664800000001,71.228352999999998,64.031021999999993,80.270443,79.088937999999999,85.153421000000009,84.480839000000003,82.713457999999989,74.942079000000007,77.705164000000011,72.094493,81.578700000000012,75.639544999999998,57.155141000000015,64.878718000000006,80.062335000000004,78.219893000000013,86.225769,91.935601000000005,96.959690999999992,98.655336000000005,114.03217000000001,103.259727,115.38466,106.780576,116.22663500000002,163.25343300000003,164.15603399999998,142.64494099999999,174.91251699999998,184.36809099999999,170.80096299999997,182.63868100000002,102.326662,103.97290799999999,114.93776699999999,113.40504600000001,116.82101699999998,106.527145,125.927582,138.27553399999999,128.41537399999999,130.56901199999999,128.796967,143.04027199999999,125.499869,125.666718,141.367661,136.22556399999999,148.43464900000001,135.67495399999999,145.85112000000001,152.32964200000001,154.93832699999999,162.073384,144.46359000000001,164.51626000000002,165.78169199999999,141.425287,163.310002,158.00111900000002,158.15428799999998,141.57013900000001,142.66767899999999,139.21697600000002,148.774135,152.85692900000001,147.72687300000001,158.60851299999999,174.85460999999998,150.82777100000001,176.75611499999999,159.635672,172.11730599999999,162.54098200000001,167.51991400000003,173.00340799999998,160.25450599999999,152.959924,165.98202600000002,171.40583599999999,172.08671999999999,164.50467899999998,179.21714800000001,172.15726300000003,184.66687200000001,201.17400000000001,194.67,180.72499999999999,181.291,197.31100000000001,176.12700000000001,178.67599999999999,195.417,170.86799999999999,196.96199999999999,184.11799999999999,197.114,193.24700000000001,203.05199999999999,202.649,191.273,224.429,204.15700000000001,212.399,218.304,215.69800000000001,223.7,221.483,218.887,220.45099999999999,223.50399999999999,218.31,211.55500000000001,229.72499999999999,225.65600000000001,224.21600000000001,243.68600000000001,231.25299999999999,252.346,275.29700000000003,250.078,229.126,236.274,235.85900000000001,264.07600000000002,325.339,249.01,251.94300000000001,250.94,226.42400000000001,245.99799999999999,252.761,274.92500000000001,268.96100000000001,268.02999999999997,278.80399999999997,262.93700000000001,279.28699999999998,269.12099999999998,293.61099999999999,308.73294400000003,287.45968900000003,303.472871,300.471926,310.70748400000002,276.43802099999999,310.76003399999996,314.33858700000002,329.79729400000002,323.88618199999996,314.52318699999995,324.54230999999999,322.79019199999999,309.79683199999999,319.80314199999998,298.02233699999999,313.449904,325.355816,327.22878499999996,294.27426199999996,281.211839,313.54920600000003,326.44505900000001,350.53576799999996,357.49281000000002,329.59546999999998,354.57668100000001,364.007295,370.57197600000001,346.65876800000001,385.95173599999998,369.30743000000001,348.41126700000001,355.78567499999997,358.26062800000005,384.657422,379.98567800000001,293.11845699999998,304.87203600000004,265.60516799999999,329.26175900000004,329.26299,337.32765699999999,348.97107,332.3793,299.61996199999999,287.07016100000004,298.08923599999997,301.19545199999999,244.80938,273.68656800000002,200.96275800000001,274.11053499999997,287.24583000000001,308.87246299999998,316.55354999999997,306.444638,313.82398000000001,306.13780099999997,288.723792,269.58650900000004,260.66759300000001,254.62976800000001,209.02461499999998,276.21144600000002,286.84910400000001,310.28303399999999,325.98802899999998,306.89180200000004,305.478792,303.91302000000002,305.49562600000002,326.48964100000001,288.82950099999999,268.625631,231.78274199999998,297.73007900000005,301.62935900000002,332.48288700000001,315.27266900000001,308.60664700000001,308.82652000000002,306.82307199999997,312.05713400000002,295.34999699999997,300.78865500000001,270.59336200000001,237.13678899999999,290.86713199999997,303.747793,323.38584800000001,316.43537900000001,319.40942899999999,296.76149900000001,292.56805099999997,299.07408700000002,303.39382699999999,"-","-","-","-","-","-","-","-","-","-","-"]
[null,"Residuos renovables","-","-","-","-","-","-","-","-","-","-","-","-","-","-","-","-","-","-","-","-","-","-","-","-","-","-","-","-","-","-","-","-","-","-","-","-","-","-","-","-","-","-","-","-","-","-","-","-","-","-","-","-","-","-","-","-","-","-","-","-","-","-","-","-","-","-","-","-","-","-","-","-","-","-","-","-","-","-","-","-","-","-","-","-","-","-","-","-","-","-","-","-","-","-","-","-","-","-","-","-","-","-","-","-","-","-","-","-","-","-","-","-","-","-","-","-","-","-","-","-","-","-","-","-","-","-","-","-","-","-","-","-","-","-","-","-","-","-","-","-","-","-","-","-","-","-","-","-","-","-","-","-","-","-","-","-","-","-","-","-","-","-","-","-","-","-","-","-","-","-","-","-","-","-","-","-","-","-","-","-","-","-","-","-","-","-","-","-","-","-","-","-","-","-","-","-","-","-","-","-","-","-","-","-","-","-","-","-","-","-","-","-","-","-","-","-","-","-","-","-","-","-","-","-","-","-","-","-","-","-","-","-","-","-","-","-","-","-","-","-","-","-","-","-","-","-","-","-","-","-","-","-",57.032729500000002,50.993014500000001,33.027413500000002,50.976274500000002,40.827454500000002,57.3867355,57.261440499999999,50.553341999999994,47.872501999999997,53.463645999999997,53.132019500000006,56.299527999999995,56.3013555,44.974485999999999,31.257473000000001,53.078470000000003,39.821430500000005,54.448398500000003,57.100842999999998,54.449194000000006,53.181955499999994,54.780555500000006,51.188628999999999,45.263191499999998,50.514924000000001,46.712419000000004,38.196781999999999,17.166903999999999,20.978891500000003,15.358893,20.559306499999998,35.316523000000004,48.522839500000003,45.476130499999996,48.379472,51.470923999999997,40.961053499999998,28.9339245,22.560322499999998,39.174100500000002,54.939254999999996,44.846376499999998,51.875004000000004,44.059013,54.613833,50.060762000000004,51.651715500000002,61.862726000000002,54.582733500000003,52.223671000000003,60.213873499999998,33.475764000000005,49.703733,58.970399,60.001640000000002,57.490990500000002,55.067411,60.863129000000001,60.056930999999999,60.005199500000003,57.299934999999998,48.103852500000002,57.529314499999998,26.702395499999998,24.278254499999999,55.115867999999999,63.646250500000001,60.315487500000003,62.051794000000001,60.050152499999996,64.739298500000004,69.907307500000002,64.737576000000004,55.999209499999999,59.911041499999996,46.575312500000003,34.262042999999998,66.986297000000008,68.889366999999993,65.701225000000008,62.429442000000002,66.129401999999999,66.55758999999999,69.971927500000007,69.2635705,62.195681999999998,65.909200500000011,66.929152000000002,24.344857999999999,50.806421,64.813796999999994,65.755174499999995,64.739834999999999,66.706254000000001,61.593868999999998,69.912847999999997,63.503646000000003,"-","-","-","-","-","-","-","-","-","-","-"]
[null,"Generación renovable",3918.7906999899983,3333.836399979999,2452.7096999900004,1755.5105000099993,1837.0987999600011,1831.3011999999999,1599.7872,1227.7164000099988,1212.4658999900018,1406.8642999900017,1978.4141000100024,1971.0844000100008,2646.8003999999978,2042.5168999999992,3829.4278000000013,3507.3813000000005,2890.2246999999979,2118.6462000000015,1720.7126000000007,1136.0570000000005,1129.0099000000009,1551.2266999999983,1986.5310999999967,1877.8993000000016,1377.4996000000015,814.63050000000226,813.53499999999872,1584.2618999999995,1482.6015000000004,1592.3451999999991,1674.2228999999986,1142.7864000000029,1225.8001999999983,1874.9681000000012,2204.9296999999988,2897.0254999999984,2183.5173000000013,1519.182700000003,1469.315199999997,1176.7241999999969,1888.1177000000002,2218.3536000000008,1896.7408000000009,1256.9858999999988,1218.2101999999986,2861.9680999999996,3470.8536999999969,2744.3382999999985,3862.9257999999991,3156.8329000000003,2837.8806999999965,2419.3996999999999,2679.8244999999979,2454.4450000000029,1869.3175999999999,1382.3768000000002,1302.6082000000008,1596.1598999999978,2389.0476000000017,1943.7209000000034,2922.1179000000002,2776.1924000000026,3289.6421999999998,1976.0157000000038,1821.4858999999974,1803.0943,1691.1074999999996,1146.9002999999991,991.19269999999801,1057.6327000000026,1299.3259999999989,2519.4421999999995,5879.2435000000005,5684.1242000000011,3762.2660999999994,3894.6238999999969,4005.8654000000006,3061.7942999999996,2432.024199999998,1692.6022,1913.3789000000002,1925.6837000000023,2352.8856999999989,4384.2123000000011,5780.591800000002,3659.9244000000022,2832.6745999999989,2479.5290999999988,2405.5878000000012,2512.2570999999984,2231.2642000000019,1872.212700000001,1760.4462999999994,1646.8457999999989,3633.9683000000009,5564.3426000000009,6078.1250339999988,4204.4361099999987,2923.0428400000033,3705.6881629999998,4272.8076700000011,3632.4374429999989,2783.4994689999994,2283.1736170000013,2032.4119929999997,2211.3508070000007,1743.6173270000008,1549.9919740000007,1667.1533450000011,1658.1637840000003,2328.7193770000013,2464.5406899999989,3194.0285559999988,2813.6886490000002,2245.6010220000012,1689.3710639999988,1810.0893090000002,2033.1218939999992,3242.5846169999995,3274.2704600000015,2971.8372690000033,2005.8036910000003,1970.1521070000001,2731.7748289999986,3642.7036920000019,2799.1786940000006,2187.1692869999988,2151.0289820000003,2202.5015120000016,2243.3489190000005,3145.7851280000004,5267.5268759999981,7110.5997340000013,6534.977675000001,7465.4281919999994,5203.480372,3984.7865670000024,3152.708102000001,2650.2705530000007,2465.9537950000008,2287.6167010000017,2539.6380519999984,2974.5992210000004,2356.287053,2107.9689570000005,2076.9030349999998,2817.7019049999994,2626.7486869999993,2930.3623269999998,2706.335423999999,2191.1997199999992,1791.5828989999995,1676.4588759999999,2218.4243830000005,3184.1607050000002,5614.3514460000015,7179.662099000001,5539.3066650000001,5584.5910640000002,5197.1583039999987,4775.9974360000015,3208.7991299999999,2857.6673659999997,2164.6278140000004,2597.1659529999997,3261.5185970000002,4613.5466330000008,6583.1841600000016,5634.0580629999986,4615.1563179999976,4629.1585079999986,4714.9437130000006,4543.007088000003,3952.1175270000012,3228.0530889999986,3013.9088980000015,2834.714598000005,3534.9262810000041,4029.3035459999992,3730.6952680000018,3619.0555059999997,3437.2280450000017,3753.9857670000024,4188.514180000001,3855.0912739999985,3251.7935919999986,3091.1147370000012,2947.5866019999971,2255.0705549999975,2916.5223719999985,3527.2626989999967,4290.5840879999996,3372.8814639999991,3284.129132999999,5983.3403589999962,4862.6526700000022,3999.3115090000001,3079.8683000000019,2884.344800000003,3405.6241999999997,2774.9459000000006,4178.5938999999989,5434.1305999999986,7280.9636999999957,4620.4468000000006,6073.3226999999997,7232.5793999999987,4432.7281000000003,5675.1995999999999,4328.6722,4597.2362999999996,4448.2276000000002,3655.0535000000004,3901.2402999999999,4352.0535000000009,3882.5871000000002,4321.4547999999995,3263.6435000000001,5497.9391999999998,6441.3714000000018,5458.9039000000002,5673.1215000000002,4763.8796000000002,4020.5266000000001,3972.8337999999994,4127.9325000000008,5606.7308000000003,6616.2309999999998,6271.3620999999994,7321.0164999999988,6658.0696000000007,6094.2147000000004,6188.8714000000009,5314.842200000001,5124.0914000000002,4582.5138000000006,4233.8449000000001,5215.3398999999999,7430.2343000000001,8643.2668999999987,9983.4051132999994,9217.7945616000015,11091.032044399999,8210.3921307000001,8509.4730475999986,7129.4921532000008,6820.4154070000004,6023.8098135,4801.0223436999995,6431.2200285000008,7624.3690676999995,9202.9454768999985,9877.3734798059995,7935.2720826980012,9547.1393456000005,8058.8271628640005,7192.1628950579998,6367.8101018959997,6393.8200424360002,5623.9915648819997,4855.7728752120001,5555.9853532880006,6777.6884201199991,7647.0761493499995,6258.94247266,7434.1264090200011,6475.3219275800002,8206.7696581159998,7770.550099694,7168.8090308760002,6474.3147507040003,6121.7742683120005,6336.9926618019999,5742.6889985059997,7453.2657975339998,9020.3715194939996,10246.05595326,9973.1235008160002,11385.562946100003,11194.136226778,9474.5311323500009,8931.3020548320001,7662.3211963140002,7478.1176784660001,6640.805242372001,7129.6035830180008,10330.612145624,8404.5694590099993,11655.44646933,12478.36349036,11753.034341558001,10430.429323328,8958.0722232419994,7685.3534910720009,8056.5716066839996,6999.8499062280007,5361.2350729580003,6270.4964740799987,8314.7980976899998,8964.343532674,8492.9344418639994,10464.111255525999,10137.808653278,7912.8641434859992,9666.6986370719987,7299.301086307999,7260.1970476879997,6656.1347105920004,6148.4197998899999,6613.5731765439996,6688.4676449959989,5770.1553916060002,9770.8507259499984,11015.059979074,11150.453621466002,10989.441534424002,10571.559656011999,8220.148406884,7812.3314307260007,7697.8926134440007,6014.8473954399997,5213.5865750920002,6298.8457847179989,5369.7594730420005,7830.1200283339995,7714.7557863620004,8738.015654236,7686.8672089680013,7149.5167271559994,6760.8138917760016,6619.0535859519987,6232.0632507339988,5686.4873520619985,5386.4968563779994,5900.9675165319995,7926.2658091699996,8381.4441272860004,8103.4346203499999,13178.915227055999,10422.928303246001,8349.9363663240001,7968.3599835840005,7642.4854185859995,7046.4926413920002,5866.8072597620012,6951.8236773279987,7471.9506668140002,7680.1082956440005,9106.176514255998,"-","-","-","-","-","-","-","-","-","-","-"]
[]
[null,"Generación renovable mensual Islas Baleares (MWh)","2006-01-01","2006-02-01","2006-03-01","2006-04-01","2006-05-01","2006-06-01","2006-07-01","2006-08-01","2006-09-01","2006-10-01","2006-11-01","2006-12-01","2007-01-01","2007-02-01","2007-03-01","2007-04-01","2007-05-01","2007-06-01","2007-07-01","2007-08-01","2007-09-01","2007-10-01","2007-11-01","2007-12-01","2008-01-01","2008-02-01","2008-03-01","2008-04-01","2008-05-01","2008-06-01","2008-07-01","2008-08-01","2008-09-01","2008-10-01","2008-11-01","2008-12-01","2009-01-01","2009-02-01","2009-03-01","2009-04-01","2009-05-01","2009-06-01","2009-07-01","2009-08-01","2009-09-01","2009-10-01","2009-11-01","2009-12-01","2010-01-01","2010-02-01","2010-03-01","2010-04-01","2010-05-01","2010-06-01","2010-07-01","2010-08-01","2010-09-01","2010-10-01","2010-11-01","2010-12-01","2011-01-01","2011-02-01","2011-03-01","2011-04-01","2011-05-01","2011-06-01","2011-07-01","2011-08-01","2011-09-01","2011-10-01","2011-11-01","2011-12-01","2012-01-01","2012-02-01","2012-03-01","2012-04-01","2012-05-01","2012-06-01","2012-07-01","2012-08-01","2012-09-01","2012-10-01","2012-11-01","2012-12-01","2013-01-01","2013-02-01","2013-03-01","2013-04-01","2013-05-01","2013-06-01","2013-07-01","2013-08-01","2013-09-01","2013-10-01","2013-11-01","2013-12-01","2014-01-01","2014-02-01","2014-03-01","2014-04-01","2014-05-01","2014-06-01","2014-07-01","2014-08-01","2014-09-01","2014-10-01","2014-11-01","2014-12-01","2015-01-01","2015-02-01","2015-03-01","2015-04-01","2015-05-01","2015-06-01","2015-07-01","2015-08-01","2015-09-01","2015-10-01","2015-11-01","2015-12-01","2016-01-01","2016-02-01","2016-03-01","2016-04-01","2016-05-01","2016-06-01","2016-07-01","2016-08-01","2016-09-01","2016-10-01","2016-11-01","2016-12-01","2017-01-01","2017-02-01","2017-03-01","2017-04-01","2017-05-01","2017-06-01","2017-07-01","2017-08-01","2017-09-01","2017-10-01","2017-11-01","2017-12-01","2018-01-01","2018-02-01","2018-03-01","2018-04-01","2018-05-01","2018-06-01","2018-07-01","2018-08-01","2018-09-01","2018-10-01","2018-11-01","2018-12-01","2019-01-01","2019-02-01","2019-03-01","2019-04-01","2019-05-01","2019-06-01","2019-07-01","2019-08-01","2019-09-01","2019-10-01","2019-11-01","2019-12-01"]
[null,"Eólica",514.35,371.37400000000002,548.18799999999999,366.096,438.988,366.65,202.55,548.33199999999999,264.46800000000002,347.64699999999999,407.40800000000002,501.30500000000001,402,480,585,246,392,334,358,444,320,541,784,770,415,420,575,741,212,290,272,328,462,470,620,692,472,688,529,482,477,383,126,147,346,531,538,824,599,689,590,377,312,275,322,395,303,477,529,703,471.577,637.57500000000005,627.31700000000001,553.49699999999996,434.952,359.10599999999999,428.68599999999998,330.58800000000002,215.447,586.64099999999996,548.71199999999999,591.81700000000001,478.96199999999999,1092.0409999999999,556.60799999999995,569.577,377.024,358.03699999999998,429.75099999999998,261.12400000000002,665.97199999999998,424.18299999999999,540.08900000000006,751.33100000000002,686.51099999999997,673.93100000000004,766.67499999999995,552.35599999999999,439.23099999999999,390.755,211.30500000000001,355.26100000000002,349.42099999999999,476.56200000000001,771.94,485.52,586.69100000000003,634.68700000000001,748.72299999999996,441.11599999999999,509.30500000000001,341.93,353.50200000000001,302.25200000000001,236.24700000000001,371.44600000000003,552.18899999999996,761.49,602.19200000000001,695.62400000000002,580.16,435.029,636.41600000000005,252.53399999999999,309.04000000000002,230.71299999999999,509.12099999999998,555.52599999999995,415.11500000000001,96.757999999999996,530.12699999999995,660.82399999999996,707.76800000000003,665.37599999999998,486.435,238.917,471.42500000000001,478.178,222.303,292.35500000000002,402.10500000000002,260.245,468.56200000000001,282.71800000000002,227.13499999999999,238.20599999999999,127.304,130.101,175.738,171.68700000000001,182.989,194.571,342.94099999999997,382.32400000000001,252.64,324.012,405.92399999999998,282.64999999999998,228.893,138.68199999999999,139.32900000000001,192.208,198.17599999999999,620.31299999999999,555.39599999999996,418.94799999999998,805.42700000000002,"-","-","-","-","-","-","-","-","-","-","-"]
[null,"Solar fotovoltaica",43.972999999999999,50.86,83.445999999999998,87.706999999999994,102.911,110.639,126.145,120.86799999999999,111.756,105.83499999999999,84.200999999999993,72.453999999999994,95,122,165,156,211,207,226,209,180,139,119,123,134,194,416,664,955,1807,2659,4719,4821,4337,3391,4283,3838,5190,7556,7099,8802,9040,8898,8709,6680,6538,5096,3487,3845,4810,6958,8061,9047,8957,10437,10003,8360,6793,5600,4886,5358.3459999999995,6715.4949999999999,8054.2619999999997,9942.5329999999994,10912.986000000001,10327.227000000001,10250.508,11566.684999999999,9702.348,8434.6059999999998,5035.3900000000003,5510.53,6182.9359999999997,6955.6509999999998,10151.971,10229.659,12309.453,11697.392,12533.19,12420.079,10872.946,9499.5400000000009,6015.9160000000002,6724.5360000000001,7273.1310000000003,7403.8310000000001,11493.687,11208.862999999999,12639.329,13817.142,14315.852999999999,12862.861999999999,10744.504999999999,8780.527,5601.8469999999998,5971.2749999999996,5827.915,8461.3080000000009,11097.609,12721.366,12506.914000000001,13246.777,13532.742,12554.948,10351.790000000001,10335.922,6491.3429999999998,5637.0550000000003,6878.9549999999999,7212.5569999999998,10110.063,12578.182000000001,13498.137000000001,13443.677,13857.289000000001,12160.058999999999,9666.6419999999998,8931.6389999999992,8007.3140000000003,6275.2889999999998,7081.3050000000003,7539.5460000000003,10661.868,11177.263999999999,12590.581,13167.569,13847.847,13337.502,10357.047,8447.7929999999997,6551.4610000000002,5747.7470000000003,5799.134,7159.3379999999997,12164.482,12625.004000000001,13622.494000000001,13314.391,13296.241,12456.52,10365.357,9718.9459999999999,7258.2560000000003,5556.8320000000003,7044.5,5338.09,10194.157999999999,11477.546,11838.53,12382.848,13341.704,11250.523999999999,9026.3850000000002,7841.4849999999997,5979.4579999999996,6536.4139999999998,7209.6450000000004,"-","-","-","-","-","-","-","-","-","-","-"]
[null,"Térmica renovable/Otras renovables","-","-","-","-","-","-","-","-","-","-","-","-","-","-","-","-","-","-","-","-","-","-","-","-","-","-","-","-","-","-","-","-","-","-","-","-","-","-","-","-","-","-","-","-","-","-","-","-","-","-","-","-","-","-","-","-","-","-","-","-","-","-","-","-","-","-","-","-","-",8.3179999999999996,43.209000000000003,36.265999999999998,44.661999999999999,23.314,79.155000000000001,49.38,41.604999999999997,39.417999999999999,35.753,46.927999999999997,53.351999999999997,56.860999999999997,55.465000000000003,43.936999999999998,72.701999999999998,47.121000000000002,74.637,93.292000000000002,0,0,0,0,0,65.147999999999996,60.49,92.302999999999997,123.03700000000001,171.78100000000001,228.41200000000001,198.90700000000001,261.48099999999999,167.185,88.992999999999995,120.73399999999999,92.248000000000005,132.19499999999999,185.21299999999999,175.47300000000001,229.39500000000001,170.76300000000001,163.58500000000001,221.16300000000001,173,99.679000000000002,181.35900000000001,108.996,119.236,130.697,148.00299999999999,225.673,176.26400000000001,164.96199999999999,176.19800000000001,152.80000000000001,125.88200000000001,32.283000000000001,35.447000000000003,42.973999999999997,33.03,92.938000000000002,138.80699999999999,138.13,159.45699999999999,170.07400000000001,104.483,198.49,223.85,164.33199999999999,75.531999999999996,73.259,87.361999999999995,106.123,126.985,136.79400000000001,219.363,166.24,184.16499999999999,130.80099999999999,127.68,110.02800000000001,57.737000000000002,56.851999999999997,19.170000000000002,60.414999999999999,68.766000000000005,131.37799999999999,107.643,"-","-","-","-","-","-","-","-","-","-","-"]
[null,"Residuos renovables","-","-","-","-","-","-","-","-","-","-","-","-","-","-","-","-","-","-","-","-","-","-","-","-","-","-","-","-","-","-","-","-","-","-","-","-","-","-","-","-","-","-","-","-","-","-","-","-","-","-","-","-","-","-","-","-","-","-","-","-",7179.5069999999996,6530.4709999999995,6401.9070000000002,8918.1260000000002,5900.5915000000005,11850.4105,13051.111999999999,13572.184999999999,13763.906000000001,13074.686,10492.6985,12976.433000000001,10956.663500000001,8357.7785000000003,9517.9050000000007,9070.1610000000001,11143.3815,9830.9385000000002,13487.1705,13161.865,10351.8905,7156.2560000000003,7015.4470000000001,12740.079,8621.6265000000003,6081.7205000000004,8029.7179999999998,7700.8215,8209.6944999999996,11852.555,10855.8735,11387.297500000001,14086.388999999999,9534.9835000000003,7910.6329999999998,8795.2824999999993,7939.6530000000002,6507.4449999999997,9425.1545000000006,11604.4115,5269.7250000000004,13186.835499999999,14742.679,11272.941000000001,13986.786,14349.8485,8560.6990000000005,11238.1515,9163.4614999999994,6908.54,11394.0975,13639.012000000001,14790.13,13704.3935,12852.9485,12487.333000000001,14777.127500000001,14664.409,14317.8935,12398.3835,8564.5149999999994,4967.8254999999999,8611.8559999999998,12109.9035,14510.119000000001,13617.075999999999,11266.3585,12685.0265,12613.608,13662.531499999999,9270.8955000000005,8925.3515000000007,7544.1634999999997,7222.1914999999999,10517.762500000001,14685.772499999999,11209.790499999999,14046.6855,14055.790499999999,14325.673000000001,15026.625,13982.9895,11279.227500000001,9981.9964999999993,7481.4245000000001,4455.9544999999998,11199.851500000001,10486.738499999999,10524.592000000001,14709.154500000001,14429.119000000001,14961.362499999999,13453.5695,13897.673500000001,7033.3760000000002,13124.9285,9560.5395000000008,"-","-","-","-","-","-","-","-","-","-","-"]
[null,"Generación renovable",558.32299999999998,422.23400000000004,631.63400000000001,453.803,541.899,477.28899999999999,328.69499999999999,669.2,376.22400000000005,453.48199999999997,491.60900000000004,573.75900000000001,497,602,750,402,603,541,584,653,500,680,903,893,549,614,991,1405,1167,2097,2931,5047,5283,4807,4011,4975,4310,5878,8085,7581,9279,9423,9024,8856,7026,7069,5634,4311,4444,5499,7548,8438,9359,9232,10759,10398,8663,7270,6129,5589,13009.43,13883.540999999999,15083.486000000001,19414.155999999999,17248.529500000001,22536.7435,23730.305999999997,25469.457999999999,23681.701000000001,22104.250999999997,16120.0095,19115.046000000002,17663.2235,16428.784500000002,20305.639000000003,19918.776999999998,23871.463499999998,21925.785499999998,26485.864500000003,25889.995999999999,21944.160499999998,17136.840000000004,13626.917000000001,20259.883000000002,16653.970499999999,14206.603500000001,20364.717000000001,19555.332499999997,21288.254499999999,26060.451999999997,25383.031499999997,24605.4205,25180.314999999999,18857.220499999999,14344.91,15344.380499999999,14477.296,15775.221000000001,21499.898500000003,24965.800499999998,18547.425000000003,26942.727500000001,28717.916000000001,24250.875,24667.071,25189.411500000002,15789.444,17812.1695,16874.003499999999,14987.484,22247.905500000001,26873.386000000002,29097.682999999997,27500.283499999998,27200.636500000001,24987.100999999999,25072.126499999998,24282.271000000001,22888.325499999999,18996.103499999997,16352.210999999999,13333.157500000001,20157.690000000002,24105.343499999999,27713.017,27055.844999999998,25621.077499999999,26543.680500000002,23225.988000000001,22495.6175,16363.268500000002,15071.4735,13971.316500000001,14834.321499999998,23013.862500000003,27747.4725,25183.4385,27655.5095,27603.301499999998,27027.139000000003,25662.332999999999,24002.629499999999,19007.409500000002,16057.946499999998,14997.927500000002,10284.2965,21984.0985,22377.735499999999,22719.695,27340.712500000001,27967.888999999999,26460.946499999998,22697.300499999998,22419.886500000001,13636.995999999999,20211.6685,17683.254500000003,"-","-","-","-","-","-","-","-","-","-","-"]
[]
[null,"Generación renovable mensual Islas Canarias (MWh)","2006-01-01","2006-02-01","2006-03-01","2006-04-01","2006-05-01","2006-06-01","2006-07-01","2006-08-01","2006-09-01","2006-10-01","2006-11-01","2006-12-01","2007-01-01","2007-02-01","2007-03-01","2007-04-01","2007-05-01","2007-06-01","2007-07-01","2007-08-01","2007-09-01","2007-10-01","2007-11-01","2007-12-01","2008-01-01","2008-02-01","2008-03-01","2008-04-01","2008-05-01","2008-06-01","2008-07-01","2008-08-01","2008-09-01","2008-10-01","2008-11-01","2008-12-01","2009-01-01","2009-02-01","2009-03-01","2009-04-01","2009-05-01","2009-06-01","2009-07-01","2009-08-01","2009-09-01","2009-10-01","2009-11-01","2009-12-01","2010-01-01","2010-02-01","2010-03-01","2010-04-01","2010-05-01","2010-06-01","2010-07-01","2010-08-01","2010-09-01","2010-10-01","2010-11-01","2010-12-01","2011-01-01","2011-02-01","2011-03-01","2011-04-01","2011-05-01","2011-06-01","2011-07-01","2011-08-01","2011-09-01","2011-10-01","2011-11-01","2011-12-01","2012-01-01","2012-02-01","2012-03-01","2012-04-01","2012-05-01","2012-06-01","2012-07-01","2012-08-01","2012-09-01","2012-10-01","2012-11-01","2012-12-01","2013-01-01","2013-02-01","2013-03-01","2013-04-01","2013-05-01","2013-06-01","2013-07-01","2013-08-01","2013-09-01","2013-10-01","2013-11-01","2013-12-01","2014-01-01","2014-02-01","2014-03-01","2014-04-01","2014-05-01","2014-06-01","2014-07-01","2014-08-01","2014-09-01","2014-10-01","2014-11-01","2014-12-01","2015-01-01","2015-02-01","2015-03-01","2015-04-01","2015-05-01","2015-06-01","2015-07-01","2015-08-01","2015-09-01","2015-10-01","2015-11-01","2015-12-01","2016-01-01","2016-02-01","2016-03-01","2016-04-01","2016-05-01","2016-06-01","2016-07-01","2016-08-01","2016-09-01","2016-10-01","2016-11-01","2016-12-01","2017-01-01","2017-02-01","2017-03-01","2017-04-01","2017-05-01","2017-06-01","2017-07-01","2017-08-01","2017-09-01","2017-10-01","2017-11-01","2017-12-01","2018-01-01","2018-02-01","2018-03-01","2018-04-01","2018-05-01","2018-06-01","2018-07-01","2018-08-01","2018-09-01","2018-10-01","2018-11-01","2018-12-01","2019-01-01","2019-02-01","2019-03-01","2019-04-01","2019-05-01","2019-06-01","2019-07-01","2019-08-01","2019-09-01","2019-10-01","2019-11-01","2019-12-01"]
[null,"Hidráulica",0,0,0,0,0,0,0,0,0,0,0,0,0,0,0,0,0,0,82,190,247,92,278,287,287,244,240,0,185,315,305,97,0,0,0,0,9,164,175,50,0,0,0,0,0,0,0,0,0,0,0,0,0,0,0,0,0,0,0,0,-1.9080000000000001,-1.778,-0.18900000000000006,237.554,162.73099999999999,128.87599999999998,243.64699999999999,177.41200000000001,199.24,236.684,162.601,109.901,114.92299999999999,-1.4670000000000001,161.011,244.93799999999999,216.84799999999998,205.56900000000002,60.758000000000003,229.02100000000002,219.845,203.85499999999999,38.289000000000001,75.509,222.79600000000002,202.935,135.18699999999998,135.54400000000001,290.77199999999999,284.92999999999995,284.78300000000002,284.87,290.88500000000005,302.21999999999997,291.98499999999996,304.37599999999998,303.39600000000002,274.36399999999998,299.43299999999999,289.012,298.858,281.23500000000001,306.37200000000001,308.505,294.18700000000001,270.27600000000001,259.64600000000002,275.77199999999999,302.96300000000002,268.97399999999999,303.18400000000003,291.012,293.69400000000002,294.19900000000001,302.02499999999998,301.95299999999997,294.12,309.28100000000001,299.74200000000002,307.24599999999998,307.66199999999998,280.30500000000001,309.428,297.27199999999999,306.25400000000002,299.06099999999998,311.60500000000002,264.923,280.44,269.73399999999998,258.59300000000002,268.68400000000003,262.54500000000002,237.11,263.47899999999998,260.03300000000002,269.84699999999998,270.34300000000002,275.07100000000003,287.12299999999999,267.60700000000003,293.59800000000001,273.79399999999998,311.42899999999997,279.43200000000002,34.173000000000002,309.94600000000003,276.12299999999999,308.334,294.48200000000003,295.596,307.64,288.399,296.97000000000003,288.50700000000001,296.30700000000002,292.916,"-","-","-","-","-","-","-","-","-","-","-"]
[null,"Hidroeólica","-","-","-","-","-","-","-","-","-","-","-","-","-","-","-","-","-","-","-","-","-","-","-","-","-","-","-","-","-","-","-","-","-","-","-","-","-","-","-","-","-","-","-","-","-","-","-","-","-","-","-","-","-","-","-","-","-","-","-","-","-","-","-","-","-","-","-","-","-","-","-","-","-","-","-","-","-","-","-","-","-","-","-","-","-","-","-","-","-","-","-","-","-","-","-","-","-","-","-","-","-",2.02,8.6389999999999993,274.245,101.643,0,154.755,187.535,384.98899999999998,344.34100000000001,204.85499999999999,96.545000000000002,179.51499999999999,326.20600000000002,2072.1610000000001,1917.4590000000001,716.12199999999996,453.29300000000001,868.56,643.37800000000004,790.73599999999999,1770.319,1510.1659999999999,1280.933,896.73299999999995,1990.3409999999999,2569.1329999999998,2210.7860000000001,2161.9989999999998,704.28700000000003,993.84,1012.663,1068.971,1435.85,2122.2330000000002,968.50400000000002,1475.1179999999999,2217.806,3109.0070000000001,2450.308,2337.1379999999999,971.27599999999995,790.82500000000005,1286.021,2257.7669999999998,1754.3050000000001,1599.5219999999999,2262.6460000000002,2034.203,2321.8040000000001,3716.2829999999999,2859.3209999999999,2165.8609999999999,873.31100000000004,900.78800000000001,909.73299999999995,1109.6559999999999,"-","-","-","-","-","-","-","-","-","-","-"]
[null,"Eólica",17431.845000000001,18906.552,22433.485000000001,28613.578000000001,35233.5,25590.253000000001,56231.544000000002,38386.534,22680.768,19552.138999999999,15309.171,25694.21,17536,22919,37045,26057,34949,31706,57951,48557,26273,19181,16085,18581,12697,16352,39237,36025,31842,39889,59648,61491,17713,33991,22016,25574,23706,17290,24349,46455,32116,20734,55995,57105,22914,12762,24732,20549,11740,14778,23015,32147,36251,38838,47304,42622,35769,14015,17956,16928,11404.08,24311.829000000002,22948.121999999999,24018.133999999998,19588.204000000002,37820.731,55748.883000000002,52230.828999999998,31670.316999999999,25772.317999999999,15869.370999999999,34294.942999999999,18963.88,33726.285000000003,33681.697,30021.198,26774.771000000001,44057.214,57535.39,54600.536,12813.212,17087.317999999999,16904.712,15601.111999999999,24542.069,28387.059000000001,13294.339,27647.999,38088.171000000002,48342.129000000001,41479.146999999997,42313.802000000003,24539.764999999999,24189.816999999999,27762.66,22146.527999999998,29456.385999999999,32605.983,45693.779000000002,27505.592000000001,42524.828999999998,35023.161,45177.292000000001,59087.231,12367.692999999999,15750.272999999999,20598.572,23738.014999999999,41468.697999999997,43676.997000000003,41791.703999999998,28966.517,40093.75,30388.71,59610.985000000001,49740.294000000002,17421.194,10614.165999999999,24303.164000000001,8610.9639999999999,19203.504000000001,40727.103000000003,33659.559000000001,25977.746999999999,30430.550999999999,44238.828000000001,56791.595000000001,48605.248,46716.553,13314.826999999999,17702.067999999999,15713,15115.34,22686.48,36303.305,18569.133000000002,25519.845000000001,40162.351999999999,50390.07,47397.180999999997,54609.197,21330.208999999999,24032.089,39810.131999999998,56908.339,46206.065000000002,50516.178,45545.817999999999,55351.521999999997,56421.116999999998,95158.366999999998,65080.790999999997,51688.220999999998,22335.968000000001,32426.612000000001,42931.705999999998,55782.074999999997,"-","-","-","-","-","-","-","-","-","-","-"]
[null,"Solar fotovoltaica",36.402000000000001,46.195999999999998,66.179000000000002,67.328000000000003,76.62,77.052999999999997,98.995000000000005,430.70800000000003,484.04,533.36199999999997,462.50200000000001,536.16499999999996,610,833,1268,1459,1737,1692,2046,2433,2017,2022,1635,1621,2022,2658,3713,4145,4312,4894,5548,5693,6152,9825,7689,6849,8709,10847,12492,16156,16219,16256,17530,17568,12555,13377,11497,9124,10698,10306,16328,16499,19138,19607,22480,21526,17621,15830,12519,12614,15208.981,16925.322,19749.058000000001,19788.121999999999,20867.145,23436.741999999998,23909.437999999998,24852.741000000002,20991.273000000001,17726.076000000001,14532.902,15011.39,15819.209000000001,17853.072,23038.751,20676.245999999999,24978.376,25023.071,26449.416000000001,26299.356,23157.727999999999,19232.280999999999,16071.460999999999,17914.419000000002,20252.741000000002,19458.058000000001,23738.812999999998,27151.991000000002,27709.879000000001,30874.996999999999,30902.741999999998,26949.797999999999,24098.381000000001,22189.812000000002,17740.242999999999,15635.861999999999,18995.296999999999,20131.841,27162.146000000001,25918.809000000001,29371.409,27593.422999999999,27932.593000000001,29918.848000000002,21432.359,20632.921999999999,16823.303,16372.739,18338.96,17768.262999999999,25468.777999999998,25099.776000000002,29873.021000000001,27306.09,30356.457999999999,26057.348999999998,20794.073,17895.282999999999,18494.508999999998,18094.044999999998,19686.59,20001.838,24026.333999999999,24141.434000000001,25214.812999999998,29413.995999999999,29165.302,27398.406999999999,25682.866000000002,20207.853999999999,17006.974999999999,15714.933999999999,18013.852999999999,18975.393,25348.940999999999,25780.478999999999,25230.681,27578.364000000001,29027.198,26916.004000000001,22973.414000000001,19754.670999999998,16487.776999999998,17539.89,19072.744999999999,17886.312999999998,25105.014999999999,25211.383999999998,23079.87,25992.826000000001,29450.45,27718.481,24127.853999999999,19456.083999999999,16088.982,18423.207999999999,17483.564999999999,"-","-","-","-","-","-","-","-","-","-","-"]
[null,"Térmica renovable/Otras renovables",8687.5660000000044,11201.251999999999,21105.335999999999,20726.093999999997,19570.879999999997,20816.694,21169.460999999999,19156.758000000002,13239.191999999999,22026.499000000003,17532.326999999997,22967.625,21162,19576,5693,17196,15807,15288,19273,20695,19120,18295,18031,23147,22239,19665,20200,19685,21462,14780,144,21585,13957,17447,22889,23166,23472,22220,12230,24755,22920,23920,24575,24604,23900,22497,23578,24384,23902,18935,16313,24282,25112,19550,10072,5987,5025,5016,3979,2388,806.47,704.44600000000003,710.76400000000001,790.52300000000002,789.60299999999995,728.28800000000001,734.67399999999998,721.86400000000003,702.34199999999998,703.07799999999997,748.53099999999995,675.36300000000006,612.11,489.72300000000001,585.19799999999998,682.91600000000005,647.63499999999999,645.86599999999999,716.72299999999996,723.61300000000006,743.06100000000004,760.45899999999995,617.47500000000002,825.66800000000001,744.28300000000002,697.577,800.20100000000002,747.98099999999999,798.7,697.58100000000002,798.74400000000003,711.54100000000005,628.87699999999995,722.197,510.74700000000001,644.15899999999999,786.87199999999996,707.19500000000005,777.80100000000004,663.43399999999997,668.76599999999996,643.02099999999996,797.43200000000002,820.72199999999998,628.57899999999995,746.80200000000002,834.91099999999994,731.04899999999998,378.98899999999998,349.56599999999997,447.53199999999998,493.86799999999999,605.66399999999999,795.14,838.07,840.53599999999994,865.44399999999996,810.06799999999998,840.38499999999999,788.36300000000006,861.78599999999994,734.55399999999997,824.45399999999995,816.61800000000005,883.87900000000002,679.27,761.14599999999996,696.04200000000003,737.82899999999995,786.36699999999996,764.76800000000003,789.06200000000001,811.43100000000004,720.25,830.73599999999999,835.52,813.43200000000002,823.178,830.51900000000001,681.52599999999995,802.31299999999999,831.37800000000004,803.24,781.73599999999999,762.423,646.57299999999998,837.29399999999998,538.89700000000005,750.601,531.01499999999999,702.39400000000001,816.452,782.90899999999999,813.33399999999995,850.25300000000004,899.452,963.32899999999995,"-","-","-","-","-","-","-","-","-","-","-"]
[null,"Generación renovable",26155.813000000002,30154,43605,49407,54881,46484,77500,57974,36404,42112,33304,49198,39308,43328,44006,44712,52493,48686,79352,71875,47657,39590,36029,43636,37245,38919,63390,59855,57801,59878,65645,88866,37822,61263,52594,55589,55896,50521,49246,87416,71255,60910,98100,99277,59369,48636,59807,54057,46340,44019,55656,72928,80501,77995,79856,70135,58415,34861,34454,31930,27417.623,41939.81900000001,43407.755000000005,44834.332999999999,41407.683000000005,62114.636999999995,80636.641999999993,77982.84599999999,53563.171999999999,44438.156000000003,31313.404999999999,50091.596999999994,35510.122000000003,52067.613000000005,57466.656999999999,51625.297999999995,52617.630000000005,69931.72,84762.286999999997,81852.525999999998,36933.845999999998,37283.913,33631.936999999998,34416.707999999999,45761.889000000003,48745.629000000001,37968.54,55683.514999999999,66887.521999999997,80199.637000000002,73465.415999999997,70260.010999999999,49557.908000000003,47404.046000000002,46305.635000000002,38730.924999999996,49541.951000000001,53719.383000000002,73933.159000000014,54376.847000000002,72863.861999999994,63542.859999999993,74222.328000000009,90409.550999999992,34824.460999999996,37400.273000000001,38671.186999999998,41305.11,60874.598999999995,62408.141000000003,68216.053,54947.718000000008,71045.644000000015,59110.345000000001,93179.699000000008,78857.591,40090.953000000001,30082.091,44806.36,28443.995999999999,40850.277999999998,63514.118999999999,60329.940999999992,52514.004000000001,57732.229999999996,76621.495999999999,89598.780999999988,79175.406000000003,75579.687000000005,35283.068999999996,36726.243999999992,33498.343000000001,35272.14,44055.082999999999,64868.693999999996,46413.669000000002,53308.923000000003,71052.042999999991,83631.865000000005,77732.141999999993,80989.668999999994,43181.131999999998,42387.724999999999,59729.207999999991,79280.705999999991,66527.429000000004,78367.954999999987,73834.867999999988,81524.529999999984,85561.243999999992,129323.09,96782.684999999998,79053.243999999992,43775.667000000001,50555.141999999993,63460.405999999995,75631.540999999997,"-","-","-","-","-","-","-","-","-","-","-"]
[]
[null,"Generación renovable mensual Melilla (MWh)","2007-01-01","2007-02-01","2007-03-01","2007-04-01","2007-05-01","2007-06-01","2007-07-01","2007-08-01","2007-09-01","2007-10-01","2007-11-01","2007-12-01","2008-01-01","2008-02-01","2008-03-01","2008-04-01","2008-05-01","2008-06-01","2008-07-01","2008-08-01","2008-09-01","2008-10-01","2008-11-01","2008-12-01","2009-01-01","2009-02-01","2009-03-01","2009-04-01","2009-05-01","2009-06-01","2009-07-01","2009-08-01","2009-09-01","2009-10-01","2009-11-01","2009-12-01","2010-01-01","2010-02-01","2010-03-01","2010-04-01","2010-05-01","2010-06-01","2010-07-01","2010-08-01","2010-09-01","2010-10-01","2010-11-01","2010-12-01","2011-01-01","2011-02-01","2011-03-01","2011-04-01","2011-05-01","2011-06-01","2011-07-01","2011-08-01","2011-09-01","2011-10-01","2011-11-01","2011-12-01","2012-01-01","2012-02-01","2012-03-01","2012-04-01","2012-05-01","2012-06-01","2012-07-01","2012-08-01","2012-09-01","2012-10-01","2012-11-01","2012-12-01","2013-01-01","2013-02-01","2013-03-01","2013-04-01","2013-05-01","2013-06-01","2013-07-01","2013-08-01","2013-09-01","2013-10-01","2013-11-01","2013-12-01","2014-01-01","2014-02-01","2014-03-01","2014-04-01","2014-05-01","2014-06-01","2014-07-01","2014-08-01","2014-09-01","2014-10-01","2014-11-01","2014-12-01","2015-01-01","2015-02-01","2015-03-01","2015-04-01","2015-05-01","2015-06-01","2015-07-01","2015-08-01","2015-09-01","2015-10-01","2015-11-01","2015-12-01","2016-01-01","2016-02-01","2016-03-01","2016-04-01","2016-05-01","2016-06-01","2016-07-01","2016-08-01","2016-09-01","2016-10-01","2016-11-01","2016-12-01","2017-01-01","2017-02-01","2017-03-01","2017-04-01","2017-05-01","2017-06-01","2017-07-01","2017-08-01","2017-09-01","2017-10-01","2017-11-01","2017-12-01","2018-01-01","2018-02-01","2018-03-01","2018-04-01","2018-05-01","2018-06-01","2018-07-01","2018-08-01","2018-09-01","2018-10-01","2018-11-01","2018-12-01","2019-01-01","2019-02-01","2019-03-01","2019-04-01","2019-05-01","2019-06-01","2019-07-01","2019-08-01","2019-09-01","2019-10-01","2019-11-01","2019-12-01"]
[null,"Solar fotovoltaica","-","-","-","-","-","-","-","-","-","-","-","-",1,0,0,0,0,1,1,1,1,0,1,0,8,17,22,28,9,8,8,8,7,6,0,1,1,5,6,7,9,1,8,9,7,6,5,3,3.7080000000000002,6.5010000000000003,6.5209999999999999,6.7629999999999999,7.6589999999999998,8.4280000000000008,7.0629999999999997,6.1079999999999997,5.3869999999999996,5.03,3.806,4.4980000000000002,4.9189999999999996,6.7539999999999996,6.9930000000000003,8.9309999999999992,9.0139999999999993,8.6419999999999995,8.6509999999999998,8.1,6.907,6.2290000000000001,3.76,4.2140000000000004,4.8810000000000002,5.4950000000000001,7.3550000000000004,7.49,9.4239999999999995,8.9489999999999998,8.2899999999999991,8.0269999999999992,6.9539999999999997,6.5679999999999996,4.8390000000000004,4.0510000000000002,4.4790000000000001,5.7389999999999999,7.88,8.6440000000000001,8.9640000000000004,8.9740000000000002,9.23,8.6080000000000005,6.5170000000000003,6.5270000000000001,4.1760000000000002,4.0949999999999998,4.798,5.024,8.0259999999999998,6.2329999999999997,8.4870000000000001,8.4380000000000006,8.8759999999999994,7.3479999999999999,7.3479999999999999,6.4989999999999997,4.9790000000000001,3.9039999999999999,4.3029999999999999,5.5259999999999998,8.4860000000000007,8.5269999999999992,8.57,8.3640000000000008,7.0369999999999999,8.0109999999999992,6.96,6.11,4.6180000000000003,3.5880000000000001,4.6280000000000001,4.468,7.1989999999999998,7.1680000000000001,7.6929999999999996,7.782,8.3089999999999993,6.5679999999999996,7.6040000000000001,6.5469999999999997,4.8440000000000003,4.0590000000000002,4.2050000000000001,5.8739999999999997,7.59,6.899,7.6449999999999996,6.2880000000000003,6.2039999999999997,8.6289999999999996,6.42,6.0419999999999998,4.8390000000000004,3.976,5.0529999999999999,"-","-","-","-","-","-","-","-","-","-","-"]
[null,"Residuos renovables","-","-","-","-","-","-","-","-","-","-","-","-","-","-","-","-","-","-","-","-","-","-","-","-","-","-","-","-","-","-","-","-","-","-","-","-","-","-","-","-","-","-","-","-","-","-","-","-",464.29950000000002,397.92500000000001,430.59649999999999,373.33850000000001,337.11450000000002,334.88900000000001,382.39049999999997,338.01799999999997,346.51799999999997,104.58750000000001,7.9335000000000004,0,0,0,0,31.268999999999998,0,0,0,85.337000000000003,276.02949999999998,23.626000000000001,336.02100000000002,402.19650000000001,390.32600000000002,324.10849999999999,302.58999999999997,362.80200000000002,313.69450000000001,396.8485,339.39400000000001,323.44099999999997,305.60649999999998,446.33699999999999,82.356499999999997,431.39400000000001,438.94150000000002,426.67,449.98899999999998,391.80799999999999,342.024,327.59500000000003,387.54950000000002,349.8775,360.20299999999997,394.673,89.531999999999996,490.29450000000003,406.56650000000002,384.25200000000001,399.54250000000002,384.58249999999998,399.29050000000001,362.66800000000001,306.02749999999997,330.73250000000002,349.46249999999998,424.02449999999999,110.65049999999999,438.69850000000002,486.9855,413.23649999999998,388.06950000000001,449.90350000000001,371.4135,406.48399999999998,395.08800000000002,402.67500000000001,414.32600000000002,504.35050000000001,110.9915,506.529,452.02,426.08800000000002,438.00850000000003,420.81099999999998,450.26749999999998,434.68150000000003,425.63299999999998,341.00599999999997,448.86450000000002,497.26049999999998,87.290499999999994,555.05499999999995,521.07550000000003,484.48050000000001,524.22050000000002,456.29450000000003,476.22399999999999,420.48149999999998,461.947,470.89150000000001,430.50400000000002,414.20150000000001,109.871,576.64750000000004,549.42399999999998,"-","-","-","-","-","-","-","-","-","-","-"]
[null,"Generación renovable",0,0,0,0,0,0,0,0,0,0,0,0,1,0,0,0,0,1,1,1,1,0,1,0,8,17,22,28,9,8,8,8,7,6,0,1,1,5,6,7,9,1,8,9,7,6,5,3,468.00750000000005,404.42599999999999,437.11750000000001,380.10149999999999,344.77350000000001,343.31700000000001,389.45349999999996,344.12599999999998,351.90499999999997,109.61750000000001,11.7395,4.4980000000000002,4.9189999999999996,6.7539999999999996,6.9930000000000003,40.199999999999996,9.0139999999999993,8.6419999999999995,8.6509999999999998,93.436999999999998,282.93649999999997,29.855,339.78100000000001,406.41050000000001,395.20699999999999,329.6035,309.94499999999999,370.29200000000003,323.11849999999998,405.79750000000001,347.68400000000003,331.46799999999996,312.56049999999999,452.90499999999997,87.195499999999996,435.44499999999999,443.4205,432.40899999999999,457.86899999999997,400.452,350.988,336.56900000000002,396.77950000000004,358.4855,366.71999999999997,401.2,93.707999999999998,494.38950000000006,411.36450000000002,389.27600000000001,407.56850000000003,390.81549999999999,407.77750000000003,371.10599999999999,314.90349999999995,338.08050000000003,356.81049999999999,430.52350000000001,115.62949999999999,442.60250000000002,491.2885,418.76249999999999,396.55549999999999,458.43049999999999,379.98349999999999,414.84799999999996,402.125,410.68600000000004,421.286,510.46050000000002,115.6095,510.11700000000002,456.64799999999997,430.55600000000004,445.20750000000004,427.97899999999998,457.96049999999997,442.46350000000001,433.94200000000001,347.57399999999996,456.46850000000001,503.8075,92.134499999999989,559.11399999999992,525.28050000000007,490.35450000000003,531.81050000000005,463.19350000000003,483.86899999999997,426.76949999999999,468.15100000000001,479.52050000000003,436.92400000000004,420.24349999999998,114.71,580.62350000000004,554.47699999999998,"-","-","-","-","-","-","-","-","-","-","-"]
[]
[null,"Generación renovable mensual nacional (GWh)","2007-01-01","2007-02-01","2007-03-01","2007-04-01","2007-05-01","2007-06-01","2007-07-01","2007-08-01","2007-09-01","2007-10-01","2007-11-01","2007-12-01","2008-01-01","2008-02-01","2008-03-01","2008-04-01","2008-05-01","2008-06-01","2008-07-01","2008-08-01","2008-09-01","2008-10-01","2008-11-01","2008-12-01","2009-01-01","2009-02-01","2009-03-01","2009-04-01","2009-05-01","2009-06-01","2009-07-01","2009-08-01","2009-09-01","2009-10-01","2009-11-01","2009-12-01","2010-01-01","2010-02-01","2010-03-01","2010-04-01","2010-05-01","2010-06-01","2010-07-01","2010-08-01","2010-09-01","2010-10-01","2010-11-01","2010-12-01","2011-01-01","2011-02-01","2011-03-01","2011-04-01","2011-05-01","2011-06-01","2011-07-01","2011-08-01","2011-09-01","2011-10-01","2011-11-01","2011-12-01","2012-01-01","2012-02-01","2012-03-01","2012-04-01","2012-05-01","2012-06-01","2012-07-01","2012-08-01","2012-09-01","2012-10-01","2012-11-01","2012-12-01","2013-01-01","2013-02-01","2013-03-01","2013-04-01","2013-05-01","2013-06-01","2013-07-01","2013-08-01","2013-09-01","2013-10-01","2013-11-01","2013-12-01","2014-01-01","2014-02-01","2014-03-01","2014-04-01","2014-05-01","2014-06-01","2014-07-01","2014-08-01","2014-09-01","2014-10-01","2014-11-01","2014-12-01","2015-01-01","2015-02-01","2015-03-01","2015-04-01","2015-05-01","2015-06-01","2015-07-01","2015-08-01","2015-09-01","2015-10-01","2015-11-01","2015-12-01","2016-01-01","2016-02-01","2016-03-01","2016-04-01","2016-05-01","2016-06-01","2016-07-01","2016-08-01","2016-09-01","2016-10-01","2016-11-01","2016-12-01","2017-01-01","2017-02-01","2017-03-01","2017-04-01","2017-05-01","2017-06-01","2017-07-01","2017-08-01","2017-09-01","2017-10-01","2017-11-01","2017-12-01","2018-01-01","2018-02-01","2018-03-01","2018-04-01","2018-05-01","2018-06-01","2018-07-01","2018-08-01","2018-09-01","2018-10-01","2018-11-01","2018-12-01","2019-01-01","2019-02-01","2019-03-01","2019-04-01","2019-05-01","2019-06-01","2019-07-01","2019-08-01","2019-09-01","2019-10-01","2019-11-01","2019-12-01"]
[null,"Hidráulica",2265.5368000000003,3018.5306999999998,3928.3883999999998,2867.4611,2837.4746,2309.4112,2454.7462999999998,1770.9716000000001,1376.3025,1712.5293000000001,1342.2435,1221.8831,1393.4648,957.89550000000008,1076.0352,2740.0094000000026,3370.3449000000001,3175.8064999999997,2182.1716000000001,1539.6986000000002,1313.4237999999998,1095.1625000000001,1592.7958000000003,2498.6459999999997,2274.4930999999997,3482.1974999999998,2794.3975999999998,2205.6507000000001,2585.8144000000002,2128.0412000000001,1758.4123999999999,1449.8247999999999,993.20990000000006,1258.9399000000001,2027.0112999999999,3228.3808999999997,5178.6461132999993,4067.3035615999997,5816.5380444000002,4720.0521306999999,3862.8820475999996,3555.0361532000002,2896.7724070000004,2036.8298135,1530.4573436999997,1601.5020285000001,2611.5180676999998,3956.2364768999996,5119.5123843060001,2998.0512951980004,3910.3632831000004,3537.9379813639998,2797.5000465580001,2070.3053493960001,1661.925006936,1520.9448958820001,1221.5917422120001,1250.278629288,2163.28731462,2185.6202423500004,1631.1531101599999,1224.6351000200002,1341.0107565799999,1744.1426441160002,2535.0249661940002,2106.1144563759999,1664.189132704,1334.8124003119999,1035.499301302,1388.8941970060002,1986.4708885340001,2661.6196809940002,3014.4494552600004,3551.1620448160002,4586.9711950999999,5389.9859357779997,3819.0929198500003,3208.935554832,2723.826607814,2143.8184164660001,1826.1491548720001,1866.732213518,2804.9981996239994,2449.3151160100001,4261.3928368300003,5763.2511718599999,5293.0180130580002,4986.8568758279998,2826.7652192420001,2485.7217165719999,2354.8170606840004,2044.885494228,1797.144654958,1632.0181070799999,2452.0654751900001,3284.0485896739997,2554.8304573639998,3559.0062025259999,3845.5835797779996,2662.8117844859999,2967.1734170719997,2497.589003308,2060.3979246879999,1643.7196840919999,1609.5213018899999,1650.1668175440002,1892.6831559960001,1439.0966351060001,3441.8281289500001,4052.8817055740005,4366.5474229660003,5244.8824449240001,5101.2056035119995,2956.172205884,2273.2004102259998,2047.078354944,1653.6463674399999,1631.8305045920001,1499.0532762180001,1846.561901542,2040.641197334,1956.588328862,2701.2310507360003,1897.982028468,1935.428378156,1637.871486776,1193.0592499520001,1082.726891734,1147.8484430619999,773.64991037799996,832.69642553200003,1250.8953596700001,2194.8819977859998,2388.8951773500003,4401.6249935559999,4717.2977722459991,3521.6379673239999,3711.1757685839998,3026.1268805859995,2104.8723088919996,1926.7436007620001,1460.5705813280001,2160.9312938140001,2485.3143526440003,2126.0730832559998,"-","-","-","-","-","-","-","-","-","-","-"]
[null,"Hidroeólica","-","-","-","-","-","-","-","-","-","-","-","-","-","-","-","-","-","-","-","-","-","-","-","-","-","-","-","-","-","-","-","-","-","-","-","-","-","-","-","-","-","-","-","-","-","-","-","-","-","-","-","-","-","-","-","-","-","-","-","-","-","-","-","-","-","-","-","-","-","-","-","-","-","-","-","-","-","-","-","-","-","-","-","-","-","-","-","-","-",2.0200000000000001E-3,8.6389999999999991E-3,0.27424500000000002,0.101643,0,0.154755,0.18753500000000001,0.38498899999999997,0.34434100000000001,0.20485499999999998,9.6545000000000006E-2,0.17951499999999998,0.326206,2.0721609999999999,1.917459,0.71612199999999993,0.453293,0.86856,0.64337800000000001,0.79073599999999999,1.770319,1.5101659999999999,1.2809330000000001,0.896733,1.9903409999999999,2.5691329999999999,2.2107860000000001,2.1619989999999998,0.704287,0.99384000000000006,1.0126630000000001,1.0689709999999999,1.4358499999999998,2.122233,0.96850400000000003,1.4751179999999999,2.2178059999999999,3.1090070000000001,2.4503080000000002,2.3371379999999999,0.97127599999999992,0.790825,1.2860209999999999,2.2577669999999999,1.754305,1.5995219999999999,2.2626460000000002,2.0342029999999998,2.3218040000000002,3.7162829999999998,2.859321,2.165861,0.87331100000000006,0.90078800000000003,0.9097329999999999,1.109656,"-","-","-","-","-","-","-","-","-","-","-"]
[null,"Eólica",2167.7449999999999,2895.3179999999998,3123.877,1382.6190000000001,2641.2139999999999,1818.328,1946.9179999999999,2468.8200000000002,2055.4479999999999,1927.347,2769.181,2414.8360000000002,2664.58,2035.72,4132.3620000000001,3389.4520000000002,1769.2150000000001,2125.6880000000001,2184.1570000000002,2034.3419999999999,2148.0600000000004,2516.4739999999997,3485.3240000000001,3674.4479999999999,3527.9769999999999,3244.2980000000002,3125.3940000000002,3106.5949999999998,2730.5969999999998,2353.5120000000002,2482.25,2293.0889999999999,2489.9910000000004,3138.623,4817.9000000000005,4942.6009999999997,4304.4309999999996,4637.902,4570.1519999999991,2667.3429999999998,3655.8969999999999,2615.31,2845.759,2937.761,2337.395,3967.3230000000003,4366.5439999999999,4639.5129999999999,4033.5400340000001,4053.5666860000001,4716.5428330000004,3424.4588309999999,3186.0351949999999,2975.6741769999999,3310.8822869999999,2783.4139899999996,2354.8422190000001,3178.5570540000003,3836.274915,4623.4625480000004,3668.2339729999999,5053.6809240000002,3845.5915909999999,5336.9812649999994,3735.0311370000004,3473.616188,3039.8777319999999,3181.746036,3953.8207109999994,3147.3328929999998,4622.2871129999994,5466.3304079999998,6316.8028140000006,5370.0574280000001,5763.1641730000001,4424.9824580000004,3970.8774840000001,3875.7851469999996,2885.9033009999998,3453.6925739999997,3239.161689,3988.5461649999997,6458.3484399999998,4966.0720620000011,6570.961682000001,5917.5259569999998,5096.4476000000004,3978.164753,4177.8755180000007,3310.9643050000004,3637.1326399999998,2916.9010090000002,2145.2174679999998,3398.8877809999999,5093.1315199999999,4788.8206150000005,4954.5307119999998,5992.5466649999998,4907.4960579999997,3933.9199840000001,4841.1832860000004,2903.9293429999998,3113.2942790000002,3287.3437070000004,3020.6248619999997,3901.1511609999998,3724.5981649999999,3537.2692940000002,5624.5777410000001,6109.5307389999998,5443.9702969999998,4441.296233,3933.1027530000001,3271.3349730000004,3521.9415979999999,3652.945479,2713.8266760000001,2389.6180890000005,3906.8531379999999,2687.6625930000005,4812.548538,4928.5064670000002,4724.3692110000002,4196.146968,3465.9962799999998,3192.3720410000001,3387.3548269999997,3343.9304509999997,2872.1324100000002,3208.2463490000005,3981.9062559999998,5793.4457629999997,5348.5803950000009,4680.4655009999997,7702.1471350000002,4456.9640890000001,3313.677702,2628.2477280000003,2573.8865420000002,3130.1209599999997,2455.9257180000004,4318.7319039999993,4558.9321950000003,4358.376064,6027.1285189999999,"-","-","-","-","-","-","-","-","-","-","-"]
[null,"Solar fotovoltaica",10.391,12.96,21.983999999999998,26.105999999999998,36.128,40.742000000000004,51.927,56.504000000000005,60.428000000000004,57.695999999999998,54.375999999999998,54.66,59.578000000000003,73.40100000000001,108.56200000000001,131.04400000000001,137.02099999999999,196.40899999999999,240.44200000000001,298.52500000000003,328.08499999999998,334.32799999999997,335.40200000000004,255.15899999999999,261.25799999999998,396.22799999999995,528.73199999999997,569.73800000000006,672.34699999999998,643.83199999999999,717.298,663.41,511.53100000000001,502.20600000000002,361.99299999999999,243.81700000000001,263.11899999999997,305.07099999999997,481.50900000000001,590.40700000000004,711.44200000000001,685.33100000000002,785.81499999999994,723.07,631.37599999999998,548.48400000000004,382.17600000000004,314.97199999999998,351.25704199999996,505.13897400000002,536.66086899999993,661.69363200000009,748.62546699999996,812.11594999999988,859.51952499999993,808.57601499999998,735.89510600000006,629.61145800000008,365.45011899999997,426.20822299999998,504.68662200000006,660.32954900000004,770.14251500000012,658.51844600000004,863.50596499999995,875.87502500000005,941.61867299999994,865.18406500000003,692.37256400000001,595.43097599999999,372.48646200000002,402.10828300000003,446.28364399999998,527.71839899999998,566.71979299999998,763.80427199999997,872.918678,930.952541,974.75945400000001,896.90155000000004,759.63497499999994,634.76695299999994,513.57505900000001,439.23927800000001,377.51872800000001,434.38339999999999,735.97062399999993,791.98590600000011,924.51519599999995,903.76552099999992,951.57779199999993,914.03523199999995,686.9727069999999,647.94019800000001,385.42102100000005,453.83980600000001,518.44025699999997,494.22751599999998,713.26182699999993,755.91011600000002,924.09243099999992,889.20622199999991,933.15770399999997,831.90100700000005,722.20393200000001,537.71161700000005,529.69866400000001,393.74961200000001,364.45826199999999,480.08144100000004,709.28949999999998,721.480234,807.00342100000012,924.0523199999999,918.53036899999995,895.83873499999993,766.07023200000003,584.44481900000005,426.51325400000002,379.70459800000003,476.15505699999994,445.43688500000002,717.34857599999998,836.60470299999997,872.97963399999992,881.51588800000002,917.55959599999994,819.23192199999994,775.73392299999989,682.14999499999999,540.73155199999997,432.30496199999999,444.54251099999999,511.07598100000001,591.22340399999985,701.46582899999999,813.01386700000012,818.32591300000001,933.765671,845.30909499999996,719.68714699999998,567.11687000000006,374.69293500000003,426.46469400000001,501.505987,"-","-","-","-","-","-","-","-","-","-","-"]
[null,"Solar térmica",0,0,0.43099999999999999,0.34200000000000003,0.55800000000000005,0.88300000000000001,1.256,1.1160000000000001,0.63900000000000001,1.214,0.997,0.191,1.0840000000000001,0.79700000000000004,1.4610000000000001,0.95799999999999996,0.94199999999999995,1.9630000000000001,2.0379999999999998,1.98,0.85899999999999999,0.86599999999999999,1.27,1.1599999999999999,0.69,1.236,2.323,7.2039999999999997,7.6580000000000004,6.7519999999999998,12.414,23.867999999999999,17.539000000000001,23.446000000000002,16.183,10.51,13.151999999999999,11.682,23.731999999999999,36.92,69.084000000000003,72.531999999999996,104.59,121.9,100.917,71.745000000000005,31.619,33.747,39.743130000000001,88.657368000000005,98.457166999999998,137.83512100000002,160.44092499999999,247.970979,284.05997400000001,235.32909799999999,228.55802400000002,172.94973899999999,81.173647000000003,86.466376999999994,117.342049,200.34185399999998,235.11348100000001,177.77704500000002,348.382183,414.74907200000001,541.31674100000009,485.12652700000001,368.64290099999999,289.15457700000002,133.961873,135.585309,113.494435,204.009049,125.370378,300.89360499999998,499.267989,647.33005299999991,758.52291099999991,661.85580500000003,478.95522799999998,294.24195199999997,199.223861,158.362269,79.800654999999992,103.26450199999999,385.17531600000001,435.52705900000001,729.93555500000002,687.28808200000003,811.15318400000001,833.17848000000004,389.59590299999996,289.33703000000003,90.187433999999996,124.47172599999999,176.95139600000002,190.92526000000001,415.82866200000001,393.16048599999999,694.83874000000003,734.05393700000002,888.91770999999994,607.62348800000007,483.25015300000001,188.16886600000001,226.81775099999999,84.699065000000004,59.913641000000005,133.00979000000001,387.86076199999997,408.32323200000002,498.79538199999996,813.99067100000002,825.32457999999997,805.81879700000002,595.62669299999993,284.70289100000002,139.69961799999999,118.13564500000001,149.21208100000001,88.740902000000006,340.84468499999997,535.25547800000004,607.89817700000003,761.902153,812.88028599999996,692.43517500000007,608.14265499999999,398.79322200000001,220.652322,131.19532899999999,112.387517,229.80815100000001,233.95594299999999,325.935092,477.20963399999999,551.29260299999999,858.89832999999999,688.557997,465.63698499999998,292.49343099999999,78.576116999999996,109.576809,166.15013300000001,"-","-","-","-","-","-","-","-","-","-","-"]
[null,"Térmica renovable/Otras renovables",216.57900000000001,190.44399999999999,202.655,201.31399999999999,212.92099999999999,208.53500000000003,222.32499999999999,223.34399999999999,210.393,242.72399999999999,222.18800000000002,235.54599999999999,240.54300000000001,235.363,243.89999999999998,241.16800000000001,240.34899999999999,235.23099999999999,223.648,239.89500000000001,225.512,247.172,248.54500000000002,247.38200000000001,267.15800000000002,253.47299999999998,264.57600000000002,300.05200000000002,272.99799999999999,253.04599999999999,260.84899999999999,260.46300000000002,287.976,347.83600000000001,272.58799999999997,276.327,274.84199999999998,245.35900000000001,262.31099999999998,277.04300000000001,300.03700000000003,288.51100000000002,278.10199999999998,284.791,267.96199999999999,284.303,273.09999999999997,295.99899999999997,309.53941400000002,288.16413500000004,304.18363499999998,301.262449,311.49708700000002,277.16630900000001,311.49470799999995,315.060451,330.49963600000001,324.59757799999994,315.31492699999995,325.253939,323.44696399999998,310.30986899999999,320.46749499999999,298.75463300000001,314.13914399999999,326.04110000000003,327.98126099999996,295.04480299999994,282.00825199999997,314.36652600000002,327.117999,351.40537299999994,358.30979500000001,330.34016800000001,355.45151900000002,364.848568,371.370676,347.35634900000002,386.75047999999998,370.01897100000002,349.040144,356.57301999999999,358.83186500000005,385.39388400000001,380.89558700000003,293.997433,305.87824900000004,266.46750900000001,330.19200600000005,330.073196,338.21408199999996,349.91252600000001,333.10012699999999,300.49895900000001,288.09028500000005,298.99575799999997,301.80383599999999,245.32970900000001,274.297685,201.67778900000002,274.88919899999996,288.140649,309.89189199999998,317.50308199999995,307.42931800000002,314.764745,307.12618899999995,289.73782799999998,270.62455900000003,261.56710900000002,255.63042000000002,209.99403299999997,277.22120700000005,287.56065699999999,311.07962699999996,326.72704499999998,307.66266100000001,306.35809699999999,304.81659500000001,306.42281800000001,327.46052900000001,289.71982500000001,269.56085000000002,232.81675199999998,298.76736100000005,302.61686900000001,333.388938,316.02745400000003,309.49632200000002,309.76402100000001,307.75329699999998,312.97566399999999,296.33178299999997,301.60146800000001,271.61482100000001,237.806487,291.74541299999999,304.38883600000003,324.14597900000001,317.30868300000003,320.21150799999998,297.63524799999999,293.48706999999996,300.104917,304.46479899999997,"-","-","-","-","-","-","-","-","-","-","-"]
[null,"Residuos renovables","-","-","-","-","-","-","-","-","-","-","-","-","-","-","-","-","-","-","-","-","-","-","-","-","-","-","-","-","-","-","-","-","-","-","-","-","-","-","-","-","-","-","-","-","-","-","-","-",64.676535999999999,57.9214105,39.859917000000003,60.267739000000006,47.065160500000005,69.572035,70.694942999999995,64.463544999999996,61.982925999999999,66.642919499999991,63.632651500000009,69.275960999999995,67.258019000000004,53.332264500000001,40.775378000000003,62.179900000000004,50.964812000000009,64.279336999999998,70.588013500000002,67.696396000000007,63.80987549999999,61.960437500000005,58.540096999999996,58.405467000000002,59.5268765,53.118248000000008,46.529089999999997,25.230527500000001,29.502280500000005,27.608296500000002,31.754573999999998,47.027261500000009,62.914835000000004,55.457450999999992,56.3724615,60.697600499999993,49.339647999999997,35.868039500000002,32.435465999999998,51.170320000000004,60.551003999999999,58.360806999999994,67.005232500000005,55.681831500000001,68.960821999999993,64.805283500000002,60.3019465,73.591172,64.152761499999997,59.516463000000002,72.007513500000002,47.499358500000007,64.893153499999997,73.037460499999995,73.160616000000005,70.309055999999998,70.194001,75.951562499999994,74.485474999999994,72.842281499999999,66.351435499999994,53.484914500000002,66.529240000000001,39.262202500000001,39.159787000000001,69.139427999999995,75.307697000000005,73.403188999999998,75.079728000000003,74.217034499999997,74.12118550000001,79.339188000000007,72.733759500000005,63.647489,70.866812499999995,61.681896000000002,45.922100999999998,81.467664000000013,83.370790499999998,80.36790400000001,77.904931500000004,80.609651999999997,77.92410799999999,80.508979000000011,77.266070499999998,67.136116999999999,77.633272500000004,77.872185000000002,35.345674000000002,65.936057000000005,79.704862999999989,81.187428499999996,78.623908499999999,81.018129000000002,68.737116,83.614424,73.61360950000001,"-","-","-","-","-","-","-","-","-","-","-"]
[null,"Generación renovable",4660.2518,6117.2527,7277.3353999999999,4477.8420999999998,5728.2955999999995,4377.8991999999998,4677.1722999999993,4520.7556000000004,3703.2105000000001,3941.5102999999999,4388.9855000000007,3927.1160999999997,4359.2497999999996,3303.1764999999996,5562.3202000000001,6502.631400000002,5517.8719000000001,5735.0974999999989,4832.4566000000004,4114.4406000000008,4015.9398000000001,4194.0024999999996,5663.3368000000009,6676.7949999999983,6331.5760999999993,7377.4324999999999,6715.4226000000008,6189.2396999999992,6269.4143999999997,5385.1832000000013,5231.2233999999999,4690.6548000000003,4300.246900000001,5271.0509000000002,7495.6753000000008,8701.6358999999975,10034.190113299999,9267.3175616000008,11154.242044399998,8291.7651306999996,8599.342047600001,7216.7201532000008,6911.038407,6104.3518134999995,4868.1073436999995,6473.3570285000005,7664.9570677000002,9240.4674768999994,9918.2685403060023,7991.4998686980007,9606.0677040999999,8123.455753364,7251.1638810579998,6452.8047993959999,6498.576443936,5727.7879948819991,4933.3696532120002,5622.6373777879999,6825.13357412,7716.2872903500011,6312.1207371599994,7502.6295605200003,6553.1012165800003,8278.3539331159991,7847.0482071940005,7260.6751783760001,6585.5715532039994,6229.6102273120005,6396.1536048019998,5797.1396065059998,7500.8644325339992,9075.4545209940006,10308.86701976,10036.405336816,11444.2061481,11269.745366277997,9563.0300273500015,9037.9679413319991,7761.5173278139991,7573.3145779660017,6715.856025871999,7196.3177545180006,10391.349886124,8459.0802095100007,11719.90913683,12548.29050336,11848.925268058001,10510.172422827998,9049.8344982420003,7776.1756475720013,8159.9086301839998,7114.8688177280001,5421.0933249579994,6333.4873585799996,8369.3524366900001,9023.9552016739999,8571.094408863999,10541.896156526,10228.680180277999,7995.0760629859997,9767.2497415719972,7386.2828208079991,7380.8922866880002,6760.3174830920016,6213.9396898900004,6668.3680620440009,6756.2779599959986,5818.0380936060001,9828.5445034500008,11092.326018074002,11231.337807966,11066.519312424003,10657.384886512,8324.2405958840009,7927.9534142260009,7804.0223859439993,6114.07435644,5271.8757220920015,6352.050906718001,5418.8394065420007,7879.8201328339992,7774.0757468620004,8826.3434182360015,7761.4563294680001,7228.4670491560009,6859.9639077760003,6730.7226944519998,6337.1701057339997,5793.5958225619997,5454.1844253780009,5962.4547855320006,8002.61207767,8476.2480412860004,8180.7367003500003,13279.799091056,10519.604100245999,8454.6644603240002,8081.6887095839993,7800.2445485859998,7170.2157933919998,5968.9947282620005,7018.4394743279991,7536.2575148140004,7764.3609936440007,9200.0457867559981,"-","-","-","-","-","-","-","-","-","-","-"]
[]
[null,"Generación renovable anual peninsular (GWh)",1990,1991,1992,1993,1994,1995,1996,1997,1998,1999,2000,2001,2002,2003,2004,2005,2006,2007,2008,2009,2010,2011,2012,2013,2014,2015,2016,2017,2018,2019,2020,2021]
[null,"Hidráulica",24523.392599960003,26432.714899999999,18638.640500000001,23748.717699999994,27483.933699999998,22461.961800000001,39868.604399999997,35110.257700000002,35434.009117000001,25037.704612000005,27893.934733000006,40392.099833,21225.324938999998,40097.007245000001,30870.037485000004,18248.197038999991,25374.948778999995,27104.303099999994,22933.781600000002,26185.975700000003,41833.774188100004,30435.663400210004,20651.797535297999,37382.405530939999,39178.524159204004,28379.011570850002,36111.434365772002,18447.346771660003,34096.796785872,2125.7801672559999,"-","-"]
[null,"Eólica",2.18699998,2.8650000000000002,17.361000000000001,84.768000000000001,72.859999999999985,159.85699999999997,304.12899999999996,619.88499999999999,1236.6567059999998,2474.0332980000003,4462.4960500000007,6594.1481130000002,9259.2966869999982,11720.246133000002,15754.117769000002,20857.665958999998,22880.856075000003,27249.154999999999,31757.850000000006,37888.576999999997,43208.396000000001,42115.787093000006,48156.257946999998,54344.500782000003,50636.662464000008,47715.882144999996,47298.163668000001,47508.105951999998,48901.728058000008,5970.5410169999996,"-","-"]
[null,"Solar fotovoltaica","-","-",12.055999999999999,12.000000000000002,15.295899999999996,1.0619999999999998,0.89100000000000001,1.127,1.1702970000000001,1.341181,1.269817,1.639643,4.5614520000000001,8.9301049999999957,17.794010999999976,40.088349000000001,102.37499899999992,462.577,2406.0700000000002,5829.0049999999992,6139.7820000000002,7105.8708019999995,7830.0693760000004,7918.3761040000009,7802.7909199999995,7845.3145369999993,7579.2182119999998,8000.7121639999987,7362.7444519999999,476.80772400000001,"-","-"]
[null,"Solar térmica","-","-","-","-","-","-","-","-","-","-","-","-","-","-","-","-","-",7.6269999999999998,15.378,129.82299999999998,691.62,1861.6415489999997,3447.4936120000002,4441.5275350000002,4958.9149259999995,5085.235514,5071.2017019999994,5347.9524650000003,4424.3286090000001,166.15013300000001,"-","-"]
[null,"Térmica renovable/Otras renovables","-",0.85399999999999987,16.548999999999999,58.82200000000001,322.45,671.26900000000001,815.08,648.375,748.74632699999995,908.25367599999993,961.11038600000018,1738.4584279999999,1453.0152859999998,1737.0417380000004,1818.0936319999998,1987.8580699999998,2182.6066820000001,2375.6849999999999,2651.4889999999996,3044.2870000000003,3171.7989999999995,3705.130529,3782.4631420000005,4325.2771579999999,3805.563474,3422.5667469999999,3415.0193380000001,3599.1558820000005,3546.1180209999993,303.39382699999999,"-","-"]
[null,"Residuos renovables","-","-","-","-","-","-","-","-","-","-","-","-","-","-","-","-","-","-","-","-","-",608.82609999999988,595.84598200000005,438.65400899999997,545.53808600000002,662.65547500000002,649.73991049999995,728.15043300000002,732.97066150000001,63.503646000000003,"-","-"]
[null,"Generación renovable",24525.579599940003,26436.4339,18684.606500000002,23904.307699999994,27894.5396,23294.149800000003,40988.704400000002,36379.644700000004,37420.582447000001,28421.332767000004,33318.810986000004,48726.346017000003,31942.198363999996,53563.225221000001,48460.042896999999,41133.809416999989,50540.786534999999,57199.347099999984,59764.568600000006,73077.667700000005,95045.371188100005,85832.919473210015,84463.927594298002,108850.74111894,106927.994029204,93110.66598885,100124.777196272,83631.423667659998,99064.686587372009,9106.176514255998,"-","-"]
[]
[null,"Generación renovable anual Islas Baleares (MWh)",2006,2007,2008,2009,2010,2011,2012,2013,2014,2015,2016,2017,2018,2019,2020,2021]
[null,"Eólica",4877.3560000000007,5656,5497,5543,5571,5785.915,6504.6989999999996,6159.4680000000008,5839.5779999999995,5318.2280000000001,5416.058,2924.2759999999998,3757.1709999999998,805.42700000000002,"-","-"]
[null,"Solar fotovoltaica",1100.7949999999998,1952,28380,80933,87757,101810.916,115593.26899999997,122112.85199999998,122765.68900000001,122619.80299999999,120507.53,123336.99499999998,112251.64200000001,7209.6450000000004,"-","-"]
[null,"Térmica renovable/Otras renovables",0,0,0,0,0,87.793000000000006,569.82999999999993,505.69299999999998,1945.6589999999999,1971.549,1309.7150000000001,1626.7410000000002,1332.595,107.643,"-","-"]
[null,"Residuos renovables","-","-","-","-","-",123712.03350000001,122789.53600000001,113066.595,128084.32949999999,151097.72949999999,130805.0665,143878.66800000001,135757.74450000003,9560.5395000000008,"-","-"]
[null,"Generación renovable",5978.1510000000007,7608,33877,86476,93328,231396.6575,245457.33399999997,241844.60799999998,258635.2555,281007.30949999997,258038.3695,271766.68,253099.15250000003,17683.254500000003,"-","-"]
[]
[null,"Generación renovable anual Islas Canarias (MWh)",2006,2007,2008,2009,2010,2011,2012,2013,2014,2015,2016,2017,2018,2019,2020,2021]
[null,"Hidráulica",0,1176,1673,398,0,1654.7710000000002,1769.0990000000002,3031.2830000000004,3461.0559999999996,3568.393,3453.9609999999993,3271.9790000000003,3275.9090000000006,292.916,"-","-"]
[null,"Hidroeólica","-","-","-","-","-","-","-","-",728.83699999999999,8207.4240000000009,17891.935999999998,20233.057000000001,23655.544000000002,1109.6559999999999,"-","-"]
[null,"Eólica",326063.57899999997,356840,396475,358707,331363,355677.76100000006,361767.32500000007,362733.48499999999,389528.80599999998,396687.14299999998,393080.58299999998,395925.33299999993,620570.70399999991,55782.074999999997,"-","-"]
[null,"Solar fotovoltaica",2915.5499999999997,19373,63500,162330,195166,232999.19000000006,256513.386,286703.31700000004,282285.68899999995,275546.60499999998,277661.34299999999,273626.66499999998,271613.212,17483.564999999999,"-","-"]
[null,"Térmica renovable/Otras renovables",218199.68400000001,213283,217219,273055,160561,8815.9460000000017,8050.4470000000001,8502.5880000000016,8806.5839999999989,8053.625,9335.7749999999996,9565.259,8931.5969999999998,963.32899999999995,"-","-"]
[null,"Generación renovable",547178.81299999997,590672,678867,794490,687090,599147.66800000006,628100.2570000001,660970.67299999995,684810.97199999995,692063.19,701423.598,702622.29299999995,928046.9659999999,75631.540999999997,"-","-"]
[]
[null,"Generación renovable anual Melilla (MWh)",2007,2008,2009,2010,2011,2012,2013,2014,2015,2016,2017,2018,2019,2020,2021,2022]
[null,"Solar fotovoltaica",0,6,122,67,71.472000000000008,83.11399999999999,82.322999999999993,83.832999999999998,79.959999999999994,80.09999999999998,76.868999999999986,74.611000000000004,5.0529999999999999,"-","-","-"]
[null,"Residuos renovables","-","-","-","-",3517.6105000000002,1154.479,4018.8984999999993,4449.1570000000002,4296.4980000000005,4850.0525000000016,4976.9860000000008,5346.8390000000009,549.42399999999998,"-","-","-"]
[null,"Generación renovable",0,6,122,67,3589.0825000000004,1237.5930000000001,4101.2214999999997,4532.99,4376.4580000000005,4930.152500000002,5053.8550000000005,5421.4500000000007,554.47699999999998,"-","-","-"]
[]
[null,"Generación renovable anual nacional (GWh)",2007,2008,2009,2010,2011,2012,2013,2014,2015,2016,2017,2018,2019,2020,2021,2022]
[null,"Hidráulica",27105.479099999993,22935.454600000001,26186.3737,41833.774188100004,30437.318171210005,20653.566634297997,37385.436813939996,39181.985215204004,28382.579963850003,36114.888326772001,18450.618750660004,34100.072694872004,2126.0730832559998,"-","-","-"]
[null,"Hidroeólica","-","-","-","-","-","-","-",0.72883699999999996,8.2074240000000014,17.891935999999998,20.233057000000002,23.655544000000003,1.109656,"-","-","-"]
[null,"Eólica",27611.650999999998,32159.822000000007,38252.826999999997,43545.33,42477.250769000006,48524.529970999996,54713.393735000005,51032.030848000009,48117.887515999995,47696.660308999999,47906.955560999995,49526.055933000011,6027.1285189999999,"-","-","-"]
[null,"Solar fotovoltaica",483.90199999999999,2497.9560000000001,6072.3899999999994,6422.7719999999999,7440.7523799999999,8202.259145,8327.2745960000011,8207.9261310000002,8243.5609049999985,7977.4671849999995,8397.7526929999985,7746.6839170000003,501.505987,"-","-","-"]
[null,"Solar térmica",7.6269999999999998,15.378,129.82299999999998,691.62,1861.6415489999997,3447.4936120000002,4441.5275350000002,4958.9149259999995,5085.235514,5071.2017019999994,5347.9524650000003,4424.3286090000001,166.15013300000001,"-","-","-"]
[null,"Térmica renovable/Otras renovables",2588.9679999999998,2868.7079999999996,3317.3420000000001,3332.3599999999997,3714.0342679999999,3791.0834190000005,4334.2854390000002,3816.3157169999999,3432.5919209999997,3425.6648279999999,3610.3478820000005,3556.3822129999994,304.46479899999997,"-","-","-"]
[null,"Residuos renovables","-","-","-","-",736.05574399999989,719.78999700000008,555.73950249999996,678.0715725,818.04970249999997,785.39502949999996,877.00608699999998,874.075245,73.61360950000001,"-","-","-"]
[null,"Generación renovable",57797.627099999998,60477.318600000006,73958.755700000009,95825.856188099991,86667.052881210009,85338.722778298004,109757.65762144,107875.97324670402,94088.112946349996,101089.16931627199,84610.866495659997,100251.25415587203,9200.0457867559981,"-","-","-"]
[]
[null,"Estructura de generación renovable mensual peninsular (%)","1990-01-01","1990-02-01","1990-03-01","1990-04-01","1990-05-01","1990-06-01","1990-07-01","1990-08-01","1990-09-01","1990-10-01","1990-11-01","1990-12-01","1991-01-01","1991-02-01","1991-03-01","1991-04-01","1991-05-01","1991-06-01","1991-07-01","1991-08-01","1991-09-01","1991-10-01","1991-11-01","1991-12-01","1992-01-01","1992-02-01","1992-03-01","1992-04-01","1992-05-01","1992-06-01","1992-07-01","1992-08-01","1992-09-01","1992-10-01","1992-11-01","1992-12-01","1993-01-01","1993-02-01","1993-03-01","1993-04-01","1993-05-01","1993-06-01","1993-07-01","1993-08-01","1993-09-01","1993-10-01","1993-11-01","1993-12-01","1994-01-01","1994-02-01","1994-03-01","1994-04-01","1994-05-01","1994-06-01","1994-07-01","1994-08-01","1994-09-01","1994-10-01","1994-11-01","1994-12-01","1995-01-01","1995-02-01","1995-03-01","1995-04-01","1995-05-01","1995-06-01","1995-07-01","1995-08-01","1995-09-01","1995-10-01","1995-11-01","1995-12-01","1996-01-01","1996-02-01","1996-03-01","1996-04-01","1996-05-01","1996-06-01","1996-07-01","1996-08-01","1996-09-01","1996-10-01","1996-11-01","1996-12-01","1997-01-01","1997-02-01","1997-03-01","1997-04-01","1997-05-01","1997-06-01","1997-07-01","1997-08-01","1997-09-01","1997-10-01","1997-11-01","1997-12-01","1998-01-01","1998-02-01","1998-03-01","1998-04-01","1998-05-01","1998-06-01","1998-07-01","1998-08-01","1998-09-01","1998-10-01","1998-11-01","1998-12-01","1999-01-01","1999-02-01","1999-03-01","1999-04-01","1999-05-01","1999-06-01","1999-07-01","1999-08-01","1999-09-01","1999-10-01","1999-11-01","1999-12-01","2000-01-01","2000-02-01","2000-03-01","2000-04-01","2000-05-01","2000-06-01","2000-07-01","2000-08-01","2000-09-01","2000-10-01","2000-11-01","2000-12-01","2001-01-01","2001-02-01","2001-03-01","2001-04-01","2001-05-01","2001-06-01","2001-07-01","2001-08-01","2001-09-01","2001-10-01","2001-11-01","2001-12-01","2002-01-01","2002-02-01","2002-03-01","2002-04-01","2002-05-01","2002-06-01","2002-07-01","2002-08-01","2002-09-01","2002-10-01","2002-11-01","2002-12-01","2003-01-01","2003-02-01","2003-03-01","2003-04-01","2003-05-01","2003-06-01","2003-07-01","2003-08-01","2003-09-01","2003-10-01","2003-11-01","2003-12-01","2004-01-01","2004-02-01","2004-03-01","2004-04-01","2004-05-01","2004-06-01","2004-07-01","2004-08-01","2004-09-01","2004-10-01","2004-11-01","2004-12-01","2005-01-01","2005-02-01","2005-03-01","2005-04-01","2005-05-01","2005-06-01","2005-07-01","2005-08-01","2005-09-01","2005-10-01","2005-11-01","2005-12-01","2006-01-01","2006-02-01","2006-03-01","2006-04-01","2006-05-01","2006-06-01","2006-07-01","2006-08-01","2006-09-01","2006-10-01","2006-11-01","2006-12-01","2007-01-01","2007-02-01","2007-03-01","2007-04-01","2007-05-01","2007-06-01","2007-07-01","2007-08-01","2007-09-01","2007-10-01","2007-11-01","2007-12-01","2008-01-01","2008-02-01","2008-03-01","2008-04-01","2008-05-01","2008-06-01","2008-07-01","2008-08-01","2008-09-01","2008-10-01","2008-11-01","2008-12-01","2009-01-01","2009-02-01","2009-03-01","2009-04-01","2009-05-01","2009-06-01","2009-07-01","2009-08-01","2009-09-01","2009-10-01","2009-11-01","2009-12-01","2010-01-01","2010-02-01","2010-03-01","2010-04-01","2010-05-01","2010-06-01","2010-07-01","2010-08-01","2010-09-01","2010-10-01","2010-11-01","2010-12-01","2011-01-01","2011-02-01","2011-03-01","2011-04-01","2011-05-01","2011-06-01","2011-07-01","2011-08-01","2011-09-01","2011-10-01","2011-11-01","2011-12-01","2012-01-01","2012-02-01","2012-03-01","2012-04-01","2012-05-01","2012-06-01","2012-07-01","2012-08-01","2012-09-01","2012-10-01","2012-11-01","2012-12-01","2013-01-01","2013-02-01","2013-03-01","2013-04-01","2013-05-01","2013-06-01","2013-07-01","2013-08-01","2013-09-01","2013-10-01","2013-11-01","2013-12-01","2014-01-01","2014-02-01","2014-03-01","2014-04-01","2014-05-01","2014-06-01","2014-07-01","2014-08-01","2014-09-01","2014-10-01","2014-11-01","2014-12-01","2015-01-01","2015-02-01","2015-03-01","2015-04-01","2015-05-01","2015-06-01","2015-07-01","2015-08-01","2015-09-01","2015-10-01","2015-11-01","2015-12-01","2016-01-01","2016-02-01","2016-03-01","2016-04-01","2016-05-01","2016-06-01","2016-07-01","2016-08-01","2016-09-01","2016-10-01","2016-11-01","2016-12-01","2017-01-01","2017-02-01","2017-03-01","2017-04-01","2017-05-01","2017-06-01","2017-07-01","2017-08-01","2017-09-01","2017-10-01","2017-11-01","2017-12-01","2018-01-01","2018-02-01","2018-03-01","2018-04-01","2018-05-01","2018-06-01","2018-07-01","2018-08-01","2018-09-01","2018-10-01","2018-11-01","2018-12-01","2019-01-01","2019-02-01","2019-03-01","2019-04-01","2019-05-01","2019-06-01","2019-07-01","2019-08-01","2019-09-01","2019-10-01","2019-11-01","2019-12-01"]
[null,"Hidráulica",30,31.1,21.3,16.600000000000001,17.399999999999999,16.8,13.8,12,11.1,12.7,16.8,15.2,19.600000000000001,16.600000000000001,32.6,31.1,25.3,19.2,14.4,10.8,9.8000000000000007,13.1,16.3,14.9,9.6999999999999993,6.3,6.4,14,13.3,14.9,13.7,10.6,10.7,15.7,18.8,23.3,16.5,12.7,11.7,10.5,17,19.899999999999999,16,11.4,10.6,23.9,27.9,21.3,28.6,25.7,23.4,20.7,22.7,20.399999999999999,14.4,11.6,10.7,13.3,19.399999999999999,14.5,20.7,22.9,24.7,16.399999999999999,14.4,14.4,12.6,9.1,7.7,8,10,18.3,39.6,40.200000000000003,27.2,32.200000000000003,31.7,23.6,17.600000000000001,13.4,14.8,14,17,30.6,36.6,28.1,20.7,17.7,17,18.2,14.7,13.1,11.9,10.9,24.8,35.200000000000003,39.5,30.2,19.600000000000001,26.2,30.4,25,17.100000000000001,15.1,13,14.3,10.6,8.3000000000000007,8.8000000000000007,9.1999999999999993,13.5,16.3,20.7,17.3,12.5,10.199999999999999,10.3,11.7,17.899999999999999,17.100000000000001,14.4,10.5,9.5,14.7,21.7,14.6,10.5,11.2,11.6,11,14.9,25.8,33.9,34.9,37.799999999999997,29.1,21.1,15.3,11.9,11.6,9.1,10.5,11.5,8.5,6.9,7.1,11,11.3,11.4,11,7.4,6.2,6.1,6.8,11.1,22.5,27.3,23.1,24.7,22.7,20.8,12.5,9.8000000000000007,7.7,9,10.6,17.100000000000001,24.2,18,16.899999999999999,15,15.8,17.5,13.7,9.9,8.9,7.8,8.8000000000000007,11.5,8.5,6.9,7.3,8.4,10.8,11.1,8.6999999999999993,5.9,5.6,4,4.2,6.4,7.3,6.7,5.3,13,14.4,10.3,7,6.3,4.9000000000000004,5.2,7.7,13.9,20.9,9.3000000000000007,13.8,16.899999999999999,13.8,13,10.7,10.5,8.1,6.2,7.5,5.6,4.9000000000000004,5.5,4.0999999999999996,4.5,11.9,15.4,14.2,8.9,6.8,5.9,4.9000000000000004,6.8,10.199999999999999,9,16,13.1,11,12.7,9.9,7.4,6.5,4.5999999999999996,5.8,9.1999999999999993,13.6,20.9,17.7,24.3,22.5,18.2,16.5,11.9,9.1,7,7.2,11.4,16.399999999999999,20.8,13.6,16.399999999999999,17.2,13.5,9.6999999999999993,7.4,6.9,5.6,6,10.1,9.6,6.8,4.9000000000000004,5.9,8.1999999999999993,11.8,9.6999999999999993,7.4,5.9,4.8,6.4,9.1999999999999993,11.6,12.7,16.3,20.2,25.9,19,16.100000000000001,11.8,10,8.8000000000000007,9,12.9,10.7,18.600000000000001,26.7,24.4,24.9,14,12.2,10.7,9.8000000000000007,8.6,8,12.2,14.8,10.9,16.100000000000001,17.399999999999999,13.6,14.8,12.1,8.6,7.6,8,8.4,9.5,7,15.9,19.600000000000001,19.899999999999999,25.4,26.1,15.2,10.5,9.9,8.3000000000000007,7.9,7.2,8.9,8.5,9.8000000000000007,13.5,10.4,10.199999999999999,7.9,5.6,5.3,6,3.8,3.9,5.4,10.1,11.5,19,24,18.5,19.899999999999999,14.8,10,9.6999999999999993,7,10.199999999999999,12.1,9.1,"-","-","-","-","-","-","-","-","-","-","-"]
[null,"Eólica",0,0,0,0,0,0,0,0,0,0,0,0,0,0,0,0,0,0,0,0,0,0,0,0,0,0,0,0,0,0,0,0,0,0,0,0.1,0.1,0.1,0.1,0.1,0,0.1,0.1,0.1,0,0.1,0.1,0,0.1,0,0.1,0.1,0,0.1,0,0,0,0.1,0.1,0,0.1,0.1,0.1,0.1,0.1,0.1,0.1,0.1,0.1,0.2,0.1,0.1,0.1,0.2,0.2,0.2,0.2,0.2,0.2,0.1,0.2,0.2,0.2,0.3,0.3,0.3,0.3,0.4,0.3,0.3,0.4,0.3,0.3,0.5,0.5,0.5,0.6,0.5,0.7,0.7,0.6,0.5,0.7,0.9,0.7,0.7,0.9,0.9,1,1.4,1.4,1.4,1.2,1.4,1.1000000000000001,1,1.1000000000000001,1.3,2,1.9,1.7,1.9,2.1,2.7,1.5,2.2999999999999998,2.2000000000000002,2,1.7,2.6,3.2,3.5,3.2,3.4,3.7,4.3,2.6,2.4,2.2999999999999998,2.2000000000000002,3.7,3.4,4.3,2.9,3.4,4.5999999999999996,4.5999999999999996,3.7,4.7,3.6,3.7,3.5,2.9,4.9000000000000004,5.9,6.4,6.7,5.2,4.5,6.6,5,3.7,3.6,2.9,4.2,5.7,6.1,6.9,8,5.4,6.1,7.9,5.3,5.2,4.5999999999999996,5.6,5.8,8.1999999999999993,7.3,8.1999999999999993,8.3000000000000007,8.3000000000000007,8.1999999999999993,9.9,7.6,6,7.3,8.1,6.2,9.3000000000000007,9,10.199999999999999,6.4,8.6,12,10.3,8.1,6.4,4.9000000000000004,10.4,6.8,11,10.6,9.3000000000000007,8.8000000000000007,13.2,13.3,6.5,12,8.1999999999999993,8,11.1,9.1999999999999993,8.4,11.5,9.6,10.5,8.5,17.100000000000001,14.6,7.9,9.3000000000000007,8.6999999999999993,8.6999999999999993,9.6,11,14.8,14.9,13.9,14.8,14.5,15.3,13.3,10.8,10.3,10.1,11.5,14.5,21.8,20.8,17.3,20.100000000000001,19,12.6,17,12,11.5,12.9,10.5,17.899999999999999,19,19.100000000000001,16.3,18.3,19.7,16.5,15.3,13.8,14.4,12.5,10.7,15,17.8,20.2,15.2,20.3,16.8,24.9,17.3,15.8,13.2,13.9,18.5,14.5,21.4,23.7,26.6,24.5,25.3,21.1,19.600000000000001,19.2,12.3,15.9,15.4,19,29.5,21.7,28.5,27.3,23.2,19.7,20.399999999999999,16.100000000000001,16.3,13.8,10.199999999999999,16.5,25.2,21.5,20.9,26.8,22,19.899999999999999,23.9,13.9,12.7,15,15,19.7,18.600000000000001,17.2,25.9,29.4,24.6,21.3,20,16.600000000000001,16.100000000000001,17.399999999999999,13.4,11.5,18.8,12.9,19.899999999999999,24.6,23.4,22.8,18,15.1,15.5,16.2,14.8,15.8,18.3,24.9,24.3,22.3,33.1,22.4,17.100000000000001,13.8,12.1,14.6,12.2,20.5,21.4,21,25.5,"-","-","-","-","-","-","-","-","-","-","-"]
[null,"Solar fotovoltaica","-","-","-","-","-","-","-","-","-","-","-","-","-","-","-","-","-","-","-","-","-","-","-","-",0,0,0,0,0,0,0,0,0,0,0,0,0,0,0,0,0,0,0,0,0,0,0,0,0,0,0,0,0,0,0,0,0,0,0,0,0,0,0,0,0,0,0,0,0,0,0,0,0,0,0,0,0,0,0,0,0,0,0,0,0,0,0,0,0,0,0,0,0,0,0,0,0,0,0,0,0,0,0,0,0,0,0,0,0,0,0,0,0,0,0,0,0,0,0,0,0,0,0,0,0,0,0,0,0,0,0,0,0,0,0,0,0,0,0,0,0,0,0,0,0,0,0,0,0,0,0,0,0,0,0,0,0,0,0,0,0,0,0,0,0,0,0,0,0,0,0,0,0,0,0,0,0,0,0,0,0,0,0,0,0,0,0,0,0,0,0,0,0,0,0,0,0,0,0,0.1,0.1,0,0,0,0,0.1,0.1,0.1,0.2,0.2,0.2,0.2,0.3,0.2,0.2,0.2,0.2,0.3,0.4,0.5,0.6,0.8,1,1.3,1.4,1.4,1.4,1,1,1.7,2.4,2.7,3.2,2.9,2.9,2.9,2.2999999999999998,2.2000000000000002,1.6,1,1,1.3,1.9,2.7,3.2,3.1,3.1,3.1,2.8,2.4,1.6,1.2,1.3,2.2000000000000002,2.1,3.1,3.5,3.7,3.7,3.5,3.3,2.9,1.6,1.8,2,2.6,3.2,3,3.8,3.9,4,3.7,3.1,2.6,1.6,1.6,1.8,2.2999999999999998,2.2999999999999998,3.5,4.0999999999999996,4.4000000000000004,4,4,3.5,2.9,2.2999999999999998,1.8,1.5,1.9,3.2,3.8,4.4000000000000004,4.3,4.0999999999999996,4.2,3.1,3,1.8,1.9,2.1,2.1,3.1,3.7,4.4000000000000004,4.0999999999999996,3.7,3.7,3.4,2.6,2.5,1.8,1.6,2.2000000000000002,3.1,3.3,3.9,4.5,4.0999999999999996,4.0999999999999996,3.7,2.7,1.9,1.7,1.9,2.1,3.4,4.4000000000000004,4.4000000000000004,4,4.0999999999999996,3.8,3.9,3.2,2.4,1.8,1.9,2.2999999999999998,2.4,3.4,4.0999999999999996,4.2,4.3,3.8,3.5,2.6,1.7,2,2,"-","-","-","-","-","-","-","-","-","-","-"]
[null,"Solar térmica","-","-","-","-","-","-","-","-","-","-","-","-","-","-","-","-","-","-","-","-","-","-","-","-","-","-","-","-","-","-","-","-","-","-","-","-","-","-","-","-","-","-","-","-","-","-","-","-","-","-","-","-","-","-","-","-","-","-","-","-","-","-","-","-","-","-","-","-","-","-","-","-","-","-","-","-","-","-","-","-","-","-","-","-","-","-","-","-","-","-","-","-","-","-","-","-","-","-","-","-","-","-","-","-","-","-","-","-","-","-","-","-","-","-","-","-","-","-","-","-","-","-","-","-","-","-","-","-","-","-","-","-","-","-","-","-","-","-","-","-","-","-","-","-","-","-","-","-","-","-","-","-","-","-","-","-","-","-","-","-","-","-","-","-","-","-","-","-","-","-","-","-","-","-","-","-","-","-","-","-","-","-","-","-","-","-","-","-","-","-","-","-",0,0,0,0,0,0,0,0,0,0,0,0,0,0,0,0,0,0,0,0,0,0,0,0,0,0,0,0,0,0,0,0,0,0,0,0,0,0,0,0,0,0,0.1,0.1,0.1,0.1,0.1,0,0.1,0.1,0.1,0.2,0.3,0.3,0.4,0.5,0.5,0.3,0.1,0.1,0.2,0.4,0.4,0.7,0.8,1.2,1.3,1.1000000000000001,1.1000000000000001,0.8,0.4,0.4,0.5,0.8,1,0.8,1.6,1.9,2.4,2.2000000000000002,1.7,1.3,0.6,0.6,0.5,0.9,0.6,1.4,2.5,3.2,3.3,3.1,2.2999999999999998,1.4,0.9,0.7,0.3,0.5,1.8,2.2000000000000002,3.6,3.4,3.7,4,1.9,1.4,0.4,0.6,0.8,0.9,1.9,2,3.5,3.6,3.7,2.8,2.4,1,1.1000000000000001,0.4,0.3,0.6,1.8,2,2.6,4.2,3.8,3.9,3,1.4,0.7,0.6,0.6,0.4,1.7,2.9,3.2,3.7,3.8,3.4,3.2,2,1,0.6,0.5,1.1000000000000001,1,1.7,2.5,3,4.2,3.3,2.4,1.4,0.4,0.5,0.7,"-","-","-","-","-","-","-","-","-","-","-"]
[null,"Térmica renovable/Otras renovables","-","-","-","-","-","-","-","-","-","-","-","-","-","-","-","-","-","-","-","-","-",0,0,0,0,0,0,0,0,0,0,0,0,0,0,0,0,0,0,0,0,0,0,0,0,0.1,0.1,0,0,0,0.1,0.1,0.2,0.1,0.2,0.3,0.3,0.3,0.5,0.5,0.4,0.5,0.5,0.5,0.5,0.3,0.4,0.5,0.5,0.5,0.4,0.5,0.4,0.4,0.5,0.6,0.5,0.6,0.6,0.6,0.6,0.5,0.4,0.4,0.4,0.4,0.4,0.4,0.4,0.3,0.4,0.4,0.4,0.4,0.4,0.4,0.2,0.4,0.4,0.5,0.5,0.5,0.5,0.5,0.4,0.5,0.5,0.4,0.4,0.5,0.5,0.5,0.5,0.4,0.5,0.5,0.6,0.6,0.5,0.4,0.4,0.5,0.5,0.5,0.4,0.4,0.5,0.5,0.5,0.6,0.6,0.6,0.6,0.6,0.7,0.7,0.7,1,0.9,0.9,1.1000000000000001,1.1000000000000001,1,1,0.5,0.6,0.7,0.7,0.7,0.6,0.7,0.8,0.7,0.7,0.7,0.8,0.6,0.7,0.8,0.8,0.8,0.7,0.7,0.8,0.8,0.9,0.8,0.8,0.8,0.7,0.8,0.8,0.8,0.7,0.7,0.7,0.8,0.8,0.7,0.7,0.8,0.7,0.8,0.8,0.9,0.8,0.8,0.9,0.8,0.8,0.8,0.7,0.7,0.7,0.8,0.9,0.9,0.9,0.8,0.9,0.8,0.9,0.8,0.8,0.8,0.8,0.8,0.9,0.9,0.9,0.9,0.9,0.9,1,0.9,0.9,0.9,0.9,0.9,1,1,1,0.9,1,1,1,1,0.9,1,1.1000000000000001,1.2,1.4,1.2,1.1000000000000001,1,1.1000000000000001,1.2,1.5,1.1000000000000001,1.1000000000000001,1,1,1,1.2,1.3,1.3,1.1000000000000001,1.2,1.2,1.3,1.2,1.2,1.3,1.3,1.3,1.5,1.5,1.3,1.4,1.4,1.5,1.5,1.5,1.4,1.3,1.3,1.4,1.4,1.5,1.5,1.4,1.3,1.3,1.4,1.5,1.5,1.5,1.5,1.6,1.7,1.8,1.7,1.7,1.7,1.7,1.7,1.6,1.7,1.7,1.4,1.4,1.3,1.6,1.6,1.5,1.7,1.6,1.5,1.4,1.3,1.3,1.1000000000000001,1.2,1,1.4,1.4,1.3,1.5,1.5,1.6,1.5,1.4,1.2,1.3,1.2,1,1.4,1.5,1.4,1.6,1.5,1.5,1.5,1.5,1.4,1.4,1.3,1.3,1.6,1.4,1.5,1.6,1.6,1.5,1.4,1.3,1.4,1.4,1.2,1.2,1.5,1.6,1.6,1.5,1.6,1.4,1.4,1.5,1.3,"-","-","-","-","-","-","-","-","-","-","-"]
[null,"Residuos renovables","-","-","-","-","-","-","-","-","-","-","-","-","-","-","-","-","-","-","-","-","-","-","-","-","-","-","-","-","-","-","-","-","-","-","-","-","-","-","-","-","-","-","-","-","-","-","-","-","-","-","-","-","-","-","-","-","-","-","-","-","-","-","-","-","-","-","-","-","-","-","-","-","-","-","-","-","-","-","-","-","-","-","-","-","-","-","-","-","-","-","-","-","-","-","-","-","-","-","-","-","-","-","-","-","-","-","-","-","-","-","-","-","-","-","-","-","-","-","-","-","-","-","-","-","-","-","-","-","-","-","-","-","-","-","-","-","-","-","-","-","-","-","-","-","-","-","-","-","-","-","-","-","-","-","-","-","-","-","-","-","-","-","-","-","-","-","-","-","-","-","-","-","-","-","-","-","-","-","-","-","-","-","-","-","-","-","-","-","-","-","-","-","-","-","-","-","-","-","-","-","-","-","-","-","-","-","-","-","-","-","-","-","-","-","-","-","-","-","-","-","-","-","-","-","-","-","-","-","-","-","-","-","-","-","-","-","-","-","-","-","-","-","-","-","-","-","-","-","-","-","-","-",0.2,0.2,0.1,0.2,0.2,0.3,0.3,0.2,0.2,0.3,0.2,0.2,0.2,0.2,0.1,0.2,0.2,0.3,0.3,0.2,0.2,0.3,0.2,0.2,0.2,0.2,0.2,0.1,0.1,0.1,0.1,0.2,0.2,0.2,0.2,0.2,0.2,0.1,0.1,0.2,0.3,0.2,0.2,0.2,0.3,0.2,0.3,0.3,0.2,0.2,0.3,0.2,0.2,0.3,0.3,0.3,0.3,0.3,0.3,0.3,0.3,0.2,0.3,0.1,0.1,0.3,0.3,0.3,0.3,0.3,0.3,0.3,0.3,0.3,0.3,0.3,0.2,0.3,0.3,0.3,0.3,0.3,0.3,0.3,0.3,0.3,0.3,0.3,0.1,0.3,0.3,0.3,0.3,0.3,0.3,0.3,0.3,"-","-","-","-","-","-","-","-","-","-","-"]
[null,"Generación renovable",30,31.1,21.3,16.600000000000001,17.399999999999999,16.8,13.8,12,11.1,12.7,16.8,15.2,19.600000000000001,16.600000000000001,32.6,31.1,25.3,19.2,14.4,10.8,9.8000000000000007,13.1,16.3,14.9,9.6999999999999993,6.3,6.4,14,13.3,14.9,13.7,10.6,10.7,15.7,18.8,23.400000000000002,16.600000000000001,12.799999999999999,11.799999999999999,10.6,17,20,16.100000000000001,11.5,10.6,24.1,28.1,21.3,28.700000000000003,25.7,23.6,20.900000000000002,22.9,20.6,14.6,11.9,11,13.700000000000001,20,15,21.2,23.5,25.3,17,15,14.8,13.1,9.6999999999999993,8.3000000000000007,8.6999999999999993,10.5,18.900000000000002,40.1,40.800000000000004,27.9,33.000000000000007,32.4,24.400000000000002,18.400000000000002,14.1,15.6,14.7,17.599999999999998,31.3,37.299999999999997,28.8,21.4,18.499999999999996,17.7,18.8,15.5,13.8,12.600000000000001,11.8,25.7,36.1,40.300000000000004,31.099999999999998,20.7,27.4,31.5,26,18.3,16.5,14.1,15.5,12,9.6000000000000014,10.200000000000001,11.1,15.4,18.2,22.4,19.099999999999998,14.1,11.7,12,13.6,20.399999999999999,19.399999999999999,16.5,12.9,12.1,17.899999999999999,23.599999999999998,17.299999999999997,13.2,13.7,13.799999999999999,14.2,18.700000000000003,29.900000000000002,37.700000000000003,38.9,42.2,34.1,24.400000000000002,18.7,15.1,14.700000000000001,13.9,15,16.8,12.4,10.8,12.299999999999999,16.3,15.7,16.8,15.2,11.8,10.5,9.6999999999999993,12.399999999999999,17.7,29.7,34.6,29,30,30.099999999999998,26.6,16.899999999999999,14.1,11.4,14,17.2,24.000000000000004,31.900000000000002,26.8,22.999999999999996,21.900000000000002,24.500000000000004,23.6,19.599999999999998,15.2,15.2,14.4,17.8,19.5,17.399999999999999,16,16.3,17.400000000000002,21.500000000000004,19.599999999999998,15.5,14,14.6,11,14.3,16.2,18.2,13.8,14.599999999999998,25.8,25.6,19.299999999999997,14.3,12,16.3,12.9,19.599999999999998,25.3,31,18.900000000000002,27.900000000000002,31.1,21.3,26.099999999999998,19.999999999999996,19.599999999999998,20.299999999999997,16.599999999999998,17.100000000000001,18.2,15.6,17.099999999999998,13.8,22.9,28,24.900000000000002,25.3,19.5,17.8,17.899999999999999,18.3,24,27,24.9,33.6,31.2,30.4,30.4,24.700000000000003,21.700000000000003,20.700000000000003,19.700000000000003,24.1,33.800000000000004,36.5,40.300000000000004,40.199999999999996,46.3,39.20000000000001,40,33.200000000000003,28,26.8,22,29.099999999999998,33.300000000000004,38.000000000000007,40.1,36,39.999999999999993,39.20000000000001,34.799999999999997,30,28.5,25.599999999999998,22.4,26.5,31.599999999999998,33.6,26,30.100000000000005,28.400000000000002,38.499999999999993,36.200000000000003,33.099999999999994,28.7,27.2,29.6,26.5,34.5,39.200000000000003,43.3,45.699999999999996,50.2,53.7,47.1,44.7,33.200000000000003,34.900000000000006,31.900000000000002,34.200000000000003,47.4,36.800000000000004,50.800000000000004,57.9,54.099999999999994,52.099999999999994,44.3,37.800000000000004,36.500000000000007,33.700000000000003,25.7,30.599999999999998,41.29999999999999,40.399999999999991,36.199999999999996,47.20000000000001,45.9,40.400000000000006,48.2,35.4,30.299999999999997,30.900000000000002,30.599999999999998,33.6,33.5,28.099999999999998,45.199999999999996,53.300000000000004,50.9,53.1,54.1,42.3,36.199999999999996,37.199999999999996,30.200000000000003,25.299999999999997,30.4,25.900000000000002,32.599999999999994,38.6,43.599999999999994,42.099999999999994,37.600000000000009,32.4,30.800000000000004,30.6,29.8,26.6,27.299999999999997,34.29999999999999,38.499999999999993,38.899999999999991,57,53,43.800000000000004,42.800000000000004,37.299999999999997,33.5,29.7,33.199999999999996,35.399999999999991,37.4,38.9,"-","-","-","-","-","-","-","-","-","-","-"]
[]
[null,"Estructura de generación renovable mensual Islas Baleares (%)","2006-01-01","2006-02-01","2006-03-01","2006-04-01","2006-05-01","2006-06-01","2006-07-01","2006-08-01","2006-09-01","2006-10-01","2006-11-01","2006-12-01","2007-01-01","2007-02-01","2007-03-01","2007-04-01","2007-05-01","2007-06-01","2007-07-01","2007-08-01","2007-09-01","2007-10-01","2007-11-01","2007-12-01","2008-01-01","2008-02-01","2008-03-01","2008-04-01","2008-05-01","2008-06-01","2008-07-01","2008-08-01","2008-09-01","2008-10-01","2008-11-01","2008-12-01","2009-01-01","2009-02-01","2009-03-01","2009-04-01","2009-05-01","2009-06-01","2009-07-01","2009-08-01","2009-09-01","2009-10-01","2009-11-01","2009-12-01","2010-01-01","2010-02-01","2010-03-01","2010-04-01","2010-05-01","2010-06-01","2010-07-01","2010-08-01","2010-09-01","2010-10-01","2010-11-01","2010-12-01","2011-01-01","2011-02-01","2011-03-01","2011-04-01","2011-05-01","2011-06-01","2011-07-01","2011-08-01","2011-09-01","2011-10-01","2011-11-01","2011-12-01","2012-01-01","2012-02-01","2012-03-01","2012-04-01","2012-05-01","2012-06-01","2012-07-01","2012-08-01","2012-09-01","2012-10-01","2012-11-01","2012-12-01","2013-01-01","2013-02-01","2013-03-01","2013-04-01","2013-05-01","2013-06-01","2013-07-01","2013-08-01","2013-09-01","2013-10-01","2013-11-01","2013-12-01","2014-01-01","2014-02-01","2014-03-01","2014-04-01","2014-05-01","2014-06-01","2014-07-01","2014-08-01","2014-09-01","2014-10-01","2014-11-01","2014-12-01","2015-01-01","2015-02-01","2015-03-01","2015-04-01","2015-05-01","2015-06-01","2015-07-01","2015-08-01","2015-09-01","2015-10-01","2015-11-01","2015-12-01","2016-01-01","2016-02-01","2016-03-01","2016-04-01","2016-05-01","2016-06-01","2016-07-01","2016-08-01","2016-09-01","2016-10-01","2016-11-01","2016-12-01","2017-01-01","2017-02-01","2017-03-01","2017-04-01","2017-05-01","2017-06-01","2017-07-01","2017-08-01","2017-09-01","2017-10-01","2017-11-01","2017-12-01","2018-01-01","2018-02-01","2018-03-01","2018-04-01","2018-05-01","2018-06-01","2018-07-01","2018-08-01","2018-09-01","2018-10-01","2018-11-01","2018-12-01","2019-01-01","2019-02-01","2019-03-01","2019-04-01","2019-05-01","2019-06-01","2019-07-01","2019-08-01","2019-09-01","2019-10-01","2019-11-01","2019-12-01"]
[null,"Eólica",0.1,0.1,0.1,0.1,0.1,0.1,0,0.1,0.1,0.1,0.1,0.1,0.1,0.1,0.1,0.1,0.1,0.1,0.1,0.1,0.1,0.1,0.2,0.2,0.1,0.1,0.1,0.2,0,0.1,0,0.1,0.1,0.1,0.1,0.1,0.1,0.2,0.1,0.1,0.1,0.1,0,0,0.1,0.1,0.1,0.2,0.1,0.2,0.1,0.1,0.1,0.1,0.1,0.1,0.1,0.1,0.1,0.1,0.1,0.1,0.1,0.1,0.1,0.1,0.1,0.1,0,0.1,0.1,0.1,0.1,0.2,0.1,0.2,0.1,0.1,0.1,0,0.2,0.1,0.2,0.2,0.2,0.2,0.2,0.2,0.1,0.1,0,0.1,0.1,0.1,0.3,0.1,0.2,0.2,0.2,0.1,0.1,0.1,0.1,0.1,0.1,0.1,0.2,0.2,0.2,0.2,0.2,0.1,0.2,0.1,0.1,0,0.1,0.2,0.1,0,0.2,0.2,0.2,0.2,0.1,0.1,0.1,0.1,0,0.1,0.1,0.1,0.1,0.1,0.1,0.1,0,0,0,0,0,0.1,0.1,0.1,0.1,0.1,0.1,0.1,0.1,0,0,0,0,0.2,0.2,0.1,0.2,"-","-","-","-","-","-","-","-","-","-","-"]
[null,"Solar fotovoltaica",0,0,0,0,0,0,0,0,0,0,0,0,0,0,0,0,0,0,0,0,0,0,0,0,0,0,0.1,0.2,0.2,0.3,0.4,0.7,0.9,0.9,0.8,0.8,0.7,1.1000000000000001,1.6,1.6,1.9,1.7,1.4,1.3,1.3,1.4,1.3,0.8,0.8,1.1000000000000001,1.5,2,2.1,1.9,1.7,1.6,1.6,1.5,1.4,1,1.1000000000000001,1.6,1.8,2.5,2.4,2.1,1.7,1.8,1.7,1.9,1.4,1.3,1.4,1.5,2.5,2.8,2.9,2.4,2.2000000000000002,2,2.5,2.5,2,2,2.2000000000000002,2.2000000000000002,3.4,3.6,3.5,3.8,3,2.7,2.7,2.5,1.8,1.7,1.8,2.8,3.4,4.0999999999999996,3.6,3.5,3,2.7,2.4,2.9,2.4,1.7,2,2.2000000000000002,3,4.0999999999999996,3.5,3.4,2.7,2.5,2.4,2.6,2.7,2,2.2000000000000002,2.4,3.2,3.4,3.4,3.2,2.8,2.7,2.2999999999999998,2.2000000000000002,2,1.7,1.5,2.2000000000000002,3.7,3.5,3.3,2.9,2.5,2.2999999999999998,2.5,2.5,2.2000000000000002,1.5,2,1.5,2.7,3.2,3.1,2.9,2.5,2,1.9,2,1.8,2.1,2.1,"-","-","-","-","-","-","-","-","-","-","-"]
[null,"Térmica renovable/Otras renovables","-","-","-","-","-","-","-","-","-","-","-","-","-","-","-","-","-","-","-","-","-","-","-","-","-","-","-","-","-","-","-","-","-","-","-","-","-","-","-","-","-","-","-","-","-","-","-","-","-","-","-","-","-","-","-","-","-","-","-","-","-","-","-","-","-","-","-","-","-",0,0,0,0,0,0,0,0,0,0,0,0,0,0,0,0,0,0,0,0,0,0,0,0,0,0,0,0,0.1,0.1,0.1,0.1,0,0,0,0,0,0.1,0.1,0.1,0.1,0,0.1,0,0,0,0,0,0,0,0.1,0.1,0.1,0.1,0,0,0,0,0,0,0,0,0,0,0.1,0,0.1,0.1,0,0,0,0,0,0,0,0.1,0,0,0,0,0,0,0,0,0,0,0,0,"-","-","-","-","-","-","-","-","-","-","-"]
[null,"Residuos renovables","-","-","-","-","-","-","-","-","-","-","-","-","-","-","-","-","-","-","-","-","-","-","-","-","-","-","-","-","-","-","-","-","-","-","-","-","-","-","-","-","-","-","-","-","-","-","-","-","-","-","-","-","-","-","-","-","-","-","-","-",1.5,1.5,1.4,2.2999999999999998,1.3,2.4,2.2000000000000002,2.1,2.5,2.9,2.8,3.1,2.4,1.7,2.4,2.5,2.7,2,2.2999999999999998,2.2000000000000002,2.4,1.9,2.2999999999999998,3.9,2.6,1.8,2.4,2.5,2.2999999999999998,3.2,2.2999999999999998,2.4,3.5,2.7,2.6,2.5,2.4,2.2000000000000002,2.9,3.8,1.5,3.4,3.3,2.4,3.3,4.0999999999999996,3.1,3.4,2.7,2.2000000000000002,3.4,4.4000000000000004,3.8,3.4,2.5,2.6,3.7,4.2,4.8,4,2.7,1.6,2.6,3.7,4,3.3,2.2999999999999998,2.5,2.7,3.5,2.8,2.7,2,2.2000000000000002,3.2,4.0999999999999996,2.8,3,2.7,2.7,3.6,3.7,3.4,2.7,2.1,1.2,3,2.9,2.7,3.5,2.8,2.7,2.9,3.6,2.1,4.3,2.8,"-","-","-","-","-","-","-","-","-","-","-"]
[null,"Generación renovable",0.1,0.1,0.1,0.1,0.1,0.1,0,0.1,0.1,0.1,0.1,0.1,0.1,0.1,0.1,0.1,0.1,0.1,0.1,0.1,0.1,0.1,0.2,0.2,0.1,0.1,0.2,0.4,0.2,0.4,0.4,0.79999999999999993,1,1,0.9,0.9,0.79999999999999993,1.3,1.7000000000000002,1.7000000000000002,2,1.8,1.4,1.3,1.4000000000000001,1.5,1.4000000000000001,1,0.9,1.3,1.6,2.1,2.2000000000000002,2,1.8,1.7000000000000002,1.7000000000000002,1.6,1.5,1.1000000000000001,2.7,3.2,3.3,4.9000000000000004,3.8,4.5999999999999996,4,4,4.2,4.9000000000000004,4.3,4.5,3.9,3.4,5,5.5,5.7,4.5,4.5999999999999996,4.2,5.0999999999999996,4.5,4.5,6.1,5,4.2,6,6.3000000000000007,5.9,7.1,5.3,5.2,6.3000000000000007,5.3000000000000007,4.7,4.3,4.4000000000000004,5.3000000000000007,6.6,8.0999999999999979,5.3000000000000007,7,6.4,5.2,5.8,7.1,5.8000000000000007,5.4,5,4.7000000000000011,6.6,8.6999999999999993,7.5,6.9,5.3000000000000007,5.0999999999999996,6.2,7,7.6,6.1,5.2000000000000011,4.3000000000000007,6.1000000000000005,7.3000000000000007,7.5,6.6,5.1999999999999993,5.3000000000000007,5,5.8000000000000007,4.9000000000000004,4.5,3.6,4.6000000000000005,7,7.8,6.1999999999999993,5.9,5.2,5,6.1,6.3000000000000007,5.7,4.3000000000000007,4.3000000000000007,2.8,5.8000000000000007,6.2,5.9,6.4,5.3,4.7,4.8,5.8000000000000007,4.0999999999999996,6.5,5.0999999999999996,"-","-","-","-","-","-","-","-","-","-","-"]
[]
[null,"Estructura de generación renovable mensual Islas Canarias (%)","2006-01-01","2006-02-01","2006-03-01","2006-04-01","2006-05-01","2006-06-01","2006-07-01","2006-08-01","2006-09-01","2006-10-01","2006-11-01","2006-12-01","2007-01-01","2007-02-01","2007-03-01","2007-04-01","2007-05-01","2007-06-01","2007-07-01","2007-08-01","2007-09-01","2007-10-01","2007-11-01","2007-12-01","2008-01-01","2008-02-01","2008-03-01","2008-04-01","2008-05-01","2008-06-01","2008-07-01","2008-08-01","2008-09-01","2008-10-01","2008-11-01","2008-12-01","2009-01-01","2009-02-01","2009-03-01","2009-04-01","2009-05-01","2009-06-01","2009-07-01","2009-08-01","2009-09-01","2009-10-01","2009-11-01","2009-12-01","2010-01-01","2010-02-01","2010-03-01","2010-04-01","2010-05-01","2010-06-01","2010-07-01","2010-08-01","2010-09-01","2010-10-01","2010-11-01","2010-12-01","2011-01-01","2011-02-01","2011-03-01","2011-04-01","2011-05-01","2011-06-01","2011-07-01","2011-08-01","2011-09-01","2011-10-01","2011-11-01","2011-12-01","2012-01-01","2012-02-01","2012-03-01","2012-04-01","2012-05-01","2012-06-01","2012-07-01","2012-08-01","2012-09-01","2012-10-01","2012-11-01","2012-12-01","2013-01-01","2013-02-01","2013-03-01","2013-04-01","2013-05-01","2013-06-01","2013-07-01","2013-08-01","2013-09-01","2013-10-01","2013-11-01","2013-12-01","2014-01-01","2014-02-01","2014-03-01","2014-04-01","2014-05-01","2014-06-01","2014-07-01","2014-08-01","2014-09-01","2014-10-01","2014-11-01","2014-12-01","2015-01-01","2015-02-01","2015-03-01","2015-04-01","2015-05-01","2015-06-01","2015-07-01","2015-08-01","2015-09-01","2015-10-01","2015-11-01","2015-12-01","2016-01-01","2016-02-01","2016-03-01","2016-04-01","2016-05-01","2016-06-01","2016-07-01","2016-08-01","2016-09-01","2016-10-01","2016-11-01","2016-12-01","2017-01-01","2017-02-01","2017-03-01","2017-04-01","2017-05-01","2017-06-01","2017-07-01","2017-08-01","2017-09-01","2017-10-01","2017-11-01","2017-12-01","2018-01-01","2018-02-01","2018-03-01","2018-04-01","2018-05-01","2018-06-01","2018-07-01","2018-08-01","2018-09-01","2018-10-01","2018-11-01","2018-12-01","2019-01-01","2019-02-01","2019-03-01","2019-04-01","2019-05-01","2019-06-01","2019-07-01","2019-08-01","2019-09-01","2019-10-01","2019-11-01","2019-12-01"]
[null,"Hidráulica","-","-","-","-","-","-","-","-","-","-","-","-","-","-","-","-","-","-",0,0,0,0,0,0,0,0,0,"-",0,0,0,0,"-","-","-","-",0,0,0,0,"-","-","-","-","-","-","-","-","-","-","-","-","-","-","-","-","-","-","-","-",0,0,0,0,0,0,0,0,0,0,0,0,0,0,0,0,0,0,0,0,0,0,0,0,0,0,0,0,0,0,0,0,0,0,0,0,0,0,0,0,0,0,0,0,0,0,0,0,0,0,0,0,0,0,0,0,0,0,0,0,0,0,0,0,0,0,0,0,0,0,0,0,0,0,0,0,0,0,0,0,0,0,0,0,0,0,0,0,0,0,0,0,0,0,0,0,0,"-","-","-","-","-","-","-","-","-","-","-"]
[null,"Hidroeólica","-","-","-","-","-","-","-","-","-","-","-","-","-","-","-","-","-","-","-","-","-","-","-","-","-","-","-","-","-","-","-","-","-","-","-","-","-","-","-","-","-","-","-","-","-","-","-","-","-","-","-","-","-","-","-","-","-","-","-","-","-","-","-","-","-","-","-","-","-","-","-","-","-","-","-","-","-","-","-","-","-","-","-","-","-","-","-","-","-","-","-","-","-","-","-","-","-","-","-","-","-",0,0,0,0,0,0,0,0.1,0.1,0,0,0,0,0.3,0.3,0.1,0.1,0.1,0.1,0.1,0.3,0.2,0.2,0.1,0.3,0.3,0.3,0.3,0.1,0.1,0.1,0.1,0.2,0.3,0.1,0.2,0.3,0.4,0.3,0.3,0.1,0.1,0.2,0.3,0.3,0.2,0.3,0.3,0.3,0.5,0.4,0.3,0.1,0.1,0.1,0.1,"-","-","-","-","-","-","-","-","-","-","-"]
[null,"Eólica",2.4,2.9,3.1,4.0999999999999996,4.9000000000000004,3.6,7.4,4.9000000000000004,2.9,2.5,2.1,3.4,2.2999999999999998,3.3,4.8,3.6,4.5999999999999996,4.3,7.2,6,3.4,2.4,2.1,2.4,1.6,2.2000000000000002,5.0999999999999996,4.7,4.0999999999999996,5.3,7.5,7.5,2.2000000000000002,4.3,2.9,3.2,3.1,2.5,3.2,6.5,4.4000000000000004,2.8,6.9,7.1,3,1.6,3.3,2.7,1.6,2.2000000000000002,3.1,4.5,5,5.4,6.3,5.4,4.7,1.8,2.4,2.2000000000000002,1.5,3.6,3.1,3.4,2.7,5.2,7.3,6.7,4.2,3.3,2.2000000000000002,4.5,2.5,4.8,4.5,4.4000000000000004,3.7,6.1,7.5,6.9,1.7,2.2000000000000002,2.2999999999999998,2.1,3.4,4.3,1.9,4,5.4,7.1,5.5,5.5,3.4,3.3,4.0999999999999996,3.3,4.0999999999999996,5,6.5,4.0999999999999996,6.1,5.0999999999999996,6.2,7.9,1.7,2.2000000000000002,2.9,3.3,5.7,6.6,5.9,4.3,5.7,4.5,7.8,6.5,2.2999999999999998,1.4,3.4,1.2,2.6,6,4.7,3.8,4.4000000000000004,6.3,7.5,6.1,6.2,1.7,2.5,2.1,2,3.4,4.9000000000000004,2.6,3.5,5.5,6.5,5.9,7.2,2.7,3.2,5.3,7.5,6.8,6.9,6.5,7.7,8,12.5,8.3000000000000007,6.8,2.9,4.5,5.8,7.4,"-","-","-","-","-","-","-","-","-","-","-"]
[null,"Solar fotovoltaica",0,0,0,0,0,0,0,0.1,0.1,0.1,0.1,0.1,0.1,0.1,0.2,0.2,0.2,0.2,0.3,0.3,0.3,0.2,0.2,0.2,0.3,0.4,0.5,0.5,0.6,0.7,0.7,0.7,0.8,1.2,1,0.9,1.1000000000000001,1.6,1.7,2.2999999999999998,2.2000000000000002,2.2000000000000002,2.2000000000000002,2.2000000000000002,1.6,1.7,1.5,1.2,1.4,1.5,2.2000000000000002,2.2999999999999998,2.7,2.7,3,2.8,2.2999999999999998,2.1,1.7,1.7,2,2.5,2.7,2.8,2.9,3.2,3.1,3.2,2.8,2.2999999999999998,2,2,2.1,2.5,3.1,3,3.5,3.4,3.4,3.3,3,2.5,2.2000000000000002,2.5,2.8,2.9,3.3,3.9,3.9,4.5,4.0999999999999996,3.5,3.3,3,2.6,2.2999999999999998,2.6,3.1,3.9,3.8,4.2,4,3.8,4,2.9,2.9,2.4,2.2999999999999998,2.5,2.7,3.6,3.7,4.3,4,4,3.4,2.8,2.4,2.6,2.5,2.7,2.9,3.3,3.5,3.6,4.2,3.8,3.5,3.4,2.7,2.4,2.1,2.4,2.9,3.4,3.7,3.5,3.8,3.8,3.3,3,2.5,2.2000000000000002,2.2999999999999998,2.5,2.6,3.4,3.6,3.2,3.7,3.9,3.5,3.2,2.5,2.2000000000000002,2.5,2.2999999999999998,"-","-","-","-","-","-","-","-","-","-","-"]
[null,"Térmica renovable/Otras renovables",1.2,1.7,2.9,3,2.7,2.9,2.8,2.5,1.7,2.8,2.4,3,2.7,2.9,0.7,2.4,2.1,2.1,2.4,2.6,2.5,2.2999999999999998,2.2999999999999998,2.9,2.8,2.7,2.6,2.6,2.8,2,0,2.6,1.8,2.2000000000000002,3,2.9,3,3.2,1.6,3.5,3.2,3.3,3,3,3.1,2.8,3.1,3.2,3.2,2.8,2.2000000000000002,3.4,3.5,2.7,1.3,0.8,0.7,0.7,0.5,0.3,0.1,0.1,0.1,0.1,0.1,0.1,0.1,0.1,0.1,0.1,0.1,0.1,0.1,0.1,0.1,0.1,0.1,0.1,0.1,0.1,0.1,0.1,0.1,0.1,0.1,0.1,0.1,0.1,0.1,0.1,0.1,0.1,0.1,0.1,0.1,0.1,0.1,0.1,0.1,0.1,0.1,0.1,0.1,0.1,0.1,0.1,0.1,0.1,0.1,0.1,0.1,0.1,0.1,0.1,0.1,0.1,0.1,0.1,0.1,0.1,0.1,0.1,0.1,0.1,0.1,0.1,0.1,0.1,0.1,0.1,0.1,0.1,0.1,0.1,0.1,0.1,0.1,0.1,0.1,0.1,0.1,0.1,0.1,0.1,0.1,0.1,0.1,0.1,0.1,0.1,0.1,0.1,0.1,0.1,0.1,0.1,0.1,"-","-","-","-","-","-","-","-","-","-","-"]
[null,"Generación renovable",3.5999999999999996,4.5999999999999996,6,7.1,7.6000000000000005,6.5,10.199999999999999,7.5,4.7,5.4,4.5999999999999996,6.5,5.0999999999999996,6.3,5.7,6.2,6.9,6.6,9.9,8.9,6.1999999999999993,4.9000000000000004,4.5999999999999996,5.5,4.7,5.3000000000000007,8.1999999999999993,7.8000000000000007,7.4999999999999991,8,8.1999999999999993,10.799999999999999,4.8,7.7,6.9,7,7.2,7.3,6.5,12.3,9.8000000000000007,8.3000000000000007,12.100000000000001,12.3,7.6999999999999993,6.1,7.9,7.1000000000000005,6.2,6.5,7.5000000000000009,10.199999999999999,11.2,10.8,10.600000000000001,9,7.7,4.6000000000000005,4.5999999999999996,4.2,3.6,6.1999999999999993,5.9,6.2999999999999989,5.6999999999999993,8.5,10.5,10,7.1,5.6999999999999993,4.3,6.6,4.6999999999999993,7.3999999999999995,7.6999999999999993,7.5,7.3,9.6,11,10.299999999999999,4.8,4.8,4.5999999999999996,4.6999999999999993,6.2999999999999989,7.2999999999999989,5.2999999999999989,8,9.4,11.7,9.6999999999999993,9.1,6.7999999999999989,6.3999999999999995,6.7999999999999989,5.6999999999999993,6.7999999999999989,8.1999999999999993,10.5,7.9999999999999991,10.4,9.1999999999999993,10.1,12,4.6999999999999993,5.1999999999999993,5.3999999999999995,5.6999999999999993,8.4,9.4999999999999982,9.6,8.1,10.1,8.6,12.2,10.299999999999999,5.2999999999999989,4,6.1999999999999993,3.9,5.5,9.2999999999999989,8.2999999999999989,7.6,8.1999999999999993,10.9,11.7,9.9999999999999982,10,4.5999999999999996,5.0999999999999996,4.4000000000000004,4.5999999999999996,6.6,8.6999999999999993,6.5,7.3,9.6999999999999993,10.799999999999999,9.6,10.6,5.4,5.6,7.8999999999999995,10.4,9.7999999999999989,10.6,10.5,11.299999999999999,12.1,17,12.3,10.4,5.6,6.8999999999999995,8.4999999999999982,9.9,"-","-","-","-","-","-","-","-","-","-","-"]
[]
[null,"Estructura de generación renovable mensual Melilla (%)","2007-01-01","2007-02-01","2007-03-01","2007-04-01","2007-05-01","2007-06-01","2007-07-01","2007-08-01","2007-09-01","2007-10-01","2007-11-01","2007-12-01","2008-01-01","2008-02-01","2008-03-01","2008-04-01","2008-05-01","2008-06-01","2008-07-01","2008-08-01","2008-09-01","2008-10-01","2008-11-01","2008-12-01","2009-01-01","2009-02-01","2009-03-01","2009-04-01","2009-05-01","2009-06-01","2009-07-01","2009-08-01","2009-09-01","2009-10-01","2009-11-01","2009-12-01","2010-01-01","2010-02-01","2010-03-01","2010-04-01","2010-05-01","2010-06-01","2010-07-01","2010-08-01","2010-09-01","2010-10-01","2010-11-01","2010-12-01","2011-01-01","2011-02-01","2011-03-01","2011-04-01","2011-05-01","2011-06-01","2011-07-01","2011-08-01","2011-09-01","2011-10-01","2011-11-01","2011-12-01","2012-01-01","2012-02-01","2012-03-01","2012-04-01","2012-05-01","2012-06-01","2012-07-01","2012-08-01","2012-09-01","2012-10-01","2012-11-01","2012-12-01","2013-01-01","2013-02-01","2013-03-01","2013-04-01","2013-05-01","2013-06-01","2013-07-01","2013-08-01","2013-09-01","2013-10-01","2013-11-01","2013-12-01","2014-01-01","2014-02-01","2014-03-01","2014-04-01","2014-05-01","2014-06-01","2014-07-01","2014-08-01","2014-09-01","2014-10-01","2014-11-01","2014-12-01","2015-01-01","2015-02-01","2015-03-01","2015-04-01","2015-05-01","2015-06-01","2015-07-01","2015-08-01","2015-09-01","2015-10-01","2015-11-01","2015-12-01","2016-01-01","2016-02-01","2016-03-01","2016-04-01","2016-05-01","2016-06-01","2016-07-01","2016-08-01","2016-09-01","2016-10-01","2016-11-01","2016-12-01","2017-01-01","2017-02-01","2017-03-01","2017-04-01","2017-05-01","2017-06-01","2017-07-01","2017-08-01","2017-09-01","2017-10-01","2017-11-01","2017-12-01","2018-01-01","2018-02-01","2018-03-01","2018-04-01","2018-05-01","2018-06-01","2018-07-01","2018-08-01","2018-09-01","2018-10-01","2018-11-01","2018-12-01","2019-01-01","2019-02-01","2019-03-01","2019-04-01","2019-05-01","2019-06-01","2019-07-01","2019-08-01","2019-09-01","2019-10-01","2019-11-01","2019-12-01"]
[null,"Solar fotovoltaica","-","-","-","-","-","-","-","-","-","-","-","-",0.01,"-","-","-","-",0.01,0.01,0.01,0.01,"-",0.01,"-",0.04,0.11,0.13,0.18,0.06,0.05,0.04,0.04,0.04,0.03,"-",0.01,0.01,0.03,0.03,0.04,0.05,0.01,0.04,0.04,0.04,0.03,0.03,0.02,0.02,0.04,0.04,0.04,0.05,0.05,0.04,0.03,0.03,0.03,0.02,0.02,0.03,0.04,0.04,0.06,0.05,0.05,0.04,0.04,0.04,0.04,0.02,0.02,0.03,0.03,0.04,0.05,0.06,0.05,0.04,0.04,0.04,0.04,0.03,0.02,0.02,0.04,0.05,0.05,0.05,0.05,0.05,0.04,0.03,0.04,0.03,0.02,0.03,0.03,0.05,0.04,0.05,0.05,0.04,0.03,0.04,0.04,0.03,0.02,0.03,0.03,0.05,0.05,0.05,0.05,0.04,0.04,0.04,0.03,0.03,0.02,0.02,0.03,0.04,0.05,0.05,0.04,0.04,0.03,0.04,0.04,0.03,0.02,0.02,0.03,0.05,0.04,0.05,0.04,0.03,0.04,0.03,0.03,0.03,0.02,0.03,"-","-","-","-","-","-","-","-","-","-","-"]
[null,"Residuos renovables","-","-","-","-","-","-","-","-","-","-","-","-","-","-","-","-","-","-","-","-","-","-","-","-","-","-","-","-","-","-","-","-","-","-","-","-","-","-","-","-","-","-","-","-","-","-","-","-",2.57,2.42,2.5,2.38,1.99,1.85,1.95,1.62,1.85,0.59,0.05,"-","-","-","-",0.19,"-","-","-",0.4,1.51,0.13,2.06,2.2999999999999998,2.1800000000000002,2,1.84,2.2799999999999998,1.88,2.4,1.8,1.59,1.67,2.5099999999999998,0.49,2.41,2.44,2.65,2.65,2.4900000000000002,2.06,1.91,2.06,1.77,1.92,2.23,0.54,2.77,2.2000000000000002,2.2799999999999998,2.4,2.44,2.4,2.11,1.41,1.56,1.97,2.4300000000000002,0.68,2.54,2.85,2.56,2.37,2.87,2.2599999999999998,2.35,2.1,1.96,2.2200000000000002,2.87,0.67,2.95,2.4300000000000002,2.73,2.66,2.79,2.74,2.41,2.16,1.64,2.52,2.85,0.53,3.08,2.87,2.84,3.14,2.88,2.89,2.4700000000000002,2.42,2.2000000000000002,2.2200000000000002,2.34,0.66,3.31,2.97,"-","-","-","-","-","-","-","-","-","-","-"]
[null,"Generación renovable","-","-","-","-","-","-","-","-","-","-","-","-",0.01,0,0,0,0,0.01,0.01,0.01,0.01,0,0.01,0,0.04,0.11,0.13,0.18,0.06,0.05,0.04,0.04,0.04,0.03,0,0.01,0.01,0.03,0.03,0.04,0.05,0.01,0.04,0.04,0.04,0.03,0.03,0.02,2.59,2.46,2.54,2.42,2.04,1.9000000000000001,1.99,1.6500000000000001,1.8800000000000001,0.62,7.0000000000000007E-2,0.02,0.03,0.04,0.04,0.25,0.05,0.05,0.04,0.44,1.55,0.17,2.08,2.3199999999999998,2.21,2.0299999999999998,1.8800000000000001,2.3299999999999996,1.94,2.4499999999999997,1.84,1.6300000000000001,1.71,2.5499999999999998,0.52,2.4300000000000002,2.46,2.69,2.6999999999999997,2.54,2.11,1.96,2.11,1.81,1.95,2.27,0.57000000000000006,2.79,2.23,2.3099999999999996,2.4499999999999997,2.48,2.4499999999999997,2.1599999999999997,1.45,1.59,2.0099999999999998,2.4700000000000002,0.71000000000000008,2.56,2.88,2.59,2.42,2.92,2.3099999999999996,2.4,2.14,2,2.2600000000000002,2.9,0.70000000000000007,2.97,2.4500000000000002,2.76,2.7,2.84,2.79,2.4500000000000002,2.2000000000000002,1.67,2.56,2.89,0.56000000000000005,3.1,2.89,2.8699999999999997,3.19,2.92,2.94,2.5100000000000002,2.4499999999999997,2.2400000000000002,2.25,2.3699999999999997,0.69000000000000006,3.33,3,"-","-","-","-","-","-","-","-","-","-","-"]
[]
[null,"Estructura de generación renovable mensual nacional (%)","2007-01-01","2007-02-01","2007-03-01","2007-04-01","2007-05-01","2007-06-01","2007-07-01","2007-08-01","2007-09-01","2007-10-01","2007-11-01","2007-12-01","2008-01-01","2008-02-01","2008-03-01","2008-04-01","2008-05-01","2008-06-01","2008-07-01","2008-08-01","2008-09-01","2008-10-01","2008-11-01","2008-12-01","2009-01-01","2009-02-01","2009-03-01","2009-04-01","2009-05-01","2009-06-01","2009-07-01","2009-08-01","2009-09-01","2009-10-01","2009-11-01","2009-12-01","2010-01-01","2010-02-01","2010-03-01","2010-04-01","2010-05-01","2010-06-01","2010-07-01","2010-08-01","2010-09-01","2010-10-01","2010-11-01","2010-12-01","2011-01-01","2011-02-01","2011-03-01","2011-04-01","2011-05-01","2011-06-01","2011-07-01","2011-08-01","2011-09-01","2011-10-01","2011-11-01","2011-12-01","2012-01-01","2012-02-01","2012-03-01","2012-04-01","2012-05-01","2012-06-01","2012-07-01","2012-08-01","2012-09-01","2012-10-01","2012-11-01","2012-12-01","2013-01-01","2013-02-01","2013-03-01","2013-04-01","2013-05-01","2013-06-01","2013-07-01","2013-08-01","2013-09-01","2013-10-01","2013-11-01","2013-12-01","2014-01-01","2014-02-01","2014-03-01","2014-04-01","2014-05-01","2014-06-01","2014-07-01","2014-08-01","2014-09-01","2014-10-01","2014-11-01","2014-12-01","2015-01-01","2015-02-01","2015-03-01","2015-04-01","2015-05-01","2015-06-01","2015-07-01","2015-08-01","2015-09-01","2015-10-01","2015-11-01","2015-12-01","2016-01-01","2016-02-01","2016-03-01","2016-04-01","2016-05-01","2016-06-01","2016-07-01","2016-08-01","2016-09-01","2016-10-01","2016-11-01","2016-12-01","2017-01-01","2017-02-01","2017-03-01","2017-04-01","2017-05-01","2017-06-01","2017-07-01","2017-08-01","2017-09-01","2017-10-01","2017-11-01","2017-12-01","2018-01-01","2018-02-01","2018-03-01","2018-04-01","2018-05-01","2018-06-01","2018-07-01","2018-08-01","2018-09-01","2018-10-01","2018-11-01","2018-12-01","2019-01-01","2019-02-01","2019-03-01","2019-04-01","2019-05-01","2019-06-01","2019-07-01","2019-08-01","2019-09-01","2019-10-01","2019-11-01","2019-12-01"]
[null,"Hidráulica",8.8000000000000007,13.2,16.100000000000001,13,12.3,10.1,9.8000000000000007,7.6,5.9,7.1,5.3,4.7,5.2,3.9,4.3,11.3,14.5,13.4,8.4,6.4,5.6,4.5999999999999996,6.5,9.6999999999999993,8.6,15.2,12.3,10.4,12,9.3000000000000007,7,6.1,4.4000000000000004,5.5,8.8000000000000007,13,19.8,16.899999999999999,23.1,21.3,17.2,15.6,11.2,8.5,6.6,6.8,10.8,15.6,19.8,13,15.6,16.3,12.8,9.1999999999999993,6.9,6.5,5.3,5.6,9.6,9.1,6.4,4.7,5.6,7.8,11.2,9.1999999999999993,6.9,5.6,4.5999999999999996,6.1,8.8000000000000007,11,12.2,15.5,19.3,24.7,18,15.2,11.2,9.4,8.3000000000000007,8.5,12.3,10.3,17.7,25.6,23.2,23.7,13.3,11.6,10.199999999999999,9.3000000000000007,8.1,7.6,11.6,14.1,10.4,15.4,16.600000000000001,12.9,14,11.5,8.1,7.2,7.6,7.9,9,6.7,15.2,18.7,18.899999999999999,24.1,24.8,14.3,9.9,9.3000000000000007,7.8,7.5,6.9,8.4,8.1,9.3000000000000007,12.8,9.8000000000000007,9.6,7.4,5.2,5,5.7,3.6,3.7,5.0999999999999996,9.6,10.9,18.100000000000001,22.7,17.5,18.7,13.9,9.4,9.1999999999999993,6.6,9.6999999999999993,11.5,8.6999999999999993,"-","-","-","-","-","-","-","-","-","-","-"]
[null,"Hidroeólica","-","-","-","-","-","-","-","-","-","-","-","-","-","-","-","-","-","-","-","-","-","-","-","-","-","-","-","-","-","-","-","-","-","-","-","-","-","-","-","-","-","-","-","-","-","-","-","-","-","-","-","-","-","-","-","-","-","-","-","-","-","-","-","-","-","-","-","-","-","-","-","-","-","-","-","-","-","-","-","-","-","-","-","-","-","-","-","-","-",0,0,0,0,0,0,0,0,0,0,0,0,0,0,0,0,0,0,0,0,0,0,0,0,0,0,0,0,0,0,0,0,0,0,0,0,0,0,0,0,0,0,0,0,0,0,0,0,0,0,0,0,0,0,0,0,"-","-","-","-","-","-","-","-","-","-","-"]
[null,"Eólica",8.4,12.6,12.8,6.3,11.5,7.9,7.8,10.6,8.8000000000000007,8,11,9.1999999999999993,10,8.1999999999999993,16.399999999999999,14,7.6,9,8.4,8.4,9.1,10.6,14.1,14.2,13.3,14.2,13.8,14.6,12.7,10.3,9.9,9.6999999999999993,11,13.7,20.8,19.8,16.5,19.2,18.2,12.1,16.3,11.5,11,12.3,10.1,17,18.100000000000001,18.3,15.6,17.5,18.8,15.8,14.6,13.2,13.8,11.9,10.199999999999999,14.3,17,19.3,14.5,19.399999999999999,16.100000000000001,23.9,16.5,15.1,12.7,13.3,17.5,13.8,20.5,22.7,25.5,23.5,24.2,20.2,18.8,18.399999999999999,11.9,15.2,14.7,18.2,28.3,20.8,27.3,26.3,22.4,18.899999999999999,19.600000000000001,15.5,15.7,13.3,9.6999999999999993,15.8,24.1,20.6,20.100000000000001,25.8,21.2,19.100000000000001,22.8,13.4,12.3,14.4,14.2,18.7,17.8,16.399999999999999,24.8,28.2,23.6,20.399999999999999,19.100000000000001,15.9,15.4,16.600000000000001,12.8,11,17.899999999999999,12.3,19,23.5,22.3,21.6,17.100000000000001,14.5,14.9,15.4,14.2,15,17.5,23.8,23.4,21.4,31.7,21.5,16.399999999999999,13.3,11.8,14,11.7,19.5,20.5,20.100000000000001,24.5,"-","-","-","-","-","-","-","-","-","-","-"]
[null,"Solar fotovoltaica",0,0.1,0.1,0.1,0.2,0.2,0.2,0.2,0.3,0.2,0.2,0.2,0.2,0.3,0.4,0.5,0.6,0.8,0.9,1.2,1.4,1.4,1.4,1,1,1.7,2.2999999999999998,2.7,3.1,2.8,2.9,2.8,2.2999999999999998,2.2000000000000002,1.6,1,1,1.3,1.9,2.7,3.2,3,3,3,2.7,2.2999999999999998,1.6,1.2,1.4,2.2000000000000002,2.1,3.1,3.4,3.6,3.6,3.5,3.2,2.8,1.6,1.8,2,2.5,3.2,2.9,3.8,3.8,3.9,3.6,3.1,2.6,1.7,1.7,1.8,2.2999999999999998,2.4,3.5,4.0999999999999996,4.4000000000000004,4,3.9,3.5,2.9,2.2999999999999998,1.8,1.6,1.9,3.2,3.8,4.3,4.2,4.0999999999999996,4.2,3.1,3,1.8,1.9,2.1,2.1,3.1,3.7,4.4000000000000004,4.0999999999999996,3.7,3.6,3.4,2.6,2.5,1.8,1.6,2.2000000000000002,3.1,3.3,3.9,4.5,4,4.0999999999999996,3.6,2.7,2,1.7,1.9,2.1,3.4,4.3,4.3,4,4,3.8,3.8,3.2,2.4,1.8,1.9,2.2999999999999998,2.4,3.4,4,4.0999999999999996,4.3,3.8,3.4,2.6,1.7,2,2,"-","-","-","-","-","-","-","-","-","-","-"]
[null,"Solar térmica","-","-",0,0,0,0,0,0,0,0,0,0,0,0,0,0,0,0,0,0,0,0,0,0,0,0,0,0,0,0,0,0.1,0.1,0.1,0.1,0,0.1,0,0.1,0.2,0.3,0.3,0.4,0.5,0.4,0.3,0.1,0.1,0.2,0.4,0.4,0.6,0.7,1.1000000000000001,1.2,1,1,0.8,0.4,0.4,0.5,0.8,1,0.8,1.5,1.8,2.2999999999999998,2,1.6,1.3,0.6,0.6,0.5,0.9,0.5,1.4,2.4,3.1,3.1,2.9,2.2000000000000002,1.3,0.9,0.7,0.3,0.5,1.7,2.1,3.4,3.2,3.5,3.8,1.8,1.3,0.4,0.5,0.7,0.8,1.8,1.9,3.3,3.4,3.5,2.7,2.2999999999999998,0.9,1.1000000000000001,0.4,0.3,0.6,1.7,1.9,2.4,3.9,3.6,3.7,2.8,1.3,0.6,0.5,0.6,0.4,1.6,2.8,3,3.4,3.6,3.2,3,1.9,1,0.5,0.5,1.1000000000000001,1,1.6,2.4,2.8,3.9,3.1,2.2000000000000002,1.3,0.4,0.5,0.7,"-","-","-","-","-","-","-","-","-","-","-"]
[null,"Térmica renovable/Otras renovables",0.8,0.8,0.8,0.9,0.9,0.9,0.9,1,0.9,1,0.9,0.9,0.9,0.9,1,1,1,1,0.9,1,1,1,1,1,1,1.1000000000000001,1.2,1.4,1.3,1.1000000000000001,1,1.1000000000000001,1.3,1.5,1.2,1.1000000000000001,1.1000000000000001,1,1,1.3,1.3,1.3,1.1000000000000001,1.2,1.2,1.2,1.1000000000000001,1.2,1.2,1.2,1.2,1.4,1.4,1.2,1.3,1.3,1.4,1.5,1.4,1.4,1.3,1.2,1.3,1.3,1.4,1.4,1.4,1.2,1.2,1.4,1.5,1.5,1.4,1.4,1.5,1.7,1.8,1.7,1.6,1.6,1.6,1.6,1.6,1.6,1.6,1.3,1.3,1.3,1.5,1.5,1.5,1.6,1.5,1.4,1.4,1.3,1.2,1.1000000000000001,1.2,1,1.3,1.3,1.2,1.4,1.4,1.5,1.5,1.3,1.2,1.2,1.1000000000000001,1,1.3,1.4,1.4,1.5,1.5,1.4,1.4,1.4,1.3,1.4,1.3,1.2,1.5,1.4,1.5,1.5,1.5,1.4,1.4,1.3,1.3,1.4,1.1000000000000001,1.1000000000000001,1.4,1.5,1.5,1.4,1.5,1.3,1.3,1.4,1.2,"-","-","-","-","-","-","-","-","-","-","-"]
[null,"Residuos renovables","-","-","-","-","-","-","-","-","-","-","-","-","-","-","-","-","-","-","-","-","-","-","-","-","-","-","-","-","-","-","-","-","-","-","-","-","-","-","-","-","-","-","-","-","-","-","-","-",0.2,0.3,0.2,0.3,0.2,0.3,0.3,0.3,0.3,0.3,0.3,0.3,0.3,0.2,0.2,0.3,0.2,0.3,0.3,0.3,0.3,0.3,0.3,0.2,0.2,0.2,0.2,0.1,0.1,0.1,0.1,0.2,0.3,0.3,0.2,0.3,0.2,0.2,0.1,0.2,0.3,0.3,0.3,0.3,0.3,0.3,0.3,0.3,0.3,0.3,0.3,0.2,0.3,0.3,0.3,0.3,0.3,0.4,0.4,0.3,0.3,0.2,0.3,0.2,0.2,0.3,0.3,0.3,0.4,0.3,0.3,0.4,0.3,0.3,0.3,0.3,0.2,0.4,0.4,0.4,0.4,0.4,0.3,0.3,0.3,0.3,0.3,0.4,0.2,0.3,0.4,0.4,0.4,0.4,0.3,0.4,0.3,"-","-","-","-","-","-","-","-","-","-","-"]
[null,"Generación renovable",18.000000000000004,26.7,29.800000000000004,20.3,24.9,19.099999999999998,18.7,19.399999999999999,15.900000000000002,16.299999999999997,17.399999999999999,14.999999999999998,16.299999999999997,13.3,22.099999999999998,26.8,23.700000000000003,24.2,18.599999999999998,17,17.099999999999998,17.599999999999998,23,25.9,23.9,32.199999999999996,29.6,29.099999999999998,29.1,23.500000000000004,20.799999999999997,19.8,19.100000000000001,23,32.500000000000007,34.9,38.5,38.399999999999991,44.3,37.6,38.299999999999997,31.700000000000003,26.7,25.5,20.999999999999996,27.6,31.700000000000006,36.400000000000006,38.400000000000006,34.6,38.300000000000004,37.5,33.1,28.6,27.100000000000005,24.5,21.4,25.3,30.3,32.299999999999997,25,28.799999999999997,27.400000000000002,36.999999999999993,34.6,31.599999999999998,27.5,26,28.300000000000004,25.5,33.4,37.70000000000001,41.6,43.8,48.1,51.6,45.199999999999996,42.9,31.900000000000006,33.200000000000003,30.6,32.799999999999997,45.6,35.5,48.7,55.800000000000004,51.9,49.999999999999993,42.4,36.299999999999997,35.299999999999997,32.5,24.5,29.4,39.599999999999994,38.699999999999996,34.800000000000004,45.5,44.199999999999996,38.800000000000004,46.099999999999987,33.999999999999993,29.099999999999998,29.6,29.199999999999996,32,32.300000000000004,26.9,43.4,51.100000000000009,48.7,50.9,51.7,40.299999999999997,34.599999999999994,35.5,28.900000000000002,24.2,29.099999999999998,24.7,31.200000000000003,36.999999999999993,41.699999999999996,40,35.700000000000003,31.099999999999994,29.6,29.299999999999997,28.599999999999998,25.499999999999996,26.299999999999997,32.799999999999997,36.999999999999993,37.399999999999991,54.599999999999994,50.7,41.9,40.699999999999996,35.800000000000004,32.1,28.399999999999995,31.700000000000003,33.899999999999991,35.9,37.400000000000006,"-","-","-","-","-","-","-","-","-","-","-"]
[]
[null,"Estructura de generación renovable anual peninsular (%)",1990,1991,1992,1993,1994,1995,1996,1997,1998,1999,2000,2001,2002,2003,2004,2005,2006,2007,2008,2009,2010,2011,2012,2013,2014,2015,2016,2017,2018,2019,2020,2021]
[null,"Hidráulica",18,18.600000000000001,13,16.7,18.899999999999999,15,25.4,21,20.6,13.7,14.3,19.600000000000001,10,17.5,12.7,7.2,9.6,9.9,8.1999999999999993,9.9,15.3,11.5,7.7,14.4,15.5,11.2,14.6,7.4,13.8,9.1,"-","-"]
[null,"Eólica",0,0,0,0.1,0,0.1,0.2,0.4,0.7,1.4,2.2999999999999998,3.2,4.3,5.0999999999999996,6.5,8.1999999999999993,8.6999999999999993,10,11.3,14.3,15.8,15.9,17.899999999999999,20.9,20,18.8,19.100000000000001,19.100000000000001,19.8,25.5,"-","-"]
[null,"Solar fotovoltaica","-","-",0,0,0,0,0,0,0,0,0,0,0,0,0,0,0,0.2,0.9,2.2000000000000002,2.2000000000000002,2.7,2.9,3,3.1,3.1,3.1,3.2,3,2,"-","-"]
[null,"Solar térmica","-","-","-","-","-","-","-","-","-","-","-","-","-","-","-","-","-",0,0,0,0.3,0.7,1.3,1.7,2,2,2,2.2000000000000002,1.8,0.7,"-","-"]
[null,"Térmica renovable/Otras renovables","-",0,0,0,0.2,0.4,0.5,0.4,0.4,0.5,0.5,0.8,0.7,0.8,0.7,0.8,0.8,0.9,0.9,1.2,1.2,1.4,1.4,1.7,1.5,1.3,1.4,1.5,1.4,1.3,"-","-"]
[null,"Residuos renovables","-","-","-","-","-","-","-","-","-","-","-","-","-","-","-","-","-","-","-","-","-",0.2,0.2,0.2,0.2,0.3,0.3,0.3,0.3,0.3,"-","-"]
[null,"Generación renovable",18,18.600000000000001,13,16.8,19.099999999999998,15.5,26.099999999999998,21.799999999999997,21.7,15.6,17.100000000000001,23.6,15,23.400000000000002,19.899999999999999,16.2,19.099999999999998,20.999999999999996,21.299999999999997,27.6,34.800000000000004,32.4,31.399999999999995,41.900000000000006,42.300000000000004,36.699999999999996,40.5,33.699999999999996,40.099999999999994,38.9,"-","-"]
[]
[null,"Estructura de generación renovable anual Islas Baleares (%)",2006,2007,2008,2009,2010,2011,2012,2013,2014,2015,2016,2017,2018,2019,2020,2021]
[null,"Eólica",0.1,0.1,0.1,0.1,0.1,0.1,0.1,0.1,0.1,0.1,0.1,0.1,0.1,0.2,"-","-"]
[null,"Solar fotovoltaica",0,0,0.5,1.4,1.5,1.8,2.2000000000000002,2.8,2.9,2.8,2.6,2.5,2.2999999999999998,2.1,"-","-"]
[null,"Térmica renovable/Otras renovables","-","-","-","-","-",0,0,0,0,0,0,0,0,0,"-","-"]
[null,"Residuos renovables","-","-","-","-","-",2.2000000000000002,2.2999999999999998,2.6,3,3.4,2.9,3,2.8,2.8,"-","-"]
[null,"Generación renovable",0.1,0.1,0.6,1.5,1.6,4.1000000000000005,4.5999999999999996,5.5,6,6.3,5.6,5.6,5.1999999999999993,5.0999999999999996,"-","-"]
[]
[null,"Estructura de generación renovable anual Islas Canarias (%)",2006,2007,2008,2009,2010,2011,2012,2013,2014,2015,2016,2017,2018,2019,2020,2021]
[null,"Hidráulica","-",0,0,0,"-",0,0,0,0,0,0,0,0,0,"-","-"]
[null,"Hidroeólica","-","-","-","-","-","-","-","-",0,0.1,0.2,0.2,0.3,0.1,"-","-"]
[null,"Eólica",3.7,3.9,4.2,3.9,3.7,4,4.0999999999999996,4.3,4.5999999999999996,4.5999999999999996,4.5,4.4000000000000004,7,7.4,"-","-"]
[null,"Solar fotovoltaica",0,0.2,0.7,1.8,2.2000000000000002,2.6,2.9,3.4,3.3,3.2,3.2,3.1,3.1,2.2999999999999998,"-","-"]
[null,"Térmica renovable/Otras renovables",2.5,2.2999999999999998,2.2999999999999998,3,1.8,0.1,0.1,0.1,0.1,0.1,0.1,0.1,0.1,0.1,"-","-"]
[null,"Generación renovable",6.2,6.3999999999999995,7.2,8.6999999999999993,7.7,6.6999999999999993,7.1,7.7999999999999989,7.9999999999999991,7.9999999999999991,8,7.8000000000000007,10.5,9.9,"-","-"]
[]
[null,"Estructura de generación renovable anual Melilla (%)",2007,2008,2009,2010,2011,2012,2013,2014,2015,2016,2017,2018,2019,2020,2021,2022]
[null,"Solar fotovoltaica","-",0,0.06,0.03,0.03,0.04,0.04,0.04,0.04,0.04,0.04,0.04,0.03,"-","-","-"]
[null,"Residuos renovables","-","-","-","-",1.64,0.53,1.92,2.12,2.02,2.33,2.37,2.5099999999999998,2.97,"-","-","-"]
[null,"Generación renovable",0,0,0.06,0.03,1.67,0.57000000000000006,1.96,2.16,2.06,2.37,2.41,2.5499999999999998,3,"-","-","-"]
[]
[null,"Estructura de generación renovable anual nacional (%)",2007,2008,2009,2010,2011,2012,2013,2014,2015,2016,2017,2018,2019,2020,2021,2022]
[null,"Hidráulica",9.4,7.8,9.4,14.5,10.9,7.3,13.7,14.7,10.6,13.8,7,13.1,8.6999999999999993,"-","-","-"]
[null,"Hidroeólica","-","-","-","-","-","-","-",0,0,0,0,0,0,"-","-","-"]
[null,"Eólica",9.6,10.9,13.7,15.1,15.2,17.100000000000001,20,19.2,18,18.2,18.3,19,24.5,"-","-","-"]
[null,"Solar fotovoltaica",0.2,0.8,2.2000000000000002,2.2000000000000002,2.7,2.9,3,3.1,3.1,3,3.2,3,2,"-","-","-"]
[null,"Solar térmica",0,0,0,0.2,0.7,1.2,1.6,1.9,1.9,1.9,2,1.7,0.7,"-","-","-"]
[null,"Térmica renovable/Otras renovables",0.9,1,1.2,1.2,1.3,1.3,1.6,1.4,1.3,1.3,1.4,1.4,1.2,"-","-","-"]
[null,"Residuos renovables","-","-","-","-",0.3,0.3,0.2,0.3,0.3,0.3,0.3,0.3,0.3,"-","-","-"]
[null,"Generación renovable",20.099999999999998,20.5,26.5,33.200000000000003,31.1,30.1,40.100000000000009,40.599999999999994,35.199999999999996,38.499999999999993,32.199999999999996,38.5,37.400000000000006,"-","-","-"]
[]
[]
[null,"Maxima generación renovable peninsular","2010-01-01","2010-02-01","2010-03-01","2010-04-01","2010-05-01","2010-06-01","2010-07-01","2010-08-01","2010-09-01","2010-10-01","2010-11-01","2010-12-01","2011-01-01","2011-02-01","2011-03-01","2011-04-01","2011-05-01","2011-06-01","2011-07-01","2011-08-01","2011-09-01","2011-10-01","2011-11-01","2011-12-01","2012-01-01","2012-02-01","2012-03-01","2012-04-01","2012-05-01","2012-06-01","2012-07-01","2012-08-01","2012-09-01","2012-10-01","2012-11-01","2012-12-01","2013-01-01","2013-02-01","2013-03-01","2013-04-01","2013-05-01","2013-06-01","2013-07-01","2013-08-01","2013-09-01","2013-10-01","2013-11-01","2013-12-01","2014-01-01","2014-02-01","2014-03-01","2014-04-01","2014-05-01","2014-06-01","2014-07-01","2014-08-01","2014-09-01","2014-10-01","2014-11-01","2014-12-01","2015-01-01","2015-02-01","2015-03-01","2015-04-01","2015-05-01","2015-06-01","2015-07-01","2015-08-01","2015-09-01","2015-10-01","2015-11-01","2015-12-01","2016-01-01","2016-02-01","2016-03-01","2016-04-01","2016-05-01","2016-06-01","2016-07-01","2016-08-01","2016-09-01","2016-10-01","2016-11-01","2016-12-01","2017-01-01","2017-02-01","2017-03-01","2017-04-01","2017-05-01","2017-06-01","2017-07-01","2017-08-01","2017-09-01","2017-10-01","2017-11-01","2017-12-01","2018-01-01","2018-02-01","2018-03-01","2018-04-01","2018-05-01","2018-06-01","2018-07-01","2018-08-01","2018-09-01","2018-10-01","2018-11-01","2018-12-01","2019-01-01","2019-02-01","2019-03-01","2019-04-01","2019-05-01","2019-06-01","2019-07-01","2019-08-01","2019-09-01","2019-10-01","2019-11-01","2019-12-01"]
[null,"Generación renovable (GWh)",416.84965849999998,443.5441811,448.96560350000004,381.50331770000003,420.55084250000004,309.53562019999998,279.91168900000002,255.00823629999999,262.89802599999996,327.81719169999997,384.51802129999999,405.19184110000003,448.83310021599999,414.33566498599998,421.59895542000004,351.79977228799999,356.28992468799999,349.93929064999998,289.68664250800003,282.42289313200001,238.757489706,303.35073020999999,351.78886587400001,373.77014350799999,333.54281220599995,397.49440483399997,323.173605178,430.20849988800001,379.69936236400002,350.51944371800005,262.58942464600005,312.61542252600003,330.66549684400002,347.86689695999996,388.02702650200001,410.10591859199997,484.362911322,502.65766709799999,475.39855025200001,450.71630875199997,415.30889430400003,381.87209386800004,301.97748758800003,330.63010593199999,304.43087821400002,345.416791332,418.13199313000001,430.66305069399999,503.50302798200005,511.45499003999998,489.43548198400003,475.39674018199997,390.26023810000004,370.54290745599997,365.279941452,302.15684678000002,259.82040910000001,298.37424329999999,412.55810363400002,402.15721972799997,468.79457710200001,492.73860011800002,467.02381041400002,367.414237576,387.57086877,330.22152329199997,311.37663251000004,314.50322512399998,368.98517226000001,359.38718544199997,399.07866710000002,324.42745455800002,485.14525798400001,509.40102483200002,479.54472783199998,447.133064166,424.02159897799999,371.865408962,332.61714147999999,380.14994881999996,262.87616978599999,263.76015689799999,317.85113413400001,260.90037206,402.11413105800005,413.57147963,405.68116706200004,374.05112828200004,354.43252790400004,393.11038223999998,279.74707624399997,287.69141890200001,274.767541924,266.00118913200004,346.00447499399996,392.89183268599999,392.75615034599997,402.66139324399995,539.278649718,481.15091699800001,421.54980025999998,363.78924580799998,295.52876406800004,284.54313317200001,320.82863874199995,351.78918167800003,371.04025120200004,386.03051935000002,474.83674573999997,"-","-","-","-","-","-","-","-","-","-","-"]
[null,"Día",14,24,9,8,4,10,6,13,7,31,9,24,22,21,16,11,15,1,19,9,18,24,6,16,2,3,8,19,21,11,13,31,24,27,28,14,23,6,13,9,31,27,9,2,11,22,5,26,28,13,4,4,22,6,9,13,17,16,15,1,30,24,5,1,8,17,3,23,16,5,21,28,11,15,10,5,13,14,14,10,13,23,8,19,17,5,13,19,11,28,18,10,10,30,13,27,4,21,20,11,3,18,16,18,24,29,10,13,31,"-","-","-","-","-","-","-","-","-","-","-"]
[null,null,"enero","febrero","marzo","abril","mayo","junio","julio","agosto","septiembre","octubre","noviembre","diciembre","enero","febrero","marzo","abril","mayo","junio","julio","agosto","septiembre","octubre","noviembre","diciembre","enero","febrero","marzo","abril","mayo","junio","julio","agosto","septiembre","octubre","noviembre","diciembre","enero","febrero","marzo","abril","mayo","junio","julio","agosto","septiembre","octubre","noviembre","diciembre","enero","febrero","marzo","abril","mayo","junio","julio","agosto","septiembre","octubre","noviembre","diciembre","enero","febrero","marzo","abril","mayo","junio","julio","agosto","septiembre","octubre","noviembre","diciembre","enero","febrero","marzo","abril","mayo","junio","julio","agosto","septiembre","octubre","noviembre","diciembre","enero","febrero","marzo","abril","mayo","junio","julio","agosto","septiembre","octubre","noviembre","diciembre","enero","febrero","marzo","abril","mayo","junio","julio","agosto","agosto","octubre","noviembre","diciembre","enero","febrero","marzo","abril","mayo","junio","julio","agosto","agosto","octubre","noviembre","diciembre"]
[null,"Maxima participación de la generación renovable en la estructura de generación peninsular ","2010-01-01","2010-02-01","2010-03-01","2010-04-01","2010-05-01","2010-06-01","2010-07-01","2010-08-01","2010-09-01","2010-10-01","2010-11-01","2010-12-01","2011-01-01","2011-02-01","2011-03-01","2011-04-01","2011-05-01","2011-06-01","2011-07-01","2011-08-01","2011-09-01","2011-10-01","2011-11-01","2011-12-01","2012-01-01","2012-02-01","2012-03-01","2012-04-01","2012-05-01","2012-06-01","2012-07-01","2012-08-01","2012-09-01","2012-10-01","2012-11-01","2012-12-01","2013-01-01","2013-02-01","2013-03-01","2013-04-01","2013-05-01","2013-06-01","2013-07-01","2013-08-01","2013-09-01","2013-10-01","2013-11-01","2013-12-01","2014-01-01","2014-02-01","2014-03-01","2014-04-01","2014-05-01","2014-06-01","2014-07-01","2014-08-01","2014-09-01","2014-10-01","2014-11-01","2014-12-01","2015-01-01","2015-02-01","2015-03-01","2015-04-01","2015-05-01","2015-06-01","2015-07-01","2015-08-01","2015-09-01","2015-10-01","2015-11-01","2015-12-01","2016-01-01","2016-02-01","2016-03-01","2016-04-01","2016-05-01","2016-06-01","2016-07-01","2016-08-01","2016-09-01","2016-10-01","2016-11-01","2016-12-01","2017-01-01","2017-02-01","2017-03-01","2017-04-01","2017-05-01","2017-06-01","2017-07-01","2017-08-01","2017-09-01","2017-10-01","2017-11-01","2017-12-01","2018-01-01","2018-02-01","2018-03-01","2018-04-01","2018-05-01","2018-06-01","2018-07-01","2018-08-01","2018-09-01","2018-10-01","2018-11-01","2018-12-01","2019-01-01","2019-02-01","2019-03-01","2019-04-01","2019-05-01","2019-06-01","2019-07-01","2019-08-01","2019-09-01","2019-10-01","2019-11-01","2019-12-01"]
[null,"Generación renovable (%)",58,54.7,56.600000000000009,52.300000000000004,56.800000000000004,49.699999999999996,40.300000000000004,35.6,38.5,51.5,49.800000000000004,56.800000000000004,57.170723841224515,51.878298709621141,54.308465960613908,51.845804169755716,60.045650729410461,48.879845418460448,42.150207457691593,38.477868543672038,38.745013820168481,43.687003254655117,53.291028571866804,46.811519945338823,44.507089897492172,42.051426395363194,41.043046937786123,53.179302066993436,51.104895946084739,50.402400084464681,40.847923148635537,42.120118939892635,48.054785253029898,52.122620929758348,53.69486809462289,54.123776814924383,57.406040254217352,61.731616308848757,57.223046101975847,61.293785949686985,60.619641390318556,59.687538391628827,42.268376649205962,43.422632202238411,49.008847819011528,49.117983486551765,57.292150367929054,60.978743943628409,61.800910616263863,64.174020357764846,63.157872254253292,61.166850582810653,58.219358873116846,58.429609249948825,48.9600410662865,47.654190274164634,36.14399742283215,44.996136881335389,59.14830347330998,54.972002880577918,61.863017624775608,59.551754087312425,60.079428418125588,52.179663243117503,59.082461691604408,46.106581114849362,39.012142495916073,49.865503354614624,51.079422341111844,53.528599895086451,58.363907081822454,49.46754992203963,63.449794755400177,71.084693488031434,60.490900413735091,60.603383843550873,63.137841659631313,52.512070139189447,45.629988886734552,54.004468504918599,42.625130393892682,40.063649779129364,49.855983069547896,39.700329227831723,44.490655511332399,57.016904146707546,54.569377966461573,54.712487568871779,53.038379997387239,54.515606720233023,44.375653434276138,43.961062076106153,46.045973400878268,43.934363694001824,47.425447034450237,54.15657831515189,54.765274507500806,51.285836165310187,67.672370256205085,61.721671609432363,60.470811802283265,55.290485421071423,42.91320969505712,46.591584006649953,42.502162782395011,47.469241536248887,57.259235998900493,51.840864477681237,56.726359428026342,"-","-","-","-","-","-","-","-","-","-","-"]
[null,"Día",1,24,30,3,15,20,25,13,12,31,1,25,22,27,27,10,15,2,17,9,18,23,13,24,2,3,18,18,21,10,1,31,23,27,1,15,20,2,11,6,31,1,28,2,29,22,24,25,4,1,4,25,3,15,9,16,17,18,15,28,31,24,5,1,16,17,3,23,16,5,21,28,11,13,5,30,1,15,14,10,17,23,20,17,17,5,13,19,11,28,2,6,10,28,5,27,4,21,11,11,4,18,16,18,24,29,10,16,31,"-","-","-","-","-","-","-","-","-","-","-"]
[null,null,"enero","febrero","marzo","abril","mayo","junio","julio","agosto","septiembre","octubre","noviembre","diciembre","enero","febrero","marzo","abril","mayo","junio","julio","agosto","septiembre","octubre","noviembre","diciembre","enero","febrero","marzo","abril","mayo","junio","julio","agosto","septiembre","octubre","noviembre","diciembre","enero","febrero","marzo","abril","mayo","junio","julio","agosto","septiembre","octubre","noviembre","diciembre","enero","febrero","marzo","abril","mayo","junio","julio","agosto","septiembre","octubre","noviembre","diciembre","enero","febrero","marzo","abril","mayo","junio","julio","agosto","septiembre","octubre","noviembre","diciembre","enero","febrero","marzo","abril","mayo","junio","julio","agosto","septiembre","octubre","noviembre","diciembre","enero","febrero","marzo","abril","mayo","junio","julio","agosto","septiembre","octubre","noviembre","diciembre","enero","febrero","marzo","abril","mayo","junio","julio","agosto","agosto","octubre","noviembre","diciembre","enero","febrero","marzo","abril","mayo","junio","julio","agosto","agosto","octubre","noviembre","diciembre"]
[null,"Maxima generación renovable Islas Baleares","2010-01-01","2010-02-01","2010-03-01","2010-04-01","2010-05-01","2010-06-01","2010-07-01","2010-08-01","2010-09-01","2010-10-01","2010-11-01","2010-12-01","2011-01-01","2011-02-01","2011-03-01","2011-04-01","2011-05-01","2011-06-01","2011-07-01","2011-08-01","2011-09-01","2011-10-01","2011-11-01","2011-12-01","2012-01-01","2012-02-01","2012-03-01","2012-04-01","2012-05-01","2012-06-01","2012-07-01","2012-08-01","2012-09-01","2012-10-01","2012-11-01","2012-12-01","2013-01-01","2013-02-01","2013-03-01","2013-04-01","2013-05-01","2013-06-01","2013-07-01","2013-08-01","2013-09-01","2013-10-01","2013-11-01","2013-12-01","2014-01-01","2014-02-01","2014-03-01","2014-04-01","2014-05-01","2014-06-01","2014-07-01","2014-08-01","2014-09-01","2014-10-01","2014-11-01","2014-12-01","2015-01-01","2015-02-01","2015-03-01","2015-04-01","2015-05-01","2015-06-01","2015-07-01","2015-08-01","2015-09-01","2015-10-01","2015-11-01","2015-12-01","2016-01-01","2016-02-01","2016-03-01","2016-04-01","2016-05-01","2016-06-01","2016-07-01","2016-08-01","2016-09-01","2016-10-01","2016-11-01","2016-12-01","2017-01-01","2017-02-01","2017-03-01","2017-04-01","2017-05-01","2017-06-01","2017-07-01","2017-08-01","2017-09-01","2017-10-01","2017-11-01","2017-12-01","2018-01-01","2018-02-01","2018-03-01","2018-04-01","2018-05-01","2018-06-01","2018-07-01","2018-08-01","2018-09-01","2018-10-01","2018-11-01","2018-12-01","2019-01-01","2019-02-01","2019-03-01","2019-04-01","2019-05-01","2019-06-01","2019-07-01","2019-08-01","2019-09-01","2019-10-01","2019-11-01","2019-12-01"]
[null,"Generación renovable (MWh)",181,264,295,335,342,352,382,447,362,291,243,238,546.62199999999996,701.02049999999997,688.64350000000002,768.00750000000005,632.49300000000005,929.21450000000004,873.73950000000002,871.303,871.14449999999999,875.05499999999995,777.02449999999999,721.31799999999998,728.48649999999998,731.40599999999995,770.11400000000003,810.44749999999999,933.50649999999996,933.34199999999998,1000.7865,909.303,926.73350000000005,814.97050000000002,660.08550000000002,816.94299999999998,716.41,721.09550000000002,822.64350000000002,901.69949999999994,922.33799999999997,995.29549999999995,1022.0395,967.91300000000001,987.87599999999998,869.01700000000005,738.96249999999998,619.71199999999999,632.66549999999995,744.86450000000002,823.38199999999995,1012.732,803.20899999999995,1005.592,1030.8855000000001,963.21799999999996,934.63699999999994,927.37199999999996,777.82849999999996,801.59900000000005,714.28499999999997,726.94899999999996,1045.4915000000001,1065.5295000000001,1076.4804999999999,1039.874,987.61699999999996,953.58600000000001,989.04600000000005,961.79449999999997,925.41849999999999,794.16300000000001,854.25099999999998,592.94749999999999,1024.9449999999999,1023.2525000000001,1041.0975000000001,989.38099999999997,942.48749999999995,957.41949999999997,915.74149999999997,916.92399999999998,798.40200000000004,617.60900000000004,604.16849999999999,721.21550000000002,977.40449999999998,1009.9215,1008.0855,985.37300000000005,984.39,992.94050000000004,974.02200000000005,958.01949999999999,863.50199999999995,633.91700000000003,850.45450000000005,600.75,986.25750000000005,996.31299999999999,1042.7764999999999,998.54700000000003,979.63049999999998,930.625,912.82899999999995,926.76,792.14350000000002,784.92449999999997,673.00850000000003,"-","-","-","-","-","-","-","-","-","-","-"]
[null,"Día",2,20,10,26,17,5,6,8,6,26,4,15,21,3,31,8,23,14,6,25,19,10,12,31,8,23,10,26,25,22,17,23,15,4,25,8,25,10,18,23,30,7,5,14,1,2,12,5,28,23,7,9,3,20,1,26,2,4,1,19,24,8,27,8,28,2,10,5,25,22,3,30,8,20,24,14,4,1,1,12,6,27,8,13,12,26,30,7,23,13,5,25,13,7,15,4,16,26,23,4,2,20,28,2,1,4,28,15,6,"-","-","-","-","-","-","-","-","-","-","-"]
[null,null,"enero","febrero","marzo","abril","mayo","junio","julio","agosto","septiembre","octubre","noviembre","diciembre","enero","febrero","marzo","abril","mayo","junio","julio","agosto","septiembre","octubre","noviembre","diciembre","enero","febrero","marzo","abril","mayo","junio","julio","agosto","septiembre","octubre","noviembre","diciembre","enero","febrero","marzo","abril","mayo","junio","julio","agosto","septiembre","octubre","noviembre","diciembre","enero","febrero","marzo","abril","mayo","junio","julio","agosto","septiembre","octubre","noviembre","diciembre","enero","febrero","marzo","abril","mayo","junio","julio","agosto","septiembre","octubre","noviembre","diciembre","enero","febrero","marzo","abril","mayo","junio","julio","agosto","septiembre","octubre","noviembre","diciembre","enero","febrero","marzo","abril","mayo","junio","julio","agosto","septiembre","octubre","noviembre","diciembre","enero","febrero","marzo","abril","mayo","junio","julio","agosto","agosto","octubre","noviembre","diciembre","enero","febrero","marzo","abril","mayo","junio","julio","agosto","agosto","octubre","noviembre","diciembre"]
[null,"Maxima participación de la generación renovable en la estructura de generación Islas Baleares ","2010-01-01","2010-02-01","2010-03-01","2010-04-01","2010-05-01","2010-06-01","2010-07-01","2010-08-01","2010-09-01","2010-10-01","2010-11-01","2010-12-01","2011-01-01","2011-02-01","2011-03-01","2011-04-01","2011-05-01","2011-06-01","2011-07-01","2011-08-01","2011-09-01","2011-10-01","2011-11-01","2011-12-01","2012-01-01","2012-02-01","2012-03-01","2012-04-01","2012-05-01","2012-06-01","2012-07-01","2012-08-01","2012-09-01","2012-10-01","2012-11-01","2012-12-01","2013-01-01","2013-02-01","2013-03-01","2013-04-01","2013-05-01","2013-06-01","2013-07-01","2013-08-01","2013-09-01","2013-10-01","2013-11-01","2013-12-01","2014-01-01","2014-02-01","2014-03-01","2014-04-01","2014-05-01","2014-06-01","2014-07-01","2014-08-01","2014-09-01","2014-10-01","2014-11-01","2014-12-01","2015-01-01","2015-02-01","2015-03-01","2015-04-01","2015-05-01","2015-06-01","2015-07-01","2015-08-01","2015-09-01","2015-10-01","2015-11-01","2015-12-01","2016-01-01","2016-02-01","2016-03-01","2016-04-01","2016-05-01","2016-06-01","2016-07-01","2016-08-01","2016-09-01","2016-10-01","2016-11-01","2016-12-01","2017-01-01","2017-02-01","2017-03-01","2017-04-01","2017-05-01","2017-06-01","2017-07-01","2017-08-01","2017-09-01","2017-10-01","2017-11-01","2017-12-01","2018-01-01","2018-02-01","2018-03-01","2018-04-01","2018-05-01","2018-06-01","2018-07-01","2018-08-01","2018-09-01","2018-10-01","2018-11-01","2018-12-01","2019-01-01","2019-02-01","2019-03-01","2019-04-01","2019-05-01","2019-06-01","2019-07-01","2019-08-01","2019-09-01","2019-10-01","2019-11-01","2019-12-01"]
[null,"Generación renovable (%)",1.3,1.9,2.2000000000000002,2.5,2.6,2.4,2.1,2.4,2.1,2.2000000000000002,2.1,1.6,3.8307651644294012,4.7526086256175457,5.1080344841014496,6.4571012557902678,4.6497798583321677,6.0461506837369035,4.7270790769145554,4.5726308656553458,5.0591582318276984,6.3327490535904696,6.6406981110758059,6.1134894320300299,5.5661447128171391,5.6891399851648279,6.8916268237541791,6.892603625426565,7.402545339386565,6.0946880456897352,5.4375497783107987,5.3160379794387733,6.5681712836635846,6.5565025833599355,7.5492421313919502,7.6851542871077125,6.4900104542298704,6.8960226121332697,8.6556783785725173,9.017112885610036,8.2825088233226491,9.1609909928980127,7.7648042260533501,7.3534071160253527,7.9565017893503027,6.5097932761610897,7.8164157303994788,5.7497831689282339,6.5100139450156957,7.666902548293546,8.5395775503588407,10.665303110772797,7.6972297183336131,7.9063146141705039,7.5653142232770003,6.9129254066390198,7.6207774483023947,8.494589015623637,8.9426435293927362,7.6726224962605976,6.6426411837336596,6.5838786012808441,10.705125716394564,10.618425222737814,9.8828582980732556,8.5535584694045852,6.5843619088658798,6.7583189656619869,8.0442833059929892,8.4754600331890728,10.62504501250771,8.3484781284312142,8.4580239176352698,5.5807459077886898,10.116919377791397,10.183589183771936,9.0079062282583493,8.096735506061826,6.2092868290447347,6.5304541533463185,6.1144519556688683,8.4052764288582686,8.7405739059750402,6.1059697289893533,5.4069022947801724,6.5667426942915554,9.6065641604271139,9.5728480378629044,7.9087832706207246,6.8350175125668544,6.15281209103407,6.750711969032527,7.6229838910129706,8.3740344816631289,8.4424650464988034,5.322921628677884,7.5067415554535915,4.6149953124092553,8.2501709832320422,8.6498446458123635,8.7165538841565962,7.4044822226864548,6.0666649880404409,6.0881023845989679,6.7588105675121257,7.8629480898955437,7.3242609083748382,8.4229122590344687,6.7719566853813822,"-","-","-","-","-","-","-","-","-","-","-"]
[null,"Día",1,27,1,25,9,6,4,8,5,24,14,6,15,23,31,10,22,12,31,28,19,9,12,6,8,26,18,8,27,2,24,26,15,17,25,6,28,10,30,14,25,2,1,31,1,1,1,15,26,23,16,13,3,8,1,24,27,26,23,19,24,15,29,6,3,1,12,2,25,11,15,27,6,20,27,10,4,1,3,12,19,30,6,25,1,26,30,2,21,11,3,13,17,28,12,27,17,26,30,1,2,1,8,19,29,24,28,6,6,"-","-","-","-","-","-","-","-","-","-","-"]
[null,null,"enero","febrero","marzo","abril","mayo","junio","julio","agosto","septiembre","octubre","noviembre","diciembre","enero","febrero","marzo","abril","mayo","junio","julio","agosto","septiembre","octubre","noviembre","diciembre","enero","febrero","marzo","abril","mayo","junio","julio","agosto","septiembre","octubre","noviembre","diciembre","enero","febrero","marzo","abril","mayo","junio","julio","agosto","septiembre","octubre","noviembre","diciembre","enero","febrero","marzo","abril","mayo","junio","julio","agosto","septiembre","octubre","noviembre","diciembre","enero","febrero","marzo","abril","mayo","junio","julio","agosto","septiembre","octubre","noviembre","diciembre","enero","febrero","marzo","abril","mayo","junio","julio","agosto","septiembre","octubre","noviembre","diciembre","enero","febrero","marzo","abril","mayo","junio","julio","agosto","septiembre","octubre","noviembre","diciembre","enero","febrero","marzo","abril","mayo","junio","julio","agosto","agosto","octubre","noviembre","diciembre","enero","febrero","marzo","abril","mayo","junio","julio","agosto","agosto","octubre","noviembre","diciembre"]
[null,"Maxima generación renovable Islas Canarias","2010-01-01","2010-02-01","2010-03-01","2010-04-01","2010-05-01","2010-06-01","2010-07-01","2010-08-01","2010-09-01","2010-10-01","2010-11-01","2010-12-01","2011-01-01","2011-02-01","2011-03-01","2011-04-01","2011-05-01","2011-06-01","2011-07-01","2011-08-01","2011-09-01","2011-10-01","2011-11-01","2011-12-01","2012-01-01","2012-02-01","2012-03-01","2012-04-01","2012-05-01","2012-06-01","2012-07-01","2012-08-01","2012-09-01","2012-10-01","2012-11-01","2012-12-01","2013-01-01","2013-02-01","2013-03-01","2013-04-01","2013-05-01","2013-06-01","2013-07-01","2013-08-01","2013-09-01","2013-10-01","2013-11-01","2013-12-01","2014-01-01","2014-02-01","2014-03-01","2014-04-01","2014-05-01","2014-06-01","2014-07-01","2014-08-01","2014-09-01","2014-10-01","2014-11-01","2014-12-01","2015-01-01","2015-02-01","2015-03-01","2015-04-01","2015-05-01","2015-06-01","2015-07-01","2015-08-01","2015-09-01","2015-10-01","2015-11-01","2015-12-01","2016-01-01","2016-02-01","2016-03-01","2016-04-01","2016-05-01","2016-06-01","2016-07-01","2016-08-01","2016-09-01","2016-10-01","2016-11-01","2016-12-01","2017-01-01","2017-02-01","2017-03-01","2017-04-01","2017-05-01","2017-06-01","2017-07-01","2017-08-01","2017-09-01","2017-10-01","2017-11-01","2017-12-01","2018-01-01","2018-02-01","2018-03-01","2018-04-01","2018-05-01","2018-06-01","2018-07-01","2018-08-01","2018-09-01","2018-10-01","2018-11-01","2018-12-01","2019-01-01","2019-02-01","2019-03-01","2019-04-01","2019-05-01","2019-06-01","2019-07-01","2019-08-01","2019-09-01","2019-10-01","2019-11-01","2019-12-01"]
[null,"Generación renovable (MWh)",2626,2137,3089,3673,3716,3538,3487,3098,2771,2258,2286,2385,2019.173,3041.5830000000001,3167.8760000000002,3188.6750000000002,2683.6759999999999,3141.8420000000001,3344.3670000000002,3184.3530000000001,2945.415,2749.7849999999999,2074.183,2660.4879999999998,2262.3090000000002,3117.0949999999998,3270.64,3309.5990000000002,3018.384,3397.8440000000001,3287.0189999999998,3260.1889999999999,2390.819,2538.5439999999999,2436.2820000000002,2601.5749999999998,3096.8870000000002,3200.7,2317.9009999999998,3108.895,3142.8719999999998,3714.84,3371.8780000000002,3497.7570000000001,3115.9470000000001,3063.8029999999999,3145.2339999999999,3225.5430000000001,3410.6590000000001,3551.848,3758.8710000000001,3665.7919999999999,3798.6120000000001,3519.672,3539.57,3645.9989999999998,2124.0549999999998,2652.6379999999999,2816.8760000000002,2742.7260000000001,2964.192,3651.6109999999999,3375.04,3241.9050000000002,3659.2820000000002,3407.7579999999998,3615.17,3541.0189999999998,2688.3739999999998,2251.2049999999999,2843.47,1989.0509999999999,3149.57,3542.1889999999999,3475.5889999999999,3574.7489999999998,3389.1729999999998,3552.866,3617,3526.6889999999999,3535.2150000000001,2179.1669999999999,2688.1,2114.3240000000001,2560.0720000000001,2797.0790000000002,3418.2959999999998,3162.2359999999999,3673.64,3778.4639999999999,3679.5259999999998,3704.9630000000002,4091.2460000000001,4112.5439999999999,3570.5709999999999,4212.8490000000002,4509.0910000000003,4475.2340000000004,4852.0630000000001,4466.4449999999997,5430.7340000000004,5101.5140000000001,5115.3270000000002,5007.6750000000002,3955.2939999999999,3524.54,4829.53,4373.6610000000001,5803.0469999999996,"-","-","-","-","-","-","-","-","-","-","-"]
[null,"Día",25,21,5,4,30,19,13,13,29,25,2,17,31,28,29,10,31,16,10,13,5,14,22,18,16,4,19,17,20,11,5,31,1,11,30,25,23,9,4,15,19,21,2,8,3,30,1,29,23,27,26,25,9,1,2,13,30,5,2,10,24,18,1,29,20,1,11,15,2,6,23,21,30,15,10,8,15,25,12,1,1,11,12,17,10,18,13,4,18,30,1,19,5,1,10,13,27,28,21,9,12,2,5,30,10,15,3,15,28,"-","-","-","-","-","-","-","-","-","-","-"]
[null,null,"enero","febrero","marzo","abril","mayo","junio","julio","agosto","septiembre","octubre","noviembre","diciembre","enero","febrero","marzo","abril","mayo","junio","julio","agosto","septiembre","octubre","noviembre","diciembre","enero","febrero","marzo","abril","mayo","junio","julio","agosto","septiembre","octubre","noviembre","diciembre","enero","febrero","marzo","abril","mayo","junio","julio","agosto","septiembre","octubre","noviembre","diciembre","enero","febrero","marzo","abril","mayo","junio","julio","agosto","septiembre","octubre","noviembre","diciembre","enero","febrero","marzo","abril","mayo","junio","julio","agosto","septiembre","octubre","noviembre","diciembre","enero","febrero","marzo","abril","mayo","junio","julio","agosto","septiembre","octubre","noviembre","diciembre","enero","febrero","marzo","abril","mayo","junio","julio","agosto","septiembre","octubre","noviembre","diciembre","enero","febrero","marzo","abril","mayo","junio","julio","agosto","agosto","octubre","noviembre","diciembre","enero","febrero","marzo","abril","mayo","junio","julio","agosto","agosto","octubre","noviembre","diciembre"]
[null,"Maxima participación de la generación renovable en la estructura de generación Islas Canarias ","2010-01-01","2010-02-01","2010-03-01","2010-04-01","2010-05-01","2010-06-01","2010-07-01","2010-08-01","2010-09-01","2010-10-01","2010-11-01","2010-12-01","2011-01-01","2011-02-01","2011-03-01","2011-04-01","2011-05-01","2011-06-01","2011-07-01","2011-08-01","2011-09-01","2011-10-01","2011-11-01","2011-12-01","2012-01-01","2012-02-01","2012-03-01","2012-04-01","2012-05-01","2012-06-01","2012-07-01","2012-08-01","2012-09-01","2012-10-01","2012-11-01","2012-12-01","2013-01-01","2013-02-01","2013-03-01","2013-04-01","2013-05-01","2013-06-01","2013-07-01","2013-08-01","2013-09-01","2013-10-01","2013-11-01","2013-12-01","2014-01-01","2014-02-01","2014-03-01","2014-04-01","2014-05-01","2014-06-01","2014-07-01","2014-08-01","2014-09-01","2014-10-01","2014-11-01","2014-12-01","2015-01-01","2015-02-01","2015-03-01","2015-04-01","2015-05-01","2015-06-01","2015-07-01","2015-08-01","2015-09-01","2015-10-01","2015-11-01","2015-12-01","2016-01-01","2016-02-01","2016-03-01","2016-04-01","2016-05-01","2016-06-01","2016-07-01","2016-08-01","2016-09-01","2016-10-01","2016-11-01","2016-12-01","2017-01-01","2017-02-01","2017-03-01","2017-04-01","2017-05-01","2017-06-01","2017-07-01","2017-08-01","2017-09-01","2017-10-01","2017-11-01","2017-12-01","2018-01-01","2018-02-01","2018-03-01","2018-04-01","2018-05-01","2018-06-01","2018-07-01","2018-08-01","2018-09-01","2018-10-01","2018-11-01","2018-12-01","2019-01-01","2019-02-01","2019-03-01","2019-04-01","2019-05-01","2019-06-01","2019-07-01","2019-08-01","2019-09-01","2019-10-01","2019-11-01","2019-12-01"]
[null,"Generación renovable (%)",11.3,9.8000000000000007,12.399999999999999,17.3,18.099999999999998,16.8,14.600000000000001,13,11,9.1,10.3,9.6,8.2608920491696569,12.510803976249903,13.130279647356954,15.146228969343456,11.367546917978327,12.605545659807118,15.226487356208803,13.317303015547729,12.255664806253041,10.506774877842505,8.2990165532767861,11.644173462159044,9.0019881649176146,12.975727304398326,13.386096703522663,14.54618966538186,14.491111280744686,15.63104259723862,15.002229257311846,13.64547368009806,9.6033010221320829,9.68009600841477,10.173730584611524,12.555505776838121,12.715669232393925,14.834370031527142,10.009958131281241,13.360155679218403,15.493613196619837,15.837527510096166,13.850305233242938,15.151717414028132,12.844746764682085,12.53209510672027,14.320116431869137,15.68020508297297,14.157667008266811,14.986113623905359,16.101624743533524,17.798477731592079,17.607489863949059,17.476433911175295,14.723760540197924,15.44531124031592,8.498774391631148,12.909794069687846,12.59107194252676,11.559026335213559,12.765392832747882,16.012261231927585,15.955407457511605,14.122763783014673,15.742706814143684,14.995054756737899,16.705468243108573,15.597424869886908,10.569108846704864,8.4631763735647976,11.797955137838578,8.1708613522539721,13.806372374858503,14.775969748504469,14.449205846168187,15.555331071908915,16.603527655562925,16.26481221642991,15.162806141619129,13.863840442411476,15.01197328639177,8.660072692937117,11.480247704462951,9.0302976436542259,10.339765226885429,12.228708068454699,14.319532400254516,13.069769671800499,14.939828926617555,17.665603262073443,16.484693632672606,14.58907788113441,16.601740690282675,17.995103108977965,14.008242983826284,17.027415201908209,18.958127097613048,18.326270409944399,21.108229457893373,19.89034356849508,25.599660635910958,22.729197250084333,21.749126715967339,19.395941437962328,17.229255342975367,13.757097881313873,20.438982593708445,18.700419363967999,23.378519877220029,"-","-","-","-","-","-","-","-","-","-","-"]
[null,"Día",24,21,7,4,30,20,11,1,29,25,1,17,31,28,29,10,22,16,10,14,18,14,22,18,16,4,19,15,20,10,1,5,1,11,30,25,23,10,4,15,19,21,2,4,9,30,1,29,23,27,26,27,30,1,20,24,30,5,2,10,24,17,1,29,20,1,5,23,4,6,23,21,30,15,10,9,15,26,31,1,25,11,12,17,10,18,12,4,14,4,23,19,17,1,10,13,27,28,30,29,13,2,15,30,9,15,3,15,28,"-","-","-","-","-","-","-","-","-","-","-"]
[null,null,"enero","febrero","marzo","abril","mayo","junio","julio","agosto","septiembre","octubre","noviembre","diciembre","enero","febrero","marzo","abril","mayo","junio","julio","agosto","septiembre","octubre","noviembre","diciembre","enero","febrero","marzo","abril","mayo","junio","julio","agosto","septiembre","octubre","noviembre","diciembre","enero","febrero","marzo","abril","mayo","junio","julio","agosto","septiembre","octubre","noviembre","diciembre","enero","febrero","marzo","abril","mayo","junio","julio","agosto","septiembre","octubre","noviembre","diciembre","enero","febrero","marzo","abril","mayo","junio","julio","agosto","septiembre","octubre","noviembre","diciembre","enero","febrero","marzo","abril","mayo","junio","julio","agosto","septiembre","octubre","noviembre","diciembre","enero","febrero","marzo","abril","mayo","junio","julio","agosto","septiembre","octubre","noviembre","diciembre","enero","febrero","marzo","abril","mayo","junio","julio","agosto","agosto","octubre","noviembre","diciembre","enero","febrero","marzo","abril","mayo","junio","julio","agosto","agosto","octubre","noviembre","diciembre"]
[null,"Maxima generación renovable Melilla","2010-01-01","2010-02-01","2010-03-01","2010-04-01","2010-05-01","2010-06-01","2010-07-01","2010-08-01","2010-09-01","2010-10-01","2010-11-01","2010-12-01","2011-01-01","2011-02-01","2011-03-01","2011-04-01","2011-05-01","2011-06-01","2011-07-01","2011-08-01","2011-09-01","2011-10-01","2011-11-01","2011-12-01","2012-01-01","2012-02-01","2012-03-01","2012-04-01","2012-05-01","2012-06-01","2012-07-01","2012-08-01","2012-09-01","2012-10-01","2012-11-01","2012-12-01","2013-01-01","2013-02-01","2013-03-01","2013-04-01","2013-05-01","2013-06-01","2013-07-01","2013-08-01","2013-09-01","2013-10-01","2013-11-01","2013-12-01","2014-01-01","2014-02-01","2014-03-01","2014-04-01","2014-05-01","2014-06-01","2014-07-01","2014-08-01","2014-09-01","2014-10-01","2014-11-01","2014-12-01","2015-01-01","2015-02-01","2015-03-01","2015-04-01","2015-05-01","2015-06-01","2015-07-01","2015-08-01","2015-09-01","2015-10-01","2015-11-01","2015-12-01","2016-01-01","2016-02-01","2016-03-01","2016-04-01","2016-05-01","2016-06-01","2016-07-01","2016-08-01","2016-09-01","2016-10-01","2016-11-01","2016-12-01","2017-01-01","2017-02-01","2017-03-01","2017-04-01","2017-05-01","2017-06-01","2017-07-01","2017-08-01","2017-09-01","2017-10-01","2017-11-01","2017-12-01","2018-01-01","2018-02-01","2018-03-01","2018-04-01","2018-05-01","2018-06-01","2018-07-01","2018-08-01","2018-09-01","2018-10-01","2018-11-01","2018-12-01","2019-01-01","2019-02-01","2019-03-01","2019-04-01","2019-05-01","2019-06-01","2019-07-01","2019-08-01","2019-09-01","2019-10-01","2019-11-01","2019-12-01"]
[null,"Generación renovable (MWh)",1,2,2,2,3,1,2,3,3,2,1,1,18.856999999999999,16.614999999999998,18.035,14.946999999999999,13.868499999999999,12.8965,15.2485,14.247,13.419,14.2925,8.0954999999999995,0.17399999999999999,0.23400000000000001,0.29799999999999999,0.32300000000000001,12.2525,0.36099999999999999,0.33700000000000002,0.32300000000000001,11.361499999999999,15.5905,14.163,14.256500000000001,14.496499999999999,14.0425,14.394500000000001,13.3185,15.952,13.6175,15.006,12.991,12.0175,12.976000000000001,16.995000000000001,17.189,17.761500000000002,16.066500000000001,17.7395,17.4955,16.481999999999999,14.9255,14.003,14.9015,14.170500000000001,14.846500000000001,14.443,15.919,17.651,15.943,16.126000000000001,15.6145,15.5205,15.683999999999999,13.913,12.507999999999999,12.734999999999999,14.204000000000001,15.8505,15.904999999999999,18.7575,17.209,15.929500000000001,17.1785,17.604500000000002,15.8005,15.269500000000001,15.154500000000001,15.080500000000001,17.878,18.244499999999999,19.822500000000002,19.694500000000001,17.534500000000001,17.763000000000002,16.0215,16.448499999999999,17.277000000000001,16.736499999999999,16.339500000000001,16.640999999999998,17.36,17.880500000000001,18.220500000000001,20.063500000000001,20.765499999999999,19.748999999999999,18.765499999999999,17.913499999999999,17.1905,17.7315,18.289000000000001,17.375499999999999,15.9095,17.100999999999999,19.782,20.782499999999999,19.371500000000001,"-","-","-","-","-","-","-","-","-","-","-"]
[null,"Día",3,1,1,2,1,1,1,1,1,3,3,1,9,4,4,15,24,7,27,20,30,29,1,6,31,26,18,28,21,12,1,27,28,28,27,16,9,8,23,19,31,6,3,30,24,24,2,13,24,14,6,25,1,27,3,7,23,28,30,4,18,16,6,25,22,18,29,1,29,4,3,7,16,14,31,7,21,25,1,30,28,30,4,3,12,8,1,25,31,4,1,12,16,10,30,7,12,4,2,11,12,7,23,3,28,6,30,24,1,"-","-","-","-","-","-","-","-","-","-","-"]
[null,null,"enero","febrero","marzo","abril","mayo","junio","julio","agosto","septiembre","octubre","noviembre","diciembre","enero","febrero","marzo","abril","mayo","junio","julio","agosto","septiembre","octubre","noviembre","diciembre","enero","febrero","marzo","abril","mayo","junio","julio","agosto","septiembre","octubre","noviembre","diciembre","enero","febrero","marzo","abril","mayo","junio","julio","agosto","septiembre","octubre","noviembre","diciembre","enero","febrero","marzo","abril","mayo","junio","julio","agosto","septiembre","octubre","noviembre","diciembre","enero","febrero","marzo","abril","mayo","junio","julio","agosto","septiembre","octubre","noviembre","diciembre","enero","febrero","marzo","abril","mayo","junio","julio","agosto","septiembre","octubre","noviembre","diciembre","enero","febrero","marzo","abril","mayo","junio","julio","agosto","septiembre","octubre","noviembre","diciembre","enero","febrero","marzo","abril","mayo","junio","julio","agosto","agosto","octubre","noviembre","diciembre","enero","febrero","marzo","abril","mayo","junio","julio","agosto","agosto","octubre","noviembre","diciembre"]
[null,"Maxima participación de la generación renovable en la estructura de generación Melilla","2010-01-01","2010-02-01","2010-03-01","2010-04-01","2010-05-01","2010-06-01","2010-07-01","2010-08-01","2010-09-01","2010-10-01","2010-11-01","2010-12-01","2011-01-01","2011-02-01","2011-03-01","2011-04-01","2011-05-01","2011-06-01","2011-07-01","2011-08-01","2011-09-01","2011-10-01","2011-11-01","2011-12-01","2012-01-01","2012-02-01","2012-03-01","2012-04-01","2012-05-01","2012-06-01","2012-07-01","2012-08-01","2012-09-01","2012-10-01","2012-11-01","2012-12-01","2013-01-01","2013-02-01","2013-03-01","2013-04-01","2013-05-01","2013-06-01","2013-07-01","2013-08-01","2013-09-01","2013-10-01","2013-11-01","2013-12-01","2014-01-01","2014-02-01","2014-03-01","2014-04-01","2014-05-01","2014-06-01","2014-07-01","2014-08-01","2014-09-01","2014-10-01","2014-11-01","2014-12-01","2015-01-01","2015-02-01","2015-03-01","2015-04-01","2015-05-01","2015-06-01","2015-07-01","2015-08-01","2015-09-01","2015-10-01","2015-11-01","2015-12-01","2016-01-01","2016-02-01","2016-03-01","2016-04-01","2016-05-01","2016-06-01","2016-07-01","2016-08-01","2016-09-01","2016-10-01","2016-11-01","2016-12-01","2017-01-01","2017-02-01","2017-03-01","2017-04-01","2017-05-01","2017-06-01","2017-07-01","2017-08-01","2017-09-01","2017-10-01","2017-11-01","2017-12-01","2018-01-01","2018-02-01","2018-03-01","2018-04-01","2018-05-01","2018-06-01","2018-07-01","2018-08-01","2018-09-01","2018-10-01","2018-11-01","2018-12-01","2019-01-01","2019-02-01","2019-03-01","2019-04-01","2019-05-01","2019-06-01","2019-07-01","2019-08-01","2019-09-01","2019-10-01","2019-11-01","2019-12-01"]
[null,"Generación renovable (%)",0.2,0.3,0.4,0.4,0.6,0.2,0.3,0.5,0.4,0.4,0.2,0.2,3.5368502395162404,3.0487644238368721,3.1557710851268994,2.9863474042381162,2.5556736497095076,2.3192473385995487,2.4115537567613026,2.2318432282388034,2.1990061738741762,2.7167301536613371,1.5457362653728726,3.2218969105380378E-2,3.6091495345559048E-2,5.4644407933341146E-2,6.444404541010755E-2,2.5704052915101694,7.1894260134325511E-2,6.1169050739917567E-2,5.8727059174330278E-2,1.6493537906373188,2.8288052820827456,2.7406405470831712,2.792393014505377,2.6988358693001251,2.4604595044816815,2.5907035630312896,2.67809763515285,2.9432929011878715,2.463230173416469,2.7951374612833377,2.2663759803245607,1.8911011882132562,2.1382788693916153,3.187140732174039,3.3413983559253131,3.1518959856542259,2.8816058745636211,3.1485724684330711,3.1252788530587794,3.397938949897914,2.9889856813858011,2.508050132756575,2.5302109032622853,2.2006149248225486,2.4603435018361637,2.6809763450361332,3.1448168503233913,3.4247455811462242,2.8656163780320121,2.947028217746511,3.0628838284260875,3.1349900099900103,3.0950113169672577,2.622729926190114,2.1213798506382364,1.9644592530889908,2.4209327851976088,3.1340585199325317,3.0340428972850586,3.7018069435892578,3.3438995215311005,3.0986422346716465,3.2953257151845681,3.5715728786309588,3.0842580934812949,2.8329680629911458,2.8608993614219753,2.7824254410371325,3.2764127352074146,3.5068379929073239,3.7473414730208745,3.7456399605932318,3.0733942330242585,3.2112073558443974,2.9112751590822779,3.476709848468519,3.1047287391501683,3.3208988541098265,3.0324429358063782,2.7224584416498021,4.0144842160382996,3.5349449778735935,3.2915247500058453,3.6425307891692413,3.6154419623669205,3.399388537226026,3.6972105594906144,3.6783353131168526,3.3907314812075309,3.2844496448839569,3.0884461752473724,2.7240739578320396,2.6580901791880001,2.9798237650572492,3.82268408504879,3.90762553400576,3.7948956043740774,"-","-","-","-","-","-","-","-","-","-","-"]
[null,"Día",3,1,1,2,1,1,1,1,1,3,3,1,9,13,6,2,14,4,10,31,8,29,1,4,29,26,18,29,1,10,1,26,29,28,11,16,12,9,24,19,31,8,2,18,22,27,1,8,12,23,30,17,1,1,3,8,23,25,30,6,18,15,8,26,24,7,5,1,29,11,1,7,1,14,31,10,21,19,17,14,25,30,1,3,6,12,10,23,28,4,1,12,18,22,1,8,6,20,29,22,12,10,18,22,9,6,3,8,1,"-","-","-","-","-","-","-","-","-","-","-"]
[null,null,"enero","febrero","marzo","abril","mayo","junio","julio","agosto","septiembre","octubre","noviembre","diciembre","enero","febrero","marzo","abril","mayo","junio","julio","agosto","septiembre","octubre","noviembre","diciembre","enero","febrero","marzo","abril","mayo","junio","julio","agosto","septiembre","octubre","noviembre","diciembre","enero","febrero","marzo","abril","mayo","junio","julio","agosto","septiembre","octubre","noviembre","diciembre","enero","febrero","marzo","abril","mayo","junio","julio","agosto","septiembre","octubre","noviembre","diciembre","enero","febrero","marzo","abril","mayo","junio","julio","agosto","septiembre","octubre","noviembre","diciembre","enero","febrero","marzo","abril","mayo","junio","julio","agosto","septiembre","octubre","noviembre","diciembre","enero","febrero","marzo","abril","mayo","junio","julio","agosto","septiembre","octubre","noviembre","diciembre","enero","febrero","marzo","abril","mayo","junio","julio","agosto","agosto","octubre","noviembre","diciembre","enero","febrero","marzo","abril","mayo","junio","julio","agosto","agosto","octubre","noviembre","diciembre"]
[null,"Maxima generación renovable nacional","2010-01-01","2010-02-01","2010-03-01","2010-04-01","2010-05-01","2010-06-01","2010-07-01","2010-08-01","2010-09-01","2010-10-01","2010-11-01","2010-12-01","2011-01-01","2011-02-01","2011-03-01","2011-04-01","2011-05-01","2011-06-01","2011-07-01","2011-08-01","2011-09-01","2011-10-01","2011-11-01","2011-12-01","2012-01-01","2012-02-01","2012-03-01","2012-04-01","2012-05-01","2012-06-01","2012-07-01","2012-08-01","2012-09-01","2012-10-01","2012-11-01","2012-12-01","2013-01-01","2013-02-01","2013-03-01","2013-04-01","2013-05-01","2013-06-01","2013-07-01","2013-08-01","2013-09-01","2013-10-01","2013-11-01","2013-12-01","2014-01-01","2014-02-01","2014-03-01","2014-04-01","2014-05-01","2014-06-01","2014-07-01","2014-08-01","2014-09-01","2014-10-01","2014-11-01","2014-12-01","2015-01-01","2015-02-01","2015-03-01","2015-04-01","2015-05-01","2015-06-01","2015-07-01","2015-08-01","2015-09-01","2015-10-01","2015-11-01","2015-12-01","2016-01-01","2016-02-01","2016-03-01","2016-04-01","2016-05-01","2016-06-01","2016-07-01","2016-08-01","2016-09-01","2016-10-01","2016-11-01","2016-12-01","2017-01-01","2017-02-01","2017-03-01","2017-04-01","2017-05-01","2017-06-01","2017-07-01","2017-08-01","2017-09-01","2017-10-01","2017-11-01","2017-12-01","2018-01-01","2018-02-01","2018-03-01","2018-04-01","2018-05-01","2018-06-01","2018-07-01","2018-08-01","2018-09-01","2018-10-01","2018-11-01","2018-12-01","2019-01-01","2019-02-01","2019-03-01","2019-04-01","2019-05-01","2019-06-01","2019-07-01","2019-08-01","2019-09-01","2019-10-01","2019-11-01","2019-12-01"]
[null,"Generación renovable (GWh)",418.32865849999996,445.03818109999997,452.3376035,384.69631770000001,424.11484250000001,310.67061609999996,281.78368900000004,258.45423629999999,265.23402599999997,329.53012770000004,385.50302129999994,406.0418411,450.02650971600002,417.70404198599999,422.81915542000002,355.65703128799998,357.838100188,353.18665765000003,293.43504100800004,284.76174763200004,242.25789070599998,305.01174371000008,353.67084587400001,376.73533750799999,336.42406220599992,400.25384433400001,325.59232717799995,433.94543088800003,383.22242386399995,354.50397721799999,266.4580811460001,316.66389802600003,332.05076534400001,348.83364495999996,390.458293002,411.45776509199993,487.94045582200005,505.04813609799999,476.84629425200001,453.51469075199998,419.30921880400001,384.96367936799999,304.23157158800007,334.47226543199997,306.66167671400007,347.06641533199996,420.17788013000001,432.24935119399993,506.69847448200005,513.73145803999989,493.61354898400003,477.86341368199993,392.34440109999997,372.43787397799997,368.39966945200001,306.27306077999998,261.6222391,299.95486579999999,413.76680113399993,403.28685972800002,471.343683602,496.74701861799997,469.47713841400002,370.59926907599998,391.41501276999998,334.15752979199999,315.35089201000005,318.63851062399999,370.50846475999998,361.24321794199994,402.26630560000001,325.99959355800007,486.49015398400002,513.28519883199999,483.35898883200002,449.666700166,426.23625897799997,375.06113496199993,336.69695397999999,383.65794081999996,266.05132528599995,265.46725989800001,320.48303413399998,262.30806355999999,403.460448058,416.56114512999994,409.66402356199995,375.57845378200005,355.97884490399997,397.41805574000006,282.86861424400001,291.88177290200002,279.26615642400003,268.30967763199999,348.48259899399994,395.59533068600001,395.55146534599999,403.85816424399997,544.08694371799993,483.59461899800004,423.85038925999999,366.12248580799996,301.56418306799998,288.50558617199999,324.34391874200003,354.501211678,374.23901570200002,389.42511185000006,477.10214373999997,"-","-","-","-","-","-","-","-","-","-","-"]
[null,"Día",14,24,9,8,4,19,6,13,7,31,9,24,22,21,16,11,15,1,19,9,18,24,6,16,2,3,8,19,21,11,13,31,24,27,28,14,23,6,13,9,31,27,9,2,11,22,5,26,28,13,4,4,22,15,9,13,17,16,15,1,30,24,5,1,8,17,3,23,16,5,21,28,11,15,10,5,13,14,14,10,13,23,8,19,17,5,13,19,11,28,18,10,10,30,13,27,4,21,20,11,3,18,16,18,24,29,10,13,31,"-","-","-","-","-","-","-","-","-","-","-"]
[null,null,"enero","febrero","marzo","abril","mayo","junio","julio","agosto","septiembre","octubre","noviembre","diciembre","enero","febrero","marzo","abril","mayo","junio","julio","agosto","septiembre","octubre","noviembre","diciembre","enero","febrero","marzo","abril","mayo","junio","julio","agosto","septiembre","octubre","noviembre","diciembre","enero","febrero","marzo","abril","mayo","junio","julio","agosto","septiembre","octubre","noviembre","diciembre","enero","febrero","marzo","abril","mayo","junio","julio","agosto","septiembre","octubre","noviembre","diciembre","enero","febrero","marzo","abril","mayo","junio","julio","agosto","septiembre","octubre","noviembre","diciembre","enero","febrero","marzo","abril","mayo","junio","julio","agosto","septiembre","octubre","noviembre","diciembre","enero","febrero","marzo","abril","mayo","junio","julio","agosto","septiembre","octubre","noviembre","diciembre","enero","febrero","marzo","abril","mayo","junio","julio","agosto","agosto","octubre","noviembre","diciembre","enero","febrero","marzo","abril","mayo","junio","julio","agosto","agosto","octubre","noviembre","diciembre"]
[null,"Maxima participación de la generación renovable en la estructura de generación nacional","2010-01-01","2010-02-01","2010-03-01","2010-04-01","2010-05-01","2010-06-01","2010-07-01","2010-08-01","2010-09-01","2010-10-01","2010-11-01","2010-12-01","2011-01-01","2011-02-01","2011-03-01","2011-04-01","2011-05-01","2011-06-01","2011-07-01","2011-08-01","2011-09-01","2011-10-01","2011-11-01","2011-12-01","2012-01-01","2012-02-01","2012-03-01","2012-04-01","2012-05-01","2012-06-01","2012-07-01","2012-08-01","2012-09-01","2012-10-01","2012-11-01","2012-12-01","2013-01-01","2013-02-01","2013-03-01","2013-04-01","2013-05-01","2013-06-01","2013-07-01","2013-08-01","2013-09-01","2013-10-01","2013-11-01","2013-12-01","2014-01-01","2014-02-01","2014-03-01","2014-04-01","2014-05-01","2014-06-01","2014-07-01","2014-08-01","2014-09-01","2014-10-01","2014-11-01","2014-12-01","2015-01-01","2015-02-01","2015-03-01","2015-04-01","2015-05-01","2015-06-01","2015-07-01","2015-08-01","2015-09-01","2015-10-01","2015-11-01","2015-12-01","2016-01-01","2016-02-01","2016-03-01","2016-04-01","2016-05-01","2016-06-01","2016-07-01","2016-08-01","2016-09-01","2016-10-01","2016-11-01","2016-12-01","2017-01-01","2017-02-01","2017-03-01","2017-04-01","2017-05-01","2017-06-01","2017-07-01","2017-08-01","2017-09-01","2017-10-01","2017-11-01","2017-12-01","2018-01-01","2018-02-01","2018-03-01","2018-04-01","2018-05-01","2018-06-01","2018-07-01","2018-08-01","2018-09-01","2018-10-01","2018-11-01","2018-12-01","2019-01-01","2019-02-01","2019-03-01","2019-04-01","2019-05-01","2019-06-01","2019-07-01","2019-08-01","2019-09-01","2019-10-01","2019-11-01","2019-12-01"]
[null,"Generación renovable (%)",54.8,52.4,54.1,49.900000000000006,53.999999999999993,47.699999999999996,38.299999999999997,33.799999999999997,36.4,48.900000000000006,47.400000000000006,53.8,54.464898849391496,49.595556435560582,52.023081949476946,49.815110640292112,56.9536101498162,46.586335075923827,40.091640365395484,36.464845583467401,36.88783524377115,41.419942973457019,50.660259403802613,44.466688792316639,42.598079111426898,40.407267946559969,39.563952010939538,51.219340798792921,49.085111461032682,48.253558584423317,39.048791854146288,40.296231559254601,45.572372381921802,49.610670872305249,51.440540046409986,51.969701807689525,55.244470824935853,59.452410189978103,54.972980034700988,58.844363105214924,58.205011002011318,57.267828476660341,40.212865298454162,41.61513862464696,46.541497628013218,46.882328207030255,54.907030753337402,58.400855210235704,59.319510887046846,61.498562369219719,60.985098212760789,58.999220403961772,55.738388839821937,55.756403842027993,46.949984305322396,45.475801225700565,34.379588266468112,42.800590105964893,56.621787612959771,52.62455374327655,59.445456763099969,57.491889216414648,57.711241081952871,50.223291701336123,56.536308424034509,44.379269077358266,37.54153884940785,47.687632464358813,48.542834684143884,50.764186717334667,56.073739862885141,47.148353468106173,60.823248995122078,68.288292070211568,58.142081627929201,58.060408242351556,60.810248973110191,49.995921725861457,43.720687256206183,51.277011167986075,40.591010260670174,38.312713581547591,47.540994389516769,37.998175083519378,42.775973959318776,54.963239394537567,52.582063629216989,52.042967628881755,50.33053011070777,51.902012399955787,42.344728590348531,41.670607410247541,44.068185817105167,41.655114368072901,45.473550696917123,51.838822806582641,52.485567039492786,49.005438649661897,64.967036900960011,59.108314508451855,57.828901552514353,52.504685261752812,41.185402003157719,44.253983818651612,40.657562600047171,45.574227776404157,54.992780411834183,49.99857974230396,54.523968941609169,"-","-","-","-","-","-","-","-","-","-","-"]
[null,"Día",1,24,30,3,15,20,25,13,12,31,1,25,22,27,27,10,15,2,17,9,18,23,13,24,2,3,18,18,21,10,1,31,23,27,1,15,20,2,11,6,31,1,28,2,29,22,24,25,4,1,4,25,3,15,9,16,17,18,15,28,31,24,5,1,16,17,3,23,16,5,21,28,11,13,5,30,1,14,14,10,17,23,20,17,17,5,13,19,11,28,2,6,10,28,5,27,4,21,11,11,4,18,16,18,24,29,10,16,31,"-","-","-","-","-","-","-","-","-","-","-"]
[null,null,"enero","febrero","marzo","abril","mayo","junio","julio","agosto","septiembre","octubre","noviembre","diciembre","enero","febrero","marzo","abril","mayo","junio","julio","agosto","septiembre","octubre","noviembre","diciembre","enero","febrero","marzo","abril","mayo","junio","julio","agosto","septiembre","octubre","noviembre","diciembre","enero","febrero","marzo","abril","mayo","junio","julio","agosto","septiembre","octubre","noviembre","diciembre","enero","febrero","marzo","abril","mayo","junio","julio","agosto","septiembre","octubre","noviembre","diciembre","enero","febrero","marzo","abril","mayo","junio","julio","agosto","septiembre","octubre","noviembre","diciembre","enero","febrero","marzo","abril","mayo","junio","julio","agosto","septiembre","octubre","noviembre","diciembre","enero","febrero","marzo","abril","mayo","junio","julio","agosto","septiembre","octubre","noviembre","diciembre","enero","febrero","marzo","abril","mayo","junio","julio","agosto","septiembre","octubre","noviembre","diciembre","enero","febrero","marzo","abril","mayo","junio","julio","agosto","agosto","octubre","noviembre","diciembre"]
[null,"Maxima generación renovable peninsular","2010","2011","2012","2013","2014","2015","2016","2017","2018","2019","2020","2021","2022","2023","2024","2025"]
[null,"Generación renovable (GWh)",448.96560350000004,448.83310021599999,430.20849988800001,502.65766709799999,511.45499003999998,492.73860011800002,509.40102483200002,413.57147963,539.278649718,474.83674573999997,"-","-","-","-","-","-"]
[null,"Día","9 de marzo","22 de enero","19 de abril","6 de febrero","13 de febrero","24 de febrero","15 de febrero","5 de febrero","20 de marzo","31 de enero","-","-","-","-","-","-"]
[]
[null,"Maxima participación de la generación renovable en la estructura de generación peninsular ","2010","2011","2012","2013","2014","2015","2016","2017","2018","2019","2020","2021","2022","2023","2024","2025"]
[null,"Generación renovable (%)",58,60.045650729410461,54.123776814924383,61.731616308848757,64.174020357764846,61.863017624775608,71.084693488031434,57.016904146707546,67.672370256205085,56.726359428026342,"-","-","-","-","-","-"]
[null,"Día","1 de enero","15 de mayo","15 de diciembre","2 de febrero","1 de febrero","31 de enero","13 de febrero","5 de febrero","11 de marzo","31 de enero","-","-","-","-","-","-"]
[]
[null,"Maxima generación renovable Islas Baleares","2010","2011","2012","2013","2014","2015","2016","2017","2018","2019","2020","2021","2022","2023","2024","2025"]
[null,"Generación renovable (MWh)",447,929.21450000000004,1000.7865,1022.0395,1030.8855000000001,1076.4804999999999,1041.0975000000001,1009.9215,1042.7764999999999,673.00850000000003,"-","-","-","-","-","-"]
[null,"Día","8 de agosto","14 de junio","17 de julio","5 de julio","1 de julio","28 de mayo","4 de mayo","7 de abril","2 de mayo","6 de enero","-","-","-","-","-","-"]
[]
[null,"Maxima participación de la generación renovable en la estructura de generación Islas Baleares ","2010","2011","2012","2013","2014","2015","2016","2017","2018","2019","2020","2021","2022","2023","2024","2025"]
[null,"Generación renovable (%)",2.6,6.6406981110758059,7.6851542871077125,9.1609909928980127,10.665303110772797,10.705125716394564,10.183589183771936,9.6065641604271139,8.7165538841565962,6.7719566853813822,"-","-","-","-","-","-"]
[null,"Día","9 de mayo","12 de noviembre","6 de diciembre","2 de junio","13 de abril","29 de marzo","10 de abril","30 de marzo","2 de mayo","6 de enero","-","-","-","-","-","-"]
[]
[null,"Maxima generación renovable Islas Canarias","2010","2011","2012","2013","2014","2015","2016","2017","2018","2019","2020","2021","2022","2023","2024","2025"]
[null,"Generación renovable (MWh)",3716,3344.3670000000002,3397.8440000000001,3714.84,3798.6120000000001,3659.2820000000002,3617,4212.8490000000002,5430.7340000000004,5803.0469999999996,"-","-","-","-","-","-"]
[null,"Día","30 de mayo","10 de julio","11 de junio","21 de junio","9 de mayo","20 de mayo","12 de julio","13 de diciembre","12 de mayo","28 de enero","-","-","-","-","-","-"]
[]
[null,"Maxima participación de la generación renovable en la estructura de generación Islas Canarias ","2010","2011","2012","2013","2014","2015","2016","2017","2018","2019","2020","2021","2022","2023","2024","2025"]
[null,"Generación renovable (%)",18.099999999999998,15.226487356208803,15.63104259723862,15.837527510096166,17.798477731592079,16.705468243108573,16.603527655562925,17.995103108977965,25.599660635910958,23.378519877220029,"-","-","-","-","-","-"]
[null,"Día","30 de mayo","10 de julio","10 de junio","21 de junio","27 de abril","5 de julio","15 de mayo","1 de octubre","13 de mayo","28 de enero","-","-","-","-","-","-"]
[]
[null,"Maxima generación renovable Melilla","2010","2011","2012","2013","2014","2015","2016","2017","2018","2019","2020","2021","2022","2023","2024","2025"]
[null,"Generación renovable (MWh)",3,18.856999999999999,15.5905,17.761500000000002,17.7395,18.7575,19.822500000000002,20.063500000000001,20.782499999999999,19.371500000000001,"-","-","-","-","-","-"]
[null,"Día","1 de mayo","9 de enero","28 de septiembre","13 de diciembre","14 de febrero","7 de diciembre","4 de noviembre","7 de diciembre","24 de diciembre","1 de enero","-","-","-","-","-","-"]
[]
[null,"Maxima participación de la generación renovable en la estructura de generación Melilla","2010","2011","2012","2013","2014","2015","2016","2017","2018","2019","2020","2021","2022","2023","2024","2025"]
[null,"Generación renovable (%)",0.6,3.5368502395162404,2.8288052820827456,3.3413983559253131,3.4247455811462242,3.7018069435892578,3.7473414730208745,4.0144842160382996,3.90762553400576,3.7948956043740774,"-","-","-","-","-","-"]
[null,"Día","1 de mayo","9 de enero","29 de septiembre","1 de noviembre","6 de diciembre","7 de diciembre","1 de noviembre","18 de septiembre","8 de diciembre","1 de enero","-","-","-","-","-","-"]
[]
[null,"Maxima generación renovable nacional","2010","2011","2012","2013","2014","2015","2016","2017","2018","2019","2020","2021","2022","2023","2024","2025"]
[null,"Generación renovable (GWh)",452.3376035,450.02650971600002,433.94543088800003,505.04813609799999,513.73145803999989,496.74701861799997,513.28519883199999,416.56114512999994,544.08694371799993,477.10214373999997,"-","-","-","-","-","-"]
[null,"Día","9 de marzo","22 de enero","19 de abril","6 de febrero","13 de febrero","24 de febrero","15 de febrero","5 de febrero","20 de marzo","31 de enero","-","-","-","-","-","-"]
[]
[null,"Maxima participación de la generación renovable en la estructura de generación nacional","2010","2011","2012","2013","2014","2015","2016","2017","2018","2019","2020","2021","2022","2023","2024","2025"]
[null,"Generación renovable (%)",54.8,56.9536101498162,51.969701807689525,59.452410189978103,61.498562369219719,59.445456763099969,68.288292070211568,54.963239394537567,64.967036900960011,54.523968941609169,"-","-","-","-","-","-"]
[null,"Día","1 de enero","15 de mayo","15 de diciembre","2 de febrero","1 de febrero","31 de enero","13 de febrero","5 de febrero","11 de marzo","31 de enero","-","-","-","-","-","-"]

{"sheet":"Mozart Reports","index":32,"n_rows":10,"n_cols":2,"rows_kept":10,"cut":false,"hidden":true,"merged":[]}
[9,"eaa0074739eb4f4989b5098534aa2102"]
["<mi app=\"e\" ver=\"22\"><rptloc guid=\"0ef3c08424b24e6191efb2b8d1968d00\" rank=\"0\" ds=\"1\"><ri hasPG=\"0\" name=\"Maximos Renovable Peninsula\" id=\"FABBAD25410B1E0955A1BDA5488A013D\" path=\"Objetos públicos\\Informes\\Informes macros\\Series Estadisticas\\Maximos Renovable Peninsula\" cf=\"0\" prompt=\"1\" ve=\"0\" vm=\"0\" flashpth=\"d:\\Usuarios\\RODORTJO\\AppData\\Local\\Temp\\1\\\" fimagepth=\"d:\\Usuarios\\RODORTJO\\AppData\\Local\\Temp\\1\\\" swfn=\"DashboardViewer.swf\" fvars=\"\" dvis=\"\"><ans /><ci ps=\"BI\" srv=\"apcpr64b\" prj=\"BDEbi\" prjid=\"D066E1C611E6257C10D00080EF253B44\" li=\"RODORTJO\" am=\"s\" /><lu ut=\"02/11/2019 12:56:52\" si=\"2.00000001247f34cfcd534ea749cce68af9dd569674a2cb433216867290a054a9b2e5d188003a85843edb3fcfb536b067112eaec804a0d70068689f74d4a89538a0b9b3c50aa8296d4ab209a3bd2cc8082defb7f8e777c239bb347301342b82648366ccede072a7331df7030305ee0694e767071d1b9cba2dc7e881ab506470b9c7e4.3082.0.1.Europe/Madrid.upriv*_1*_pidn2*_54*_session*-lat*_1.00000001504155a68dafeb3b7b8768eb3cd92f6a93bcab4fc04652b92d20c1585daab91a84751e13eb507f6b0fe00b043235ad880ad9cbba.0000000196679b473fa363df8534a17abaf5f296bf8b3a336f7277cc617063b29a31144a63d15562d0e1f2d8f8aefca1a03707a43dcc74c2.0.1.1.BDEbi.D066E1C611E6257C10D00080EF253B44.0-3082.1.1_-0.1.0_-3082.1.1_5.5.0.*0.000000019b4d878860e45d179a70ca847c2d3607c911585ab806c42ee2963406a385af4ab33b12d8.0.10*.25*.15*.214.23.10*.4*.0400*.0074J.e.00000001d5a609c37d037ca2439018bc8765dfdec911585abcd4f2cec46499f7fc34cdf16ff55bfd.0\" msgID=\"257811A111E92DFCCB930080EFF5A469\" /></ri><do pa=\"6\" cfmt=\"0\" fmt=\"1\" saf=\"0\" hd=\"0\" afg=\"1\" rafg=\"1\" arh=\"1\" gosdo=\"0\" cwd=\"1\" ab=\"0\" af=\"1\" om=\"0\" ag=\"0\" lck=\"0\" ppt=\"3\" wpt=\"3\" dai=\"0\" rscd=\"1\" rsrgb=\"1\" rsrl=\"1\" cit=\"2\" c2d=\"1\" cdf=\"0\" cdt=\"0\" dtlk=\"1\" gaf=\"17\" fqg=\"0\" xqg=\"0\" don=\"0\" dcom=\"0\" oaw=\"0\" tws=\"0\" ssm=\"1\" ssn=\"MSTRStyle.Todos\" glo=\"11101\" pgsel=\"4\" phdr=\"1\" rdc=\"0\" adt=\"0\" rsoox=\"0\" eco=\"1\" ecfw=\"400\" ecfh=\"300\" ecfsu=\"1\" ecwr=\"100\" echr=\"100\" eclar=\"1\" ecrups=\"1\"><details dbit=\"11169976358211\" dsel=\"239\" /></do><excel><epo ews=\"BDE Ren\" ece=\"A2\" enr=\"MSTR.Maximos_Renovable_Peninsula\" ptn=\"\" qtn=\"\" rows=\"36\" cols=\"98\" /><esdo ews=\"\" ece=\"\" ptn=\"\" /></excel><pgs><pg rows=\"32\" cols=\"97\" nrr=\"480\" nrc=\"1063\"><pg /><bls><bl sr=\"1\" sc=\"1\" rfetch=\"32\" cfetch=\"97\" posid=\"1\" darows=\"0\" dacols=\"1\"><excel><epo ews=\"BDE Ren\" ece=\"A2\" enr=\"MSTR.Maximos_Renovable_Peninsula\" ptn=\"\" qtn=\"\" rows=\"36\" cols=\"98\" /><esdo ews=\"\" ece=\"\" ptn=\"\" /></excel><gridRng><sect id=\"TITLE_AREA\" rngprop=\"1:1:4:1\" /><sect id=\"ROWHEADERS_AREA\" rngprop=\"5:1:32:1\" /><sect id=\"COLUMNHEADERS_AREA\" rngprop=\"1:2:4:97\" /><sect id=\"DATA_AREA\" rngprop=\"5:2:32:97\" /></gridRng><shapes /></bl></bls></pg></pgs></rptloc></mi>"]
["<mi app=\"e\" ver=\"22\"><rptloc guid=\"1be746da728f4922908d89d63359a59f\" rank=\"0\" ds=\"1\"><ri hasPG=\"0\" name=\"Maximos Renovable Baleares\" id=\"57AD51B8447FE3E31A541C86EFF337F6\" path=\"Objetos públicos\\Informes\\Informes macros\\Series Estadisticas\\Maximos Renovable Baleares\" cf=\"0\" prompt=\"1\" ve=\"0\" vm=\"0\" flashpth=\"d:\\Usuarios\\RODORTJO\\AppData\\Local\\Temp\\1\\\" fimagepth=\"d:\\Usuarios\\RODORTJO\\AppData\\Local\\Temp\\1\\\" swfn=\"DashboardViewer.swf\" fvars=\"\" dvis=\"\"><ans /><ci ps=\"BI\" srv=\"apcpr64b\" prj=\"BDEbi\" prjid=\"D066E1C611E6257C10D00080EF253B44\" li=\"RODORTJO\" am=\"s\" /><lu ut=\"02/11/2019 12:56:58\" si=\"2.00000001247f34cfcd534ea749cce68af9dd569674a2cb433216867290a054a9b2e5d188003a85843edb3fcfb536b067112eaec804a0d70068689f74d4a89538a0b9b3c50aa8296d4ab209a3bd2cc8082defb7f8e777c239bb347301342b82648366ccede072a7331df7030305ee0694e767071d1b9cba2dc7e881ab506470b9c7e4.3082.0.1.Europe/Madrid.upriv*_1*_pidn2*_54*_session*-lat*_1.00000001504155a68dafeb3b7b8768eb3cd92f6a93bcab4fc04652b92d20c1585daab91a84751e13eb507f6b0fe00b043235ad880ad9cbba.0000000196679b473fa363df8534a17abaf5f296bf8b3a336f7277cc617063b29a31144a63d15562d0e1f2d8f8aefca1a03707a43dcc74c2.0.1.1.BDEbi.D066E1C611E6257C10D00080EF253B44.0-3082.1.1_-0.1.0_-3082.1.1_5.5.0.*0.000000019b4d878860e45d179a70ca847c2d3607c911585ab806c42ee2963406a385af4ab33b12d8.0.10*.25*.15*.214.23.10*.4*.0400*.0074J.e.00000001d5a609c37d037ca2439018bc8765dfdec911585abcd4f2cec46499f7fc34cdf16ff55bfd.0\" msgID=\"258E99CB11E92DFCCB930080EF658266\" /></ri><do pa=\"6\" cfmt=\"0\" fmt=\"1\" saf=\"0\" hd=\"0\" afg=\"1\" rafg=\"1\" arh=\"1\" gosdo=\"0\" cwd=\"1\" ab=\"0\" af=\"1\" om=\"0\" ag=\"0\" lck=\"0\" ppt=\"3\" wpt=\"3\" dai=\"0\" rscd=\"1\" rsrgb=\"1\" rsrl=\"1\" cit=\"2\" c2d=\"1\" cdf=\"0\" cdt=\"0\" dtlk=\"1\" gaf=\"17\" fqg=\"0\" xqg=\"0\" don=\"0\" dcom=\"0\" oaw=\"0\" tws=\"0\" ssm=\"1\" ssn=\"MSTRStyle.Todos\" glo=\"11101\" pgsel=\"4\" phdr=\"1\" rdc=\"0\" adt=\"0\" rsoox=\"0\" eco=\"1\" ecfw=\"400\" ecfh=\"300\" ecfsu=\"1\" ecwr=\"100\" echr=\"100\" eclar=\"1\" ecrups=\"1\"><details dbit=\"11169976358211\" dsel=\"239\" /></do><excel><epo ews=\"BDE Ren\" ece=\"A41\" enr=\"MSTR.Maximos_Renovable_Baleares\" ptn=\"\" qtn=\"\" rows=\"36\" cols=\"98\" /><esdo ews=\"\" ece=\"\" ptn=\"\" /></excel><pgs><pg rows=\"32\" cols=\"97\" nrr=\"320\" nrc=\"685\"><pg /><bls><bl sr=\"1\" sc=\"1\" rfetch=\"32\" cfetch=\"97\" posid=\"1\" darows=\"0\" dacols=\"1\"><excel><epo ews=\"BDE Ren\" ece=\"A41\" enr=\"MSTR.Maximos_Renovable_Baleares\" ptn=\"\" qtn=\"\" rows=\"36\" cols=\"98\" /><esdo ews=\"\" ece=\"\" ptn=\"\" /></excel><gridRng><sect id=\"TITLE_AREA\" rngprop=\"1:1:4:1\" /><sect id=\"ROWHEADERS_AREA\" rngprop=\"5:1:32:1\" /><sect id=\"COLUMNHEADERS_AREA\" rngprop=\"1:2:4:97\" /><sect id=\"DATA_AREA\" rngprop=\"5:2:32:97\" /></gridRng><shapes /></bl></bls></pg></pgs></rptloc></mi>"]
["<mi app=\"e\" ver=\"22\"><rptloc guid=\"636582edbcf74ad8b616e6838e7666bc\" rank=\"0\" ds=\"1\"><ri hasPG=\"0\" name=\"Geneneracion diaria Ceuta\" id=\"680418A146851DECE80C06AC6EA5390E\" path=\"Objetos públicos\\Informes\\Informes macros\\Series Estadisticas\\Geneneracion diaria Ceuta\" cf=\"0\" prompt=\"1\" ve=\"0\" vm=\"0\" flashpth=\"d:\\Usuarios\\RODORTJO\\AppData\\Local\\Temp\\1\\\" fimagepth=\"d:\\Usuarios\\RODORTJO\\AppData\\Local\\Temp\\1\\\" swfn=\"DashboardViewer.swf\" fvars=\"\" dvis=\"\"><ans /><ci ps=\"BI\" srv=\"apcpr64b\" prj=\"BDEbi\" prjid=\"D066E1C611E6257C10D00080EF253B44\" li=\"RODORTJO\" am=\"s\" /><lu ut=\"02/11/2019 12:56:49\" si=\"2.00000001247f34cfcd534ea749cce68af9dd569674a2cb433216867290a054a9b2e5d188003a85843edb3fcfb536b067112eaec804a0d70068689f74d4a89538a0b9b3c50aa8296d4ab209a3bd2cc8082defb7f8e777c239bb347301342b82648366ccede072a7331df7030305ee0694e767071d1b9cba2dc7e881ab506470b9c7e4.3082.0.1.Europe/Madrid.upriv*_1*_pidn2*_54*_session*-lat*_1.00000001504155a68dafeb3b7b8768eb3cd92f6a93bcab4fc04652b92d20c1585daab91a84751e13eb507f6b0fe00b043235ad880ad9cbba.0000000196679b473fa363df8534a17abaf5f296bf8b3a336f7277cc617063b29a31144a63d15562d0e1f2d8f8aefca1a03707a43dcc74c2.0.1.1.BDEbi.D066E1C611E6257C10D00080EF253B44.0-3082.1.1_-0.1.0_-3082.1.1_5.5.0.*0.000000019b4d878860e45d179a70ca847c2d3607c911585ab806c42ee2963406a385af4ab33b12d8.0.10*.25*.15*.214.23.10*.4*.0400*.0074J.e.00000001d5a609c37d037ca2439018bc8765dfdec911585abcd4f2cec46499f7fc34cdf16ff55bfd.0\" msgID=\"2570560411E92DFCCB930080EF75A266\" /></ri><do pa=\"6\" cfmt=\"0\" fmt=\"1\" saf=\"0\" hd=\"0\" afg=\"1\" rafg=\"1\" arh=\"1\" gosdo=\"0\" cwd=\"1\" ab=\"0\" af=\"1\" om=\"0\" ag=\"0\" lck=\"0\" ppt=\"3\" wpt=\"3\" dai=\"0\" rscd=\"1\" rsrgb=\"1\" rsrl=\"1\" cit=\"2\" c2d=\"1\" cdf=\"0\" cdt=\"0\" dtlk=\"1\" gaf=\"17\" fqg=\"0\" xqg=\"0\" don=\"0\" dcom=\"0\" oaw=\"0\" tws=\"0\" ssm=\"1\" ssn=\"MSTRStyle.Todos\" glo=\"11101\" pgsel=\"4\" phdr=\"1\" rdc=\"0\" adt=\"0\" rsoox=\"0\" eco=\"1\" ecfw=\"400\" ecfh=\"300\" ecfsu=\"1\" ecwr=\"100\" echr=\"100\" eclar=\"1\" ecrups=\"1\"><details dbit=\"11169976358211\" dsel=\"239\" /></do><excel><epo ews=\"BDE Gen\" ece=\"A197\" enr=\"MSTR.Geneneracion_diaria_Ceuta\" ptn=\"\" qtn=\"\" rows=\"34\" cols=\"98\" /><esdo ews=\"\" ece=\"\" ptn=\"\" /></excel><pgs><pg rows=\"31\" cols=\"97\" nrr=\"279\" nrc=\"685\"><pg /><bls><bl sr=\"1\" sc=\"1\" rfetch=\"31\" cfetch=\"97\" posid=\"1\" darows=\"0\" dacols=\"1\"><excel><epo ews=\"BDE Gen\" ece=\"A197\" enr=\"MSTR.Geneneracion_diaria_Ceuta\" ptn=\"\" qtn=\"\" rows=\"34\" cols=\"98\" /><esdo ews=\"\" ece=\"\" ptn=\"\" /></excel><gridRng><sect id=\"TITLE_AREA\" rngprop=\"1:1:3:1\" /><sect id=\"ROWHEADERS_AREA\" rngprop=\"4:1:31:1\" /><sect id=\"COLUMNHEADERS_AREA\" rngprop=\"1:2:3:97\" /><sect id=\"DATA_AREA\" rngprop=\"4:2:31:97\" /></gridRng><shapes /></bl></bls></pg></pgs></rptloc></mi>"]
["<mi app=\"e\" ver=\"22\"><rptloc guid=\"a35271934b6f476da750f6d833479ccd\" rank=\"0\" ds=\"1\"><ri hasPG=\"0\" name=\"Geneneracion diaria Melilla\" id=\"6EE832014CFC668B37B21DBB9519B3B5\" path=\"Objetos públicos\\Informes\\Informes macros\\Series Estadisticas\\Geneneracion diaria Melilla\" cf=\"0\" prompt=\"1\" ve=\"0\" vm=\"0\" flashpth=\"d:\\Usuarios\\RODORTJO\\AppData\\Local\\Temp\\1\\\" fimagepth=\"d:\\Usuarios\\RODORTJO\\AppData\\Local\\Temp\\1\\\" swfn=\"DashboardViewer.swf\" fvars=\"\" dvis=\"\"><ans /><ci ps=\"BI\" srv=\"apcpr64b\" prj=\"BDEbi\" prjid=\"D066E1C611E6257C10D00080EF253B44\" li=\"RODORTJO\" am=\"s\" /><lu ut=\"02/11/2019 12:57:58\" si=\"2.00000001247f34cfcd534ea749cce68af9dd569674a2cb433216867290a054a9b2e5d188003a85843edb3fcfb536b067112eaec804a0d70068689f74d4a89538a0b9b3c50aa8296d4ab209a3bd2cc8082defb7f8e777c239bb347301342b82648366ccede072a7331df7030305ee0694e767071d1b9cba2dc7e881ab506470b9c7e4.3082.0.1.Europe/Madrid.upriv*_1*_pidn2*_54*_session*-lat*_1.00000001504155a68dafeb3b7b8768eb3cd92f6a93bcab4fc04652b92d20c1585daab91a84751e13eb507f6b0fe00b043235ad880ad9cbba.0000000196679b473fa363df8534a17abaf5f296bf8b3a336f7277cc617063b29a31144a63d15562d0e1f2d8f8aefca1a03707a43dcc74c2.0.1.1.BDEbi.D066E1C611E6257C10D00080EF253B44.0-3082.1.1_-0.1.0_-3082.1.1_5.5.0.*0.000000019b4d878860e45d179a70ca847c2d3607c911585ab806c42ee2963406a385af4ab33b12d8.0.10*.25*.15*.214.23.10*.4*.0400*.0074J.e.00000001d5a609c37d037ca2439018bc8765dfdec911585abcd4f2cec46499f7fc34cdf16ff55bfd.0\" msgID=\"81AEB49311E92DFCCB930080EFE58469\" /></ri><do pa=\"6\" cfmt=\"0\" fmt=\"1\" saf=\"0\" hd=\"0\" afg=\"1\" rafg=\"1\" arh=\"1\" gosdo=\"0\" cwd=\"1\" ab=\"0\" af=\"1\" om=\"0\" ag=\"0\" lck=\"0\" ppt=\"3\" wpt=\"3\" dai=\"0\" rscd=\"1\" rsrgb=\"1\" rsrl=\"1\" cit=\"2\" c2d=\"1\" cdf=\"0\" cdt=\"0\" dtlk=\"1\" gaf=\"17\" fqg=\"0\" xqg=\"0\" don=\"0\" dcom=\"0\" oaw=\"0\" tws=\"0\" ssm=\"1\" ssn=\"MSTRStyle.Todos\" glo=\"11101\" pgsel=\"4\" phdr=\"1\" rdc=\"0\" adt=\"0\" rsoox=\"0\" eco=\"1\" ecfw=\"400\" ecfh=\"300\" ecfsu=\"1\" ecwr=\"100\" echr=\"100\" eclar=\"1\" ecrups=\"1\"><details dbit=\"11169976358211\" dsel=\"239\" /></do><excel><epo ews=\"BDE Gen\" ece=\"A119\" enr=\"MSTR.Geneneracion_diaria_Melilla\" ptn=\"\" qtn=\"\" rows=\"34\" cols=\"98\" /><esdo ews=\"\" ece=\"\" ptn=\"\" /></excel><pgs><pg rows=\"31\" cols=\"97\" nrr=\"310\" nrc=\"777\"><pg /><bls><bl sr=\"1\" sc=\"1\" rfetch=\"31\" cfetch=\"97\" posid=\"1\" darows=\"0\" dacols=\"1\"><excel><epo ews=\"BDE Gen\" ece=\"A119\" enr=\"MSTR.Geneneracion_diaria_Melilla\" ptn=\"\" qtn=\"\" rows=\"34\" cols=\"98\" /><esdo ews=\"\" ece=\"\" ptn=\"\" /></excel><gridRng><sect id=\"TITLE_AREA\" rngprop=\"1:1:3:1\" /><sect id=\"ROWHEADERS_AREA\" rngprop=\"4:1:31:1\" /><sect id=\"COLUMNHEADERS_AREA\" rngprop=\"1:2:3:97\" /><sect id=\"DATA_AREA\" rngprop=\"4:2:31:97\" /></gridRng><shapes /></bl></bls></pg></pgs></rptloc></mi>"]
["<mi app=\"e\" ver=\"22\"><rptloc guid=\"2d9dcaa552fb4b27a0eb247ca69ac7b5\" rank=\"0\" ds=\"1\"><ri hasPG=\"0\" name=\"Geneneracion diaria Baleares\" id=\"DAB124FF4E8AC0A409EF8EAEDB04D7F6\" path=\"Objetos públicos\\Informes\\Informes macros\\Series Estadisticas\\Geneneracion diaria Baleares\" cf=\"0\" prompt=\"1\" ve=\"0\" vm=\"0\" flashpth=\"d:\\Usuarios\\RODORTJO\\AppData\\Local\\Temp\\1\\\" fimagepth=\"d:\\Usuarios\\RODORTJO\\AppData\\Local\\Temp\\1\\\" swfn=\"DashboardViewer.swf\" fvars=\"\" dvis=\"\"><ans><pan pk=\"6383F02949E1244BCE94A09C4486F039@0@10\" aid=\"\" /></ans><ci ps=\"BI\" srv=\"apcpr64b\" prj=\"BDEbi\" prjid=\"D066E1C611E6257C10D00080EF253B44\" li=\"RODORTJO\" am=\"s\" /><lu ut=\"02/11/2019 12:56:55\" si=\"2.00000001247f34cfcd534ea749cce68af9dd569674a2cb433216867290a054a9b2e5d188003a85843edb3fcfb536b067112eaec804a0d70068689f74d4a89538a0b9b3c50aa8296d4ab209a3bd2cc8082defb7f8e777c239bb347301342b82648366ccede072a7331df7030305ee0694e767071d1b9cba2dc7e881ab506470b9c7e4.3082.0.1.Europe/Madrid.upriv*_1*_pidn2*_54*_session*-lat*_1.00000001504155a68dafeb3b7b8768eb3cd92f6a93bcab4fc04652b92d20c1585daab91a84751e13eb507f6b0fe00b043235ad880ad9cbba.0000000196679b473fa363df8534a17abaf5f296bf8b3a336f7277cc617063b29a31144a63d15562d0e1f2d8f8aefca1a03707a43dcc74c2.0.1.1.BDEbi.D066E1C611E6257C10D00080EF253B44.0-3082.1.1_-0.1.0_-3082.1.1_5.5.0.*0.000000019b4d878860e45d179a70ca847c2d3607c911585ab806c42ee2963406a385af4ab33b12d8.0.10*.25*.15*.214.23.10*.4*.0400*.0074J.e.00000001d5a609c37d037ca2439018bc8765dfdec911585abcd4f2cec46499f7fc34cdf16ff55bfd.0\" msgID=\"255706B811E92DFCCB930080EF85C266\" /></ri><do pa=\"6\" cfmt=\"0\" fmt=\"1\" saf=\"0\" hd=\"0\" afg=\"1\" rafg=\"1\" arh=\"1\" gosdo=\"0\" cwd=\"1\" ab=\"0\" af=\"1\" om=\"0\" ag=\"0\" lck=\"0\" ppt=\"3\" wpt=\"3\" dai=\"0\" rscd=\"1\" rsrgb=\"1\" rsrl=\"1\" cit=\"2\" c2d=\"1\" cdf=\"0\" cdt=\"0\" dtlk=\"1\" gaf=\"17\" fqg=\"0\" xqg=\"0\" don=\"0\" dcom=\"0\" oaw=\"0\" tws=\"0\" ssm=\"1\" ssn=\"MSTRStyle.Todos\" glo=\"11101\" pgsel=\"4\" phdr=\"1\" rdc=\"0\" adt=\"0\" rsoox=\"0\" eco=\"1\" ecfw=\"400\" ecfh=\"300\" ecfsu=\"1\" ecwr=\"100\" echr=\"100\" eclar=\"1\" ecrups=\"1\"><details dbit=\"11169976358211\" dsel=\"239\" /></do><excel><epo ews=\"BDE Gen\" ece=\"A41\" enr=\"MSTR.Geneneracion_diaria_Baleares\" ptn=\"\" qtn=\"\" rows=\"34\" cols=\"98\" /><esdo ews=\"\" ece=\"\" ptn=\"\" /></excel><pgs><pg rows=\"31\" cols=\"97\" nrr=\"341\" nrc=\"953\"><pg /><bls><bl sr=\"1\" sc=\"1\" rfetch=\"31\" cfetch=\"97\" posid=\"1\" darows=\"0\" dacols=\"1\"><excel><epo ews=\"BDE Gen\" ece=\"A41\" enr=\"MSTR.Geneneracion_diaria_Baleares\" ptn=\"\" qtn=\"\" rows=\"34\" cols=\"98\" /><esdo ews=\"\" ece=\"\" ptn=\"\" /></excel><gridRng><sect id=\"TITLE_AREA\" rngprop=\"1:1:3:1\" /><sect id=\"ROWHEADERS_AREA\" rngprop=\"4:1:31:1\" /><sect id=\"COLUMNHEADERS_AREA\" rngprop=\"1:2:3:97\" /><sect id=\"DATA_AREA\" rngprop=\"4:2:31:97\" /></gridRng><shapes /></bl></bls></pg></pgs></rptloc></mi>"]
["<mi app=\"e\" ver=\"22\"><rptloc guid=\"b60088dde4fb45b389d2333c50761409\" rank=\"0\" ds=\"1\"><ri hasPG=\"0\" name=\"Geneneracion diaria Peninsula\" id=\"13131AD0456FA19DDD480DAD90C2CCBD\" path=\"Objetos públicos\\Informes\\Informes macros\\Series Estadisticas\\Geneneracion diaria Peninsula\" cf=\"0\" prompt=\"1\" ve=\"0\" vm=\"0\" flashpth=\"d:\\Usuarios\\RODORTJO\\AppData\\Local\\Temp\\1\\\" fimagepth=\"d:\\Usuarios\\RODORTJO\\AppData\\Local\\Temp\\1\\\" swfn=\"DashboardViewer.swf\" fvars=\"\" dvis=\"\"><ans /><ci ps=\"BI\" srv=\"apcpr64b\" prj=\"BDEbi\" prjid=\"D066E1C611E6257C10D00080EF253B44\" li=\"RODORTJO\" am=\"s\" /><lu ut=\"02/11/2019 12:59:46\" si=\"2.00000001247f34cfcd534ea749cce68af9dd569674a2cb433216867290a054a9b2e5d188003a85843edb3fcfb536b067112eaec804a0d70068689f74d4a89538a0b9b3c50aa8296d4ab209a3bd2cc8082defb7f8e777c239bb347301342b82648366ccede072a7331df7030305ee0694e767071d1b9cba2dc7e881ab506470b9c7e4.3082.0.1.Europe/Madrid.upriv*_1*_pidn2*_54*_session*-lat*_1.00000001504155a68dafeb3b7b8768eb3cd92f6a93bcab4fc04652b92d20c1585daab91a84751e13eb507f6b0fe00b043235ad880ad9cbba.0000000196679b473fa363df8534a17abaf5f296bf8b3a336f7277cc617063b29a31144a63d15562d0e1f2d8f8aefca1a03707a43dcc74c2.0.1.1.BDEbi.D066E1C611E6257C10D00080EF253B44.0-3082.1.1_-0.1.0_-3082.1.1_5.5.0.*0.000000019b4d878860e45d179a70ca847c2d3607c911585ab806c42ee2963406a385af4ab33b12d8.0.10*.25*.15*.214.23.10*.4*.0400*.0074J.e.00000001d5a609c37d037ca2439018bc8765dfdec911585abcd4f2cec46499f7fc34cdf16ff55bfd.0\" msgID=\"8613997711E92DFCCB930080EF05C367\" /></ri><do pa=\"6\" cfmt=\"0\" fmt=\"1\" saf=\"0\" hd=\"0\" afg=\"1\" rafg=\"1\" arh=\"1\" gosdo=\"0\" cwd=\"1\" ab=\"0\" af=\"1\" om=\"0\" ag=\"0\" lck=\"0\" ppt=\"3\" wpt=\"3\" dai=\"0\" rscd=\"1\" rsrgb=\"1\" rsrl=\"1\" cit=\"2\" c2d=\"1\" cdf=\"0\" cdt=\"0\" dtlk=\"1\" gaf=\"17\" fqg=\"0\" xqg=\"0\" don=\"0\" dcom=\"0\" oaw=\"0\" tws=\"0\" ssm=\"1\" ssn=\"MSTRStyle.Todos\" glo=\"11101\" pgsel=\"4\" phdr=\"1\" rdc=\"0\" adt=\"0\" rsoox=\"0\" eco=\"1\" ecfw=\"400\" ecfh=\"300\" ecfsu=\"1\" ecwr=\"100\" echr=\"100\" eclar=\"1\" ecrups=\"1\"><details dbit=\"11169976358211\" dsel=\"239\" /></do><excel><epo ews=\"BDE Gen\" ece=\"A2\" enr=\"MSTR.Geneneracion_diaria_Peninsula\" ptn=\"\" qtn=\"\" rows=\"34\" cols=\"98\" /><esdo ews=\"\" ece=\"\" ptn=\"\" /></excel><pgs><pg rows=\"31\" cols=\"97\" nrr=\"279\" nrc=\"687\"><pg /><bls><bl sr=\"1\" sc=\"1\" rfetch=\"31\" cfetch=\"97\" posid=\"1\" darows=\"0\" dacols=\"1\"><excel><epo ews=\"BDE Gen\" ece=\"A2\" enr=\"MSTR.Geneneracion_diaria_Peninsula\" ptn=\"\" qtn=\"\" rows=\"34\" cols=\"98\" /><esdo ews=\"\" ece=\"\" ptn=\"\" /></excel><gridRng><sect id=\"TITLE_AREA\" rngprop=\"1:1:3:1\" /><sect id=\"ROWHEADERS_AREA\" rngprop=\"4:1:31:1\" /><sect id=\"COLUMNHEADERS_AREA\" rngprop=\"1:2:3:97\" /><sect id=\"DATA_AREA\" rngprop=\"4:2:31:97\" /></gridRng><shapes /></bl></bls></pg></pgs></rptloc></mi>"]
["<mi app=\"e\" ver=\"22\"><rptloc guid=\"2fc5ba2406454457a36eeb2dc9e5e7cd\" rank=\"0\" ds=\"1\"><ri hasPG=\"0\" name=\"Geneneracion diaria Canarias\" id=\"289B5A6644D86803542150AB4436A18D\" path=\"Objetos públicos\\Informes\\Informes macros\\Series Estadisticas\\Geneneracion diaria Canarias\" cf=\"0\" prompt=\"1\" ve=\"0\" vm=\"0\" flashpth=\"d:\\Usuarios\\RODORTJO\\AppData\\Local\\Temp\\1\\\" fimagepth=\"d:\\Usuarios\\RODORTJO\\AppData\\Local\\Temp\\1\\\" swfn=\"DashboardViewer.swf\" fvars=\"\" dvis=\"\"><ans /><ci ps=\"BI\" srv=\"apcpr64b\" prj=\"BDEbi\" prjid=\"D066E1C611E6257C10D00080EF253B44\" li=\"RODORTJO\" am=\"s\" /><lu ut=\"02/11/2019 12:58:01\" si=\"2.00000001247f34cfcd534ea749cce68af9dd569674a2cb433216867290a054a9b2e5d188003a85843edb3fcfb536b067112eaec804a0d70068689f74d4a89538a0b9b3c50aa8296d4ab209a3bd2cc8082defb7f8e777c239bb347301342b82648366ccede072a7331df7030305ee0694e767071d1b9cba2dc7e881ab506470b9c7e4.3082.0.1.Europe/Madrid.upriv*_1*_pidn2*_54*_session*-lat*_1.00000001504155a68dafeb3b7b8768eb3cd92f6a93bcab4fc04652b92d20c1585daab91a84751e13eb507f6b0fe00b043235ad880ad9cbba.0000000196679b473fa363df8534a17abaf5f296bf8b3a336f7277cc617063b29a31144a63d15562d0e1f2d8f8aefca1a03707a43dcc74c2.0.1.1.BDEbi.D066E1C611E6257C10D00080EF253B44.0-3082.1.1_-0.1.0_-3082.1.1_5.5.0.*0.000000019b4d878860e45d179a70ca847c2d3607c911585ab806c42ee2963406a385af4ab33b12d8.0.10*.25*.15*.214.23.10*.4*.0400*.0074J.e.00000001d5a609c37d037ca2439018bc8765dfdec911585abcd4f2cec46499f7fc34cdf16ff55bfd.0\" msgID=\"805A112211E92DFCCB930080EF85C46A\" /></ri><do pa=\"6\" cfmt=\"0\" fmt=\"1\" saf=\"0\" hd=\"0\" afg=\"1\" rafg=\"1\" arh=\"1\" gosdo=\"0\" cwd=\"1\" ab=\"0\" af=\"1\" om=\"0\" ag=\"0\" lck=\"0\" ppt=\"3\" wpt=\"3\" dai=\"0\" rscd=\"1\" rsrgb=\"1\" rsrl=\"1\" cit=\"2\" c2d=\"1\" cdf=\"0\" cdt=\"0\" dtlk=\"1\" gaf=\"17\" fqg=\"0\" xqg=\"0\" don=\"0\" dcom=\"0\" oaw=\"0\" tws=\"0\" ssm=\"1\" ssn=\"MSTRStyle.Todos\" glo=\"11101\" pgsel=\"4\" phdr=\"1\" rdc=\"0\" adt=\"0\" rsoox=\"0\" eco=\"1\" ecfw=\"400\" ecfh=\"300\" ecfsu=\"1\" ecwr=\"100\" echr=\"100\" eclar=\"1\" ecrups=\"1\"><details dbit=\"11169976358211\" dsel=\"239\" /></do><excel><epo ews=\"BDE Gen\" ece=\"A80\" enr=\"MSTR.Geneneracion_diaria_Canarias\" ptn=\"\" qtn=\"\" rows=\"34\" cols=\"98\" /><esdo ews=\"\" ece=\"\" ptn=\"\" /></excel><pgs><pg rows=\"31\" cols=\"97\" nrr=\"279\" nrc=\"765\"><pg /><bls><bl sr=\"1\" sc=\"1\" rfetch=\"31\" cfetch=\"97\" posid=\"1\" darows=\"0\" dacols=\"1\"><excel><epo ews=\"BDE Gen\" ece=\"A80\" enr=\"MSTR.Geneneracion_diaria_Canarias\" ptn=\"\" qtn=\"\" rows=\"34\" cols=\"98\" /><esdo ews=\"\" ece=\"\" ptn=\"\" /></excel><gridRng><sect id=\"TITLE_AREA\" rngprop=\"1:1:3:1\" /><sect id=\"ROWHEADERS_AREA\" rngprop=\"4:1:31:1\" /><sect id=\"COLUMNHEADERS_AREA\" rngprop=\"1:2:3:97\" /><sect id=\"DATA_AREA\" rngprop=\"4:2:31:97\" /></gridRng><shapes /></bl></bls></pg></pgs></rptloc></mi>"]
["<mi app=\"e\" ver=\"22\"><rptloc guid=\"5d3410ca8b3d43538549cad29360dabd\" rank=\"0\" ds=\"1\"><ri hasPG=\"0\" name=\"Maximos Renovable Canarias\" id=\"6EEB53BB419EC82D98340AA89B3B9830\" path=\"Objetos públicos\\Informes\\Informes macros\\Series Estadisticas\\Maximos Renovable Canarias\" cf=\"0\" prompt=\"1\" ve=\"0\" vm=\"0\" flashpth=\"d:\\Usuarios\\RODORTJO\\AppData\\Local\\Temp\\1\\\" fimagepth=\"d:\\Usuarios\\RODORTJO\\AppData\\Local\\Temp\\1\\\" swfn=\"DashboardViewer.swf\" fvars=\"\" dvis=\"\"><ans /><ci ps=\"BI\" srv=\"apcpr64b\" prj=\"BDEbi\" prjid=\"D066E1C611E6257C10D00080EF253B44\" li=\"RODORTJO\" am=\"s\" /><lu ut=\"02/11/2019 12:57:03\" si=\"2.00000001247f34cfcd534ea749cce68af9dd569674a2cb433216867290a054a9b2e5d188003a85843edb3fcfb536b067112eaec804a0d70068689f74d4a89538a0b9b3c50aa8296d4ab209a3bd2cc8082defb7f8e777c239bb347301342b82648366ccede072a7331df7030305ee0694e767071d1b9cba2dc7e881ab506470b9c7e4.3082.0.1.Europe/Madrid.upriv*_1*_pidn2*_54*_session*-lat*_1.00000001504155a68dafeb3b7b8768eb3cd92f6a93bcab4fc04652b92d20c1585daab91a84751e13eb507f6b0fe00b043235ad880ad9cbba.0000000196679b473fa363df8534a17abaf5f296bf8b3a336f7277cc617063b29a31144a63d15562d0e1f2d8f8aefca1a03707a43dcc74c2.0.1.1.BDEbi.D066E1C611E6257C10D00080EF253B44.0-3082.1.1_-0.1.0_-3082.1.1_5.5.0.*0.000000019b4d878860e45d179a70ca847c2d3607c911585ab806c42ee2963406a385af4ab33b12d8.0.10*.25*.15*.214.23.10*.4*.0400*.0074J.e.00000001d5a609c37d037ca2439018bc8765dfdec911585abcd4f2cec46499f7fc34cdf16ff55bfd.0\" msgID=\"25478E6811E92DFCCB930080EF250367\" /></ri><do pa=\"6\" cfmt=\"0\" fmt=\"1\" saf=\"0\" hd=\"0\" afg=\"1\" rafg=\"1\" arh=\"1\" gosdo=\"0\" cwd=\"1\" ab=\"0\" af=\"1\" om=\"0\" ag=\"0\" lck=\"0\" ppt=\"3\" wpt=\"3\" dai=\"0\" rscd=\"1\" rsrgb=\"1\" rsrl=\"1\" cit=\"2\" c2d=\"1\" cdf=\"0\" cdt=\"0\" dtlk=\"1\" gaf=\"17\" fqg=\"0\" xqg=\"0\" don=\"0\" dcom=\"0\" oaw=\"0\" tws=\"0\" ssm=\"1\" ssn=\"MSTRStyle.Todos\" glo=\"11101\" pgsel=\"4\" phdr=\"1\" rdc=\"0\" adt=\"0\" rsoox=\"0\" eco=\"1\" ecfw=\"400\" ecfh=\"300\" ecfsu=\"1\" ecwr=\"100\" echr=\"100\" eclar=\"1\" ecrups=\"1\"><details dbit=\"11169976358211\" dsel=\"239\" /></do><excel><epo ews=\"BDE Ren\" ece=\"A80\" enr=\"MSTR.Maximos_Renovable_Canarias.1\" ptn=\"\" qtn=\"\" rows=\"36\" cols=\"98\" /><esdo ews=\"\" ece=\"\" ptn=\"\" /></excel><pgs><pg rows=\"32\" cols=\"97\" nrr=\"224\" nrc=\"568\"><pg /><bls><bl sr=\"1\" sc=\"1\" rfetch=\"32\" cfetch=\"97\" posid=\"1\" darows=\"0\" dacols=\"1\"><excel><epo ews=\"BDE Ren\" ece=\"A80\" enr=\"MSTR.Maximos_Renovable_Canarias.1\" ptn=\"\" qtn=\"\" rows=\"36\" cols=\"98\" /><esdo ews=\"\" ece=\"\" ptn=\"\" /></excel><gridRng><sect id=\"TITLE_AREA\" rngprop=\"1:1:4:1\" /><sect id=\"ROWHEADERS_AREA\" rngprop=\"5:1:32:1\" /><sect id=\"COLUMNHEADERS_AREA\" rngprop=\"1:2:4:97\" /><sect id=\"DATA_AREA\" rngprop=\"5:2:32:97\" /></gridRng><shapes /></bl></bls></pg></pgs></rptloc></mi>"]
["<mi app=\"e\" ver=\"22\"><rptloc guid=\"386b7636fc2846cd82809b300d687cdc\" rank=\"0\" ds=\"1\"><ri hasPG=\"0\" name=\"Maximos Renovable Melilla\" id=\"05BC3B0047E571F44A4DD39DA4FD35F9\" path=\"Objetos públicos\\Informes\\Informes macros\\Series Estadisticas\\Maximos Renovable Melilla\" cf=\"0\" prompt=\"1\" ve=\"0\" vm=\"0\" flashpth=\"d:\\Usuarios\\RODORTJO\\AppData\\Local\\Temp\\1\\\" fimagepth=\"d:\\Usuarios\\RODORTJO\\AppData\\Local\\Temp\\1\\\" swfn=\"DashboardViewer.swf\" fvars=\"\" dvis=\"\"><ans /><ci ps=\"BI\" srv=\"apcpr64b\" prj=\"BDEbi\" prjid=\"D066E1C611E6257C10D00080EF253B44\" li=\"RODORTJO\" am=\"s\" /><lu ut=\"02/11/2019 12:59:44\" si=\"2.00000001247f34cfcd534ea749cce68af9dd569674a2cb433216867290a054a9b2e5d188003a85843edb3fcfb536b067112eaec804a0d70068689f74d4a89538a0b9b3c50aa8296d4ab209a3bd2cc8082defb7f8e777c239bb347301342b82648366ccede072a7331df7030305ee0694e767071d1b9cba2dc7e881ab506470b9c7e4.3082.0.1.Europe/Madrid.upriv*_1*_pidn2*_54*_session*-lat*_1.00000001504155a68dafeb3b7b8768eb3cd92f6a93bcab4fc04652b92d20c1585daab91a84751e13eb507f6b0fe00b043235ad880ad9cbba.0000000196679b473fa363df8534a17abaf5f296bf8b3a336f7277cc617063b29a31144a63d15562d0e1f2d8f8aefca1a03707a43dcc74c2.0.1.1.BDEbi.D066E1C611E6257C10D00080EF253B44.0-3082.1.1_-0.1.0_-3082.1.1_5.5.0.*0.000000019b4d878860e45d179a70ca847c2d3607c911585ab806c42ee2963406a385af4ab33b12d8.0.10*.25*.15*.214.23.10*.4*.0400*.0074J.e.00000001d5a609c37d037ca2439018bc8765dfdec911585abcd4f2cec46499f7fc34cdf16ff55bfd.0\" msgID=\"839BC0F711E92DFCCB930080EF658368\" /></ri><do pa=\"6\" cfmt=\"0\" fmt=\"1\" saf=\"0\" hd=\"0\" afg=\"1\" rafg=\"1\" arh=\"1\" gosdo=\"0\" cwd=\"1\" ab=\"0\" af=\"1\" om=\"0\" ag=\"0\" lck=\"0\" ppt=\"3\" wpt=\"3\" dai=\"0\" rscd=\"1\" rsrgb=\"1\" rsrl=\"1\" cit=\"2\" c2d=\"1\" cdf=\"0\" cdt=\"0\" dtlk=\"1\" gaf=\"17\" fqg=\"0\" xqg=\"0\" don=\"0\" dcom=\"0\" oaw=\"0\" tws=\"0\" ssm=\"1\" ssn=\"MSTRStyle.Todos\" glo=\"11101\" pgsel=\"4\" phdr=\"1\" rdc=\"0\" adt=\"0\" rsoox=\"0\" eco=\"1\" ecfw=\"400\" ecfh=\"300\" ecfsu=\"1\" ecwr=\"100\" echr=\"100\" eclar=\"1\" ecrups=\"1\"><details dbit=\"11169976358211\" dsel=\"239\" /></do><excel><epo ews=\"BDE Ren\" ece=\"A119\" enr=\"MSTR.Maximos_Renovable_Melilla.1\" ptn=\"\" qtn=\"\" rows=\"36\" cols=\"98\" /><esdo ews=\"\" ece=\"\" ptn=\"\" /></excel><pgs><pg rows=\"32\" cols=\"97\" nrr=\"224\" nrc=\"662\"><pg /><bls><bl sr=\"1\" sc=\"1\" rfetch=\"32\" cfetch=\"97\" posid=\"1\" darows=\"0\" dacols=\"1\"><excel><epo ews=\"BDE Ren\" ece=\"A119\" enr=\"MSTR.Maximos_Renovable_Melilla.1\" ptn=\"\" qtn=\"\" rows=\"36\" cols=\"98\" /><esdo ews=\"\" ece=\"\" ptn=\"\" /></excel><gridRng><sect id=\"TITLE_AREA\" rngprop=\"1:1:4:1\" /><sect id=\"ROWHEADERS_AREA\" rngprop=\"5:1:32:1\" /><sect id=\"COLUMNHEADERS_AREA\" rngprop=\"1:2:4:97\" /><sect id=\"DATA_AREA\" rngprop=\"5:2:32:97\" /></gridRng><shapes /></bl></bls></pg></pgs></rptloc></mi>"]

{"sheet":"Año","index":33,"n_rows":31,"n_cols":26,"rows_kept":31,"cut":false,"hidden":true,"merged":[]}
[null,null,null,null,null,null,null,null,null,null,null,null,null,null,null,null,null,null,null,null,null,null,null,1,1,1]
[null,1990,"1990-1997","2006-2013","2007-2014","2010-2014","2010-2017",null,null,null,null,null,null,"Generación","Nacional","Mensual"]
[null,1991,"1998-2005","2014-2021","2015-2022","2015-2019","2018-2025",null,null,null,null,null,null,"% Renovable","Peninsular","Anual"]
[null,1992,"2006-2013",null,null,null,null,null,null,null,null,null,null,"Máximos","Canarias"]
[null,1993,"2014-2021",null,null,null,null,null,null,null,null,null,null,null,"Baleares"]
[null,1994,null,null,null,null,null,null,null,null,null,null,null,null,"Melilla"]
[null,1995]
[null,1996]
[null,1997]
[null,1998]
[null,1999]
[null,2000]
[null,2001]
[null,2002]
[null,2003]
[null,2004]
[null,2005]
[null,2006]
[null,2007]
[null,2008]
[null,2009]
[null,2010]
[null,2011]
[null,2012]
[null,2013]
[null,2014]
[null,2015]
[null,2016]
[null,2017]
[null,2018]
[null,2019]

{"sheet":"Maximo renovable año I-V","index":34,"n_rows":23,"n_cols":12,"rows_kept":23,"cut":false,"hidden":true,"merged":[[22,1,22,11],[5,8,5,9],[7,2,7,3],[7,4,7,5],[7,6,7,7],[7,8,7,9],[7,10,7,11],[15,2,15,3],[15,4,15,5],[15,6,15,7],[15,8,15,9],[15,10,15,11]]}
[null,null,null,null,null,null,null,null,null,null,null,1]
[]
[null,null,null,null,null,null,null,null,null,"www.ree.es"]
[null,null,null,null,null,null,null,null,null,"Fecha de actualización:",null,"2016-04-11"]
[]
[null,null,null,null,null,null,null,null,"Seleccione un periodo"]
[]
[null,null,{"$f":"OFFSET('Maximos I-V'!C10,0,($L$1-1)*10)","v":"2010"},{"$f":"OFFSET(#REF!,0,($L$1-1)*12)","v":{"$error":"#REF!"}},{"$f":"OFFSET('Maximos I-V'!E10,0,($L$1-1)*10)","v":"2011"},{"$f":"OFFSET(#REF!,0,($L$1-1)*12)","v":{"$error":"#REF!"}},{"$f":"OFFSET('Maximos I-V'!G10,0,($L$1-1)*10)","v":"2012"},{"$f":"OFFSET(#REF!,0,($L$1-1)*12)","v":{"$error":"#REF!"}},{"$f":"OFFSET('Maximos I-V'!I10,0,($L$1-1)*10)","v":"2013"},{"$f":"OFFSET(#REF!,0,($L$1-1)*12)","v":{"$error":"#REF!"}},{"$f":"OFFSET('Maximos I-V'!K10,0,($L$1-1)*10)","v":"2014"},{"$f":"OFFSET(#REF!,0,($L$1-1)*12)","v":{"$error":"#REF!"}}]
[]
[null,null,"Invierno","Verano","Invierno","Verano","Invierno","Verano","Invierno","Verano","Invierno","Verano"]
[null,"Generación renovable (GWh)",{"$f":"OFFSET('Maximos I-V'!C12,0,($L$1-1)*10)","v":448.96560350000004},{"$f":"OFFSET('Maximos I-V'!D12,0,($L$1-1)*10)","v":309.53562019999998},{"$f":"OFFSET('Maximos I-V'!E12,0,($L$1-1)*10)","v":448.09747239999996},{"$f":"OFFSET('Maximos I-V'!F12,0,($L$1-1)*10)","v":347.31630860000007},{"$f":"OFFSET('Maximos I-V'!G12,0,($L$1-1)*10)","v":423.02411649999999},{"$f":"OFFSET('Maximos I-V'!H12,0,($L$1-1)*10)","v":343.94804999999997},{"$f":"OFFSET('Maximos I-V'!I12,0,($L$1-1)*10)","v":497.41206579999999},{"$f":"OFFSET('Maximos I-V'!J12,0,($L$1-1)*10)","v":378.58421979999997},{"$f":"OFFSET('Maximos I-V'!K12,0,($L$1-1)*10)","v":509.898709},{"$f":"OFFSET('Maximos I-V'!L12,0,($L$1-1)*10)","v":363.13874219999997}]
[null,"Día",{"$f":"OFFSET('Maximos I-V'!C13,0,($L$1-1)*10)","v":"9 de marzo"},{"$f":"OFFSET('Maximos I-V'!D13,0,($L$1-1)*10)","v":"10 de junio"},{"$f":"OFFSET('Maximos I-V'!E13,0,($L$1-1)*10)","v":"22 de enero"},{"$f":"OFFSET('Maximos I-V'!F13,0,($L$1-1)*10)","v":"2 de junio"},{"$f":"OFFSET('Maximos I-V'!G13,0,($L$1-1)*10)","v":"19 de abril"},{"$f":"OFFSET('Maximos I-V'!H13,0,($L$1-1)*10)","v":"11 de junio"},{"$f":"OFFSET('Maximos I-V'!I13,0,($L$1-1)*10)","v":"6 de febrero"},{"$f":"OFFSET('Maximos I-V'!J13,0,($L$1-1)*10)","v":"27 de junio"},{"$f":"OFFSET('Maximos I-V'!K13,0,($L$1-1)*10)","v":"28 de enero"},{"$f":"OFFSET('Maximos I-V'!L13,0,($L$1-1)*10)","v":"6 de junio"}]
[]
[]
[]
[null,null,{"$f":"OFFSET('Maximos I-V'!C15,0,($L$1-1)*10)","v":"2010"},{"$f":"OFFSET(#REF!,0,($L$1-1)*12)","v":{"$error":"#REF!"}},{"$f":"OFFSET('Maximos I-V'!E15,0,($L$1-1)*10)","v":"2011"},{"$f":"OFFSET(#REF!,0,($L$1-1)*12)","v":{"$error":"#REF!"}},{"$f":"OFFSET('Maximos I-V'!G15,0,($L$1-1)*10)","v":"2012"},{"$f":"OFFSET(#REF!,0,($L$1-1)*12)","v":{"$error":"#REF!"}},{"$f":"OFFSET('Maximos I-V'!I15,0,($L$1-1)*10)","v":"2013"},{"$f":"OFFSET(#REF!,0,($L$1-1)*12)","v":{"$error":"#REF!"}},{"$f":"OFFSET('Maximos I-V'!K15,0,($L$1-1)*10)","v":"2014"},{"$f":"OFFSET(#REF!,0,($L$1-1)*12)","v":{"$error":"#REF!"}}]
[]
[null,null,"Invierno","Verano","Invierno","Verano","Invierno","Verano","Invierno","Verano","Invierno","Verano"]
[]
[null,"Participación generación renovable (%)",{"$f":"OFFSET('Maximos I-V'!C17,0,($L$1-1)*10)","v":58},{"$f":"OFFSET('Maximos I-V'!D17,0,($L$1-1)*10)","v":49.699999999999996},{"$f":"OFFSET('Maximos I-V'!E17,0,($L$1-1)*10)","v":59.3},{"$f":"OFFSET('Maximos I-V'!F17,0,($L$1-1)*10)","v":49.600000000000009},{"$f":"OFFSET('Maximos I-V'!G17,0,($L$1-1)*10)","v":53.8},{"$f":"OFFSET('Maximos I-V'!H17,0,($L$1-1)*10)","v":48.9},{"$f":"OFFSET('Maximos I-V'!I17,0,($L$1-1)*10)","v":62.099999999999994},{"$f":"OFFSET('Maximos I-V'!J17,0,($L$1-1)*10)","v":58.600000000000009},{"$f":"OFFSET('Maximos I-V'!K17,0,($L$1-1)*10)","v":65},{"$f":"OFFSET('Maximos I-V'!L17,0,($L$1-1)*10)","v":56.499999999999993}]
[null,"Día",{"$f":"OFFSET('Maximos I-V'!C18,0,($L$1-1)*10)","v":"1 de enero"},{"$f":"OFFSET('Maximos I-V'!D18,0,($L$1-1)*10)","v":"20 de junio"},{"$f":"OFFSET('Maximos I-V'!E18,0,($L$1-1)*10)","v":"15 de mayo"},{"$f":"OFFSET('Maximos I-V'!F18,0,($L$1-1)*10)","v":"2 de junio"},{"$f":"OFFSET('Maximos I-V'!G18,0,($L$1-1)*10)","v":"1 de noviembre"},{"$f":"OFFSET('Maximos I-V'!H18,0,($L$1-1)*10)","v":"10 de junio"},{"$f":"OFFSET('Maximos I-V'!I18,0,($L$1-1)*10)","v":"2 de febrero"},{"$f":"OFFSET('Maximos I-V'!J18,0,($L$1-1)*10)","v":"1 de junio"},{"$f":"OFFSET('Maximos I-V'!K18,0,($L$1-1)*10)","v":"25 de marzo"},{"$f":"OFFSET('Maximos I-V'!L18,0,($L$1-1)*10)","v":"15 de junio"}]
[]
[null,"El periodo de invierno comprende los meses de enero a mayo y de octubre a diciembre. El periodo de verano comprende los meses de junio a septiembre.","Verano (junio - septiembre)"]

{"sheet":"Maximos I-V","index":35,"n_rows":18,"n_cols":122,"rows_kept":18,"cut":false,"hidden":true,"merged":[]}
[]
[null,"Maximos generación renovable mensual peninsular","2010-01-01","2010-02-01","2010-03-01","2010-04-01","2010-05-01","2010-06-01","2010-07-01","2010-08-01","2010-09-01","2010-10-01","2010-11-01","2010-12-01","2011-01-01","2011-02-01","2011-03-01","2011-04-01","2011-05-01","2011-06-01","2011-07-01","2011-08-01","2011-09-01","2011-10-01","2011-11-01","2011-12-01","2012-01-01","2012-02-01","2012-03-01","2012-04-01","2012-05-01","2012-06-01","2012-07-01","2012-08-01","2012-09-01","2012-10-01","2012-11-01","2012-12-01","2013-01-01","2013-02-01","2013-03-01","2013-04-01","2013-05-01","2013-06-01","2013-07-01","2013-08-01","2013-09-01","2013-10-01","2013-11-01","2013-12-01","2014-01-01","2014-02-01","2014-03-01","2014-04-01","2014-05-01","2014-06-01","2014-07-01","2014-08-01","2014-09-01","2014-10-01","2014-11-01","2014-12-01","2015-01-01","2015-02-01","2015-03-01","2015-04-01","2015-05-01","2015-06-01","2015-07-01","2015-08-01","2015-09-01","2015-10-01","2015-11-01","2015-12-01","2016-01-01","2016-02-01","2016-03-01","2016-04-01","2016-05-01","2016-06-01","2016-07-01","2016-08-01","2016-09-01","2016-10-01","2016-11-01","2016-12-01"]
[null,"Generación renovable (GWh)",416.84965849999998,443.5441811,448.96560350000004,381.50331770000003,420.55084250000004,309.53562019999998,279.91168900000002,255.00823629999999,262.89802599999996,327.81719169999997,384.51802129999999,405.19184110000003,448.09747239999996,402.02467289999998,407.62319510000003,346.9352485,344.81671959999994,347.31630860000007,284.7084974,266.06142109999996,223.5463182,290.33216830000003,336.8710787,372.01459999999997,314.43193930000001,392.02671549999997,322.60012770000003,423.02411649999999,375.35418829999998,343.94804999999997,261.89484709999999,315.38414089999998,326.0539733,327.26901609999999,386.98494010000002,407.2082431,475.67163970000001,497.41206579999999,460.69435909999993,453.37752570000004,409.26025089999996,378.58421979999997,313.27109080000002,343.01767079999996,295.7526373,345.79992440000001,412.29087500000003,414.773121,509.898709,509.44376699999998,492.65063750000002,460.2698292,379.78497549999997,363.13874219999997,354.88946179999999,294.51390459999993,267.86604560000001,294.91638309999996,393.2436237,396.3260818,474.26743920000001,495.83087770000003,456.36586149999999,362.07516190000001,387.515558,322.19510379999997,307.748783,293.05192799999998,361.60237060000003,354.0374923,387.54928430000001,325.19343799999996,462.04062720000007,520.42039779999993,479.49663300000003,"-","-","-","-","-","-","-","-","-"]
[null,"Día",14,24,9,8,4,10,6,13,7,31,9,24,22,22,16,11,15,2,19,9,18,24,5,16,2,3,8,19,21,11,1,31,25,27,28,14,23,6,14,9,31,27,9,2,11,22,5,26,28,10,25,4,22,6,9,13,17,16,15,1,30,24,5,1,8,17,3,23,16,6,21,28,11,12,10,"-","-","-","-","-","-","-","-","-"]
[null,null,"enero","febrero","marzo","abril","mayo","junio","julio","agosto","septiembre","octubre","noviembre","diciembre","enero","febrero","marzo","abril","mayo","junio","julio","agosto","septiembre","octubre","noviembre","diciembre","enero","febrero","marzo","abril","mayo","junio","julio","agosto","septiembre","octubre","noviembre","diciembre","enero","febrero","marzo","abril","mayo","junio","julio","agosto","septiembre","octubre","noviembre","diciembre","enero","febrero","marzo","abril","mayo","junio","julio","agosto","septiembre","octubre","noviembre","diciembre","enero","febrero","marzo","abril","mayo","junio","julio","agosto","septiembre","octubre","noviembre","diciembre","enero","febrero","marzo","abril","mayo","junio","julio","agosto","septiembre","octubre","noviembre","diciembre","enero","febrero","marzo","abril","mayo","junio","julio","agosto","septiembre","octubre","noviembre","diciembre","enero","febrero","marzo","abril","mayo","junio","julio","agosto","septiembre","octubre","noviembre","diciembre","enero","febrero","marzo","abril","mayo","junio","julio","agosto","septiembre","octubre","noviembre","diciembre"]
[null,"Maximos de participación de la generación renovable en la estructura de generación mensual peninsular ","2010-01-01","2010-02-01","2010-03-01","2010-04-01","2010-05-01","2010-06-01","2010-07-01","2010-08-01","2010-09-01","2010-10-01","2010-11-01","2010-12-01","2011-01-01","2011-02-01","2011-03-01","2011-04-01","2011-05-01","2011-06-01","2011-07-01","2011-08-01","2011-09-01","2011-10-01","2011-11-01","2011-12-01","2012-01-01","2012-02-01","2012-03-01","2012-04-01","2012-05-01","2012-06-01","2012-07-01","2012-08-01","2012-09-01","2012-10-01","2012-11-01","2012-12-01","2013-01-01","2013-02-01","2013-03-01","2013-04-01","2013-05-01","2013-06-01","2013-07-01","2013-08-01","2013-09-01","2013-10-01","2013-11-01","2013-12-01","2014-01-01","2014-02-01","2014-03-01","2014-04-01","2014-05-01","2014-06-01","2014-07-01","2014-08-01","2014-09-01","2014-10-01","2014-11-01","2014-12-01","2015-01-01","2015-02-01","2015-03-01","2015-04-01","2015-05-01","2015-06-01","2015-07-01","2015-08-01","2015-09-01","2015-10-01","2015-11-01","2015-12-01","2016-01-01","2016-02-01","2016-03-01","2016-04-01","2016-05-01","2016-06-01","2016-07-01","2016-08-01","2016-09-01","2016-10-01","2016-11-01","2016-12-01"]
[null,"Generación renovable (GWh)",58,54.7,56.600000000000009,52.300000000000004,56.800000000000004,49.699999999999996,40.300000000000004,35.6,38.5,51.5,49.800000000000004,56.800000000000004,57.5,51,52.599999999999994,51.1,59.3,49.600000000000009,40.9,37.000000000000007,37.200000000000003,42.8,52.7,46.4,44.4,42.6,41.5,52.999999999999993,51.500000000000007,48.9,41.800000000000004,42.9,46.1,50.9,53.8,53.7,56.900000000000006,62.099999999999994,57.8,60.5,60.4,58.600000000000009,41.599999999999994,45.099999999999994,48.199999999999996,49.699999999999996,57.5,59.300000000000004,62.900000000000006,63.5,65,61.1,58,56.499999999999993,48.6,46.8,37.699999999999996,45.5,59.900000000000006,54.9,62.1,60.400000000000006,60.099999999999994,52.400000000000006,57.100000000000009,45.3,38.799999999999997,44.699999999999996,50.899999999999991,53.6,58.5,50.4,62.3,70.899999999999991,61.000000000000007,"-","-","-","-","-","-","-","-","-"]
[null,"Día",1,24,30,3,15,20,25,13,12,31,1,25,22,27,27,10,15,2,17,9,18,8,13,24,6,5,18,18,21,10,1,31,23,27,1,15,20,2,7,9,31,1,28,2,29,22,4,25,28,1,25,26,3,15,9,16,17,18,16,28,31,24,5,1,16,17,3,23,16,5,21,28,11,13,5,"-","-","-","-","-","-","-","-","-"]
[null,null,"enero","febrero","marzo","abril","mayo","junio","julio","agosto","septiembre","octubre","noviembre","diciembre","enero","febrero","marzo","abril","mayo","junio","julio","agosto","septiembre","octubre","noviembre","diciembre","enero","febrero","marzo","abril","mayo","junio","julio","agosto","septiembre","octubre","noviembre","diciembre","enero","febrero","marzo","abril","mayo","junio","julio","agosto","septiembre","octubre","noviembre","diciembre","enero","febrero","marzo","abril","mayo","junio","julio","agosto","septiembre","octubre","noviembre","diciembre","enero","febrero","marzo","abril","mayo","junio","julio","agosto","septiembre","octubre","noviembre","diciembre","enero","febrero","marzo","abril","mayo","junio","julio","agosto","septiembre","octubre","noviembre","diciembre","enero","febrero","marzo","abril","mayo","junio","julio","agosto","septiembre","octubre","noviembre","diciembre","enero","febrero","marzo","abril","mayo","junio","julio","agosto","septiembre","octubre","noviembre","diciembre","enero","febrero","marzo","abril","mayo","junio","julio","agosto","septiembre","octubre","noviembre","diciembre"]
[null,"Maximos generación renovable anual peninsular","2010","2010","2011","2011","2012","2012","2013","2013","2014","2014","2015","2015","2016","2016","2017","2017","2018","2018","2019","2019"]
[null,null,"Invierno","Verano","Invierno","Verano","Invierno","Verano","Invierno","Verano","Invierno","Verano","Invierno","Verano","Invierno","Verano","Invierno","Verano","Invierno","Verano","Invierno","Verano"]
[null,"Generación renovable (GWh)",{"$f":"MAX(C3:G3,L3:N3)","v":448.96560350000004},{"$f":"MAX(H3:K3)","v":309.53562019999998},{"$f":"MAX(O3:S3,X3:Z3)","v":448.09747239999996},{"$f":"MAX(T3:W3)","v":347.31630860000007},{"$f":"MAX(AA3:AE3,AJ3:AL3)","v":423.02411649999999},{"$f":"MAX(AF3:AI3)","v":343.94804999999997},{"$f":"MAX(AM3:AQ3,AV3:AX3)","v":497.41206579999999},{"$f":"MAX(AR3:AU3)","v":378.58421979999997},{"$f":"MAX(AY3:BC3,BH3:BJ3)","v":509.898709},{"$f":"MAX(BD3:BG3)","v":363.13874219999997},{"$f":"MAX(BK3:BO3,BT3:BV3)","v":495.83087770000003},{"$f":"MAX(BP3:BS3)","v":361.60237060000003},{"$f":"MAX(BW3:CA3,CF3:CH3)","v":520.42039779999993},"-","-","-","-","-","-","-"]
[null,"Día",{"$f":"HLOOKUP(C$12,$C$3:$N$5,2,FALSE)&\" de \"&HLOOKUP(C$12,$C$3:$N$5,3,FALSE)","v":"9 de marzo"},{"$f":"HLOOKUP(D$12,$C$3:$N$5,2,FALSE)&\" de \"&HLOOKUP(D$12,$C$3:$N$5,3,FALSE)","v":"10 de junio"},{"$f":"HLOOKUP(E$12,$O$3:$Z$5,2,FALSE)&\" de \"&HLOOKUP(E$12,$O$3:$Z$5,3,FALSE)","v":"22 de enero"},{"$f":"HLOOKUP(F$12,$O$3:$Z$5,2,FALSE)&\" de \"&HLOOKUP(F$12,$O$3:$Z$5,3,FALSE)","v":"2 de junio"},{"$f":"HLOOKUP(G$12,$AA$3:$AL$5,2,FALSE)&\" de \"&HLOOKUP(G$12,$AA$3:$AL$5,3,FALSE)","v":"19 de abril"},{"$f":"HLOOKUP(H$12,$AA$3:$AL$5,2,FALSE)&\" de \"&HLOOKUP(H$12,$AA$3:$AL$5,3,FALSE)","v":"11 de junio"},{"$f":"HLOOKUP(I$12,$AM$3:$AX$5,2,FALSE)&\" de \"&HLOOKUP(I$12,$AM$3:$AX$5,3,FALSE)","v":"6 de febrero"},{"$f":"HLOOKUP(J$12,$AM$3:$AX$5,2,FALSE)&\" de \"&HLOOKUP(J$12,$AM$3:$AX$5,3,FALSE)","v":"27 de junio"},{"$f":"HLOOKUP(K$12,$AY$3:$BJ$5,2,FALSE)&\" de \"&HLOOKUP(K$12,$AY$3:$BJ$5,3,FALSE)","v":"28 de enero"},{"$f":"HLOOKUP(L$12,$AY$3:$BJ$5,2,FALSE)&\" de \"&HLOOKUP(L$12,$AY$3:$BJ$5,3,FALSE)","v":"6 de junio"},{"$f":"HLOOKUP(M$12,$BK$3:$BV$5,2,FALSE)&\" de \"&HLOOKUP(M$12,$BK$3:$BV$5,3,FALSE)","v":"24 de febrero"},{"$f":"HLOOKUP(N$12,$BK$3:$BV$5,2,FALSE)&\" de \"&HLOOKUP(N$12,$BK$3:$BV$5,3,FALSE)","v":"16 de septiembre"},{"$f":"HLOOKUP(O$12,$BW$3:$CH$5,2,FALSE)&\" de \"&HLOOKUP(O$12,$BW$3:$CH$5,3,FALSE)","v":"12 de febrero"},"-","-","-","-","-","-","-"]
[]
[null,"Maximos de participación de la generación renovable en la estructura de generación anual peninsular ","2010","2010","2011","2011","2012","2012","2013","2013","2014","2014","2015","2015","2016","2016","2017","2017","2018","2018","2019","2019"]
[null,null,"Invierno","Verano","Invierno","Verano","Invierno","Verano","Invierno","Verano","Invierno","Verano","Invierno","Verano","Invierno","Verano","Invierno","Verano","Invierno","Verano","Invierno","Verano"]
[null,"Generación renovable (GWh)",{"$f":"MAX(C7:G7,L7:N7)","v":58},{"$f":"MAX(H7:K7)","v":49.699999999999996},{"$f":"MAX(O7:S7,X7:Z7)","v":59.3},{"$f":"MAX(T7:W7)","v":49.600000000000009},{"$f":"MAX(AA7:AE7,AJ7:AL7)","v":53.8},{"$f":"MAX(AF7:AI7)","v":48.9},{"$f":"MAX(AM7:AQ7,AV7:AX7)","v":62.099999999999994},{"$f":"MAX(AR7:AU7)","v":58.600000000000009},{"$f":"MAX(AY7:BC7,BH7:BJ7)","v":65},{"$f":"MAX(BD7:BG7)","v":56.499999999999993},{"$f":"MAX(BK7:BO7,BT7:BV7)","v":62.1},{"$f":"MAX(BP7:BS7)","v":50.899999999999991},{"$f":"MAX(BW7:CA7,CF7:CH7)","v":70.899999999999991},"-","-","-","-","-","-","-"]
[null,"Día",{"$f":"HLOOKUP(C$17,$C$7:$N$9,2,FALSE)&\" de \"&HLOOKUP(C$17,$C$7:$N$9,3,FALSE)","v":"1 de enero"},{"$f":"HLOOKUP(D$17,$C$7:$N$9,2,FALSE)&\" de \"&HLOOKUP(D$17,$C$7:$N$9,3,FALSE)","v":"20 de junio"},{"$f":"HLOOKUP(E$17,$O$7:$Z$9,2,FALSE)&\" de \"&HLOOKUP(E$17,$O$7:$Z$9,3,FALSE)","v":"15 de mayo"},{"$f":"HLOOKUP(F$17,$O$7:$Z$9,2,FALSE)&\" de \"&HLOOKUP(F$17,$O$7:$Z$9,3,FALSE)","v":"2 de junio"},{"$f":"HLOOKUP(G$17,$AA$7:$AL$9,2,FALSE)&\" de \"&HLOOKUP(G$17,$AA$7:$AL$9,3,FALSE)","v":"1 de noviembre"},{"$f":"HLOOKUP(H$17,$AA$7:$AL$9,2,FALSE)&\" de \"&HLOOKUP(H$17,$AA$7:$AL$9,3,FALSE)","v":"10 de junio"},{"$f":"HLOOKUP(I$17,$AM$7:$AX$9,2,FALSE)&\" de \"&HLOOKUP(I$17,$AM$7:$AX$9,3,FALSE)","v":"2 de febrero"},{"$f":"HLOOKUP(J$17,$AM$7:$AX$9,2,FALSE)&\" de \"&HLOOKUP(J$17,$AM$7:$AX$9,3,FALSE)","v":"1 de junio"},{"$f":"HLOOKUP(K$17,$AY$7:$BJ$9,2,FALSE)&\" de \"&HLOOKUP(K$17,$AY$7:$BJ$9,3,FALSE)","v":"25 de marzo"},{"$f":"HLOOKUP(L$17,$AY$7:$BJ$9,2,FALSE)&\" de \"&HLOOKUP(L$17,$AY$7:$BJ$9,3,FALSE)","v":"15 de junio"},{"$f":"HLOOKUP(M$17,$BK$7:$BV$9,2,FALSE)&\" de \"&HLOOKUP(M$17,$BK$7:$BV$9,3,FALSE)","v":"31 de enero"},{"$f":"HLOOKUP(N$17,$BK$7:$BV$9,2,FALSE)&\" de \"&HLOOKUP(N$17,$BK$7:$BV$9,3,FALSE)","v":"16 de septiembre"},{"$f":"HLOOKUP(O$17,$BW$7:$CH$9,2,FALSE)&\" de \"&HLOOKUP(O$17,$BW$7:$CH$9,3,FALSE)","v":"13 de febrero"},"-","-","-","-","-","-","-"]