{"text_format":"1","workbook":"xlsx","n_sheets":7,"sheets":["Inicio","Cuadro mando","Red_de_transporte","AVISO LEGAL","datos_RdT","EVOLUCION_RdT","Año"],"not_rendered":{"charts":4,"images":6,"macros":1,"external_links":0,"defined_names":1,"comments":2,"pivot_tables":0},"unopened":[],"bounds":{"document_bytes":16777216,"sheet_cells":100000,"rows_first":2000,"rows_last":500,"rows_between":2000,"halvings":0,"cell_chars":16384,"cell_head_chars":4096},"cells_cut":0,"cells_raw":0,"read":"whole","date_system":"1900"}

{"sheet":"Inicio","index":0,"n_rows":9,"n_cols":15,"rows_kept":9,"cut":false,"hidden":false,"merged":[[3,2,3,7],[0,1,1,2]]}
[null,{"$error":"#VALUE!"},null,null,null,null,null,null,null,null,null,null,null,null,6]
[null,null,null,"Indicadores Sistema Eléctrico CCAA",null,null,null,null,"www.ree.es"]
[null,null,null,null,null,null,null,null,"Fecha de actualización:",null,"2026-04-20"]
[]
[]
[]
[]
[null,null,null,null,{"$f":"-B","v":{"$error":"#NAME?"}}]
[null,null,null,null,null,null,null,null,null,null,null,"A"]

{"sheet":"Cuadro mando","index":1,"n_rows":45,"n_cols":9,"rows_kept":45,"cut":false,"hidden":false,"merged":[[2,0,2,9],[25,7,25,12],[25,0,25,6],[6,1,6,12],[0,0,1,1]]}
[{"$error":"#VALUE!"}]
[]
["Principales Indicadores Andalucía 2025"]
[]
[]
[]
[null,"RED DE TRANSPORTE1"]
[]
[]
[]
[]
[]
[]
[]
[]
[]
[]
[]
[]
[]
[]
[]
[]
[]
[]
[]
[]
[]
[]
[]
[]
[]
[]
[]
[]
[]
[]
[]
[]
[]
[]
[]
[]
[]
[null,null,null,null,null,null,null,"  ","  (1) km líneas de la Red de Transporte"]

{"sheet":"Red_de_transporte","index":2,"n_rows":26,"n_cols":8,"rows_kept":26,"cut":false,"hidden":false,"merged":[[1,1,1,6],[6,1,6,5],[6,7,6,12],[25,1,25,5],[25,7,25,12],[2,0,2,9]]}
[]
[]
["Red de transporte Andalucía 2025"]
[]
[]
[]
[null,"RED DE TRANSPORTE1",null,null,null,null,null,"VARIACIONES DE LA RdT"]
[]
[]
[]
[null,"AÑO 2025",null,{"$f":"datos_RdT!C72","v":"Andalucía"},"  España ","% del total "]
[null,"  km circuitos   400 kV ",null,{"$f":"datos_RdT!C73","v":3031.0015895177303},{"$f":"datos_RdT!V73","v":22316.414999999983},{"$f":"IF(D12=\"\",\"\",D12*100/E12)","v":13.581937732909756}]
[null,"  km circuitos   220 kV ",null,{"$f":"datos_RdT!C74","v":3355.8514949495002},{"$f":"datos_RdT!V74","v":20488.039020000015},{"$f":"IF(D13=\"\",\"\",D13*100/E13)","v":16.379564152887376}]
[null,"  km circuitos <220 kV ",null,{"$f":"datos_RdT!C75","v":70.094999999999999},{"$f":"datos_RdT!V75","v":3350.746000000001},2.0919222167242753]
[null,"km circuitos",null,{"$f":"datos_RdT!C76","v":6456.9480844672307},{"$f":"datos_RdT!V76","v":46155.200019999997},13.989643814064943]
[null,"  Posiciones     400 kV ",null,{"$f":"datos_RdT!C78","v":241},{"$f":"datos_RdT!V78","v":1848},{"$f":"IF(D16=\"\",\"\",D16*100/E16)","v":13.041125541125542}]
[null,"  Posiciones     220 kV ",null,{"$f":"datos_RdT!C79","v":516},{"$f":"datos_RdT!V79","v":3746},{"$f":"IF(D17=\"\",\"\",D17*100/E17)","v":13.774693005872932}]
[null,"  Posiciones   <220 kV ",null,{"$f":"datos_RdT!C80","v":12},{"$f":"datos_RdT!V80","v":1285},0.93385214007782102]
[null,"Posiciones ",null,{"$f":"datos_RdT!C81","v":769},{"$f":"datos_RdT!V81","v":6879},{"$f":"D19*100/E19","v":11.178950428841402}]
[null,"Transformadores2 (MVA)",null,{"$f":"datos_RdT!C83","v":15270},{"$f":"datos_RdT!V83","v":96025},15.902108825826607]
[]
[null,"(1) Incluye los activos de la red de transporte del resto de empresas."]
[null,"(2) No contempla desfasadores"]
[]
[]
[null,"EVOLUCIÓN DE LA RdT",null,null,null,null,null,"% km LÍNEAS C.A. vs. KILÓMETROS TOTALES"]

{"sheet":"AVISO LEGAL","index":3,"n_rows":0,"n_cols":0,"rows_kept":0,"cut":false,"hidden":false,"merged":[]}

{"sheet":"datos_RdT","index":4,"n_rows":84,"n_cols":25,"rows_kept":84,"cut":false,"hidden":true,"merged":[]}
[null,2020]
[null,"CCAA","Andalucía","Aragón","Asturias","Baleares","C. Valenciana","Canarias","Cantabria","Castilla-La Mancha","Castilla y León","Cataluña","Ceuta","Extremadura","Galicia","La Rioja","Madrid","Melilla","Murcia","Navarra","País Vasco","TOTAL","MÓVILES","PENINSULAR","NO PENINSULAR"]
[null,"km líneas 400 kV",2774.1495895177309,1447.051699059582,539.06820425955505,null,1073.1714884508601,null,240.5107043352327,2612.8144960363052,4511.6604318758282,2237.079333304127,null,2291.0704469315301,1346.7262872727201,114.94905945892299,992.61170872910805,null,708.11213708924197,175.97007024489841,698.9563434343429,{"$f":"SUM(C3:U3)","v":21763.901999999987},null,{"$f":"V3-Y3","v":21763.901999999987},{"$f":"F3+H3","v":0}]
[null,"km líneas 220 kV",3258.6154949495003,1885.1408170330001,432.21102020201999,447.66399999999999,1334.4732600000002,239.14500000000001,324.1211060606056,1528.30397949762,3317.3440739347302,2546.6882940781202,null,859.34786742419999,1332.4839999999999,142.30800000000002,1186.99338540142,null,123.86974000000001,318.82902020202005,661.89994121678251,{"$f":"SUM(C4:U4)","v":19939.43900000002},null,{"$f":"V4-Y4","v":19252.630000000019},{"$f":"F4+H4","v":686.80899999999997}]
[null,"km líneas <220 kV",null,null,null,1481.116,null,1321.8420000000001,null,null,null,39.44,null,5.0399999999999991,12.3,0,0,null,null,null,null,2859.7380000000003,null,56.7800000000002,2802.9580000000001]
[null,"Total km líneas",{"$f":"SUM(C3:C5)","v":6032.7650844672316},{"$f":"SUM(D3:D5)","v":3332.1925160925821},971.27922446157504,1928.78,2407.6447484508603,1560.9870000000001,564.63181039583833,4141.1184755339254,7829.0045058105588,4823.2076273822468,0,3155.4583143557302,2691.5102872727202,257.25705945892298,2179.605094130528,0,831.98187708924195,494.79909044691846,1360.8562846511254,44563.079000000005,0,41073.312000000005,{"$f":"SUM(Y3:Y5)","v":3489.7669999999998}]
[null,{"$f":"CONCATENATE(\"Δ\" & $B$1 & \"/\" & $B$1-1)","v":"Δ2020/2019"},3.6800400244452192E-3,0.25854498890118816,1.0682475265365587,2.9604643304591116,0,0.76136463395111154,0,9.0879241483099449E-2,0,0.24462543030832062,null,0.31728083943405316,0.1766437056826442,0,2.569338775382235E-3,null,0,0,0,0.26244401350374869,null,0.12040049123540619,1.9650473204922747]
[null,"Posiciones 400 kV",185,109,55,null,181,null,15,118,247,147,null,113,71,8,109,null,74,30,86,{"$f":"SUM(C8:U8)","v":1548},null,{"$f":"V8-Y8","v":1548},{"$f":"F8+H8","v":0}]
[null,"Posiciones 220 kV",454,226,44,125,323,75,48,143,251,600,null,87,222,29,551,null,44,50,149,{"$f":"SUM(C9:U9)+W9","v":3428},7,{"$f":"V9-Y9","v":3228},{"$f":"F9+H9","v":200}]
[null,"Posiciones <220 kV",null,null,null,559,null,546,null,null,null,3,null,0,1,null,null,null,null,null,null,{"$f":"SUM(C10:U10)","v":1109},null,{"$f":"V10-Y10","v":4},{"$f":"F10+H10","v":1105}]
[null,"Total posiciones",{"$f":"SUM(C8:C10)","v":639},{"$f":"SUM(D8:D10)","v":335},99,684,504,621,63,261,498,750,0,200,294,37,660,0,118,80,235,6085,7,{"$f":"SUM(X8:X10)","v":4780},1305]
[null,{"$f":"CONCATENATE(\"Δ\" & $B$1 & \"/\" & $B$1-1)","v":"Δ2020/2019"},-1.5408320493066285,-0.29761904761904656,5.3191489361702038,-1.0130246020260469,-0.78740157480314821,7.2538860103626979,-3.0769230769230771,1.5564202334630295,-1.3861386138613874,-2.4707412223667125,null,1.5228426395939021,-3.6065573770491799,-2.6315789473684181,3.7735849056603765,null,-0.84033613445377853,2.564102564102555,0.85836909871244149,0.31322123310253414,0,-0.33361134278565574,2.7559055118110187]
[null,"Transformadores",15020,5056,1300,3838,8950,3630,2100,1200,6131,11500,null,2800,5700,600,11100,0,3450,1600,5100,{"$f":"SUM(C13:U13)+W13","v":89975},900,{"$f":"V13-Y13","v":82507},{"$f":"F13+H13","v":7468}]
[null,{"$f":"CONCATENATE(\"Δ\" & $B$1 & \"/\" & $B$1-1)","v":"Δ2020/2019"},0,0,0,0,0,4.6109510086455252,0,0,0,0,null,0,0,0,0,null,0,0,0,0.17814396258977183,0,0,2.1893814997263172]
[null,2021]
[null,"CCAA","Andalucía","Aragón","Asturias","Baleares","C. Valenciana","Canarias","Cantabria","Castilla-La Mancha","Castilla y León","Cataluña","Ceuta","Extremadura","Galicia","La Rioja","Madrid","Melilla","Murcia","Navarra","País Vasco","TOTAL","MÓVILES","PENINSULAR","NO PENINSULAR"]
[null,"km líneas 400 kV",2774.1495895177309,1448.0376990595801,539.06820425955505,null,1074.43748845086,null,240.5107043352327,2612.8144960363052,4511.6604318758282,2237.079333304127,null,2293.2984469315302,1346.7262872727201,114.94905945892299,992.61170872910805,null,708.11213708924197,175.97007024489841,698.9563434343429,{"$f":"SUM(C17:U17)","v":21768.381999999983},null,{"$f":"V17-Y17","v":21768.381999999983},{"$f":"F17+H17","v":0}]
[null,"km líneas 220 kV",3266.2674949494999,1904.3678170330002,432.54902020202002,447.66399999999999,1350.38626,240.24900000000002,324.1211060606056,1528.30397949762,3348.94807393473,2546.6882940781202,null,909.17586742419996,1388.335,142.30800000000002,1186.99338540142,null,123.86974000000001,318.82902020202005,661.979941216783,{"$f":"SUM(C18:U18)","v":20121.036000000015},null,{"$f":"V18-Y18","v":19433.123000000014},{"$f":"F18+H18","v":687.91300000000001}]
[null,"km líneas <220 kV",null,null,null,1481.116,0,1337.9960000000001,null,null,null,39.44,null,8.0500000000000007,12.3,null,null,null,null,null,null,{"$f":"SUM(C19:U19)","v":2878.9020000000005},null,59.790000000000418,2819.1120000000001]
[null,"Total km líneas",{"$f":"SUM(C17:C19)","v":6040.4170844672308},{"$f":"SUM(D17:D19)","v":3352.40551609258},971.61722446157501,1928.78,2424.82374845086,1578.2450000000001,564.63181039583833,4141.1184755339254,7860.6085058105582,4823.2076273822468,0,3210.5243143557304,2747.3612872727203,257.25705945892298,2179.605094130528,0,831.98187708924195,494.79909044691846,1360.9362846511258,{"$f":"SUM(V17:V19)","v":44768.32},{"$f":"SUM(W17:W19)","v":0},41261.294999999998,3507.0250000000001]
[null,{"$f":"CONCATENATE(\"Δ\" & $B$15 & \"/\" & $B$15-1)","v":"Δ2021/2020"},{"$f":"(C20/C6-1)*100","v":0.12684067575747804},{"$f":"(D20/D6-1)*100","v":0.6065976051017774},3.479946770068576E-2,0,0.71351888649906492,1.1055825577022782,0,0,0.4036783984035619,0,null,{"$f":"(N20/N6-1)*100","v":1.7451030726496342},2.0750803095236581,0,0,null,{"$f":"(S20/S6-1)*100","v":0},0,5.87865161829626E-3,0.46056287986742106,null,{"$f":"(X20/X6-1)*100","v":0.45767675126855423},0.49453158334067382]
[null,"Posiciones 400 kV",188,116,55,null,187,null,15,122,247,147,null,124,74,8,109,null,76,30,92,{"$f":"SUM(C22:U22)+W22","v":1590},null,{"$f":"V22-Y22","v":1590},{"$f":"F22+H22","v":0}]
[null,"Posiciones 220 kV",467,227,44,125,323,81,49,145,252,605,null,102,234,29,551,null,44,51,149,{"$f":"SUM(C23:U23)+W23","v":3485},7,{"$f":"V23-Y23","v":3279},{"$f":"F23+H23","v":206}]
[null,"Posiciones <220 kV",null,null,null,568,0,570,null,null,null,3,null,2,1,null,null,null,null,null,null,1144,null,{"$f":"V24-Y24","v":6},{"$f":"F24+H24","v":1138}]
[null,"Total posiciones",{"$f":"SUM(C22:C24)","v":655},343,99,{"$f":"SUM(F22:F24)","v":693},{"$f":"SUM(G22:G24)","v":510},651,64,267,499,755,0,228,309,37,660,0,120,81,241,{"$f":"SUM(V22:V24)","v":6219},7,{"$f":"SUM(X22:X24)","v":4875},1344]
[null,{"$f":"CONCATENATE(\"Δ\" & $B$15 & \"/\" & $B$15-1)","v":"Δ2021/2020"},{"$f":"(C25/C11-1)*100","v":2.5039123630672844},{"$f":"(D25/D11-1)*100","v":2.3880597014925398},0,1.3157894736842035,1.1904761904761862,4.8309178743961345,1.5873015873015817,2.2988505747126409,0.20080321285140812,0.66666666666665986,null,{"$f":"(N25/N11-1)*100","v":13.999999999999989},5.1020408163265252,0,0,null,{"$f":"(S25/S11-1)*100","v":1.6949152542372836},1.2499999999999956,2.5531914893617058,2.2021364009860322,0,1.9874476987447709,2.9885057471264354]
[null,"Transformadores",15020,5056,1300,3838,8950,3880,2100,1200,6131,11500,0,3025,5700,600,11100,0,3450,1600,5100,{"$f":"SUM(C27:U27)+W27","v":90450},900,{"$f":"V27-Y27","v":82732},{"$f":"F27+H27","v":7718}]
[null,{"$f":"CONCATENATE(\"Δ\" & $B$15 & \"/\" & $B$15-1)","v":"Δ2021/2020"},{"$f":"(C27/C13-1)*100","v":0},{"$f":"(D27/D13-1)*100","v":0},0,0,0,6.887052341597788,0,0,0,0,null,{"$f":"(N27/N13-1)*100","v":8.0357142857142794},0,0,0,null,{"$f":"(S27/S13-1)*100","v":0},0,0,0.52792442345095392,0,0.27270413419466788,3.3476164970541067]
[null,2022]
[null,"CCAA","Andalucía","Aragón","Asturias","Baleares","C. Valenciana","Canarias","Cantabria","Castilla-La Mancha","Castilla y León","Cataluña","Ceuta","Extremadura","Galicia","La Rioja","Madrid","Melilla","Murcia","Navarra","País Vasco","TOTAL","MÓVILES","PENINSULAR","NO PENINSULAR"]
[null,"km líneas 400 kV",3019.0495895177301,1448.0376990595801,539.06820425955505,null,1074.43748845086,null,240.5107043352327,2612.8144960363052,4511.6604318758282,2237.079333304127,null,2293.2984469315302,1346.7262872727201,114.94905945892299,992.61170872910805,null,708.11213708924197,175.97007024489841,698.9563434343429,{"$f":"SUM(C31:U31)","v":22013.281999999981},null,{"$f":"V31-Y31","v":22013.281999999981},{"$f":"F31+H31","v":0}]
[null,"km líneas 220 kV",3268.9644949495,1904.3678170330002,432.54902020202002,447.66399999999999,1360.3122599999999,259.529,332.29710606060598,1528.30397949762,3349.0980739347301,2546.6882940781202,null,909.17586742419996,1388.335,142.30800000000002,1186.99338540142,null,123.86974000000001,318.82902020202005,661.979941216783,{"$f":"SUM(C32:U32)","v":20161.265000000018},null,{"$f":"V32-Y32","v":19454.072000000018},{"$f":"F32+H32","v":707.19299999999998}]
[null,"km líneas <220 kV",null,null,null,1482.0640000000001,0,1349.6670000000001,null,null,null,39.44,null,8.0500000000000007,12.3,null,null,null,null,null,null,{"$f":"SUM(C33:U33)","v":2891.5210000000006},null,59.790000000000418,2831.7310000000002]
[null,"Total km líneas",{"$f":"SUM(C31:C33)","v":6288.0140844672296},{"$f":"SUM(D31:D33)","v":3352.40551609258},971.61722446157501,1929.7280000000001,2434.7497484508599,1609.1960000000001,572.80781039583871,4141.1184755339254,7860.7585058105578,4823.2076273822468,0,3210.5243143557304,2747.3612872727203,257.25705945892298,2179.605094130528,0,831.98187708924195,494.79909044691846,1360.9362846511258,{"$f":"SUM(V31:V33)","v":45066.067999999999},null,{"$f":"SUM(X31:X33)","v":41527.144},3538.924]
[null,{"$f":"CONCATENATE(\"Δ\" & $B$29 & \"/\" & $B$29-1)","v":"Δ2022/2021"},0.26660369152702312,0.53064570328800187,0,2.4440297601610705,1.0902331967244772,8.5343184370815237,0,0,0.38787010141192457,0.10523657199379421,null,0,0,0,0,null,0,0,0,{"$f":"(V34/V20-1)*100","v":0.66508638251334684},null,{"$f":"(X34/X20-1)*100","v":0.64430600154454787},0.90957435433165479]
[null,"Posiciones 400 kV",201,120,55,null,189,null,15,127,251,147,null,128,74,8,112,null,78,30,92,{"$f":"SUM(C36:U36)+W36","v":1627},null,{"$f":"V36-Y36","v":1627},{"$f":"F36+H36","v":0}]
[null,"Posiciones 220 kV",474,229,44,125,332,95,52,149,254,606,null,105,235,29,551,null,44,51,149,{"$f":"SUM(C37:U37)+W37","v":3531},7,{"$f":"V37-Y37","v":3311},{"$f":"F37+H37","v":220}]
[null,"Posiciones <220 kV",null,null,null,576,0,588,null,null,null,3,null,2,1,null,null,null,null,null,null,{"$f":"SUM(C38:U38)+W38","v":1170},null,{"$f":"V38-Y38","v":6},{"$f":"F38+H38","v":1164}]
[null,"Total posiciones",{"$f":"SUM(C36:C38)","v":675},{"$f":"SUM(D36:D38)","v":349},99,{"$f":"SUM(F36:F38)","v":701},{"$f":"SUM(G36:G38)","v":521},683,67,276,505,756,0,235,310,37,663,0,122,81,241,{"$f":"SUM(V36:V38)","v":6328},7,{"$f":"SUM(X36:X38)","v":4944},1384]
[null,{"$f":"CONCATENATE(\"Δ\" & $B$29 & \"/\" & $B$29-1)","v":"Δ2022/2021"},{"$f":"(C39/C25-1)*100","v":3.0534351145038219},{"$f":"(D39/D25-1)*100","v":1.7492711370262315},0,1.1544011544011523,2.1568627450980316,4.9155145929339561,4.6875,3.3707865168539408,1.2024048096192397,0.13245033112583293,null,{"$f":"(N39/N25-1)*100","v":3.0701754385964897},0.32362459546926292,0,0.45454545454546302,null,{"$f":"(S39/S25-1)*100","v":1.6666666666666607},0,0,1.7526933590609417,0,0,0]
[null,"Transformadores",15020,5056,1300,3838,8950,4005,2100,1800,6131,11500,0,3025,5700,600,11100,0,3450,1600,5100,{"$f":"SUM(C41:U41)+W41","v":91175},900,{"$f":"V41-Y41","v":83332},{"$f":"F41+H41","v":7843}]
[null,{"$f":"CONCATENATE(\"Δ\" & $B$29 & \"/\" & $B$29-1)","v":"Δ2022/2021"},{"$f":"(C41/C27-1)*100","v":0},{"$f":"(D41/D27-1)*100","v":0},0,0,0,3.2216494845360932,0,50,0,0,null,{"$f":"(N41/N27-1)*100","v":0},0,0,0,null,{"$f":"(S41/S27-1)*100","v":0},0,0,0.80154781647319151,0,0.72523328337281701,1.6195905675045363]
[null,2023,null,null,null,null,null,null,null,null,null,null,null,null,null,null,null,null,null,null,null,{"$f":"V39-V25","v":109}]
[null,"CCAA","Andalucía","Aragón","Asturias","Baleares","C. Valenciana","Canarias","Cantabria","Castilla-La Mancha","Castilla y León","Cataluña","Ceuta","Extremadura","Galicia","La Rioja","Madrid","Melilla","Murcia","Navarra","País Vasco","TOTAL","MÓVILES","PENINSULAR","NO PENINSULAR"]
[null,"km líneas 400 kV",3021.0435895177302,1448.0376990595801,539.06820425955505,null,1114.43748845086,null,240.5107043352327,2612.8144960363052,4511.6604318758282,2237.079333304127,null,2293.2984469315302,1346.7262872727201,114.94905945892299,994.45370872910803,null,708.11213708924197,175.97007024489841,698.9563434343429,{"$f":"SUM(C45:U45)","v":22057.11799999998},null,{"$f":"V45-Y45","v":22057.11799999998},{"$f":"F45+H45","v":0}]
[null,"km líneas 220 kV",3276.0094949495001,1904.3678170330002,399.74902020202001,447.66399999999999,1360.3122599999999,265.22300000000001,332.40410606060601,1528.30397949762,3349.0980739347301,2561.5182940781201,null,909.17586742419996,1389.2849999999999,142.30800000000002,1186.99338540142,null,123.86974000000001,318.82902020202005,661.979941216783,{"$f":"SUM(C46:U46)","v":20157.091000000015},null,{"$f":"V46-Y46","v":19444.204000000016},{"$f":"F46+H46","v":712.88699999999994}]
[null,"km líneas <220 kV",null,null,null,1556.769,null,1356.5069999999998,null,null,null,39.44,null,8.0500000000000007,12.3,null,null,null,null,null,null,2973.0660000000003,null,59.790000000000418,2913.2759999999998]
[null,"Total km líneas",{"$f":"SUM(C45:C47)","v":6297.0530844672303},3352.40551609258,938.81722446157505,2004.433,2474.7497484508599,1621.7299999999998,572.91481039583869,4141.1184755339254,7860.7585058105578,4838.0376273822467,0,3210.5243143557304,2748.3112872727202,257.25705945892298,2181.4470941305281,0,831.98187708924195,494.79909044691846,1360.9362846511258,{"$f":"SUM(V45:V47)","v":45187.274999999994},null,{"$f":"SUM(X45:X47)","v":41561.112000000001},3626.1629999999996]
[null,{"$f":"CONCATENATE(\"Δ\" & $B$43 & \"/\" & $B$43-1)","v":"Δ2023/2022"},{"$f":"(C48/C34-1)*100","v":0.14374967801564775},{"$f":"(D48/D34-1)*100","v":0},-3.3758149993868392,3.8712709770496012,1.6428793154389165,0.77889828212347467,1.8679912888419636E-2,0,0,0.30747173138072625,null,{"$f":"(N48/N34-1)*100","v":0},3.4578633847703877E-2,0,8.4510721917485654E-2,null,{"$f":"(S48/S34-1)*100","v":0},0,0,0.33529350985312956,null,0.33864287460050324,0.29215033425298298]
[null,"Posiciones 400 kV",220,132,55,null,200,null,15,130,257,149,null,128,76,8,118,null,85,32,92,{"$f":"SUM(C50:U50)+W50","v":1697},null,{"$f":"V50-Y50","v":1697},{"$f":"F50+H50","v":0}]
[null,"Posiciones 220 kV",484,231,44,129,333,95,55,149,259,612,null,106,241,30,557,null,45,55,150,{"$f":"SUM(C51:U51)+W51","v":3582},7,{"$f":"V51-Y51","v":3358},{"$f":"F51+H51","v":224}]
[null,"Posiciones <220 kV",null,null,null,588,null,598,null,null,null,3,null,2,1,null,null,null,null,null,null,{"$f":"SUM(C52:U52)+W52","v":1192},null,{"$f":"V52-Y52","v":6},{"$f":"F52+H52","v":1186}]
[null,"Total posiciones",{"$f":"SUM(C50:C52)","v":704},{"$f":"SUM(D50:D52)","v":363},99,717,533,693,70,279,516,764,0,236,318,38,675,0,130,87,242,{"$f":"SUM(V50:V52)","v":6471},{"$f":"SUM(W50:W52)","v":7},{"$f":"SUM(X50:X52)","v":5061},1410]
[null,{"$f":"CONCATENATE(\"Δ\" & $B$43 & \"/\" & $B$43-1)","v":"Δ2023/2022"},{"$f":"(C53/C39-1)*100","v":4.296296296296287},{"$f":"(D53/D39-1)*100","v":4.0114613180515679},0,2.2824536376604865,2.303262955854124,1.4641288433382194,4.4776119402984982,1.0869565217391353,2.1782178217821802,1.0582010582010692,null,{"$f":"(N53/N39-1)*100","v":0.42553191489360653},2.5806451612903292,2.7027027027026973,1.8099547511312153,null,{"$f":"(S53/S39-1)*100","v":6.5573770491803351},7.4074074074074181,0.41493775933609811,2.2597977243995038,null,2.3665048543689338,1.8786127167629951]
[null,"Transformadores",15020,5056,1300,3838,8950,4165,2100,1800,6131,11500,null,3025,5700,600,11700,null,3450,1600,5100,{"$f":"SUM(C55:U55)+W55","v":91935},900,{"$f":"V55-Y55","v":83932},{"$f":"F55+H55","v":8003}]
[null,{"$f":"CONCATENATE(\"Δ\" & $B$43 & \"/\" & $B$43-1)","v":"Δ2023/2022"},{"$f":"(C55/C41-1)*100","v":0},{"$f":"(D55/D41-1)*100","v":0},0,0,0,3.9950062421972632,0,0,0,0,null,{"$f":"(N55/N41-1)*100","v":0},0,0,5.4054054054053946,null,{"$f":"(S55/S41-1)*100","v":0},0,0,0.83356183164244868,0,0.72001152018432713,2.0400357006247649]
[null,2024,{"$f":"C53-C39","v":29},{"$f":"D53-D39","v":14},0,16,12,10,3,3,11,8,0,1,8,1,12,0,8,6,1,143]
[null,"CCAA","Andalucía","Aragón","Asturias","Baleares","C. Valenciana","Canarias","Cantabria","Castilla-La Mancha","Castilla y León","Cataluña","Ceuta","Extremadura","Galicia","La Rioja","Madrid","Melilla","Murcia","Navarra","País Vasco","TOTAL","MÓVILES","PENINSULAR","NO PENINSULAR"]
[null,"km líneas 400 kV",3021.0435895177302,1450.07969905958,539.06820425955505,null,1114.43748845086,null,240.5107043352327,2612.8144960363052,4511.6604318758282,2237.079333304127,null,2297.8084469315304,1351.0422872727199,114.94905945892299,994.45370872910803,null,708.11213708924197,175.97007024489841,845.89034343434298,{"$f":"SUM(C59:U59)","v":22214.919999999984},null,{"$f":"V59-Y59","v":22214.919999999984}]
[null,"km líneas 220 kV",3315.1194949495002,1904.9448170329999,399.74902020202001,447.73899999999998,1360.3362599999998,291.90700000000004,332.40410606060601,1528.30397949762,3349.0980739347301,2602.5452940781202,null,968.41088742419993,1432.2859999999998,142.30800000000002,1189.65738540142,null,123.86974000000001,318.82902020202005,661.979941216783,{"$f":"SUM(C60:U60)","v":20369.488020000019},null,{"$f":"V60-Y60","v":19629.842020000018},{"$f":"F60+H60","v":739.64599999999996}]
[null,"km líneas <220 kV",null,null,null,1566.3440000000001,null,1458.9290000000001,null,null,null,39.44,null,8.0500000000000007,12.3,null,null,null,null,null,null,{"$f":"SUM(C61:U61)","v":3085.0630000000006},null,59.790000000000418,3025.2730000000001]
[null,"Total km líneas",{"$f":"SUM(C59:C61)","v":6336.1630844672309},3355.0245160925797,938.81722446157505,2014.0830000000001,2474.7737484508598,1750.8360000000002,572.91481039583869,4141.1184755339254,7860.7585058105578,4879.0646273822467,0,3274.2693343557303,2795.6282872727197,257.25705945892298,2184.1110941305278,0,831.98187708924195,494.79909044691846,1507.870284651126,45669.471020000005,null,{"$f":"SUM(X59:X61)","v":41904.552020000003},3764.9189999999999]
[null,{"$f":"CONCATENATE(\"Δ\" & $B$57 & \"/\" & $B$57-1)","v":"Δ2024/2023"},{"$f":"(C62/C48-1)*100","v":0.6210841718401916},{"$f":"(D62/D48-1)*100","v":7.8123007119157428E-2},0,0.48143290396835958,9.697950273501732E-4,7.9610046061921791,0,0,0,0.84800911360829456,null,{"$f":"(N62/N48-1)*100","v":1.9855018607074948},1.7216754237091791,0,0.12212077052740078,null,{"$f":"(S62/S48-1)*100","v":0},0,10.796537770147442,1.067105772587551,null,{"$f":"(X62/X48-1)*100","v":0.82634944897528317},3.8265240696571112]
[null,"Posiciones 400 kV",227,145,55,null,206,null,15,134,268,155,null,143,91,9,124,null,86,32,92,{"$f":"SUM(C64:U64)+W64","v":1782},null,{"$f":"V64-F64-H64-M64-R64","v":1782}]
[null,"Posiciones 220 kV",503,244,44,129,335,101,58,156,268,615,null,107,250,31,561,null,46,55,150,{"$f":"SUM(C65:U65)+W65","v":3660},7,{"$f":"V65-F65-H65-M65-R65","v":3430},{"$f":"F65+H65+M65+R65","v":230}]
[null,"Posiciones <220 kV",null,null,null,599,null,620,null,null,null,3,null,2,1,null,null,null,null,null,null,1225,null,{"$f":"V66-F66-H66-M66-R66","v":6},{"$f":"F66+H66+M66+R66","v":1219}]
[null,"Total posiciones",{"$f":"SUM(C64:C66)","v":730},{"$f":"SUM(D64:D66)","v":389},99,728,541,721,73,290,536,773,0,252,342,40,685,0,132,87,242,{"$f":"SUM(V64:V66)","v":6667},{"$f":"SUM(W64:W66)","v":7},{"$f":"SUM(X64:X66)","v":5218},1449]
[null,{"$f":"CONCATENATE(\"Δ\" & $B$57 & \"/\" & $B$57-1)","v":"Δ2024/2023"},{"$f":"(C67/C53-1)*100","v":3.6931818181818121},{"$f":"(D67/D53-1)*100","v":7.1625344352617137},0,1.5341701534170138,1.5009380863039379,4.0404040404040442,4.2857142857142927,3.9426523297491078,3.8759689922480689,1.1780104712041828,null,{"$f":"(N67/N53-1)*100","v":6.7796610169491567},7.547169811320753,5.2631578947368363,1.4814814814814836,null,{"$f":"(S67/S53-1)*100","v":1.538461538461533},0,0,3.0288981610261168,null,3.1021537245603525,2.7659574468085202]
[null,"Transformadores",15020,5656,1300,3998,8950,4540,2100,1800,6131,12000,0,3025,6300,600,11900,0,3450,1600,5300,{"$f":"SUM(C69:U69)+W69","v":94570},900,{"$f":"V69-F69-H69-M69-R69","v":86032},{"$f":"F69+H69+M69+R69","v":8538}]
[null,{"$f":"CONCATENATE(\"Δ\" & $B$57 & \"/\" & $B$57-1)","v":"Δ2024/2023"},{"$f":"(C69/C55-1)*100","v":0},{"$f":"(D69/D55-1)*100","v":11.867088607594933},0,4.1688379364252182,0,9.0036014405762366,0,0,0,4.3478260869565188,null,{"$f":"(N69/N55-1)*100","v":0},10.526315789473696,0,1.7094017094017033,null,{"$f":"(S69/S55-1)*100","v":0},0,3.9215686274509887,2.8661554359058039,0,2.5020254491731508,6.6849931275771546]
[null,2025]
[null,"CCAA","Andalucía","Aragón","Asturias","Baleares","C. Valenciana","Canarias","Cantabria","Castilla-La Mancha","Castilla y León","Cataluña","Ceuta","Extremadura","Galicia","La Rioja","Madrid","Melilla","Murcia","Navarra","País Vasco","TOTAL","MÓVILES","PENINSULAR","NO PENINSULAR"]
[null,"km líneas 400 kV",3031.0015895177303,1450.07969905958,540.39320425955509,"",1114.43748845086,"",240.5107043352327,2612.8144960363052,4511.6604318758282,2237.5313333041272,null,2304.6824469315302,1432.96228727272,114.94905945892299,994.45370872910803,null,709.07813708924198,175.97007024489841,845.89034343434298,{"$f":"SUM(C73:U73)","v":22316.414999999983},null,{"$f":"V73-Y73","v":22316.414999999983}]
[null,"km líneas 220 kV",3355.8514949495002,1904.9448170329999,399.74902020202001,448.21199999999999,1362.9232599999998,293.75200000000007,333.23910606060599,1528.7219794976199,3349.2640739347303,2671.4102940781199,null,968.41088742419993,1432.4759999999999,142.30800000000002,1192.0973854014201,null,123.86974000000001,318.82902020202005,661.979941216783,{"$f":"SUM(C74:U74)","v":20488.039020000015},null,{"$f":"V74-Y74","v":19746.075020000015},{"$f":"F74+H74","v":741.96400000000006}]
[null,"km líneas <220 kV",70.094999999999999,"","",1567.67,"",1583.8710000000001,"","","",39.44,69.319999999999993,8.0500000000000007,12.3,"","",null,"","","",{"$f":"SUM(C75:U75)","v":3350.746000000001},null,199.20500000000084,3151.5410000000002]
[null,"Total km líneas",{"$f":"SUM(C73:C75)","v":6456.9480844672307},3355.0245160925797,940.1422244615751,2015.8820000000001,2477.3607484508598,1877.623,573.74981039583872,4141.5364755339251,7860.9245058105589,4948.3816273822467,69.319999999999993,3281.1433343557301,2877.7382872727203,257.25705945892298,2186.5510941305283,0,832.94787708924196,494.79909044691846,1507.870284651126,46155.200019999997,null,{"$f":"SUM(X73:X75)","v":42261.695019999999},{"$f":"SUM(Y73:Y75)","v":3893.5050000000001}]
[null,{"$f":"CONCATENATE(\"Δ\" & $B$71 & \"/\" & $B$71-1)","v":"Δ2025/2024"},{"$f":"(C76/C62-1)*100","v":1.9062798477535781},{"$f":"(D76/D62-1)*100","v":0},0.14113503304755692,8.9321045855617065E-2,0.10453480855046049,7.241512054812671,0.14574592676757092,1.0093891359774787E-2,2.1117554988903109E-3,1.4207026406450884,null,0.2099399682204961,2.9370857482667434,0,0.11171592903664873,null,0.11610829834174385,0,0,{"$f":"(V76/V62-1)*100","v":1.063574832708869},null,{"$f":"(X76/X62-1)*100","v":0.85227733690969032},3.4153722829096678]
[null,"Posiciones 400 kV",241,152,56,null,212,null,16,139,273,155,null,158,91,9,129,null,90,34,93,{"$f":"SUM(C78:U78)+W78","v":1848},null,{"$f":"V78-F78-H78-M78-R78","v":1848}]
[null,"Posiciones 220 kV",516,247,44,132,345,114,58,167,273,626,null,107,252,32,571,null,46,56,153,{"$f":"SUM(C79:U79)+W79","v":3746},7,{"$f":"V79-F79-H79-M79-R79","v":3500},{"$f":"F79+H79+M79+R79","v":246}]
[null,"Posiciones <220 kV",12,null,null,609,null,650,null,null,null,3,8,2,1,0,null,null,null,null,null,1285,null,{"$f":"V80-F80-H80-M80-R80","v":18},{"$f":"F80+H80+M80+R80","v":1267}]
[null,"Total posiciones",{"$f":"SUM(C78:C80)","v":769},{"$f":"SUM(D78:D80)","v":399},100,741,557,764,74,306,546,784,8,267,344,41,700,0,136,90,246,{"$f":"SUM(V78:V80)","v":6879},{"$f":"SUM(W78:W80)","v":7},{"$f":"SUM(X78:X80)","v":5366},1513]
[null,{"$f":"CONCATENATE(\"Δ\" & $B$71 & \"/\" & $B$71-1)","v":"Δ2025/2024"},{"$f":"(C81/C67-1)*100","v":5.3424657534246522},{"$f":"(D81/D67-1)*100","v":2.5706940874036022},1.0101010101010166,1.7857142857142794,2.9574861367837268,5.9639389736477089,1.3698630136986356,5.5172413793103559,1.8656716417910557,1.4230271668822736,null,5.9523809523809534,0.58479532163742132,2.4999999999999911,2.1897810218978186,null,3.0303030303030276,3.4482758620689724,1.6528925619834656,{"$f":"(V81/V67-1)*100","v":3.1798410079496131},0,2.8363357608279127,4.4168391994478862]
[null,"Transformadores",15270,6256,1300,4478,8950,4665,2100,1800,6131,12000,null,3025,6300,600,11900,null,3450,1600,5300,{"$f":"SUM(C83:U83)+W83","v":96025},900,{"$f":"V83-F83-H83-M83-R83","v":86882},{"$f":"F83+H83+M83+R83","v":9143}]
[null,{"$f":"CONCATENATE(\"Δ\" & $B$71 & \"/\" & $B$71-1)","v":"Δ2025/2024"},{"$f":"(C83/C69-1)*100","v":1.6644474034620549},{"$f":"(D83/D69-1)*100","v":10.608203677510609},0,12.006003001500742,0,2.7533039647577029,0,0,0,0,null,0,0,0,0,null,0,0,0,{"$f":"(V83/V69-1)*100","v":1.5385428782912047},0,0.98800446345546078,7.0859686109159048]

{"sheet":"EVOLUCION_RdT","index":5,"n_rows":38,"n_cols":24,"rows_kept":38,"cut":false,"hidden":true,"merged":[]}
[]
[null,"evolución líneas","Andalucía","Aragón","Asturias","Baleares","C. Valenciana","Canarias","Cantabria","Castilla-La Mancha","Castilla y León","Cataluña","Ceuta","Extremadura","Galicia","La Rioja","Madrid","Melilla","Murcia","Navarra","País Vasco","TOTAL","MÓVILES","Resto nacional"]
[2020,"líneas ",{"$f":"datos_RdT!C6","v":6032.7650844672316},{"$f":"datos_RdT!D6","v":3332.1925160925821},{"$f":"datos_RdT!E6","v":971.27922446157504},{"$f":"datos_RdT!F6","v":1928.78},{"$f":"datos_RdT!G6","v":2407.6447484508603},{"$f":"datos_RdT!H6","v":1560.9870000000001},{"$f":"datos_RdT!I6","v":564.63181039583833},{"$f":"datos_RdT!J6","v":4141.1184755339254},{"$f":"datos_RdT!K6","v":7829.0045058105588},{"$f":"datos_RdT!L6","v":4823.2076273822468},null,{"$f":"datos_RdT!N6","v":3155.4583143557302},{"$f":"datos_RdT!O6","v":2691.5102872727202},{"$f":"datos_RdT!P6","v":257.25705945892298},{"$f":"datos_RdT!Q6","v":2179.605094130528},null,{"$f":"datos_RdT!S6","v":831.98187708924195},{"$f":"datos_RdT!T6","v":494.79909044691846},{"$f":"datos_RdT!U6","v":1360.8562846511254},{"$f":"SUM(C3:U3)","v":44563.07900000002},null,{"$f":"V3-C3","v":38530.313915532788}]
[2020,"posiciones",{"$f":"datos_RdT!C11","v":639},{"$f":"datos_RdT!D11","v":335},{"$f":"datos_RdT!E11","v":99},{"$f":"datos_RdT!F11","v":684},{"$f":"datos_RdT!G11","v":504},{"$f":"datos_RdT!H11","v":621},{"$f":"datos_RdT!I11","v":63},{"$f":"datos_RdT!J11","v":261},{"$f":"datos_RdT!K11","v":498},{"$f":"datos_RdT!L11","v":750},null,{"$f":"datos_RdT!N11","v":200},{"$f":"datos_RdT!O11","v":294},{"$f":"datos_RdT!P11","v":37},{"$f":"datos_RdT!Q11","v":660},null,{"$f":"datos_RdT!S11","v":118},{"$f":"datos_RdT!T11","v":80},{"$f":"datos_RdT!U11","v":235},{"$f":"SUM(C4:U4)+W4","v":6085},{"$f":"datos_RdT!W11","v":7},{"$f":"V4-C4","v":5446}]
[2020,"transformadores",{"$f":"datos_RdT!C13","v":15020},{"$f":"datos_RdT!D13","v":5056},{"$f":"datos_RdT!E13","v":1300},{"$f":"datos_RdT!F13","v":3838},{"$f":"datos_RdT!G13","v":8950},{"$f":"datos_RdT!H13","v":3630},{"$f":"datos_RdT!I13","v":2100},{"$f":"datos_RdT!J13","v":1200},{"$f":"datos_RdT!K13","v":6131},{"$f":"datos_RdT!L13","v":11500},null,{"$f":"datos_RdT!N13","v":2800},{"$f":"datos_RdT!O13","v":5700},{"$f":"datos_RdT!P13","v":600},{"$f":"datos_RdT!Q13","v":11100},null,{"$f":"datos_RdT!S13","v":3450},{"$f":"datos_RdT!T13","v":1600},{"$f":"datos_RdT!U13","v":5100},{"$f":"SUM(C5:U5)+W5","v":89975},{"$f":"datos_RdT!W13","v":900},{"$f":"V5-C5","v":74955}]
[2020,"líneas ",{"$f":"datos_RdT!C7/100","v":3.6800400244452192E-5},{"$f":"datos_RdT!D7/100","v":2.5854498890118816E-3},{"$f":"datos_RdT!E7/100","v":1.0682475265365587E-2},{"$f":"datos_RdT!F7/100","v":2.9604643304591116E-2},{"$f":"datos_RdT!G7/100","v":0},{"$f":"datos_RdT!H7/100","v":7.6136463395111154E-3},{"$f":"datos_RdT!I7/100","v":0},{"$f":"datos_RdT!J7/100","v":9.0879241483099449E-4},{"$f":"datos_RdT!K7/100","v":0},{"$f":"datos_RdT!L7/100","v":2.4462543030832062E-3},null,{"$f":"datos_RdT!N7/100","v":3.1728083943405316E-3},{"$f":"datos_RdT!O7/100","v":1.766437056826442E-3},{"$f":"datos_RdT!P7/100","v":0},{"$f":"datos_RdT!Q7/100","v":2.569338775382235E-5},null,{"$f":"datos_RdT!S7/100","v":0},{"$f":"datos_RdT!T7/100","v":0},{"$f":"datos_RdT!U7/100","v":0},{"$f":"datos_RdT!V7/100","v":2.6244401350374869E-3}]
[2020,"posiciones",{"$f":"datos_RdT!C12/100","v":-1.5408320493066285E-2},{"$f":"datos_RdT!D12/100","v":-2.9761904761904656E-3},{"$f":"datos_RdT!E12/100","v":5.3191489361702038E-2},{"$f":"datos_RdT!F12/100","v":-1.0130246020260469E-2},{"$f":"datos_RdT!G12/100","v":-7.8740157480314821E-3},{"$f":"datos_RdT!H12/100","v":7.2538860103626979E-2},{"$f":"datos_RdT!I12/100","v":-3.0769230769230771E-2},{"$f":"datos_RdT!J12/100","v":1.5564202334630295E-2},{"$f":"datos_RdT!K12/100","v":-1.3861386138613874E-2},{"$f":"datos_RdT!L12/100","v":-2.4707412223667125E-2},null,{"$f":"datos_RdT!N12/100","v":1.5228426395939021E-2},{"$f":"datos_RdT!O12/100","v":-3.6065573770491799E-2},{"$f":"datos_RdT!P12/100","v":-2.6315789473684181E-2},{"$f":"datos_RdT!Q12/100","v":3.7735849056603765E-2},null,{"$f":"datos_RdT!S12/100","v":-8.4033613445377853E-3},{"$f":"datos_RdT!T12/100","v":2.564102564102555E-2},{"$f":"datos_RdT!U12/100","v":8.5836909871244149E-3},{"$f":"datos_RdT!V12/100","v":3.1322123310253414E-3}]
[2020,"transformadores",{"$f":"datos_RdT!C14/100","v":0},{"$f":"datos_RdT!D14/100","v":0},{"$f":"datos_RdT!E14/100","v":0},{"$f":"datos_RdT!F14/100","v":0},{"$f":"datos_RdT!G14/100","v":0},{"$f":"datos_RdT!H14/100","v":4.6109510086455252E-2},{"$f":"datos_RdT!I14/100","v":0},{"$f":"datos_RdT!J14/100","v":0},{"$f":"datos_RdT!K14/100","v":0},{"$f":"datos_RdT!L14/100","v":0},null,{"$f":"datos_RdT!N14/100","v":0},{"$f":"datos_RdT!O14/100","v":0},{"$f":"datos_RdT!P14/100","v":0},{"$f":"datos_RdT!Q14/100","v":0},null,{"$f":"datos_RdT!S14/100","v":0},{"$f":"datos_RdT!T14/100","v":0},{"$f":"datos_RdT!U14/100","v":0},{"$f":"datos_RdT!V14/100","v":1.7814396258977183E-3}]
[2021,"líneas ",{"$f":"datos_RdT!C20","v":6040.4170844672308},{"$f":"datos_RdT!D20","v":3352.40551609258},{"$f":"datos_RdT!E20","v":971.61722446157501},{"$f":"datos_RdT!F20","v":1928.78},{"$f":"datos_RdT!G20","v":2424.82374845086},{"$f":"datos_RdT!H20","v":1578.2450000000001},{"$f":"datos_RdT!I20","v":564.63181039583833},{"$f":"datos_RdT!J20","v":4141.1184755339254},{"$f":"datos_RdT!K20","v":7860.6085058105582},{"$f":"datos_RdT!L20","v":4823.2076273822468},null,{"$f":"datos_RdT!N20","v":3210.5243143557304},{"$f":"datos_RdT!O20","v":2747.3612872727203},{"$f":"datos_RdT!P20","v":257.25705945892298},{"$f":"datos_RdT!Q20","v":2179.605094130528},null,{"$f":"datos_RdT!S20","v":831.98187708924195},{"$f":"datos_RdT!T20","v":494.79909044691846},{"$f":"datos_RdT!U20","v":1360.9362846511258},{"$f":"SUM(C9:U9)","v":44768.320000000007},null,{"$f":"V9-C9","v":38727.902915532773}]
[2021,"posiciones",{"$f":"datos_RdT!C25","v":655},{"$f":"datos_RdT!D25","v":343},{"$f":"datos_RdT!E25","v":99},{"$f":"datos_RdT!F25","v":693},{"$f":"datos_RdT!G25","v":510},{"$f":"datos_RdT!H25","v":651},{"$f":"datos_RdT!I25","v":64},{"$f":"datos_RdT!J25","v":267},{"$f":"datos_RdT!K25","v":499},{"$f":"datos_RdT!L25","v":755},null,{"$f":"datos_RdT!N25","v":228},{"$f":"datos_RdT!O25","v":309},{"$f":"datos_RdT!P25","v":37},{"$f":"datos_RdT!Q25","v":660},null,{"$f":"datos_RdT!S25","v":120},{"$f":"datos_RdT!T25","v":81},{"$f":"datos_RdT!U25","v":241},{"$f":"SUM(C10:U10)+W10","v":6219},{"$f":"datos_RdT!W25","v":7},{"$f":"V10-C10","v":5564}]
[2021,"transformadores",{"$f":"datos_RdT!C27","v":15020},{"$f":"datos_RdT!D27","v":5056},{"$f":"datos_RdT!E27","v":1300},{"$f":"datos_RdT!F27","v":3838},{"$f":"datos_RdT!G27","v":8950},{"$f":"datos_RdT!H27","v":3880},{"$f":"datos_RdT!I27","v":2100},{"$f":"datos_RdT!J27","v":1200},{"$f":"datos_RdT!K27","v":6131},{"$f":"datos_RdT!L27","v":11500},null,{"$f":"datos_RdT!N27","v":3025},{"$f":"datos_RdT!O27","v":5700},{"$f":"datos_RdT!P27","v":600},{"$f":"datos_RdT!Q27","v":11100},null,{"$f":"datos_RdT!S27","v":3450},{"$f":"datos_RdT!T27","v":1600},{"$f":"datos_RdT!U27","v":5100},{"$f":"SUM(C11:U11)+W11","v":90450},{"$f":"datos_RdT!W27","v":900},{"$f":"V11-C11","v":75430}]
[2021,"líneas ",{"$f":"(C9/C3-1)","v":1.2684067575747804E-3},{"$f":"(D9/D3-1)","v":6.065976051017774E-3},{"$f":"(E9/E3-1)","v":3.479946770068576E-4},{"$f":"(F9/F3-1)","v":0},7.1351888649906492E-3,1.1055825577022782E-2,0,0,4.036783984035619E-3,0,null,1.7451030726496342E-2,2.0750803095236581E-2,0,0,null,0,0,5.87865161829626E-5,4.6056287986739886E-3]
[2021,"posiciones",{"$f":"(C10/C4-1)","v":2.5039123630672844E-2},{"$f":"(D10/D4-1)","v":2.3880597014925398E-2},0,1.3157894736842035E-2,1.1904761904761862E-2,4.8309178743961345E-2,1.5873015873015817E-2,2.2988505747126409E-2,2.0080321285140812E-3,6.6666666666665986E-3,null,0.1399999999999999,5.1020408163265252E-2,0,0,null,1.6949152542372836E-2,1.2499999999999956E-2,2.5531914893617058E-2,2.2021364009860322E-2]
[2021,"transformadores",{"$f":"(C11/C5-1)","v":0},{"$f":"(D11/D5-1)","v":0},0,0,0,6.887052341597788E-2,0,null,0,0,null,8.0357142857142794E-2,0,null,0,null,0,0,0,5.2792442345095392E-3]
[2022,"líneas ",{"$f":"datos_RdT!C34","v":6288.0140844672296},{"$f":"datos_RdT!D34","v":3352.40551609258},{"$f":"datos_RdT!E34","v":971.61722446157501},{"$f":"datos_RdT!F34","v":1929.7280000000001},{"$f":"datos_RdT!G34","v":2434.7497484508599},{"$f":"datos_RdT!H34","v":1609.1960000000001},{"$f":"datos_RdT!I34","v":572.80781039583871},{"$f":"datos_RdT!J34","v":4141.1184755339254},{"$f":"datos_RdT!K34","v":7860.7585058105578},{"$f":"datos_RdT!L34","v":4823.2076273822468},null,{"$f":"datos_RdT!N34","v":3210.5243143557304},{"$f":"datos_RdT!O34","v":2747.3612872727203},{"$f":"datos_RdT!P34","v":257.25705945892298},{"$f":"datos_RdT!Q34","v":2179.605094130528},null,{"$f":"datos_RdT!S34","v":831.98187708924195},{"$f":"datos_RdT!T34","v":494.79909044691846},{"$f":"datos_RdT!U34","v":1360.9362846511258},{"$f":"SUM(C15:U15)","v":45066.068000000007},null,{"$f":"V15-C15","v":38778.053915532779}]
[2022,"posiciones",{"$f":"datos_RdT!C39","v":675},{"$f":"datos_RdT!D39","v":349},{"$f":"datos_RdT!E39","v":99},{"$f":"datos_RdT!F39","v":701},{"$f":"datos_RdT!G39","v":521},{"$f":"datos_RdT!H39","v":683},{"$f":"datos_RdT!I39","v":67},{"$f":"datos_RdT!J39","v":276},{"$f":"datos_RdT!K39","v":505},{"$f":"datos_RdT!L39","v":756},null,{"$f":"datos_RdT!N39","v":235},{"$f":"datos_RdT!O39","v":310},{"$f":"datos_RdT!P39","v":37},{"$f":"datos_RdT!Q39","v":663},null,{"$f":"datos_RdT!S39","v":122},{"$f":"datos_RdT!T39","v":81},{"$f":"datos_RdT!U39","v":241},{"$f":"SUM(C16:U16)+W16","v":6328},{"$f":"datos_RdT!W39","v":7},{"$f":"V16-C16","v":5653}]
[2022,"transformadores",{"$f":"datos_RdT!C41","v":15020},{"$f":"datos_RdT!D41","v":5056},{"$f":"datos_RdT!E41","v":1300},{"$f":"datos_RdT!F41","v":3838},{"$f":"datos_RdT!G41","v":8950},{"$f":"datos_RdT!H41","v":4005},{"$f":"datos_RdT!I41","v":2100},{"$f":"datos_RdT!J41","v":1800},{"$f":"datos_RdT!K41","v":6131},{"$f":"datos_RdT!L41","v":11500},null,{"$f":"datos_RdT!N41","v":3025},{"$f":"datos_RdT!O41","v":5700},{"$f":"datos_RdT!P41","v":600},{"$f":"datos_RdT!Q41","v":11100},null,{"$f":"datos_RdT!S41","v":3450},{"$f":"datos_RdT!T41","v":1600},{"$f":"datos_RdT!U41","v":5100},{"$f":"SUM(C17:U17)+W17","v":91175},{"$f":"datos_RdT!W41","v":900},{"$f":"V17-C17","v":76155}]
[2022,"líneas ",{"$f":"(C15/C9-1)","v":4.0990050279257728E-2},{"$f":"(D15/D9-1)","v":0},0,4.9150240048123628E-4,4.0934933956917607E-3,1.9611023637014613E-2,1.4480232692289485E-2,0,1.9082492136446305E-5,0,null,0,0,0,0,null,0,0,0,6.6508638251334684E-3]
[2022,"posiciones",{"$f":"(C16/C10-1)","v":3.0534351145038219E-2},{"$f":"(D16/D10-1)","v":1.7492711370262315E-2},0,1.1544011544011523E-2,2.1568627450980316E-2,4.9155145929339561E-2,4.6875E-2,3.3707865168539408E-2,1.2024048096192397E-2,1.3245033112583293E-3,null,3.0701754385964897E-2,3.2362459546926292E-3,0,4.5454545454546302E-3,null,1.6666666666666607E-2,0,0,1.7526933590609417E-2]
[2022,"transformadores",{"$f":"(C17/C11-1)","v":0},{"$f":"(D17/D11-1)","v":0},0,0,0,3.2216494845360932E-2,0,{"$f":"(J17/J11-1)","v":0.5},0,0,null,0,0,null,0,null,0,0,0,8.0154781647319151E-3]
[2023,"líneas ",{"$f":"datos_RdT!C48","v":6297.0530844672303},{"$f":"datos_RdT!D48","v":3352.40551609258},{"$f":"datos_RdT!E48","v":938.81722446157505},{"$f":"datos_RdT!F48","v":2004.433},{"$f":"datos_RdT!G48","v":2474.7497484508599},{"$f":"datos_RdT!H48","v":1621.7299999999998},{"$f":"datos_RdT!I48","v":572.91481039583869},{"$f":"datos_RdT!J48","v":4141.1184755339254},{"$f":"datos_RdT!K48","v":7860.7585058105578},{"$f":"datos_RdT!L48","v":4838.0376273822467},null,{"$f":"datos_RdT!N48","v":3210.5243143557304},{"$f":"datos_RdT!O48","v":2748.3112872727202},{"$f":"datos_RdT!P48","v":257.25705945892298},{"$f":"datos_RdT!Q48","v":2181.4470941305281},null,{"$f":"datos_RdT!S48","v":831.98187708924195},{"$f":"datos_RdT!T48","v":494.79909044691846},{"$f":"datos_RdT!U48","v":1360.9362846511258},{"$f":"SUM(C21:U21)","v":45187.275000000001},null,{"$f":"V21-C21","v":38890.221915532769}]
[2023,"posiciones",{"$f":"datos_RdT!C53","v":704},{"$f":"datos_RdT!D53","v":363},{"$f":"datos_RdT!E53","v":99},{"$f":"datos_RdT!F53","v":717},{"$f":"datos_RdT!G53","v":533},{"$f":"datos_RdT!H53","v":693},{"$f":"datos_RdT!I53","v":70},{"$f":"datos_RdT!J53","v":279},{"$f":"datos_RdT!K53","v":516},{"$f":"datos_RdT!L53","v":764},null,{"$f":"datos_RdT!N53","v":236},{"$f":"datos_RdT!O53","v":318},{"$f":"datos_RdT!P53","v":38},{"$f":"datos_RdT!Q53","v":675},null,{"$f":"datos_RdT!S53","v":130},{"$f":"datos_RdT!T53","v":87},{"$f":"datos_RdT!U53","v":242},{"$f":"SUM(C22:U22)+W22","v":6471},{"$f":"datos_RdT!W53","v":7},{"$f":"V22-C22","v":5767}]
[2023,"transformadores",{"$f":"datos_RdT!C55","v":15020},{"$f":"datos_RdT!D55","v":5056},{"$f":"datos_RdT!E55","v":1300},{"$f":"datos_RdT!F55","v":3838},{"$f":"datos_RdT!G55","v":8950},{"$f":"datos_RdT!H55","v":4165},{"$f":"datos_RdT!I55","v":2100},{"$f":"datos_RdT!J55","v":1800},{"$f":"datos_RdT!K55","v":6131},{"$f":"datos_RdT!L55","v":11500},null,{"$f":"datos_RdT!N55","v":3025},{"$f":"datos_RdT!O55","v":5700},{"$f":"datos_RdT!P55","v":600},{"$f":"datos_RdT!Q55","v":11700},null,{"$f":"datos_RdT!S55","v":3450},{"$f":"datos_RdT!T55","v":1600},{"$f":"datos_RdT!U55","v":5100},{"$f":"SUM(C23:U23)+W23","v":91935},{"$f":"datos_RdT!W55","v":900},{"$f":"V23-C23","v":76915}]
[2023,"líneas ",{"$f":"(C21/C15-1)","v":1.4374967801564775E-3},{"$f":"(D21/D15-1)","v":0},-3.3758149993868392E-2,3.8712709770496012E-2,1.6428793154389165E-2,7.7889828212347467E-3,1.8679912888419636E-4,0,0,3.0747173138072625E-3,null,0,3.4578633847703877E-4,0,8.4510721917485654E-4,null,0,0,0,2.6895401657849316E-3]
[2023,"posiciones",{"$f":"(C22/C16-1)","v":4.296296296296287E-2},{"$f":"(D22/D16-1)","v":4.0114613180515679E-2},0,2.2824536376604865E-2,2.303262955854124E-2,1.4641288433382194E-2,4.4776119402984982E-2,1.0869565217391353E-2,2.1782178217821802E-2,1.0582010582010692E-2,null,4.2553191489360653E-3,2.5806451612903292E-2,2.7027027027026973E-2,1.8099547511312153E-2,null,6.5573770491803351E-2,7.4074074074074181E-2,4.1493775933609811E-3,2.2597977243995038E-2]
[2023,"transformadores",{"$f":"(C23/C17-1)","v":0},{"$f":"(D23/D17-1)","v":0},0,0,0,3.9950062421972632E-2,0,0,0,0,null,0,0,0,5.4054054054053946E-2,null,0,0,0,8.3356183164244868E-3]
[2024,"líneas ",{"$f":"datos_RdT!C62","v":6336.1630844672309},{"$f":"datos_RdT!D62","v":3355.0245160925797},{"$f":"datos_RdT!E62","v":938.81722446157505},{"$f":"datos_RdT!F62","v":2014.0830000000001},{"$f":"datos_RdT!G62","v":2474.7737484508598},{"$f":"datos_RdT!H62","v":1750.8360000000002},{"$f":"datos_RdT!I62","v":572.91481039583869},{"$f":"datos_RdT!J62","v":4141.1184755339254},{"$f":"datos_RdT!K62","v":7860.7585058105578},{"$f":"datos_RdT!L62","v":4879.0646273822467},{"$f":"datos_RdT!M62","v":0},{"$f":"datos_RdT!N62","v":3274.2693343557303},{"$f":"datos_RdT!O62","v":2795.6282872727197},{"$f":"datos_RdT!P62","v":257.25705945892298},{"$f":"datos_RdT!Q62","v":2184.1110941305278},null,{"$f":"datos_RdT!S62","v":831.98187708924195},{"$f":"datos_RdT!T62","v":494.79909044691846},{"$f":"datos_RdT!U62","v":1507.870284651126},45669.471019999997,null,{"$f":"V27-C27","v":39333.307935532765}]
[2024,"posiciones",{"$f":"datos_RdT!C67","v":730},{"$f":"datos_RdT!D67","v":389},{"$f":"datos_RdT!E67","v":99},{"$f":"datos_RdT!F67","v":728},{"$f":"datos_RdT!G67","v":541},{"$f":"datos_RdT!H67","v":721},{"$f":"datos_RdT!I67","v":73},{"$f":"datos_RdT!J67","v":290},{"$f":"datos_RdT!K67","v":536},{"$f":"datos_RdT!L67","v":773},{"$f":"datos_RdT!M67","v":0},{"$f":"datos_RdT!N67","v":252},{"$f":"datos_RdT!O67","v":342},{"$f":"datos_RdT!P67","v":40},{"$f":"datos_RdT!Q67","v":685},null,{"$f":"datos_RdT!S67","v":132},{"$f":"datos_RdT!T67","v":87},{"$f":"datos_RdT!U67","v":242},{"$f":"SUM(C28:U28)+W28","v":6667},{"$f":"datos_RdT!W67","v":7},{"$f":"V28-C28","v":5937}]
[2024,"transformadores",{"$f":"datos_RdT!C69","v":15020},{"$f":"datos_RdT!D69","v":5656},{"$f":"datos_RdT!E69","v":1300},{"$f":"datos_RdT!F69","v":3998},{"$f":"datos_RdT!G69","v":8950},{"$f":"datos_RdT!H69","v":4540},{"$f":"datos_RdT!I69","v":2100},{"$f":"datos_RdT!J69","v":1800},{"$f":"datos_RdT!K69","v":6131},{"$f":"datos_RdT!L69","v":12000},{"$f":"datos_RdT!M69","v":0},{"$f":"datos_RdT!N69","v":3025},{"$f":"datos_RdT!O69","v":6300},{"$f":"datos_RdT!P69","v":600},{"$f":"datos_RdT!Q69","v":11900},null,{"$f":"datos_RdT!S69","v":3450},{"$f":"datos_RdT!T69","v":1600},{"$f":"datos_RdT!U69","v":5300},{"$f":"SUM(C29:U29)+W29","v":94570},{"$f":"datos_RdT!W69","v":900},{"$f":"V29-C29","v":79550}]
[2024,"líneas ",{"$f":"(C27/C21-1)","v":6.210841718401916E-3},{"$f":"(D27/D21-1)","v":7.8123007119157428E-4},0,4.8143290396835958E-3,9.697950273501732E-6,7.9610046061921791E-2,0,0,0,8.4800911360829456E-3,null,1.9855018607074948E-2,1.7216754237091791E-2,0,1.2212077052740078E-3,null,0,0,0.10796537770147441,1.0671057725875066E-2]
[2024,"posiciones",{"$f":"(C28/C22-1)","v":3.6931818181818121E-2},{"$f":"(D28/D22-1)","v":7.1625344352617137E-2},0,1.5341701534170138E-2,1.5009380863039379E-2,4.0404040404040442E-2,4.2857142857142927E-2,3.9426523297491078E-2,3.8759689922480689E-2,1.1780104712041828E-2,null,6.7796610169491567E-2,7.547169811320753E-2,5.2631578947368363E-2,1.4814814814814836E-2,null,1.538461538461533E-2,0,0,3.0288981610261168E-2]
[2024,"transformadores",{"$f":"(C29/C23-1)","v":0},{"$f":"(D29/D23-1)","v":0.11867088607594933},0,4.1688379364252182E-2,0,9.0036014405762366E-2,0,0,0,4.3478260869565188E-2,null,0,0.10526315789473695,0,1.7094017094017033E-2,null,0,0,3.9215686274509887E-2,2.8661554359058039E-2]
[2025,"líneas ",{"$f":"datos_RdT!C76","v":6456.9480844672307},{"$f":"datos_RdT!D76","v":3355.0245160925797},{"$f":"datos_RdT!E76","v":940.1422244615751},{"$f":"datos_RdT!F76","v":2015.8820000000001},{"$f":"datos_RdT!G76","v":2477.3607484508598},{"$f":"datos_RdT!H76","v":1877.623},{"$f":"datos_RdT!I76","v":573.74981039583872},{"$f":"datos_RdT!J76","v":4141.5364755339251},{"$f":"datos_RdT!K76","v":7860.9245058105589},{"$f":"datos_RdT!L76","v":4948.3816273822467},null,{"$f":"datos_RdT!N76","v":3281.1433343557301},{"$f":"datos_RdT!O76","v":2877.7382872727203},{"$f":"datos_RdT!P76","v":257.25705945892298},{"$f":"datos_RdT!Q76","v":2186.5510941305283},null,{"$f":"datos_RdT!S76","v":832.94787708924196},{"$f":"datos_RdT!T76","v":494.79909044691846},{"$f":"datos_RdT!U76","v":1507.870284651126},{"$f":"datos_RdT!V76","v":46155.200019999997},null,{"$f":"V33-C33","v":39698.251935532768}]
[2025,"posiciones",{"$f":"datos_RdT!C81","v":769},{"$f":"datos_RdT!D81","v":399},{"$f":"datos_RdT!E81","v":100},{"$f":"datos_RdT!F81","v":741},{"$f":"datos_RdT!G81","v":557},{"$f":"datos_RdT!H81","v":764},{"$f":"datos_RdT!I81","v":74},{"$f":"datos_RdT!J81","v":306},{"$f":"datos_RdT!K81","v":546},{"$f":"datos_RdT!L81","v":784},null,{"$f":"datos_RdT!N81","v":267},{"$f":"datos_RdT!O81","v":344},{"$f":"datos_RdT!P81","v":41},{"$f":"datos_RdT!Q81","v":700},null,{"$f":"datos_RdT!S81","v":136},{"$f":"datos_RdT!T81","v":90},{"$f":"datos_RdT!U81","v":246},{"$f":"datos_RdT!V81","v":6879},{"$f":"datos_RdT!W81","v":7},{"$f":"V34-C34","v":6110}]
[2025,"transformadores",{"$f":"datos_RdT!C83","v":15270},{"$f":"datos_RdT!D83","v":6256},{"$f":"datos_RdT!E83","v":1300},{"$f":"datos_RdT!F83","v":4478},{"$f":"datos_RdT!G83","v":8950},{"$f":"datos_RdT!H83","v":4665},{"$f":"datos_RdT!I83","v":2100},{"$f":"datos_RdT!J83","v":1800},{"$f":"datos_RdT!K83","v":6131},{"$f":"datos_RdT!L83","v":12000},null,{"$f":"datos_RdT!N83","v":3025},{"$f":"datos_RdT!O83","v":6300},{"$f":"datos_RdT!P83","v":600},{"$f":"datos_RdT!Q83","v":11900},null,{"$f":"datos_RdT!S83","v":3450},{"$f":"datos_RdT!T83","v":1600},{"$f":"datos_RdT!U83","v":5300},{"$f":"datos_RdT!V83","v":96025},{"$f":"datos_RdT!W83","v":900},{"$f":"V35-C35","v":80755}]
[2025,"líneas ",{"$f":"(C33/C27-1)","v":1.9062798477535781E-2},{"$f":"(D33/D27-1)","v":0},1.4113503304755692E-3,8.9321045855617065E-4,1.0453480855046049E-3,7.241512054812671E-2,1.4574592676757092E-3,1.0093891359774787E-4,2.1117554988903109E-5,1.4207026406450884E-2,null,2.099399682204961E-3,2.9370857482667434E-2,0,1.1171592903664873E-3,null,1.1610829834174385E-3,0,0,1.0635748327088912E-2]
[2025,"posiciones",{"$f":"(C34/C28-1)","v":5.3424657534246522E-2},{"$f":"(D34/D28-1)","v":2.5706940874036022E-2},1.0101010101010166E-2,1.7857142857142794E-2,2.9574861367837268E-2,5.9639389736477089E-2,1.3698630136986356E-2,5.5172413793103559E-2,1.8656716417910557E-2,1.4230271668822736E-2,null,5.9523809523809534E-2,5.8479532163742132E-3,2.4999999999999911E-2,2.1897810218978186E-2,null,3.0303030303030276E-2,3.4482758620689724E-2,1.6528925619834656E-2,3.1798410079496131E-2]
[2025,"transformadores",{"$f":"(C35/C29-1)","v":1.6644474034620549E-2},{"$f":"(D35/D29-1)","v":0.10608203677510608},0,0.12006003001500742,0,2.7533039647577029E-2,0,0,0,0,null,0,0,0,0,null,0,0,0,1.5385428782912047E-2]

{"sheet":"Año","index":6,"n_rows":7,"n_cols":2,"rows_kept":7,"cut":false,"hidden":true,"merged":[]}
[]
[null,2020]
[null,2021]
[null,2022]
[null,2023]
[null,2024]
[null,2025]