{"text_format":"1","workbook":"xlsx","n_sheets":7,"sheets":["AVISO LEGAL","Producible mes","Producible año","Reservas mes","Reservas año","Datos hidraulicos","Año"],"not_rendered":{"charts":0,"images":1,"macros":1,"external_links":0,"defined_names":5,"comments":0,"pivot_tables":0},"unopened":[],"bounds":{"document_bytes":16777216,"sheet_cells":100000,"rows_first":2000,"rows_last":500,"rows_between":2000,"halvings":0,"cell_chars":16384,"cell_head_chars":4096},"cells_cut":0,"cells_raw":0,"read":"whole","date_system":"1900"}

{"sheet":"AVISO LEGAL","index":0,"n_rows":23,"n_cols":10,"rows_kept":23,"cut":false,"hidden":false,"merged":[]}
[]
[null,null,null,null,null,null,null,"Fecha de actualización:",null,"2020-05-12"]
[]
[]
[]
[]
[]
[]
[]
[]
[]
[]
[]
[]
[]
[]
[]
[]
[]
[]
[]
[]
[null,null,null,null,null,null,null,null,null,"www.ree.es"]

{"sheet":"Producible mes","index":1,"n_rows":12,"n_cols":15,"rows_kept":12,"cut":false,"hidden":false,"merged":[]}
[null,null,null,null,null,null,null,null,null,null,null,null,null,null,31]
[]
[]
[null,null,null,null,null,null,null,null,null,null,null,null,"Concepto"]
[null,null,null,null,null,null,null,null,null,null,null,null,"Horizonte temporal"]
[null,null,null,null,null,null,null,null,null,null,null,null,"Periodo"]
[]
[null,null,"Ene.","Feb.","Mar.","Abr.","May.","Jun.","Jul.","Ago.","Sep.","Oct.","Nov.","Dic.",{"$f":"OFFSET(Año!B2,($O$1-1),0)","v":2020}]
[]
[null,"Producible hidráulico (GWh)",{"$f":"OFFSET('Datos hidraulicos'!C3,0,($O$1-1)*13)","v":4477.6593403969837},{"$f":"OFFSET('Datos hidraulicos'!D3,0,($O$1-1)*13)","v":2923.6457004105273},{"$f":"OFFSET('Datos hidraulicos'!E3,0,($O$1-1)*13)","v":3739.2497716995254},{"$f":"OFFSET('Datos hidraulicos'!F3,0,($O$1-1)*13)","v":4421.344742442875},{"$f":"OFFSET('Datos hidraulicos'!G3,0,($O$1-1)*13)","v":"-"},{"$f":"OFFSET('Datos hidraulicos'!H3,0,($O$1-1)*13)","v":"-"},{"$f":"OFFSET('Datos hidraulicos'!I3,0,($O$1-1)*13)","v":"-"},{"$f":"OFFSET('Datos hidraulicos'!J3,0,($O$1-1)*13)","v":"-"},{"$f":"OFFSET('Datos hidraulicos'!K3,0,($O$1-1)*13)","v":"-"},{"$f":"OFFSET('Datos hidraulicos'!L3,0,($O$1-1)*13)","v":"-"},{"$f":"OFFSET('Datos hidraulicos'!M3,0,($O$1-1)*13)","v":"-"},{"$f":"OFFSET('Datos hidraulicos'!N3,0,($O$1-1)*13)","v":"-"},{"$f":"OFFSET('Datos hidraulicos'!O3,0,($O$1-1)*13)","v":15561.899554949909}]
[null,"Índice mes",{"$f":"OFFSET('Datos hidraulicos'!C4,0,($O$1-1)*13)","v":1.1975825750844813},{"$f":"OFFSET('Datos hidraulicos'!D4,0,($O$1-1)*13)","v":0.81935867540520346},{"$f":"OFFSET('Datos hidraulicos'!E4,0,($O$1-1)*13)","v":0.91008759401386785},{"$f":"OFFSET('Datos hidraulicos'!F4,0,($O$1-1)*13)","v":1.1397276766793654},{"$f":"OFFSET('Datos hidraulicos'!G4,0,($O$1-1)*13)","v":"-"},{"$f":"OFFSET('Datos hidraulicos'!H4,0,($O$1-1)*13)","v":"-"},{"$f":"OFFSET('Datos hidraulicos'!I4,0,($O$1-1)*13)","v":"-"},{"$f":"OFFSET('Datos hidraulicos'!J4,0,($O$1-1)*13)","v":"-"},{"$f":"OFFSET('Datos hidraulicos'!K4,0,($O$1-1)*13)","v":"-"},{"$f":"OFFSET('Datos hidraulicos'!L4,0,($O$1-1)*13)","v":"-"},{"$f":"OFFSET('Datos hidraulicos'!M4,0,($O$1-1)*13)","v":"-"},{"$f":"OFFSET('Datos hidraulicos'!N4,0,($O$1-1)*13)","v":"-"},{"$f":"OFFSET('Datos hidraulicos'!O4,0,($O$1-1)*13)","v":1.0174436877819291}]
[null,"Probabilidad de ser superado (%)",{"$f":"OFFSET('Datos hidraulicos'!C5,0,($O$1-1)*13)","v":23.8710275190254},{"$f":"OFFSET('Datos hidraulicos'!D5,0,($O$1-1)*13)","v":59.942742941613638},{"$f":"OFFSET('Datos hidraulicos'!E5,0,($O$1-1)*13)","v":59.404652787281655},{"$f":"OFFSET('Datos hidraulicos'!F5,0,($O$1-1)*13)","v":48.137189280186242},{"$f":"OFFSET('Datos hidraulicos'!G5,0,($O$1-1)*13)","v":"-"},{"$f":"OFFSET('Datos hidraulicos'!H5,0,($O$1-1)*13)","v":"-"},{"$f":"OFFSET('Datos hidraulicos'!I5,0,($O$1-1)*13)","v":"-"},{"$f":"OFFSET('Datos hidraulicos'!J5,0,($O$1-1)*13)","v":"-"},{"$f":"OFFSET('Datos hidraulicos'!K5,0,($O$1-1)*13)","v":"-"},{"$f":"OFFSET('Datos hidraulicos'!L5,0,($O$1-1)*13)","v":"-"},{"$f":"OFFSET('Datos hidraulicos'!M5,0,($O$1-1)*13)","v":"-"},{"$f":"OFFSET('Datos hidraulicos'!N5,0,($O$1-1)*13)","v":"-"},{"$f":"OFFSET('Datos hidraulicos'!O5,0,($O$1-1)*13)","v":49.014499644169938}]

{"sheet":"Producible año","index":2,"n_rows":14,"n_cols":12,"rows_kept":14,"cut":false,"hidden":false,"merged":[[13,1,13,11]]}
[null,null,null,null,null,null,null,null,null,null,null,4]
[]
[]
[null,null,null,null,null,null,null,null,null,"Concepto"]
[null,null,null,null,null,null,null,null,null,"Horizonte temporal"]
[null,null,null,null,null,null,null,null,null,"Periodo"]
[]
[null,null,{"$f":"OFFSET('Datos hidraulicos'!C17,0,($L$1-1)*10)","v":2020},{"$f":"OFFSET('Datos hidraulicos'!D17,0,($L$1-1)*10)","v":2021},{"$f":"OFFSET('Datos hidraulicos'!E17,0,($L$1-1)*10)","v":2022},{"$f":"OFFSET('Datos hidraulicos'!F17,0,($L$1-1)*10)","v":2023},{"$f":"OFFSET('Datos hidraulicos'!G17,0,($L$1-1)*10)","v":2024},{"$f":"OFFSET('Datos hidraulicos'!H17,0,($L$1-1)*10)","v":2025},{"$f":"OFFSET('Datos hidraulicos'!I17,0,($L$1-1)*10)","v":2026},{"$f":"OFFSET('Datos hidraulicos'!J17,0,($L$1-1)*10)","v":2027},{"$f":"OFFSET('Datos hidraulicos'!K17,0,($L$1-1)*10)","v":2028},{"$f":"OFFSET('Datos hidraulicos'!L17,0,($L$1-1)*10)","v":2029}]
[]
[null,"Producible hidráulico (GWh)",{"$f":"OFFSET('Datos hidraulicos'!C18,0,($L$1-1)*10)","v":15561.899554949909},{"$f":"OFFSET('Datos hidraulicos'!D18,0,($L$1-1)*10)","v":"-"},{"$f":"OFFSET('Datos hidraulicos'!E18,0,($L$1-1)*10)","v":"-"},{"$f":"OFFSET('Datos hidraulicos'!F18,0,($L$1-1)*10)","v":"-"},{"$f":"OFFSET('Datos hidraulicos'!G18,0,($L$1-1)*10)","v":"-"},{"$f":"OFFSET('Datos hidraulicos'!H18,0,($L$1-1)*10)","v":"-"},{"$f":"OFFSET('Datos hidraulicos'!I18,0,($L$1-1)*10)","v":"-"},{"$f":"OFFSET('Datos hidraulicos'!J18,0,($L$1-1)*10)","v":"-"},{"$f":"OFFSET('Datos hidraulicos'!K18,0,($L$1-1)*10)","v":"-"},{"$f":"OFFSET('Datos hidraulicos'!L18,0,($L$1-1)*10)","v":"-"}]
[null,"Índice mes",{"$f":"OFFSET('Datos hidraulicos'!C19,0,($L$1-1)*10)","v":1.0174436877819291},{"$f":"OFFSET('Datos hidraulicos'!D19,0,($L$1-1)*10)","v":"-"},{"$f":"OFFSET('Datos hidraulicos'!E19,0,($L$1-1)*10)","v":"-"},{"$f":"OFFSET('Datos hidraulicos'!F19,0,($L$1-1)*10)","v":"-"},{"$f":"OFFSET('Datos hidraulicos'!G19,0,($L$1-1)*10)","v":"-"},{"$f":"OFFSET('Datos hidraulicos'!H19,0,($L$1-1)*10)","v":"-"},{"$f":"OFFSET('Datos hidraulicos'!I19,0,($L$1-1)*10)","v":"-"},{"$f":"OFFSET('Datos hidraulicos'!J19,0,($L$1-1)*10)","v":"-"},{"$f":"OFFSET('Datos hidraulicos'!K19,0,($L$1-1)*10)","v":"-"},{"$f":"OFFSET('Datos hidraulicos'!L19,0,($L$1-1)*10)","v":"-"}]
[null,"Probabilidad de ser superado (%)",{"$f":"OFFSET('Datos hidraulicos'!C20,0,($L$1-1)*10)","v":49.014499644169938},{"$f":"OFFSET('Datos hidraulicos'!D20,0,($L$1-1)*10)","v":"-"},{"$f":"OFFSET('Datos hidraulicos'!E20,0,($L$1-1)*10)","v":"-"},{"$f":"OFFSET('Datos hidraulicos'!F20,0,($L$1-1)*10)","v":"-"},{"$f":"OFFSET('Datos hidraulicos'!G20,0,($L$1-1)*10)","v":"-"},{"$f":"OFFSET('Datos hidraulicos'!H20,0,($L$1-1)*10)","v":"-"},{"$f":"OFFSET('Datos hidraulicos'!I20,0,($L$1-1)*10)","v":"-"},{"$f":"OFFSET('Datos hidraulicos'!J20,0,($L$1-1)*10)","v":"-"},{"$f":"OFFSET('Datos hidraulicos'!K20,0,($L$1-1)*10)","v":"-"},{"$f":"OFFSET('Datos hidraulicos'!L20,0,($L$1-1)*10)","v":"-"}]
[]
[null,{"$f":"IF(MONTH(FACT)=1,\"Datos acumulados a 31 de diciembre.\",CONCATENATE(\"Datos acumulados a 31 de diciembre. Para el año \",YEAR(FACT), \" datos acumulados a \",TEXT(FACT-30,\"mmmm\"),\" de \",YEAR(FACT),\".\"))","v":"Datos acumulados a 31 de diciembre. Para el año 2020 datos acumulados a abril de 2020."}]

{"sheet":"Reservas mes","index":3,"n_rows":18,"n_cols":14,"rows_kept":18,"cut":false,"hidden":false,"merged":[[17,1,17,14]]}
[null,null,null,null,null,null,null,null,null,null,null,null,null,31]
[]
[]
[null,null,null,null,null,null,null,null,null,null,null,"Concepto"]
[null,null,null,null,null,null,null,null,null,null,null,"Horizonte temporal"]
[null,null,null,null,null,null,null,null,null,null,null,"Periodo"]
[]
[null,null,"Ene.","Feb.","Mar.","Abr.","May.","Jun.","Jul.","Ago.","Sep.","Oct.","Nov.","Dic."]
[]
[null,"Reservas embalses anuales (GWh)",{"$f":"OFFSET('Datos hidraulicos'!C8,0,($N$1-1)*12)","v":6049.6398692137509},{"$f":"OFFSET('Datos hidraulicos'!D8,0,($N$1-1)*12)","v":5977.3277981437595},{"$f":"OFFSET('Datos hidraulicos'!E8,0,($N$1-1)*12)","v":6397.6135385666676},{"$f":"OFFSET('Datos hidraulicos'!F8,0,($N$1-1)*12)","v":7238.6496034918946},{"$f":"OFFSET('Datos hidraulicos'!G8,0,($N$1-1)*12)","v":"-"},{"$f":"OFFSET('Datos hidraulicos'!H8,0,($N$1-1)*12)","v":"-"},{"$f":"OFFSET('Datos hidraulicos'!I8,0,($N$1-1)*12)","v":"-"},{"$f":"OFFSET('Datos hidraulicos'!J8,0,($N$1-1)*12)","v":"-"},{"$f":"OFFSET('Datos hidraulicos'!K8,0,($N$1-1)*12)","v":"-"},{"$f":"OFFSET('Datos hidraulicos'!L8,0,($N$1-1)*12)","v":"-"},{"$f":"OFFSET('Datos hidraulicos'!M8,0,($N$1-1)*12)","v":"-"},{"$f":"OFFSET('Datos hidraulicos'!N8,0,($N$1-1)*12)","v":"-"}]
[null,"Reservas embalses hiperanuales (GWh)",{"$f":"OFFSET('Datos hidraulicos'!C9,0,($N$1-1)*12)","v":4154.2039724203551},{"$f":"OFFSET('Datos hidraulicos'!D9,0,($N$1-1)*12)","v":4316.3938224628655},{"$f":"OFFSET('Datos hidraulicos'!E9,0,($N$1-1)*12)","v":4524.8493672935138},{"$f":"OFFSET('Datos hidraulicos'!F9,0,($N$1-1)*12)","v":5244.3157562851338},{"$f":"OFFSET('Datos hidraulicos'!G9,0,($N$1-1)*12)","v":"-"},{"$f":"OFFSET('Datos hidraulicos'!H9,0,($N$1-1)*12)","v":"-"},{"$f":"OFFSET('Datos hidraulicos'!I9,0,($N$1-1)*12)","v":"-"},{"$f":"OFFSET('Datos hidraulicos'!J9,0,($N$1-1)*12)","v":"-"},{"$f":"OFFSET('Datos hidraulicos'!K9,0,($N$1-1)*12)","v":"-"},{"$f":"OFFSET('Datos hidraulicos'!L9,0,($N$1-1)*12)","v":"-"},{"$f":"OFFSET('Datos hidraulicos'!M9,0,($N$1-1)*12)","v":"-"},{"$f":"OFFSET('Datos hidraulicos'!N9,0,($N$1-1)*12)","v":"-"}]
[null,"Total reservas (GWh)",{"$f":"OFFSET('Datos hidraulicos'!C10,0,($N$1-1)*12)","v":10203.843841634131},{"$f":"OFFSET('Datos hidraulicos'!D10,0,($N$1-1)*12)","v":10293.721620606642},{"$f":"OFFSET('Datos hidraulicos'!E10,0,($N$1-1)*12)","v":10922.46290586018},{"$f":"OFFSET('Datos hidraulicos'!F10,0,($N$1-1)*12)","v":12482.965359777028},{"$f":"OFFSET('Datos hidraulicos'!G10,0,($N$1-1)*12)","v":"-"},{"$f":"OFFSET('Datos hidraulicos'!H10,0,($N$1-1)*12)","v":"-"},{"$f":"OFFSET('Datos hidraulicos'!I10,0,($N$1-1)*12)","v":"-"},{"$f":"OFFSET('Datos hidraulicos'!J10,0,($N$1-1)*12)","v":"-"},{"$f":"OFFSET('Datos hidraulicos'!K10,0,($N$1-1)*12)","v":"-"},{"$f":"OFFSET('Datos hidraulicos'!L10,0,($N$1-1)*12)","v":"-"},{"$f":"OFFSET('Datos hidraulicos'!M10,0,($N$1-1)*12)","v":"-"},{"$f":"OFFSET('Datos hidraulicos'!N10,0,($N$1-1)*12)","v":"-"}]
[]
[null,"Llenado embalses anuales (%)",{"$f":"OFFSET('Datos hidraulicos'!C13,0,($N$1-1)*12)","v":67.466505003733744},{"$f":"OFFSET('Datos hidraulicos'!D13,0,($N$1-1)*12)","v":66.660069776159119},{"$f":"OFFSET('Datos hidraulicos'!E13,0,($N$1-1)*12)","v":71.349999999999994},{"$f":"OFFSET('Datos hidraulicos'!F13,0,($N$1-1)*12)","v":80.726522611623224},{"$f":"OFFSET('Datos hidraulicos'!G13,0,($N$1-1)*12)","v":"-"},{"$f":"OFFSET('Datos hidraulicos'!H13,0,($N$1-1)*12)","v":"-"},{"$f":"OFFSET('Datos hidraulicos'!I13,0,($N$1-1)*12)","v":"-"},{"$f":"OFFSET('Datos hidraulicos'!J13,0,($N$1-1)*12)","v":"-"},{"$f":"OFFSET('Datos hidraulicos'!K13,0,($N$1-1)*12)","v":"-"},{"$f":"OFFSET('Datos hidraulicos'!L13,0,($N$1-1)*12)","v":"-"},{"$f":"OFFSET('Datos hidraulicos'!M13,0,($N$1-1)*12)","v":"-"},{"$f":"OFFSET('Datos hidraulicos'!N13,0,($N$1-1)*12)","v":"-"}]
[null,"Llenado embalses hiperanuales (%)",{"$f":"OFFSET('Datos hidraulicos'!C14,0,($N$1-1)*12)","v":43.40320382686248},{"$f":"OFFSET('Datos hidraulicos'!D14,0,($N$1-1)*12)","v":45.097766531722129},{"$f":"OFFSET('Datos hidraulicos'!E14,0,($N$1-1)*12)","v":47.275714114746769},{"$f":"OFFSET('Datos hidraulicos'!F14,0,($N$1-1)*12)","v":54.792712927346301},{"$f":"OFFSET('Datos hidraulicos'!G14,0,($N$1-1)*12)","v":"-"},{"$f":"OFFSET('Datos hidraulicos'!H14,0,($N$1-1)*12)","v":"-"},{"$f":"OFFSET('Datos hidraulicos'!I14,0,($N$1-1)*12)","v":"-"},{"$f":"OFFSET('Datos hidraulicos'!J14,0,($N$1-1)*12)","v":"-"},{"$f":"OFFSET('Datos hidraulicos'!K14,0,($N$1-1)*12)","v":"-"},{"$f":"OFFSET('Datos hidraulicos'!L14,0,($N$1-1)*12)","v":"-"},{"$f":"OFFSET('Datos hidraulicos'!M14,0,($N$1-1)*12)","v":"-"},{"$f":"OFFSET('Datos hidraulicos'!N14,0,($N$1-1)*12)","v":"-"}]
[null,"Llenado total reservas (%)",{"$f":"OFFSET('Datos hidraulicos'!C15,0,($N$1-1)*12)","v":55.04264085316175},{"$f":"OFFSET('Datos hidraulicos'!D15,0,($N$1-1)*12)","v":55.527468961612257},{"$f":"OFFSET('Datos hidraulicos'!E15,0,($N$1-1)*12)","v":58.91909091221077},{"$f":"OFFSET('Datos hidraulicos'!F15,0,($N$1-1)*12)","v":67.336916337072111},{"$f":"OFFSET('Datos hidraulicos'!G15,0,($N$1-1)*12)","v":"-"},{"$f":"OFFSET('Datos hidraulicos'!H15,0,($N$1-1)*12)","v":"-"},{"$f":"OFFSET('Datos hidraulicos'!I15,0,($N$1-1)*12)","v":"-"},{"$f":"OFFSET('Datos hidraulicos'!J15,0,($N$1-1)*12)","v":"-"},{"$f":"OFFSET('Datos hidraulicos'!K15,0,($N$1-1)*12)","v":"-"},{"$f":"OFFSET('Datos hidraulicos'!L15,0,($N$1-1)*12)","v":"-"},{"$f":"OFFSET('Datos hidraulicos'!M15,0,($N$1-1)*12)","v":"-"},{"$f":"OFFSET('Datos hidraulicos'!N15,0,($N$1-1)*12)","v":"-"}]
[]
[null,"Datos a último día de cada mes."]

{"sheet":"Reservas año","index":4,"n_rows":18,"n_cols":12,"rows_kept":18,"cut":false,"hidden":false,"merged":[[17,1,17,11]]}
[null,null,null,null,null,null,null,null,null,null,null,4]
[]
[]
[null,null,null,null,null,null,null,null,null,"Concepto"]
[null,null,null,null,null,null,null,null,null,"Horizonte temporal"]
[null,null,null,null,null,null,null,null,null,"Periodo"]
[]
[null,null,{"$f":"OFFSET('Datos hidraulicos'!C22,0,($L$1-1)*10)","v":2020},{"$f":"OFFSET('Datos hidraulicos'!D22,0,($L$1-1)*10)","v":2021},{"$f":"OFFSET('Datos hidraulicos'!E22,0,($L$1-1)*10)","v":2022},{"$f":"OFFSET('Datos hidraulicos'!F22,0,($L$1-1)*10)","v":2023},{"$f":"OFFSET('Datos hidraulicos'!G22,0,($L$1-1)*10)","v":2024},{"$f":"OFFSET('Datos hidraulicos'!H22,0,($L$1-1)*10)","v":2025},{"$f":"OFFSET('Datos hidraulicos'!I22,0,($L$1-1)*10)","v":2026},{"$f":"OFFSET('Datos hidraulicos'!J22,0,($L$1-1)*10)","v":2027},{"$f":"OFFSET('Datos hidraulicos'!K22,0,($L$1-1)*10)","v":2028},{"$f":"OFFSET('Datos hidraulicos'!L22,0,($L$1-1)*10)","v":2029}]
[]
[null,"Reservas embalses anuales (GWh)",{"$f":"OFFSET('Datos hidraulicos'!C23,0,($L$1-1)*10)","v":7238.6496034918946},{"$f":"OFFSET('Datos hidraulicos'!D23,0,($L$1-1)*10)","v":"-"},{"$f":"OFFSET('Datos hidraulicos'!E23,0,($L$1-1)*10)","v":"-"},{"$f":"OFFSET('Datos hidraulicos'!F23,0,($L$1-1)*10)","v":"-"},{"$f":"OFFSET('Datos hidraulicos'!G23,0,($L$1-1)*10)","v":"-"},{"$f":"OFFSET('Datos hidraulicos'!H23,0,($L$1-1)*10)","v":"-"},{"$f":"OFFSET('Datos hidraulicos'!I23,0,($L$1-1)*10)","v":"-"},{"$f":"OFFSET('Datos hidraulicos'!J23,0,($L$1-1)*10)","v":"-"},{"$f":"OFFSET('Datos hidraulicos'!K23,0,($L$1-1)*10)","v":"-"},{"$f":"OFFSET('Datos hidraulicos'!L23,0,($L$1-1)*10)","v":"-"}]
[null,"Reservas embalses hiperanuales (GWh)",{"$f":"OFFSET('Datos hidraulicos'!C24,0,($L$1-1)*10)","v":5244.3157562851338},{"$f":"OFFSET('Datos hidraulicos'!D24,0,($L$1-1)*10)","v":"-"},{"$f":"OFFSET('Datos hidraulicos'!E24,0,($L$1-1)*10)","v":"-"},{"$f":"OFFSET('Datos hidraulicos'!F24,0,($L$1-1)*10)","v":"-"},{"$f":"OFFSET('Datos hidraulicos'!G24,0,($L$1-1)*10)","v":"-"},{"$f":"OFFSET('Datos hidraulicos'!H24,0,($L$1-1)*10)","v":"-"},{"$f":"OFFSET('Datos hidraulicos'!I24,0,($L$1-1)*10)","v":"-"},{"$f":"OFFSET('Datos hidraulicos'!J24,0,($L$1-1)*10)","v":"-"},{"$f":"OFFSET('Datos hidraulicos'!K24,0,($L$1-1)*10)","v":"-"},{"$f":"OFFSET('Datos hidraulicos'!L24,0,($L$1-1)*10)","v":"-"}]
[null,"Total reservas (GWh)",{"$f":"OFFSET('Datos hidraulicos'!C25,0,($L$1-1)*10)","v":12482.965359777028},{"$f":"OFFSET('Datos hidraulicos'!D25,0,($L$1-1)*10)","v":"-"},{"$f":"OFFSET('Datos hidraulicos'!E25,0,($L$1-1)*10)","v":"-"},{"$f":"OFFSET('Datos hidraulicos'!F25,0,($L$1-1)*10)","v":"-"},{"$f":"OFFSET('Datos hidraulicos'!G25,0,($L$1-1)*10)","v":"-"},{"$f":"OFFSET('Datos hidraulicos'!H25,0,($L$1-1)*10)","v":"-"},{"$f":"OFFSET('Datos hidraulicos'!I25,0,($L$1-1)*10)","v":"-"},{"$f":"OFFSET('Datos hidraulicos'!J25,0,($L$1-1)*10)","v":"-"},{"$f":"OFFSET('Datos hidraulicos'!K25,0,($L$1-1)*10)","v":"-"},{"$f":"OFFSET('Datos hidraulicos'!L25,0,($L$1-1)*10)","v":"-"}]
[]
[null,"Llenado embalses anuales (%)",{"$f":"OFFSET('Datos hidraulicos'!C28,0,($L$1-1)*10)","v":80.726522611623224},{"$f":"OFFSET('Datos hidraulicos'!D28,0,($L$1-1)*10)","v":"-"},{"$f":"OFFSET('Datos hidraulicos'!E28,0,($L$1-1)*10)","v":"-"},{"$f":"OFFSET('Datos hidraulicos'!F28,0,($L$1-1)*10)","v":"-"},{"$f":"OFFSET('Datos hidraulicos'!G28,0,($L$1-1)*10)","v":"-"},{"$f":"OFFSET('Datos hidraulicos'!H28,0,($L$1-1)*10)","v":"-"},{"$f":"OFFSET('Datos hidraulicos'!I28,0,($L$1-1)*10)","v":"-"},{"$f":"OFFSET('Datos hidraulicos'!J28,0,($L$1-1)*10)","v":"-"},{"$f":"OFFSET('Datos hidraulicos'!K28,0,($L$1-1)*10)","v":"-"},{"$f":"OFFSET('Datos hidraulicos'!L28,0,($L$1-1)*10)","v":"-"}]
[null,"Llenado embalses hiperanuales (%)",{"$f":"OFFSET('Datos hidraulicos'!C29,0,($L$1-1)*10)","v":54.792712927346301},{"$f":"OFFSET('Datos hidraulicos'!D29,0,($L$1-1)*10)","v":"-"},{"$f":"OFFSET('Datos hidraulicos'!E29,0,($L$1-1)*10)","v":"-"},{"$f":"OFFSET('Datos hidraulicos'!F29,0,($L$1-1)*10)","v":"-"},{"$f":"OFFSET('Datos hidraulicos'!G29,0,($L$1-1)*10)","v":"-"},{"$f":"OFFSET('Datos hidraulicos'!H29,0,($L$1-1)*10)","v":"-"},{"$f":"OFFSET('Datos hidraulicos'!I29,0,($L$1-1)*10)","v":"-"},{"$f":"OFFSET('Datos hidraulicos'!J29,0,($L$1-1)*10)","v":"-"},{"$f":"OFFSET('Datos hidraulicos'!K29,0,($L$1-1)*10)","v":"-"},{"$f":"OFFSET('Datos hidraulicos'!L29,0,($L$1-1)*10)","v":"-"}]
[null,"Llenado total reservas (%)",{"$f":"OFFSET('Datos hidraulicos'!C30,0,($L$1-1)*10)","v":67.336916337072111},{"$f":"OFFSET('Datos hidraulicos'!D30,0,($L$1-1)*10)","v":"-"},{"$f":"OFFSET('Datos hidraulicos'!E30,0,($L$1-1)*10)","v":"-"},{"$f":"OFFSET('Datos hidraulicos'!F30,0,($L$1-1)*10)","v":"-"},{"$f":"OFFSET('Datos hidraulicos'!G30,0,($L$1-1)*10)","v":"-"},{"$f":"OFFSET('Datos hidraulicos'!H30,0,($L$1-1)*10)","v":"-"},{"$f":"OFFSET('Datos hidraulicos'!I30,0,($L$1-1)*10)","v":"-"},{"$f":"OFFSET('Datos hidraulicos'!J30,0,($L$1-1)*10)","v":"-"},{"$f":"OFFSET('Datos hidraulicos'!K30,0,($L$1-1)*10)","v":"-"},{"$f":"OFFSET('Datos hidraulicos'!L30,0,($L$1-1)*10)","v":"-"}]
[]
[null,{"$f":"IF(MONTH(FACT)=1,\"Datos a 31 de diciembre.\",CONCATENATE(\"Datos a 31 de diciembre. Para el año \",YEAR(FACT), \" datos a \",TEXT(FACT-30,\"mmmm\"),\" de \",YEAR(FACT),\".\"))","v":"Datos a 31 de diciembre. Para el año 2020 datos a abril de 2020."}]

{"sheet":"Datos hidraulicos","index":5,"n_rows":30,"n_cols":405,"rows_kept":30,"cut":false,"hidden":true,"merged":[]}
[]
[null,"Producible hidráulico mensual peninsular (GWh)","1990-01-01","1990-02-01","1990-03-01","1990-04-01","1990-05-01","1990-06-01","1990-07-01","1990-08-01","1990-09-01","1990-10-01","1990-11-01","1990-12-01","1990","1991-01-01","1991-02-01","1991-03-01","1991-04-01","1991-05-01","1991-06-01","1991-07-01","1991-08-01","1991-09-01","1991-10-01","1991-11-01","1991-12-01","1991","1992-01-01","1992-02-01","1992-03-01","1992-04-01","1992-05-01","1992-06-01","1992-07-01","1992-08-01","1992-09-01","1992-10-01","1992-11-01","1992-12-01","1992","1993-01-01","1993-02-01","1993-03-01","1993-04-01","1993-05-01","1993-06-01","1993-07-01","1993-08-01","1993-09-01","1993-10-01","1993-11-01","1993-12-01","1993","1994-01-01","1994-02-01","1994-03-01","1994-04-01","1994-05-01","1994-06-01","1994-07-01","1994-08-01","1994-09-01","1994-10-01","1994-11-01","1994-12-01","1994","1995-01-01","1995-02-01","1995-03-01","1995-04-01","1995-05-01","1995-06-01","1995-07-01","1995-08-01","1995-09-01","1995-10-01","1995-11-01","1995-12-01","1995","1996-01-01","1996-02-01","1996-03-01","1996-04-01","1996-05-01","1996-06-01","1996-07-01","1996-08-01","1996-09-01","1996-10-01","1996-11-01","1996-12-01","1996","1997-01-01","1997-02-01","1997-03-01","1997-04-01","1997-05-01","1997-06-01","1997-07-01","1997-08-01","1997-09-01","1997-10-01","1997-11-01","1997-12-01","1997","1998-01-01","1998-02-01","1998-03-01","1998-04-01","1998-05-01","1998-06-01","1998-07-01","1998-08-01","1998-09-01","1998-10-01","1998-11-01","1998-12-01","1998","1999-01-01","1999-02-01","1999-03-01","1999-04-01","1999-05-01","1999-06-01","1999-07-01","1999-08-01","1999-09-01","1999-10-01","1999-11-01","1999-12-01","1999","2000-01-01","2000-02-01","2000-03-01","2000-04-01","2000-05-01","2000-06-01","2000-07-01","2000-08-01","2000-09-01","2000-10-01","2000-11-01","2000-12-01","2000","2001-01-01","2001-02-01","2001-03-01","2001-04-01","2001-05-01","2001-06-01","2001-07-01","2001-08-01","2001-09-01","2001-10-01","2001-11-01","2001-12-01","2001","2002-01-01","2002-02-01","2002-03-01","2002-04-01","2002-05-01","2002-06-01","2002-07-01","2002-08-01","2002-09-01","2002-10-01","2002-11-01","2002-12-01","2002","2003-01-01","2003-02-01","2003-03-01","2003-04-01","2003-05-01","2003-06-01","2003-07-01","2003-08-01","2003-09-01","2003-10-01","2003-11-01","2003-12-01","2003","2004-01-01","2004-02-01","2004-03-01","2004-04-01","2004-05-01","2004-06-01","2004-07-01","2004-08-01","2004-09-01","2004-10-01","2004-11-01","2004-12-01","2004","2005-01-01","2005-02-01","2005-03-01","2005-04-01","2005-05-01","2005-06-01","2005-07-01","2005-08-01","2005-09-01","2005-10-01","2005-11-01","2005-12-01","2005","2006-01-01","2006-02-01","2006-03-01","2006-04-01","2006-05-01","2006-06-01","2006-07-01","2006-08-01","2006-09-01","2006-10-01","2006-11-01","2006-12-01","2006","2007-01-01","2007-02-01","2007-03-01","2007-04-01","2007-05-01","2007-06-01","2007-07-01","2007-08-01","2007-09-01","2007-10-01","2007-11-01","2007-12-01","2007","2008-01-01","2008-02-01","2008-03-01","2008-04-01","2008-05-01","2008-06-01","2008-07-01","2008-08-01","2008-09-01","2008-10-01","2008-11-01","2008-12-01","2008","2009-01-01","2009-02-01","2009-03-01","2009-04-01","2009-05-01","2009-06-01","2009-07-01","2009-08-01","2009-09-01","2009-10-01","2009-11-01","2009-12-01","2009","2010-01-31","2010-02-28","2010-03-31","2010-04-30","2010-05-31","2010-06-30","2010-07-31","2010-08-31","2010-09-30","2010-10-31","2010-11-30","2010-12-31","2010","2011-01-31","2011-02-28","2011-03-31","2011-04-30","2011-05-31","2011-06-30","2011-07-31","2011-08-31","2011-09-30","2011-10-31","2011-11-30","2011-12-31","2011","2012-01-31","2012-02-29","2012-03-31","2012-04-30","2012-05-31","2012-06-30","2012-07-31","2012-08-31","2012-09-30","2012-10-31","2012-11-30","2012-12-31","2012","2013-01-31","2013-02-28","2013-03-31","2013-04-30","2013-05-31","2013-06-30","2013-07-31","2013-08-31","2013-09-30","2013-10-31","2013-11-30","2013-12-31","2013","2014-01-31","2014-02-28","2014-03-31","2014-04-30","2014-05-31","2014-06-30","2014-07-31","2014-08-31","2014-09-30","2014-10-31","2014-11-30","2014-12-31","2014","2015-01-31","2015-02-28","2015-03-31","2015-04-30","2015-05-31","2015-06-30","2015-07-31","2015-08-31","2015-09-30","2015-10-31","2015-11-30","2015-12-31","2015","2016-01-31","2016-02-29","2016-03-31","2016-04-30","2016-05-31","2016-06-30","2016-07-31","2016-08-31","2016-09-30","2016-10-31","2016-11-30","2016-12-31","2016","2017-01-31","2017-02-28","2017-03-31","2017-04-30","2017-05-31","2017-06-30","2017-07-31","2017-08-31","2017-09-30","2017-10-31","2017-11-30","2017-12-31","2017","2018-01-31","2018-02-28","2018-03-31","2018-04-30","2018-05-31","2018-06-30","2018-07-31","2018-08-31","2018-09-30","2018-10-31","2018-11-30","2018-12-31","2018","2019-01-31","2019-02-28","2019-03-31","2019-04-30","2019-05-31","2019-06-30","2019-07-31","2019-08-31","2019-09-30","2019-10-31","2019-11-30","2019-12-31","2019","2020-01-31","2020-02-28","2020-03-31","2020-04-30","2020-05-31","2020-06-30","2020-07-31","2020-08-31","2020-09-30","2020-10-31","2020-11-30","2020-12-31","2020"]
[null,"Producible hidraulico (GWh)","-","-","-","-","-","-","-","-","-","-","-","-","-",3271.310399999998,2052.348899999999,6101.5388000000003,3148.3003000000008,2248.021699999998,1517.1972000000017,687.30960000000107,423.54300000000052,468.24390000000102,1031.5636999999983,2067.3470999999968,1389.1853000000015,24405.909899999991,1114.3836000000013,750.3205000000022,793.59299999999848,2829.5458999999987,1558.6224999999999,1819.6421999999989,942.52989999999897,534.72640000000308,802.7841999999988,1940.9221000000018,2162.6986999999995,3205.0854999999983,18454.854500000012,1453.7293000000018,892.8647000000035,1752.6551999999974,1499.5641999999968,2943.8387000000007,2169.863600000001,715.29080000000079,364.73689999999874,838.57019999999852,4032.6911000000005,2665.333699999997,2490.3812999999982,21819.519700000001,4933.4197999999988,2916.1679000000008,2717.3326999999945,1595.7346999999993,3626.360499999998,1648.4470000000031,600.46259999999984,314.46480000000031,555.09120000000064,1286.8288999999984,2219.7326000000016,1465.8590000000033,23879.901699999995,3541.8669000000004,3193.4034000000029,2772.4561999999996,1046.2757000000038,1429.4458999999972,1017.9943,618.73049999999989,300.46929999999884,577.35469999999816,575.1827000000028,1712.8589999999986,4656.2301999999991,21442.268799999998,9094.5355,5099.1702000000005,3461.5581000000002,3740.646899999997,3942.7284,2034.5722999999987,933.48119999999767,674.49519999999973,691.03890000000013,955.99770000000217,2252.2896999999989,6205.0063000000018,39085.520400000009,7042.7408000000005,3343.4194000000025,2002.6565999999996,1412.2120999999986,2050.8848000000021,2430.9980999999984,1218.9862000000019,800.39170000000092,740.41329999999948,1015.031799999999,5809.8202999999994,7495.6986000000006,35363.253700000016,4936.3194999999987,3495.8964000000005,2044.0003000000031,4239.068299999999,4013.6643000000017,2634.2333999999983,701.87289999999985,543.23450000000093,911.9897999999996,1390.6009000000006,704.19080000000042,1065.8421000000008,26680.913200000028,1693.759600000001,1305.3253000000009,2113.0543000000007,1802.7276999999997,2842.6937999999996,1235.2327999999995,434.18740000000105,404.80539999999871,1009.6883,2716.6221999999989,2222.3807999999995,2668.8224000000018,20449.300000000007,1760.4736000000034,1178.3582000000001,887.68859999999972,4457.3505999999988,4383.1448000000019,1525.9665000000007,467.26359999999903,258.48830000000061,400.58560000000125,778.28270000000032,3573.158100000001,6932.2372000000014,26602.997799999997,7900.5529000000015,4936.7667000000029,7585.0550999999987,3378.3846999999982,2971.9243000000019,1361.930900000001,748.07030000000134,336.50360000000057,393.09170000000148,1197.4426999999989,785.8187999999999,592.20749999999998,32187.74920000002,1231.2996000000001,1411.4476000000004,2140.5437000000006,1700.6139000000001,1738.2671000000003,1228.4644000000001,496.98689999999993,319.94960000000003,629.20319999999981,1381.5771000000002,3219.8176000000003,6064.5099,21562.680600000007,6336.0815000000011,4195.8479000000007,4360.6399999999994,3925.4650000000001,2911.3942999999999,1314.7265,521.2421999999998,268.41470000000004,703.70950000000005,1717.1362999999997,3864.3421999999996,4642.7530999999999,34761.753199999985,3731.8850999999981,2486.4739999999979,2702.4129000000003,2806.1774999999993,2976.8784000000001,1717.8491000000001,732.02259999999887,443.8516000000015,633.69080000000542,1346.6882000000026,1768.2154999999984,1672.234400000001,23018.380100000002,1546.697999999999,1056.9744000000023,1508.4081000000015,2176.6339999999996,1828.3503999999987,838.61909999999762,183.97090000000179,93.084999999997393,231.87639999999806,901.27779999999814,1487.0602999999967,1859.4277000000006,13712.382099999983,1513.6502999999996,1259.9496999999981,4146.3932999999979,2571.3433000000018,1357.3959000000013,703.44330000000161,430.84805100000284,327.55757499999976,517.28509000000065,2637.3567299999995,4919.6458929999972,4044.0626549999947,24428.931794,1682.5244050000003,3734.038477000001,2996.7811380000003,2854.4568430000004,2883.6840379999994,1803.1835189999997,436.23758400000008,194.78070700000009,344.73914599999983,723.5230489999999,558.93239599999993,548.23891700000001,18761.120218999971,1383.0392559999996,918.62651300000016,1217.5214649999998,4075.5491930000035,3643.6565950000013,2684.0526840000002,726.61948300000006,184.55081799999994,357.59650599999992,543.84690100000023,1413.5965549999996,2425.6146179999992,19574.27058700001,2994.4984249999993,3854.915003999999,2643.1372609999994,1906.2921239999998,2128.364771,1200.2366729999994,410.39179999999993,202.22379699999996,266.89466300000026,638.02385300000003,1897.421443,4814.7953530000004,22957.195166999983,6610.0100220000004,5217.4425070000007,6081.1653960000003,4089.3824269999982,3311.8516499999996,2978.6885880000004,1150.0021460000005,345.88723799999997,442.14345299999974,978.26276300000029,2470.0966569999996,4495.3020669999996,38170.234914000015,5690.4584097059987,3519.883384998001,4251.8494263999983,3663.4666729640012,2662.5380961579999,1518.4574325960002,681.72586573600097,469.81538498200018,494.27984461199856,631.15744698800097,2459.2395900200008,1686.9617985499999,27729.833353710001,1194.9603333599989,1140.1857996200001,960.2370723800002,2348.568943016,3408.3526251940011,1318.6631737759992,536.4172111040001,264.85660521199947,389.67345880200054,1171.5321217059995,2083.326045234,3194.4258722940012,18011.199261697991,4965.8513892600013,4236.0789366159997,8077.7768695000004,6636.4401599780022,3929.6709655499999,2840.4438435320003,1597.1296779140009,832.78918886599843,742.67587237199984,1810.4317666180007,2548.7400331239996,2756.2125506100006,40974.241253939974,6687.3193489299993,6792.6495383600004,5082.7610742580027,5373.3550318279986,2580.5914279420003,1940.2650019719993,1243.0720968840003,765.36046912800055,962.99279965799974,1891.8400410800007,3393.64208349,3557.2237279740011,40271.072641503983,2629.0981113639996,4293.1022215260009,4140.6985677779994,2941.1846434859995,2629.447014072,1517.6423493080008,584.72973668799955,655.48622309199959,886.82594889000086,1515.296984544,2009.0666569959992,1338.3168051059993,25140.895262849976,6024.0667649500028,4889.4513385740011,4602.6685029659984,6104.8204479240021,5483.094989512002,2111.5532558839991,914.52889822600002,366.84753494400064,469.95113444000026,729.40681459199959,1592.1138402180002,1378.3798835420005,34666.883405772016,1123.6555963339999,3802.1159138619996,2666.6077937360005,1545.5855124679995,1989.5344081560004,1074.2611707759995,557.14756095200039,252.81766673399949,287.44530443800073,410.84120737799958,528.11249853200013,1733.8832916699996,15972.007925036016,2709.4126197859996,2607.0492913499997,8485.1852005560013,6916.2293902460015,3721.0557113239984,3498.3637415840003,1397.2943275860009,1173.8576536067374,802.42353572744719,900.11499596997294,2542.1165658182663,2649.6690392150904,37402.772072769512,2025.8634124472801,3278.4346523268982,2258.0614295227197,2474.6888959901612,2276.0000289852464,1071.8372868703414,413.22055001416237,356.37662965214872,428.45710091700164,1013.7343896323372,4112.1342778652815,6279.8377035580497,25988.646357781632,4477.6593403969837,2923.6457004105273,3739.2497716995254,4421.344742442875,"-","-","-","-","-","-","-","-",15561.899554949909]
[null,"Índice de producible","-","-","-","-","-","-","-","-","-","-","-","-","-",0.89328312331524418,0.73142690191542292,1.9779509570602929,1.1012139945559953,0.85502696384294119,0.94814405694531645,1.1021165812661815,1.2088165085362816,0.86248868261623113,0.7757051778349201,0.89980016069808355,0.44977941508198843,0.98117985987159073,0.30430009416999604,0.25818236960085811,0.25726100993840212,0.98971992707256562,0.59281645900139479,1.1371514116272412,1.5113681390877609,1.5261404387988422,1.4787000686674667,1.4595156098883961,0.94130136047378732,1.0377172012097737,0.73895514271095675,0.39696381289861271,0.31820382068109682,0.56816258059961766,0.52451828778060394,1.119678455819334,1.3560157352794799,1.1469850720943686,1.040980457692241,1.5446166134342094,3.0324635956837227,1.1600701650796903,0.80631593527884293,0.8772003735747389,1.3471484233257929,1.0392792631711918,0.88088447698082639,0.55815685156800687,1.3792731663199564,1.0301661684053578,0.96285544082346808,0.89750094227400767,1.0224583338295756,0.96765700529944487,0.96612501605888024,0.47460421846723344,0.96003298790156411,0.96716286134109553,1.1380819096734385,0.89875399861388128,0.36596681803316988,0.54368460404752283,0.6361765270521238,0.99214843410468001,0.85755696623091082,1.0634669124473095,0.43252025889537637,0.74551138676865625,1.5075573401497175,0.86203392468120954,2.4834069786044672,1.754604659254382,1.1221418696566856,1.3084052734653351,1.4996025586004531,1.2714679638682171,1.4968583427617606,1.9250487735329815,1.2728691831277852,0.71888179652723094,0.98029529438894936,2.0090078006109415,1.5650324582680399,1.9231319346900575,1.1915454012453364,0.64920615413166127,0.49396422819046482,0.78004665334664736,1.5192068644473848,1.9546721060707632,2.2843647522339379,1.3638150795099189,0.76327368142859198,2.5286886945917288,2.4268979321469035,1.4216930428793209,1.3479402323429615,1.2458859569487826,0.66260864384186691,1.4827433507021837,1.5265827728948562,1.6462149698251816,1.1254691641603423,1.5504230541089168,1.6798529167415486,1.0456904585067333,0.3064947318242367,0.34508991443240727,1.0726407981544712,0.46250788846976443,0.44640469149494916,0.68499405019031745,0.63055896275642487,1.081208357085323,0.77193567076443392,0.69622937453056455,1.1553383015765357,1.8598100940984392,2.0428189812818096,0.96727762888599511,0.86409018151121242,0.82211404494581597,0.48072520294070409,0.40546847955587112,0.28776421383102752,1.5590942386793787,1.6671133514538496,0.95362426721631466,0.74926781378017526,0.73774073542350904,0.7378644898930512,0.5852454096720765,1.5551951738436498,2.2444648622653856,1.0652168531503867,2.1573711166110421,1.7593908973567942,2.4588661133155547,1.1816930267528338,1.1303607127102298,0.85111328231108374,1.1995477461434658,0.9604009672262076,0.72406099146272973,0.90044124521891156,0.34202281877076968,0.19174025449100734,1.2940296583508217,0.33622585995655185,0.503019123738639,0.6939053571280055,0.59484154863386118,0.66114363614064575,0.76770588558223862,0.79692980159461868,0.91315488245486165,1.1589700134180407,1.0389048296757195,1.4014058857840188,1.963518988849742,0.86687478632230297,1.7301674191174099,1.4953383561661151,1.4135994777899952,1.3730510374565441,1.107338345034057,0.82161377405884695,0.83582372700113927,0.76607126193518271,1.2962079796437826,1.2912353536270214,1.6819312695736439,1.5031938314406912,1.3975111877991002,1.019050340799706,0.85558604525788851,0.87604788843219072,0.98154611687079385,1.1322449868173581,1.0735377147373188,1.1738148940762345,1.2667784414339121,1.1672360137057398,1.0126694160226772,0.76960496427950742,0.54142281113396429,0.92168433794861615,0.4223503890873338,0.3766900992301625,0.4889843927621178,0.76134408837250789,0.69540649512103347,0.52407934558923974,0.29500152385542733,0.26567003750999657,0.42710811772623658,0.67773406152975846,0.64723388583742891,0.60203077537118077,0.55127275330077719,0.41332619111627461,0.44902750484591847,1.3441465939843538,0.89940569734335574,0.51628064582733291,0.43960375374605365,0.69087465243220791,0.93486848833792657,0.95282081797780638,1.9832137087208248,2.1412457371570897,1.3093545803578606,0.98210539876038694,0.45943994050595871,1.3307562836246292,0.97147396981353862,0.99843328870747339,1.0967988466007665,1.1268658662971365,0.69951689122034388,0.55591553671284444,0.63499729922756876,0.54406778310656867,0.24327190133682228,0.17750445488693448,0.75424490965249624,0.37766077663167391,0.31609581492777128,0.39468695125534559,1.4255475587360571,1.3858516738113174,1.6773486010010585,1.1651508730350326,0.52671883483441917,0.65868010105012897,0.40895667136714486,0.61525924086538697,0.78534629188658944,0.78377794390519129,0.8176952287519339,1.3738348964559586,0.85683235760734167,0.66678377684005308,0.80951588149634346,0.75006549473777528,0.65807258853313522,0.57715855115652825,0.49161051812564505,0.47977493426172979,0.82584105945411501,1.5588963096656823,0.92293783060314472,1.8049679411642594,1.8594196185730645,1.9713464601847877,1.4303861539840268,1.2596508570169662,1.8614758069702697,1.8440546059567489,0.98718241922642402,0.81441258349625156,0.7356244607504091,1.0750944381368772,1.4554533036824615,1.5345408508692497,1.3932892827486887,1.1790217496945616,1.2542173051402303,1.1593816678323188,0.84520829397179265,0.75309267773797672,0.75396149397455237,0.83820551830837275,0.66080579586490951,0.3921874541226994,0.91010317466569723,0.44053404219076514,0.95162409669360837,0.28477264781804834,0.36062577790956157,0.29214890019092415,0.73945100135581066,1.0782076170816641,0.65633577390969211,0.59672549679371989,0.47397763930018305,0.52278011556981197,0.73931815369436371,0.76743819556402004,0.83273959057260016,0.61409918586620216,1.1840475527598935,1.3811099623656105,2.4556814483838081,2.1118604973791548,1.2113900493497214,1.4390083115920989,1.8366702312171603,1.5439211510637907,1.0331617923599965,1.1791534622958535,0.94433189822408548,0.72139833897227579,1.408356842909203,1.534088225205845,2.1041079575587625,1.4130115688296543,1.5852112755169707,0.786559094820799,0.97155919306776706,1.3719052033656418,1.3724360268694666,1.3589663637362543,1.3397705859920146,1.265462590680611,0.93088156301848102,1.3450738172652816,0.59351474405833549,1.2595923837290235,1.1184030743856994,0.82440995191556654,0.81763835343955016,0.75764334788965704,0.62700857183331971,1.1397019319460153,1.2254408981414333,1.0568927062520939,0.73633000762827727,0.3418554647635958,0.82064663448889963,1.3792675177550267,1.369460665083172,1.2254904100264463,1.670737390889562,1.6782803613674941,1.044821549802635,0.98852143309677409,0.62326944010326424,0.64058711081534891,0.49406924772362676,0.58174106413159121,0.36893137675628168,1.1243663743130567,0.26801814699727083,1.1123520916426095,0.70273798995078307,0.41176168331954693,0.59805916672710624,0.53374485880265421,0.60933789420441942,0.44786341176549377,0.40231168254330851,0.28218729913517482,0.19617528317813226,0.49927424018704525,0.52691726423567176,0.69929944070823846,0.76172206401647868,2.2245085340373345,1.8445974241328149,1.1240162402286451,1.8117504093284065,1.6088094488069151,2.2278179175490029,1.1760544277467802,0.63478022956928137,1.0537639685885374,0.83832152942410254,1.2821831304208802,0.54189409886888185,0.97538785331392253,0.54805787151215546,0.64059049739297225,0.69490546111059293,0.54731959552080633,0.46278414070267121,0.64964815676292476,0.64098907544099704,0.73402917419844338,1.6487270823151887,1.9461826015847234,0.8801258005449254,1.1975825750844813,0.81935867540520346,0.91008759401386785,1.1397276766793654,"-","-","-","-","-","-","-","-",1.0174436877819291]
[null,"Probabilidad de ser superado (%)","-","-","-","-","-","-","-","-","-","-","-","-","-",51.329220385006025,58.492105883003532,5.1496924655549003,30.786786096088736,59.580120231738718,42.069608557139681,30.140103971816057,23.988564945703526,66.375083297817213,65.991766877627327,53.763424945337171,88.663879802335558,49.047878372061064,96.947573823082962,97.410500108023157,99.077069391737723,40.151849542369014,89.493566523336867,26.019343283676967,11.95224618586388,10.050640132243716,11.232662103624392,22.197170834802016,50.595032871033055,41.968865114450217,82.727822139169007,92.204807077492077,94.492703683189077,79.035267695152839,89.478630277163091,30.794459234230253,14.199891331347548,27.312191077076942,36.697842649479639,8.9042208678777097,1.6662221233814667,36.174330798998092,58.834790519134636,63.995257573749839,25.188146358027485,35.597789182820662,48.027132395192574,86.549958027834478,14.071459485255122,34.378733395618589,40.542675786498108,50.959540605156747,46.258691591395021,50.009804451518214,48.762986441013233,86.82459003276513,52.012615028347177,45.920574158839244,30.148274693825684,46.464979086038596,98.229949389279881,93.214578455629763,77.981114803437976,38.144876050650012,55.399898511866418,41.553586374593365,93.328242555962191,66.508089840798633,20.235162422214525,66.196724704327693,4.3306273349526307,10.75824394472329,30.062185071400016,18.149932152327032,9.5446620809600304,18.019693144009153,12.357354702954304,3.2266010276616131,22.389445510621186,71.02080522104464,47.739066377612069,9.3739391872083804,5.2950166450065561,10.08484873509965,27.54460355108731,70.781654370260554,91.839373651958667,68.997261760052027,8.8813473929586273,4.3401369052010752,1.1651323308394468,16.63566989092029,67.087920360660007,4.1932457754671244,5.0801093533558657,9.8671466182836181,25.156129341133273,25.126046028371572,69.39495972340346,11.400016365001198,8.7366715104763788,6.1341350118439113,28.637735858525971,9.3850935493563608,5.4629578201111251,44.264559257904736,97.696355787479732,95.115825955495978,37.14761541050202,87.654748502914515,84.966488811752484,67.080424360280617,79.300211520609338,34.266484214309912,61.812154040463483,66.830575893101468,27.570933222569149,2.8031133423098153,8.1953244952510662,48.679101482424137,54.23903897976237,71.891261897618207,86.256105608285083,88.392205513924537,98.371226848517693,9.2703586924546162,5.4780377394791246,41.521617526854627,61.121655537755473,69.324485267989616,81.503489626615234,82.567636929950154,19.18782608009435,6.6137268471893496,38.046876913182061,7.0362869748138763,10.674711347455801,1.9896023525113438,25.183149191951493,29.878836696953591,52.502936660120369,24.30193583500786,44.347538501851048,82.994480112422551,55.345382130541786,96.416487048705136,99.595628584781522,16.648633278860501,95.568724926411917,79.858758546190799,66.161372253232059,83.01618296953086,82.949496894525112,62.321310324322575,56.126743484606422,49.2669245235315,31.758636749752313,44.743906920839983,24.595521312768696,10.037715831478389,65.495458538666298,13.652083786276714,16.507855533506767,16.504705017630961,15.298040421028636,31.878409426614439,55.9095873214535,52.194780983175384,66.005015420773717,20.774279801488593,29.553604200820171,15.643347334701406,20.37342125518694,10.923138126519728,42.398152388014289,48.164027255951147,48.456029814279866,40.912226897203794,29.719509479920369,30.76334929242519,25.736023083165684,20.565266586804221,30.993347396259463,46.633930775043567,64.440141383925436,81.480507915014215,57.517112840637722,90.542130895942847,90.610722813247548,86.454785288092012,64.471055171777962,79.181605593906284,89.316799220445233,98.685178274867638,99.869939815210515,99.471695232413609,74.65976152641673,75.041479797282818,76.318673527270576,97.400230187448074,91.148807096445978,84.738035134176684,19.066375857755467,49.078885145708149,94.894303190182612,95.269490350144409,67.411444000381309,46.969217410327282,54.786582949224098,9.0631667762486874,7.5609470532339902,27.583459794906261,48.919584911278932,87.885256588787243,21.768507654615554,40.485426095727547,39.352203742736378,32.826474911937133,26.742362365926752,66.474153181171062,88.482539387126565,91.189279451516654,85.84004232090173,99.185486865028011,99.727074070816286,80.882895189171336,93.372834791373322,94.614616354358745,93.571008381859443,13.296571955314885,13.780254295728733,5.6003870951479957,26.235840174947356,90.854453469907327,89.275525108442778,94.576148466424499,77.792052579410026,60.556872903070548,77.11208825432611,57.31408014199382,20.242954368288689,50.18503820343598,75.325233880815517,65.300179042780925,64.450867847129828,70.969970647681379,86.594759683976562,98.339964627448481,90.447634102452696,59.708605190183462,18.678909608282645,57.335337166816338,12.13238094938427,9.0790835109434873,5.2190872922277753,13.125133210835461,20.418858338878454,3.2674791698923511,5.5770370915709355,41.696839956663553,72.470630548940392,69.535719386411756,41.309965963512774,21.950547587463298,6.0598624340459377,22.490946998638162,25.011188587760856,31.522941370080694,33.709003806215229,68.824641962914242,72.282399437496679,59.359961032324769,62.61054420999649,90.968461574078077,94.640548532464493,55.280467045490525,80.146882541206082,55.057053727753434,94.68165603568805,87.424679066421135,97.83776607252652,74.348892731898758,41.961162929820794,84.187835904803578,84.306495800629847,99.104951717119476,97.564787343235921,60.28795022401404,66.30555896437258,49.077026182641518,96.837621756190586,31.698157956384819,19.162876570022867,4.0651476101548063,3.3331125290304242,31.214330047296258,10.289547577716151,0.62755419376550048,4.0396902470650424,42.612460275172218,24.295092526052041,51.107059713370418,56.526240629284487,8.6432276255497431,21.308878116961104,6.2236326637066686,27.599955658988439,16.410499818437717,81.202313745565846,45.153395315554015,9.9156466578084199,11.794390324734593,15.019491117786343,11.638774392211172,30.213697354977388,42.476163117930234,14.563853199694643,72.921281915625229,29.784051595935924,43.606420403590995,73.503632659944287,75.121724565178255,71.654170394455505,81.569559394884436,29.95212596789235,24.997539490661115,27.888251871906622,67.190290419789193,89.538372104062489,78.995941813692511,25.196114414275527,26.022792146384297,38.069178362725452,14.150498522860167,4.7123332861645828,39.487106562383175,38.241952647916534,91.423627355905879,87.739544392840628,89.835389485171731,80.106192826415082,84.800423655407272,37.337980074161706,96.240519845355621,37.969664754635005,73.680291182755468,99.60524130280433,96.828619103174248,95.087901749123603,83.386820137858365,98.707379185505602,99.015711915252155,99.317373578075845,99.594213529850279,69.65921967732487,99.282426066621127,55.716744900951888,62.863310650797978,9.5469158108853929,11.005453293517753,38.636019831381972,2.982458618326056,4.6495450778114789,0.35850563521530043,23.227592795940708,67.600696019154967,32.718701750439379,37.758021059057832,17.172139764732719,68.688811854255391,45.838841868846323,86.569421144434443,90.94079413691199,89.085598279175187,91.21459071361248,94.39049026566282,79.999454535288336,78.89881542727062,54.735354155329105,12.786458731030892,6.5407378658711712,63.695452324691161,23.8710275190254,59.942742941613638,59.404652787281655,48.137189280186242,"-","-","-","-","-","-","-","-",49.014499644169938]
[]
[null,"Reservas hidroeléctricas mensuales (GWh)","1990-01-01","1990-02-01","1990-03-01","1990-04-01","1990-05-01","1990-06-01","1990-07-01","1990-08-01","1990-09-01","1990-10-01","1990-11-01","1990-12-01","1991-01-01","1991-02-01","1991-03-01","1991-04-01","1991-05-01","1991-06-01","1991-07-01","1991-08-01","1991-09-01","1991-10-01","1991-11-01","1991-12-01","1992-01-01","1992-02-01","1992-03-01","1992-04-01","1992-05-01","1992-06-01","1992-07-01","1992-08-01","1992-09-01","1992-10-01","1992-11-01","1992-12-01","1993-01-01","1993-02-01","1993-03-01","1993-04-01","1993-05-01","1993-06-01","1993-07-01","1993-08-01","1993-09-01","1993-10-01","1993-11-01","1993-12-01","1994-01-01","1994-02-01","1994-03-01","1994-04-01","1994-05-01","1994-06-01","1994-07-01","1994-08-01","1994-09-01","1994-10-01","1994-11-01","1994-12-01","1995-01-01","1995-02-01","1995-03-01","1995-04-01","1995-05-01","1995-06-01","1995-07-01","1995-08-01","1995-09-01","1995-10-01","1995-11-01","1995-12-01","1996-01-01","1996-02-01","1996-03-01","1996-04-01","1996-05-01","1996-06-01","1996-07-01","1996-08-01","1996-09-01","1996-10-01","1996-11-01","1996-12-01","1997-01-01","1997-02-01","1997-03-01","1997-04-01","1997-05-01","1997-06-01","1997-07-01","1997-08-01","1997-09-01","1997-10-01","1997-11-01","1997-12-01","1998-01-01","1998-02-01","1998-03-01","1998-04-01","1998-05-01","1998-06-01","1998-07-01","1998-08-01","1998-09-01","1998-10-01","1998-11-01","1998-12-01","1999-01-01","1999-02-01","1999-03-01","1999-04-01","1999-05-01","1999-06-01","1999-07-01","1999-08-01","1999-09-01","1999-10-01","1999-11-01","1999-12-01","2000-01-01","2000-02-01","2000-03-01","2000-04-01","2000-05-01","2000-06-01","2000-07-01","2000-08-01","2000-09-01","2000-10-01","2000-11-01","2000-12-01","2001-01-01","2001-02-01","2001-03-01","2001-04-01","2001-05-01","2001-06-01","2001-07-01","2001-08-01","2001-09-01","2001-10-01","2001-11-01","2001-12-01","2002-01-01","2002-02-01","2002-03-01","2002-04-01","2002-05-01","2002-06-01","2002-07-01","2002-08-01","2002-09-01","2002-10-01","2002-11-01","2002-12-01","2003-01-01","2003-02-01","2003-03-01","2003-04-01","2003-05-01","2003-06-01","2003-07-01","2003-08-01","2003-09-01","2003-10-01","2003-11-01","2003-12-01","2004-01-01","2004-02-01","2004-03-01","2004-04-01","2004-05-01","2004-06-01","2004-07-01","2004-08-01","2004-09-01","2004-10-01","2004-11-01","2004-12-01","2005-01-01","2005-02-01","2005-03-01","2005-04-01","2005-05-01","2005-06-01","2005-07-01","2005-08-01","2005-09-01","2005-10-01","2005-11-01","2005-12-01","2006-01-01","2006-02-01","2006-03-01","2006-04-01","2006-05-01","2006-06-01","2006-07-01","2006-08-01","2006-09-01","2006-10-01","2006-11-01","2006-12-01","2007-01-01","2007-02-01","2007-03-01","2007-04-01","2007-05-01","2007-06-01","2007-07-01","2007-08-01","2007-09-01","2007-10-01","2007-11-01","2007-12-01","2008-01-01","2008-02-01","2008-03-01","2008-04-01","2008-05-01","2008-06-01","2008-07-01","2008-08-01","2008-09-01","2008-10-01","2008-11-01","2008-12-01","2009-01-01","2009-02-01","2009-03-01","2009-04-01","2009-05-01","2009-06-01","2009-07-01","2009-08-01","2009-09-01","2009-10-01","2009-11-01","2009-12-01","2010-01-31","2010-02-28","2010-03-31","2010-04-30","2010-05-31","2010-06-30","2010-07-31","2010-08-31","2010-09-30","2010-10-31","2010-11-30","2010-12-31","2011-01-31","2011-02-28","2011-03-31","2011-04-30","2011-05-31","2011-06-30","2011-07-31","2011-08-31","2011-09-30","2011-10-31","2011-11-30","2011-12-31","2012-01-31","2012-02-29","2012-03-31","2012-04-30","2012-05-31","2012-06-30","2012-07-31","2012-08-31","2012-09-30","2012-10-31","2012-11-30","2012-12-31","2013-01-31","2013-02-28","2013-03-31","2013-04-30","2013-05-31","2013-06-30","2013-07-31","2013-08-31","2013-09-30","2013-10-31","2013-11-30","2013-12-31","2014-01-31","2014-02-28","2014-03-31","2014-04-30","2014-05-31","2014-06-30","2014-07-31","2014-08-31","2014-09-30","2014-10-31","2014-11-30","2014-12-31","2015-01-31","2015-02-28","2015-03-31","2015-04-30","2015-05-31","2015-06-30","2015-07-31","2015-08-31","2015-09-30","2015-10-31","2015-11-30","2015-12-31","2016-01-31","2016-02-29","2016-03-28","2016-04-30","2016-05-28","2016-06-28","2016-07-28","2016-08-28","2016-09-28","2016-10-28","2016-11-28","2016-12-28","2017-01-28","2017-02-28","2017-03-28","2017-04-28","2017-05-28","2017-06-28","2017-07-28","2017-08-28","2017-09-28","2017-10-28","2017-11-28","2017-12-28","2018-01-28","2018-02-28","2018-03-28","2018-04-28","2018-05-28","2018-06-28","2018-07-28","2018-08-28","2018-09-28","2018-10-28","2018-11-28","2018-12-28","2019-01-28","2019-02-28","2019-03-28","2019-04-28","2019-05-28","2019-06-28","2019-07-28","2019-08-28","2019-09-28","2019-10-28","2019-11-28","2019-12-28","2020-01-31","2020-02-28","2020-03-31","2020-04-30","2020-05-31","2020-06-30","2020-07-31","2020-08-31","2020-09-30","2020-10-31","2020-11-30","2020-12-31"]
[null,"Reservas embalses anuales (GWh)",4518.8890000000001,4412.8779999999997,3867,4115.473,4237.2020000000002,3973.0349999999999,3326.605,2871.0650000000001,2462.6559999999999,2532.5729999999999,2541.8180000000002,2536.1019999999999,3169.56,3282.1410000000001,4921.9620000000004,4678.6360000000004,4405.0709999999999,4140.1080000000002,3572.5770000000002,3189.1309999999999,2734.1590000000001,2409.4250000000002,2547.623,2331.7669999999998,2290.8359999999998,2304.7930000000001,2398.375,3432.8,3729.0540000000001,3986.837,3500.8789999999999,3149.4560000000001,2853.8380000000002,2965.7469999999998,2991.8670000000002,3358.31,3044.6030000000001,2816.1579999999999,3408.971,3846.5619999999999,4998.7709999999997,5144.6409999999996,4387.1790000000001,3865.239,3613.47,4785.0320000000002,4109.8149999999996,4073.2440000000001,4948.1580000000004,4943.6180000000004,4973.3999999999996,4662.9170000000004,5782.3670000000002,5384.2879999999996,4614.1000000000004,3905.92,3501.4479999999999,3576.0169999999998,3685.2849999999999,3613.3690000000001,4430.5749999999998,4959.8090000000002,4800.8249999999998,4283.0780000000004,4188.8789999999999,3752.1439999999998,3201.011,2642.3139999999999,2460.1329999999998,2249.0160000000001,2815.701,4785.2780000000002,6334.585,5787.32,5885.2759999999998,6064.3010000000004,6228.8140000000003,5807.5929999999998,5019.4170000000004,4537.5190000000002,4012.0349999999999,3690.0459999999998,3978.8820000000001,5322.933,5640.3770000000004,5435.125,4962.4210000000003,4571.3450000000003,4789.07,5098.9759999999997,4707.8760000000002,4177.2460000000001,3622.4050000000002,3381.203,5227.0159999999996,6485.8819999999996,5950.1350000000002,5555.8779999999997,5222.7039999999997,6136.2020000000002,6360.0349999999999,6123.3559999999998,5181.1109999999999,4351.7759999999998,3818.89,3691.75,3389.2910000000002,3355.3409999999999,3750.9250000000002,3849.4760000000001,4323.7730000000001,4501.7219999999998,5148.0079999999998,4673.3,3923.5369999999998,3440.86,3451.7629999999999,4373.3130000000001,4073.2130000000002,4124.6210000000001,3628.779,3574.549,3335.3040000000001,5414.5720000000001,6197.3090000000002,5818.1059999999998,5049.1729999999998,4213.2449999999999,3417.259,2974.6860000000001,4140.8429999999998,5898.3249999999998,6564.4989999999998,6046.9380000000001,6779.3440000000001,6260.924,6398.7529999999997,5924.3549999999996,5202.3209999999999,4291.3379999999997,3668.4050000000002,3508.1849999999999,2922.875,2581.0700000000002,2863.1640000000002,3433.7570000000001,4170.7070000000003,4403.8559999999998,4568.3050000000003,4427.9989999999998,3886.3319999999999,3521.3090000000002,3413.7919999999999,3714.9470000000001,4829.4669999999996,6140.3040000000001,6296.1980000000003,6313.7039999999997,6287.7470000000003,6634.28,6471.8509999999997,6079.232,5244.0780000000004,4564.4430000000002,4110.9679999999998,4327.2190000000001,5210.1859999999997,5232.8670000000002,5536.8789999999999,5121.2510000000002,5186.4979999999996,5319.4669999999996,5433.9170000000004,5018.0739999999996,4334.7790000000005,3709.3359999999998,3364.32,3373.8429999999998,3381.607,3502.721,3764.1819999999998,3742.6640000000002,3912.181,4588.8370000000004,4749.9560000000001,4284.0479999999998,3544.8090000000002,2966.5279999999998,2586.61,2789.6979999999999,3112.7959999999998,3509.11,3705.3780000000002,3971.444,5218.6909999999998,5314.4579999999996,4866.8829999999998,4411.7290000000003,3715.5862510000002,3302.3946259999998,2923.999816,3906.440646,5832.5549389999996,5357.4248939999998,5204.6204989999997,6044.1152760000004,5655.5950140000004,6066.3417570000001,6508.5941949999997,6405.744514,5114.7357979999997,4167.4719050000003,3525.7765509999999,2915.2033000000001,2709.317196,2605.5660130000001,3020.1734689999998,3280.601482,3740.9237469999998,5336.6485400000001,6050.6462350000002,6070.3594190000003,5143.0753020000002,4267.3325199999999,3611.1342260000001,3301.2246270000001,3592.3063820000002,3815.84,4654.8943250000002,5030.850829,5108.3414899999998,5174.1129140000003,5332.6022849999999,5051.4487580000005,4391.0081579999996,3741.3121550000001,3279.1399179999999,3057.4118709999998,3381.738014,5088.9194669999997,5911.022739,6653.4335289999999,6968.7802879999999,6837.7831649999998,6929.359633,7023.4699810000002,6142.224929,5154.2593850000003,4409.7270259999996,4229.8727710000003,4713.244592,5556.3870889999998,5987.4886669999996,6306.628694,6549.9749499999998,6497.6129339999998,6361.5510430000004,5992.3444959999997,5274.3929120000003,4536.7527200000004,3970.4640629999999,3528.7747049999998,4034.3981640000002,3834.4360040000001,3695.5293270000002,3847.0247610000001,3718.1537279999998,4278.4488309999997,5186.9056849999997,4802.8372730000001,4067.122194,3334.5733839999998,2827.4654390000001,2841.0558350000001,3108.003526,3672.2720869999998,4918.4541410000002,5132.0933859999996,6910.931012,7115.4203520000001,7026.6540249999998,6745.346614,6055.0247550000004,5234.3290189999998,4430.2006199999996,4360.1709860000001,4394.4042460000001,4657.9230699999998,6314.4171130000004,6672.184964,6458.7530470000002,6854.3820420000002,6789.4610220000004,6523.5887339999999,5710.6864839999998,4785.5822150000004,4263.1452360000003,4489.4911590000002,5275.351858,5550.04054,5594.5313720000004,5942.2675019999997,6160.4059859999998,6303.1671900000001,6224.3615760000002,5691.2957749999996,4757.5008180000004,4153.8528040000001,3735.5426729999999,3714.159255,3935.6,3836.8,5689.3329999999996,6077.8,6134.1180000000004,6840.7,7105.4,6556.7,5609.49,4544.9532859999999,3764.8,3148.4618890000002,3471.7,3428.9364380000002,2989.757404,4613.1000000000004,4750.7,4708.5443059999998,4931.1287140000004,4572.4959479999998,4016.7,3324.6,2575.5982199999999,2320.487376,2221.825186,2616.62727,3213.4462119999998,3478.152415,5968.3014750000002,7075.9146760000003,7092.1430469999996,6922.7266970000001,5725.784216,5172.2423830474036,4492.1943684304279,4097.9340500374756,4573.9822702258689,4716.5233230898984,4712.7325437862328,5316.9716975391957,5389.7590177053453,5907.5679372685299,6224.4157534108781,5831.9176087500236,4938.9602781638805,4245.506425435532,3642.4163488827503,3545.1309212824626,4782.3322028119183,5895.3238307659176,6049.6398692137509,5977.3277981437595,6397.6135385666676,7238.6496034918946,"-","-","-","-","-","-","-","-"]
[null,"Reservas embalses hiperanuales (GWh)",4805.2449999999999,5001.5540000000001,4590.0720000000001,4528.9070000000002,4298.34,3971.9870000000001,3640.893,3371.5520000000001,3169.5610000000001,3035.4340000000002,2999.0430000000001,2938.7570000000001,3109.1390000000001,3129.3440000000001,3976.857,4051.7730000000001,3878.53,3686.8380000000002,3320.7109999999998,3072.2440000000001,2944.8029999999999,2844.4749999999999,2929.547,2821.0680000000002,2725.5160000000001,2738.1,2739.9810000000002,3144.279,3119.163,3296.2979999999998,3233.922,3098.8240000000001,3094.0079999999998,3269.8470000000002,3441.3,3692.5120000000002,3495.2260000000001,3234.2869999999998,3110.2950000000001,3200.645,3362.9780000000001,3388.8440000000001,3129.5050000000001,2875.14,2866.9839999999999,3123.8629999999998,3236.431,3282.6080000000002,3834.9319999999998,3884.6129999999998,4012.953,3739.0140000000001,3848.6120000000001,3634.1280000000002,3279.8850000000002,3062.721,2869.1260000000002,2704.8620000000001,2729.11,2613.7190000000001,2806.46,3077.9259999999999,3087.31,2914.6439999999998,2863.047,2704.5079999999998,2368.3690000000001,2240.5880000000002,2189.886,2100.1640000000002,2141.6889999999999,2644.991,4823.7939999999999,5257.9549999999999,5321.8760000000002,5456.1390000000001,5668.5,5406.848,4995.3639999999996,4725.1130000000003,4287.7070000000003,3922.73,3858.0129999999999,4868.0990000000002,6349.7380000000003,6686.3620000000001,6698.0540000000001,6351.52,6137.6090000000004,6102.5569999999998,5850.3980000000001,5607.8069999999998,5436.3609999999999,5330.6310000000003,6102.6009999999997,7387.1409999999996,7388.5780000000004,7540.1239999999998,7483.1390000000001,7666.4009999999998,7753.4120000000003,7449.2359999999999,6701.1210000000001,6186.4189999999999,5931.9489999999996,5658.1490000000003,5322.482,5343.06,5529.3760000000002,5653.11,5620.2169999999996,5390.8459999999995,5080.8630000000003,4550.0309999999999,3970.518,3577.0079999999998,3233.9830000000002,3554.2649999999999,3596.3829999999998,3725.6979999999999,3723.2849999999999,3599.8159999999998,3425.8960000000002,3999.66,4736.3100000000004,4631.1139999999996,4374.5690000000004,3911.5920000000001,3427.0030000000002,3136.4430000000002,3406.3220000000001,4497.1570000000002,5888.6750000000002,5971.0339999999997,6724.9449999999997,6664.9089999999997,6531.6459999999997,6140.3860000000004,5825.241,5351.4250000000002,5048.018,4827.8530000000001,4386.5370000000003,3897.5839999999998,3754.203,3676.364,3518.7759999999998,3453.453,3454.857,3228.4540000000002,3131.8290000000002,2972.5160000000001,2871.4650000000001,3014.0720000000001,3512.0990000000002,4575.1580000000004,5677.88,5894.0460000000003,6238.4589999999998,6427.4530000000004,6306.067,6004.0839999999998,5655.1239999999998,5345.3119999999999,5051.3599999999997,4850.2820000000002,5021.8639999999996,5235.9849999999997,5469.4979999999996,5400.7790000000005,5362.2950000000001,5546.3530000000001,5617.4660000000003,5403.5029999999997,5041.9440000000004,4612.1639999999998,4254.2569999999996,4091.9270000000001,3813.1239999999998,3864.0520000000001,3936.3760000000002,3767.6080000000002,3682.1010000000001,3548.0839999999998,3466.7570000000001,3245.2159999999999,3104.7240000000002,2837.54,2781.4659999999999,2840.6680000000001,2982.529,3139.431,3222.8440000000001,3347.19,3802.703,4057.0549999999998,4086.748,3989.8049999999998,3836.2820000000002,3721.288,3664.8989999999999,3995.6869999999999,4400.6959999999999,4493.6629999999996,4408.9440000000004,4763.7529999999997,4736.6940000000004,4842.7020000000002,4955.8490000000002,4965.3879999999999,4540.1819999999998,4167.9459999999999,3964.4589999999998,3773.0059999999999,3385.732,3027.6640000000002,2943.1239999999998,2876.8890000000001,2859.527,3180.453,3353.2310000000002,3423.634,3276.08,3061.3530000000001,2974.0039999999999,2923.1210000000001,2852.9609999999998,3096.0219999999999,3498.0369999999998,4124.4139999999998,4455.683,4592.0450000000001,4553.2479999999996,4374.9840000000004,4052.7570000000001,3737.502,3716.2280000000001,3547.85,3559.9839999999999,4047.835,5421.4660000000003,6445.7719999999999,7179.8130000000001,7370.3360000000002,7416.0720000000001,7354.5619999999999,6948.6390000000001,6587.41,6524.6779999999999,6400.1819999999998,6343.049,6741.1469999999999,6884.2380000000003,7089.2169999999996,7262.4840000000004,7442.2560000000003,7447.4989999999998,7273.0410000000002,7012.8639999999996,6688.7709999999997,6526.1490000000003,6351.5069999999996,6153.1589999999997,5856.2449999999999,5562.4539999999997,5326.5330000000004,5103.8990000000003,5149.5879999999997,5114.18,4713.6400000000003,4314.2870000000003,3977.0189999999998,3838.319,3607.6880000000001,3438.288,3407.1770000000001,4113.2389999999996,4584.1580000000004,6262.1850000000004,7305.1480000000001,7511.86,7432.2070000000003,7000.4880000000003,6511.4279999999999,6231.3810000000003,6246.8130000000001,5959.98,6009.107,6780.6819999999998,7456.1809999999996,7463.0959999999995,7493.2910000000002,7318.65,7042.6639999999998,6747.6120000000001,6397.2629999999999,6084.6809999999996,6116.299,6273.8490000000002,6275.6629999999996,6293.3819999999996,6679.3140000000003,6757.6679999999997,6900.5630000000001,6662.7529999999997,6227.4970000000003,5691.3850000000002,5315.5410000000002,5019.009,4909.1099999999997,4809,4807.3999999999996,5538.3239999999996,5988.4,6171.9380000000001,6338.8,6472.2,6194.3,5791.3,5181.8994780000003,4778.2,4491.0809689999996,4266.2,3842.967768,3362.6408449999999,3588.4,3420.6,3293.934045,3137.2215369999999,2932.1777889999998,2852.1,2711.7,2559.9116119999999,2387.5507379999995,2182.0449349999999,2266.7847160000001,2184.7758279999998,2138.257912,3731.169668,4821.6129769999998,5003.5802000000003,4953.5781610000004,4520.7186920000004,4142.8291356673353,3700.7442042497578,3530.7044902846797,3434.9973521005472,3455.6965058076044,3358.4285563025464,3549.4836203044842,3602.388742709069,3633.5000759480399,3657.5906520149288,3495.6570386361154,3221.874635410446,3018.1644599629267,2823.9163917647033,2812.9119095373298,3025.8548485731562,3556.6090954011952,4154.2039724203551,4316.3938224628655,4524.8493672935138,5244.3157562851338,"-","-","-","-","-","-","-","-"]
[null,"Total reservas (GWh)",{"$f":"SUM(C8:C9)","v":9324.134},{"$f":"SUM(D8:D9)","v":9414.4320000000007},8457.0720000000001,8644.380000000001,8535.5420000000013,7945.0219999999999,6967.4979999999996,6242.6170000000002,5632.2170000000006,5568.0069999999996,5540.8610000000008,5474.8590000000004,6278.6990000000005,6411.4850000000006,8898.8189999999995,8730.4089999999997,8283.6010000000006,7826.9459999999999,6893.2880000000005,6261.375,5678.9619999999995,5253.9,5477.17,5152.835,5016.3519999999999,5042.893,5138.3559999999998,6577.0789999999997,6848.2170000000006,7283.1350000000002,6734.8009999999995,6248.2800000000007,5947.8459999999995,6235.5940000000001,6433.1670000000004,7050.8220000000001,6539.8289999999997,6050.4449999999997,6519.2659999999996,7047.2070000000003,8361.7489999999998,8533.4850000000006,7516.6840000000002,6740.3789999999999,6480.4539999999997,7908.8950000000004,7346.2459999999992,7355.8520000000008,8783.09,8828.2309999999998,8986.3529999999992,8401.9310000000005,9630.9789999999994,9018.4159999999993,7893.9850000000006,6968.6409999999996,6370.5740000000005,6280.8789999999999,6414.3950000000004,6227.0879999999997,7237.0349999999999,8037.7350000000006,7888.1350000000002,7197.7219999999998,7051.9259999999995,{"$f":"SUM(BP8:BP9)","v":6456.652},5569.38,4882.902,4650.0190000000002,4349.18,4957.3899999999994,7430.2690000000002,11158.379000000001,11045.275,11207.152,11520.44,11897.314,11214.440999999999,10014.780999999999,9262.6320000000014,8299.7420000000002,7612.7759999999998,7836.8950000000004,10191.031999999999,11990.115000000002,12121.487000000001,11660.475,10922.865000000002,10926.679,11201.532999999999,10558.274000000001,9785.0529999999999,9058.7659999999996,8711.8340000000007,11329.616999999998,13873.022999999999,13338.713,13096.002,12705.843000000001,13802.602999999999,14113.447,13572.592000000001,11882.232,10538.195,9750.8389999999999,9349.8990000000013,8711.773000000001,8698.4009999999998,9280.3009999999995,9502.5859999999993,9943.99,9892.5679999999993,10228.870999999999,9223.3310000000001,7894.0550000000003,7017.8680000000004,6685.7460000000001,7927.5779999999995,7669.5959999999995,7850.3189999999995,7352.0640000000003,7174.3649999999998,6761.2000000000007,9414.232,10933.619000000001,10449.219999999999,9423.7420000000002,8124.8369999999995,6844.2620000000006,{"$f":"SUM(EB8:EB9)","v":6111.1290000000008},7547.165,10395.482,12453.173999999999,12017.972,13504.289000000001,12925.832999999999,12930.398999999999,12064.741,11027.562,9642.762999999999,8716.4230000000007,8336.0380000000005,7309.4120000000003,6478.6540000000005,6617.3670000000002,7110.1210000000001,7689.4830000000002,7857.3089999999993,8023.1620000000003,7656.4529999999995,7018.1610000000001,6493.8250000000007,6285.2569999999996,6729.0190000000002,8341.5659999999989,10715.462,11974.078000000001,12207.75,12526.206,13061.733,12777.918,12083.315999999999,10899.202000000001,9909.755000000001,9162.3279999999995,9177.5010000000002,10232.049999999999,10468.851999999999,11006.377,10522.03,10548.793,10865.82,11051.383000000002,10421.576999999999,9376.7230000000018,8321.5,7618.5769999999993,7465.77,7194.7309999999998,7366.7730000000001,7700.558,7510.2720000000008,7594.2820000000002,8136.9210000000003,8216.7129999999997,7529.2639999999992,6649.5330000000004,5804.0679999999993,5368.076,5630.366,6095.3249999999998,6648.5410000000002,6928.2219999999998,{"$f":"SUM(GN8:GN9)","v":7318.634},9021.3940000000002,9371.512999999999,8953.6309999999994,8401.5339999999997,7551.8682509999999,7023.6826259999998,6588.8988159999999,7902.1276459999999,10233.250939,9851.0878940000002,9613.5644990000001,10807.868276000001,10392.289014000002,10909.043756999999,11464.443195,11371.132514000001,9654.9177979999986,8335.4179050000002,7490.2355509999998,6688.2093000000004,6095.0491959999999,5633.2300130000003,5963.2974689999992,6157.4904820000002,6600.4507469999999,8517.1015399999997,9403.8772349999999,9493.9934190000004,8419.1553019999992,7328.68552,6585.138226,6224.3456270000006,6445.267382,6911.8620000000001,8152.9313249999996,9155.2648289999997,9564.0244899999998,9766.1579139999994,9885.8502850000004,9426.4327580000008,8443.7651580000002,7478.814155,6995.3679179999999,6605.2618709999997,6941.7220139999999,9136.7544669999988,11332.488739,13099.205528999999,14148.593288,14208.119165,14345.431633,14378.031981,13090.863928999999,11741.669385000001,10934.405026,10630.054770999999,11056.293592,12297.534089000001,12871.726666999999,13395.845694,13812.45895,13939.868934,13809.050042999999,13265.385495999999,12287.256912000001,11225.523720000001,10496.613063000001,9880.2817049999994,10187.557164,9690.681004,9257.9833269999999,9173.557761,8822.0527280000006,9428.0368309999994,10301.085685,9516.4772730000004,8381.4091939999998,7311.5923839999996,6665.784439,6448.7438350000002,6546.291526,7079.449087,9031.6931409999997,9716.2513859999999,13173.116012,14420.568352,14538.514025,14177.553614,13055.512755,11745.757019000001,10661.581620000001,10606.983985999999,10354.384246,10667.030070000001,13095.099113,14128.365964000001,13921.849047,14347.673042,14108.111022000001,13566.252734,12458.298483999999,11182.845215000001,10347.826236000001,10605.790159,11549.200858,11825.703539999999,11887.913371999999,12621.581502000001,12918.073985999999,13203.73019,12887.114576,11918.792775,10448.885818000001,9469.3938039999994,8754.5516729999999,8623.2692549999992,8744.6,8644.2000000000007,11227.656999999999,12066.2,12306.056,13179.6,13577.5,12751,11400.7,9726.8527639999993,8543,7639.5428579999998,7737.9,7271.9042060000002,6352.3982489999999,8201.5,8171.3,8002.4783509999997,8068.3502509999998,7504.6737369999992,6868.8,6036.3,5135.5098319999997,4708.038113999999,4403.8701209999999,4883.4119860000001,5398.2220399999997,5616.4103269999996,9699.4711430000007,11897.527653000001,12095.723247,11876.304858,10246.502908,9315.071518714738,8192.9385726801847,7628.6385403221575,8008.9796223264248,8172.2198288975142,8071.161100088786,8866.4553178436963,8992.1477604144147,9541.0680132165799,9882.0064054258182,9327.5746473861582,8160.8349135743256,7263.6708853984801,6466.33274064748,6358.0428308198125,7808.1870513850981,9451.9329261671428,10203.843841634131,10293.721620606642,10922.46290586018,12482.965359777028,"-","-","-","-","-","-","-","-"]
[]
[null,"Reservas hidroeléctricas mensuales (%)","1990-01-01","1990-02-01","1990-03-01","1990-04-01","1990-05-01","1990-06-01","1990-07-01","1990-08-01","1990-09-01","1990-10-01","1990-11-01","1990-12-01","1991-01-01","1991-02-01","1991-03-01","1991-04-01","1991-05-01","1991-06-01","1991-07-01","1991-08-01","1991-09-01","1991-10-01","1991-11-01","1991-12-01","1992-01-01","1992-02-01","1992-03-01","1992-04-01","1992-05-01","1992-06-01","1992-07-01","1992-08-01","1992-09-01","1992-10-01","1992-11-01","1992-12-01","1993-01-01","1993-02-01","1993-03-01","1993-04-01","1993-05-01","1993-06-01","1993-07-01","1993-08-01","1993-09-01","1993-10-01","1993-11-01","1993-12-01","1994-01-01","1994-02-01","1994-03-01","1994-04-01","1994-05-01","1994-06-01","1994-07-01","1994-08-01","1994-09-01","1994-10-01","1994-11-01","1994-12-01","1995-01-01","1995-02-01","1995-03-01","1995-04-01","1995-05-01","1995-06-01","1995-07-01","1995-08-01","1995-09-01","1995-10-01","1995-11-01","1995-12-01","1996-01-01","1996-02-01","1996-03-01","1996-04-01","1996-05-01","1996-06-01","1996-07-01","1996-08-01","1996-09-01","1996-10-01","1996-11-01","1996-12-01","1997-01-01","1997-02-01","1997-03-01","1997-04-01","1997-05-01","1997-06-01","1997-07-01","1997-08-01","1997-09-01","1997-10-01","1997-11-01","1997-12-01","1998-01-01","1998-02-01","1998-03-01","1998-04-01","1998-05-01","1998-06-01","1998-07-01","1998-08-01","1998-09-01","1998-10-01","1998-11-01","1998-12-01","1999-01-01","1999-02-01","1999-03-01","1999-04-01","1999-05-01","1999-06-01","1999-07-01","1999-08-01","1999-09-01","1999-10-01","1999-11-01","1999-12-01","2000-01-01","2000-02-01","2000-03-01","2000-04-01","2000-05-01","2000-06-01","2000-07-01","2000-08-01","2000-09-01","2000-10-01","2000-11-01","2000-12-01","2001-01-01","2001-02-01","2001-03-01","2001-04-01","2001-05-01","2001-06-01","2001-07-01","2001-08-01","2001-09-01","2001-10-01","2001-11-01","2001-12-01","2002-01-01","2002-02-01","2002-03-01","2002-04-01","2002-05-01","2002-06-01","2002-07-01","2002-08-01","2002-09-01","2002-10-01","2002-11-01","2002-12-01","2003-01-01","2003-02-01","2003-03-01","2003-04-01","2003-05-01","2003-06-01","2003-07-01","2003-08-01","2003-09-01","2003-10-01","2003-11-01","2003-12-01","2004-01-01","2004-02-01","2004-03-01","2004-04-01","2004-05-01","2004-06-01","2004-07-01","2004-08-01","2004-09-01","2004-10-01","2004-11-01","2004-12-01","2005-01-01","2005-02-01","2005-03-01","2005-04-01","2005-05-01","2005-06-01","2005-07-01","2005-08-01","2005-09-01","2005-10-01","2005-11-01","2005-12-01","2006-01-01","2006-02-01","2006-03-01","2006-04-01","2006-05-01","2006-06-01","2006-07-01","2006-08-01","2006-09-01","2006-10-01","2006-11-01","2006-12-01","2007-01-01","2007-02-01","2007-03-01","2007-04-01","2007-05-01","2007-06-01","2007-07-01","2007-08-01","2007-09-01","2007-10-01","2007-11-01","2007-12-01","2008-01-01","2008-02-01","2008-03-01","2008-04-01","2008-05-01","2008-06-01","2008-07-01","2008-08-01","2008-09-01","2008-10-01","2008-11-01","2008-12-01","2009-01-01","2009-02-01","2009-03-01","2009-04-01","2009-05-01","2009-06-01","2009-07-01","2009-08-01","2009-09-01","2009-10-01","2009-11-01","2009-12-01","2010-01-31","2010-02-28","2010-03-31","2010-04-30","2010-05-31","2010-06-30","2010-07-31","2010-08-31","2010-09-30","2010-10-31","2010-11-30","2010-12-31","2011-01-31","2011-02-28","2011-03-31","2011-04-30","2011-05-31","2011-06-30","2011-07-31","2011-08-31","2011-09-30","2011-10-31","2011-11-30","2011-12-31","2012-01-31","2012-02-29","2012-03-31","2012-04-30","2012-05-31","2012-06-30","2012-07-31","2012-08-31","2012-09-30","2012-10-31","2012-11-30","2012-12-31","2013-01-31","2013-02-28","2013-03-31","2013-04-30","2013-05-31","2013-06-30","2013-07-31","2013-08-31","2013-09-30","2013-10-31","2013-11-30","2013-12-31","2014-01-31","2014-02-28","2014-03-31","2014-04-30","2014-05-31","2014-06-30","2014-07-31","2014-08-31","2014-09-30","2014-10-31","2014-11-30","2014-12-31","2015-01-31","2015-02-28","2015-03-31","2015-04-30","2015-05-31","2015-06-30","2015-07-31","2015-08-31","2015-09-30","2015-10-31","2015-11-30","2015-12-31","2016-01-31","2016-02-29","2016-03-28","2016-04-30","2016-05-28","2016-06-28","2016-07-28","2016-08-28","2016-09-28","2016-10-28","2016-11-28","2016-12-28","2017-01-28","2017-02-28","2017-03-28","2017-04-28","2017-05-28","2017-06-28","2017-07-28","2017-08-28","2017-09-28","2017-10-28","2017-11-28","2017-12-28","2018-01-28","2018-02-28","2018-03-28","2018-04-28","2018-05-28","2018-06-28","2018-07-28","2018-08-28","2018-09-28","2018-10-28","2018-11-28","2018-12-28","2019-01-28","2019-02-28","2019-03-28","2019-04-28","2019-05-28","2019-06-28","2019-07-28","2019-08-28","2019-09-28","2019-10-28","2019-11-28","2019-12-28","2020-01-31","2020-02-28","2020-03-31","2020-04-30","2020-05-31","2020-06-30","2020-07-31","2020-08-31","2020-09-30","2020-10-31","2020-11-30","2020-12-31"]
[null,"Llenado embalses anuales (%)",56.205443591744178,54.886890451668293,48.097320020313568,51.187799823108335,52.701851715726065,49.416171669745665,41.375946538964364,35.709990200186596,30.630244047567963,31.499863991674577,31.614852283266977,31.543757304928178,39.422638128674699,40.822908205014734,61.218821164164105,58.19235918038784,54.789787845669167,51.532664695780369,44.468504841143506,39.695683903395448,34.032566051888061,29.990543878234732,31.710719099660707,29.031147981641816,28.52154564228433,28.695314175924182,29.860436115816974,42.739315202325116,46.427759937220721,49.637230017272273,43.586917695817043,39.21160355973376,35.531077201809921,36.924375391327807,36.571148408332583,41.050372028966322,37.215767999531593,34.423365797782139,41.669627814572614,47.018530490778026,61.102581130868806,62.885626105235474,53.626773617583979,47.246829188154095,44.169325588021636,58.489938025527366,50.236409003405349,49.789382625414241,60.60985927276127,60.554248930266475,60.919047877442644,57.115949646427246,70.828063722593086,65.952004354755275,56.517991476918837,47.843512986178624,42.889145926805767,43.802539677795636,45.140960581698877,44.260063359043528,54.269998501950468,60.752572070207698,58.805181169064134,52.463311566498035,51.309470453575834,45.959914742240549,39.20910088977773,32.365635797087904,30.134105443333858,27.54813877450729,34.48944867245006,58.614746368454782,77.592167711973701,70.888732891398504,72.088593400081251,74.281465991519553,76.296581470560398,71.13705634368857,61.482708919421235,55.579952790003958,49.143312874688462,45.199277947473703,48.737222635761199,65.200468547757964,69.088831887607341,66.574705451981629,60.784566390603381,55.994286588512502,58.661194478309454,62.457225051258888,57.666651273789192,51.166978137663534,44.370745089171926,41.41626803401148,64.025583697301386,79.445400749073755,72.883049612387339,68.053805823627755,63.972766120905455,75.162179479563136,77.9039041032716,75.004829158045936,63.463294540424009,53.304791590442321,46.777484768706913,45.22015019937043,41.515337736676209,41.09948506537706,45.944983242790961,47.152131891073793,52.961783568221712,55.14147626350924,63.057816750202633,57.243130744692309,48.059303163211823,42.147005082956795,42.280555647763116,53.568597746017275,49.89268061326694,50.522375874714555,44.448820050198748,43.784558183790715,40.854052370978806,66.322952286938602,75.91067754097925,71.265829808588961,61.847189393270341,51.607928956930039,41.857917044802704,36.436851822567732,50.721078732853428,72.24843026334436,78.560783460980915,72.36686102320634,81.131945635379054,74.927743096565095,76.577214628763272,70.89984632505535,62.258888846736617,51.356680132920864,43.9017160109522,41.984279702999622,34.979569645530383,30.889010931014539,34.264976964316077,41.093561006655257,49.913026036898984,52.703241726343705,54.671288683068795,52.992173599910664,46.509762086867688,42.141341456248718,40.854629438260091,44.458708400446199,57.796750554604856,73.484220643280608,75.34988545286717,75.559388885690893,75.248747927973241,79.395889084531262,77.452016521402882,72.753340165192483,62.758616645458218,54.625070114717069,49.198098265080361,51.786086774823538,62.353013403983191,62.624448760996508,66.262718932343887,61.28868187204111,62.069526752736273,63.660836130043386,65.030518975163687,60.053908897720646,51.876561237987453,44.391558636846625,40.262572210529292,40.376538918559696,40.469454756126439,41.918889165072692,45.047929325561938,44.790412196149113,46.819110552254443,54.917005836201248,56.845200946056515,51.269436900584232,42.422578213438115,35.50198786517246,30.955311000581741,33.385771023734108,37.252453312005613,41.995349660463461,44.344191186422989,47.528341783799775,62.454797175042586,63.600890814436504,58.24452734213672,52.797462023762954,44.32578415925942,39.396537050210497,34.882405082333335,46.60261751667084,69.580559798216484,63.912406672560721,62.089497937893803,72.104408580356406,67.469483130765255,72.369563560720735,77.64549709756659,76.418532507623965,61.017201512350383,49.716638955990071,42.061413687097883,34.777465392273783,32.321308438619781,31.083589211219774,36.029726742148974,39.136551644990618,44.628052577474669,63.664551254651236,72.182320882596485,72.417493014273035,61.355282948932945,50.90794492158556,43.079704105566286,39.382579327354094,42.855093803732061,45.521780090758682,55.531436278347769,60.01648001675882,60.940919413884885,61.725551971744771,63.616280695534201,60.262206880113432,52.383356677744175,44.632686163673647,39.119115642695824,36.47396925409268,40.343078902120368,60.709220742052828,65.920625660277111,74.200103837689781,77.716898912096383,76.255999049390525,77.277273764929802,78.32680669606448,68.499027688452131,57.481085503662982,49.177947265709719,47.172185227435321,52.562821378542075,61.965674890895698,66.77338533284545,70.332483509591228,73.046318010982404,72.462368835355079,70.944985908698001,66.827538277253424,58.820832889570603,50.594557147475726,44.279219815501015,39.353432838783704,44.992222645136614,42.762214188459552,41.213105775153203,42.902605923421071,41.465416540136196,47.713912845260872,57.845162012334498,53.561972599384909,45.357166010604132,37.187670135841017,31.53232511557254,31.683887281182226,34.660928579497948,40.953737493279426,54.851349516370185,57.233886907585116,77.071754977400715,79.352251234794167,78.362315639588743,75.225132557269916,67.52655806998176,58.374034254281774,49.406271903524058,48.625290761702033,49.007065289940897,51.945867341357001,70.419341144226436,74.409222696101949,72.028997458312972,76.441112253215408,75.717103152613078,72.752054912305596,63.686445239196374,53.369541565130966,47.543244823533357,50.067489022657711,58.831527201381881,61.894897210054907,62.391065743164368,66.269072014911757,68.701785604556491,70.293880289897956,69.415028082792233,63.470197099793573,53.056373549815937,46.324398979845718,41.659340702601199,41.420869568999422,43.89,42.787999999999997,63.45,67.78,68.41,76.287999999999997,79.239999999999995,73.120999999999995,62.558,50.686011108212782,41.985999999999997,35.112000000000002,38.716999999999999,38.240021282767387,33.342229821546603,51.445999999999998,52.98,52.51040307335473,54.992698284430965,50.993171068774309,44.795000000000002,37.076000000000001,28.723463537313261,25.878428559145274,24.778132792914903,29.181025750431111,35.836841469590475,38.788885352417488,66.559406846016316,78.911677920489382,79.092659184985095,77.203302252656698,63.854817445401011,57.681634636169434,50.09763562584515,45.700784520873711,51.009746760560368,52.599386286910956,52.557110938892251,59.295677989400716,60.107413267262167,65.882097185303053,69.415632277527976,65.038433202344123,55.08,47.346534122246233,40.620781755644856,39.535839853336505,53.333296934328189,65.75,67.466505003733744,66.660069776159119,71.349999999999994,80.726522611623224,"-","-","-","-","-","-","-","-"]
[null,"Llenado embalses hiperanuales (%)",49.01681165416521,51.01929878625058,46.821898717559129,46.197973551448555,43.846031202480731,40.517005620273835,37.139618569702179,34.392154690598304,32.331707241438792,30.368737818599801,30.004655207033654,29.401509255538048,31.106137419750706,31.308283257092189,39.787433222090591,40.536948567315768,38.803696832668372,36.885867589824336,33.222860958380366,30.737012417587177,29.46199793322014,28.458242052557114,29.309365570216841,28.224061027333057,27.268087800426184,27.393987489468756,27.412806411519703,31.457704097512629,31.206424966076419,32.97861516144804,32.354559296562499,31.002938493139599,30.954755649653499,32.713979697774711,34.292089521555944,36.795383158521375,34.829454825231714,31.596377153020448,30.385075250636,31.267721928489696,32.853584498008502,33.106274469999249,30.572741467366154,28.087800435686511,28.008122889426694,30.517623674821042,31.617322304955351,32.068434376269686,37.464194682842624,37.949538009931167,39.203316367825394,36.527153132799789,37.597837256755618,35.50250145096954,32.041832861009091,29.920315615304382,28.029048502973598,26.424321619841777,26.661205035941354,25.533927971146493,27.416852191801709,30.068856210066585,30.160530326557776,28.473722675442264,27.969661572650711,26.420863325165961,23.137056223372234,21.888738844923719,21.393421170761702,20.516909546739683,20.922575327568399,25.839430205898463,47.124579399563842,51.36598243557534,51.990439085216586,53.302080379169766,55.37667618609494,52.820547037741036,48.800680014055914,46.160545566500424,41.887441495960587,38.321910377609633,37.689677449544803,47.557403539711139,62.031822367917812,65.320367528801299,65.434588945043302,62.049231071624902,59.959493014000529,59.617063225930487,57.153673036213718,54.783754494684047,53.108865260247903,52.075968378682106,59.617493070466466,72.166413530568136,72.180451862345421,73.660934136191742,73.104236616130962,74.894558646865022,75.744585985954444,72.773031631966319,65.464551063039735,60.436327373115503,57.950360576065918,55.275555259006246,55.766319836877855,55.981925888641534,57.934052292587623,59.230475618903469,58.885839120669289,56.482603835457525,53.234756097880407,47.672962353599161,41.601113297533104,37.47811118704972,33.884065803327431,37.239821341813965,37.681112802994967,39.03601107220581,39.010728858049639,37.717082069964782,35.894834790212634,41.906448682920278,49.624701089943187,48.522509709763739,45.834558764593467,40.98371596998782,35.906433385766249,32.862090184266798,35.689748151218446,47.118974872748112,61.698608556201172,62.561525205885552,70.460629788022302,69.831602432415124,68.435338982313866,64.33591125303704,61.033978646220731,56.069570199216102,52.890622519778638,50.583843124961305,45.959953517606763,40.83694711134725,39.334672288335845,38.519113951119728,36.867985246418819,36.183563333727633,36.198273747600517,33.826135690575875,32.813746986539236,31.144544589579976,30.085782458334375,31.57994769421073,36.79802696050055,47.936230565411101,59.490003362230638,61.754883223516885,65.363471381067924,67.343656537401174,66.071834387562205,62.9078066720528,59.251577309459016,56.005521224853595,52.925638333997426,50.818843034330897,52.616593912633761,54.860047280778943,57.306680382416275,56.586676870357358,56.183460654200601,58.11192885691807,58.857015510580759,56.615217587871399,52.82698216802374,48.323961032490836,44.573989452717065,42.873176429935526,39.952017228367332,40.485615488850421,41.243390398353611,39.475123212813067,38.579223384445037,37.175059897263893,36.322956030426248,34.001759591813254,32.529754274271056,29.730333177253463,29.142817687575324,29.763106805881947,31.249455824700483,32.893396962509087,33.767356900100886,35.07019245810492,39.842831172121379,42.507804953742344,42.818913443149434,41.803192893235611,40.194655237247865,38.989805285040987,38.398989381993928,41.864821564460897,46.108304479163856,47.082366478110025,46.194722921915684,49.912235198143719,49.628724451002434,50.739423563421738,51.924921568033731,52.024866466846717,47.569769428931046,43.669665712131241,41.537630108319568,39.531680772703254,35.474016369421655,31.722357911703781,30.836589828503186,30.142612433296289,29.96070203040383,33.323205080666817,35.133487052268805,35.871134678972979,34.325137236950503,32.075334502133693,31.160135113684571,30.627008340825622,29.891906747291745,32.438579045266899,36.650692316711023,43.213559062049761,46.684430923343548,48.11316415449329,47.706668479973139,45.838906928238224,42.462772646886471,39.15968751476673,38.936789121083152,37.172608161618413,37.299742180089623,42.411202378309305,56.64358211599977,67.345551107949774,75.01482573957351,77.005413745748712,77.483264362474401,76.840606687233944,72.599515295482533,68.825387684209034,68.169962529223113,66.869225902061103,66.272299207872962,70.431634847571758,71.926652396065208,74.068276971144243,75.878573954006995,77.756835303272581,77.811614269152685,75.988873695146864,73.270539343479896,69.88440938181995,68.185331565807076,66.360668556225804,64.288324797998001,61.186161556470715,58.116627479628455,55.651720287295468,53.325635929150735,53.802995488963134,53.433052016927469,49.248202313776602,45.075754409691086,41.551971792019216,40.102831496850136,37.693194327310543,35.923299835589972,35.598251503052083,42.975200998997828,47.895371861728414,65.427430564552466,76.324328255038665,78.484059247792757,77.651843156003991,73.141234654993866,68.031526271753833,65.1055897739801,65.266823609849226,62.269986852212348,62.783266702830751,70.844697295801822,77.902323973858216,77.974572028228039,78.29004997496655,76.46539741340473,73.581890322542904,70.499181293197339,66.83872813334014,63.572865323357846,63.903210801747584,65.549296263203175,65.56824897045216,65.753377426761475,69.785602462054896,70.604246576601952,72.097216313286793,69.612572812247421,65.065009666507592,59.463701072969812,55.536875657702829,52.43870355959843,51.290476672080132,50.244,50.228000000000002,57.86,62.567,64.48,66.227999999999994,67.622,64.718000000000004,60.508000000000003,54.140586438972292,49.923000000000002,46.923000000000002,44.573,40.151401915247341,35.13293689020135,37.491999999999997,35.738,34.415086908715239,32.777751579949502,30.635450516508289,29.798999999999999,28.332000000000001,26.746006265468292,24.945176504661063,22.798047881601374,23.683410760122673,22.826580304731113,22.34056021444351,38.983333194026407,50.37630607556509,52.277503157391479,51.755080882297634,47.232556739014335,43.284359311435146,38.665447357547087,36.888869121888682,35.888919082393791,36.105184242543714,35.088926816038658,37.085073837244984,37.637827584161613,37.962879398386782,38.214578205253105,36.522692666034864,33.659999999999997,31.533840925591367,29.504333334496934,29.389358290350149,31.614190255227943,37.159520939515119,43.40320382686248,45.097766531722129,47.275714114746769,54.792712927346301,"-","-","-","-","-","-","-","-"]
[null,"Llenado total reservas (%)",52.255928418253042,52.761992126079583,47.396589223193502,48.446333192999823,47.836364402634324,44.526869831927087,39.048460344126461,34.985956561174433,31.565047047593687,30.872984664219011,30.722467963773969,30.356506007582507,34.813565776452371,35.549825652135539,49.34137161046327,48.407586982085263,45.930166150565057,43.412589171970282,38.234003401591458,34.729062973814493,31.498677035619092,29.141047127527731,30.379426539424255,28.583655328101838,27.826560829608226,27.973788287126883,28.503337843552924,36.484179912940483,37.98822868189017,40.40079306790048,37.359090769907361,34.660275734323363,32.993717052579633,34.589904326837519,35.315621121585792,38.706310336377364,35.901154620105345,32.852129378133753,35.397688943948509,38.264252648935717,45.401827464836146,46.334303223376757,40.813374101003802,36.598267229213029,35.186951246899092,42.942963993239367,39.88794609910471,39.940103842015581,47.733645184880523,47.978973933338146,48.838322914610529,45.662152297408824,52.341685485294512,49.012576379571357,42.901607416611817,37.872620787765008,34.622293400161567,34.134826084574698,34.860448316671203,33.842486997973062,39.331267342195261,43.682848585189909,42.869814297751418,39.117612148732235,38.325251540634767,35.090103329266711,30.268027404907599,26.537210883703054,25.27155671283716,23.636580629958097,26.942032394416415,40.381440253284097,60.642678604502741,60.027989900983727,60.907746260259678,62.610379187017898,64.658584294264514,60.947359942887616,54.427542340825717,50.339822245487667,45.10678357549002,41.373314910353187,42.59133918486139,55.385417382238288,65.162931853813831,65.876902043716029,63.371430366439341,59.362725682231421,59.38345370878416,60.877208561990173,57.381275255149291,53.179034715259746,49.231867378890499,47.346388692997394,61.573309388676478,75.396011827692391,72.492185957897874,71.173119347346514,69.052713969320351,75.013298762709638,76.70264923092175,73.763253111051796,64.576617829537582,57.272151488722301,52.993091165056391,50.81409405806717,49.196242781878325,49.120729776835695,52.406776563726829,53.662041918640213,56.154693913692455,55.864308799625576,57.763445064571187,52.085061345563602,44.57850845212571,39.630593903121088,37.75506815822358,44.767816144919919,43.310966304439162,44.331526939371848,41.517831730912583,40.51434792272601,38.181164350452626,53.16309815199822,61.743226643825288,59.007777636223835,53.216802061507309,45.881757205472177,38.650223670288938,34.510149191832404,42.61958635227235,58.704313841355379,69.569996058146373,67.138728220364811,75.442078661879236,72.210518447606873,72.236026531088356,67.400004513914041,61.605775754114148,53.8695583872545,48.694534722725017,46.56950354990289,40.834229412306271,36.193177196600182,36.968101152791078,39.720884807595539,42.957506415567913,43.895070939957797,44.821613246058369,42.772983420080934,39.20714776051765,36.277930401702598,35.112759583575787,37.591848094726053,46.600385872611092,59.862220595425484,66.893513192695863,68.198928191225491,69.977991317195873,72.969727502607796,71.384187267544604,67.503774257818691,60.88868911467398,55.361116474177287,51.185595161799235,51.270359539956189,57.161626278309164,58.484527107171061,61.487425174053847,58.781607453946918,58.931119683078549,60.702199661590527,61.738852420038924,58.220424030826898,52.383318674285796,46.488286616557758,42.561388113478912,41.707727642047516,40.193560879292576,41.154678202622009,43.019377205002314,41.956339278292191,42.425663433631613,45.45713100093586,45.902891184281216,42.062438604065392,37.147797388723085,32.424584116564461,29.988902922245376,31.454193157978949,34.051699287516662,37.142255553678488,38.704701085037676,40.885748366722893,50.398263528557884,52.354212867247142,50.01970368165555,46.935398739500684,42.126352763708766,39.179991251042864,36.754650190096257,44.08019389840009,57.083826762838996,54.952018485491038,53.627049087874923,60.289196856444583,57.970983930791988,60.853580908441195,63.951748391283004,63.431236309533247,53.857728914868254,46.497203530062528,41.782548982222508,37.308630787091538,33.999824150647186,31.423672505849936,33.264877572614004,34.348138442373248,36.819089969000444,47.510683723972072,52.457357117659306,52.960049435735776,46.964313258184383,40.881379447916487,36.73367260737443,34.721074427050411,35.953435410450155,38.556225716400363,45.47924429292874,51.070530233437175,53.350701590052118,54.478256208557639,55.145932454525401,52.583177893007473,47.10159365567845,41.718837362665809,39.022044192386026,36.845927712996726,38.722792907654885,50.967274454406251,61.130895113089167,70.66110346108826,76.32182058208754,76.642921288843922,77.383626554240735,77.559482758481181,70.616106330588551,63.338140117167534,58.983510344738676,57.341752391605354,59.641014386016757,66.336643596844567,69.434013209896534,72.261270840962908,74.508609606684544,75.195897857981024,74.490220924280635,71.557528806530087,66.281205374604511,60.553893228696779,56.621927184333259,53.297248160285932,54.954785554548799,52.274484243802931,49.940381213341993,49.484964001918001,47.588838817156329,50.857701596892142,55.567192967380478,51.3347762720296,45.211873414445328,39.440955771503951,35.957271061266297,34.786487952279394,35.312689901770256,38.188704137555625,48.719703042457866,52.41241867074519,71.059799112863473,77.788936896400926,78.425171772187085,76.478041399237284,70.425411333250366,63.36019005968852,57.511817815348756,57.217301552033106,55.854701635353535,57.541208413755676,70.638952202739972,76.212708237011284,75.098693100269173,77.395717396917945,76.103446912033093,73.180498305352259,67.203855697823144,60.323672376699825,55.819325732434628,57.210861685662984,62.299906273959145,63.791445938468996,64.127024715786234,68.084654018209349,69.684024761799648,71.224941311315504,69.517020276813057,64.293597618651901,56.364471891385037,51.080793702861527,47.224717571747348,46.516540232260411,47.170999999999999,46.628999999999998,60.57,65.088999999999999,66.38,71.094999999999999,73.241,68.783000000000001,61.499000000000002,52.469605731901659,46.082999999999998,41.21,41.741,39.226865653929153,34.266770523211392,44.241,44.078000000000003,43.167805059113221,43.523138146358377,40.482495384767915,37.052,32.561999999999998,27.702503847352833,25.396591231094099,23.755816454689381,26.342611299740948,29.11965349577094,30.296627556340678,52.321900930253207,64.178887075143905,65.248014461698844,64.064404856362884,55.272756847246953,50.24833230337039,44.195205491877687,41.151199282396519,43.202874896349378,44.083442278851528,43.538300722274641,47.828359907801065,48.506383217619643,51.467426212881463,53.306551719571139,50.31577798675039,44.02,39.182452615476983,34.881367865337658,34.297219116378464,42.119738625367752,50.98660441082108,55.04264085316175,55.527468961612257,58.91909091221077,67.336916337072111,"-","-","-","-","-","-","-","-"]
[]
[null,"Producible hidráulico anual peninsular",{"$f":"O2","v":"1990"},{"$f":"AB2","v":"1991"},{"$f":"AO2","v":"1992"},{"$f":"BB2","v":"1993"},{"$f":"BO2","v":"1994"},{"$f":"CB2","v":"1995"},{"$f":"CO2","v":"1996"},{"$f":"DB2","v":"1997"},{"$f":"DO2","v":"1998"},{"$f":"EB2","v":"1999"},{"$f":"EO2","v":"2000"},{"$f":"FB2","v":"2001"},{"$f":"FO2","v":"2002"},{"$f":"GB2","v":"2003"},{"$f":"GO2","v":"2004"},{"$f":"HB2","v":"2005"},{"$f":"HO2","v":"2006"},{"$f":"IB2","v":"2007"},{"$f":"IO2","v":"2008"},{"$f":"JB2","v":"2009"},{"$f":"JO2","v":"2010"},{"$f":"KB2","v":"2011"},{"$f":"KO2","v":"2012"},{"$f":"LB2","v":"2013"},{"$f":"LO2","v":"2014"},{"$f":"MB2","v":"2015"},{"$f":"MO2","v":"2016"},{"$f":"NB2","v":"2017"},{"$f":"NO2","v":"2018"},{"$f":"OB2","v":"2019"},2020,2021,2022,2023,2024,2025,2026,2027,2028,2029]
[null,"Producible hidraulico (GWh)",{"$f":"O3","v":"-"},{"$f":"AB3","v":24405.909899999991},{"$f":"AO3","v":18454.854500000012},{"$f":"BB3","v":21819.519700000001},{"$f":"BO3","v":23879.901699999995},{"$f":"CB3","v":21442.268799999998},{"$f":"CO3","v":39085.520400000009},{"$f":"DB3","v":35363.253700000016},{"$f":"DO3","v":26680.913200000028},{"$f":"EB3","v":20449.300000000007},{"$f":"EO3","v":26602.997799999997},{"$f":"FB3","v":32187.74920000002},{"$f":"FO3","v":21562.680600000007},{"$f":"GB3","v":34761.753199999985},{"$f":"GO3","v":23018.380100000002},{"$f":"HB3","v":13712.382099999983},{"$f":"HO3","v":24428.931794},{"$f":"IB3","v":18761.120218999971},{"$f":"IO3","v":19574.27058700001},{"$f":"JB3","v":22957.195166999983},{"$f":"JO3","v":38170.234914000015},{"$f":"KB3","v":27729.833353710001},{"$f":"KO3","v":18011.199261697991},{"$f":"LB3","v":40974.241253939974},{"$f":"LO3","v":40271.072641503983},{"$f":"MB3","v":25140.895262849976},{"$f":"MO3","v":34666.883405772016},{"$f":"NB3","v":15972.007925036016},{"$f":"NO3","v":37402.772072769512},{"$f":"OB3","v":25988.646357781632},{"$f":"OO3","v":15561.899554949909},"-","-","-","-","-","-","-","-","-"]
[null,"Índice de producible",{"$f":"O4","v":"-"},{"$f":"AB4","v":0.98117985987159073},{"$f":"AO4","v":0.73895514271095675},{"$f":"BB4","v":0.8772003735747389},{"$f":"BO4","v":0.96003298790156411},{"$f":"CB4","v":0.86203392468120954},{"$f":"CO4","v":1.5650324582680399},{"$f":"DB4","v":1.4216930428793209},{"$f":"DO4","v":1.0726407981544712},{"$f":"EB4","v":0.82211404494581597},{"$f":"EO4","v":1.0652168531503867},{"$f":"FB4","v":1.2940296583508217},{"$f":"FO4","v":0.86687478632230297},{"$f":"GB4","v":1.3975111877991002},{"$f":"GO4","v":0.92168433794861615},{"$f":"HB4","v":0.55127275330077719},{"$f":"HO4","v":0.98210539876038694},{"$f":"IB4","v":0.75424490965249624},{"$f":"IO4","v":0.78377794390519129},{"$f":"JB4","v":0.92293783060314472},{"$f":"JO4","v":1.5345408508692497},{"$f":"KB4","v":0.95162409669360837},{"$f":"KO4","v":0.61409918586620216},{"$f":"LB4","v":1.408356842909203},{"$f":"LO4","v":1.3450738172652816},{"$f":"MB4","v":0.82064663448889963},{"$f":"MO4","v":1.1243663743130567},{"$f":"NB4","v":0.52691726423567176},{"$f":"NO4","v":1.2821831304208802},{"$f":"OB4","v":0.8801258005449254},{"$f":"OO4","v":1.0174436877819291},"-","-","-","-","-","-","-","-","-"]
[null,"Probabilidad de ser superado (%)",{"$f":"O5","v":"-"},{"$f":"AB5","v":49.047878372061064},{"$f":"AO5","v":82.727822139169007},{"$f":"BB5","v":63.995257573749839},{"$f":"BO5","v":52.012615028347177},{"$f":"CB5","v":66.196724704327693},{"$f":"CO5","v":5.2950166450065561},{"$f":"DB5","v":9.8671466182836181},{"$f":"DO5","v":37.14761541050202},{"$f":"EB5","v":71.891261897618207},{"$f":"EO5","v":38.046876913182061},{"$f":"FB5","v":16.648633278860501},{"$f":"FO5","v":65.495458538666298},{"$f":"GB5","v":10.923138126519728},{"$f":"GO5","v":57.517112840637722},{"$f":"HB5","v":97.400230187448074},{"$f":"HO5","v":48.919584911278932},{"$f":"IB5","v":80.882895189171336},{"$f":"IO5","v":77.11208825432611},{"$f":"JB5","v":57.335337166816338},{"$f":"JO5","v":6.0598624340459377},{"$f":"KB5","v":55.057053727753434},{"$f":"KO5","v":96.837621756190586},{"$f":"LB5","v":8.6432276255497431},{"$f":"LO5","v":14.563853199694643},{"$f":"MB5","v":78.995941813692511},37.337980074161706,{"$f":"NB5","v":99.282426066621127},{"$f":"NO5","v":17.172139764732719},{"$f":"OB5","v":63.695452324691161},{"$f":"OO5","v":49.014499644169938},"-","-","-","-","-","-","-","-","-"]
[]
[null,"Reservas hidroeléctricas anuales peninsulares (GWh)",1990,1991,1992,1993,1994,1995,1996,1997,1998,1999,2000,2001,2002,2003,2004,2005,2006,2007,2008,2009,2010,2011,2012,2013,2014,2015,2016,2017,2018,2019,2020,2021,2022,2023,2024,2025,2026,2027,2028,2029]
[null,"Reservas embalses anuales (GWh)",{"$f":"N8","v":2536.1019999999999},{"$f":"Z8","v":2331.7669999999998},{"$f":"AL8","v":3358.31},{"$f":"AX8","v":4073.2440000000001},{"$f":"BJ8","v":3613.3690000000001},{"$f":"BV8","v":4785.2780000000002},{"$f":"CH8","v":5322.933},{"$f":"CT8","v":6485.8819999999996},{"$f":"DF8","v":3355.3409999999999},{"$f":"DR8","v":4124.6210000000001},{"$f":"ED8","v":5898.3249999999998},{"$f":"EP8","v":2581.0700000000002},{"$f":"FB8","v":6140.3040000000001},{"$f":"FN8","v":5232.8670000000002},{"$f":"FZ8","v":3502.721},{"$f":"GL8","v":3509.11},{"$f":"GX8","v":5357.4248939999998},{"$f":"HJ8","v":2605.5660130000001},{"$f":"HV8","v":3815.84},{"$f":"IH8","v":5088.9194669999997},{"$f":"IT8","v":5556.3870889999998},{"$f":"JF8","v":3834.4360040000001},{"$f":"JR8","v":3672.2720869999998},{"$f":"KD8","v":4657.9230699999998},{"$f":"KP8","v":5550.04054},{"$f":"LB8","v":3836.8},{"$f":"LN8","v":3428.9364380000002},{"$f":"LZ8","v":2616.62727},{"$f":"ML8","v":4716.5233230898984},{"$f":"MX8","v":5895.3238307659176},{"$f":"NB8","v":7238.6496034918946},"-","-","-","-","-","-","-","-","-"]
[null,"Reservas embalses hiperanuales (GWh)",{"$f":"N9","v":2938.7570000000001},{"$f":"Z9","v":2821.0680000000002},{"$f":"AL9","v":3692.5120000000002},{"$f":"AX9","v":3282.6080000000002},{"$f":"BJ9","v":2613.7190000000001},{"$f":"BV9","v":2644.991},{"$f":"CH9","v":4868.0990000000002},{"$f":"CT9","v":7387.1409999999996},{"$f":"DF9","v":5343.06},{"$f":"DR9","v":3725.6979999999999},{"$f":"ED9","v":4497.1570000000002},{"$f":"EP9","v":3897.5839999999998},{"$f":"FB9","v":4575.1580000000004},{"$f":"FN9","v":5235.9849999999997},{"$f":"FZ9","v":3864.0520000000001},{"$f":"GL9","v":3139.431},{"$f":"GX9","v":4493.6629999999996},{"$f":"HJ9","v":3027.6640000000002},{"$f":"HV9","v":3096.0219999999999},{"$f":"IH9","v":4047.835},{"$f":"IT9","v":6741.1469999999999},{"$f":"JF9","v":5856.2449999999999},{"$f":"JR9","v":3407.1770000000001},{"$f":"KD9","v":6009.107},{"$f":"KP9","v":6275.6629999999996},{"$f":"LB9","v":4807.3999999999996},3842.967768,{"$f":"LZ9","v":2266.7847160000001},{"$f":"ML9","v":3455.6965058076044},{"$f":"MX9","v":3556.6090954011952},{"$f":"NB9","v":5244.3157562851338},"-","-","-","-","-","-","-","-","-"]
[null,"Total reservas (GWh)",{"$f":"N10","v":5474.8590000000004},{"$f":"Z10","v":5152.835},{"$f":"AL10","v":7050.8220000000001},{"$f":"AX10","v":7355.8520000000008},{"$f":"BJ10","v":6227.0879999999997},{"$f":"BV10","v":7430.2690000000002},{"$f":"CH10","v":10191.031999999999},{"$f":"CT10","v":13873.022999999999},{"$f":"DF10","v":8698.4009999999998},{"$f":"DR10","v":7850.3189999999995},{"$f":"ED10","v":10395.482},{"$f":"EP10","v":6478.6540000000005},{"$f":"FB10","v":10715.462},{"$f":"FN10","v":10468.851999999999},{"$f":"FZ10","v":7366.7730000000001},{"$f":"GL10","v":6648.5410000000002},{"$f":"GX10","v":9851.0878940000002},{"$f":"HJ10","v":5633.2300130000003},{"$f":"HV10","v":6911.8620000000001},{"$f":"IH10","v":9136.7544669999988},{"$f":"IT10","v":12297.534089000001},{"$f":"JF10","v":9690.681004},{"$f":"JR10","v":7079.449087},{"$f":"KD10","v":10667.030070000001},{"$f":"KP10","v":11825.703539999999},{"$f":"LB10","v":8644.2000000000007},7271.9042060000002,4883.4119860000001,8172.2198288975142,9451.9329261671428,12482.965359777028,"-","-","-","-","-","-","-","-","-"]
[]
[null,"Reservas hidroeléctricas anuales peninsulares (%)",1990,1991,1992,1993,1994,1995,1996,1997,1998,1999,2000,2001,2002,2003,2004,2005,2006,2007,2008,2009,2010,2011,2012,2013,2014,2015,2016,2017,2018,2019,2020,2021,2022,2023,2024,2025,2026,2027,2028,2029]
[null,"Llenado embalses anuales (%)",{"$f":"N13","v":31.543757304928178},{"$f":"Z13","v":29.031147981641816},{"$f":"AL13","v":41.050372028966322},{"$f":"AX13","v":49.789382625414241},{"$f":"BJ13","v":44.260063359043528},{"$f":"BV13","v":58.614746368454782},{"$f":"CH13","v":65.200468547757964},{"$f":"CT13","v":79.445400749073755},{"$f":"DF13","v":41.09948506537706},{"$f":"DR13","v":50.522375874714555},{"$f":"ED13","v":72.24843026334436},{"$f":"EP13","v":30.889010931014539},{"$f":"FB13","v":73.484220643280608},{"$f":"FN13","v":62.624448760996508},{"$f":"FZ13","v":41.918889165072692},{"$f":"GL13","v":41.995349660463461},{"$f":"GX13","v":63.912406672560721},{"$f":"HJ13","v":31.083589211219774},{"$f":"HV13","v":45.521780090758682},{"$f":"IH13","v":60.709220742052828},{"$f":"IT13","v":61.965674890895698},{"$f":"JF13","v":42.762214188459552},{"$f":"JR13","v":40.953737493279426},{"$f":"KD13","v":51.945867341357001},{"$f":"KP13","v":61.894897210054907},{"$f":"LB13","v":42.787999999999997},{"$f":"LN13","v":38.240021282767387},{"$f":"LZ13","v":29.181025750431111},{"$f":"ML13","v":52.599386286910956},{"$f":"MX13","v":65.75},{"$f":"NB13","v":80.726522611623224},"-","-","-","-","-","-","-","-","-"]
[null,"Llenado embalses hiperanuales (%)",{"$f":"N14","v":29.401509255538048},{"$f":"Z14","v":28.224061027333057},{"$f":"AL14","v":36.795383158521375},{"$f":"AX14","v":32.068434376269686},{"$f":"BJ14","v":25.533927971146493},{"$f":"BV14","v":25.839430205898463},{"$f":"CH14","v":47.557403539711139},{"$f":"CT14","v":72.166413530568136},{"$f":"DF14","v":55.981925888641534},{"$f":"DR14","v":39.03601107220581},{"$f":"ED14","v":47.118974872748112},{"$f":"EP14","v":40.83694711134725},{"$f":"FB14","v":47.936230565411101},{"$f":"FN14","v":54.860047280778943},{"$f":"FZ14","v":40.485615488850421},{"$f":"GL14","v":32.893396962509087},{"$f":"GX14","v":47.082366478110025},{"$f":"HJ14","v":31.722357911703781},{"$f":"HV14","v":32.438579045266899},{"$f":"IH14","v":42.411202378309305},{"$f":"IT14","v":70.431634847571758},{"$f":"JF14","v":61.186161556470715},{"$f":"JR14","v":35.598251503052083},{"$f":"KD14","v":62.783266702830751},{"$f":"KP14","v":65.56824897045216},{"$f":"LB14","v":50.228000000000002},40.151401915247341,{"$f":"LZ14","v":23.683410760122673},{"$f":"ML14","v":36.105184242543714},37.159520939515119,{"$f":"NB14","v":54.792712927346301},"-","-","-","-","-","-","-","-","-"]
[null,"Llenado total reservas (%)",{"$f":"N15","v":30.356506007582507},{"$f":"Z15","v":28.583655328101838},{"$f":"AL15","v":38.706310336377364},{"$f":"AX15","v":39.940103842015581},{"$f":"BJ15","v":33.842486997973062},{"$f":"BV15","v":40.381440253284097},{"$f":"CH15","v":55.385417382238288},{"$f":"CT15","v":75.396011827692391},{"$f":"DF15","v":49.120729776835695},{"$f":"DR15","v":44.331526939371848},{"$f":"ED15","v":58.704313841355379},{"$f":"EP15","v":36.193177196600182},{"$f":"FB15","v":59.862220595425484},{"$f":"FN15","v":58.484527107171061},{"$f":"FZ15","v":41.154678202622009},{"$f":"GL15","v":37.142255553678488},{"$f":"GX15","v":54.952018485491038},{"$f":"HJ15","v":31.423672505849936},{"$f":"HV15","v":38.556225716400363},{"$f":"IH15","v":50.967274454406251},{"$f":"IT15","v":66.336643596844567},{"$f":"JF15","v":52.274484243802931},{"$f":"JR15","v":38.188704137555625},{"$f":"KD15","v":57.541208413755676},{"$f":"KP15","v":63.791445938468996},{"$f":"LB15","v":46.628999999999998},39.226865653929153,26.342611299740948,44.083442278851528,50.98660441082108,67.336916337072111,"-","-","-","-","-","-","-","-","-"]

{"sheet":"Año","index":6,"n_rows":32,"n_cols":26,"rows_kept":32,"cut":false,"hidden":true,"merged":[]}
[null,null,null,null,null,null,null,null,null,null,null,null,null,null,null,null,null,null,null,null,null,null,null,1,null,1]
[null,1990,"1990-1999","Conjunto",null,null,null,null,null,null,null,null,null,"Producible",null,"Mensual"]
[null,1991,"2000-2009","Anual",null,null,null,null,null,null,null,null,null,"Reservas",null,"Anual"]
[null,1992,"2010-2019","Hiperanual"]
[null,1993,"2020-2029"]
[null,1994]
[null,1995,"1990-1999"]
[null,1996,"2000-2009"]
[null,1997,"2010-2019"]
[null,1998,"2020-2029"]
[null,1999]
[null,2000]
[null,2001]
[null,2002]
[null,2003]
[null,2004]
[null,2005]
[null,2006]
[null,2007]
[null,2008]
[null,2009]
[null,2010]
[null,2011]
[null,2012]
[null,2013]
[null,2014]
[null,2015]
[null,2016]
[null,2017]
[null,2018]
[null,2019]
[null,2020]