{"text_format":"1","workbook":"xlsx","n_sheets":24,"sheets":["AVISO LEGAL","Potencia nacional","Potencia peninsular","Potencia Baleares","Potencia Canarias","Potencia Ceuta","Potencia Melilla","Potencia Andalucía","Potencia Aragón","Potencia Asturias","Potencia C.Valenciana","Potencia Cantabria","Potencia Castilla-La Mancha","Potencia Castilla y León","Potencia Cataluña","Potencia Extremadura","Potencia Galicia","Potencia La Rioja","Potencia Madrid","Potencia Murcia","Potencia Navarra","Potencia País Vasco","Potencia","Año"],"not_rendered":{"charts":0,"images":1,"macros":1,"external_links":0,"defined_names":22,"comments":0,"pivot_tables":0},"unopened":[],"bounds":{"document_bytes":16777216,"sheet_cells":100000,"rows_first":2000,"rows_last":500,"rows_between":2000,"halvings":0,"cell_chars":16384,"cell_head_chars":4096},"cells_cut":0,"cells_raw":0,"read":"whole","date_system":"1900"}

{"sheet":"AVISO LEGAL","index":0,"n_rows":23,"n_cols":9,"rows_kept":23,"cut":false,"hidden":false,"merged":[]}
[]
[null,null,null,null,null,null,"Fecha de actualización:",null,"2020-05-12"]
[]
[]
[]
[]
[]
[]
[]
[]
[]
[]
[]
[]
[]
[]
[]
[]
[]
[]
[]
[]
[null,null,null,null,null,null,null,null,"www.ree.es"]

{"sheet":"Potencia nacional","index":1,"n_rows":32,"n_cols":12,"rows_kept":32,"cut":false,"hidden":false,"merged":[[41,1,41,8],[25,1,25,11],[29,1,29,11],[26,1,26,11],[27,1,27,11],[28,1,28,5],[30,1,30,11],[31,1,31,11]]}
[null,null,null,null,null,null,null,null,null,null,null,2]
[]
[]
[]
[null,null,null,null,null,null,null,null,null,"  Sistema / C.Autónoma"]
[null,null,null,null,null,null,null,null,null,"  Periodo"]
[]
[null,null,{"$f":"OFFSET(Potencia!C66,0,($L$1-1)*10)","v":2016},{"$f":"OFFSET(Potencia!D66,0,($L$1-1)*10)","v":2017},{"$f":"OFFSET(Potencia!E66,0,($L$1-1)*10)","v":2018},{"$f":"OFFSET(Potencia!F66,0,($L$1-1)*10)","v":2019},{"$f":"OFFSET(Potencia!G66,0,($L$1-1)*10)","v":2020},{"$f":"OFFSET(Potencia!H66,0,($L$1-1)*10)","v":2021},{"$f":"OFFSET(Potencia!I66,0,($L$1-1)*10)","v":2022},{"$f":"OFFSET(Potencia!J66,0,($L$1-1)*10)","v":2023},{"$f":"OFFSET(Potencia!K66,0,($L$1-1)*10)","v":2024},{"$f":"OFFSET(Potencia!L66,0,($L$1-1)*10)","v":2025}]
[]
[null,"Hidráulica convencional y mixta",{"$f":"OFFSET(Potencia!C67,0,($L$1-1)*10)","v":17030.396629999999},{"$f":"OFFSET(Potencia!D67,0,($L$1-1)*10)","v":17027.559629999996},{"$f":"OFFSET(Potencia!E67,0,($L$1-1)*10)","v":17046.371230000001},{"$f":"OFFSET(Potencia!F67,0,($L$1-1)*10)","v":17084.773229999999},{"$f":"OFFSET(Potencia!G67,0,($L$1-1)*10)","v":17084.773229999999},{"$f":"OFFSET(Potencia!H67,0,($L$1-1)*10)","v":"-"},{"$f":"OFFSET(Potencia!I67,0,($L$1-1)*10)","v":"-"},{"$f":"OFFSET(Potencia!J67,0,($L$1-1)*10)","v":"-"},{"$f":"OFFSET(Potencia!K67,0,($L$1-1)*10)","v":"-"},{"$f":"OFFSET(Potencia!L67,0,($L$1-1)*10)","v":"-"}]
[null,"Bombeo puro",{"$f":"OFFSET(Potencia!C68,0,($L$1-1)*10)","v":3328.89},{"$f":"OFFSET(Potencia!D68,0,($L$1-1)*10)","v":3328.8900000000003},{"$f":"OFFSET(Potencia!E68,0,($L$1-1)*10)","v":3328.8900000000003},{"$f":"OFFSET(Potencia!F68,0,($L$1-1)*10)","v":3328.8900000000003},{"$f":"OFFSET(Potencia!G68,0,($L$1-1)*10)","v":3328.8900000000003},{"$f":"OFFSET(Potencia!H68,0,($L$1-1)*10)","v":"-"},{"$f":"OFFSET(Potencia!I68,0,($L$1-1)*10)","v":"-"},{"$f":"OFFSET(Potencia!J68,0,($L$1-1)*10)","v":"-"},{"$f":"OFFSET(Potencia!K68,0,($L$1-1)*10)","v":"-"},{"$f":"OFFSET(Potencia!L68,0,($L$1-1)*10)","v":"-"}]
[null,"Nuclear",{"$f":"OFFSET(Potencia!C69,0,($L$1-1)*10)","v":7572.58},{"$f":"OFFSET(Potencia!D69,0,($L$1-1)*10)","v":7117.29},{"$f":"OFFSET(Potencia!E69,0,($L$1-1)*10)","v":7117.29},{"$f":"OFFSET(Potencia!F69,0,($L$1-1)*10)","v":7117.29},{"$f":"OFFSET(Potencia!G69,0,($L$1-1)*10)","v":7117.29},{"$f":"OFFSET(Potencia!H69,0,($L$1-1)*10)","v":"-"},{"$f":"OFFSET(Potencia!I69,0,($L$1-1)*10)","v":"-"},{"$f":"OFFSET(Potencia!J69,0,($L$1-1)*10)","v":"-"},{"$f":"OFFSET(Potencia!K69,0,($L$1-1)*10)","v":"-"},{"$f":"OFFSET(Potencia!L69,0,($L$1-1)*10)","v":"-"}]
[null,"Carbón",{"$f":"OFFSET(Potencia!C70,0,($L$1-1)*10)","v":10004.27},{"$f":"OFFSET(Potencia!D70,0,($L$1-1)*10)","v":10004.27},{"$f":"OFFSET(Potencia!E70,0,($L$1-1)*10)","v":10030.284999999998},{"$f":"OFFSET(Potencia!F70,0,($L$1-1)*10)","v":9683.4449999999997},{"$f":"OFFSET(Potencia!G70,0,($L$1-1)*10)","v":9456.2450000000008},{"$f":"OFFSET(Potencia!H70,0,($L$1-1)*10)","v":"-"},{"$f":"OFFSET(Potencia!I70,0,($L$1-1)*10)","v":"-"},{"$f":"OFFSET(Potencia!J70,0,($L$1-1)*10)","v":"-"},{"$f":"OFFSET(Potencia!K70,0,($L$1-1)*10)","v":"-"},{"$f":"OFFSET(Potencia!L70,0,($L$1-1)*10)","v":"-"}]
[null,"Fuel + Gas",{"$f":"OFFSET(Potencia!C71,0,($L$1-1)*10)","v":2490.0600000000004},{"$f":"OFFSET(Potencia!D71,0,($L$1-1)*10)","v":2490.0600000000004},{"$f":"OFFSET(Potencia!E71,0,($L$1-1)*10)","v":2490.0600000000004},{"$f":"OFFSET(Potencia!F71,0,($L$1-1)*10)","v":2447.46},{"$f":"OFFSET(Potencia!G71,0,($L$1-1)*10)","v":2447.46},{"$f":"OFFSET(Potencia!H71,0,($L$1-1)*10)","v":"-"},{"$f":"OFFSET(Potencia!I71,0,($L$1-1)*10)","v":"-"},{"$f":"OFFSET(Potencia!J71,0,($L$1-1)*10)","v":"-"},{"$f":"OFFSET(Potencia!K71,0,($L$1-1)*10)","v":"-"},{"$f":"OFFSET(Potencia!L71,0,($L$1-1)*10)","v":"-"}]
[null,"Ciclo combinado",{"$f":"OFFSET(Potencia!C72,0,($L$1-1)*10)","v":26669.86},{"$f":"OFFSET(Potencia!D72,0,($L$1-1)*10)","v":26669.86},{"$f":"OFFSET(Potencia!E72,0,($L$1-1)*10)","v":26284.010000000002},{"$f":"OFFSET(Potencia!F72,0,($L$1-1)*10)","v":26284.010000000002},{"$f":"OFFSET(Potencia!G72,0,($L$1-1)*10)","v":26284.010000000002},{"$f":"OFFSET(Potencia!H72,0,($L$1-1)*10)","v":"-"},{"$f":"OFFSET(Potencia!I72,0,($L$1-1)*10)","v":"-"},{"$f":"OFFSET(Potencia!J72,0,($L$1-1)*10)","v":"-"},{"$f":"OFFSET(Potencia!K72,0,($L$1-1)*10)","v":"-"},{"$f":"OFFSET(Potencia!L72,0,($L$1-1)*10)","v":"-"}]
[null,"Hidroeólica",{"$f":"OFFSET(Potencia!C73,0,($L$1-1)*10)","v":11.39},{"$f":"OFFSET(Potencia!D73,0,($L$1-1)*10)","v":11.39},{"$f":"OFFSET(Potencia!E73,0,($L$1-1)*10)","v":11.39},{"$f":"OFFSET(Potencia!F73,0,($L$1-1)*10)","v":11.39},{"$f":"OFFSET(Potencia!G73,0,($L$1-1)*10)","v":11.39},{"$f":"OFFSET(Potencia!H73,0,($L$1-1)*10)","v":"-"},{"$f":"OFFSET(Potencia!I73,0,($L$1-1)*10)","v":"-"},{"$f":"OFFSET(Potencia!J73,0,($L$1-1)*10)","v":"-"},{"$f":"OFFSET(Potencia!K73,0,($L$1-1)*10)","v":"-"},{"$f":"OFFSET(Potencia!L73,0,($L$1-1)*10)","v":"-"}]
[null,"Resto hidráulica (1)",{"$f":"OFFSET(Potencia!C74,0,($L$1-1)*10)","v":"-"},{"$f":"OFFSET(Potencia!D74,0,($L$1-1)*10)","v":"-"},{"$f":"OFFSET(Potencia!E74,0,($L$1-1)*10)","v":"-"},{"$f":"OFFSET(Potencia!F74,0,($L$1-1)*10)","v":"-"},{"$f":"OFFSET(Potencia!G74,0,($L$1-1)*10)","v":"-"},{"$f":"OFFSET(Potencia!H74,0,($L$1-1)*10)","v":"-"},{"$f":"OFFSET(Potencia!I74,0,($L$1-1)*10)","v":"-"},{"$f":"OFFSET(Potencia!J74,0,($L$1-1)*10)","v":"-"},{"$f":"OFFSET(Potencia!K74,0,($L$1-1)*10)","v":"-"},{"$f":"OFFSET(Potencia!L74,0,($L$1-1)*10)","v":"-"}]
[null,"Eólica",{"$f":"OFFSET(Potencia!C75,0,($L$1-1)*10)","v":23001.359650000002},{"$f":"OFFSET(Potencia!D75,0,($L$1-1)*10)","v":23081.767250000001},{"$f":"OFFSET(Potencia!E75,0,($L$1-1)*10)","v":23545.390500000001},{"$f":"OFFSET(Potencia!F75,0,($L$1-1)*10)","v":25799.199499999999},{"$f":"OFFSET(Potencia!G75,0,($L$1-1)*10)","v":25901.884860000002},{"$f":"OFFSET(Potencia!H75,0,($L$1-1)*10)","v":"-"},{"$f":"OFFSET(Potencia!I75,0,($L$1-1)*10)","v":"-"},{"$f":"OFFSET(Potencia!J75,0,($L$1-1)*10)","v":"-"},{"$f":"OFFSET(Potencia!K75,0,($L$1-1)*10)","v":"-"},{"$f":"OFFSET(Potencia!L75,0,($L$1-1)*10)","v":"-"}]
[null,"Solar fotovoltaica",{"$f":"OFFSET(Potencia!C76,0,($L$1-1)*10)","v":4682.8682460001273},{"$f":"OFFSET(Potencia!D76,0,($L$1-1)*10)","v":4685.3829900001274},{"$f":"OFFSET(Potencia!E76,0,($L$1-1)*10)","v":4711.6317550001268},{"$f":"OFFSET(Potencia!F76,0,($L$1-1)*10)","v":8912.6028400001269},{"$f":"OFFSET(Potencia!G76,0,($L$1-1)*10)","v":9145.7747300001247},{"$f":"OFFSET(Potencia!H76,0,($L$1-1)*10)","v":"-"},{"$f":"OFFSET(Potencia!I76,0,($L$1-1)*10)","v":"-"},{"$f":"OFFSET(Potencia!J76,0,($L$1-1)*10)","v":"-"},{"$f":"OFFSET(Potencia!K76,0,($L$1-1)*10)","v":"-"},{"$f":"OFFSET(Potencia!L76,0,($L$1-1)*10)","v":"-"}]
[null,"Solar térmica",{"$f":"OFFSET(Potencia!C77,0,($L$1-1)*10)","v":2304.0129999999999},{"$f":"OFFSET(Potencia!D77,0,($L$1-1)*10)","v":2304.0129999999999},{"$f":"OFFSET(Potencia!E77,0,($L$1-1)*10)","v":2304.0129999999999},{"$f":"OFFSET(Potencia!F77,0,($L$1-1)*10)","v":2304.0129999999999},{"$f":"OFFSET(Potencia!G77,0,($L$1-1)*10)","v":2304.0129999999999},{"$f":"OFFSET(Potencia!H77,0,($L$1-1)*10)","v":"-"},{"$f":"OFFSET(Potencia!I77,0,($L$1-1)*10)","v":"-"},{"$f":"OFFSET(Potencia!J77,0,($L$1-1)*10)","v":"-"},{"$f":"OFFSET(Potencia!K77,0,($L$1-1)*10)","v":"-"},{"$f":"OFFSET(Potencia!L77,0,($L$1-1)*10)","v":"-"}]
[null,"Térmica renovable/Otras renovables (2)",{"$f":"OFFSET(Potencia!C78,0,($L$1-1)*10)","v":870.40099999999984},{"$f":"OFFSET(Potencia!D78,0,($L$1-1)*10)","v":872.12700000000007},{"$f":"OFFSET(Potencia!E78,0,($L$1-1)*10)","v":876.79800000000012},{"$f":"OFFSET(Potencia!F78,0,($L$1-1)*10)","v":1076.4669999999999},{"$f":"OFFSET(Potencia!G78,0,($L$1-1)*10)","v":1075.9669999999999},{"$f":"OFFSET(Potencia!H78,0,($L$1-1)*10)","v":"-"},{"$f":"OFFSET(Potencia!I78,0,($L$1-1)*10)","v":"-"},{"$f":"OFFSET(Potencia!J78,0,($L$1-1)*10)","v":"-"},{"$f":"OFFSET(Potencia!K78,0,($L$1-1)*10)","v":"-"},{"$f":"OFFSET(Potencia!L78,0,($L$1-1)*10)","v":"-"}]
[null,"Térmica no renovable/Cogeneración y resto/Cogeneración (3)",{"$f":"OFFSET(Potencia!C79,0,($L$1-1)*10)","v":5965.0446099999999},{"$f":"OFFSET(Potencia!D79,0,($L$1-1)*10)","v":5800.9596100000008},{"$f":"OFFSET(Potencia!E79,0,($L$1-1)*10)","v":5727.1265000000012},{"$f":"OFFSET(Potencia!F79,0,($L$1-1)*10)","v":5676.9325000000008},{"$f":"OFFSET(Potencia!G79,0,($L$1-1)*10)","v":5672.2765000000009},{"$f":"OFFSET(Potencia!H79,0,($L$1-1)*10)","v":"-"},{"$f":"OFFSET(Potencia!I79,0,($L$1-1)*10)","v":"-"},{"$f":"OFFSET(Potencia!J79,0,($L$1-1)*10)","v":"-"},{"$f":"OFFSET(Potencia!K79,0,($L$1-1)*10)","v":"-"},{"$f":"OFFSET(Potencia!L79,0,($L$1-1)*10)","v":"-"}]
[null,"Residuos no renovables(4)",{"$f":"OFFSET(Potencia!C80,0,($L$1-1)*10)","v":496.13949999999994},{"$f":"OFFSET(Potencia!D80,0,($L$1-1)*10)","v":496.13949999999994},{"$f":"OFFSET(Potencia!E80,0,($L$1-1)*10)","v":489.61150000000004},{"$f":"OFFSET(Potencia!F80,0,($L$1-1)*10)","v":489.61150000000004},{"$f":"OFFSET(Potencia!G80,0,($L$1-1)*10)","v":489.61150000000004},{"$f":"OFFSET(Potencia!H80,0,($L$1-1)*10)","v":"-"},{"$f":"OFFSET(Potencia!I80,0,($L$1-1)*10)","v":"-"},{"$f":"OFFSET(Potencia!J80,0,($L$1-1)*10)","v":"-"},{"$f":"OFFSET(Potencia!K80,0,($L$1-1)*10)","v":"-"},{"$f":"OFFSET(Potencia!L80,0,($L$1-1)*10)","v":"-"}]
[null,"Residuos renovables(4)",{"$f":"OFFSET(Potencia!C81,0,($L$1-1)*10)","v":160.27550000000002},{"$f":"OFFSET(Potencia!D81,0,($L$1-1)*10)","v":160.27550000000002},{"$f":"OFFSET(Potencia!E81,0,($L$1-1)*10)","v":160.27550000000002},{"$f":"OFFSET(Potencia!F81,0,($L$1-1)*10)","v":160.27550000000002},{"$f":"OFFSET(Potencia!G81,0,($L$1-1)*10)","v":160.27550000000002},{"$f":"OFFSET(Potencia!H81,0,($L$1-1)*10)","v":"-"},{"$f":"OFFSET(Potencia!I81,0,($L$1-1)*10)","v":"-"},{"$f":"OFFSET(Potencia!J81,0,($L$1-1)*10)","v":"-"},{"$f":"OFFSET(Potencia!K81,0,($L$1-1)*10)","v":"-"},{"$f":"OFFSET(Potencia!L81,0,($L$1-1)*10)","v":"-"}]
[null,"Total",{"$f":"OFFSET(Potencia!C82,0,($L$1-1)*10)","v":104587.54813600013},{"$f":"OFFSET(Potencia!D82,0,($L$1-1)*10)","v":104049.98448000014},{"$f":"OFFSET(Potencia!E82,0,($L$1-1)*10)","v":104123.14298500012},{"$f":"OFFSET(Potencia!F82,0,($L$1-1)*10)","v":110376.36007000013},{"$f":"OFFSET(Potencia!G82,0,($L$1-1)*10)","v":110479.86132000016},{"$f":"OFFSET(Potencia!H82,0,($L$1-1)*10)","v":"-"},{"$f":"OFFSET(Potencia!I82,0,($L$1-1)*10)","v":"-"},{"$f":"OFFSET(Potencia!J82,0,($L$1-1)*10)","v":"-"},{"$f":"OFFSET(Potencia!K82,0,($L$1-1)*10)","v":"-"},{"$f":"OFFSET(Potencia!L82,0,($L$1-1)*10)","v":"-"}]
[null,"(1) Incluye todas aquellas unidades menores de 50 MW que no pertenecen a ninguna unidad de gestión hidráulica (UGH). A partir de 2015 están incluidas en hidráulica convencional y mixta."]
[null,"(2) Otras renovables incluyen biogás, biomasa, hidráulica marina y geotérmica. Los valores de potencia incluyen residuos hasta el 31/12/2014."]
[null,"(3) Los valores de potencia incluyen residuos hasta el 31/12/2014."]
[null,"(4) Potencia incluída en térmica renovable y térmica no renovable/cogeneración y resto/cogeneración hasta el 31/12/2014."]
[null,"Fuente: Comisión Nacional de los Mercados y la Competencia (CNMC) hasta 2014 en: resto hidráulica, eólica, solar fotovoltaica, solar térmica, térmica renovable/otras renovables, térmica no renovable/cogeneración y resto/cogeneración y residuos."]
[null,"Datos a 31 de diciembre."]
[null,{"$f":"IF(L1=2,IF(MONTH(FACT)=1,\"\",(CONCATENATE(\"(*) Para el año \",YEAR(FACT), \" datos a \",TEXT(FACT-30,\"mmmm\"),\" de \",YEAR(FACT),\".\"))),\"\")","v":"(*) Para el año 2020 datos a abril de 2020."}]

{"sheet":"Potencia peninsular","index":2,"n_rows":32,"n_cols":12,"rows_kept":32,"cut":false,"hidden":false,"merged":[[30,1,30,11],[29,1,29,11],[24,1,24,11],[28,1,28,11],[25,1,25,11],[26,1,26,11],[27,1,27,5]]}
[null,null,null,null,null,null,null,null,null,null,null,4]
[]
[]
[]
[null,null,null,null,null,null,null,null,null,"  Sistema / C.Autónoma"]
[null,null,null,null,null,null,null,null,null,"  Periodo"]
[]
[null,null,{"$f":"OFFSET(Potencia!C2,0,($L$1-1)*10)","v":2020},{"$f":"OFFSET(Potencia!D2,0,($L$1-1)*10)","v":2021},{"$f":"OFFSET(Potencia!E2,0,($L$1-1)*10)","v":2022},{"$f":"OFFSET(Potencia!F2,0,($L$1-1)*10)","v":2023},{"$f":"OFFSET(Potencia!G2,0,($L$1-1)*10)","v":2024},{"$f":"OFFSET(Potencia!H2,0,($L$1-1)*10)","v":2025},{"$f":"OFFSET(Potencia!I2,0,($L$1-1)*10)","v":2026},{"$f":"OFFSET(Potencia!J2,0,($L$1-1)*10)","v":2027},{"$f":"OFFSET(Potencia!K2,0,($L$1-1)*10)","v":2028},{"$f":"OFFSET(Potencia!L2,0,($L$1-1)*10)","v":2029}]
[]
[null,"Hidráulica convencional y mixta",{"$f":"OFFSET(Potencia!C3,0,($L$1-1)*10)","v":17082.753229999998},{"$f":"OFFSET(Potencia!D3,0,($L$1-1)*10)","v":"-"},{"$f":"OFFSET(Potencia!E3,0,($L$1-1)*10)","v":"-"},{"$f":"OFFSET(Potencia!F3,0,($L$1-1)*10)","v":"-"},{"$f":"OFFSET(Potencia!G3,0,($L$1-1)*10)","v":"-"},{"$f":"OFFSET(Potencia!H3,0,($L$1-1)*10)","v":"-"},{"$f":"OFFSET(Potencia!I3,0,($L$1-1)*10)","v":"-"},{"$f":"OFFSET(Potencia!J3,0,($L$1-1)*10)","v":"-"},{"$f":"OFFSET(Potencia!K3,0,($L$1-1)*10)","v":"-"},{"$f":"OFFSET(Potencia!L3,0,($L$1-1)*10)","v":"-"}]
[null,"Bombeo puro",{"$f":"OFFSET(Potencia!C4,0,($L$1-1)*10)","v":3328.8900000000003},{"$f":"OFFSET(Potencia!D4,0,($L$1-1)*10)","v":"-"},{"$f":"OFFSET(Potencia!E4,0,($L$1-1)*10)","v":"-"},{"$f":"OFFSET(Potencia!F4,0,($L$1-1)*10)","v":"-"},{"$f":"OFFSET(Potencia!G4,0,($L$1-1)*10)","v":"-"},{"$f":"OFFSET(Potencia!H4,0,($L$1-1)*10)","v":"-"},{"$f":"OFFSET(Potencia!I4,0,($L$1-1)*10)","v":"-"},{"$f":"OFFSET(Potencia!J4,0,($L$1-1)*10)","v":"-"},{"$f":"OFFSET(Potencia!K4,0,($L$1-1)*10)","v":"-"},{"$f":"OFFSET(Potencia!L4,0,($L$1-1)*10)","v":"-"}]
[null,"Nuclear",{"$f":"OFFSET(Potencia!C5,0,($L$1-1)*10)","v":7117.29},{"$f":"OFFSET(Potencia!D5,0,($L$1-1)*10)","v":"-"},{"$f":"OFFSET(Potencia!E5,0,($L$1-1)*10)","v":"-"},{"$f":"OFFSET(Potencia!F5,0,($L$1-1)*10)","v":"-"},{"$f":"OFFSET(Potencia!G5,0,($L$1-1)*10)","v":"-"},{"$f":"OFFSET(Potencia!H5,0,($L$1-1)*10)","v":"-"},{"$f":"OFFSET(Potencia!I5,0,($L$1-1)*10)","v":"-"},{"$f":"OFFSET(Potencia!J5,0,($L$1-1)*10)","v":"-"},{"$f":"OFFSET(Potencia!K5,0,($L$1-1)*10)","v":"-"},{"$f":"OFFSET(Potencia!L5,0,($L$1-1)*10)","v":"-"}]
[null,"Carbón",{"$f":"OFFSET(Potencia!C6,0,($L$1-1)*10)","v":9215.0450000000001},{"$f":"OFFSET(Potencia!D6,0,($L$1-1)*10)","v":"-"},{"$f":"OFFSET(Potencia!E6,0,($L$1-1)*10)","v":"-"},{"$f":"OFFSET(Potencia!F6,0,($L$1-1)*10)","v":"-"},{"$f":"OFFSET(Potencia!G6,0,($L$1-1)*10)","v":"-"},{"$f":"OFFSET(Potencia!H6,0,($L$1-1)*10)","v":"-"},{"$f":"OFFSET(Potencia!I6,0,($L$1-1)*10)","v":"-"},{"$f":"OFFSET(Potencia!J6,0,($L$1-1)*10)","v":"-"},{"$f":"OFFSET(Potencia!K6,0,($L$1-1)*10)","v":"-"},{"$f":"OFFSET(Potencia!L6,0,($L$1-1)*10)","v":"-"}]
[null,"Fuel + Gas",{"$f":"OFFSET(Potencia!C7,0,($L$1-1)*10)","v":"-"},{"$f":"OFFSET(Potencia!D7,0,($L$1-1)*10)","v":"-"},{"$f":"OFFSET(Potencia!E7,0,($L$1-1)*10)","v":"-"},{"$f":"OFFSET(Potencia!F7,0,($L$1-1)*10)","v":"-"},{"$f":"OFFSET(Potencia!G7,0,($L$1-1)*10)","v":"-"},{"$f":"OFFSET(Potencia!H7,0,($L$1-1)*10)","v":"-"},{"$f":"OFFSET(Potencia!I7,0,($L$1-1)*10)","v":"-"},{"$f":"OFFSET(Potencia!J7,0,($L$1-1)*10)","v":"-"},{"$f":"OFFSET(Potencia!K7,0,($L$1-1)*10)","v":"-"},{"$f":"OFFSET(Potencia!L7,0,($L$1-1)*10)","v":"-"}]
[null,"Ciclo combinado",{"$f":"OFFSET(Potencia!C8,0,($L$1-1)*10)","v":24561.86},{"$f":"OFFSET(Potencia!D8,0,($L$1-1)*10)","v":"-"},{"$f":"OFFSET(Potencia!E8,0,($L$1-1)*10)","v":"-"},{"$f":"OFFSET(Potencia!F8,0,($L$1-1)*10)","v":"-"},{"$f":"OFFSET(Potencia!G8,0,($L$1-1)*10)","v":"-"},{"$f":"OFFSET(Potencia!H8,0,($L$1-1)*10)","v":"-"},{"$f":"OFFSET(Potencia!I8,0,($L$1-1)*10)","v":"-"},{"$f":"OFFSET(Potencia!J8,0,($L$1-1)*10)","v":"-"},{"$f":"OFFSET(Potencia!K8,0,($L$1-1)*10)","v":"-"},{"$f":"OFFSET(Potencia!L8,0,($L$1-1)*10)","v":"-"}]
[null,"Resto hidráulica (1)",{"$f":"OFFSET(Potencia!C9,0,($L$1-1)*10)","v":"-"},{"$f":"OFFSET(Potencia!D9,0,($L$1-1)*10)","v":"-"},{"$f":"OFFSET(Potencia!E9,0,($L$1-1)*10)","v":"-"},{"$f":"OFFSET(Potencia!F9,0,($L$1-1)*10)","v":"-"},{"$f":"OFFSET(Potencia!G9,0,($L$1-1)*10)","v":"-"},{"$f":"OFFSET(Potencia!H9,0,($L$1-1)*10)","v":"-"},{"$f":"OFFSET(Potencia!I9,0,($L$1-1)*10)","v":"-"},{"$f":"OFFSET(Potencia!J9,0,($L$1-1)*10)","v":"-"},{"$f":"OFFSET(Potencia!K9,0,($L$1-1)*10)","v":"-"},{"$f":"OFFSET(Potencia!L9,0,($L$1-1)*10)","v":"-"}]
[null,"Eólica",{"$f":"OFFSET(Potencia!C10,0,($L$1-1)*10)","v":25467.932360000003},{"$f":"OFFSET(Potencia!D10,0,($L$1-1)*10)","v":"-"},{"$f":"OFFSET(Potencia!E10,0,($L$1-1)*10)","v":"-"},{"$f":"OFFSET(Potencia!F10,0,($L$1-1)*10)","v":"-"},{"$f":"OFFSET(Potencia!G10,0,($L$1-1)*10)","v":"-"},{"$f":"OFFSET(Potencia!H10,0,($L$1-1)*10)","v":"-"},{"$f":"OFFSET(Potencia!I10,0,($L$1-1)*10)","v":"-"},{"$f":"OFFSET(Potencia!J10,0,($L$1-1)*10)","v":"-"},{"$f":"OFFSET(Potencia!K10,0,($L$1-1)*10)","v":"-"},{"$f":"OFFSET(Potencia!L10,0,($L$1-1)*10)","v":"-"}]
[null,"Solar fotovoltaica",{"$f":"OFFSET(Potencia!C11,0,($L$1-1)*10)","v":8897.7368700001243},{"$f":"OFFSET(Potencia!D11,0,($L$1-1)*10)","v":"-"},{"$f":"OFFSET(Potencia!E11,0,($L$1-1)*10)","v":"-"},{"$f":"OFFSET(Potencia!F11,0,($L$1-1)*10)","v":"-"},{"$f":"OFFSET(Potencia!G11,0,($L$1-1)*10)","v":"-"},{"$f":"OFFSET(Potencia!H11,0,($L$1-1)*10)","v":"-"},{"$f":"OFFSET(Potencia!I11,0,($L$1-1)*10)","v":"-"},{"$f":"OFFSET(Potencia!J11,0,($L$1-1)*10)","v":"-"},{"$f":"OFFSET(Potencia!K11,0,($L$1-1)*10)","v":"-"},{"$f":"OFFSET(Potencia!L11,0,($L$1-1)*10)","v":"-"}]
[null,"Solar térmica",{"$f":"OFFSET(Potencia!C12,0,($L$1-1)*10)","v":2304.0129999999999},{"$f":"OFFSET(Potencia!D12,0,($L$1-1)*10)","v":"-"},{"$f":"OFFSET(Potencia!E12,0,($L$1-1)*10)","v":"-"},{"$f":"OFFSET(Potencia!F12,0,($L$1-1)*10)","v":"-"},{"$f":"OFFSET(Potencia!G12,0,($L$1-1)*10)","v":"-"},{"$f":"OFFSET(Potencia!H12,0,($L$1-1)*10)","v":"-"},{"$f":"OFFSET(Potencia!I12,0,($L$1-1)*10)","v":"-"},{"$f":"OFFSET(Potencia!J12,0,($L$1-1)*10)","v":"-"},{"$f":"OFFSET(Potencia!K12,0,($L$1-1)*10)","v":"-"},{"$f":"OFFSET(Potencia!L12,0,($L$1-1)*10)","v":"-"}]
[null,"Térmica renovable/Otras renovables (2)",{"$f":"OFFSET(Potencia!C13,0,($L$1-1)*10)","v":1070.1409999999998},{"$f":"OFFSET(Potencia!D13,0,($L$1-1)*10)","v":"-"},{"$f":"OFFSET(Potencia!E13,0,($L$1-1)*10)","v":"-"},{"$f":"OFFSET(Potencia!F13,0,($L$1-1)*10)","v":"-"},{"$f":"OFFSET(Potencia!G13,0,($L$1-1)*10)","v":"-"},{"$f":"OFFSET(Potencia!H13,0,($L$1-1)*10)","v":"-"},{"$f":"OFFSET(Potencia!I13,0,($L$1-1)*10)","v":"-"},{"$f":"OFFSET(Potencia!J13,0,($L$1-1)*10)","v":"-"},{"$f":"OFFSET(Potencia!K13,0,($L$1-1)*10)","v":"-"},{"$f":"OFFSET(Potencia!L13,0,($L$1-1)*10)","v":"-"}]
[null,"Térmica no renovable/Cogeneración y resto/Cogeneración (3)",{"$f":"OFFSET(Potencia!C14,0,($L$1-1)*10)","v":5661.7895000000008},{"$f":"OFFSET(Potencia!D14,0,($L$1-1)*10)","v":"-"},{"$f":"OFFSET(Potencia!E14,0,($L$1-1)*10)","v":"-"},{"$f":"OFFSET(Potencia!F14,0,($L$1-1)*10)","v":"-"},{"$f":"OFFSET(Potencia!G14,0,($L$1-1)*10)","v":"-"},{"$f":"OFFSET(Potencia!H14,0,($L$1-1)*10)","v":"-"},{"$f":"OFFSET(Potencia!I14,0,($L$1-1)*10)","v":"-"},{"$f":"OFFSET(Potencia!J14,0,($L$1-1)*10)","v":"-"},{"$f":"OFFSET(Potencia!K14,0,($L$1-1)*10)","v":"-"},{"$f":"OFFSET(Potencia!L14,0,($L$1-1)*10)","v":"-"}]
[null,"Residuos no renovables(4)",{"$f":"OFFSET(Potencia!C15,0,($L$1-1)*10)","v":451.1275},{"$f":"OFFSET(Potencia!D15,0,($L$1-1)*10)","v":"-"},{"$f":"OFFSET(Potencia!E15,0,($L$1-1)*10)","v":"-"},{"$f":"OFFSET(Potencia!F15,0,($L$1-1)*10)","v":"-"},{"$f":"OFFSET(Potencia!G15,0,($L$1-1)*10)","v":"-"},{"$f":"OFFSET(Potencia!H15,0,($L$1-1)*10)","v":"-"},{"$f":"OFFSET(Potencia!I15,0,($L$1-1)*10)","v":"-"},{"$f":"OFFSET(Potencia!J15,0,($L$1-1)*10)","v":"-"},{"$f":"OFFSET(Potencia!K15,0,($L$1-1)*10)","v":"-"},{"$f":"OFFSET(Potencia!L15,0,($L$1-1)*10)","v":"-"}]
[null,"Residuos renovables(4)",{"$f":"OFFSET(Potencia!C16,0,($L$1-1)*10)","v":121.7915},{"$f":"OFFSET(Potencia!D16,0,($L$1-1)*10)","v":"-"},{"$f":"OFFSET(Potencia!E16,0,($L$1-1)*10)","v":"-"},{"$f":"OFFSET(Potencia!F16,0,($L$1-1)*10)","v":"-"},{"$f":"OFFSET(Potencia!G16,0,($L$1-1)*10)","v":"-"},{"$f":"OFFSET(Potencia!H16,0,($L$1-1)*10)","v":"-"},{"$f":"OFFSET(Potencia!I16,0,($L$1-1)*10)","v":"-"},{"$f":"OFFSET(Potencia!J16,0,($L$1-1)*10)","v":"-"},{"$f":"OFFSET(Potencia!K16,0,($L$1-1)*10)","v":"-"},{"$f":"OFFSET(Potencia!L16,0,($L$1-1)*10)","v":"-"}]
[null,"Total",{"$f":"OFFSET(Potencia!C17,0,($L$1-1)*10)","v":105280.36996000014},{"$f":"OFFSET(Potencia!D17,0,($L$1-1)*10)","v":"-"},{"$f":"OFFSET(Potencia!E17,0,($L$1-1)*10)","v":"-"},{"$f":"OFFSET(Potencia!F17,0,($L$1-1)*10)","v":"-"},{"$f":"OFFSET(Potencia!G17,0,($L$1-1)*10)","v":"-"},{"$f":"OFFSET(Potencia!H17,0,($L$1-1)*10)","v":"-"},{"$f":"OFFSET(Potencia!I17,0,($L$1-1)*10)","v":"-"},{"$f":"OFFSET(Potencia!J17,0,($L$1-1)*10)","v":"-"},{"$f":"OFFSET(Potencia!K17,0,($L$1-1)*10)","v":"-"},{"$f":"OFFSET(Potencia!L17,0,($L$1-1)*10)","v":"-"}]
[null,"(1) Incluye todas aquellas unidades menores de 50 MW que no pertenecen a ninguna unidad de gestión hidráulica (UGH). A partir de 2015 están incluidas en hidráulica convencional y mixta."]
[null,"(2) Otras renovables incluyen biogás, biomasa, hidráulica marina y geotérmica. Los valores de potencia incluyen residuos hasta el 31/12/2014."]
[null,"(3) Los valores de potencia incluyen residuos hasta el 31/12/2014."]
[null,"(4) Potencia incluída en térmica renovable y térmica no renovable/cogeneración y resto/cogeneración hasta el 31/12/2014."]
[null,"Fuente: Comisión Nacional de los Mercados y la Competencia (CNMC) hasta 2014 en: resto hidráulica, eólica, solar fotovoltaica, solar térmica, térmica renovable/otras renovables, térmica no renovable/cogeneración y resto/cogeneración y residuos."]
[null,"Datos a 31 de diciembre."]
[null,{"$f":"IF(L1=3,IF(MONTH(FACT)=1,\"\",(CONCATENATE(\"(*) Para el año \",YEAR(FACT), \" datos a \",TEXT(FACT-30,\"mmmm\"),\" de \",YEAR(FACT),\".\"))),\"\")","v":""}]
[null,"A partir del 1/1/2011 se incluye GICC (Elcogás) en carbón, anteriormente en fuel/gas. Según el R.D. 134/2010 esta central está obligada a participar, como unidad vendedora que utiliza carbón autóctono como combustible, en el proceso de resolucion de restricciones por garantía de suministro."]

{"sheet":"Potencia Baleares","index":3,"n_rows":29,"n_cols":12,"rows_kept":29,"cut":false,"hidden":false,"merged":[[28,1,28,11],[27,1,27,11],[22,1,22,11],[26,1,26,11],[23,1,23,11],[24,1,24,11],[25,1,25,5]]}
[null,null,null,null,null,null,null,null,null,null,null,2]
[]
[]
[]
[null,null,null,null,null,null,null,null,null,"  Sistema / C.Autónoma"]
[null,null,null,null,null,null,null,null,null,"  Periodo"]
[]
[null,null,{"$f":"OFFSET(Potencia!C19,0,($L$1-1)*10)","v":2016},{"$f":"OFFSET(Potencia!D19,0,($L$1-1)*10)","v":2017},{"$f":"OFFSET(Potencia!E19,0,($L$1-1)*10)","v":2018},{"$f":"OFFSET(Potencia!F19,0,($L$1-1)*10)","v":2019},{"$f":"OFFSET(Potencia!G19,0,($L$1-1)*10)","v":2020},{"$f":"OFFSET(Potencia!H19,0,($L$1-1)*10)","v":2021},{"$f":"OFFSET(Potencia!I19,0,($L$1-1)*10)","v":2022},{"$f":"OFFSET(Potencia!J19,0,($L$1-1)*10)","v":2023},{"$f":"OFFSET(Potencia!K19,0,($L$1-1)*10)","v":2024},{"$f":"OFFSET(Potencia!L19,0,($L$1-1)*10)","v":2025}]
[]
[null,"Carbón",{"$f":"OFFSET(Potencia!C20,0,($L$1-1)*10)","v":468.4},{"$f":"OFFSET(Potencia!D20,0,($L$1-1)*10)","v":468.4},{"$f":"OFFSET(Potencia!E20,0,($L$1-1)*10)","v":468.4},{"$f":"OFFSET(Potencia!F20,0,($L$1-1)*10)","v":468.4},{"$f":"OFFSET(Potencia!G20,0,($L$1-1)*10)","v":241.19999999999996},{"$f":"OFFSET(Potencia!H20,0,($L$1-1)*10)","v":"-"},{"$f":"OFFSET(Potencia!I20,0,($L$1-1)*10)","v":"-"},{"$f":"OFFSET(Potencia!J20,0,($L$1-1)*10)","v":"-"},{"$f":"OFFSET(Potencia!K20,0,($L$1-1)*10)","v":"-"},{"$f":"OFFSET(Potencia!L20,0,($L$1-1)*10)","v":"-"}]
[null,"Motores diesel",{"$f":"OFFSET(Potencia!C21,0,($L$1-1)*10)","v":182},{"$f":"OFFSET(Potencia!D21,0,($L$1-1)*10)","v":182},{"$f":"OFFSET(Potencia!E21,0,($L$1-1)*10)","v":182},{"$f":"OFFSET(Potencia!F21,0,($L$1-1)*10)","v":139.4},{"$f":"OFFSET(Potencia!G21,0,($L$1-1)*10)","v":139.4},{"$f":"OFFSET(Potencia!H21,0,($L$1-1)*10)","v":"-"},{"$f":"OFFSET(Potencia!I21,0,($L$1-1)*10)","v":"-"},{"$f":"OFFSET(Potencia!J21,0,($L$1-1)*10)","v":"-"},{"$f":"OFFSET(Potencia!K21,0,($L$1-1)*10)","v":"-"},{"$f":"OFFSET(Potencia!L21,0,($L$1-1)*10)","v":"-"}]
[null,"Turbina de gas",{"$f":"OFFSET(Potencia!C22,0,($L$1-1)*10)","v":605.4},{"$f":"OFFSET(Potencia!D22,0,($L$1-1)*10)","v":605.4},{"$f":"OFFSET(Potencia!E22,0,($L$1-1)*10)","v":605.4},{"$f":"OFFSET(Potencia!F22,0,($L$1-1)*10)","v":605.4},{"$f":"OFFSET(Potencia!G22,0,($L$1-1)*10)","v":605.4},{"$f":"OFFSET(Potencia!H22,0,($L$1-1)*10)","v":"-"},{"$f":"OFFSET(Potencia!I22,0,($L$1-1)*10)","v":"-"},{"$f":"OFFSET(Potencia!J22,0,($L$1-1)*10)","v":"-"},{"$f":"OFFSET(Potencia!K22,0,($L$1-1)*10)","v":"-"},{"$f":"OFFSET(Potencia!L22,0,($L$1-1)*10)","v":"-"}]
[null,"Fuel + Gas",{"$f":"OFFSET(Potencia!C23,0,($L$1-1)*10)","v":787.4},{"$f":"OFFSET(Potencia!D23,0,($L$1-1)*10)","v":787.4},{"$f":"OFFSET(Potencia!E23,0,($L$1-1)*10)","v":787.4},{"$f":"OFFSET(Potencia!F23,0,($L$1-1)*10)","v":744.8},{"$f":"OFFSET(Potencia!G23,0,($L$1-1)*10)","v":744.8},{"$f":"OFFSET(Potencia!H23,0,($L$1-1)*10)","v":"-"},{"$f":"OFFSET(Potencia!I23,0,($L$1-1)*10)","v":"-"},{"$f":"OFFSET(Potencia!J23,0,($L$1-1)*10)","v":"-"},{"$f":"OFFSET(Potencia!K23,0,($L$1-1)*10)","v":"-"},{"$f":"OFFSET(Potencia!L23,0,($L$1-1)*10)","v":"-"}]
[null,"Ciclo combinado",{"$f":"OFFSET(Potencia!C24,0,($L$1-1)*10)","v":857.95},{"$f":"OFFSET(Potencia!D24,0,($L$1-1)*10)","v":857.95},{"$f":"OFFSET(Potencia!E24,0,($L$1-1)*10)","v":857.95},{"$f":"OFFSET(Potencia!F24,0,($L$1-1)*10)","v":857.95},{"$f":"OFFSET(Potencia!G24,0,($L$1-1)*10)","v":857.95},{"$f":"OFFSET(Potencia!H24,0,($L$1-1)*10)","v":"-"},{"$f":"OFFSET(Potencia!I24,0,($L$1-1)*10)","v":"-"},{"$f":"OFFSET(Potencia!J24,0,($L$1-1)*10)","v":"-"},{"$f":"OFFSET(Potencia!K24,0,($L$1-1)*10)","v":"-"},{"$f":"OFFSET(Potencia!L24,0,($L$1-1)*10)","v":"-"}]
[null,"Generación auxiliar (1)",{"$f":"OFFSET(Potencia!C25,0,($L$1-1)*10)","v":"-"},{"$f":"OFFSET(Potencia!D25,0,($L$1-1)*10)","v":"-"},{"$f":"OFFSET(Potencia!E25,0,($L$1-1)*10)","v":"-"},{"$f":"OFFSET(Potencia!F25,0,($L$1-1)*10)","v":"-"},{"$f":"OFFSET(Potencia!G25,0,($L$1-1)*10)","v":"-"},{"$f":"OFFSET(Potencia!H25,0,($L$1-1)*10)","v":"-"},{"$f":"OFFSET(Potencia!I25,0,($L$1-1)*10)","v":"-"},{"$f":"OFFSET(Potencia!J25,0,($L$1-1)*10)","v":"-"},{"$f":"OFFSET(Potencia!K25,0,($L$1-1)*10)","v":"-"},{"$f":"OFFSET(Potencia!L25,0,($L$1-1)*10)","v":"-"}]
[null,"Eólica",{"$f":"OFFSET(Potencia!C26,0,($L$1-1)*10)","v":3.6474999999999906},{"$f":"OFFSET(Potencia!D26,0,($L$1-1)*10)","v":3.6474999999999906},{"$f":"OFFSET(Potencia!E26,0,($L$1-1)*10)","v":3.6374999999999909},{"$f":"OFFSET(Potencia!F26,0,($L$1-1)*10)","v":3.6374999999999909},{"$f":"OFFSET(Potencia!G26,0,($L$1-1)*10)","v":3.6374999999999909},{"$f":"OFFSET(Potencia!H26,0,($L$1-1)*10)","v":"-"},{"$f":"OFFSET(Potencia!I26,0,($L$1-1)*10)","v":"-"},{"$f":"OFFSET(Potencia!J26,0,($L$1-1)*10)","v":"-"},{"$f":"OFFSET(Potencia!K26,0,($L$1-1)*10)","v":"-"},{"$f":"OFFSET(Potencia!L26,0,($L$1-1)*10)","v":"-"}]
[null,"Solar fotovoltaica",{"$f":"OFFSET(Potencia!C27,0,($L$1-1)*10)","v":79.428214999999838},{"$f":"OFFSET(Potencia!D27,0,($L$1-1)*10)","v":79.997084999999828},{"$f":"OFFSET(Potencia!E27,0,($L$1-1)*10)","v":80.442744999999846},{"$f":"OFFSET(Potencia!F27,0,($L$1-1)*10)","v":80.871014999999844},{"$f":"OFFSET(Potencia!G27,0,($L$1-1)*10)","v":80.871014999999844},{"$f":"OFFSET(Potencia!H27,0,($L$1-1)*10)","v":"-"},{"$f":"OFFSET(Potencia!I27,0,($L$1-1)*10)","v":"-"},{"$f":"OFFSET(Potencia!J27,0,($L$1-1)*10)","v":"-"},{"$f":"OFFSET(Potencia!K27,0,($L$1-1)*10)","v":"-"},{"$f":"OFFSET(Potencia!L27,0,($L$1-1)*10)","v":"-"}]
[null,"Térmica renovable/Otras renovables (2)",{"$f":"OFFSET(Potencia!C28,0,($L$1-1)*10)","v":2.13},{"$f":"OFFSET(Potencia!D28,0,($L$1-1)*10)","v":2.13},{"$f":"OFFSET(Potencia!E28,0,($L$1-1)*10)","v":2.13},{"$f":"OFFSET(Potencia!F28,0,($L$1-1)*10)","v":2.13},{"$f":"OFFSET(Potencia!G28,0,($L$1-1)*10)","v":2.13},{"$f":"OFFSET(Potencia!H28,0,($L$1-1)*10)","v":"-"},{"$f":"OFFSET(Potencia!I28,0,($L$1-1)*10)","v":"-"},{"$f":"OFFSET(Potencia!J28,0,($L$1-1)*10)","v":"-"},{"$f":"OFFSET(Potencia!K28,0,($L$1-1)*10)","v":"-"},{"$f":"OFFSET(Potencia!L28,0,($L$1-1)*10)","v":"-"}]
[null,"Térmica no renovable/Cogeneración y resto/Cogeneración (3)",{"$f":"OFFSET(Potencia!C29,0,($L$1-1)*10)","v":10.487000000000002},{"$f":"OFFSET(Potencia!D29,0,($L$1-1)*10)","v":10.487000000000002},{"$f":"OFFSET(Potencia!E29,0,($L$1-1)*10)","v":10.486999999999998},{"$f":"OFFSET(Potencia!F29,0,($L$1-1)*10)","v":10.486999999999998},{"$f":"OFFSET(Potencia!G29,0,($L$1-1)*10)","v":10.486999999999998},{"$f":"OFFSET(Potencia!H29,0,($L$1-1)*10)","v":"-"},{"$f":"OFFSET(Potencia!I29,0,($L$1-1)*10)","v":"-"},{"$f":"OFFSET(Potencia!J29,0,($L$1-1)*10)","v":"-"},{"$f":"OFFSET(Potencia!K29,0,($L$1-1)*10)","v":"-"},{"$f":"OFFSET(Potencia!L29,0,($L$1-1)*10)","v":"-"}]
[null,"Residuos no renovables(4)",{"$f":"OFFSET(Potencia!C30,0,($L$1-1)*10)","v":37.400000000000006},{"$f":"OFFSET(Potencia!D30,0,($L$1-1)*10)","v":37.400000000000006},{"$f":"OFFSET(Potencia!E30,0,($L$1-1)*10)","v":37.400000000000006},{"$f":"OFFSET(Potencia!F30,0,($L$1-1)*10)","v":37.400000000000006},{"$f":"OFFSET(Potencia!G30,0,($L$1-1)*10)","v":37.400000000000006},{"$f":"OFFSET(Potencia!H30,0,($L$1-1)*10)","v":"-"},{"$f":"OFFSET(Potencia!I30,0,($L$1-1)*10)","v":"-"},{"$f":"OFFSET(Potencia!J30,0,($L$1-1)*10)","v":"-"},{"$f":"OFFSET(Potencia!K30,0,($L$1-1)*10)","v":"-"},{"$f":"OFFSET(Potencia!L30,0,($L$1-1)*10)","v":"-"}]
[null,"Residuos renovables(4)",{"$f":"OFFSET(Potencia!C31,0,($L$1-1)*10)","v":37.400000000000006},{"$f":"OFFSET(Potencia!D31,0,($L$1-1)*10)","v":37.400000000000006},{"$f":"OFFSET(Potencia!E31,0,($L$1-1)*10)","v":37.400000000000006},{"$f":"OFFSET(Potencia!F31,0,($L$1-1)*10)","v":37.400000000000006},{"$f":"OFFSET(Potencia!G31,0,($L$1-1)*10)","v":37.400000000000006},{"$f":"OFFSET(Potencia!H31,0,($L$1-1)*10)","v":"-"},{"$f":"OFFSET(Potencia!I31,0,($L$1-1)*10)","v":"-"},{"$f":"OFFSET(Potencia!J31,0,($L$1-1)*10)","v":"-"},{"$f":"OFFSET(Potencia!K31,0,($L$1-1)*10)","v":"-"},{"$f":"OFFSET(Potencia!L31,0,($L$1-1)*10)","v":"-"}]
[null,"Total",{"$f":"OFFSET(Potencia!C32,0,($L$1-1)*10)","v":2284.2427150000003},{"$f":"OFFSET(Potencia!D32,0,($L$1-1)*10)","v":2284.8115850000004},{"$f":"OFFSET(Potencia!E32,0,($L$1-1)*10)","v":2285.247245},{"$f":"OFFSET(Potencia!F32,0,($L$1-1)*10)","v":2243.0755149999995},{"$f":"OFFSET(Potencia!G32,0,($L$1-1)*10)","v":2015.8755150000002},{"$f":"OFFSET(Potencia!H32,0,($L$1-1)*10)","v":"-"},{"$f":"OFFSET(Potencia!I32,0,($L$1-1)*10)","v":"-"},{"$f":"OFFSET(Potencia!J32,0,($L$1-1)*10)","v":"-"},{"$f":"OFFSET(Potencia!K32,0,($L$1-1)*10)","v":"-"},{"$f":"OFFSET(Potencia!L32,0,($L$1-1)*10)","v":"-"}]
[null,"(1) Grupos de emergencia que se instalan de forma transitoria en determinadas zonas para cubrir un déficit de generación."]
[null,"(2) Otras renovables incluyen biogás y biomasa. Los valores de potencia incluyen residuos hasta el 31/12/2014."]
[null,"(3) Los valores de potencia incluyen residuos hasta el 31/12/2014."]
[null,"(4) Potencia incluída en térmica renovable y térmica no renovable/cogeneración y resto/cogeneración hasta el 31/12/2014."]
[null,"Fuente: Comisión Nacional de los Mercados y la Competencia (CNMC) hasta 2014 en: eólica, solar fotovoltaica, térmica renovable/otras renovables, térmica no renovable/cogeneración y resto/cogeneración y residuos."]
[null,"Datos a 31 de diciembre."]
[null,{"$f":"IF(L1=2,IF(MONTH(FACT)=1,\"\",(CONCATENATE(\"(*) Para el año \",YEAR(FACT), \" datos a \",TEXT(FACT-30,\"mmmm\"),\" de \",YEAR(FACT),\".\"))),\"\")","v":"(*) Para el año 2020 datos a abril de 2020."}]

{"sheet":"Potencia Canarias","index":4,"n_rows":29,"n_cols":12,"rows_kept":29,"cut":false,"hidden":false,"merged":[[28,1,28,11],[24,1,24,11],[23,1,23,11],[26,1,26,11],[25,1,25,11],[27,1,27,11]]}
[null,null,null,null,null,null,null,null,null,null,null,2]
[]
[]
[]
[null,null,null,null,null,null,null,null,null,"  Sistema / C.Autónoma"]
[null,null,null,null,null,null,null,null,null,"  Periodo"]
[]
[null,null,{"$f":"OFFSET(Potencia!C34,0,($L$1-1)*10)","v":2016},{"$f":"OFFSET(Potencia!D34,0,($L$1-1)*10)","v":2017},{"$f":"OFFSET(Potencia!E34,0,($L$1-1)*10)","v":2018},{"$f":"OFFSET(Potencia!F34,0,($L$1-1)*10)","v":2019},{"$f":"OFFSET(Potencia!G34,0,($L$1-1)*10)","v":2020},{"$f":"OFFSET(Potencia!H34,0,($L$1-1)*10)","v":2021},{"$f":"OFFSET(Potencia!I34,0,($L$1-1)*10)","v":2022},{"$f":"OFFSET(Potencia!J34,0,($L$1-1)*10)","v":2023},{"$f":"OFFSET(Potencia!K34,0,($L$1-1)*10)","v":2024},{"$f":"OFFSET(Potencia!L34,0,($L$1-1)*10)","v":2025}]
[]
[null,"Hidráulica",{"$f":"OFFSET(Potencia!C35,0,($L$1-1)*10)","v":2.02},{"$f":"OFFSET(Potencia!D35,0,($L$1-1)*10)","v":2.02},{"$f":"OFFSET(Potencia!E35,0,($L$1-1)*10)","v":2.02},{"$f":"OFFSET(Potencia!F35,0,($L$1-1)*10)","v":2.02},{"$f":"OFFSET(Potencia!G35,0,($L$1-1)*10)","v":2.02},{"$f":"OFFSET(Potencia!H35,0,($L$1-1)*10)","v":"-"},{"$f":"OFFSET(Potencia!I35,0,($L$1-1)*10)","v":"-"},{"$f":"OFFSET(Potencia!J35,0,($L$1-1)*10)","v":"-"},{"$f":"OFFSET(Potencia!K35,0,($L$1-1)*10)","v":"-"},{"$f":"OFFSET(Potencia!L35,0,($L$1-1)*10)","v":"-"}]
[null,"Motores diesel",{"$f":"OFFSET(Potencia!C36,0,($L$1-1)*10)","v":495.92000000000013},{"$f":"OFFSET(Potencia!D36,0,($L$1-1)*10)","v":495.92000000000013},{"$f":"OFFSET(Potencia!E36,0,($L$1-1)*10)","v":495.92},{"$f":"OFFSET(Potencia!F36,0,($L$1-1)*10)","v":495.92},{"$f":"OFFSET(Potencia!G36,0,($L$1-1)*10)","v":495.92},{"$f":"OFFSET(Potencia!H36,0,($L$1-1)*10)","v":"-"},{"$f":"OFFSET(Potencia!I36,0,($L$1-1)*10)","v":"-"},{"$f":"OFFSET(Potencia!J36,0,($L$1-1)*10)","v":"-"},{"$f":"OFFSET(Potencia!K36,0,($L$1-1)*10)","v":"-"},{"$f":"OFFSET(Potencia!L36,0,($L$1-1)*10)","v":"-"}]
[null,"Turbina de gas",{"$f":"OFFSET(Potencia!C37,0,($L$1-1)*10)","v":557.1400000000001},{"$f":"OFFSET(Potencia!D37,0,($L$1-1)*10)","v":557.1400000000001},{"$f":"OFFSET(Potencia!E37,0,($L$1-1)*10)","v":557.1400000000001},{"$f":"OFFSET(Potencia!F37,0,($L$1-1)*10)","v":557.1400000000001},{"$f":"OFFSET(Potencia!G37,0,($L$1-1)*10)","v":557.1400000000001},{"$f":"OFFSET(Potencia!H37,0,($L$1-1)*10)","v":"-"},{"$f":"OFFSET(Potencia!I37,0,($L$1-1)*10)","v":"-"},{"$f":"OFFSET(Potencia!J37,0,($L$1-1)*10)","v":"-"},{"$f":"OFFSET(Potencia!K37,0,($L$1-1)*10)","v":"-"},{"$f":"OFFSET(Potencia!L37,0,($L$1-1)*10)","v":"-"}]
[null,"Turbina de  vapor",{"$f":"OFFSET(Potencia!C38,0,($L$1-1)*10)","v":482.64},{"$f":"OFFSET(Potencia!D38,0,($L$1-1)*10)","v":482.64},{"$f":"OFFSET(Potencia!E38,0,($L$1-1)*10)","v":482.64},{"$f":"OFFSET(Potencia!F38,0,($L$1-1)*10)","v":482.64},{"$f":"OFFSET(Potencia!G38,0,($L$1-1)*10)","v":482.64},{"$f":"OFFSET(Potencia!H38,0,($L$1-1)*10)","v":"-"},{"$f":"OFFSET(Potencia!I38,0,($L$1-1)*10)","v":"-"},{"$f":"OFFSET(Potencia!J38,0,($L$1-1)*10)","v":"-"},{"$f":"OFFSET(Potencia!K38,0,($L$1-1)*10)","v":"-"},{"$f":"OFFSET(Potencia!L38,0,($L$1-1)*10)","v":"-"}]
[null,"Fuel + Gas",{"$f":"OFFSET(Potencia!C39,0,($L$1-1)*10)","v":1535.7000000000003},{"$f":"OFFSET(Potencia!D39,0,($L$1-1)*10)","v":1535.7000000000003},{"$f":"OFFSET(Potencia!E39,0,($L$1-1)*10)","v":1535.7000000000003},{"$f":"OFFSET(Potencia!F39,0,($L$1-1)*10)","v":1535.7000000000003},{"$f":"OFFSET(Potencia!G39,0,($L$1-1)*10)","v":1535.7000000000003},{"$f":"OFFSET(Potencia!H39,0,($L$1-1)*10)","v":"-"},{"$f":"OFFSET(Potencia!I39,0,($L$1-1)*10)","v":"-"},{"$f":"OFFSET(Potencia!J39,0,($L$1-1)*10)","v":"-"},{"$f":"OFFSET(Potencia!K39,0,($L$1-1)*10)","v":"-"},{"$f":"OFFSET(Potencia!L39,0,($L$1-1)*10)","v":"-"}]
[null,"Ciclo combinado (1)",{"$f":"OFFSET(Potencia!C40,0,($L$1-1)*10)","v":864.2},{"$f":"OFFSET(Potencia!D40,0,($L$1-1)*10)","v":864.2},{"$f":"OFFSET(Potencia!E40,0,($L$1-1)*10)","v":864.2},{"$f":"OFFSET(Potencia!F40,0,($L$1-1)*10)","v":864.2},{"$f":"OFFSET(Potencia!G40,0,($L$1-1)*10)","v":864.2},{"$f":"OFFSET(Potencia!H40,0,($L$1-1)*10)","v":"-"},{"$f":"OFFSET(Potencia!I40,0,($L$1-1)*10)","v":"-"},{"$f":"OFFSET(Potencia!J40,0,($L$1-1)*10)","v":"-"},{"$f":"OFFSET(Potencia!K40,0,($L$1-1)*10)","v":"-"},{"$f":"OFFSET(Potencia!L40,0,($L$1-1)*10)","v":"-"}]
[null,"Generación auxiliar (2)",{"$f":"OFFSET(Potencia!C41,0,($L$1-1)*10)","v":"-"},{"$f":"OFFSET(Potencia!D41,0,($L$1-1)*10)","v":"-"},{"$f":"OFFSET(Potencia!E41,0,($L$1-1)*10)","v":"-"},{"$f":"OFFSET(Potencia!F41,0,($L$1-1)*10)","v":"-"},{"$f":"OFFSET(Potencia!G41,0,($L$1-1)*10)","v":"-"},{"$f":"OFFSET(Potencia!H41,0,($L$1-1)*10)","v":"-"},{"$f":"OFFSET(Potencia!I41,0,($L$1-1)*10)","v":"-"},{"$f":"OFFSET(Potencia!J41,0,($L$1-1)*10)","v":"-"},{"$f":"OFFSET(Potencia!K41,0,($L$1-1)*10)","v":"-"},{"$f":"OFFSET(Potencia!L41,0,($L$1-1)*10)","v":"-"}]
[null,"Hidroeólica",{"$f":"OFFSET(Potencia!C42,0,($L$1-1)*10)","v":11.39},{"$f":"OFFSET(Potencia!D42,0,($L$1-1)*10)","v":11.39},{"$f":"OFFSET(Potencia!E42,0,($L$1-1)*10)","v":11.39},{"$f":"OFFSET(Potencia!F42,0,($L$1-1)*10)","v":11.39},{"$f":"OFFSET(Potencia!G42,0,($L$1-1)*10)","v":11.39},{"$f":"OFFSET(Potencia!H42,0,($L$1-1)*10)","v":"-"},{"$f":"OFFSET(Potencia!I42,0,($L$1-1)*10)","v":"-"},{"$f":"OFFSET(Potencia!J42,0,($L$1-1)*10)","v":"-"},{"$f":"OFFSET(Potencia!K42,0,($L$1-1)*10)","v":"-"},{"$f":"OFFSET(Potencia!L42,0,($L$1-1)*10)","v":"-"}]
[null,"Resto hidráulica",{"$f":"OFFSET(Potencia!C43,0,($L$1-1)*10)","v":"-"},{"$f":"OFFSET(Potencia!D43,0,($L$1-1)*10)","v":"-"},{"$f":"OFFSET(Potencia!E43,0,($L$1-1)*10)","v":"-"},{"$f":"OFFSET(Potencia!F43,0,($L$1-1)*10)","v":"-"},{"$f":"OFFSET(Potencia!G43,0,($L$1-1)*10)","v":"-"},{"$f":"OFFSET(Potencia!H43,0,($L$1-1)*10)","v":"-"},{"$f":"OFFSET(Potencia!I43,0,($L$1-1)*10)","v":"-"},{"$f":"OFFSET(Potencia!J43,0,($L$1-1)*10)","v":"-"},{"$f":"OFFSET(Potencia!K43,0,($L$1-1)*10)","v":"-"},{"$f":"OFFSET(Potencia!L43,0,($L$1-1)*10)","v":"-"}]
[null,"Eólica",{"$f":"OFFSET(Potencia!C44,0,($L$1-1)*10)","v":152.05499999999998},{"$f":"OFFSET(Potencia!D44,0,($L$1-1)*10)","v":206.89999999999995},{"$f":"OFFSET(Potencia!E44,0,($L$1-1)*10)","v":417.71499999999997},{"$f":"OFFSET(Potencia!F44,0,($L$1-1)*10)","v":430.315},{"$f":"OFFSET(Potencia!G44,0,($L$1-1)*10)","v":430.315},{"$f":"OFFSET(Potencia!H44,0,($L$1-1)*10)","v":"-"},{"$f":"OFFSET(Potencia!I44,0,($L$1-1)*10)","v":"-"},{"$f":"OFFSET(Potencia!J44,0,($L$1-1)*10)","v":"-"},{"$f":"OFFSET(Potencia!K44,0,($L$1-1)*10)","v":"-"},{"$f":"OFFSET(Potencia!L44,0,($L$1-1)*10)","v":"-"}]
[null,"Solar fotovoltaica",{"$f":"OFFSET(Potencia!C45,0,($L$1-1)*10)","v":167.19166999999962},{"$f":"OFFSET(Potencia!D45,0,($L$1-1)*10)","v":167.25116999999963},{"$f":"OFFSET(Potencia!E45,0,($L$1-1)*10)","v":167.34816999999964},{"$f":"OFFSET(Potencia!F45,0,($L$1-1)*10)","v":167.10714499999966},{"$f":"OFFSET(Potencia!G45,0,($L$1-1)*10)","v":167.10714499999966},{"$f":"OFFSET(Potencia!H45,0,($L$1-1)*10)","v":"-"},{"$f":"OFFSET(Potencia!I45,0,($L$1-1)*10)","v":"-"},{"$f":"OFFSET(Potencia!J45,0,($L$1-1)*10)","v":"-"},{"$f":"OFFSET(Potencia!K45,0,($L$1-1)*10)","v":"-"},{"$f":"OFFSET(Potencia!L45,0,($L$1-1)*10)","v":"-"}]
[null,"Térmica renovable/Otras renovables (3)",{"$f":"OFFSET(Potencia!C46,0,($L$1-1)*10)","v":3.6960000000000002},{"$f":"OFFSET(Potencia!D46,0,($L$1-1)*10)","v":3.6960000000000002},{"$f":"OFFSET(Potencia!E46,0,($L$1-1)*10)","v":3.6960000000000002},{"$f":"OFFSET(Potencia!F46,0,($L$1-1)*10)","v":3.6960000000000002},{"$f":"OFFSET(Potencia!G46,0,($L$1-1)*10)","v":3.6960000000000002},{"$f":"OFFSET(Potencia!H46,0,($L$1-1)*10)","v":"-"},{"$f":"OFFSET(Potencia!I46,0,($L$1-1)*10)","v":"-"},{"$f":"OFFSET(Potencia!J46,0,($L$1-1)*10)","v":"-"},{"$f":"OFFSET(Potencia!K46,0,($L$1-1)*10)","v":"-"},{"$f":"OFFSET(Potencia!L46,0,($L$1-1)*10)","v":"-"}]
[null,"Térmica no renovable/Cogeneración y resto/Cogeneración",{"$f":"OFFSET(Potencia!C47,0,($L$1-1)*10)","v":"-"},{"$f":"OFFSET(Potencia!D47,0,($L$1-1)*10)","v":"-"},{"$f":"OFFSET(Potencia!E47,0,($L$1-1)*10)","v":"-"},{"$f":"OFFSET(Potencia!F47,0,($L$1-1)*10)","v":"-"},{"$f":"OFFSET(Potencia!G47,0,($L$1-1)*10)","v":"-"},{"$f":"OFFSET(Potencia!H47,0,($L$1-1)*10)","v":"-"},{"$f":"OFFSET(Potencia!I47,0,($L$1-1)*10)","v":"-"},{"$f":"OFFSET(Potencia!J47,0,($L$1-1)*10)","v":"-"},{"$f":"OFFSET(Potencia!K47,0,($L$1-1)*10)","v":"-"},{"$f":"OFFSET(Potencia!L47,0,($L$1-1)*10)","v":"-"}]
[null,"Total",{"$f":"OFFSET(Potencia!C48,0,($L$1-1)*10)","v":2736.2526699999994},{"$f":"OFFSET(Potencia!D48,0,($L$1-1)*10)","v":2791.1571699999995},{"$f":"OFFSET(Potencia!E48,0,($L$1-1)*10)","v":3002.0691699999998},{"$f":"OFFSET(Potencia!F48,0,($L$1-1)*10)","v":3014.4281449999994},{"$f":"OFFSET(Potencia!G48,0,($L$1-1)*10)","v":3014.4281449999994},{"$f":"OFFSET(Potencia!H48,0,($L$1-1)*10)","v":"-"},{"$f":"OFFSET(Potencia!I48,0,($L$1-1)*10)","v":"-"},{"$f":"OFFSET(Potencia!J48,0,($L$1-1)*10)","v":"-"},{"$f":"OFFSET(Potencia!K48,0,($L$1-1)*10)","v":"-"},{"$f":"OFFSET(Potencia!L48,0,($L$1-1)*10)","v":"-"}]
[null,"(1) Utiliza gasoil como combustible principal."]
[null,"(2) Grupos de emergencia que se instalan de forma transitoria en determinadas zonas para cubrir un déficit de generación."]
[null,"(3) Otras renovables incluyen biogás y biomasa."]
[null,"Fuente: Comisión Nacional de los Mercados y la Competencia (CNMC) hasta 2014 en: resto hidráulica, eólica, solar fotovoltaica, térmica renovable/otras renovables y térmica no renovable/cogeneración y resto/cogeneración."]
[null,"Datos a 31 de diciembre."]
[null,{"$f":"IF(L1=2,IF(MONTH(FACT)=1,\"\",(CONCATENATE(\"(*) Para el año \",YEAR(FACT), \" datos a \",TEXT(FACT-30,\"mmmm\"),\" de \",YEAR(FACT),\".\"))),\"\")","v":"(*) Para el año 2020 datos a abril de 2020."}]

{"sheet":"Potencia Ceuta","index":5,"n_rows":15,"n_cols":12,"rows_kept":15,"cut":false,"hidden":false,"merged":[[13,1,13,11],[14,1,14,11]]}
[null,null,null,null,null,null,null,null,null,null,null,2]
[]
[]
[]
[null,null,null,null,null,null,null,null,null,"  Sistema / C.Autónoma"]
[null,null,null,null,null,null,null,null,null,"  Periodo"]
[]
[null,null,{"$f":"OFFSET(Potencia!C50,0,($L$1-1)*10)","v":2016},{"$f":"OFFSET(Potencia!D50,0,($L$1-1)*10)","v":2017},{"$f":"OFFSET(Potencia!E50,0,($L$1-1)*10)","v":2018},{"$f":"OFFSET(Potencia!F50,0,($L$1-1)*10)","v":2019},{"$f":"OFFSET(Potencia!G50,0,($L$1-1)*10)","v":2020},{"$f":"OFFSET(Potencia!H50,0,($L$1-1)*10)","v":2021},{"$f":"OFFSET(Potencia!I50,0,($L$1-1)*10)","v":2022},{"$f":"OFFSET(Potencia!J50,0,($L$1-1)*10)","v":2023},{"$f":"OFFSET(Potencia!K50,0,($L$1-1)*10)","v":2024},{"$f":"OFFSET(Potencia!L50,0,($L$1-1)*10)","v":2025}]
[]
[null,"Motores diesel",{"$f":"OFFSET(Potencia!C51,0,($L$1-1)*10)","v":77.52},{"$f":"OFFSET(Potencia!D51,0,($L$1-1)*10)","v":77.52},{"$f":"OFFSET(Potencia!E51,0,($L$1-1)*10)","v":77.52},{"$f":"OFFSET(Potencia!F51,0,($L$1-1)*10)","v":77.52},{"$f":"OFFSET(Potencia!G51,0,($L$1-1)*10)","v":77.52},{"$f":"OFFSET(Potencia!H51,0,($L$1-1)*10)","v":"-"},{"$f":"OFFSET(Potencia!I51,0,($L$1-1)*10)","v":"-"},{"$f":"OFFSET(Potencia!J51,0,($L$1-1)*10)","v":"-"},{"$f":"OFFSET(Potencia!K51,0,($L$1-1)*10)","v":"-"},{"$f":"OFFSET(Potencia!L51,0,($L$1-1)*10)","v":"-"}]
[null,"Turbina de gas",{"$f":"OFFSET(Potencia!C52,0,($L$1-1)*10)","v":13.3},{"$f":"OFFSET(Potencia!D52,0,($L$1-1)*10)","v":13.3},{"$f":"OFFSET(Potencia!E52,0,($L$1-1)*10)","v":13.3},{"$f":"OFFSET(Potencia!F52,0,($L$1-1)*10)","v":13.3},{"$f":"OFFSET(Potencia!G52,0,($L$1-1)*10)","v":13.3},{"$f":"OFFSET(Potencia!H52,0,($L$1-1)*10)","v":"-"},{"$f":"OFFSET(Potencia!I52,0,($L$1-1)*10)","v":"-"},{"$f":"OFFSET(Potencia!J52,0,($L$1-1)*10)","v":"-"},{"$f":"OFFSET(Potencia!K52,0,($L$1-1)*10)","v":"-"},{"$f":"OFFSET(Potencia!L52,0,($L$1-1)*10)","v":"-"}]
[null,"Fuel + Gas",{"$f":"OFFSET(Potencia!C53,0,($L$1-1)*10)","v":90.82},{"$f":"OFFSET(Potencia!D53,0,($L$1-1)*10)","v":90.82},{"$f":"OFFSET(Potencia!E53,0,($L$1-1)*10)","v":90.82},{"$f":"OFFSET(Potencia!F53,0,($L$1-1)*10)","v":90.82},{"$f":"OFFSET(Potencia!G53,0,($L$1-1)*10)","v":90.82},{"$f":"OFFSET(Potencia!H53,0,($L$1-1)*10)","v":"-"},{"$f":"OFFSET(Potencia!I53,0,($L$1-1)*10)","v":"-"},{"$f":"OFFSET(Potencia!J53,0,($L$1-1)*10)","v":"-"},{"$f":"OFFSET(Potencia!K53,0,($L$1-1)*10)","v":"-"},{"$f":"OFFSET(Potencia!L53,0,($L$1-1)*10)","v":"-"}]
[null,"Total",{"$f":"OFFSET(Potencia!C54,0,($L$1-1)*10)","v":90.82},{"$f":"OFFSET(Potencia!D54,0,($L$1-1)*10)","v":90.82},{"$f":"OFFSET(Potencia!E54,0,($L$1-1)*10)","v":90.82},{"$f":"OFFSET(Potencia!F54,0,($L$1-1)*10)","v":90.82},{"$f":"OFFSET(Potencia!G54,0,($L$1-1)*10)","v":90.82},{"$f":"OFFSET(Potencia!H54,0,($L$1-1)*10)","v":"-"},{"$f":"OFFSET(Potencia!I54,0,($L$1-1)*10)","v":"-"},{"$f":"OFFSET(Potencia!J54,0,($L$1-1)*10)","v":"-"},{"$f":"OFFSET(Potencia!K54,0,($L$1-1)*10)","v":"-"},{"$f":"OFFSET(Potencia!L54,0,($L$1-1)*10)","v":"-"}]
[null,"Datos a 31 de diciembre."]
[null,{"$f":"IF(L1=2,IF(MONTH(FACT)=1,\"\",(CONCATENATE(\"(*) Para el año \",YEAR(FACT), \" datos a \",TEXT(FACT-30,\"mmmm\"),\" de \",YEAR(FACT),\".\"))),\"\")","v":"(*) Para el año 2020 datos a abril de 2020."}]

{"sheet":"Potencia Melilla","index":6,"n_rows":21,"n_cols":12,"rows_kept":21,"cut":false,"hidden":false,"merged":[[19,1,19,11],[18,1,18,11],[20,1,20,11],[17,1,17,5]]}
[null,null,null,null,null,null,null,null,null,null,null,2]
[]
[]
[]
[null,null,null,null,null,null,null,null,null,"  Sistema / C.Autónoma"]
[null,null,null,null,null,null,null,null,null,"  Periodo"]
[]
[null,null,{"$f":"OFFSET(Potencia!C56,0,($L$1-1)*10)","v":2016},{"$f":"OFFSET(Potencia!D56,0,($L$1-1)*10)","v":2017},{"$f":"OFFSET(Potencia!E56,0,($L$1-1)*10)","v":2018},{"$f":"OFFSET(Potencia!F56,0,($L$1-1)*10)","v":2019},{"$f":"OFFSET(Potencia!G56,0,($L$1-1)*10)","v":2020},{"$f":"OFFSET(Potencia!H56,0,($L$1-1)*10)","v":2021},{"$f":"OFFSET(Potencia!I56,0,($L$1-1)*10)","v":2022},{"$f":"OFFSET(Potencia!J56,0,($L$1-1)*10)","v":2023},{"$f":"OFFSET(Potencia!K56,0,($L$1-1)*10)","v":2024},{"$f":"OFFSET(Potencia!L56,0,($L$1-1)*10)","v":2025}]
[]
[null,"Motores diesel",{"$f":"OFFSET(Potencia!C57,0,($L$1-1)*10)","v":64.64},{"$f":"OFFSET(Potencia!D57,0,($L$1-1)*10)","v":64.64},{"$f":"OFFSET(Potencia!E57,0,($L$1-1)*10)","v":64.64},{"$f":"OFFSET(Potencia!F57,0,($L$1-1)*10)","v":64.64},{"$f":"OFFSET(Potencia!G57,0,($L$1-1)*10)","v":64.64},{"$f":"OFFSET(Potencia!H57,0,($L$1-1)*10)","v":"-"},{"$f":"OFFSET(Potencia!I57,0,($L$1-1)*10)","v":"-"},{"$f":"OFFSET(Potencia!J57,0,($L$1-1)*10)","v":"-"},{"$f":"OFFSET(Potencia!K57,0,($L$1-1)*10)","v":"-"},{"$f":"OFFSET(Potencia!L57,0,($L$1-1)*10)","v":"-"}]
[null,"Turbina de gas",{"$f":"OFFSET(Potencia!C58,0,($L$1-1)*10)","v":11.5},{"$f":"OFFSET(Potencia!D58,0,($L$1-1)*10)","v":11.5},{"$f":"OFFSET(Potencia!E58,0,($L$1-1)*10)","v":11.5},{"$f":"OFFSET(Potencia!F58,0,($L$1-1)*10)","v":11.5},{"$f":"OFFSET(Potencia!G58,0,($L$1-1)*10)","v":11.5},{"$f":"OFFSET(Potencia!H58,0,($L$1-1)*10)","v":"-"},{"$f":"OFFSET(Potencia!I58,0,($L$1-1)*10)","v":"-"},{"$f":"OFFSET(Potencia!J58,0,($L$1-1)*10)","v":"-"},{"$f":"OFFSET(Potencia!K58,0,($L$1-1)*10)","v":"-"},{"$f":"OFFSET(Potencia!L58,0,($L$1-1)*10)","v":"-"}]
[null,"Fuel + Gas",{"$f":"OFFSET(Potencia!C59,0,($L$1-1)*10)","v":76.14},{"$f":"OFFSET(Potencia!D59,0,($L$1-1)*10)","v":76.14},{"$f":"OFFSET(Potencia!E59,0,($L$1-1)*10)","v":76.14},{"$f":"OFFSET(Potencia!F59,0,($L$1-1)*10)","v":76.14},{"$f":"OFFSET(Potencia!G59,0,($L$1-1)*10)","v":76.14},{"$f":"OFFSET(Potencia!H59,0,($L$1-1)*10)","v":"-"},{"$f":"OFFSET(Potencia!I59,0,($L$1-1)*10)","v":"-"},{"$f":"OFFSET(Potencia!J59,0,($L$1-1)*10)","v":"-"},{"$f":"OFFSET(Potencia!K59,0,($L$1-1)*10)","v":"-"},{"$f":"OFFSET(Potencia!L59,0,($L$1-1)*10)","v":"-"}]
[null,"Solar fotovoltaica",{"$f":"OFFSET(Potencia!C60,0,($L$1-1)*10)","v":5.9700000000000003E-2},{"$f":"OFFSET(Potencia!D60,0,($L$1-1)*10)","v":5.9700000000000003E-2},{"$f":"OFFSET(Potencia!E60,0,($L$1-1)*10)","v":5.9700000000000003E-2},{"$f":"OFFSET(Potencia!F60,0,($L$1-1)*10)","v":5.9700000000000003E-2},{"$f":"OFFSET(Potencia!G60,0,($L$1-1)*10)","v":5.9700000000000003E-2},{"$f":"OFFSET(Potencia!H60,0,($L$1-1)*10)","v":"-"},{"$f":"OFFSET(Potencia!I60,0,($L$1-1)*10)","v":"-"},{"$f":"OFFSET(Potencia!J60,0,($L$1-1)*10)","v":"-"},{"$f":"OFFSET(Potencia!K60,0,($L$1-1)*10)","v":"-"},{"$f":"OFFSET(Potencia!L60,0,($L$1-1)*10)","v":"-"}]
[null,"Térmica no renovable/Cogeneración y resto/Cogeneración",{"$f":"OFFSET(Potencia!C61,0,($L$1-1)*10)","v":"-"},{"$f":"OFFSET(Potencia!D61,0,($L$1-1)*10)","v":"-"},{"$f":"OFFSET(Potencia!E61,0,($L$1-1)*10)","v":"-"},{"$f":"OFFSET(Potencia!F61,0,($L$1-1)*10)","v":"-"},{"$f":"OFFSET(Potencia!G61,0,($L$1-1)*10)","v":"-"},{"$f":"OFFSET(Potencia!H61,0,($L$1-1)*10)","v":"-"},{"$f":"OFFSET(Potencia!I61,0,($L$1-1)*10)","v":"-"},{"$f":"OFFSET(Potencia!J61,0,($L$1-1)*10)","v":"-"},{"$f":"OFFSET(Potencia!K61,0,($L$1-1)*10)","v":"-"},{"$f":"OFFSET(Potencia!L61,0,($L$1-1)*10)","v":"-"}]
[null,"Residuos no renovables(1)",{"$f":"OFFSET(Potencia!C62,0,($L$1-1)*10)","v":1.0840000000000001},{"$f":"OFFSET(Potencia!D62,0,($L$1-1)*10)","v":1.0840000000000001},{"$f":"OFFSET(Potencia!E62,0,($L$1-1)*10)","v":1.0840000000000001},{"$f":"OFFSET(Potencia!F62,0,($L$1-1)*10)","v":1.0840000000000001},{"$f":"OFFSET(Potencia!G62,0,($L$1-1)*10)","v":1.0840000000000001},{"$f":"OFFSET(Potencia!H62,0,($L$1-1)*10)","v":"-"},{"$f":"OFFSET(Potencia!I62,0,($L$1-1)*10)","v":"-"},{"$f":"OFFSET(Potencia!J62,0,($L$1-1)*10)","v":"-"},{"$f":"OFFSET(Potencia!K62,0,($L$1-1)*10)","v":"-"},{"$f":"OFFSET(Potencia!L62,0,($L$1-1)*10)","v":"-"}]
[null,"Residuos renovables(1)",{"$f":"OFFSET(Potencia!C63,0,($L$1-1)*10)","v":1.0840000000000001},{"$f":"OFFSET(Potencia!D63,0,($L$1-1)*10)","v":1.0840000000000001},{"$f":"OFFSET(Potencia!E63,0,($L$1-1)*10)","v":1.0840000000000001},{"$f":"OFFSET(Potencia!F63,0,($L$1-1)*10)","v":1.0840000000000001},{"$f":"OFFSET(Potencia!G63,0,($L$1-1)*10)","v":1.0840000000000001},{"$f":"OFFSET(Potencia!H63,0,($L$1-1)*10)","v":"-"},{"$f":"OFFSET(Potencia!I63,0,($L$1-1)*10)","v":"-"},{"$f":"OFFSET(Potencia!J63,0,($L$1-1)*10)","v":"-"},{"$f":"OFFSET(Potencia!K63,0,($L$1-1)*10)","v":"-"},{"$f":"OFFSET(Potencia!L63,0,($L$1-1)*10)","v":"-"}]
[null,"Total",{"$f":"OFFSET(Potencia!C64,0,($L$1-1)*10)","v":78.367700000000013},{"$f":"OFFSET(Potencia!D64,0,($L$1-1)*10)","v":78.367700000000013},{"$f":"OFFSET(Potencia!E64,0,($L$1-1)*10)","v":78.367700000000013},{"$f":"OFFSET(Potencia!F64,0,($L$1-1)*10)","v":78.367700000000013},{"$f":"OFFSET(Potencia!G64,0,($L$1-1)*10)","v":78.367700000000013},{"$f":"OFFSET(Potencia!H64,0,($L$1-1)*10)","v":"-"},{"$f":"OFFSET(Potencia!I64,0,($L$1-1)*10)","v":"-"},{"$f":"OFFSET(Potencia!J64,0,($L$1-1)*10)","v":"-"},{"$f":"OFFSET(Potencia!K64,0,($L$1-1)*10)","v":"-"},{"$f":"OFFSET(Potencia!L64,0,($L$1-1)*10)","v":"-"}]
[null,"(1) Potencia incluída en térmica no renovable/cogeneración y resto/cogeneración hasta el 31/12/2014."]
[null,"Fuente: Comisión Nacional de los Mercados y la Competencia (CNMC) hasta 2014 en: solar fotovoltaica, térmica no renovable/cogeneración y resto/cogeneración y residuos."]
[null,"Datos a 31 de diciembre."]
[null,{"$f":"IF(L1=2,IF(MONTH(FACT)=1,\"\",(CONCATENATE(\"(*) Para el año \",YEAR(FACT), \" datos a \",TEXT(FACT-30,\"mmmm\"),\" de \",YEAR(FACT),\".\"))),\"\")","v":"(*) Para el año 2020 datos a abril de 2020."}]

{"sheet":"Potencia Andalucía","index":7,"n_rows":30,"n_cols":12,"rows_kept":30,"cut":false,"hidden":false,"merged":[[29,1,29,11],[39,1,39,8],[27,1,27,11],[28,1,28,11],[23,1,23,6],[25,1,25,6],[24,1,24,6]]}
[null,null,null,null,null,null,null,null,null,null,null,1]
[]
[]
[]
[null,null,null,null,null,null,null,null,null,"  Sistema / C.Autónoma"]
[null,null,null,null,null,null,null,null,null,"  Periodo"]
[]
[null,null,{"$f":"OFFSET(Potencia!C84,0,($L$1-1)*10)","v":2015},{"$f":"OFFSET(Potencia!D84,0,($L$1-1)*10)","v":2016},{"$f":"OFFSET(Potencia!E84,0,($L$1-1)*10)","v":2017},{"$f":"OFFSET(Potencia!F84,0,($L$1-1)*10)","v":2018},{"$f":"OFFSET(Potencia!G84,0,($L$1-1)*10)","v":2019},{"$f":"OFFSET(Potencia!H84,0,($L$1-1)*10)","v":2020},{"$f":"OFFSET(Potencia!I84,0,($L$1-1)*10)","v":2021},{"$f":"OFFSET(Potencia!J84,0,($L$1-1)*10)","v":2022},{"$f":"OFFSET(Potencia!K84,0,($L$1-1)*10)","v":2023},{"$f":"OFFSET(Potencia!L84,0,($L$1-1)*10)","v":2024}]
[]
[null,"Bombeo puro",{"$f":"OFFSET(Potencia!C85,0,($L$1-1)*10)","v":582.88},{"$f":"OFFSET(Potencia!D85,0,($L$1-1)*10)","v":582.88},{"$f":"OFFSET(Potencia!E85,0,($L$1-1)*10)","v":582.88},{"$f":"OFFSET(Potencia!F85,0,($L$1-1)*10)","v":582.88},{"$f":"OFFSET(Potencia!G85,0,($L$1-1)*10)","v":582.88},{"$f":"OFFSET(Potencia!H85,0,($L$1-1)*10)","v":582.88},{"$f":"OFFSET(Potencia!I85,0,($L$1-1)*10)","v":"-"},{"$f":"OFFSET(Potencia!J85,0,($L$1-1)*10)","v":"-"},{"$f":"OFFSET(Potencia!K85,0,($L$1-1)*10)","v":"-"},{"$f":"OFFSET(Potencia!L85,0,($L$1-1)*10)","v":"-"}]
[null,"Hidráulica convencional y mixta",{"$f":"OFFSET(Potencia!C86,0,($L$1-1)*10)","v":590.02299999999991},{"$f":"OFFSET(Potencia!D86,0,($L$1-1)*10)","v":590.55299999999988},{"$f":"OFFSET(Potencia!E86,0,($L$1-1)*10)","v":587.44399999999996},{"$f":"OFFSET(Potencia!F86,0,($L$1-1)*10)","v":587.48400000000004},{"$f":"OFFSET(Potencia!G86,0,($L$1-1)*10)","v":621.57900000000006},{"$f":"OFFSET(Potencia!H86,0,($L$1-1)*10)","v":621.57900000000006},{"$f":"OFFSET(Potencia!I86,0,($L$1-1)*10)","v":"-"},{"$f":"OFFSET(Potencia!J86,0,($L$1-1)*10)","v":"-"},{"$f":"OFFSET(Potencia!K86,0,($L$1-1)*10)","v":"-"},{"$f":"OFFSET(Potencia!L86,0,($L$1-1)*10)","v":"-"}]
[null,"Nuclear",{"$f":"OFFSET(Potencia!C87,0,($L$1-1)*10)","v":"-"},{"$f":"OFFSET(Potencia!D87,0,($L$1-1)*10)","v":"-"},{"$f":"OFFSET(Potencia!E87,0,($L$1-1)*10)","v":"-"},{"$f":"OFFSET(Potencia!F87,0,($L$1-1)*10)","v":"-"},{"$f":"OFFSET(Potencia!G87,0,($L$1-1)*10)","v":"-"},{"$f":"OFFSET(Potencia!H87,0,($L$1-1)*10)","v":"-"},{"$f":"OFFSET(Potencia!I87,0,($L$1-1)*10)","v":"-"},{"$f":"OFFSET(Potencia!J87,0,($L$1-1)*10)","v":"-"},{"$f":"OFFSET(Potencia!K87,0,($L$1-1)*10)","v":"-"},{"$f":"OFFSET(Potencia!L87,0,($L$1-1)*10)","v":"-"}]
[null,"Carbón",{"$f":"OFFSET(Potencia!C88,0,($L$1-1)*10)","v":1989.4},{"$f":"OFFSET(Potencia!D88,0,($L$1-1)*10)","v":1989.4},{"$f":"OFFSET(Potencia!E88,0,($L$1-1)*10)","v":1989.4},{"$f":"OFFSET(Potencia!F88,0,($L$1-1)*10)","v":1989.4},{"$f":"OFFSET(Potencia!G88,0,($L$1-1)*10)","v":1989.4},{"$f":"OFFSET(Potencia!H88,0,($L$1-1)*10)","v":1989.4},{"$f":"OFFSET(Potencia!I88,0,($L$1-1)*10)","v":"-"},{"$f":"OFFSET(Potencia!J88,0,($L$1-1)*10)","v":"-"},{"$f":"OFFSET(Potencia!K88,0,($L$1-1)*10)","v":"-"},{"$f":"OFFSET(Potencia!L88,0,($L$1-1)*10)","v":"-"}]
[null,"Fuel + Gas",{"$f":"OFFSET(Potencia!C89,0,($L$1-1)*10)","v":"-"},{"$f":"OFFSET(Potencia!D89,0,($L$1-1)*10)","v":"-"},{"$f":"OFFSET(Potencia!E89,0,($L$1-1)*10)","v":"-"},{"$f":"OFFSET(Potencia!F89,0,($L$1-1)*10)","v":"-"},{"$f":"OFFSET(Potencia!G89,0,($L$1-1)*10)","v":"-"},{"$f":"OFFSET(Potencia!H89,0,($L$1-1)*10)","v":"-"},{"$f":"OFFSET(Potencia!I89,0,($L$1-1)*10)","v":"-"},{"$f":"OFFSET(Potencia!J89,0,($L$1-1)*10)","v":"-"},{"$f":"OFFSET(Potencia!K89,0,($L$1-1)*10)","v":"-"},{"$f":"OFFSET(Potencia!L89,0,($L$1-1)*10)","v":"-"}]
[null,"Ciclo combinado",{"$f":"OFFSET(Potencia!C90,0,($L$1-1)*10)","v":5951.72},{"$f":"OFFSET(Potencia!D90,0,($L$1-1)*10)","v":5951.72},{"$f":"OFFSET(Potencia!E90,0,($L$1-1)*10)","v":5951.72},{"$f":"OFFSET(Potencia!F90,0,($L$1-1)*10)","v":5951.72},{"$f":"OFFSET(Potencia!G90,0,($L$1-1)*10)","v":5951.72},{"$f":"OFFSET(Potencia!H90,0,($L$1-1)*10)","v":5951.72},{"$f":"OFFSET(Potencia!I90,0,($L$1-1)*10)","v":"-"},{"$f":"OFFSET(Potencia!J90,0,($L$1-1)*10)","v":"-"},{"$f":"OFFSET(Potencia!K90,0,($L$1-1)*10)","v":"-"},{"$f":"OFFSET(Potencia!L90,0,($L$1-1)*10)","v":"-"}]
[null,"Eólica",{"$f":"OFFSET(Potencia!C91,0,($L$1-1)*10)","v":3327.1804999999999},{"$f":"OFFSET(Potencia!D91,0,($L$1-1)*10)","v":3327.1804999999999},{"$f":"OFFSET(Potencia!E91,0,($L$1-1)*10)","v":3327.1804999999999},{"$f":"OFFSET(Potencia!F91,0,($L$1-1)*10)","v":3327.1804999999999},{"$f":"OFFSET(Potencia!G91,0,($L$1-1)*10)","v":3450.9055000000003},{"$f":"OFFSET(Potencia!H91,0,($L$1-1)*10)","v":3450.9055000000003},{"$f":"OFFSET(Potencia!I91,0,($L$1-1)*10)","v":"-"},{"$f":"OFFSET(Potencia!J91,0,($L$1-1)*10)","v":"-"},{"$f":"OFFSET(Potencia!K91,0,($L$1-1)*10)","v":"-"},{"$f":"OFFSET(Potencia!L91,0,($L$1-1)*10)","v":"-"}]
[null,"Solar fotovoltaica",{"$f":"OFFSET(Potencia!C92,0,($L$1-1)*10)","v":874.98315900005468},{"$f":"OFFSET(Potencia!D92,0,($L$1-1)*10)","v":877.64777900005481},{"$f":"OFFSET(Potencia!E92,0,($L$1-1)*10)","v":878.46950900005459},{"$f":"OFFSET(Potencia!F92,0,($L$1-1)*10)","v":881.89195900005473},{"$f":"OFFSET(Potencia!G92,0,($L$1-1)*10)","v":1783.8415390000546},{"$f":"OFFSET(Potencia!H92,0,($L$1-1)*10)","v":1954.8947990000543},{"$f":"OFFSET(Potencia!I92,0,($L$1-1)*10)","v":"-"},{"$f":"OFFSET(Potencia!J92,0,($L$1-1)*10)","v":"-"},{"$f":"OFFSET(Potencia!K92,0,($L$1-1)*10)","v":"-"},{"$f":"OFFSET(Potencia!L92,0,($L$1-1)*10)","v":"-"}]
[null,"Solar térmica",{"$f":"OFFSET(Potencia!C93,0,($L$1-1)*10)","v":1000.0229999999998},{"$f":"OFFSET(Potencia!D93,0,($L$1-1)*10)","v":1000.0229999999998},{"$f":"OFFSET(Potencia!E93,0,($L$1-1)*10)","v":1000.0229999999998},{"$f":"OFFSET(Potencia!F93,0,($L$1-1)*10)","v":1000.0229999999998},{"$f":"OFFSET(Potencia!G93,0,($L$1-1)*10)","v":1000.0229999999998},{"$f":"OFFSET(Potencia!H93,0,($L$1-1)*10)","v":1000.0229999999998},{"$f":"OFFSET(Potencia!I93,0,($L$1-1)*10)","v":"-"},{"$f":"OFFSET(Potencia!J93,0,($L$1-1)*10)","v":"-"},{"$f":"OFFSET(Potencia!K93,0,($L$1-1)*10)","v":"-"},{"$f":"OFFSET(Potencia!L93,0,($L$1-1)*10)","v":"-"}]
[null,"Otras renovables (1)",{"$f":"OFFSET(Potencia!C94,0,($L$1-1)*10)","v":232.26},{"$f":"OFFSET(Potencia!D94,0,($L$1-1)*10)","v":233.64400000000001},{"$f":"OFFSET(Potencia!E94,0,($L$1-1)*10)","v":229.92900000000003},{"$f":"OFFSET(Potencia!F94,0,($L$1-1)*10)","v":229.92900000000003},{"$f":"OFFSET(Potencia!G94,0,($L$1-1)*10)","v":276.86200000000002},{"$f":"OFFSET(Potencia!H94,0,($L$1-1)*10)","v":276.86200000000002},{"$f":"OFFSET(Potencia!I94,0,($L$1-1)*10)","v":"-"},{"$f":"OFFSET(Potencia!J94,0,($L$1-1)*10)","v":"-"},{"$f":"OFFSET(Potencia!K94,0,($L$1-1)*10)","v":"-"},{"$f":"OFFSET(Potencia!L94,0,($L$1-1)*10)","v":"-"}]
[null,"Cogeneración",{"$f":"OFFSET(Potencia!C95,0,($L$1-1)*10)","v":903.48049999999989},{"$f":"OFFSET(Potencia!D95,0,($L$1-1)*10)","v":897.68049999999994},{"$f":"OFFSET(Potencia!E95,0,($L$1-1)*10)","v":849.95850000000019},{"$f":"OFFSET(Potencia!F95,0,($L$1-1)*10)","v":848.95950000000016},{"$f":"OFFSET(Potencia!G95,0,($L$1-1)*10)","v":848.95950000000016},{"$f":"OFFSET(Potencia!H95,0,($L$1-1)*10)","v":848.95950000000016},{"$f":"OFFSET(Potencia!I95,0,($L$1-1)*10)","v":"-"},{"$f":"OFFSET(Potencia!J95,0,($L$1-1)*10)","v":"-"},{"$f":"OFFSET(Potencia!K95,0,($L$1-1)*10)","v":"-"},{"$f":"OFFSET(Potencia!L95,0,($L$1-1)*10)","v":"-"}]
[null,"Residuos no renovables",{"$f":"OFFSET(Potencia!C96,0,($L$1-1)*10)","v":95.472999999999985},{"$f":"OFFSET(Potencia!D96,0,($L$1-1)*10)","v":83.540999999999997},{"$f":"OFFSET(Potencia!E96,0,($L$1-1)*10)","v":83.540999999999997},{"$f":"OFFSET(Potencia!F96,0,($L$1-1)*10)","v":83.540999999999997},{"$f":"OFFSET(Potencia!G96,0,($L$1-1)*10)","v":83.540999999999997},{"$f":"OFFSET(Potencia!H96,0,($L$1-1)*10)","v":83.540999999999997},{"$f":"OFFSET(Potencia!I96,0,($L$1-1)*10)","v":"-"},{"$f":"OFFSET(Potencia!J96,0,($L$1-1)*10)","v":"-"},{"$f":"OFFSET(Potencia!K96,0,($L$1-1)*10)","v":"-"},{"$f":"OFFSET(Potencia!L96,0,($L$1-1)*10)","v":"-"}]
[null,"Residuos renovables",{"$f":"OFFSET(Potencia!C97,0,($L$1-1)*10)","v":"-"},{"$f":"OFFSET(Potencia!D97,0,($L$1-1)*10)","v":"-"},{"$f":"OFFSET(Potencia!E97,0,($L$1-1)*10)","v":"-"},{"$f":"OFFSET(Potencia!F97,0,($L$1-1)*10)","v":"-"},{"$f":"OFFSET(Potencia!G97,0,($L$1-1)*10)","v":"-"},{"$f":"OFFSET(Potencia!H97,0,($L$1-1)*10)","v":"-"},{"$f":"OFFSET(Potencia!I97,0,($L$1-1)*10)","v":"-"},{"$f":"OFFSET(Potencia!J97,0,($L$1-1)*10)","v":"-"},{"$f":"OFFSET(Potencia!K97,0,($L$1-1)*10)","v":"-"},{"$f":"OFFSET(Potencia!L97,0,($L$1-1)*10)","v":"-"}]
[null,"Total",{"$f":"OFFSET(Potencia!C98,0,($L$1-1)*10)","v":15547.423159000055},{"$f":"OFFSET(Potencia!D98,0,($L$1-1)*10)","v":15534.269779000055},{"$f":"OFFSET(Potencia!E98,0,($L$1-1)*10)","v":15480.545509000054},{"$f":"OFFSET(Potencia!F98,0,($L$1-1)*10)","v":15483.008959000055},{"$f":"OFFSET(Potencia!G98,0,($L$1-1)*10)","v":16589.711539000058},{"$f":"OFFSET(Potencia!H98,0,($L$1-1)*10)","v":16760.764799000055},{"$f":"OFFSET(Potencia!I98,0,($L$1-1)*10)","v":"-"},{"$f":"OFFSET(Potencia!J98,0,($L$1-1)*10)","v":"-"},{"$f":"OFFSET(Potencia!K98,0,($L$1-1)*10)","v":"-"},{"$f":"OFFSET(Potencia!L98,0,($L$1-1)*10)","v":"-"}]
[null,"(1) Otras renovables incluyen biogás, biomasa, hidráulica marina y geotérmica."]
[null,"Datos a 31 de diciembre."]
[null,{"$f":"IF(L1=1,IF(MONTH(FACT)=1,\"\",(CONCATENATE(\"(*) Para el año \",YEAR(FACT), \" datos a \",TEXT(FACT-30,\"mmmm\"),\" de \",YEAR(FACT),\".\"))),\"\")","v":"(*) Para el año 2020 datos a abril de 2020."}]
[]
[]
[]
[null,{"$f":"IF(L1=2,IF(MONTH(FACT)=1,\"\",(CONCATENATE(\"(*) Para el año \",YEAR(FACT), \" datos a \",TEXT(FACT-30,\"mmmm\"),\" de \",YEAR(FACT),\".\"))),\"\")","v":""}]

{"sheet":"Potencia Aragón","index":8,"n_rows":30,"n_cols":12,"rows_kept":30,"cut":false,"hidden":false,"merged":[[29,1,29,11],[39,1,39,8],[23,1,23,6],[24,1,24,6],[25,1,25,6]]}
[null,null,null,null,null,null,null,null,null,null,null,1]
[]
[]
[]
[null,null,null,null,null,null,null,null,null,"  Sistema / C.Autónoma"]
[null,null,null,null,null,null,null,null,null,"  Periodo"]
[]
[null,null,{"$f":"OFFSET(Potencia!C100,0,($L$1-1)*10)","v":2015},{"$f":"OFFSET(Potencia!D100,0,($L$1-1)*10)","v":2016},{"$f":"OFFSET(Potencia!E100,0,($L$1-1)*10)","v":2017},{"$f":"OFFSET(Potencia!F100,0,($L$1-1)*10)","v":2018},{"$f":"OFFSET(Potencia!G100,0,($L$1-1)*10)","v":2019},{"$f":"OFFSET(Potencia!H100,0,($L$1-1)*10)","v":2020},{"$f":"OFFSET(Potencia!I100,0,($L$1-1)*10)","v":2021},{"$f":"OFFSET(Potencia!J100,0,($L$1-1)*10)","v":2022},{"$f":"OFFSET(Potencia!K100,0,($L$1-1)*10)","v":2023},{"$f":"OFFSET(Potencia!L100,0,($L$1-1)*10)","v":2024}]
[]
[null,{"$f":"Potencia!B85","v":"Bombeo puro"},{"$f":"OFFSET(Potencia!C101,0,($L$1-1)*10)","v":219.14},{"$f":"OFFSET(Potencia!D101,0,($L$1-1)*10)","v":219.14},{"$f":"OFFSET(Potencia!E101,0,($L$1-1)*10)","v":219.14},{"$f":"OFFSET(Potencia!F101,0,($L$1-1)*10)","v":219.14},{"$f":"OFFSET(Potencia!G101,0,($L$1-1)*10)","v":219.14},{"$f":"OFFSET(Potencia!H101,0,($L$1-1)*10)","v":219.14},{"$f":"OFFSET(Potencia!I101,0,($L$1-1)*10)","v":"-"},{"$f":"OFFSET(Potencia!J101,0,($L$1-1)*10)","v":"-"},{"$f":"OFFSET(Potencia!K101,0,($L$1-1)*10)","v":"-"},{"$f":"OFFSET(Potencia!L101,0,($L$1-1)*10)","v":"-"}]
[null,{"$f":"Potencia!B86","v":"Hidráulica convencional y mixta"},{"$f":"OFFSET(Potencia!C102,0,($L$1-1)*10)","v":1333.8325},{"$f":"OFFSET(Potencia!D102,0,($L$1-1)*10)","v":1333.8325},{"$f":"OFFSET(Potencia!E102,0,($L$1-1)*10)","v":1333.8325},{"$f":"OFFSET(Potencia!F102,0,($L$1-1)*10)","v":1333.8325},{"$f":"OFFSET(Potencia!G102,0,($L$1-1)*10)","v":1333.8544999999999},{"$f":"OFFSET(Potencia!H102,0,($L$1-1)*10)","v":1333.8544999999999},{"$f":"OFFSET(Potencia!I102,0,($L$1-1)*10)","v":"-"},{"$f":"OFFSET(Potencia!J102,0,($L$1-1)*10)","v":"-"},{"$f":"OFFSET(Potencia!K102,0,($L$1-1)*10)","v":"-"},{"$f":"OFFSET(Potencia!L102,0,($L$1-1)*10)","v":"-"}]
[null,{"$f":"Potencia!B87","v":"Nuclear"},{"$f":"OFFSET(Potencia!C103,0,($L$1-1)*10)","v":"-"},{"$f":"OFFSET(Potencia!D103,0,($L$1-1)*10)","v":"-"},{"$f":"OFFSET(Potencia!E103,0,($L$1-1)*10)","v":"-"},{"$f":"OFFSET(Potencia!F103,0,($L$1-1)*10)","v":"-"},{"$f":"OFFSET(Potencia!G103,0,($L$1-1)*10)","v":"-"},{"$f":"OFFSET(Potencia!H103,0,($L$1-1)*10)","v":"-"},{"$f":"OFFSET(Potencia!I103,0,($L$1-1)*10)","v":"-"},{"$f":"OFFSET(Potencia!J103,0,($L$1-1)*10)","v":"-"},{"$f":"OFFSET(Potencia!K103,0,($L$1-1)*10)","v":"-"},{"$f":"OFFSET(Potencia!L103,0,($L$1-1)*10)","v":"-"}]
[null,{"$f":"Potencia!B88","v":"Carbón"},{"$f":"OFFSET(Potencia!C104,0,($L$1-1)*10)","v":1055.77},{"$f":"OFFSET(Potencia!D104,0,($L$1-1)*10)","v":1055.77},{"$f":"OFFSET(Potencia!E104,0,($L$1-1)*10)","v":1055.77},{"$f":"OFFSET(Potencia!F104,0,($L$1-1)*10)","v":1055.77},{"$f":"OFFSET(Potencia!G104,0,($L$1-1)*10)","v":1055.77},{"$f":"OFFSET(Potencia!H104,0,($L$1-1)*10)","v":1055.77},{"$f":"OFFSET(Potencia!I104,0,($L$1-1)*10)","v":"-"},{"$f":"OFFSET(Potencia!J104,0,($L$1-1)*10)","v":"-"},{"$f":"OFFSET(Potencia!K104,0,($L$1-1)*10)","v":"-"},{"$f":"OFFSET(Potencia!L104,0,($L$1-1)*10)","v":"-"}]
[null,{"$f":"Potencia!B89","v":"Fuel + Gas"},{"$f":"OFFSET(Potencia!C105,0,($L$1-1)*10)","v":"-"},{"$f":"OFFSET(Potencia!D105,0,($L$1-1)*10)","v":"-"},{"$f":"OFFSET(Potencia!E105,0,($L$1-1)*10)","v":"-"},{"$f":"OFFSET(Potencia!F105,0,($L$1-1)*10)","v":"-"},{"$f":"OFFSET(Potencia!G105,0,($L$1-1)*10)","v":"-"},{"$f":"OFFSET(Potencia!H105,0,($L$1-1)*10)","v":"-"},{"$f":"OFFSET(Potencia!I105,0,($L$1-1)*10)","v":"-"},{"$f":"OFFSET(Potencia!J105,0,($L$1-1)*10)","v":"-"},{"$f":"OFFSET(Potencia!K105,0,($L$1-1)*10)","v":"-"},{"$f":"OFFSET(Potencia!L105,0,($L$1-1)*10)","v":"-"}]
[null,{"$f":"Potencia!B90","v":"Ciclo combinado"},{"$f":"OFFSET(Potencia!C106,0,($L$1-1)*10)","v":1869.68},{"$f":"OFFSET(Potencia!D106,0,($L$1-1)*10)","v":1869.68},{"$f":"OFFSET(Potencia!E106,0,($L$1-1)*10)","v":1869.68},{"$f":"OFFSET(Potencia!F106,0,($L$1-1)*10)","v":1869.68},{"$f":"OFFSET(Potencia!G106,0,($L$1-1)*10)","v":1869.68},{"$f":"OFFSET(Potencia!H106,0,($L$1-1)*10)","v":1869.68},{"$f":"OFFSET(Potencia!I106,0,($L$1-1)*10)","v":"-"},{"$f":"OFFSET(Potencia!J106,0,($L$1-1)*10)","v":"-"},{"$f":"OFFSET(Potencia!K106,0,($L$1-1)*10)","v":"-"},{"$f":"OFFSET(Potencia!L106,0,($L$1-1)*10)","v":"-"}]
[null,{"$f":"Potencia!B91","v":"Eólica"},{"$f":"OFFSET(Potencia!C107,0,($L$1-1)*10)","v":1906.3200000000002},{"$f":"OFFSET(Potencia!D107,0,($L$1-1)*10)","v":1906.3200000000002},{"$f":"OFFSET(Potencia!E107,0,($L$1-1)*10)","v":1924.3200000000002},{"$f":"OFFSET(Potencia!F107,0,($L$1-1)*10)","v":2096.42},{"$f":"OFFSET(Potencia!G107,0,($L$1-1)*10)","v":3213.1890000000003},{"$f":"OFFSET(Potencia!H107,0,($L$1-1)*10)","v":3266.0843600000003},{"$f":"OFFSET(Potencia!I107,0,($L$1-1)*10)","v":"-"},{"$f":"OFFSET(Potencia!J107,0,($L$1-1)*10)","v":"-"},{"$f":"OFFSET(Potencia!K107,0,($L$1-1)*10)","v":"-"},{"$f":"OFFSET(Potencia!L107,0,($L$1-1)*10)","v":"-"}]
[null,{"$f":"Potencia!B92","v":"Solar fotovoltaica"},{"$f":"OFFSET(Potencia!C108,0,($L$1-1)*10)","v":168.48273999999967},{"$f":"OFFSET(Potencia!D108,0,($L$1-1)*10)","v":168.50273999999965},{"$f":"OFFSET(Potencia!E108,0,($L$1-1)*10)","v":168.74613999999966},{"$f":"OFFSET(Potencia!F108,0,($L$1-1)*10)","v":168.97913999999966},{"$f":"OFFSET(Potencia!G108,0,($L$1-1)*10)","v":938.44108999999992},{"$f":"OFFSET(Potencia!H108,0,($L$1-1)*10)","v":950.77900999999997},{"$f":"OFFSET(Potencia!I108,0,($L$1-1)*10)","v":"-"},{"$f":"OFFSET(Potencia!J108,0,($L$1-1)*10)","v":"-"},{"$f":"OFFSET(Potencia!K108,0,($L$1-1)*10)","v":"-"},{"$f":"OFFSET(Potencia!L108,0,($L$1-1)*10)","v":"-"}]
[null,{"$f":"Potencia!B93","v":"Solar térmica"},{"$f":"OFFSET(Potencia!C109,0,($L$1-1)*10)","v":"-"},{"$f":"OFFSET(Potencia!D109,0,($L$1-1)*10)","v":"-"},{"$f":"OFFSET(Potencia!E109,0,($L$1-1)*10)","v":"-"},{"$f":"OFFSET(Potencia!F109,0,($L$1-1)*10)","v":"-"},{"$f":"OFFSET(Potencia!G109,0,($L$1-1)*10)","v":"-"},{"$f":"OFFSET(Potencia!H109,0,($L$1-1)*10)","v":"-"},{"$f":"OFFSET(Potencia!I109,0,($L$1-1)*10)","v":"-"},{"$f":"OFFSET(Potencia!J109,0,($L$1-1)*10)","v":"-"},{"$f":"OFFSET(Potencia!K109,0,($L$1-1)*10)","v":"-"},{"$f":"OFFSET(Potencia!L109,0,($L$1-1)*10)","v":"-"}]
[null,"Otras renovables (1)",{"$f":"OFFSET(Potencia!C110,0,($L$1-1)*10)","v":42.335000000000001},{"$f":"OFFSET(Potencia!D110,0,($L$1-1)*10)","v":42.335000000000001},{"$f":"OFFSET(Potencia!E110,0,($L$1-1)*10)","v":42.335000000000001},{"$f":"OFFSET(Potencia!F110,0,($L$1-1)*10)","v":42.335000000000001},{"$f":"OFFSET(Potencia!G110,0,($L$1-1)*10)","v":42.335000000000001},{"$f":"OFFSET(Potencia!H110,0,($L$1-1)*10)","v":42.335000000000001},{"$f":"OFFSET(Potencia!I110,0,($L$1-1)*10)","v":"-"},{"$f":"OFFSET(Potencia!J110,0,($L$1-1)*10)","v":"-"},{"$f":"OFFSET(Potencia!K110,0,($L$1-1)*10)","v":"-"},{"$f":"OFFSET(Potencia!L110,0,($L$1-1)*10)","v":"-"}]
[null,"Cogeneración",{"$f":"OFFSET(Potencia!C111,0,($L$1-1)*10)","v":493.73199999999997},{"$f":"OFFSET(Potencia!D111,0,($L$1-1)*10)","v":490.93700000000001},{"$f":"OFFSET(Potencia!E111,0,($L$1-1)*10)","v":478.22699999999998},{"$f":"OFFSET(Potencia!F111,0,($L$1-1)*10)","v":478.25900000000001},{"$f":"OFFSET(Potencia!G111,0,($L$1-1)*10)","v":478.25900000000001},{"$f":"OFFSET(Potencia!H111,0,($L$1-1)*10)","v":478.25900000000001},{"$f":"OFFSET(Potencia!I111,0,($L$1-1)*10)","v":"-"},{"$f":"OFFSET(Potencia!J111,0,($L$1-1)*10)","v":"-"},{"$f":"OFFSET(Potencia!K111,0,($L$1-1)*10)","v":"-"},{"$f":"OFFSET(Potencia!L111,0,($L$1-1)*10)","v":"-"}]
[null,"Residuos no renovables",{"$f":"OFFSET(Potencia!C112,0,($L$1-1)*10)","v":49.9},{"$f":"OFFSET(Potencia!D112,0,($L$1-1)*10)","v":49.9},{"$f":"OFFSET(Potencia!E112,0,($L$1-1)*10)","v":49.9},{"$f":"OFFSET(Potencia!F112,0,($L$1-1)*10)","v":49.9},{"$f":"OFFSET(Potencia!G112,0,($L$1-1)*10)","v":49.9},{"$f":"OFFSET(Potencia!H112,0,($L$1-1)*10)","v":49.9},{"$f":"OFFSET(Potencia!I112,0,($L$1-1)*10)","v":"-"},{"$f":"OFFSET(Potencia!J112,0,($L$1-1)*10)","v":"-"},{"$f":"OFFSET(Potencia!K112,0,($L$1-1)*10)","v":"-"},{"$f":"OFFSET(Potencia!L112,0,($L$1-1)*10)","v":"-"}]
[null,"Residuos renovables",{"$f":"OFFSET(Potencia!C113,0,($L$1-1)*10)","v":"-"},{"$f":"OFFSET(Potencia!D113,0,($L$1-1)*10)","v":"-"},{"$f":"OFFSET(Potencia!E113,0,($L$1-1)*10)","v":"-"},{"$f":"OFFSET(Potencia!F113,0,($L$1-1)*10)","v":"-"},{"$f":"OFFSET(Potencia!G113,0,($L$1-1)*10)","v":"-"},{"$f":"OFFSET(Potencia!H113,0,($L$1-1)*10)","v":"-"},{"$f":"OFFSET(Potencia!I113,0,($L$1-1)*10)","v":"-"},{"$f":"OFFSET(Potencia!J113,0,($L$1-1)*10)","v":"-"},{"$f":"OFFSET(Potencia!K113,0,($L$1-1)*10)","v":"-"},{"$f":"OFFSET(Potencia!L113,0,($L$1-1)*10)","v":"-"}]
[null,"Total",{"$f":"OFFSET(Potencia!C114,0,($L$1-1)*10)","v":7139.1922399999994},{"$f":"OFFSET(Potencia!D114,0,($L$1-1)*10)","v":7136.4172399999998},{"$f":"OFFSET(Potencia!E114,0,($L$1-1)*10)","v":7141.9506399999991},{"$f":"OFFSET(Potencia!F114,0,($L$1-1)*10)","v":7314.3156399999989},{"$f":"OFFSET(Potencia!G114,0,($L$1-1)*10)","v":9200.5685899999989},{"$f":"OFFSET(Potencia!H114,0,($L$1-1)*10)","v":9265.8018699999993},{"$f":"OFFSET(Potencia!I114,0,($L$1-1)*10)","v":"-"},{"$f":"OFFSET(Potencia!J114,0,($L$1-1)*10)","v":"-"},{"$f":"OFFSET(Potencia!K114,0,($L$1-1)*10)","v":"-"},{"$f":"OFFSET(Potencia!L114,0,($L$1-1)*10)","v":"-"}]
[null,"(1) Otras renovables incluyen biogás, biomasa, hidráulica marina y geotérmica."]
[null,"Datos a 31 de diciembre."]
[null,{"$f":"IF(L1=1,IF(MONTH(FACT)=1,\"\",(CONCATENATE(\"(*) Para el año \",YEAR(FACT), \" datos a \",TEXT(FACT-30,\"mmmm\"),\" de \",YEAR(FACT),\".\"))),\"\")","v":"(*) Para el año 2020 datos a abril de 2020."}]
[]
[]
[]
[null,{"$f":"IF(L1=2,IF(MONTH(FACT)=1,\"\",(CONCATENATE(\"(*) Para el año \",YEAR(FACT), \" datos a \",TEXT(FACT-30,\"mmmm\"),\" de \",YEAR(FACT),\".\"))),\"\")","v":""}]

{"sheet":"Potencia Asturias","index":9,"n_rows":30,"n_cols":12,"rows_kept":30,"cut":false,"hidden":false,"merged":[[29,1,29,11],[39,1,39,8],[23,1,23,6],[24,1,24,6],[25,1,25,6]]}
[null,null,null,null,null,null,null,null,null,null,null,1]
[]
[]
[]
[null,null,null,null,null,null,null,null,null,"  Sistema / C.Autónoma"]
[null,null,null,null,null,null,null,null,null,"  Periodo"]
[]
[null,null,{"$f":"OFFSET(Potencia!C116,0,($L$1-1)*10)","v":2015},{"$f":"OFFSET(Potencia!D116,0,($L$1-1)*10)","v":2016},{"$f":"OFFSET(Potencia!E116,0,($L$1-1)*10)","v":2017},{"$f":"OFFSET(Potencia!F116,0,($L$1-1)*10)","v":2018},{"$f":"OFFSET(Potencia!G116,0,($L$1-1)*10)","v":2019},{"$f":"OFFSET(Potencia!H116,0,($L$1-1)*10)","v":2020},{"$f":"OFFSET(Potencia!I116,0,($L$1-1)*10)","v":2021},{"$f":"OFFSET(Potencia!J116,0,($L$1-1)*10)","v":2022},{"$f":"OFFSET(Potencia!K116,0,($L$1-1)*10)","v":2023},{"$f":"OFFSET(Potencia!L116,0,($L$1-1)*10)","v":2024}]
[]
[null,{"$f":"Potencia!B85","v":"Bombeo puro"},{"$f":"OFFSET(Potencia!C117,0,($L$1-1)*10)","v":"-"},{"$f":"OFFSET(Potencia!D117,0,($L$1-1)*10)","v":"-"},{"$f":"OFFSET(Potencia!E117,0,($L$1-1)*10)","v":"-"},{"$f":"OFFSET(Potencia!F117,0,($L$1-1)*10)","v":"-"},{"$f":"OFFSET(Potencia!G117,0,($L$1-1)*10)","v":"-"},{"$f":"OFFSET(Potencia!H117,0,($L$1-1)*10)","v":"-"},{"$f":"OFFSET(Potencia!I117,0,($L$1-1)*10)","v":"-"},{"$f":"OFFSET(Potencia!J117,0,($L$1-1)*10)","v":"-"},{"$f":"OFFSET(Potencia!K117,0,($L$1-1)*10)","v":"-"},{"$f":"OFFSET(Potencia!L117,0,($L$1-1)*10)","v":"-"}]
[null,{"$f":"Potencia!B86","v":"Hidráulica convencional y mixta"},{"$f":"OFFSET(Potencia!C118,0,($L$1-1)*10)","v":804.75179999999989},{"$f":"OFFSET(Potencia!D118,0,($L$1-1)*10)","v":804.75179999999989},{"$f":"OFFSET(Potencia!E118,0,($L$1-1)*10)","v":804.75179999999989},{"$f":"OFFSET(Potencia!F118,0,($L$1-1)*10)","v":804.75179999999989},{"$f":"OFFSET(Potencia!G118,0,($L$1-1)*10)","v":804.75179999999989},{"$f":"OFFSET(Potencia!H118,0,($L$1-1)*10)","v":804.75179999999989},{"$f":"OFFSET(Potencia!I118,0,($L$1-1)*10)","v":"-"},{"$f":"OFFSET(Potencia!J118,0,($L$1-1)*10)","v":"-"},{"$f":"OFFSET(Potencia!K118,0,($L$1-1)*10)","v":"-"},{"$f":"OFFSET(Potencia!L118,0,($L$1-1)*10)","v":"-"}]
[null,{"$f":"Potencia!B87","v":"Nuclear"},{"$f":"OFFSET(Potencia!C119,0,($L$1-1)*10)","v":"-"},{"$f":"OFFSET(Potencia!D119,0,($L$1-1)*10)","v":"-"},{"$f":"OFFSET(Potencia!E119,0,($L$1-1)*10)","v":"-"},{"$f":"OFFSET(Potencia!F119,0,($L$1-1)*10)","v":"-"},{"$f":"OFFSET(Potencia!G119,0,($L$1-1)*10)","v":"-"},{"$f":"OFFSET(Potencia!H119,0,($L$1-1)*10)","v":"-"},{"$f":"OFFSET(Potencia!I119,0,($L$1-1)*10)","v":"-"},{"$f":"OFFSET(Potencia!J119,0,($L$1-1)*10)","v":"-"},{"$f":"OFFSET(Potencia!K119,0,($L$1-1)*10)","v":"-"},{"$f":"OFFSET(Potencia!L119,0,($L$1-1)*10)","v":"-"}]
[null,{"$f":"Potencia!B88","v":"Carbón"},{"$f":"OFFSET(Potencia!C120,0,($L$1-1)*10)","v":2364.59},{"$f":"OFFSET(Potencia!D120,0,($L$1-1)*10)","v":2073.42},{"$f":"OFFSET(Potencia!E120,0,($L$1-1)*10)","v":2073.42},{"$f":"OFFSET(Potencia!F120,0,($L$1-1)*10)","v":2099.4349999999999},{"$f":"OFFSET(Potencia!G120,0,($L$1-1)*10)","v":2099.4349999999999},{"$f":"OFFSET(Potencia!H120,0,($L$1-1)*10)","v":2099.4349999999999},{"$f":"OFFSET(Potencia!I120,0,($L$1-1)*10)","v":"-"},{"$f":"OFFSET(Potencia!J120,0,($L$1-1)*10)","v":"-"},{"$f":"OFFSET(Potencia!K120,0,($L$1-1)*10)","v":"-"},{"$f":"OFFSET(Potencia!L120,0,($L$1-1)*10)","v":"-"}]
[null,{"$f":"Potencia!B89","v":"Fuel + Gas"},{"$f":"OFFSET(Potencia!C121,0,($L$1-1)*10)","v":"-"},{"$f":"OFFSET(Potencia!D121,0,($L$1-1)*10)","v":"-"},{"$f":"OFFSET(Potencia!E121,0,($L$1-1)*10)","v":"-"},{"$f":"OFFSET(Potencia!F121,0,($L$1-1)*10)","v":"-"},{"$f":"OFFSET(Potencia!G121,0,($L$1-1)*10)","v":"-"},{"$f":"OFFSET(Potencia!H121,0,($L$1-1)*10)","v":"-"},{"$f":"OFFSET(Potencia!I121,0,($L$1-1)*10)","v":"-"},{"$f":"OFFSET(Potencia!J121,0,($L$1-1)*10)","v":"-"},{"$f":"OFFSET(Potencia!K121,0,($L$1-1)*10)","v":"-"},{"$f":"OFFSET(Potencia!L121,0,($L$1-1)*10)","v":"-"}]
[null,{"$f":"Potencia!B90","v":"Ciclo combinado"},{"$f":"OFFSET(Potencia!C122,0,($L$1-1)*10)","v":854.17},{"$f":"OFFSET(Potencia!D122,0,($L$1-1)*10)","v":854.17},{"$f":"OFFSET(Potencia!E122,0,($L$1-1)*10)","v":854.17},{"$f":"OFFSET(Potencia!F122,0,($L$1-1)*10)","v":854.17},{"$f":"OFFSET(Potencia!G122,0,($L$1-1)*10)","v":854.17},{"$f":"OFFSET(Potencia!H122,0,($L$1-1)*10)","v":854.17},{"$f":"OFFSET(Potencia!I122,0,($L$1-1)*10)","v":"-"},{"$f":"OFFSET(Potencia!J122,0,($L$1-1)*10)","v":"-"},{"$f":"OFFSET(Potencia!K122,0,($L$1-1)*10)","v":"-"},{"$f":"OFFSET(Potencia!L122,0,($L$1-1)*10)","v":"-"}]
[null,{"$f":"Potencia!B91","v":"Eólica"},{"$f":"OFFSET(Potencia!C123,0,($L$1-1)*10)","v":518.45000000000005},{"$f":"OFFSET(Potencia!D123,0,($L$1-1)*10)","v":518.45000000000005},{"$f":"OFFSET(Potencia!E123,0,($L$1-1)*10)","v":518.45000000000005},{"$f":"OFFSET(Potencia!F123,0,($L$1-1)*10)","v":518.45000000000005},{"$f":"OFFSET(Potencia!G123,0,($L$1-1)*10)","v":518.45000000000005},{"$f":"OFFSET(Potencia!H123,0,($L$1-1)*10)","v":518.45000000000005},{"$f":"OFFSET(Potencia!I123,0,($L$1-1)*10)","v":"-"},{"$f":"OFFSET(Potencia!J123,0,($L$1-1)*10)","v":"-"},{"$f":"OFFSET(Potencia!K123,0,($L$1-1)*10)","v":"-"},{"$f":"OFFSET(Potencia!L123,0,($L$1-1)*10)","v":"-"}]
[null,{"$f":"Potencia!B92","v":"Solar fotovoltaica"},{"$f":"OFFSET(Potencia!C124,0,($L$1-1)*10)","v":0.79043000000000041},{"$f":"OFFSET(Potencia!D124,0,($L$1-1)*10)","v":0.79043000000000041},{"$f":"OFFSET(Potencia!E124,0,($L$1-1)*10)","v":0.73653000000000024},{"$f":"OFFSET(Potencia!F124,0,($L$1-1)*10)","v":0.82895500000000033},{"$f":"OFFSET(Potencia!G124,0,($L$1-1)*10)","v":0.79648500000000033},{"$f":"OFFSET(Potencia!H124,0,($L$1-1)*10)","v":0.79648500000000033},{"$f":"OFFSET(Potencia!I124,0,($L$1-1)*10)","v":"-"},{"$f":"OFFSET(Potencia!J124,0,($L$1-1)*10)","v":"-"},{"$f":"OFFSET(Potencia!K124,0,($L$1-1)*10)","v":"-"},{"$f":"OFFSET(Potencia!L124,0,($L$1-1)*10)","v":"-"}]
[null,{"$f":"Potencia!B93","v":"Solar térmica"},{"$f":"OFFSET(Potencia!C125,0,($L$1-1)*10)","v":"-"},{"$f":"OFFSET(Potencia!D125,0,($L$1-1)*10)","v":"-"},{"$f":"OFFSET(Potencia!E125,0,($L$1-1)*10)","v":"-"},{"$f":"OFFSET(Potencia!F125,0,($L$1-1)*10)","v":"-"},{"$f":"OFFSET(Potencia!G125,0,($L$1-1)*10)","v":"-"},{"$f":"OFFSET(Potencia!H125,0,($L$1-1)*10)","v":"-"},{"$f":"OFFSET(Potencia!I125,0,($L$1-1)*10)","v":"-"},{"$f":"OFFSET(Potencia!J125,0,($L$1-1)*10)","v":"-"},{"$f":"OFFSET(Potencia!K125,0,($L$1-1)*10)","v":"-"},{"$f":"OFFSET(Potencia!L125,0,($L$1-1)*10)","v":"-"}]
[null,"Otras renovables (1)",{"$f":"OFFSET(Potencia!C126,0,($L$1-1)*10)","v":86.710000000000008},{"$f":"OFFSET(Potencia!D126,0,($L$1-1)*10)","v":86.710000000000008},{"$f":"OFFSET(Potencia!E126,0,($L$1-1)*10)","v":86.710000000000008},{"$f":"OFFSET(Potencia!F126,0,($L$1-1)*10)","v":90.860000000000014},{"$f":"OFFSET(Potencia!G126,0,($L$1-1)*10)","v":90.860000000000014},{"$f":"OFFSET(Potencia!H126,0,($L$1-1)*10)","v":90.860000000000014},{"$f":"OFFSET(Potencia!I126,0,($L$1-1)*10)","v":"-"},{"$f":"OFFSET(Potencia!J126,0,($L$1-1)*10)","v":"-"},{"$f":"OFFSET(Potencia!K126,0,($L$1-1)*10)","v":"-"},{"$f":"OFFSET(Potencia!L126,0,($L$1-1)*10)","v":"-"}]
[null,"Cogeneración",{"$f":"OFFSET(Potencia!C127,0,($L$1-1)*10)","v":81.516999999999967},{"$f":"OFFSET(Potencia!D127,0,($L$1-1)*10)","v":74.905999999999963},{"$f":"OFFSET(Potencia!E127,0,($L$1-1)*10)","v":68.923999999999978},{"$f":"OFFSET(Potencia!F127,0,($L$1-1)*10)","v":68.923999999999978},{"$f":"OFFSET(Potencia!G127,0,($L$1-1)*10)","v":68.923999999999978},{"$f":"OFFSET(Potencia!H127,0,($L$1-1)*10)","v":68.923999999999978},{"$f":"OFFSET(Potencia!I127,0,($L$1-1)*10)","v":"-"},{"$f":"OFFSET(Potencia!J127,0,($L$1-1)*10)","v":"-"},{"$f":"OFFSET(Potencia!K127,0,($L$1-1)*10)","v":"-"},{"$f":"OFFSET(Potencia!L127,0,($L$1-1)*10)","v":"-"}]
[null,"Residuos no renovables",{"$f":"OFFSET(Potencia!C128,0,($L$1-1)*10)","v":74.387},{"$f":"OFFSET(Potencia!D128,0,($L$1-1)*10)","v":74.387},{"$f":"OFFSET(Potencia!E128,0,($L$1-1)*10)","v":74.387},{"$f":"OFFSET(Potencia!F128,0,($L$1-1)*10)","v":74.387},{"$f":"OFFSET(Potencia!G128,0,($L$1-1)*10)","v":74.387},{"$f":"OFFSET(Potencia!H128,0,($L$1-1)*10)","v":74.387},{"$f":"OFFSET(Potencia!I128,0,($L$1-1)*10)","v":"-"},{"$f":"OFFSET(Potencia!J128,0,($L$1-1)*10)","v":"-"},{"$f":"OFFSET(Potencia!K128,0,($L$1-1)*10)","v":"-"},{"$f":"OFFSET(Potencia!L128,0,($L$1-1)*10)","v":"-"}]
[null,"Residuos renovables",{"$f":"OFFSET(Potencia!C129,0,($L$1-1)*10)","v":"-"},{"$f":"OFFSET(Potencia!D129,0,($L$1-1)*10)","v":"-"},{"$f":"OFFSET(Potencia!E129,0,($L$1-1)*10)","v":"-"},{"$f":"OFFSET(Potencia!F129,0,($L$1-1)*10)","v":"-"},{"$f":"OFFSET(Potencia!G129,0,($L$1-1)*10)","v":"-"},{"$f":"OFFSET(Potencia!H129,0,($L$1-1)*10)","v":"-"},{"$f":"OFFSET(Potencia!I129,0,($L$1-1)*10)","v":"-"},{"$f":"OFFSET(Potencia!J129,0,($L$1-1)*10)","v":"-"},{"$f":"OFFSET(Potencia!K129,0,($L$1-1)*10)","v":"-"},{"$f":"OFFSET(Potencia!L129,0,($L$1-1)*10)","v":"-"}]
[null,"Total",{"$f":"OFFSET(Potencia!C130,0,($L$1-1)*10)","v":4785.3662299999996},{"$f":"OFFSET(Potencia!D130,0,($L$1-1)*10)","v":4487.5852299999997},{"$f":"OFFSET(Potencia!E130,0,($L$1-1)*10)","v":4481.5493299999998},{"$f":"OFFSET(Potencia!F130,0,($L$1-1)*10)","v":4511.8067549999996},{"$f":"OFFSET(Potencia!G130,0,($L$1-1)*10)","v":4511.7742849999995},{"$f":"OFFSET(Potencia!H130,0,($L$1-1)*10)","v":4511.7742849999995},{"$f":"OFFSET(Potencia!I130,0,($L$1-1)*10)","v":"-"},{"$f":"OFFSET(Potencia!J130,0,($L$1-1)*10)","v":"-"},{"$f":"OFFSET(Potencia!K130,0,($L$1-1)*10)","v":"-"},{"$f":"OFFSET(Potencia!L130,0,($L$1-1)*10)","v":"-"}]
[null,"(1) Otras renovables incluyen biogás, biomasa, hidráulica marina y geotérmica."]
[null,"Datos a 31 de diciembre."]
[null,{"$f":"IF(L1=1,IF(MONTH(FACT)=1,\"\",(CONCATENATE(\"(*) Para el año \",YEAR(FACT), \" datos a \",TEXT(FACT-30,\"mmmm\"),\" de \",YEAR(FACT),\".\"))),\"\")","v":"(*) Para el año 2020 datos a abril de 2020."}]
[]
[]
[]
[null,{"$f":"IF(L1=2,IF(MONTH(FACT)=1,\"\",(CONCATENATE(\"(*) Para el año \",YEAR(FACT), \" datos a \",TEXT(FACT-30,\"mmmm\"),\" de \",YEAR(FACT),\".\"))),\"\")","v":""}]

{"sheet":"Potencia C.Valenciana","index":10,"n_rows":30,"n_cols":12,"rows_kept":30,"cut":false,"hidden":false,"merged":[[29,1,29,11],[39,1,39,8],[23,1,23,6],[24,1,24,6],[25,1,25,6]]}
[null,null,null,null,null,null,null,null,null,null,null,1]
[]
[]
[]
[null,null,null,null,null,null,null,null,null,"  Sistema / C.Autónoma"]
[null,null,null,null,null,null,null,null,null,"  Periodo"]
[]
[null,null,{"$f":"OFFSET(Potencia!C132,0,($L$1-1)*10)","v":2015},{"$f":"OFFSET(Potencia!D132,0,($L$1-1)*10)","v":2016},{"$f":"OFFSET(Potencia!E132,0,($L$1-1)*10)","v":2017},{"$f":"OFFSET(Potencia!F132,0,($L$1-1)*10)","v":2018},{"$f":"OFFSET(Potencia!G132,0,($L$1-1)*10)","v":2019},{"$f":"OFFSET(Potencia!H132,0,($L$1-1)*10)","v":2020},{"$f":"OFFSET(Potencia!I132,0,($L$1-1)*10)","v":2021},{"$f":"OFFSET(Potencia!J132,0,($L$1-1)*10)","v":2022},{"$f":"OFFSET(Potencia!K132,0,($L$1-1)*10)","v":2023},{"$f":"OFFSET(Potencia!L132,0,($L$1-1)*10)","v":2024}]
[]
[null,{"$f":"Potencia!B85","v":"Bombeo puro"},{"$f":"OFFSET(Potencia!C133,0,($L$1-1)*10)","v":1511.95},{"$f":"OFFSET(Potencia!D133,0,($L$1-1)*10)","v":1511.95},{"$f":"OFFSET(Potencia!E133,0,($L$1-1)*10)","v":1511.95},{"$f":"OFFSET(Potencia!F133,0,($L$1-1)*10)","v":1511.95},{"$f":"OFFSET(Potencia!G133,0,($L$1-1)*10)","v":1511.95},{"$f":"OFFSET(Potencia!H133,0,($L$1-1)*10)","v":1511.95},{"$f":"OFFSET(Potencia!I133,0,($L$1-1)*10)","v":"-"},{"$f":"OFFSET(Potencia!J133,0,($L$1-1)*10)","v":"-"},{"$f":"OFFSET(Potencia!K133,0,($L$1-1)*10)","v":"-"},{"$f":"OFFSET(Potencia!L133,0,($L$1-1)*10)","v":"-"}]
[null,{"$f":"Potencia!B86","v":"Hidráulica convencional y mixta"},{"$f":"OFFSET(Potencia!C134,0,($L$1-1)*10)","v":639.78399999999988},{"$f":"OFFSET(Potencia!D134,0,($L$1-1)*10)","v":639.78399999999988},{"$f":"OFFSET(Potencia!E134,0,($L$1-1)*10)","v":639.78399999999988},{"$f":"OFFSET(Potencia!F134,0,($L$1-1)*10)","v":639.78399999999988},{"$f":"OFFSET(Potencia!G134,0,($L$1-1)*10)","v":639.78399999999988},{"$f":"OFFSET(Potencia!H134,0,($L$1-1)*10)","v":639.78399999999988},{"$f":"OFFSET(Potencia!I134,0,($L$1-1)*10)","v":"-"},{"$f":"OFFSET(Potencia!J134,0,($L$1-1)*10)","v":"-"},{"$f":"OFFSET(Potencia!K134,0,($L$1-1)*10)","v":"-"},{"$f":"OFFSET(Potencia!L134,0,($L$1-1)*10)","v":"-"}]
[null,{"$f":"Potencia!B87","v":"Nuclear"},{"$f":"OFFSET(Potencia!C135,0,($L$1-1)*10)","v":1063.94},{"$f":"OFFSET(Potencia!D135,0,($L$1-1)*10)","v":1063.94},{"$f":"OFFSET(Potencia!E135,0,($L$1-1)*10)","v":1063.94},{"$f":"OFFSET(Potencia!F135,0,($L$1-1)*10)","v":1063.94},{"$f":"OFFSET(Potencia!G135,0,($L$1-1)*10)","v":1063.94},{"$f":"OFFSET(Potencia!H135,0,($L$1-1)*10)","v":1063.94},{"$f":"OFFSET(Potencia!I135,0,($L$1-1)*10)","v":"-"},{"$f":"OFFSET(Potencia!J135,0,($L$1-1)*10)","v":"-"},{"$f":"OFFSET(Potencia!K135,0,($L$1-1)*10)","v":"-"},{"$f":"OFFSET(Potencia!L135,0,($L$1-1)*10)","v":"-"}]
[null,{"$f":"Potencia!B88","v":"Carbón"},{"$f":"OFFSET(Potencia!C136,0,($L$1-1)*10)","v":"-"},{"$f":"OFFSET(Potencia!D136,0,($L$1-1)*10)","v":"-"},{"$f":"OFFSET(Potencia!E136,0,($L$1-1)*10)","v":"-"},{"$f":"OFFSET(Potencia!F136,0,($L$1-1)*10)","v":"-"},{"$f":"OFFSET(Potencia!G136,0,($L$1-1)*10)","v":"-"},{"$f":"OFFSET(Potencia!H136,0,($L$1-1)*10)","v":"-"},{"$f":"OFFSET(Potencia!I136,0,($L$1-1)*10)","v":"-"},{"$f":"OFFSET(Potencia!J136,0,($L$1-1)*10)","v":"-"},{"$f":"OFFSET(Potencia!K136,0,($L$1-1)*10)","v":"-"},{"$f":"OFFSET(Potencia!L136,0,($L$1-1)*10)","v":"-"}]
[null,{"$f":"Potencia!B89","v":"Fuel + Gas"},{"$f":"OFFSET(Potencia!C137,0,($L$1-1)*10)","v":"-"},{"$f":"OFFSET(Potencia!D137,0,($L$1-1)*10)","v":"-"},{"$f":"OFFSET(Potencia!E137,0,($L$1-1)*10)","v":"-"},{"$f":"OFFSET(Potencia!F137,0,($L$1-1)*10)","v":"-"},{"$f":"OFFSET(Potencia!G137,0,($L$1-1)*10)","v":"-"},{"$f":"OFFSET(Potencia!H137,0,($L$1-1)*10)","v":"-"},{"$f":"OFFSET(Potencia!I137,0,($L$1-1)*10)","v":"-"},{"$f":"OFFSET(Potencia!J137,0,($L$1-1)*10)","v":"-"},{"$f":"OFFSET(Potencia!K137,0,($L$1-1)*10)","v":"-"},{"$f":"OFFSET(Potencia!L137,0,($L$1-1)*10)","v":"-"}]
[null,{"$f":"Potencia!B90","v":"Ciclo combinado"},{"$f":"OFFSET(Potencia!C138,0,($L$1-1)*10)","v":2853.54},{"$f":"OFFSET(Potencia!D138,0,($L$1-1)*10)","v":2853.54},{"$f":"OFFSET(Potencia!E138,0,($L$1-1)*10)","v":2853.54},{"$f":"OFFSET(Potencia!F138,0,($L$1-1)*10)","v":2853.54},{"$f":"OFFSET(Potencia!G138,0,($L$1-1)*10)","v":2853.54},{"$f":"OFFSET(Potencia!H138,0,($L$1-1)*10)","v":2853.54},{"$f":"OFFSET(Potencia!I138,0,($L$1-1)*10)","v":"-"},{"$f":"OFFSET(Potencia!J138,0,($L$1-1)*10)","v":"-"},{"$f":"OFFSET(Potencia!K138,0,($L$1-1)*10)","v":"-"},{"$f":"OFFSET(Potencia!L138,0,($L$1-1)*10)","v":"-"}]
[null,{"$f":"Potencia!B91","v":"Eólica"},{"$f":"OFFSET(Potencia!C139,0,($L$1-1)*10)","v":1205.2399999999998},{"$f":"OFFSET(Potencia!D139,0,($L$1-1)*10)","v":1205.2399999999998},{"$f":"OFFSET(Potencia!E139,0,($L$1-1)*10)","v":1205.2399999999998},{"$f":"OFFSET(Potencia!F139,0,($L$1-1)*10)","v":1205.2399999999998},{"$f":"OFFSET(Potencia!G139,0,($L$1-1)*10)","v":1205.2399999999998},{"$f":"OFFSET(Potencia!H139,0,($L$1-1)*10)","v":1255.0299999999997},{"$f":"OFFSET(Potencia!I139,0,($L$1-1)*10)","v":"-"},{"$f":"OFFSET(Potencia!J139,0,($L$1-1)*10)","v":"-"},{"$f":"OFFSET(Potencia!K139,0,($L$1-1)*10)","v":"-"},{"$f":"OFFSET(Potencia!L139,0,($L$1-1)*10)","v":"-"}]
[null,{"$f":"Potencia!B92","v":"Solar fotovoltaica"},{"$f":"OFFSET(Potencia!C140,0,($L$1-1)*10)","v":348.08595499999558},{"$f":"OFFSET(Potencia!D140,0,($L$1-1)*10)","v":348.10863999999555},{"$f":"OFFSET(Potencia!E140,0,($L$1-1)*10)","v":348.25512499999599},{"$f":"OFFSET(Potencia!F140,0,($L$1-1)*10)","v":360.35772499999553},{"$f":"OFFSET(Potencia!G140,0,($L$1-1)*10)","v":364.3151149999955},{"$f":"OFFSET(Potencia!H140,0,($L$1-1)*10)","v":364.3151149999955},{"$f":"OFFSET(Potencia!I140,0,($L$1-1)*10)","v":"-"},{"$f":"OFFSET(Potencia!J140,0,($L$1-1)*10)","v":"-"},{"$f":"OFFSET(Potencia!K140,0,($L$1-1)*10)","v":"-"},{"$f":"OFFSET(Potencia!L140,0,($L$1-1)*10)","v":"-"}]
[null,{"$f":"Potencia!B93","v":"Solar térmica"},{"$f":"OFFSET(Potencia!C141,0,($L$1-1)*10)","v":49.9},{"$f":"OFFSET(Potencia!D141,0,($L$1-1)*10)","v":49.9},{"$f":"OFFSET(Potencia!E141,0,($L$1-1)*10)","v":49.9},{"$f":"OFFSET(Potencia!F141,0,($L$1-1)*10)","v":49.9},{"$f":"OFFSET(Potencia!G141,0,($L$1-1)*10)","v":49.9},{"$f":"OFFSET(Potencia!H141,0,($L$1-1)*10)","v":49.9},{"$f":"OFFSET(Potencia!I141,0,($L$1-1)*10)","v":"-"},{"$f":"OFFSET(Potencia!J141,0,($L$1-1)*10)","v":"-"},{"$f":"OFFSET(Potencia!K141,0,($L$1-1)*10)","v":"-"},{"$f":"OFFSET(Potencia!L141,0,($L$1-1)*10)","v":"-"}]
[null,"Otras renovables (1)",{"$f":"OFFSET(Potencia!C142,0,($L$1-1)*10)","v":14.042999999999999},{"$f":"OFFSET(Potencia!D142,0,($L$1-1)*10)","v":12.393000000000001},{"$f":"OFFSET(Potencia!E142,0,($L$1-1)*10)","v":12.893000000000001},{"$f":"OFFSET(Potencia!F142,0,($L$1-1)*10)","v":13.222999999999999},{"$f":"OFFSET(Potencia!G142,0,($L$1-1)*10)","v":13.222999999999999},{"$f":"OFFSET(Potencia!H142,0,($L$1-1)*10)","v":13.222999999999999},{"$f":"OFFSET(Potencia!I142,0,($L$1-1)*10)","v":"-"},{"$f":"OFFSET(Potencia!J142,0,($L$1-1)*10)","v":"-"},{"$f":"OFFSET(Potencia!K142,0,($L$1-1)*10)","v":"-"},{"$f":"OFFSET(Potencia!L142,0,($L$1-1)*10)","v":"-"}]
[null,"Cogeneración",{"$f":"OFFSET(Potencia!C143,0,($L$1-1)*10)","v":522.76260999999977},{"$f":"OFFSET(Potencia!D143,0,($L$1-1)*10)","v":503.37060999999977},{"$f":"OFFSET(Potencia!E143,0,($L$1-1)*10)","v":500.92060999999978},{"$f":"OFFSET(Potencia!F143,0,($L$1-1)*10)","v":462.51999999999975},{"$f":"OFFSET(Potencia!G143,0,($L$1-1)*10)","v":457.7849999999998},{"$f":"OFFSET(Potencia!H143,0,($L$1-1)*10)","v":453.12899999999979},{"$f":"OFFSET(Potencia!I143,0,($L$1-1)*10)","v":"-"},{"$f":"OFFSET(Potencia!J143,0,($L$1-1)*10)","v":"-"},{"$f":"OFFSET(Potencia!K143,0,($L$1-1)*10)","v":"-"},{"$f":"OFFSET(Potencia!L143,0,($L$1-1)*10)","v":"-"}]
[null,"Residuos no renovables",{"$f":"OFFSET(Potencia!C144,0,($L$1-1)*10)","v":63.087999999999994},{"$f":"OFFSET(Potencia!D144,0,($L$1-1)*10)","v":63.087999999999994},{"$f":"OFFSET(Potencia!E144,0,($L$1-1)*10)","v":63.087999999999994},{"$f":"OFFSET(Potencia!F144,0,($L$1-1)*10)","v":63.087999999999994},{"$f":"OFFSET(Potencia!G144,0,($L$1-1)*10)","v":63.087999999999994},{"$f":"OFFSET(Potencia!H144,0,($L$1-1)*10)","v":63.087999999999994},{"$f":"OFFSET(Potencia!I144,0,($L$1-1)*10)","v":"-"},{"$f":"OFFSET(Potencia!J144,0,($L$1-1)*10)","v":"-"},{"$f":"OFFSET(Potencia!K144,0,($L$1-1)*10)","v":"-"},{"$f":"OFFSET(Potencia!L144,0,($L$1-1)*10)","v":"-"}]
[null,"Residuos renovables",{"$f":"OFFSET(Potencia!C145,0,($L$1-1)*10)","v":"-"},{"$f":"OFFSET(Potencia!D145,0,($L$1-1)*10)","v":"-"},{"$f":"OFFSET(Potencia!E145,0,($L$1-1)*10)","v":"-"},{"$f":"OFFSET(Potencia!F145,0,($L$1-1)*10)","v":"-"},{"$f":"OFFSET(Potencia!G145,0,($L$1-1)*10)","v":"-"},{"$f":"OFFSET(Potencia!H145,0,($L$1-1)*10)","v":"-"},{"$f":"OFFSET(Potencia!I145,0,($L$1-1)*10)","v":"-"},{"$f":"OFFSET(Potencia!J145,0,($L$1-1)*10)","v":"-"},{"$f":"OFFSET(Potencia!K145,0,($L$1-1)*10)","v":"-"},{"$f":"OFFSET(Potencia!L145,0,($L$1-1)*10)","v":"-"}]
[null,"Total",{"$f":"OFFSET(Potencia!C146,0,($L$1-1)*10)","v":8272.3335649999935},{"$f":"OFFSET(Potencia!D146,0,($L$1-1)*10)","v":8251.3142499999958},{"$f":"OFFSET(Potencia!E146,0,($L$1-1)*10)","v":8249.5107349999962},{"$f":"OFFSET(Potencia!F146,0,($L$1-1)*10)","v":8223.5427249999939},{"$f":"OFFSET(Potencia!G146,0,($L$1-1)*10)","v":8222.7651149999947},{"$f":"OFFSET(Potencia!H146,0,($L$1-1)*10)","v":8267.8991149999947},{"$f":"OFFSET(Potencia!I146,0,($L$1-1)*10)","v":"-"},{"$f":"OFFSET(Potencia!J146,0,($L$1-1)*10)","v":"-"},{"$f":"OFFSET(Potencia!K146,0,($L$1-1)*10)","v":"-"},{"$f":"OFFSET(Potencia!L146,0,($L$1-1)*10)","v":"-"}]
[null,"(1) Otras renovables incluyen biogás, biomasa, hidráulica marina y geotérmica."]
[null,"Datos a 31 de diciembre."]
[null,{"$f":"IF(L1=1,IF(MONTH(FACT)=1,\"\",(CONCATENATE(\"(*) Para el año \",YEAR(FACT), \" datos a \",TEXT(FACT-30,\"mmmm\"),\" de \",YEAR(FACT),\".\"))),\"\")","v":"(*) Para el año 2020 datos a abril de 2020."}]
[]
[]
[]
[null,{"$f":"IF(L1=2,IF(MONTH(FACT)=1,\"\",(CONCATENATE(\"(*) Para el año \",YEAR(FACT), \" datos a \",TEXT(FACT-30,\"mmmm\"),\" de \",YEAR(FACT),\".\"))),\"\")","v":""}]

{"sheet":"Potencia Cantabria","index":11,"n_rows":30,"n_cols":12,"rows_kept":30,"cut":false,"hidden":false,"merged":[[29,1,29,11],[39,1,39,8],[23,1,23,6],[24,1,24,6],[25,1,25,6]]}
[null,null,null,null,null,null,null,null,null,null,null,1]
[]
[]
[]
[null,null,null,null,null,null,null,null,null,"  Sistema / C.Autónoma"]
[null,null,null,null,null,null,null,null,null,"  Periodo"]
[]
[null,null,{"$f":"OFFSET(Potencia!C148,0,($L$1-1)*10)","v":2015},{"$f":"OFFSET(Potencia!D148,0,($L$1-1)*10)","v":2016},{"$f":"OFFSET(Potencia!E148,0,($L$1-1)*10)","v":2017},{"$f":"OFFSET(Potencia!F148,0,($L$1-1)*10)","v":2018},{"$f":"OFFSET(Potencia!G148,0,($L$1-1)*10)","v":2019},{"$f":"OFFSET(Potencia!H148,0,($L$1-1)*10)","v":2020},{"$f":"OFFSET(Potencia!I148,0,($L$1-1)*10)","v":2021},{"$f":"OFFSET(Potencia!J148,0,($L$1-1)*10)","v":2022},{"$f":"OFFSET(Potencia!K148,0,($L$1-1)*10)","v":2023},{"$f":"OFFSET(Potencia!L148,0,($L$1-1)*10)","v":2024}]
[]
[null,{"$f":"Potencia!B85","v":"Bombeo puro"},{"$f":"OFFSET(Potencia!C149,0,($L$1-1)*10)","v":360.6},{"$f":"OFFSET(Potencia!D149,0,($L$1-1)*10)","v":360.6},{"$f":"OFFSET(Potencia!E149,0,($L$1-1)*10)","v":360.6},{"$f":"OFFSET(Potencia!F149,0,($L$1-1)*10)","v":360.6},{"$f":"OFFSET(Potencia!G149,0,($L$1-1)*10)","v":360.6},{"$f":"OFFSET(Potencia!H149,0,($L$1-1)*10)","v":360.6},{"$f":"OFFSET(Potencia!I149,0,($L$1-1)*10)","v":"-"},{"$f":"OFFSET(Potencia!J149,0,($L$1-1)*10)","v":"-"},{"$f":"OFFSET(Potencia!K149,0,($L$1-1)*10)","v":"-"},{"$f":"OFFSET(Potencia!L149,0,($L$1-1)*10)","v":"-"}]
[null,{"$f":"Potencia!B86","v":"Hidráulica convencional y mixta"},{"$f":"OFFSET(Potencia!C150,0,($L$1-1)*10)","v":98.417000000000002},{"$f":"OFFSET(Potencia!D150,0,($L$1-1)*10)","v":98.841999999999985},{"$f":"OFFSET(Potencia!E150,0,($L$1-1)*10)","v":98.841999999999985},{"$f":"OFFSET(Potencia!F150,0,($L$1-1)*10)","v":98.841999999999985},{"$f":"OFFSET(Potencia!G150,0,($L$1-1)*10)","v":98.912000000000006},{"$f":"OFFSET(Potencia!H150,0,($L$1-1)*10)","v":98.912000000000006},{"$f":"OFFSET(Potencia!I150,0,($L$1-1)*10)","v":"-"},{"$f":"OFFSET(Potencia!J150,0,($L$1-1)*10)","v":"-"},{"$f":"OFFSET(Potencia!K150,0,($L$1-1)*10)","v":"-"},{"$f":"OFFSET(Potencia!L150,0,($L$1-1)*10)","v":"-"}]
[null,{"$f":"Potencia!B87","v":"Nuclear"},{"$f":"OFFSET(Potencia!C151,0,($L$1-1)*10)","v":"-"},{"$f":"OFFSET(Potencia!D151,0,($L$1-1)*10)","v":"-"},{"$f":"OFFSET(Potencia!E151,0,($L$1-1)*10)","v":"-"},{"$f":"OFFSET(Potencia!F151,0,($L$1-1)*10)","v":"-"},{"$f":"OFFSET(Potencia!G151,0,($L$1-1)*10)","v":"-"},{"$f":"OFFSET(Potencia!H151,0,($L$1-1)*10)","v":"-"},{"$f":"OFFSET(Potencia!I151,0,($L$1-1)*10)","v":"-"},{"$f":"OFFSET(Potencia!J151,0,($L$1-1)*10)","v":"-"},{"$f":"OFFSET(Potencia!K151,0,($L$1-1)*10)","v":"-"},{"$f":"OFFSET(Potencia!L151,0,($L$1-1)*10)","v":"-"}]
[null,{"$f":"Potencia!B88","v":"Carbón"},{"$f":"OFFSET(Potencia!C152,0,($L$1-1)*10)","v":"-"},{"$f":"OFFSET(Potencia!D152,0,($L$1-1)*10)","v":"-"},{"$f":"OFFSET(Potencia!E152,0,($L$1-1)*10)","v":"-"},{"$f":"OFFSET(Potencia!F152,0,($L$1-1)*10)","v":"-"},{"$f":"OFFSET(Potencia!G152,0,($L$1-1)*10)","v":"-"},{"$f":"OFFSET(Potencia!H152,0,($L$1-1)*10)","v":"-"},{"$f":"OFFSET(Potencia!I152,0,($L$1-1)*10)","v":"-"},{"$f":"OFFSET(Potencia!J152,0,($L$1-1)*10)","v":"-"},{"$f":"OFFSET(Potencia!K152,0,($L$1-1)*10)","v":"-"},{"$f":"OFFSET(Potencia!L152,0,($L$1-1)*10)","v":"-"}]
[null,{"$f":"Potencia!B89","v":"Fuel + Gas"},{"$f":"OFFSET(Potencia!C153,0,($L$1-1)*10)","v":"-"},{"$f":"OFFSET(Potencia!D153,0,($L$1-1)*10)","v":"-"},{"$f":"OFFSET(Potencia!E153,0,($L$1-1)*10)","v":"-"},{"$f":"OFFSET(Potencia!F153,0,($L$1-1)*10)","v":"-"},{"$f":"OFFSET(Potencia!G153,0,($L$1-1)*10)","v":"-"},{"$f":"OFFSET(Potencia!H153,0,($L$1-1)*10)","v":"-"},{"$f":"OFFSET(Potencia!I153,0,($L$1-1)*10)","v":"-"},{"$f":"OFFSET(Potencia!J153,0,($L$1-1)*10)","v":"-"},{"$f":"OFFSET(Potencia!K153,0,($L$1-1)*10)","v":"-"},{"$f":"OFFSET(Potencia!L153,0,($L$1-1)*10)","v":"-"}]
[null,{"$f":"Potencia!B90","v":"Ciclo combinado"},{"$f":"OFFSET(Potencia!C154,0,($L$1-1)*10)","v":"-"},{"$f":"OFFSET(Potencia!D154,0,($L$1-1)*10)","v":"-"},{"$f":"OFFSET(Potencia!E154,0,($L$1-1)*10)","v":"-"},{"$f":"OFFSET(Potencia!F154,0,($L$1-1)*10)","v":"-"},{"$f":"OFFSET(Potencia!G154,0,($L$1-1)*10)","v":"-"},{"$f":"OFFSET(Potencia!H154,0,($L$1-1)*10)","v":"-"},{"$f":"OFFSET(Potencia!I154,0,($L$1-1)*10)","v":"-"},{"$f":"OFFSET(Potencia!J154,0,($L$1-1)*10)","v":"-"},{"$f":"OFFSET(Potencia!K154,0,($L$1-1)*10)","v":"-"},{"$f":"OFFSET(Potencia!L154,0,($L$1-1)*10)","v":"-"}]
[null,{"$f":"Potencia!B91","v":"Eólica"},{"$f":"OFFSET(Potencia!C155,0,($L$1-1)*10)","v":35.310500000000005},{"$f":"OFFSET(Potencia!D155,0,($L$1-1)*10)","v":35.310500000000005},{"$f":"OFFSET(Potencia!E155,0,($L$1-1)*10)","v":35.310500000000005},{"$f":"OFFSET(Potencia!F155,0,($L$1-1)*10)","v":35.310500000000005},{"$f":"OFFSET(Potencia!G155,0,($L$1-1)*10)","v":35.310500000000005},{"$f":"OFFSET(Potencia!H155,0,($L$1-1)*10)","v":35.310500000000005},{"$f":"OFFSET(Potencia!I155,0,($L$1-1)*10)","v":"-"},{"$f":"OFFSET(Potencia!J155,0,($L$1-1)*10)","v":"-"},{"$f":"OFFSET(Potencia!K155,0,($L$1-1)*10)","v":"-"},{"$f":"OFFSET(Potencia!L155,0,($L$1-1)*10)","v":"-"}]
[null,{"$f":"Potencia!B92","v":"Solar fotovoltaica"},{"$f":"OFFSET(Potencia!C156,0,($L$1-1)*10)","v":2.0995349999999982},{"$f":"OFFSET(Potencia!D156,0,($L$1-1)*10)","v":2.0995349999999982},{"$f":"OFFSET(Potencia!E156,0,($L$1-1)*10)","v":2.1730549999999984},{"$f":"OFFSET(Potencia!F156,0,($L$1-1)*10)","v":2.1730549999999984},{"$f":"OFFSET(Potencia!G156,0,($L$1-1)*10)","v":2.1730549999999984},{"$f":"OFFSET(Potencia!H156,0,($L$1-1)*10)","v":2.1730549999999984},{"$f":"OFFSET(Potencia!I156,0,($L$1-1)*10)","v":"-"},{"$f":"OFFSET(Potencia!J156,0,($L$1-1)*10)","v":"-"},{"$f":"OFFSET(Potencia!K156,0,($L$1-1)*10)","v":"-"},{"$f":"OFFSET(Potencia!L156,0,($L$1-1)*10)","v":"-"}]
[null,{"$f":"Potencia!B93","v":"Solar térmica"},{"$f":"OFFSET(Potencia!C157,0,($L$1-1)*10)","v":"-"},{"$f":"OFFSET(Potencia!D157,0,($L$1-1)*10)","v":"-"},{"$f":"OFFSET(Potencia!E157,0,($L$1-1)*10)","v":"-"},{"$f":"OFFSET(Potencia!F157,0,($L$1-1)*10)","v":"-"},{"$f":"OFFSET(Potencia!G157,0,($L$1-1)*10)","v":"-"},{"$f":"OFFSET(Potencia!H157,0,($L$1-1)*10)","v":"-"},{"$f":"OFFSET(Potencia!I157,0,($L$1-1)*10)","v":"-"},{"$f":"OFFSET(Potencia!J157,0,($L$1-1)*10)","v":"-"},{"$f":"OFFSET(Potencia!K157,0,($L$1-1)*10)","v":"-"},{"$f":"OFFSET(Potencia!L157,0,($L$1-1)*10)","v":"-"}]
[null,"Otras renovables (1)",{"$f":"OFFSET(Potencia!C158,0,($L$1-1)*10)","v":12.862},{"$f":"OFFSET(Potencia!D158,0,($L$1-1)*10)","v":12.862},{"$f":"OFFSET(Potencia!E158,0,($L$1-1)*10)","v":12.862},{"$f":"OFFSET(Potencia!F158,0,($L$1-1)*10)","v":12.862},{"$f":"OFFSET(Potencia!G158,0,($L$1-1)*10)","v":12.862},{"$f":"OFFSET(Potencia!H158,0,($L$1-1)*10)","v":12.862},{"$f":"OFFSET(Potencia!I158,0,($L$1-1)*10)","v":"-"},{"$f":"OFFSET(Potencia!J158,0,($L$1-1)*10)","v":"-"},{"$f":"OFFSET(Potencia!K158,0,($L$1-1)*10)","v":"-"},{"$f":"OFFSET(Potencia!L158,0,($L$1-1)*10)","v":"-"}]
[null,"Cogeneración",{"$f":"OFFSET(Potencia!C159,0,($L$1-1)*10)","v":295.59950000000003},{"$f":"OFFSET(Potencia!D159,0,($L$1-1)*10)","v":295.59950000000003},{"$f":"OFFSET(Potencia!E159,0,($L$1-1)*10)","v":295.59950000000003},{"$f":"OFFSET(Potencia!F159,0,($L$1-1)*10)","v":295.59950000000003},{"$f":"OFFSET(Potencia!G159,0,($L$1-1)*10)","v":295.59950000000003},{"$f":"OFFSET(Potencia!H159,0,($L$1-1)*10)","v":295.59950000000003},{"$f":"OFFSET(Potencia!I159,0,($L$1-1)*10)","v":"-"},{"$f":"OFFSET(Potencia!J159,0,($L$1-1)*10)","v":"-"},{"$f":"OFFSET(Potencia!K159,0,($L$1-1)*10)","v":"-"},{"$f":"OFFSET(Potencia!L159,0,($L$1-1)*10)","v":"-"}]
[null,"Residuos no renovables",{"$f":"OFFSET(Potencia!C160,0,($L$1-1)*10)","v":4.9669999999999996},{"$f":"OFFSET(Potencia!D160,0,($L$1-1)*10)","v":4.9669999999999996},{"$f":"OFFSET(Potencia!E160,0,($L$1-1)*10)","v":4.9669999999999996},{"$f":"OFFSET(Potencia!F160,0,($L$1-1)*10)","v":4.9669999999999996},{"$f":"OFFSET(Potencia!G160,0,($L$1-1)*10)","v":4.9669999999999996},{"$f":"OFFSET(Potencia!H160,0,($L$1-1)*10)","v":4.9669999999999996},{"$f":"OFFSET(Potencia!I160,0,($L$1-1)*10)","v":"-"},{"$f":"OFFSET(Potencia!J160,0,($L$1-1)*10)","v":"-"},{"$f":"OFFSET(Potencia!K160,0,($L$1-1)*10)","v":"-"},{"$f":"OFFSET(Potencia!L160,0,($L$1-1)*10)","v":"-"}]
[null,"Residuos renovables",{"$f":"OFFSET(Potencia!C161,0,($L$1-1)*10)","v":4.9669999999999996},{"$f":"OFFSET(Potencia!D161,0,($L$1-1)*10)","v":4.9669999999999996},{"$f":"OFFSET(Potencia!E161,0,($L$1-1)*10)","v":4.9669999999999996},{"$f":"OFFSET(Potencia!F161,0,($L$1-1)*10)","v":4.9669999999999996},{"$f":"OFFSET(Potencia!G161,0,($L$1-1)*10)","v":4.9669999999999996},{"$f":"OFFSET(Potencia!H161,0,($L$1-1)*10)","v":4.9669999999999996},{"$f":"OFFSET(Potencia!I161,0,($L$1-1)*10)","v":"-"},{"$f":"OFFSET(Potencia!J161,0,($L$1-1)*10)","v":"-"},{"$f":"OFFSET(Potencia!K161,0,($L$1-1)*10)","v":"-"},{"$f":"OFFSET(Potencia!L161,0,($L$1-1)*10)","v":"-"}]
[null,"Total",{"$f":"OFFSET(Potencia!C162,0,($L$1-1)*10)","v":814.82253500000002},{"$f":"OFFSET(Potencia!D162,0,($L$1-1)*10)","v":815.24753499999997},{"$f":"OFFSET(Potencia!E162,0,($L$1-1)*10)","v":815.321055},{"$f":"OFFSET(Potencia!F162,0,($L$1-1)*10)","v":815.321055},{"$f":"OFFSET(Potencia!G162,0,($L$1-1)*10)","v":815.39105500000005},{"$f":"OFFSET(Potencia!H162,0,($L$1-1)*10)","v":815.39105500000005},{"$f":"OFFSET(Potencia!I162,0,($L$1-1)*10)","v":"-"},{"$f":"OFFSET(Potencia!J162,0,($L$1-1)*10)","v":"-"},{"$f":"OFFSET(Potencia!K162,0,($L$1-1)*10)","v":"-"},{"$f":"OFFSET(Potencia!L162,0,($L$1-1)*10)","v":"-"}]
[null,"(1) Otras renovables incluyen biogás, biomasa, hidráulica marina y geotérmica."]
[null,"Datos a 31 de diciembre."]
[null,{"$f":"IF(L1=1,IF(MONTH(FACT)=1,\"\",(CONCATENATE(\"(*) Para el año \",YEAR(FACT), \" datos a \",TEXT(FACT-30,\"mmmm\"),\" de \",YEAR(FACT),\".\"))),\"\")","v":"(*) Para el año 2020 datos a abril de 2020."}]
[]
[]
[]
[null,{"$f":"IF(L1=2,IF(MONTH(FACT)=1,\"\",(CONCATENATE(\"(*) Para el año \",YEAR(FACT), \" datos a \",TEXT(FACT-30,\"mmmm\"),\" de \",YEAR(FACT),\".\"))),\"\")","v":""}]

{"sheet":"Potencia Castilla-La Mancha","index":12,"n_rows":30,"n_cols":12,"rows_kept":30,"cut":false,"hidden":false,"merged":[[29,1,29,11],[39,1,39,8],[23,1,23,6],[24,1,24,6],[25,1,25,6]]}
[null,null,null,null,null,null,null,null,null,null,null,1]
[]
[]
[]
[null,null,null,null,null,null,null,null,null,"  Sistema / C.Autónoma"]
[null,null,null,null,null,null,null,null,null,"  Periodo"]
[]
[null,null,{"$f":"OFFSET(Potencia!C164,0,($L$1-1)*10)","v":2015},{"$f":"OFFSET(Potencia!D164,0,($L$1-1)*10)","v":2016},{"$f":"OFFSET(Potencia!E164,0,($L$1-1)*10)","v":2017},{"$f":"OFFSET(Potencia!F164,0,($L$1-1)*10)","v":2018},{"$f":"OFFSET(Potencia!G164,0,($L$1-1)*10)","v":2019},{"$f":"OFFSET(Potencia!H164,0,($L$1-1)*10)","v":2020},{"$f":"OFFSET(Potencia!I164,0,($L$1-1)*10)","v":2021},{"$f":"OFFSET(Potencia!J164,0,($L$1-1)*10)","v":2022},{"$f":"OFFSET(Potencia!K164,0,($L$1-1)*10)","v":2023},{"$f":"OFFSET(Potencia!L164,0,($L$1-1)*10)","v":2024}]
[]
[null,{"$f":"Potencia!B85","v":"Bombeo puro"},{"$f":"OFFSET(Potencia!C165,0,($L$1-1)*10)","v":215},{"$f":"OFFSET(Potencia!D165,0,($L$1-1)*10)","v":215},{"$f":"OFFSET(Potencia!E165,0,($L$1-1)*10)","v":215},{"$f":"OFFSET(Potencia!F165,0,($L$1-1)*10)","v":215},{"$f":"OFFSET(Potencia!G165,0,($L$1-1)*10)","v":215},{"$f":"OFFSET(Potencia!H165,0,($L$1-1)*10)","v":215},{"$f":"OFFSET(Potencia!I165,0,($L$1-1)*10)","v":"-"},{"$f":"OFFSET(Potencia!J165,0,($L$1-1)*10)","v":"-"},{"$f":"OFFSET(Potencia!K165,0,($L$1-1)*10)","v":"-"},{"$f":"OFFSET(Potencia!L165,0,($L$1-1)*10)","v":"-"}]
[null,{"$f":"Potencia!B86","v":"Hidráulica convencional y mixta"},{"$f":"OFFSET(Potencia!C166,0,($L$1-1)*10)","v":649.96699999999998},{"$f":"OFFSET(Potencia!D166,0,($L$1-1)*10)","v":650.24199999999996},{"$f":"OFFSET(Potencia!E166,0,($L$1-1)*10)","v":650.24199999999996},{"$f":"OFFSET(Potencia!F166,0,($L$1-1)*10)","v":650.24199999999996},{"$f":"OFFSET(Potencia!G166,0,($L$1-1)*10)","v":650.24199999999996},{"$f":"OFFSET(Potencia!H166,0,($L$1-1)*10)","v":650.24199999999996},{"$f":"OFFSET(Potencia!I166,0,($L$1-1)*10)","v":"-"},{"$f":"OFFSET(Potencia!J166,0,($L$1-1)*10)","v":"-"},{"$f":"OFFSET(Potencia!K166,0,($L$1-1)*10)","v":"-"},{"$f":"OFFSET(Potencia!L166,0,($L$1-1)*10)","v":"-"}]
[null,{"$f":"Potencia!B87","v":"Nuclear"},{"$f":"OFFSET(Potencia!C167,0,($L$1-1)*10)","v":1003.41},{"$f":"OFFSET(Potencia!D167,0,($L$1-1)*10)","v":1003.41},{"$f":"OFFSET(Potencia!E167,0,($L$1-1)*10)","v":1003.41},{"$f":"OFFSET(Potencia!F167,0,($L$1-1)*10)","v":1003.41},{"$f":"OFFSET(Potencia!G167,0,($L$1-1)*10)","v":1003.41},{"$f":"OFFSET(Potencia!H167,0,($L$1-1)*10)","v":1003.41},{"$f":"OFFSET(Potencia!I167,0,($L$1-1)*10)","v":"-"},{"$f":"OFFSET(Potencia!J167,0,($L$1-1)*10)","v":"-"},{"$f":"OFFSET(Potencia!K167,0,($L$1-1)*10)","v":"-"},{"$f":"OFFSET(Potencia!L167,0,($L$1-1)*10)","v":"-"}]
[null,{"$f":"Potencia!B88","v":"Carbón"},{"$f":"OFFSET(Potencia!C168,0,($L$1-1)*10)","v":502.64},{"$f":"OFFSET(Potencia!D168,0,($L$1-1)*10)","v":"-"},{"$f":"OFFSET(Potencia!E168,0,($L$1-1)*10)","v":"-"},{"$f":"OFFSET(Potencia!F168,0,($L$1-1)*10)","v":"-"},{"$f":"OFFSET(Potencia!G168,0,($L$1-1)*10)","v":"-"},{"$f":"OFFSET(Potencia!H168,0,($L$1-1)*10)","v":"-"},{"$f":"OFFSET(Potencia!I168,0,($L$1-1)*10)","v":"-"},{"$f":"OFFSET(Potencia!J168,0,($L$1-1)*10)","v":"-"},{"$f":"OFFSET(Potencia!K168,0,($L$1-1)*10)","v":"-"},{"$f":"OFFSET(Potencia!L168,0,($L$1-1)*10)","v":"-"}]
[null,{"$f":"Potencia!B89","v":"Fuel + Gas"},{"$f":"OFFSET(Potencia!C169,0,($L$1-1)*10)","v":"-"},{"$f":"OFFSET(Potencia!D169,0,($L$1-1)*10)","v":"-"},{"$f":"OFFSET(Potencia!E169,0,($L$1-1)*10)","v":"-"},{"$f":"OFFSET(Potencia!F169,0,($L$1-1)*10)","v":"-"},{"$f":"OFFSET(Potencia!G169,0,($L$1-1)*10)","v":"-"},{"$f":"OFFSET(Potencia!H169,0,($L$1-1)*10)","v":"-"},{"$f":"OFFSET(Potencia!I169,0,($L$1-1)*10)","v":"-"},{"$f":"OFFSET(Potencia!J169,0,($L$1-1)*10)","v":"-"},{"$f":"OFFSET(Potencia!K169,0,($L$1-1)*10)","v":"-"},{"$f":"OFFSET(Potencia!L169,0,($L$1-1)*10)","v":"-"}]
[null,{"$f":"Potencia!B90","v":"Ciclo combinado"},{"$f":"OFFSET(Potencia!C170,0,($L$1-1)*10)","v":758.74},{"$f":"OFFSET(Potencia!D170,0,($L$1-1)*10)","v":758.74},{"$f":"OFFSET(Potencia!E170,0,($L$1-1)*10)","v":758.74},{"$f":"OFFSET(Potencia!F170,0,($L$1-1)*10)","v":758.74},{"$f":"OFFSET(Potencia!G170,0,($L$1-1)*10)","v":758.74},{"$f":"OFFSET(Potencia!H170,0,($L$1-1)*10)","v":758.74},{"$f":"OFFSET(Potencia!I170,0,($L$1-1)*10)","v":"-"},{"$f":"OFFSET(Potencia!J170,0,($L$1-1)*10)","v":"-"},{"$f":"OFFSET(Potencia!K170,0,($L$1-1)*10)","v":"-"},{"$f":"OFFSET(Potencia!L170,0,($L$1-1)*10)","v":"-"}]
[null,{"$f":"Potencia!B91","v":"Eólica"},{"$f":"OFFSET(Potencia!C171,0,($L$1-1)*10)","v":3798.9291999999987},{"$f":"OFFSET(Potencia!D171,0,($L$1-1)*10)","v":3798.9291999999987},{"$f":"OFFSET(Potencia!E171,0,($L$1-1)*10)","v":3799.1541999999986},{"$f":"OFFSET(Potencia!F171,0,($L$1-1)*10)","v":3809.5241999999985},{"$f":"OFFSET(Potencia!G171,0,($L$1-1)*10)","v":3812.5241999999985},{"$f":"OFFSET(Potencia!H171,0,($L$1-1)*10)","v":3812.5241999999985},{"$f":"OFFSET(Potencia!I171,0,($L$1-1)*10)","v":"-"},{"$f":"OFFSET(Potencia!J171,0,($L$1-1)*10)","v":"-"},{"$f":"OFFSET(Potencia!K171,0,($L$1-1)*10)","v":"-"},{"$f":"OFFSET(Potencia!L171,0,($L$1-1)*10)","v":"-"}]
[null,{"$f":"Potencia!B92","v":"Solar fotovoltaica"},{"$f":"OFFSET(Potencia!C172,0,($L$1-1)*10)","v":923.21464000007813},{"$f":"OFFSET(Potencia!D172,0,($L$1-1)*10)","v":923.2315000000782},{"$f":"OFFSET(Potencia!E172,0,($L$1-1)*10)","v":924.65074000007814},{"$f":"OFFSET(Potencia!F172,0,($L$1-1)*10)","v":924.83340000007809},{"$f":"OFFSET(Potencia!G172,0,($L$1-1)*10)","v":1746.2266700000782},{"$f":"OFFSET(Potencia!H172,0,($L$1-1)*10)","v":1791.1660300000783},{"$f":"OFFSET(Potencia!I172,0,($L$1-1)*10)","v":"-"},{"$f":"OFFSET(Potencia!J172,0,($L$1-1)*10)","v":"-"},{"$f":"OFFSET(Potencia!K172,0,($L$1-1)*10)","v":"-"},{"$f":"OFFSET(Potencia!L172,0,($L$1-1)*10)","v":"-"}]
[null,{"$f":"Potencia!B93","v":"Solar térmica"},{"$f":"OFFSET(Potencia!C173,0,($L$1-1)*10)","v":349.4},{"$f":"OFFSET(Potencia!D173,0,($L$1-1)*10)","v":349.4},{"$f":"OFFSET(Potencia!E173,0,($L$1-1)*10)","v":349.4},{"$f":"OFFSET(Potencia!F173,0,($L$1-1)*10)","v":349.4},{"$f":"OFFSET(Potencia!G173,0,($L$1-1)*10)","v":349.4},{"$f":"OFFSET(Potencia!H173,0,($L$1-1)*10)","v":349.4},{"$f":"OFFSET(Potencia!I173,0,($L$1-1)*10)","v":"-"},{"$f":"OFFSET(Potencia!J173,0,($L$1-1)*10)","v":"-"},{"$f":"OFFSET(Potencia!K173,0,($L$1-1)*10)","v":"-"},{"$f":"OFFSET(Potencia!L173,0,($L$1-1)*10)","v":"-"}]
[null,"Otras renovables (1)",{"$f":"OFFSET(Potencia!C174,0,($L$1-1)*10)","v":88.277000000000001},{"$f":"OFFSET(Potencia!D174,0,($L$1-1)*10)","v":88.277000000000001},{"$f":"OFFSET(Potencia!E174,0,($L$1-1)*10)","v":89.34},{"$f":"OFFSET(Potencia!F174,0,($L$1-1)*10)","v":89.34},{"$f":"OFFSET(Potencia!G174,0,($L$1-1)*10)","v":140.40300000000002},{"$f":"OFFSET(Potencia!H174,0,($L$1-1)*10)","v":140.40300000000002},{"$f":"OFFSET(Potencia!I174,0,($L$1-1)*10)","v":"-"},{"$f":"OFFSET(Potencia!J174,0,($L$1-1)*10)","v":"-"},{"$f":"OFFSET(Potencia!K174,0,($L$1-1)*10)","v":"-"},{"$f":"OFFSET(Potencia!L174,0,($L$1-1)*10)","v":"-"}]
[null,"Cogeneración",{"$f":"OFFSET(Potencia!C175,0,($L$1-1)*10)","v":389.78099999999995},{"$f":"OFFSET(Potencia!D175,0,($L$1-1)*10)","v":379.78899999999993},{"$f":"OFFSET(Potencia!E175,0,($L$1-1)*10)","v":352.52299999999997},{"$f":"OFFSET(Potencia!F175,0,($L$1-1)*10)","v":353.47199999999998},{"$f":"OFFSET(Potencia!G175,0,($L$1-1)*10)","v":353.47199999999998},{"$f":"OFFSET(Potencia!H175,0,($L$1-1)*10)","v":353.47199999999998},{"$f":"OFFSET(Potencia!I175,0,($L$1-1)*10)","v":"-"},{"$f":"OFFSET(Potencia!J175,0,($L$1-1)*10)","v":"-"},{"$f":"OFFSET(Potencia!K175,0,($L$1-1)*10)","v":"-"},{"$f":"OFFSET(Potencia!L175,0,($L$1-1)*10)","v":"-"}]
[null,"Residuos no renovables",{"$f":"OFFSET(Potencia!C176,0,($L$1-1)*10)","v":0.68},{"$f":"OFFSET(Potencia!D176,0,($L$1-1)*10)","v":0.68},{"$f":"OFFSET(Potencia!E176,0,($L$1-1)*10)","v":0.68},{"$f":"OFFSET(Potencia!F176,0,($L$1-1)*10)","v":0.68},{"$f":"OFFSET(Potencia!G176,0,($L$1-1)*10)","v":0.68},{"$f":"OFFSET(Potencia!H176,0,($L$1-1)*10)","v":0.68},{"$f":"OFFSET(Potencia!I176,0,($L$1-1)*10)","v":"-"},{"$f":"OFFSET(Potencia!J176,0,($L$1-1)*10)","v":"-"},{"$f":"OFFSET(Potencia!K176,0,($L$1-1)*10)","v":"-"},{"$f":"OFFSET(Potencia!L176,0,($L$1-1)*10)","v":"-"}]
[null,"Residuos renovables",{"$f":"OFFSET(Potencia!C177,0,($L$1-1)*10)","v":"-"},{"$f":"OFFSET(Potencia!D177,0,($L$1-1)*10)","v":"-"},{"$f":"OFFSET(Potencia!E177,0,($L$1-1)*10)","v":"-"},{"$f":"OFFSET(Potencia!F177,0,($L$1-1)*10)","v":"-"},{"$f":"OFFSET(Potencia!G177,0,($L$1-1)*10)","v":"-"},{"$f":"OFFSET(Potencia!H177,0,($L$1-1)*10)","v":"-"},{"$f":"OFFSET(Potencia!I177,0,($L$1-1)*10)","v":"-"},{"$f":"OFFSET(Potencia!J177,0,($L$1-1)*10)","v":"-"},{"$f":"OFFSET(Potencia!K177,0,($L$1-1)*10)","v":"-"},{"$f":"OFFSET(Potencia!L177,0,($L$1-1)*10)","v":"-"}]
[null,"Total",{"$f":"OFFSET(Potencia!C178,0,($L$1-1)*10)","v":8680.0388400000775},{"$f":"OFFSET(Potencia!D178,0,($L$1-1)*10)","v":8167.6987000000763},{"$f":"OFFSET(Potencia!E178,0,($L$1-1)*10)","v":8143.1399400000773},{"$f":"OFFSET(Potencia!F178,0,($L$1-1)*10)","v":8154.6416000000754},{"$f":"OFFSET(Potencia!G178,0,($L$1-1)*10)","v":9030.097870000076},{"$f":"OFFSET(Potencia!H178,0,($L$1-1)*10)","v":9075.0372300000763},{"$f":"OFFSET(Potencia!I178,0,($L$1-1)*10)","v":"-"},{"$f":"OFFSET(Potencia!J178,0,($L$1-1)*10)","v":"-"},{"$f":"OFFSET(Potencia!K178,0,($L$1-1)*10)","v":"-"},{"$f":"OFFSET(Potencia!L178,0,($L$1-1)*10)","v":"-"}]
[null,"(1) Otras renovables incluyen biogás, biomasa, hidráulica marina y geotérmica."]
[null,"Datos a 31 de diciembre."]
[null,{"$f":"IF(L1=1,IF(MONTH(FACT)=1,\"\",(CONCATENATE(\"(*) Para el año \",YEAR(FACT), \" datos a \",TEXT(FACT-30,\"mmmm\"),\" de \",YEAR(FACT),\".\"))),\"\")","v":"(*) Para el año 2020 datos a abril de 2020."}]
[]
[]
[]
[null,{"$f":"IF(L1=2,IF(MONTH(FACT)=1,\"\",(CONCATENATE(\"(*) Para el año \",YEAR(FACT), \" datos a \",TEXT(FACT-30,\"mmmm\"),\" de \",YEAR(FACT),\".\"))),\"\")","v":""}]

{"sheet":"Potencia Castilla y León","index":13,"n_rows":30,"n_cols":12,"rows_kept":30,"cut":false,"hidden":false,"merged":[[29,1,29,11],[39,1,39,8],[23,1,23,6],[24,1,24,6],[25,1,25,6]]}
[null,null,null,null,null,null,null,null,null,null,null,1]
[]
[]
[]
[null,null,null,null,null,null,null,null,null,"  Sistema / C.Autónoma"]
[null,null,null,null,null,null,null,null,null,"  Periodo"]
[]
[null,null,{"$f":"OFFSET(Potencia!C180,0,($L$1-1)*10)","v":2015},{"$f":"OFFSET(Potencia!D180,0,($L$1-1)*10)","v":2016},{"$f":"OFFSET(Potencia!E180,0,($L$1-1)*10)","v":2017},{"$f":"OFFSET(Potencia!F180,0,($L$1-1)*10)","v":2018},{"$f":"OFFSET(Potencia!G180,0,($L$1-1)*10)","v":2019},{"$f":"OFFSET(Potencia!H180,0,($L$1-1)*10)","v":2020},{"$f":"OFFSET(Potencia!I180,0,($L$1-1)*10)","v":2021},{"$f":"OFFSET(Potencia!J180,0,($L$1-1)*10)","v":2022},{"$f":"OFFSET(Potencia!K180,0,($L$1-1)*10)","v":2023},{"$f":"OFFSET(Potencia!L180,0,($L$1-1)*10)","v":2024}]
[]
[null,{"$f":"Potencia!B85","v":"Bombeo puro"},{"$f":"OFFSET(Potencia!C181,0,($L$1-1)*10)","v":"-"},{"$f":"OFFSET(Potencia!D181,0,($L$1-1)*10)","v":"-"},{"$f":"OFFSET(Potencia!E181,0,($L$1-1)*10)","v":"-"},{"$f":"OFFSET(Potencia!F181,0,($L$1-1)*10)","v":"-"},{"$f":"OFFSET(Potencia!G181,0,($L$1-1)*10)","v":"-"},{"$f":"OFFSET(Potencia!H181,0,($L$1-1)*10)","v":"-"},{"$f":"OFFSET(Potencia!I181,0,($L$1-1)*10)","v":"-"},{"$f":"OFFSET(Potencia!J181,0,($L$1-1)*10)","v":"-"},{"$f":"OFFSET(Potencia!K181,0,($L$1-1)*10)","v":"-"},{"$f":"OFFSET(Potencia!L181,0,($L$1-1)*10)","v":"-"}]
[null,{"$f":"Potencia!B86","v":"Hidráulica convencional y mixta"},{"$f":"OFFSET(Potencia!C182,0,($L$1-1)*10)","v":4398.9858999999997},{"$f":"OFFSET(Potencia!D182,0,($L$1-1)*10)","v":4398.9858999999997},{"$f":"OFFSET(Potencia!E182,0,($L$1-1)*10)","v":4399.2278999999999},{"$f":"OFFSET(Potencia!F182,0,($L$1-1)*10)","v":4399.3154999999997},{"$f":"OFFSET(Potencia!G182,0,($L$1-1)*10)","v":4399.3154999999997},{"$f":"OFFSET(Potencia!H182,0,($L$1-1)*10)","v":4399.3154999999997},{"$f":"OFFSET(Potencia!I182,0,($L$1-1)*10)","v":"-"},{"$f":"OFFSET(Potencia!J182,0,($L$1-1)*10)","v":"-"},{"$f":"OFFSET(Potencia!K182,0,($L$1-1)*10)","v":"-"},{"$f":"OFFSET(Potencia!L182,0,($L$1-1)*10)","v":"-"}]
[null,{"$f":"Potencia!B87","v":"Nuclear"},{"$f":"OFFSET(Potencia!C183,0,($L$1-1)*10)","v":455.29},{"$f":"OFFSET(Potencia!D183,0,($L$1-1)*10)","v":455.29},{"$f":"OFFSET(Potencia!E183,0,($L$1-1)*10)","v":"-"},{"$f":"OFFSET(Potencia!F183,0,($L$1-1)*10)","v":"-"},{"$f":"OFFSET(Potencia!G183,0,($L$1-1)*10)","v":"-"},{"$f":"OFFSET(Potencia!H183,0,($L$1-1)*10)","v":"-"},{"$f":"OFFSET(Potencia!I183,0,($L$1-1)*10)","v":"-"},{"$f":"OFFSET(Potencia!J183,0,($L$1-1)*10)","v":"-"},{"$f":"OFFSET(Potencia!K183,0,($L$1-1)*10)","v":"-"},{"$f":"OFFSET(Potencia!L183,0,($L$1-1)*10)","v":"-"}]
[null,{"$f":"Potencia!B88","v":"Carbón"},{"$f":"OFFSET(Potencia!C184,0,($L$1-1)*10)","v":2595.23},{"$f":"OFFSET(Potencia!D184,0,($L$1-1)*10)","v":2456.89},{"$f":"OFFSET(Potencia!E184,0,($L$1-1)*10)","v":2456.89},{"$f":"OFFSET(Potencia!F184,0,($L$1-1)*10)","v":2456.89},{"$f":"OFFSET(Potencia!G184,0,($L$1-1)*10)","v":2110.0499999999997},{"$f":"OFFSET(Potencia!H184,0,($L$1-1)*10)","v":2110.0499999999997},{"$f":"OFFSET(Potencia!I184,0,($L$1-1)*10)","v":"-"},{"$f":"OFFSET(Potencia!J184,0,($L$1-1)*10)","v":"-"},{"$f":"OFFSET(Potencia!K184,0,($L$1-1)*10)","v":"-"},{"$f":"OFFSET(Potencia!L184,0,($L$1-1)*10)","v":"-"}]
[null,{"$f":"Potencia!B89","v":"Fuel + Gas"},{"$f":"OFFSET(Potencia!C185,0,($L$1-1)*10)","v":"-"},{"$f":"OFFSET(Potencia!D185,0,($L$1-1)*10)","v":"-"},{"$f":"OFFSET(Potencia!E185,0,($L$1-1)*10)","v":"-"},{"$f":"OFFSET(Potencia!F185,0,($L$1-1)*10)","v":"-"},{"$f":"OFFSET(Potencia!G185,0,($L$1-1)*10)","v":"-"},{"$f":"OFFSET(Potencia!H185,0,($L$1-1)*10)","v":"-"},{"$f":"OFFSET(Potencia!I185,0,($L$1-1)*10)","v":"-"},{"$f":"OFFSET(Potencia!J185,0,($L$1-1)*10)","v":"-"},{"$f":"OFFSET(Potencia!K185,0,($L$1-1)*10)","v":"-"},{"$f":"OFFSET(Potencia!L185,0,($L$1-1)*10)","v":"-"}]
[null,{"$f":"Potencia!B90","v":"Ciclo combinado"},{"$f":"OFFSET(Potencia!C186,0,($L$1-1)*10)","v":"-"},{"$f":"OFFSET(Potencia!D186,0,($L$1-1)*10)","v":"-"},{"$f":"OFFSET(Potencia!E186,0,($L$1-1)*10)","v":"-"},{"$f":"OFFSET(Potencia!F186,0,($L$1-1)*10)","v":"-"},{"$f":"OFFSET(Potencia!G186,0,($L$1-1)*10)","v":"-"},{"$f":"OFFSET(Potencia!H186,0,($L$1-1)*10)","v":"-"},{"$f":"OFFSET(Potencia!I186,0,($L$1-1)*10)","v":"-"},{"$f":"OFFSET(Potencia!J186,0,($L$1-1)*10)","v":"-"},{"$f":"OFFSET(Potencia!K186,0,($L$1-1)*10)","v":"-"},{"$f":"OFFSET(Potencia!L186,0,($L$1-1)*10)","v":"-"}]
[null,{"$f":"Potencia!B91","v":"Eólica"},{"$f":"OFFSET(Potencia!C187,0,($L$1-1)*10)","v":5556.3820000000005},{"$f":"OFFSET(Potencia!D187,0,($L$1-1)*10)","v":5589.8820000000014},{"$f":"OFFSET(Potencia!E187,0,($L$1-1)*10)","v":5589.8820000000014},{"$f":"OFFSET(Potencia!F187,0,($L$1-1)*10)","v":5589.8820000000014},{"$f":"OFFSET(Potencia!G187,0,($L$1-1)*10)","v":6051.2170000000024},{"$f":"OFFSET(Potencia!H187,0,($L$1-1)*10)","v":6051.2170000000024},{"$f":"OFFSET(Potencia!I187,0,($L$1-1)*10)","v":"-"},{"$f":"OFFSET(Potencia!J187,0,($L$1-1)*10)","v":"-"},{"$f":"OFFSET(Potencia!K187,0,($L$1-1)*10)","v":"-"},{"$f":"OFFSET(Potencia!L187,0,($L$1-1)*10)","v":"-"}]
[null,{"$f":"Potencia!B92","v":"Solar fotovoltaica"},{"$f":"OFFSET(Potencia!C188,0,($L$1-1)*10)","v":494.27894000000333},{"$f":"OFFSET(Potencia!D188,0,($L$1-1)*10)","v":494.42858500000335},{"$f":"OFFSET(Potencia!E188,0,($L$1-1)*10)","v":495.03416000000334},{"$f":"OFFSET(Potencia!F188,0,($L$1-1)*10)","v":495.63263000000336},{"$f":"OFFSET(Potencia!G188,0,($L$1-1)*10)","v":802.72210500000335},{"$f":"OFFSET(Potencia!H188,0,($L$1-1)*10)","v":802.71710500000336},{"$f":"OFFSET(Potencia!I188,0,($L$1-1)*10)","v":"-"},{"$f":"OFFSET(Potencia!J188,0,($L$1-1)*10)","v":"-"},{"$f":"OFFSET(Potencia!K188,0,($L$1-1)*10)","v":"-"},{"$f":"OFFSET(Potencia!L188,0,($L$1-1)*10)","v":"-"}]
[null,{"$f":"Potencia!B93","v":"Solar térmica"},{"$f":"OFFSET(Potencia!C189,0,($L$1-1)*10)","v":"-"},{"$f":"OFFSET(Potencia!D189,0,($L$1-1)*10)","v":"-"},{"$f":"OFFSET(Potencia!E189,0,($L$1-1)*10)","v":"-"},{"$f":"OFFSET(Potencia!F189,0,($L$1-1)*10)","v":"-"},{"$f":"OFFSET(Potencia!G189,0,($L$1-1)*10)","v":"-"},{"$f":"OFFSET(Potencia!H189,0,($L$1-1)*10)","v":"-"},{"$f":"OFFSET(Potencia!I189,0,($L$1-1)*10)","v":"-"},{"$f":"OFFSET(Potencia!J189,0,($L$1-1)*10)","v":"-"},{"$f":"OFFSET(Potencia!K189,0,($L$1-1)*10)","v":"-"},{"$f":"OFFSET(Potencia!L189,0,($L$1-1)*10)","v":"-"}]
[null,"Otras renovables (1)",{"$f":"OFFSET(Potencia!C190,0,($L$1-1)*10)","v":60.58},{"$f":"OFFSET(Potencia!D190,0,($L$1-1)*10)","v":46.894999999999996},{"$f":"OFFSET(Potencia!E190,0,($L$1-1)*10)","v":46.894999999999996},{"$f":"OFFSET(Potencia!F190,0,($L$1-1)*10)","v":46.894999999999996},{"$f":"OFFSET(Potencia!G190,0,($L$1-1)*10)","v":96.394999999999996},{"$f":"OFFSET(Potencia!H190,0,($L$1-1)*10)","v":96.394999999999996},{"$f":"OFFSET(Potencia!I190,0,($L$1-1)*10)","v":"-"},{"$f":"OFFSET(Potencia!J190,0,($L$1-1)*10)","v":"-"},{"$f":"OFFSET(Potencia!K190,0,($L$1-1)*10)","v":"-"},{"$f":"OFFSET(Potencia!L190,0,($L$1-1)*10)","v":"-"}]
[null,"Cogeneración",{"$f":"OFFSET(Potencia!C191,0,($L$1-1)*10)","v":605.39800000000002},{"$f":"OFFSET(Potencia!D191,0,($L$1-1)*10)","v":595.83900000000006},{"$f":"OFFSET(Potencia!E191,0,($L$1-1)*10)","v":592.50900000000001},{"$f":"OFFSET(Potencia!F191,0,($L$1-1)*10)","v":592.50900000000001},{"$f":"OFFSET(Potencia!G191,0,($L$1-1)*10)","v":592.50900000000001},{"$f":"OFFSET(Potencia!H191,0,($L$1-1)*10)","v":592.50900000000001},{"$f":"OFFSET(Potencia!I191,0,($L$1-1)*10)","v":"-"},{"$f":"OFFSET(Potencia!J191,0,($L$1-1)*10)","v":"-"},{"$f":"OFFSET(Potencia!K191,0,($L$1-1)*10)","v":"-"},{"$f":"OFFSET(Potencia!L191,0,($L$1-1)*10)","v":"-"}]
[null,"Residuos no renovables",{"$f":"OFFSET(Potencia!C192,0,($L$1-1)*10)","v":"-"},{"$f":"OFFSET(Potencia!D192,0,($L$1-1)*10)","v":"-"},{"$f":"OFFSET(Potencia!E192,0,($L$1-1)*10)","v":"-"},{"$f":"OFFSET(Potencia!F192,0,($L$1-1)*10)","v":"-"},{"$f":"OFFSET(Potencia!G192,0,($L$1-1)*10)","v":"-"},{"$f":"OFFSET(Potencia!H192,0,($L$1-1)*10)","v":"-"},{"$f":"OFFSET(Potencia!I192,0,($L$1-1)*10)","v":"-"},{"$f":"OFFSET(Potencia!J192,0,($L$1-1)*10)","v":"-"},{"$f":"OFFSET(Potencia!K192,0,($L$1-1)*10)","v":"-"},{"$f":"OFFSET(Potencia!L192,0,($L$1-1)*10)","v":"-"}]
[null,"Residuos renovables",{"$f":"OFFSET(Potencia!C193,0,($L$1-1)*10)","v":"-"},{"$f":"OFFSET(Potencia!D193,0,($L$1-1)*10)","v":"-"},{"$f":"OFFSET(Potencia!E193,0,($L$1-1)*10)","v":"-"},{"$f":"OFFSET(Potencia!F193,0,($L$1-1)*10)","v":"-"},{"$f":"OFFSET(Potencia!G193,0,($L$1-1)*10)","v":"-"},{"$f":"OFFSET(Potencia!H193,0,($L$1-1)*10)","v":"-"},{"$f":"OFFSET(Potencia!I193,0,($L$1-1)*10)","v":"-"},{"$f":"OFFSET(Potencia!J193,0,($L$1-1)*10)","v":"-"},{"$f":"OFFSET(Potencia!K193,0,($L$1-1)*10)","v":"-"},{"$f":"OFFSET(Potencia!L193,0,($L$1-1)*10)","v":"-"}]
[null,"Total",{"$f":"OFFSET(Potencia!C194,0,($L$1-1)*10)","v":14166.144840000004},{"$f":"OFFSET(Potencia!D194,0,($L$1-1)*10)","v":14038.210485000005},{"$f":"OFFSET(Potencia!E194,0,($L$1-1)*10)","v":13580.438060000004},{"$f":"OFFSET(Potencia!F194,0,($L$1-1)*10)","v":13581.124130000006},{"$f":"OFFSET(Potencia!G194,0,($L$1-1)*10)","v":14052.208605000005},{"$f":"OFFSET(Potencia!H194,0,($L$1-1)*10)","v":14052.203605000006},{"$f":"OFFSET(Potencia!I194,0,($L$1-1)*10)","v":"-"},{"$f":"OFFSET(Potencia!J194,0,($L$1-1)*10)","v":"-"},{"$f":"OFFSET(Potencia!K194,0,($L$1-1)*10)","v":"-"},{"$f":"OFFSET(Potencia!L194,0,($L$1-1)*10)","v":"-"}]
[null,"(1) Otras renovables incluyen biogás, biomasa, hidráulica marina y geotérmica."]
[null,"Datos a 31 de diciembre."]
[null,{"$f":"IF(L1=1,IF(MONTH(FACT)=1,\"\",(CONCATENATE(\"(*) Para el año \",YEAR(FACT), \" datos a \",TEXT(FACT-30,\"mmmm\"),\" de \",YEAR(FACT),\".\"))),\"\")","v":"(*) Para el año 2020 datos a abril de 2020."}]
[]
[]
[]
[null,{"$f":"IF(L1=2,IF(MONTH(FACT)=1,\"\",(CONCATENATE(\"(*) Para el año \",YEAR(FACT), \" datos a \",TEXT(FACT-30,\"mmmm\"),\" de \",YEAR(FACT),\".\"))),\"\")","v":""}]

{"sheet":"Potencia Cataluña","index":14,"n_rows":30,"n_cols":12,"rows_kept":30,"cut":false,"hidden":false,"merged":[[29,1,29,11],[39,1,39,8],[23,1,23,6],[24,1,24,6],[25,1,25,6]]}
[null,null,null,null,null,null,null,null,null,null,null,1]
[]
[]
[]
[null,null,null,null,null,null,null,null,null,"  Sistema / C.Autónoma"]
[null,null,null,null,null,null,null,null,null,"  Periodo"]
[]
[null,null,{"$f":"OFFSET(Potencia!C196,0,($L$1-1)*10)","v":2015},{"$f":"OFFSET(Potencia!D196,0,($L$1-1)*10)","v":2016},{"$f":"OFFSET(Potencia!E196,0,($L$1-1)*10)","v":2017},{"$f":"OFFSET(Potencia!F196,0,($L$1-1)*10)","v":2018},{"$f":"OFFSET(Potencia!G196,0,($L$1-1)*10)","v":2019},{"$f":"OFFSET(Potencia!H196,0,($L$1-1)*10)","v":2020},{"$f":"OFFSET(Potencia!I196,0,($L$1-1)*10)","v":2021},{"$f":"OFFSET(Potencia!J196,0,($L$1-1)*10)","v":2022},{"$f":"OFFSET(Potencia!K196,0,($L$1-1)*10)","v":2023},{"$f":"OFFSET(Potencia!L196,0,($L$1-1)*10)","v":2024}]
[]
[null,{"$f":"Potencia!B85","v":"Bombeo puro"},{"$f":"OFFSET(Potencia!C197,0,($L$1-1)*10)","v":439.32},{"$f":"OFFSET(Potencia!D197,0,($L$1-1)*10)","v":439.32},{"$f":"OFFSET(Potencia!E197,0,($L$1-1)*10)","v":439.32},{"$f":"OFFSET(Potencia!F197,0,($L$1-1)*10)","v":439.32},{"$f":"OFFSET(Potencia!G197,0,($L$1-1)*10)","v":439.32},{"$f":"OFFSET(Potencia!H197,0,($L$1-1)*10)","v":439.32},{"$f":"OFFSET(Potencia!I197,0,($L$1-1)*10)","v":"-"},{"$f":"OFFSET(Potencia!J197,0,($L$1-1)*10)","v":"-"},{"$f":"OFFSET(Potencia!K197,0,($L$1-1)*10)","v":"-"},{"$f":"OFFSET(Potencia!L197,0,($L$1-1)*10)","v":"-"}]
[null,{"$f":"Potencia!B86","v":"Hidráulica convencional y mixta"},{"$f":"OFFSET(Potencia!C198,0,($L$1-1)*10)","v":1913.1277999999998},{"$f":"OFFSET(Potencia!D198,0,($L$1-1)*10)","v":1913.1727999999998},{"$f":"OFFSET(Potencia!E198,0,($L$1-1)*10)","v":1912.8127999999997},{"$f":"OFFSET(Potencia!F198,0,($L$1-1)*10)","v":1912.8127999999997},{"$f":"OFFSET(Potencia!G198,0,($L$1-1)*10)","v":1912.8127999999997},{"$f":"OFFSET(Potencia!H198,0,($L$1-1)*10)","v":1912.8127999999997},{"$f":"OFFSET(Potencia!I198,0,($L$1-1)*10)","v":"-"},{"$f":"OFFSET(Potencia!J198,0,($L$1-1)*10)","v":"-"},{"$f":"OFFSET(Potencia!K198,0,($L$1-1)*10)","v":"-"},{"$f":"OFFSET(Potencia!L198,0,($L$1-1)*10)","v":"-"}]
[null,{"$f":"Potencia!B87","v":"Nuclear"},{"$f":"OFFSET(Potencia!C199,0,($L$1-1)*10)","v":3032.81},{"$f":"OFFSET(Potencia!D199,0,($L$1-1)*10)","v":3032.81},{"$f":"OFFSET(Potencia!E199,0,($L$1-1)*10)","v":3032.81},{"$f":"OFFSET(Potencia!F199,0,($L$1-1)*10)","v":3032.81},{"$f":"OFFSET(Potencia!G199,0,($L$1-1)*10)","v":3032.81},{"$f":"OFFSET(Potencia!H199,0,($L$1-1)*10)","v":3032.81},{"$f":"OFFSET(Potencia!I199,0,($L$1-1)*10)","v":"-"},{"$f":"OFFSET(Potencia!J199,0,($L$1-1)*10)","v":"-"},{"$f":"OFFSET(Potencia!K199,0,($L$1-1)*10)","v":"-"},{"$f":"OFFSET(Potencia!L199,0,($L$1-1)*10)","v":"-"}]
[null,{"$f":"Potencia!B88","v":"Carbón"},{"$f":"OFFSET(Potencia!C200,0,($L$1-1)*10)","v":"-"},{"$f":"OFFSET(Potencia!D200,0,($L$1-1)*10)","v":"-"},{"$f":"OFFSET(Potencia!E200,0,($L$1-1)*10)","v":"-"},{"$f":"OFFSET(Potencia!F200,0,($L$1-1)*10)","v":"-"},{"$f":"OFFSET(Potencia!G200,0,($L$1-1)*10)","v":"-"},{"$f":"OFFSET(Potencia!H200,0,($L$1-1)*10)","v":"-"},{"$f":"OFFSET(Potencia!I200,0,($L$1-1)*10)","v":"-"},{"$f":"OFFSET(Potencia!J200,0,($L$1-1)*10)","v":"-"},{"$f":"OFFSET(Potencia!K200,0,($L$1-1)*10)","v":"-"},{"$f":"OFFSET(Potencia!L200,0,($L$1-1)*10)","v":"-"}]
[null,{"$f":"Potencia!B89","v":"Fuel + Gas"},{"$f":"OFFSET(Potencia!C201,0,($L$1-1)*10)","v":"-"},{"$f":"OFFSET(Potencia!D201,0,($L$1-1)*10)","v":"-"},{"$f":"OFFSET(Potencia!E201,0,($L$1-1)*10)","v":"-"},{"$f":"OFFSET(Potencia!F201,0,($L$1-1)*10)","v":"-"},{"$f":"OFFSET(Potencia!G201,0,($L$1-1)*10)","v":"-"},{"$f":"OFFSET(Potencia!H201,0,($L$1-1)*10)","v":"-"},{"$f":"OFFSET(Potencia!I201,0,($L$1-1)*10)","v":"-"},{"$f":"OFFSET(Potencia!J201,0,($L$1-1)*10)","v":"-"},{"$f":"OFFSET(Potencia!K201,0,($L$1-1)*10)","v":"-"},{"$f":"OFFSET(Potencia!L201,0,($L$1-1)*10)","v":"-"}]
[null,{"$f":"Potencia!B90","v":"Ciclo combinado"},{"$f":"OFFSET(Potencia!C202,0,($L$1-1)*10)","v":4174.08},{"$f":"OFFSET(Potencia!D202,0,($L$1-1)*10)","v":4174.08},{"$f":"OFFSET(Potencia!E202,0,($L$1-1)*10)","v":4174.08},{"$f":"OFFSET(Potencia!F202,0,($L$1-1)*10)","v":3788.23},{"$f":"OFFSET(Potencia!G202,0,($L$1-1)*10)","v":3788.23},{"$f":"OFFSET(Potencia!H202,0,($L$1-1)*10)","v":3788.23},{"$f":"OFFSET(Potencia!I202,0,($L$1-1)*10)","v":"-"},{"$f":"OFFSET(Potencia!J202,0,($L$1-1)*10)","v":"-"},{"$f":"OFFSET(Potencia!K202,0,($L$1-1)*10)","v":"-"},{"$f":"OFFSET(Potencia!L202,0,($L$1-1)*10)","v":"-"}]
[null,{"$f":"Potencia!B91","v":"Eólica"},{"$f":"OFFSET(Potencia!C203,0,($L$1-1)*10)","v":1267.01},{"$f":"OFFSET(Potencia!D203,0,($L$1-1)*10)","v":1268.81},{"$f":"OFFSET(Potencia!E203,0,($L$1-1)*10)","v":1268.81},{"$f":"OFFSET(Potencia!F203,0,($L$1-1)*10)","v":1271.1599999999999},{"$f":"OFFSET(Potencia!G203,0,($L$1-1)*10)","v":1271.1599999999999},{"$f":"OFFSET(Potencia!H203,0,($L$1-1)*10)","v":1271.1599999999999},{"$f":"OFFSET(Potencia!I203,0,($L$1-1)*10)","v":"-"},{"$f":"OFFSET(Potencia!J203,0,($L$1-1)*10)","v":"-"},{"$f":"OFFSET(Potencia!K203,0,($L$1-1)*10)","v":"-"},{"$f":"OFFSET(Potencia!L203,0,($L$1-1)*10)","v":"-"}]
[null,{"$f":"Potencia!B92","v":"Solar fotovoltaica"},{"$f":"OFFSET(Potencia!C204,0,($L$1-1)*10)","v":266.12264999999917},{"$f":"OFFSET(Potencia!D204,0,($L$1-1)*10)","v":266.53074999999916},{"$f":"OFFSET(Potencia!E204,0,($L$1-1)*10)","v":266.50662999999918},{"$f":"OFFSET(Potencia!F204,0,($L$1-1)*10)","v":269.51597999999916},{"$f":"OFFSET(Potencia!G204,0,($L$1-1)*10)","v":273.87204999999921},{"$f":"OFFSET(Potencia!H204,0,($L$1-1)*10)","v":276.53769999999918},{"$f":"OFFSET(Potencia!I204,0,($L$1-1)*10)","v":"-"},{"$f":"OFFSET(Potencia!J204,0,($L$1-1)*10)","v":"-"},{"$f":"OFFSET(Potencia!K204,0,($L$1-1)*10)","v":"-"},{"$f":"OFFSET(Potencia!L204,0,($L$1-1)*10)","v":"-"}]
[null,{"$f":"Potencia!B93","v":"Solar térmica"},{"$f":"OFFSET(Potencia!C205,0,($L$1-1)*10)","v":24.29},{"$f":"OFFSET(Potencia!D205,0,($L$1-1)*10)","v":24.29},{"$f":"OFFSET(Potencia!E205,0,($L$1-1)*10)","v":24.29},{"$f":"OFFSET(Potencia!F205,0,($L$1-1)*10)","v":24.29},{"$f":"OFFSET(Potencia!G205,0,($L$1-1)*10)","v":24.29},{"$f":"OFFSET(Potencia!H205,0,($L$1-1)*10)","v":24.29},{"$f":"OFFSET(Potencia!I205,0,($L$1-1)*10)","v":"-"},{"$f":"OFFSET(Potencia!J205,0,($L$1-1)*10)","v":"-"},{"$f":"OFFSET(Potencia!K205,0,($L$1-1)*10)","v":"-"},{"$f":"OFFSET(Potencia!L205,0,($L$1-1)*10)","v":"-"}]
[null,"Otras renovables (1)",{"$f":"OFFSET(Potencia!C206,0,($L$1-1)*10)","v":71.48899999999999},{"$f":"OFFSET(Potencia!D206,0,($L$1-1)*10)","v":71.813999999999993},{"$f":"OFFSET(Potencia!E206,0,($L$1-1)*10)","v":72.644999999999996},{"$f":"OFFSET(Potencia!F206,0,($L$1-1)*10)","v":72.835999999999984},{"$f":"OFFSET(Potencia!G206,0,($L$1-1)*10)","v":73.095999999999989},{"$f":"OFFSET(Potencia!H206,0,($L$1-1)*10)","v":73.095999999999989},{"$f":"OFFSET(Potencia!I206,0,($L$1-1)*10)","v":"-"},{"$f":"OFFSET(Potencia!J206,0,($L$1-1)*10)","v":"-"},{"$f":"OFFSET(Potencia!K206,0,($L$1-1)*10)","v":"-"},{"$f":"OFFSET(Potencia!L206,0,($L$1-1)*10)","v":"-"}]
[null,"Cogeneración",{"$f":"OFFSET(Potencia!C207,0,($L$1-1)*10)","v":1087.3135000000007},{"$f":"OFFSET(Potencia!D207,0,($L$1-1)*10)","v":1043.6515000000006},{"$f":"OFFSET(Potencia!E207,0,($L$1-1)*10)","v":1010.3885000000007},{"$f":"OFFSET(Potencia!F207,0,($L$1-1)*10)","v":1004.3940000000007},{"$f":"OFFSET(Potencia!G207,0,($L$1-1)*10)","v":980.76000000000067},{"$f":"OFFSET(Potencia!H207,0,($L$1-1)*10)","v":980.76000000000067},{"$f":"OFFSET(Potencia!I207,0,($L$1-1)*10)","v":"-"},{"$f":"OFFSET(Potencia!J207,0,($L$1-1)*10)","v":"-"},{"$f":"OFFSET(Potencia!K207,0,($L$1-1)*10)","v":"-"},{"$f":"OFFSET(Potencia!L207,0,($L$1-1)*10)","v":"-"}]
[null,"Residuos no renovables",{"$f":"OFFSET(Potencia!C208,0,($L$1-1)*10)","v":32.374500000000005},{"$f":"OFFSET(Potencia!D208,0,($L$1-1)*10)","v":32.374500000000005},{"$f":"OFFSET(Potencia!E208,0,($L$1-1)*10)","v":32.374500000000005},{"$f":"OFFSET(Potencia!F208,0,($L$1-1)*10)","v":32.374500000000005},{"$f":"OFFSET(Potencia!G208,0,($L$1-1)*10)","v":32.374500000000005},{"$f":"OFFSET(Potencia!H208,0,($L$1-1)*10)","v":32.374500000000005},{"$f":"OFFSET(Potencia!I208,0,($L$1-1)*10)","v":"-"},{"$f":"OFFSET(Potencia!J208,0,($L$1-1)*10)","v":"-"},{"$f":"OFFSET(Potencia!K208,0,($L$1-1)*10)","v":"-"},{"$f":"OFFSET(Potencia!L208,0,($L$1-1)*10)","v":"-"}]
[null,"Residuos renovables",{"$f":"OFFSET(Potencia!C209,0,($L$1-1)*10)","v":27.174500000000002},{"$f":"OFFSET(Potencia!D209,0,($L$1-1)*10)","v":27.174500000000002},{"$f":"OFFSET(Potencia!E209,0,($L$1-1)*10)","v":27.174500000000002},{"$f":"OFFSET(Potencia!F209,0,($L$1-1)*10)","v":27.174500000000002},{"$f":"OFFSET(Potencia!G209,0,($L$1-1)*10)","v":27.174500000000002},{"$f":"OFFSET(Potencia!H209,0,($L$1-1)*10)","v":27.174500000000002},{"$f":"OFFSET(Potencia!I209,0,($L$1-1)*10)","v":"-"},{"$f":"OFFSET(Potencia!J209,0,($L$1-1)*10)","v":"-"},{"$f":"OFFSET(Potencia!K209,0,($L$1-1)*10)","v":"-"},{"$f":"OFFSET(Potencia!L209,0,($L$1-1)*10)","v":"-"}]
[null,"Total",{"$f":"OFFSET(Potencia!C210,0,($L$1-1)*10)","v":12335.111949999999},{"$f":"OFFSET(Potencia!D210,0,($L$1-1)*10)","v":12294.028049999999},{"$f":"OFFSET(Potencia!E210,0,($L$1-1)*10)","v":12261.211929999999},{"$f":"OFFSET(Potencia!F210,0,($L$1-1)*10)","v":11874.917779999998},{"$f":"OFFSET(Potencia!G210,0,($L$1-1)*10)","v":11855.89985},{"$f":"OFFSET(Potencia!H210,0,($L$1-1)*10)","v":11858.565499999999},{"$f":"OFFSET(Potencia!I210,0,($L$1-1)*10)","v":"-"},{"$f":"OFFSET(Potencia!J210,0,($L$1-1)*10)","v":"-"},{"$f":"OFFSET(Potencia!K210,0,($L$1-1)*10)","v":"-"},{"$f":"OFFSET(Potencia!L210,0,($L$1-1)*10)","v":"-"}]
[null,"(1) Otras renovables incluyen biogás, biomasa, hidráulica marina y geotérmica."]
[null,"Datos a 31 de diciembre."]
[null,{"$f":"IF(L1=1,IF(MONTH(FACT)=1,\"\",(CONCATENATE(\"(*) Para el año \",YEAR(FACT), \" datos a \",TEXT(FACT-30,\"mmmm\"),\" de \",YEAR(FACT),\".\"))),\"\")","v":"(*) Para el año 2020 datos a abril de 2020."}]
[]
[]
[]
[null,{"$f":"IF(L1=2,IF(MONTH(FACT)=1,\"\",(CONCATENATE(\"(*) Para el año \",YEAR(FACT), \" datos a \",TEXT(FACT-30,\"mmmm\"),\" de \",YEAR(FACT),\".\"))),\"\")","v":""}]

{"sheet":"Potencia Extremadura","index":15,"n_rows":30,"n_cols":12,"rows_kept":30,"cut":false,"hidden":false,"merged":[[29,1,29,11],[39,1,39,8],[23,1,23,6],[24,1,24,6],[25,1,25,6]]}
[null,null,null,null,null,null,null,null,null,null,null,1]
[]
[]
[]
[null,null,null,null,null,null,null,null,null,"  Sistema / C.Autónoma"]
[null,null,null,null,null,null,null,null,null,"  Periodo"]
[]
[null,null,{"$f":"OFFSET(Potencia!C212,0,($L$1-1)*10)","v":2015},{"$f":"OFFSET(Potencia!D212,0,($L$1-1)*10)","v":2016},{"$f":"OFFSET(Potencia!E212,0,($L$1-1)*10)","v":2017},{"$f":"OFFSET(Potencia!F212,0,($L$1-1)*10)","v":2018},{"$f":"OFFSET(Potencia!G212,0,($L$1-1)*10)","v":2019},{"$f":"OFFSET(Potencia!H212,0,($L$1-1)*10)","v":2020},{"$f":"OFFSET(Potencia!I212,0,($L$1-1)*10)","v":2021},{"$f":"OFFSET(Potencia!J212,0,($L$1-1)*10)","v":2022},{"$f":"OFFSET(Potencia!K212,0,($L$1-1)*10)","v":2023},{"$f":"OFFSET(Potencia!L212,0,($L$1-1)*10)","v":2024}]
[]
[null,{"$f":"Potencia!B85","v":"Bombeo puro"},{"$f":"OFFSET(Potencia!C213,0,($L$1-1)*10)","v":"-"},{"$f":"OFFSET(Potencia!D213,0,($L$1-1)*10)","v":"-"},{"$f":"OFFSET(Potencia!E213,0,($L$1-1)*10)","v":"-"},{"$f":"OFFSET(Potencia!F213,0,($L$1-1)*10)","v":"-"},{"$f":"OFFSET(Potencia!G213,0,($L$1-1)*10)","v":"-"},{"$f":"OFFSET(Potencia!H213,0,($L$1-1)*10)","v":"-"},{"$f":"OFFSET(Potencia!I213,0,($L$1-1)*10)","v":"-"},{"$f":"OFFSET(Potencia!J213,0,($L$1-1)*10)","v":"-"},{"$f":"OFFSET(Potencia!K213,0,($L$1-1)*10)","v":"-"},{"$f":"OFFSET(Potencia!L213,0,($L$1-1)*10)","v":"-"}]
[null,{"$f":"Potencia!B86","v":"Hidráulica convencional y mixta"},{"$f":"OFFSET(Potencia!C214,0,($L$1-1)*10)","v":2277.8123000000001},{"$f":"OFFSET(Potencia!D214,0,($L$1-1)*10)","v":2277.8123000000001},{"$f":"OFFSET(Potencia!E214,0,($L$1-1)*10)","v":2277.8123000000001},{"$f":"OFFSET(Potencia!F214,0,($L$1-1)*10)","v":2277.8123000000001},{"$f":"OFFSET(Potencia!G214,0,($L$1-1)*10)","v":2277.8123000000001},{"$f":"OFFSET(Potencia!H214,0,($L$1-1)*10)","v":2277.8123000000001},{"$f":"OFFSET(Potencia!I214,0,($L$1-1)*10)","v":"-"},{"$f":"OFFSET(Potencia!J214,0,($L$1-1)*10)","v":"-"},{"$f":"OFFSET(Potencia!K214,0,($L$1-1)*10)","v":"-"},{"$f":"OFFSET(Potencia!L214,0,($L$1-1)*10)","v":"-"}]
[null,{"$f":"Potencia!B87","v":"Nuclear"},{"$f":"OFFSET(Potencia!C215,0,($L$1-1)*10)","v":2017.13},{"$f":"OFFSET(Potencia!D215,0,($L$1-1)*10)","v":2017.13},{"$f":"OFFSET(Potencia!E215,0,($L$1-1)*10)","v":2017.13},{"$f":"OFFSET(Potencia!F215,0,($L$1-1)*10)","v":2017.13},{"$f":"OFFSET(Potencia!G215,0,($L$1-1)*10)","v":2017.13},{"$f":"OFFSET(Potencia!H215,0,($L$1-1)*10)","v":2017.13},{"$f":"OFFSET(Potencia!I215,0,($L$1-1)*10)","v":"-"},{"$f":"OFFSET(Potencia!J215,0,($L$1-1)*10)","v":"-"},{"$f":"OFFSET(Potencia!K215,0,($L$1-1)*10)","v":"-"},{"$f":"OFFSET(Potencia!L215,0,($L$1-1)*10)","v":"-"}]
[null,{"$f":"Potencia!B88","v":"Carbón"},{"$f":"OFFSET(Potencia!C216,0,($L$1-1)*10)","v":"-"},{"$f":"OFFSET(Potencia!D216,0,($L$1-1)*10)","v":"-"},{"$f":"OFFSET(Potencia!E216,0,($L$1-1)*10)","v":"-"},{"$f":"OFFSET(Potencia!F216,0,($L$1-1)*10)","v":"-"},{"$f":"OFFSET(Potencia!G216,0,($L$1-1)*10)","v":"-"},{"$f":"OFFSET(Potencia!H216,0,($L$1-1)*10)","v":"-"},{"$f":"OFFSET(Potencia!I216,0,($L$1-1)*10)","v":"-"},{"$f":"OFFSET(Potencia!J216,0,($L$1-1)*10)","v":"-"},{"$f":"OFFSET(Potencia!K216,0,($L$1-1)*10)","v":"-"},{"$f":"OFFSET(Potencia!L216,0,($L$1-1)*10)","v":"-"}]
[null,{"$f":"Potencia!B89","v":"Fuel + Gas"},{"$f":"OFFSET(Potencia!C217,0,($L$1-1)*10)","v":"-"},{"$f":"OFFSET(Potencia!D217,0,($L$1-1)*10)","v":"-"},{"$f":"OFFSET(Potencia!E217,0,($L$1-1)*10)","v":"-"},{"$f":"OFFSET(Potencia!F217,0,($L$1-1)*10)","v":"-"},{"$f":"OFFSET(Potencia!G217,0,($L$1-1)*10)","v":"-"},{"$f":"OFFSET(Potencia!H217,0,($L$1-1)*10)","v":"-"},{"$f":"OFFSET(Potencia!I217,0,($L$1-1)*10)","v":"-"},{"$f":"OFFSET(Potencia!J217,0,($L$1-1)*10)","v":"-"},{"$f":"OFFSET(Potencia!K217,0,($L$1-1)*10)","v":"-"},{"$f":"OFFSET(Potencia!L217,0,($L$1-1)*10)","v":"-"}]
[null,{"$f":"Potencia!B90","v":"Ciclo combinado"},{"$f":"OFFSET(Potencia!C218,0,($L$1-1)*10)","v":"-"},{"$f":"OFFSET(Potencia!D218,0,($L$1-1)*10)","v":"-"},{"$f":"OFFSET(Potencia!E218,0,($L$1-1)*10)","v":"-"},{"$f":"OFFSET(Potencia!F218,0,($L$1-1)*10)","v":"-"},{"$f":"OFFSET(Potencia!G218,0,($L$1-1)*10)","v":"-"},{"$f":"OFFSET(Potencia!H218,0,($L$1-1)*10)","v":"-"},{"$f":"OFFSET(Potencia!I218,0,($L$1-1)*10)","v":"-"},{"$f":"OFFSET(Potencia!J218,0,($L$1-1)*10)","v":"-"},{"$f":"OFFSET(Potencia!K218,0,($L$1-1)*10)","v":"-"},{"$f":"OFFSET(Potencia!L218,0,($L$1-1)*10)","v":"-"}]
[null,{"$f":"Potencia!B91","v":"Eólica"},{"$f":"OFFSET(Potencia!C219,0,($L$1-1)*10)","v":"-"},{"$f":"OFFSET(Potencia!D219,0,($L$1-1)*10)","v":"-"},{"$f":"OFFSET(Potencia!E219,0,($L$1-1)*10)","v":"-"},{"$f":"OFFSET(Potencia!F219,0,($L$1-1)*10)","v":"-"},{"$f":"OFFSET(Potencia!G219,0,($L$1-1)*10)","v":39.375},{"$f":"OFFSET(Potencia!H219,0,($L$1-1)*10)","v":39.375},{"$f":"OFFSET(Potencia!I219,0,($L$1-1)*10)","v":"-"},{"$f":"OFFSET(Potencia!J219,0,($L$1-1)*10)","v":"-"},{"$f":"OFFSET(Potencia!K219,0,($L$1-1)*10)","v":"-"},{"$f":"OFFSET(Potencia!L219,0,($L$1-1)*10)","v":"-"}]
[null,{"$f":"Potencia!B92","v":"Solar fotovoltaica"},{"$f":"OFFSET(Potencia!C220,0,($L$1-1)*10)","v":563.79798400001152},{"$f":"OFFSET(Potencia!D220,0,($L$1-1)*10)","v":563.79798400001152},{"$f":"OFFSET(Potencia!E220,0,($L$1-1)*10)","v":563.81490400001144},{"$f":"OFFSET(Potencia!F220,0,($L$1-1)*10)","v":563.83580400001154},{"$f":"OFFSET(Potencia!G220,0,($L$1-1)*10)","v":1247.1097640000107},{"$f":"OFFSET(Potencia!H220,0,($L$1-1)*10)","v":1247.1097640000107},{"$f":"OFFSET(Potencia!I220,0,($L$1-1)*10)","v":"-"},{"$f":"OFFSET(Potencia!J220,0,($L$1-1)*10)","v":"-"},{"$f":"OFFSET(Potencia!K220,0,($L$1-1)*10)","v":"-"},{"$f":"OFFSET(Potencia!L220,0,($L$1-1)*10)","v":"-"}]
[null,{"$f":"Potencia!B93","v":"Solar térmica"},{"$f":"OFFSET(Potencia!C221,0,($L$1-1)*10)","v":848.99999999999989},{"$f":"OFFSET(Potencia!D221,0,($L$1-1)*10)","v":848.99999999999989},{"$f":"OFFSET(Potencia!E221,0,($L$1-1)*10)","v":848.99999999999989},{"$f":"OFFSET(Potencia!F221,0,($L$1-1)*10)","v":848.99999999999989},{"$f":"OFFSET(Potencia!G221,0,($L$1-1)*10)","v":848.99999999999989},{"$f":"OFFSET(Potencia!H221,0,($L$1-1)*10)","v":848.99999999999989},{"$f":"OFFSET(Potencia!I221,0,($L$1-1)*10)","v":"-"},{"$f":"OFFSET(Potencia!J221,0,($L$1-1)*10)","v":"-"},{"$f":"OFFSET(Potencia!K221,0,($L$1-1)*10)","v":"-"},{"$f":"OFFSET(Potencia!L221,0,($L$1-1)*10)","v":"-"}]
[null,"Otras renovables (1)",{"$f":"OFFSET(Potencia!C222,0,($L$1-1)*10)","v":35.799999999999997},{"$f":"OFFSET(Potencia!D222,0,($L$1-1)*10)","v":35.799999999999997},{"$f":"OFFSET(Potencia!E222,0,($L$1-1)*10)","v":35.799999999999997},{"$f":"OFFSET(Potencia!F222,0,($L$1-1)*10)","v":35.799999999999997},{"$f":"OFFSET(Potencia!G222,0,($L$1-1)*10)","v":35.799999999999997},{"$f":"OFFSET(Potencia!H222,0,($L$1-1)*10)","v":35.799999999999997},{"$f":"OFFSET(Potencia!I222,0,($L$1-1)*10)","v":"-"},{"$f":"OFFSET(Potencia!J222,0,($L$1-1)*10)","v":"-"},{"$f":"OFFSET(Potencia!K222,0,($L$1-1)*10)","v":"-"},{"$f":"OFFSET(Potencia!L222,0,($L$1-1)*10)","v":"-"}]
[null,"Cogeneración",{"$f":"OFFSET(Potencia!C223,0,($L$1-1)*10)","v":18.077000000000002},{"$f":"OFFSET(Potencia!D223,0,($L$1-1)*10)","v":18.077000000000002},{"$f":"OFFSET(Potencia!E223,0,($L$1-1)*10)","v":18.077000000000002},{"$f":"OFFSET(Potencia!F223,0,($L$1-1)*10)","v":18.077000000000002},{"$f":"OFFSET(Potencia!G223,0,($L$1-1)*10)","v":18.077000000000002},{"$f":"OFFSET(Potencia!H223,0,($L$1-1)*10)","v":18.077000000000002},{"$f":"OFFSET(Potencia!I223,0,($L$1-1)*10)","v":"-"},{"$f":"OFFSET(Potencia!J223,0,($L$1-1)*10)","v":"-"},{"$f":"OFFSET(Potencia!K223,0,($L$1-1)*10)","v":"-"},{"$f":"OFFSET(Potencia!L223,0,($L$1-1)*10)","v":"-"}]
[null,"Residuos no renovables",{"$f":"OFFSET(Potencia!C224,0,($L$1-1)*10)","v":"-"},{"$f":"OFFSET(Potencia!D224,0,($L$1-1)*10)","v":"-"},{"$f":"OFFSET(Potencia!E224,0,($L$1-1)*10)","v":"-"},{"$f":"OFFSET(Potencia!F224,0,($L$1-1)*10)","v":"-"},{"$f":"OFFSET(Potencia!G224,0,($L$1-1)*10)","v":"-"},{"$f":"OFFSET(Potencia!H224,0,($L$1-1)*10)","v":"-"},{"$f":"OFFSET(Potencia!I224,0,($L$1-1)*10)","v":"-"},{"$f":"OFFSET(Potencia!J224,0,($L$1-1)*10)","v":"-"},{"$f":"OFFSET(Potencia!K224,0,($L$1-1)*10)","v":"-"},{"$f":"OFFSET(Potencia!L224,0,($L$1-1)*10)","v":"-"}]
[null,"Residuos renovables",{"$f":"OFFSET(Potencia!C225,0,($L$1-1)*10)","v":"-"},{"$f":"OFFSET(Potencia!D225,0,($L$1-1)*10)","v":"-"},{"$f":"OFFSET(Potencia!E225,0,($L$1-1)*10)","v":"-"},{"$f":"OFFSET(Potencia!F225,0,($L$1-1)*10)","v":"-"},{"$f":"OFFSET(Potencia!G225,0,($L$1-1)*10)","v":"-"},{"$f":"OFFSET(Potencia!H225,0,($L$1-1)*10)","v":"-"},{"$f":"OFFSET(Potencia!I225,0,($L$1-1)*10)","v":"-"},{"$f":"OFFSET(Potencia!J225,0,($L$1-1)*10)","v":"-"},{"$f":"OFFSET(Potencia!K225,0,($L$1-1)*10)","v":"-"},{"$f":"OFFSET(Potencia!L225,0,($L$1-1)*10)","v":"-"}]
[null,"Total",{"$f":"OFFSET(Potencia!C226,0,($L$1-1)*10)","v":5761.6172840000127},{"$f":"OFFSET(Potencia!D226,0,($L$1-1)*10)","v":5761.6172840000127},{"$f":"OFFSET(Potencia!E226,0,($L$1-1)*10)","v":5761.6342040000127},{"$f":"OFFSET(Potencia!F226,0,($L$1-1)*10)","v":5761.6551040000122},{"$f":"OFFSET(Potencia!G226,0,($L$1-1)*10)","v":6484.3040640000117},{"$f":"OFFSET(Potencia!H226,0,($L$1-1)*10)","v":6484.3040640000117},{"$f":"OFFSET(Potencia!I226,0,($L$1-1)*10)","v":"-"},{"$f":"OFFSET(Potencia!J226,0,($L$1-1)*10)","v":"-"},{"$f":"OFFSET(Potencia!K226,0,($L$1-1)*10)","v":"-"},{"$f":"OFFSET(Potencia!L226,0,($L$1-1)*10)","v":"-"}]
[null,"(1) Otras renovables incluyen biogás, biomasa, hidráulica marina y geotérmica."]
[null,"Datos a 31 de diciembre."]
[null,{"$f":"IF(L1=1,IF(MONTH(FACT)=1,\"\",(CONCATENATE(\"(*) Para el año \",YEAR(FACT), \" datos a \",TEXT(FACT-30,\"mmmm\"),\" de \",YEAR(FACT),\".\"))),\"\")","v":"(*) Para el año 2020 datos a abril de 2020."}]
[]
[]
[]
[null,{"$f":"IF(L1=2,IF(MONTH(FACT)=1,\"\",(CONCATENATE(\"(*) Para el año \",YEAR(FACT), \" datos a \",TEXT(FACT-30,\"mmmm\"),\" de \",YEAR(FACT),\".\"))),\"\")","v":""}]

{"sheet":"Potencia Galicia","index":16,"n_rows":30,"n_cols":12,"rows_kept":30,"cut":false,"hidden":false,"merged":[[29,1,29,11],[39,1,39,8],[23,1,23,6],[24,1,24,6],[25,1,25,6]]}
[null,null,null,null,null,null,null,null,null,null,null,1]
[]
[]
[]
[null,null,null,null,null,null,null,null,null,"  Sistema / C.Autónoma"]
[null,null,null,null,null,null,null,null,null,"  Periodo"]
[]
[null,null,{"$f":"OFFSET(Potencia!C228,0,($L$1-1)*10)","v":2015},{"$f":"OFFSET(Potencia!D228,0,($L$1-1)*10)","v":2016},{"$f":"OFFSET(Potencia!E228,0,($L$1-1)*10)","v":2017},{"$f":"OFFSET(Potencia!F228,0,($L$1-1)*10)","v":2018},{"$f":"OFFSET(Potencia!G228,0,($L$1-1)*10)","v":2019},{"$f":"OFFSET(Potencia!H228,0,($L$1-1)*10)","v":2020},{"$f":"OFFSET(Potencia!I228,0,($L$1-1)*10)","v":2021},{"$f":"OFFSET(Potencia!J228,0,($L$1-1)*10)","v":2022},{"$f":"OFFSET(Potencia!K228,0,($L$1-1)*10)","v":2023},{"$f":"OFFSET(Potencia!L228,0,($L$1-1)*10)","v":2024}]
[]
[null,{"$f":"Potencia!B85","v":"Bombeo puro"},{"$f":"OFFSET(Potencia!C229,0,($L$1-1)*10)","v":"-"},{"$f":"OFFSET(Potencia!D229,0,($L$1-1)*10)","v":"-"},{"$f":"OFFSET(Potencia!E229,0,($L$1-1)*10)","v":"-"},{"$f":"OFFSET(Potencia!F229,0,($L$1-1)*10)","v":"-"},{"$f":"OFFSET(Potencia!G229,0,($L$1-1)*10)","v":"-"},{"$f":"OFFSET(Potencia!H229,0,($L$1-1)*10)","v":"-"},{"$f":"OFFSET(Potencia!I229,0,($L$1-1)*10)","v":"-"},{"$f":"OFFSET(Potencia!J229,0,($L$1-1)*10)","v":"-"},{"$f":"OFFSET(Potencia!K229,0,($L$1-1)*10)","v":"-"},{"$f":"OFFSET(Potencia!L229,0,($L$1-1)*10)","v":"-"}]
[null,{"$f":"Potencia!B86","v":"Hidráulica convencional y mixta"},{"$f":"OFFSET(Potencia!C230,0,($L$1-1)*10)","v":3698.7956900000004},{"$f":"OFFSET(Potencia!D230,0,($L$1-1)*10)","v":3701.5756900000001},{"$f":"OFFSET(Potencia!E230,0,($L$1-1)*10)","v":3701.5756900000001},{"$f":"OFFSET(Potencia!F230,0,($L$1-1)*10)","v":3720.2476900000001},{"$f":"OFFSET(Potencia!G230,0,($L$1-1)*10)","v":3720.2476900000001},{"$f":"OFFSET(Potencia!H230,0,($L$1-1)*10)","v":3720.2476900000001},{"$f":"OFFSET(Potencia!I230,0,($L$1-1)*10)","v":"-"},{"$f":"OFFSET(Potencia!J230,0,($L$1-1)*10)","v":"-"},{"$f":"OFFSET(Potencia!K230,0,($L$1-1)*10)","v":"-"},{"$f":"OFFSET(Potencia!L230,0,($L$1-1)*10)","v":"-"}]
[null,{"$f":"Potencia!B87","v":"Nuclear"},{"$f":"OFFSET(Potencia!C231,0,($L$1-1)*10)","v":"-"},{"$f":"OFFSET(Potencia!D231,0,($L$1-1)*10)","v":"-"},{"$f":"OFFSET(Potencia!E231,0,($L$1-1)*10)","v":"-"},{"$f":"OFFSET(Potencia!F231,0,($L$1-1)*10)","v":"-"},{"$f":"OFFSET(Potencia!G231,0,($L$1-1)*10)","v":"-"},{"$f":"OFFSET(Potencia!H231,0,($L$1-1)*10)","v":"-"},{"$f":"OFFSET(Potencia!I231,0,($L$1-1)*10)","v":"-"},{"$f":"OFFSET(Potencia!J231,0,($L$1-1)*10)","v":"-"},{"$f":"OFFSET(Potencia!K231,0,($L$1-1)*10)","v":"-"},{"$f":"OFFSET(Potencia!L231,0,($L$1-1)*10)","v":"-"}]
[null,{"$f":"Potencia!B88","v":"Carbón"},{"$f":"OFFSET(Potencia!C232,0,($L$1-1)*10)","v":1960.39},{"$f":"OFFSET(Potencia!D232,0,($L$1-1)*10)","v":1960.39},{"$f":"OFFSET(Potencia!E232,0,($L$1-1)*10)","v":1960.39},{"$f":"OFFSET(Potencia!F232,0,($L$1-1)*10)","v":1960.39},{"$f":"OFFSET(Potencia!G232,0,($L$1-1)*10)","v":1960.39},{"$f":"OFFSET(Potencia!H232,0,($L$1-1)*10)","v":1960.39},{"$f":"OFFSET(Potencia!I232,0,($L$1-1)*10)","v":"-"},{"$f":"OFFSET(Potencia!J232,0,($L$1-1)*10)","v":"-"},{"$f":"OFFSET(Potencia!K232,0,($L$1-1)*10)","v":"-"},{"$f":"OFFSET(Potencia!L232,0,($L$1-1)*10)","v":"-"}]
[null,{"$f":"Potencia!B89","v":"Fuel + Gas"},{"$f":"OFFSET(Potencia!C233,0,($L$1-1)*10)","v":"-"},{"$f":"OFFSET(Potencia!D233,0,($L$1-1)*10)","v":"-"},{"$f":"OFFSET(Potencia!E233,0,($L$1-1)*10)","v":"-"},{"$f":"OFFSET(Potencia!F233,0,($L$1-1)*10)","v":"-"},{"$f":"OFFSET(Potencia!G233,0,($L$1-1)*10)","v":"-"},{"$f":"OFFSET(Potencia!H233,0,($L$1-1)*10)","v":"-"},{"$f":"OFFSET(Potencia!I233,0,($L$1-1)*10)","v":"-"},{"$f":"OFFSET(Potencia!J233,0,($L$1-1)*10)","v":"-"},{"$f":"OFFSET(Potencia!K233,0,($L$1-1)*10)","v":"-"},{"$f":"OFFSET(Potencia!L233,0,($L$1-1)*10)","v":"-"}]
[null,{"$f":"Potencia!B90","v":"Ciclo combinado"},{"$f":"OFFSET(Potencia!C234,0,($L$1-1)*10)","v":1246.98},{"$f":"OFFSET(Potencia!D234,0,($L$1-1)*10)","v":1246.98},{"$f":"OFFSET(Potencia!E234,0,($L$1-1)*10)","v":1246.98},{"$f":"OFFSET(Potencia!F234,0,($L$1-1)*10)","v":1246.98},{"$f":"OFFSET(Potencia!G234,0,($L$1-1)*10)","v":1246.98},{"$f":"OFFSET(Potencia!H234,0,($L$1-1)*10)","v":1246.98},{"$f":"OFFSET(Potencia!I234,0,($L$1-1)*10)","v":"-"},{"$f":"OFFSET(Potencia!J234,0,($L$1-1)*10)","v":"-"},{"$f":"OFFSET(Potencia!K234,0,($L$1-1)*10)","v":"-"},{"$f":"OFFSET(Potencia!L234,0,($L$1-1)*10)","v":"-"}]
[null,{"$f":"Potencia!B91","v":"Eólica"},{"$f":"OFFSET(Potencia!C235,0,($L$1-1)*10)","v":3333.6770000000006},{"$f":"OFFSET(Potencia!D235,0,($L$1-1)*10)","v":3336.0950000000007},{"$f":"OFFSET(Potencia!E235,0,($L$1-1)*10)","v":3343.1700000000005},{"$f":"OFFSET(Potencia!F235,0,($L$1-1)*10)","v":3411.170000000001},{"$f":"OFFSET(Potencia!G235,0,($L$1-1)*10)","v":3805.1650000000009},{"$f":"OFFSET(Potencia!H235,0,($L$1-1)*10)","v":3805.1650000000009},{"$f":"OFFSET(Potencia!I235,0,($L$1-1)*10)","v":"-"},{"$f":"OFFSET(Potencia!J235,0,($L$1-1)*10)","v":"-"},{"$f":"OFFSET(Potencia!K235,0,($L$1-1)*10)","v":"-"},{"$f":"OFFSET(Potencia!L235,0,($L$1-1)*10)","v":"-"}]
[null,{"$f":"Potencia!B92","v":"Solar fotovoltaica"},{"$f":"OFFSET(Potencia!C236,0,($L$1-1)*10)","v":16.402789999999978},{"$f":"OFFSET(Potencia!D236,0,($L$1-1)*10)","v":16.605189999999979},{"$f":"OFFSET(Potencia!E236,0,($L$1-1)*10)","v":16.609824999999979},{"$f":"OFFSET(Potencia!F236,0,($L$1-1)*10)","v":16.59610499999998},{"$f":"OFFSET(Potencia!G236,0,($L$1-1)*10)","v":18.09610499999998},{"$f":"OFFSET(Potencia!H236,0,($L$1-1)*10)","v":18.09900499999998},{"$f":"OFFSET(Potencia!I236,0,($L$1-1)*10)","v":"-"},{"$f":"OFFSET(Potencia!J236,0,($L$1-1)*10)","v":"-"},{"$f":"OFFSET(Potencia!K236,0,($L$1-1)*10)","v":"-"},{"$f":"OFFSET(Potencia!L236,0,($L$1-1)*10)","v":"-"}]
[null,{"$f":"Potencia!B93","v":"Solar térmica"},{"$f":"OFFSET(Potencia!C237,0,($L$1-1)*10)","v":"-"},{"$f":"OFFSET(Potencia!D237,0,($L$1-1)*10)","v":"-"},{"$f":"OFFSET(Potencia!E237,0,($L$1-1)*10)","v":"-"},{"$f":"OFFSET(Potencia!F237,0,($L$1-1)*10)","v":"-"},{"$f":"OFFSET(Potencia!G237,0,($L$1-1)*10)","v":"-"},{"$f":"OFFSET(Potencia!H237,0,($L$1-1)*10)","v":"-"},{"$f":"OFFSET(Potencia!I237,0,($L$1-1)*10)","v":"-"},{"$f":"OFFSET(Potencia!J237,0,($L$1-1)*10)","v":"-"},{"$f":"OFFSET(Potencia!K237,0,($L$1-1)*10)","v":"-"},{"$f":"OFFSET(Potencia!L237,0,($L$1-1)*10)","v":"-"}]
[null,"Otras renovables (1)",{"$f":"OFFSET(Potencia!C238,0,($L$1-1)*10)","v":64.221000000000004},{"$f":"OFFSET(Potencia!D238,0,($L$1-1)*10)","v":64.221000000000004},{"$f":"OFFSET(Potencia!E238,0,($L$1-1)*10)","v":65.821000000000012},{"$f":"OFFSET(Potencia!F238,0,($L$1-1)*10)","v":65.821000000000012},{"$f":"OFFSET(Potencia!G238,0,($L$1-1)*10)","v":115.73400000000001},{"$f":"OFFSET(Potencia!H238,0,($L$1-1)*10)","v":115.73400000000001},{"$f":"OFFSET(Potencia!I238,0,($L$1-1)*10)","v":"-"},{"$f":"OFFSET(Potencia!J238,0,($L$1-1)*10)","v":"-"},{"$f":"OFFSET(Potencia!K238,0,($L$1-1)*10)","v":"-"},{"$f":"OFFSET(Potencia!L238,0,($L$1-1)*10)","v":"-"}]
[null,"Cogeneración",{"$f":"OFFSET(Potencia!C239,0,($L$1-1)*10)","v":537.41559999999993},{"$f":"OFFSET(Potencia!D239,0,($L$1-1)*10)","v":509.56860000000006},{"$f":"OFFSET(Potencia!E239,0,($L$1-1)*10)","v":493.94560000000001},{"$f":"OFFSET(Potencia!F239,0,($L$1-1)*10)","v":493.94560000000001},{"$f":"OFFSET(Potencia!G239,0,($L$1-1)*10)","v":483.65060000000005},{"$f":"OFFSET(Potencia!H239,0,($L$1-1)*10)","v":483.65060000000005},{"$f":"OFFSET(Potencia!I239,0,($L$1-1)*10)","v":"-"},{"$f":"OFFSET(Potencia!J239,0,($L$1-1)*10)","v":"-"},{"$f":"OFFSET(Potencia!K239,0,($L$1-1)*10)","v":"-"},{"$f":"OFFSET(Potencia!L239,0,($L$1-1)*10)","v":"-"}]
[null,"Residuos no renovables",{"$f":"OFFSET(Potencia!C240,0,($L$1-1)*10)","v":40.68},{"$f":"OFFSET(Potencia!D240,0,($L$1-1)*10)","v":40.68},{"$f":"OFFSET(Potencia!E240,0,($L$1-1)*10)","v":40.68},{"$f":"OFFSET(Potencia!F240,0,($L$1-1)*10)","v":40.68},{"$f":"OFFSET(Potencia!G240,0,($L$1-1)*10)","v":40.68},{"$f":"OFFSET(Potencia!H240,0,($L$1-1)*10)","v":40.68},{"$f":"OFFSET(Potencia!I240,0,($L$1-1)*10)","v":"-"},{"$f":"OFFSET(Potencia!J240,0,($L$1-1)*10)","v":"-"},{"$f":"OFFSET(Potencia!K240,0,($L$1-1)*10)","v":"-"},{"$f":"OFFSET(Potencia!L240,0,($L$1-1)*10)","v":"-"}]
[null,"Residuos renovables",{"$f":"OFFSET(Potencia!C241,0,($L$1-1)*10)","v":25},{"$f":"OFFSET(Potencia!D241,0,($L$1-1)*10)","v":25},{"$f":"OFFSET(Potencia!E241,0,($L$1-1)*10)","v":25},{"$f":"OFFSET(Potencia!F241,0,($L$1-1)*10)","v":25},{"$f":"OFFSET(Potencia!G241,0,($L$1-1)*10)","v":25},{"$f":"OFFSET(Potencia!H241,0,($L$1-1)*10)","v":25},{"$f":"OFFSET(Potencia!I241,0,($L$1-1)*10)","v":"-"},{"$f":"OFFSET(Potencia!J241,0,($L$1-1)*10)","v":"-"},{"$f":"OFFSET(Potencia!K241,0,($L$1-1)*10)","v":"-"},{"$f":"OFFSET(Potencia!L241,0,($L$1-1)*10)","v":"-"}]
[null,"Total",{"$f":"OFFSET(Potencia!C242,0,($L$1-1)*10)","v":10923.562080000002},{"$f":"OFFSET(Potencia!D242,0,($L$1-1)*10)","v":10901.115480000002},{"$f":"OFFSET(Potencia!E242,0,($L$1-1)*10)","v":10894.172115000001},{"$f":"OFFSET(Potencia!F242,0,($L$1-1)*10)","v":10980.830395000001},{"$f":"OFFSET(Potencia!G242,0,($L$1-1)*10)","v":11415.943395000004},{"$f":"OFFSET(Potencia!H242,0,($L$1-1)*10)","v":11415.946295000003},{"$f":"OFFSET(Potencia!I242,0,($L$1-1)*10)","v":"-"},{"$f":"OFFSET(Potencia!J242,0,($L$1-1)*10)","v":"-"},{"$f":"OFFSET(Potencia!K242,0,($L$1-1)*10)","v":"-"},{"$f":"OFFSET(Potencia!L242,0,($L$1-1)*10)","v":"-"}]
[null,"(1) Otras renovables incluyen biogás, biomasa, hidráulica marina y geotérmica."]
[null,"Datos a 31 de diciembre."]
[null,{"$f":"IF(L1=1,IF(MONTH(FACT)=1,\"\",(CONCATENATE(\"(*) Para el año \",YEAR(FACT), \" datos a \",TEXT(FACT-30,\"mmmm\"),\" de \",YEAR(FACT),\".\"))),\"\")","v":"(*) Para el año 2020 datos a abril de 2020."}]
[]
[]
[]
[null,{"$f":"IF(L1=2,IF(MONTH(FACT)=1,\"\",(CONCATENATE(\"(*) Para el año \",YEAR(FACT), \" datos a \",TEXT(FACT-30,\"mmmm\"),\" de \",YEAR(FACT),\".\"))),\"\")","v":""}]

{"sheet":"Potencia La Rioja","index":17,"n_rows":30,"n_cols":12,"rows_kept":30,"cut":false,"hidden":false,"merged":[[29,1,29,11],[39,1,39,8],[23,1,23,6],[24,1,24,6],[25,1,25,6]]}
[null,null,null,null,null,null,null,null,null,null,null,1]
[]
[]
[]
[null,null,null,null,null,null,null,null,null,"  Sistema / C.Autónoma"]
[null,null,null,null,null,null,null,null,null,"  Periodo"]
[]
[null,null,{"$f":"OFFSET(Potencia!C244,0,($L$1-1)*10)","v":2015},{"$f":"OFFSET(Potencia!D244,0,($L$1-1)*10)","v":2016},{"$f":"OFFSET(Potencia!E244,0,($L$1-1)*10)","v":2017},{"$f":"OFFSET(Potencia!F244,0,($L$1-1)*10)","v":2018},{"$f":"OFFSET(Potencia!G244,0,($L$1-1)*10)","v":2019},{"$f":"OFFSET(Potencia!H244,0,($L$1-1)*10)","v":2020},{"$f":"OFFSET(Potencia!I244,0,($L$1-1)*10)","v":2021},{"$f":"OFFSET(Potencia!J244,0,($L$1-1)*10)","v":2022},{"$f":"OFFSET(Potencia!K244,0,($L$1-1)*10)","v":2023},{"$f":"OFFSET(Potencia!L244,0,($L$1-1)*10)","v":2024}]
[]
[null,{"$f":"Potencia!B85","v":"Bombeo puro"},{"$f":"OFFSET(Potencia!C245,0,($L$1-1)*10)","v":"-"},{"$f":"OFFSET(Potencia!D245,0,($L$1-1)*10)","v":"-"},{"$f":"OFFSET(Potencia!E245,0,($L$1-1)*10)","v":"-"},{"$f":"OFFSET(Potencia!F245,0,($L$1-1)*10)","v":"-"},{"$f":"OFFSET(Potencia!G245,0,($L$1-1)*10)","v":"-"},{"$f":"OFFSET(Potencia!H245,0,($L$1-1)*10)","v":"-"},{"$f":"OFFSET(Potencia!I245,0,($L$1-1)*10)","v":"-"},{"$f":"OFFSET(Potencia!J245,0,($L$1-1)*10)","v":"-"},{"$f":"OFFSET(Potencia!K245,0,($L$1-1)*10)","v":"-"},{"$f":"OFFSET(Potencia!L245,0,($L$1-1)*10)","v":"-"}]
[null,{"$f":"Potencia!B86","v":"Hidráulica convencional y mixta"},{"$f":"OFFSET(Potencia!C246,0,($L$1-1)*10)","v":52.205539999999999},{"$f":"OFFSET(Potencia!D246,0,($L$1-1)*10)","v":52.205539999999999},{"$f":"OFFSET(Potencia!E246,0,($L$1-1)*10)","v":52.205539999999999},{"$f":"OFFSET(Potencia!F246,0,($L$1-1)*10)","v":52.205539999999999},{"$f":"OFFSET(Potencia!G246,0,($L$1-1)*10)","v":52.205539999999999},{"$f":"OFFSET(Potencia!H246,0,($L$1-1)*10)","v":52.205539999999999},{"$f":"OFFSET(Potencia!I246,0,($L$1-1)*10)","v":"-"},{"$f":"OFFSET(Potencia!J246,0,($L$1-1)*10)","v":"-"},{"$f":"OFFSET(Potencia!K246,0,($L$1-1)*10)","v":"-"},{"$f":"OFFSET(Potencia!L246,0,($L$1-1)*10)","v":"-"}]
[null,{"$f":"Potencia!B87","v":"Nuclear"},{"$f":"OFFSET(Potencia!C247,0,($L$1-1)*10)","v":"-"},{"$f":"OFFSET(Potencia!D247,0,($L$1-1)*10)","v":"-"},{"$f":"OFFSET(Potencia!E247,0,($L$1-1)*10)","v":"-"},{"$f":"OFFSET(Potencia!F247,0,($L$1-1)*10)","v":"-"},{"$f":"OFFSET(Potencia!G247,0,($L$1-1)*10)","v":"-"},{"$f":"OFFSET(Potencia!H247,0,($L$1-1)*10)","v":"-"},{"$f":"OFFSET(Potencia!I247,0,($L$1-1)*10)","v":"-"},{"$f":"OFFSET(Potencia!J247,0,($L$1-1)*10)","v":"-"},{"$f":"OFFSET(Potencia!K247,0,($L$1-1)*10)","v":"-"},{"$f":"OFFSET(Potencia!L247,0,($L$1-1)*10)","v":"-"}]
[null,{"$f":"Potencia!B88","v":"Carbón"},{"$f":"OFFSET(Potencia!C248,0,($L$1-1)*10)","v":"-"},{"$f":"OFFSET(Potencia!D248,0,($L$1-1)*10)","v":"-"},{"$f":"OFFSET(Potencia!E248,0,($L$1-1)*10)","v":"-"},{"$f":"OFFSET(Potencia!F248,0,($L$1-1)*10)","v":"-"},{"$f":"OFFSET(Potencia!G248,0,($L$1-1)*10)","v":"-"},{"$f":"OFFSET(Potencia!H248,0,($L$1-1)*10)","v":"-"},{"$f":"OFFSET(Potencia!I248,0,($L$1-1)*10)","v":"-"},{"$f":"OFFSET(Potencia!J248,0,($L$1-1)*10)","v":"-"},{"$f":"OFFSET(Potencia!K248,0,($L$1-1)*10)","v":"-"},{"$f":"OFFSET(Potencia!L248,0,($L$1-1)*10)","v":"-"}]
[null,{"$f":"Potencia!B89","v":"Fuel + Gas"},{"$f":"OFFSET(Potencia!C249,0,($L$1-1)*10)","v":"-"},{"$f":"OFFSET(Potencia!D249,0,($L$1-1)*10)","v":"-"},{"$f":"OFFSET(Potencia!E249,0,($L$1-1)*10)","v":"-"},{"$f":"OFFSET(Potencia!F249,0,($L$1-1)*10)","v":"-"},{"$f":"OFFSET(Potencia!G249,0,($L$1-1)*10)","v":"-"},{"$f":"OFFSET(Potencia!H249,0,($L$1-1)*10)","v":"-"},{"$f":"OFFSET(Potencia!I249,0,($L$1-1)*10)","v":"-"},{"$f":"OFFSET(Potencia!J249,0,($L$1-1)*10)","v":"-"},{"$f":"OFFSET(Potencia!K249,0,($L$1-1)*10)","v":"-"},{"$f":"OFFSET(Potencia!L249,0,($L$1-1)*10)","v":"-"}]
[null,{"$f":"Potencia!B90","v":"Ciclo combinado"},{"$f":"OFFSET(Potencia!C250,0,($L$1-1)*10)","v":784.7},{"$f":"OFFSET(Potencia!D250,0,($L$1-1)*10)","v":784.7},{"$f":"OFFSET(Potencia!E250,0,($L$1-1)*10)","v":784.7},{"$f":"OFFSET(Potencia!F250,0,($L$1-1)*10)","v":784.7},{"$f":"OFFSET(Potencia!G250,0,($L$1-1)*10)","v":784.7},{"$f":"OFFSET(Potencia!H250,0,($L$1-1)*10)","v":784.7},{"$f":"OFFSET(Potencia!I250,0,($L$1-1)*10)","v":"-"},{"$f":"OFFSET(Potencia!J250,0,($L$1-1)*10)","v":"-"},{"$f":"OFFSET(Potencia!K250,0,($L$1-1)*10)","v":"-"},{"$f":"OFFSET(Potencia!L250,0,($L$1-1)*10)","v":"-"}]
[null,{"$f":"Potencia!B91","v":"Eólica"},{"$f":"OFFSET(Potencia!C251,0,($L$1-1)*10)","v":448.12},{"$f":"OFFSET(Potencia!D251,0,($L$1-1)*10)","v":448.12},{"$f":"OFFSET(Potencia!E251,0,($L$1-1)*10)","v":448.12},{"$f":"OFFSET(Potencia!F251,0,($L$1-1)*10)","v":448.12},{"$f":"OFFSET(Potencia!G251,0,($L$1-1)*10)","v":448.12},{"$f":"OFFSET(Potencia!H251,0,($L$1-1)*10)","v":448.12},{"$f":"OFFSET(Potencia!I251,0,($L$1-1)*10)","v":"-"},{"$f":"OFFSET(Potencia!J251,0,($L$1-1)*10)","v":"-"},{"$f":"OFFSET(Potencia!K251,0,($L$1-1)*10)","v":"-"},{"$f":"OFFSET(Potencia!L251,0,($L$1-1)*10)","v":"-"}]
[null,{"$f":"Potencia!B92","v":"Solar fotovoltaica"},{"$f":"OFFSET(Potencia!C252,0,($L$1-1)*10)","v":85.604179999999758},{"$f":"OFFSET(Potencia!D252,0,($L$1-1)*10)","v":85.604179999999758},{"$f":"OFFSET(Potencia!E252,0,($L$1-1)*10)","v":85.602979999999761},{"$f":"OFFSET(Potencia!F252,0,($L$1-1)*10)","v":85.602979999999761},{"$f":"OFFSET(Potencia!G252,0,($L$1-1)*10)","v":96.602979999999761},{"$f":"OFFSET(Potencia!H252,0,($L$1-1)*10)","v":98.800779999999762},{"$f":"OFFSET(Potencia!I252,0,($L$1-1)*10)","v":"-"},{"$f":"OFFSET(Potencia!J252,0,($L$1-1)*10)","v":"-"},{"$f":"OFFSET(Potencia!K252,0,($L$1-1)*10)","v":"-"},{"$f":"OFFSET(Potencia!L252,0,($L$1-1)*10)","v":"-"}]
[null,{"$f":"Potencia!B93","v":"Solar térmica"},{"$f":"OFFSET(Potencia!C253,0,($L$1-1)*10)","v":"-"},{"$f":"OFFSET(Potencia!D253,0,($L$1-1)*10)","v":"-"},{"$f":"OFFSET(Potencia!E253,0,($L$1-1)*10)","v":"-"},{"$f":"OFFSET(Potencia!F253,0,($L$1-1)*10)","v":"-"},{"$f":"OFFSET(Potencia!G253,0,($L$1-1)*10)","v":"-"},{"$f":"OFFSET(Potencia!H253,0,($L$1-1)*10)","v":"-"},{"$f":"OFFSET(Potencia!I253,0,($L$1-1)*10)","v":"-"},{"$f":"OFFSET(Potencia!J253,0,($L$1-1)*10)","v":"-"},{"$f":"OFFSET(Potencia!K253,0,($L$1-1)*10)","v":"-"},{"$f":"OFFSET(Potencia!L253,0,($L$1-1)*10)","v":"-"}]
[null,"Otras renovables (1)",{"$f":"OFFSET(Potencia!C254,0,($L$1-1)*10)","v":4.2949999999999999},{"$f":"OFFSET(Potencia!D254,0,($L$1-1)*10)","v":3.78},{"$f":"OFFSET(Potencia!E254,0,($L$1-1)*10)","v":4.1269999999999998},{"$f":"OFFSET(Potencia!F254,0,($L$1-1)*10)","v":4.1269999999999998},{"$f":"OFFSET(Potencia!G254,0,($L$1-1)*10)","v":4.1269999999999998},{"$f":"OFFSET(Potencia!H254,0,($L$1-1)*10)","v":3.6269999999999998},{"$f":"OFFSET(Potencia!I254,0,($L$1-1)*10)","v":"-"},{"$f":"OFFSET(Potencia!J254,0,($L$1-1)*10)","v":"-"},{"$f":"OFFSET(Potencia!K254,0,($L$1-1)*10)","v":"-"},{"$f":"OFFSET(Potencia!L254,0,($L$1-1)*10)","v":"-"}]
[null,"Cogeneración",{"$f":"OFFSET(Potencia!C255,0,($L$1-1)*10)","v":43.102999999999994},{"$f":"OFFSET(Potencia!D255,0,($L$1-1)*10)","v":41.712999999999994},{"$f":"OFFSET(Potencia!E255,0,($L$1-1)*10)","v":40.736999999999995},{"$f":"OFFSET(Potencia!F255,0,($L$1-1)*10)","v":22.917000000000005},{"$f":"OFFSET(Potencia!G255,0,($L$1-1)*10)","v":22.917000000000005},{"$f":"OFFSET(Potencia!H255,0,($L$1-1)*10)","v":22.917000000000005},{"$f":"OFFSET(Potencia!I255,0,($L$1-1)*10)","v":"-"},{"$f":"OFFSET(Potencia!J255,0,($L$1-1)*10)","v":"-"},{"$f":"OFFSET(Potencia!K255,0,($L$1-1)*10)","v":"-"},{"$f":"OFFSET(Potencia!L255,0,($L$1-1)*10)","v":"-"}]
[null,"Residuos no renovables",{"$f":"OFFSET(Potencia!C256,0,($L$1-1)*10)","v":"-"},{"$f":"OFFSET(Potencia!D256,0,($L$1-1)*10)","v":"-"},{"$f":"OFFSET(Potencia!E256,0,($L$1-1)*10)","v":"-"},{"$f":"OFFSET(Potencia!F256,0,($L$1-1)*10)","v":"-"},{"$f":"OFFSET(Potencia!G256,0,($L$1-1)*10)","v":"-"},{"$f":"OFFSET(Potencia!H256,0,($L$1-1)*10)","v":"-"},{"$f":"OFFSET(Potencia!I256,0,($L$1-1)*10)","v":"-"},{"$f":"OFFSET(Potencia!J256,0,($L$1-1)*10)","v":"-"},{"$f":"OFFSET(Potencia!K256,0,($L$1-1)*10)","v":"-"},{"$f":"OFFSET(Potencia!L256,0,($L$1-1)*10)","v":"-"}]
[null,"Residuos renovables",{"$f":"OFFSET(Potencia!C257,0,($L$1-1)*10)","v":"-"},{"$f":"OFFSET(Potencia!D257,0,($L$1-1)*10)","v":"-"},{"$f":"OFFSET(Potencia!E257,0,($L$1-1)*10)","v":"-"},{"$f":"OFFSET(Potencia!F257,0,($L$1-1)*10)","v":"-"},{"$f":"OFFSET(Potencia!G257,0,($L$1-1)*10)","v":"-"},{"$f":"OFFSET(Potencia!H257,0,($L$1-1)*10)","v":"-"},{"$f":"OFFSET(Potencia!I257,0,($L$1-1)*10)","v":"-"},{"$f":"OFFSET(Potencia!J257,0,($L$1-1)*10)","v":"-"},{"$f":"OFFSET(Potencia!K257,0,($L$1-1)*10)","v":"-"},{"$f":"OFFSET(Potencia!L257,0,($L$1-1)*10)","v":"-"}]
[null,"Total",{"$f":"OFFSET(Potencia!C258,0,($L$1-1)*10)","v":1418.02772},{"$f":"OFFSET(Potencia!D258,0,($L$1-1)*10)","v":1416.1227199999998},{"$f":"OFFSET(Potencia!E258,0,($L$1-1)*10)","v":1415.4925199999998},{"$f":"OFFSET(Potencia!F258,0,($L$1-1)*10)","v":1397.6725199999996},{"$f":"OFFSET(Potencia!G258,0,($L$1-1)*10)","v":1408.6725199999996},{"$f":"OFFSET(Potencia!H258,0,($L$1-1)*10)","v":1410.3703199999998},{"$f":"OFFSET(Potencia!I258,0,($L$1-1)*10)","v":"-"},{"$f":"OFFSET(Potencia!J258,0,($L$1-1)*10)","v":"-"},{"$f":"OFFSET(Potencia!K258,0,($L$1-1)*10)","v":"-"},{"$f":"OFFSET(Potencia!L258,0,($L$1-1)*10)","v":"-"}]
[null,"(1) Otras renovables incluyen biogás, biomasa, hidráulica marina y geotérmica."]
[null,"Datos a 31 de diciembre."]
[null,{"$f":"IF(L1=1,IF(MONTH(FACT)=1,\"\",(CONCATENATE(\"(*) Para el año \",YEAR(FACT), \" datos a \",TEXT(FACT-30,\"mmmm\"),\" de \",YEAR(FACT),\".\"))),\"\")","v":"(*) Para el año 2020 datos a abril de 2020."}]
[]
[]
[]
[null,{"$f":"IF(L1=2,IF(MONTH(FACT)=1,\"\",(CONCATENATE(\"(*) Para el año \",YEAR(FACT), \" datos a \",TEXT(FACT-30,\"mmmm\"),\" de \",YEAR(FACT),\".\"))),\"\")","v":""}]

{"sheet":"Potencia Madrid","index":18,"n_rows":30,"n_cols":12,"rows_kept":30,"cut":false,"hidden":false,"merged":[[29,1,29,11],[39,1,39,8],[23,1,23,6],[24,1,24,6],[25,1,25,6]]}
[null,null,null,null,null,null,null,null,null,null,null,1]
[]
[]
[]
[null,null,null,null,null,null,null,null,null,"  Sistema / C.Autónoma"]
[null,null,null,null,null,null,null,null,null,"  Periodo"]
[]
[null,null,{"$f":"OFFSET(Potencia!C260,0,($L$1-1)*10)","v":2015},{"$f":"OFFSET(Potencia!D260,0,($L$1-1)*10)","v":2016},{"$f":"OFFSET(Potencia!E260,0,($L$1-1)*10)","v":2017},{"$f":"OFFSET(Potencia!F260,0,($L$1-1)*10)","v":2018},{"$f":"OFFSET(Potencia!G260,0,($L$1-1)*10)","v":2019},{"$f":"OFFSET(Potencia!H260,0,($L$1-1)*10)","v":2020},{"$f":"OFFSET(Potencia!I260,0,($L$1-1)*10)","v":2021},{"$f":"OFFSET(Potencia!J260,0,($L$1-1)*10)","v":2022},{"$f":"OFFSET(Potencia!K260,0,($L$1-1)*10)","v":2023},{"$f":"OFFSET(Potencia!L260,0,($L$1-1)*10)","v":2024}]
[]
[null,{"$f":"Potencia!B85","v":"Bombeo puro"},{"$f":"OFFSET(Potencia!C261,0,($L$1-1)*10)","v":"-"},{"$f":"OFFSET(Potencia!D261,0,($L$1-1)*10)","v":"-"},{"$f":"OFFSET(Potencia!E261,0,($L$1-1)*10)","v":"-"},{"$f":"OFFSET(Potencia!F261,0,($L$1-1)*10)","v":"-"},{"$f":"OFFSET(Potencia!G261,0,($L$1-1)*10)","v":"-"},{"$f":"OFFSET(Potencia!H261,0,($L$1-1)*10)","v":"-"},{"$f":"OFFSET(Potencia!I261,0,($L$1-1)*10)","v":"-"},{"$f":"OFFSET(Potencia!J261,0,($L$1-1)*10)","v":"-"},{"$f":"OFFSET(Potencia!K261,0,($L$1-1)*10)","v":"-"},{"$f":"OFFSET(Potencia!L261,0,($L$1-1)*10)","v":"-"}]
[null,{"$f":"Potencia!B86","v":"Hidráulica convencional y mixta"},{"$f":"OFFSET(Potencia!C262,0,($L$1-1)*10)","v":108.51659999999998},{"$f":"OFFSET(Potencia!D262,0,($L$1-1)*10)","v":108.51659999999998},{"$f":"OFFSET(Potencia!E262,0,($L$1-1)*10)","v":108.51659999999998},{"$f":"OFFSET(Potencia!F262,0,($L$1-1)*10)","v":108.51659999999998},{"$f":"OFFSET(Potencia!G262,0,($L$1-1)*10)","v":108.51659999999998},{"$f":"OFFSET(Potencia!H262,0,($L$1-1)*10)","v":108.51659999999998},{"$f":"OFFSET(Potencia!I262,0,($L$1-1)*10)","v":"-"},{"$f":"OFFSET(Potencia!J262,0,($L$1-1)*10)","v":"-"},{"$f":"OFFSET(Potencia!K262,0,($L$1-1)*10)","v":"-"},{"$f":"OFFSET(Potencia!L262,0,($L$1-1)*10)","v":"-"}]
[null,{"$f":"Potencia!B87","v":"Nuclear"},{"$f":"OFFSET(Potencia!C263,0,($L$1-1)*10)","v":"-"},{"$f":"OFFSET(Potencia!D263,0,($L$1-1)*10)","v":"-"},{"$f":"OFFSET(Potencia!E263,0,($L$1-1)*10)","v":"-"},{"$f":"OFFSET(Potencia!F263,0,($L$1-1)*10)","v":"-"},{"$f":"OFFSET(Potencia!G263,0,($L$1-1)*10)","v":"-"},{"$f":"OFFSET(Potencia!H263,0,($L$1-1)*10)","v":"-"},{"$f":"OFFSET(Potencia!I263,0,($L$1-1)*10)","v":"-"},{"$f":"OFFSET(Potencia!J263,0,($L$1-1)*10)","v":"-"},{"$f":"OFFSET(Potencia!K263,0,($L$1-1)*10)","v":"-"},{"$f":"OFFSET(Potencia!L263,0,($L$1-1)*10)","v":"-"}]
[null,{"$f":"Potencia!B88","v":"Carbón"},{"$f":"OFFSET(Potencia!C264,0,($L$1-1)*10)","v":"-"},{"$f":"OFFSET(Potencia!D264,0,($L$1-1)*10)","v":"-"},{"$f":"OFFSET(Potencia!E264,0,($L$1-1)*10)","v":"-"},{"$f":"OFFSET(Potencia!F264,0,($L$1-1)*10)","v":"-"},{"$f":"OFFSET(Potencia!G264,0,($L$1-1)*10)","v":"-"},{"$f":"OFFSET(Potencia!H264,0,($L$1-1)*10)","v":"-"},{"$f":"OFFSET(Potencia!I264,0,($L$1-1)*10)","v":"-"},{"$f":"OFFSET(Potencia!J264,0,($L$1-1)*10)","v":"-"},{"$f":"OFFSET(Potencia!K264,0,($L$1-1)*10)","v":"-"},{"$f":"OFFSET(Potencia!L264,0,($L$1-1)*10)","v":"-"}]
[null,{"$f":"Potencia!B89","v":"Fuel + Gas"},{"$f":"OFFSET(Potencia!C265,0,($L$1-1)*10)","v":"-"},{"$f":"OFFSET(Potencia!D265,0,($L$1-1)*10)","v":"-"},{"$f":"OFFSET(Potencia!E265,0,($L$1-1)*10)","v":"-"},{"$f":"OFFSET(Potencia!F265,0,($L$1-1)*10)","v":"-"},{"$f":"OFFSET(Potencia!G265,0,($L$1-1)*10)","v":"-"},{"$f":"OFFSET(Potencia!H265,0,($L$1-1)*10)","v":"-"},{"$f":"OFFSET(Potencia!I265,0,($L$1-1)*10)","v":"-"},{"$f":"OFFSET(Potencia!J265,0,($L$1-1)*10)","v":"-"},{"$f":"OFFSET(Potencia!K265,0,($L$1-1)*10)","v":"-"},{"$f":"OFFSET(Potencia!L265,0,($L$1-1)*10)","v":"-"}]
[null,{"$f":"Potencia!B90","v":"Ciclo combinado"},{"$f":"OFFSET(Potencia!C266,0,($L$1-1)*10)","v":"-"},{"$f":"OFFSET(Potencia!D266,0,($L$1-1)*10)","v":"-"},{"$f":"OFFSET(Potencia!E266,0,($L$1-1)*10)","v":"-"},{"$f":"OFFSET(Potencia!F266,0,($L$1-1)*10)","v":"-"},{"$f":"OFFSET(Potencia!G266,0,($L$1-1)*10)","v":"-"},{"$f":"OFFSET(Potencia!H266,0,($L$1-1)*10)","v":"-"},{"$f":"OFFSET(Potencia!I266,0,($L$1-1)*10)","v":"-"},{"$f":"OFFSET(Potencia!J266,0,($L$1-1)*10)","v":"-"},{"$f":"OFFSET(Potencia!K266,0,($L$1-1)*10)","v":"-"},{"$f":"OFFSET(Potencia!L266,0,($L$1-1)*10)","v":"-"}]
[null,{"$f":"Potencia!B91","v":"Eólica"},{"$f":"OFFSET(Potencia!C267,0,($L$1-1)*10)","v":"-"},{"$f":"OFFSET(Potencia!D267,0,($L$1-1)*10)","v":"-"},{"$f":"OFFSET(Potencia!E267,0,($L$1-1)*10)","v":"-"},{"$f":"OFFSET(Potencia!F267,0,($L$1-1)*10)","v":"-"},{"$f":"OFFSET(Potencia!G267,0,($L$1-1)*10)","v":"-"},{"$f":"OFFSET(Potencia!H267,0,($L$1-1)*10)","v":"-"},{"$f":"OFFSET(Potencia!I267,0,($L$1-1)*10)","v":"-"},{"$f":"OFFSET(Potencia!J267,0,($L$1-1)*10)","v":"-"},{"$f":"OFFSET(Potencia!K267,0,($L$1-1)*10)","v":"-"},{"$f":"OFFSET(Potencia!L267,0,($L$1-1)*10)","v":"-"}]
[null,{"$f":"Potencia!B92","v":"Solar fotovoltaica"},{"$f":"OFFSET(Potencia!C268,0,($L$1-1)*10)","v":63.170492000000053},{"$f":"OFFSET(Potencia!D268,0,($L$1-1)*10)","v":63.409282000000047},{"$f":"OFFSET(Potencia!E268,0,($L$1-1)*10)","v":63.439681000000036},{"$f":"OFFSET(Potencia!F268,0,($L$1-1)*10)","v":63.517586000000023},{"$f":"OFFSET(Potencia!G268,0,($L$1-1)*10)","v":63.470686000000001},{"$f":"OFFSET(Potencia!H268,0,($L$1-1)*10)","v":63.470686000000001},{"$f":"OFFSET(Potencia!I268,0,($L$1-1)*10)","v":"-"},{"$f":"OFFSET(Potencia!J268,0,($L$1-1)*10)","v":"-"},{"$f":"OFFSET(Potencia!K268,0,($L$1-1)*10)","v":"-"},{"$f":"OFFSET(Potencia!L268,0,($L$1-1)*10)","v":"-"}]
[null,{"$f":"Potencia!B93","v":"Solar térmica"},{"$f":"OFFSET(Potencia!C269,0,($L$1-1)*10)","v":"-"},{"$f":"OFFSET(Potencia!D269,0,($L$1-1)*10)","v":"-"},{"$f":"OFFSET(Potencia!E269,0,($L$1-1)*10)","v":"-"},{"$f":"OFFSET(Potencia!F269,0,($L$1-1)*10)","v":"-"},{"$f":"OFFSET(Potencia!G269,0,($L$1-1)*10)","v":"-"},{"$f":"OFFSET(Potencia!H269,0,($L$1-1)*10)","v":"-"},{"$f":"OFFSET(Potencia!I269,0,($L$1-1)*10)","v":"-"},{"$f":"OFFSET(Potencia!J269,0,($L$1-1)*10)","v":"-"},{"$f":"OFFSET(Potencia!K269,0,($L$1-1)*10)","v":"-"},{"$f":"OFFSET(Potencia!L269,0,($L$1-1)*10)","v":"-"}]
[null,"Otras renovables (1)",{"$f":"OFFSET(Potencia!C270,0,($L$1-1)*10)","v":42.584000000000003},{"$f":"OFFSET(Potencia!D270,0,($L$1-1)*10)","v":45.084000000000003},{"$f":"OFFSET(Potencia!E270,0,($L$1-1)*10)","v":45.084000000000003},{"$f":"OFFSET(Potencia!F270,0,($L$1-1)*10)","v":45.084000000000003},{"$f":"OFFSET(Potencia!G270,0,($L$1-1)*10)","v":45.084000000000003},{"$f":"OFFSET(Potencia!H270,0,($L$1-1)*10)","v":45.084000000000003},{"$f":"OFFSET(Potencia!I270,0,($L$1-1)*10)","v":"-"},{"$f":"OFFSET(Potencia!J270,0,($L$1-1)*10)","v":"-"},{"$f":"OFFSET(Potencia!K270,0,($L$1-1)*10)","v":"-"},{"$f":"OFFSET(Potencia!L270,0,($L$1-1)*10)","v":"-"}]
[null,"Cogeneración",{"$f":"OFFSET(Potencia!C271,0,($L$1-1)*10)","v":244.64490000000001},{"$f":"OFFSET(Potencia!D271,0,($L$1-1)*10)","v":212.01689999999996},{"$f":"OFFSET(Potencia!E271,0,($L$1-1)*10)","v":212.05189999999996},{"$f":"OFFSET(Potencia!F271,0,($L$1-1)*10)","v":211.06189999999998},{"$f":"OFFSET(Potencia!G271,0,($L$1-1)*10)","v":211.02189999999996},{"$f":"OFFSET(Potencia!H271,0,($L$1-1)*10)","v":211.02189999999996},{"$f":"OFFSET(Potencia!I271,0,($L$1-1)*10)","v":"-"},{"$f":"OFFSET(Potencia!J271,0,($L$1-1)*10)","v":"-"},{"$f":"OFFSET(Potencia!K271,0,($L$1-1)*10)","v":"-"},{"$f":"OFFSET(Potencia!L271,0,($L$1-1)*10)","v":"-"}]
[null,"Residuos no renovables",{"$f":"OFFSET(Potencia!C272,0,($L$1-1)*10)","v":14.9},{"$f":"OFFSET(Potencia!D272,0,($L$1-1)*10)","v":14.9},{"$f":"OFFSET(Potencia!E272,0,($L$1-1)*10)","v":14.9},{"$f":"OFFSET(Potencia!F272,0,($L$1-1)*10)","v":14.9},{"$f":"OFFSET(Potencia!G272,0,($L$1-1)*10)","v":14.9},{"$f":"OFFSET(Potencia!H272,0,($L$1-1)*10)","v":14.9},{"$f":"OFFSET(Potencia!I272,0,($L$1-1)*10)","v":"-"},{"$f":"OFFSET(Potencia!J272,0,($L$1-1)*10)","v":"-"},{"$f":"OFFSET(Potencia!K272,0,($L$1-1)*10)","v":"-"},{"$f":"OFFSET(Potencia!L272,0,($L$1-1)*10)","v":"-"}]
[null,"Residuos renovables",{"$f":"OFFSET(Potencia!C273,0,($L$1-1)*10)","v":14.9},{"$f":"OFFSET(Potencia!D273,0,($L$1-1)*10)","v":14.9},{"$f":"OFFSET(Potencia!E273,0,($L$1-1)*10)","v":14.9},{"$f":"OFFSET(Potencia!F273,0,($L$1-1)*10)","v":14.9},{"$f":"OFFSET(Potencia!G273,0,($L$1-1)*10)","v":14.9},{"$f":"OFFSET(Potencia!H273,0,($L$1-1)*10)","v":14.9},{"$f":"OFFSET(Potencia!I273,0,($L$1-1)*10)","v":"-"},{"$f":"OFFSET(Potencia!J273,0,($L$1-1)*10)","v":"-"},{"$f":"OFFSET(Potencia!K273,0,($L$1-1)*10)","v":"-"},{"$f":"OFFSET(Potencia!L273,0,($L$1-1)*10)","v":"-"}]
[null,"Total",{"$f":"OFFSET(Potencia!C274,0,($L$1-1)*10)","v":488.71599200000003},{"$f":"OFFSET(Potencia!D274,0,($L$1-1)*10)","v":458.82678199999998},{"$f":"OFFSET(Potencia!E274,0,($L$1-1)*10)","v":458.89218099999994},{"$f":"OFFSET(Potencia!F274,0,($L$1-1)*10)","v":457.98008599999991},{"$f":"OFFSET(Potencia!G274,0,($L$1-1)*10)","v":457.8931859999999},{"$f":"OFFSET(Potencia!H274,0,($L$1-1)*10)","v":457.8931859999999},{"$f":"OFFSET(Potencia!I274,0,($L$1-1)*10)","v":"-"},{"$f":"OFFSET(Potencia!J274,0,($L$1-1)*10)","v":"-"},{"$f":"OFFSET(Potencia!K274,0,($L$1-1)*10)","v":"-"},{"$f":"OFFSET(Potencia!L274,0,($L$1-1)*10)","v":"-"}]
[null,"(1) Otras renovables incluyen biogás, biomasa, hidráulica marina y geotérmica."]
[null,"Datos a 31 de diciembre."]
[null,{"$f":"IF(L1=1,IF(MONTH(FACT)=1,\"\",(CONCATENATE(\"(*) Para el año \",YEAR(FACT), \" datos a \",TEXT(FACT-30,\"mmmm\"),\" de \",YEAR(FACT),\".\"))),\"\")","v":"(*) Para el año 2020 datos a abril de 2020."}]
[]
[]
[]
[null,{"$f":"IF(L1=2,IF(MONTH(FACT)=1,\"\",(CONCATENATE(\"(*) Para el año \",YEAR(FACT), \" datos a \",TEXT(FACT-30,\"mmmm\"),\" de \",YEAR(FACT),\".\"))),\"\")","v":""}]

{"sheet":"Potencia Murcia","index":19,"n_rows":30,"n_cols":12,"rows_kept":30,"cut":false,"hidden":false,"merged":[[29,1,29,11],[39,1,39,8],[23,1,23,6],[24,1,24,6],[25,1,25,6]]}
[null,null,null,null,null,null,null,null,null,null,null,1]
[]
[]
[]
[null,null,null,null,null,null,null,null,null,"  Sistema / C.Autónoma"]
[null,null,null,null,null,null,null,null,null,"  Periodo"]
[]
[null,null,{"$f":"OFFSET(Potencia!C276,0,($L$1-1)*10)","v":2015},{"$f":"OFFSET(Potencia!D276,0,($L$1-1)*10)","v":2016},{"$f":"OFFSET(Potencia!E276,0,($L$1-1)*10)","v":2017},{"$f":"OFFSET(Potencia!F276,0,($L$1-1)*10)","v":2018},{"$f":"OFFSET(Potencia!G276,0,($L$1-1)*10)","v":2019},{"$f":"OFFSET(Potencia!H276,0,($L$1-1)*10)","v":2020},{"$f":"OFFSET(Potencia!I276,0,($L$1-1)*10)","v":2021},{"$f":"OFFSET(Potencia!J276,0,($L$1-1)*10)","v":2022},{"$f":"OFFSET(Potencia!K276,0,($L$1-1)*10)","v":2023},{"$f":"OFFSET(Potencia!L276,0,($L$1-1)*10)","v":2024}]
[]
[null,{"$f":"Potencia!B85","v":"Bombeo puro"},{"$f":"OFFSET(Potencia!C277,0,($L$1-1)*10)","v":"-"},{"$f":"OFFSET(Potencia!D277,0,($L$1-1)*10)","v":"-"},{"$f":"OFFSET(Potencia!E277,0,($L$1-1)*10)","v":"-"},{"$f":"OFFSET(Potencia!F277,0,($L$1-1)*10)","v":"-"},{"$f":"OFFSET(Potencia!G277,0,($L$1-1)*10)","v":"-"},{"$f":"OFFSET(Potencia!H277,0,($L$1-1)*10)","v":"-"},{"$f":"OFFSET(Potencia!I277,0,($L$1-1)*10)","v":"-"},{"$f":"OFFSET(Potencia!J277,0,($L$1-1)*10)","v":"-"},{"$f":"OFFSET(Potencia!K277,0,($L$1-1)*10)","v":"-"},{"$f":"OFFSET(Potencia!L277,0,($L$1-1)*10)","v":"-"}]
[null,{"$f":"Potencia!B86","v":"Hidráulica convencional y mixta"},{"$f":"OFFSET(Potencia!C278,0,($L$1-1)*10)","v":33.158000000000001},{"$f":"OFFSET(Potencia!D278,0,($L$1-1)*10)","v":33.203000000000003},{"$f":"OFFSET(Potencia!E278,0,($L$1-1)*10)","v":33.592999999999996},{"$f":"OFFSET(Potencia!F278,0,($L$1-1)*10)","v":33.592999999999996},{"$f":"OFFSET(Potencia!G278,0,($L$1-1)*10)","v":33.592999999999996},{"$f":"OFFSET(Potencia!H278,0,($L$1-1)*10)","v":33.592999999999996},{"$f":"OFFSET(Potencia!I278,0,($L$1-1)*10)","v":"-"},{"$f":"OFFSET(Potencia!J278,0,($L$1-1)*10)","v":"-"},{"$f":"OFFSET(Potencia!K278,0,($L$1-1)*10)","v":"-"},{"$f":"OFFSET(Potencia!L278,0,($L$1-1)*10)","v":"-"}]
[null,{"$f":"Potencia!B87","v":"Nuclear"},{"$f":"OFFSET(Potencia!C279,0,($L$1-1)*10)","v":"-"},{"$f":"OFFSET(Potencia!D279,0,($L$1-1)*10)","v":"-"},{"$f":"OFFSET(Potencia!E279,0,($L$1-1)*10)","v":"-"},{"$f":"OFFSET(Potencia!F279,0,($L$1-1)*10)","v":"-"},{"$f":"OFFSET(Potencia!G279,0,($L$1-1)*10)","v":"-"},{"$f":"OFFSET(Potencia!H279,0,($L$1-1)*10)","v":"-"},{"$f":"OFFSET(Potencia!I279,0,($L$1-1)*10)","v":"-"},{"$f":"OFFSET(Potencia!J279,0,($L$1-1)*10)","v":"-"},{"$f":"OFFSET(Potencia!K279,0,($L$1-1)*10)","v":"-"},{"$f":"OFFSET(Potencia!L279,0,($L$1-1)*10)","v":"-"}]
[null,{"$f":"Potencia!B88","v":"Carbón"},{"$f":"OFFSET(Potencia!C280,0,($L$1-1)*10)","v":"-"},{"$f":"OFFSET(Potencia!D280,0,($L$1-1)*10)","v":"-"},{"$f":"OFFSET(Potencia!E280,0,($L$1-1)*10)","v":"-"},{"$f":"OFFSET(Potencia!F280,0,($L$1-1)*10)","v":"-"},{"$f":"OFFSET(Potencia!G280,0,($L$1-1)*10)","v":"-"},{"$f":"OFFSET(Potencia!H280,0,($L$1-1)*10)","v":"-"},{"$f":"OFFSET(Potencia!I280,0,($L$1-1)*10)","v":"-"},{"$f":"OFFSET(Potencia!J280,0,($L$1-1)*10)","v":"-"},{"$f":"OFFSET(Potencia!K280,0,($L$1-1)*10)","v":"-"},{"$f":"OFFSET(Potencia!L280,0,($L$1-1)*10)","v":"-"}]
[null,{"$f":"Potencia!B89","v":"Fuel + Gas"},{"$f":"OFFSET(Potencia!C281,0,($L$1-1)*10)","v":"-"},{"$f":"OFFSET(Potencia!D281,0,($L$1-1)*10)","v":"-"},{"$f":"OFFSET(Potencia!E281,0,($L$1-1)*10)","v":"-"},{"$f":"OFFSET(Potencia!F281,0,($L$1-1)*10)","v":"-"},{"$f":"OFFSET(Potencia!G281,0,($L$1-1)*10)","v":"-"},{"$f":"OFFSET(Potencia!H281,0,($L$1-1)*10)","v":"-"},{"$f":"OFFSET(Potencia!I281,0,($L$1-1)*10)","v":"-"},{"$f":"OFFSET(Potencia!J281,0,($L$1-1)*10)","v":"-"},{"$f":"OFFSET(Potencia!K281,0,($L$1-1)*10)","v":"-"},{"$f":"OFFSET(Potencia!L281,0,($L$1-1)*10)","v":"-"}]
[null,{"$f":"Potencia!B90","v":"Ciclo combinado"},{"$f":"OFFSET(Potencia!C282,0,($L$1-1)*10)","v":3263.71},{"$f":"OFFSET(Potencia!D282,0,($L$1-1)*10)","v":3263.71},{"$f":"OFFSET(Potencia!E282,0,($L$1-1)*10)","v":3263.71},{"$f":"OFFSET(Potencia!F282,0,($L$1-1)*10)","v":3263.71},{"$f":"OFFSET(Potencia!G282,0,($L$1-1)*10)","v":3263.71},{"$f":"OFFSET(Potencia!H282,0,($L$1-1)*10)","v":3263.71},{"$f":"OFFSET(Potencia!I282,0,($L$1-1)*10)","v":"-"},{"$f":"OFFSET(Potencia!J282,0,($L$1-1)*10)","v":"-"},{"$f":"OFFSET(Potencia!K282,0,($L$1-1)*10)","v":"-"},{"$f":"OFFSET(Potencia!L282,0,($L$1-1)*10)","v":"-"}]
[null,{"$f":"Potencia!B91","v":"Eólica"},{"$f":"OFFSET(Potencia!C283,0,($L$1-1)*10)","v":262.77599999999995},{"$f":"OFFSET(Potencia!D283,0,($L$1-1)*10)","v":262.77599999999995},{"$f":"OFFSET(Potencia!E283,0,($L$1-1)*10)","v":262.77},{"$f":"OFFSET(Potencia!F283,0,($L$1-1)*10)","v":262.77},{"$f":"OFFSET(Potencia!G283,0,($L$1-1)*10)","v":262.77},{"$f":"OFFSET(Potencia!H283,0,($L$1-1)*10)","v":262.77},{"$f":"OFFSET(Potencia!I283,0,($L$1-1)*10)","v":"-"},{"$f":"OFFSET(Potencia!J283,0,($L$1-1)*10)","v":"-"},{"$f":"OFFSET(Potencia!K283,0,($L$1-1)*10)","v":"-"},{"$f":"OFFSET(Potencia!L283,0,($L$1-1)*10)","v":"-"}]
[null,{"$f":"Potencia!B92","v":"Solar fotovoltaica"},{"$f":"OFFSET(Potencia!C284,0,($L$1-1)*10)","v":437.84658599998971},{"$f":"OFFSET(Potencia!D284,0,($L$1-1)*10)","v":437.84658599998971},{"$f":"OFFSET(Potencia!E284,0,($L$1-1)*10)","v":436.50029599998959},{"$f":"OFFSET(Potencia!F284,0,($L$1-1)*10)","v":441.19254599998953},{"$f":"OFFSET(Potencia!G284,0,($L$1-1)*10)","v":1114.0067009999893},{"$f":"OFFSET(Potencia!H284,0,($L$1-1)*10)","v":1114.0067009999893},{"$f":"OFFSET(Potencia!I284,0,($L$1-1)*10)","v":"-"},{"$f":"OFFSET(Potencia!J284,0,($L$1-1)*10)","v":"-"},{"$f":"OFFSET(Potencia!K284,0,($L$1-1)*10)","v":"-"},{"$f":"OFFSET(Potencia!L284,0,($L$1-1)*10)","v":"-"}]
[null,{"$f":"Potencia!B93","v":"Solar térmica"},{"$f":"OFFSET(Potencia!C285,0,($L$1-1)*10)","v":31.4},{"$f":"OFFSET(Potencia!D285,0,($L$1-1)*10)","v":31.4},{"$f":"OFFSET(Potencia!E285,0,($L$1-1)*10)","v":31.4},{"$f":"OFFSET(Potencia!F285,0,($L$1-1)*10)","v":31.4},{"$f":"OFFSET(Potencia!G285,0,($L$1-1)*10)","v":31.4},{"$f":"OFFSET(Potencia!H285,0,($L$1-1)*10)","v":31.4},{"$f":"OFFSET(Potencia!I285,0,($L$1-1)*10)","v":"-"},{"$f":"OFFSET(Potencia!J285,0,($L$1-1)*10)","v":"-"},{"$f":"OFFSET(Potencia!K285,0,($L$1-1)*10)","v":"-"},{"$f":"OFFSET(Potencia!L285,0,($L$1-1)*10)","v":"-"}]
[null,"Otras renovables (1)",{"$f":"OFFSET(Potencia!C286,0,($L$1-1)*10)","v":15.524000000000001},{"$f":"OFFSET(Potencia!D286,0,($L$1-1)*10)","v":15.472000000000001},{"$f":"OFFSET(Potencia!E286,0,($L$1-1)*10)","v":15.472000000000001},{"$f":"OFFSET(Potencia!F286,0,($L$1-1)*10)","v":15.472000000000001},{"$f":"OFFSET(Potencia!G286,0,($L$1-1)*10)","v":15.472000000000001},{"$f":"OFFSET(Potencia!H286,0,($L$1-1)*10)","v":15.472000000000001},{"$f":"OFFSET(Potencia!I286,0,($L$1-1)*10)","v":"-"},{"$f":"OFFSET(Potencia!J286,0,($L$1-1)*10)","v":"-"},{"$f":"OFFSET(Potencia!K286,0,($L$1-1)*10)","v":"-"},{"$f":"OFFSET(Potencia!L286,0,($L$1-1)*10)","v":"-"}]
[null,"Cogeneración",{"$f":"OFFSET(Potencia!C287,0,($L$1-1)*10)","v":326.80599999999998},{"$f":"OFFSET(Potencia!D287,0,($L$1-1)*10)","v":314.10199999999998},{"$f":"OFFSET(Potencia!E287,0,($L$1-1)*10)","v":314.10199999999998},{"$f":"OFFSET(Potencia!F287,0,($L$1-1)*10)","v":314.10199999999998},{"$f":"OFFSET(Potencia!G287,0,($L$1-1)*10)","v":314.10199999999998},{"$f":"OFFSET(Potencia!H287,0,($L$1-1)*10)","v":314.10199999999998},{"$f":"OFFSET(Potencia!I287,0,($L$1-1)*10)","v":"-"},{"$f":"OFFSET(Potencia!J287,0,($L$1-1)*10)","v":"-"},{"$f":"OFFSET(Potencia!K287,0,($L$1-1)*10)","v":"-"},{"$f":"OFFSET(Potencia!L287,0,($L$1-1)*10)","v":"-"}]
[null,"Residuos no renovables",{"$f":"OFFSET(Potencia!C288,0,($L$1-1)*10)","v":9.68},{"$f":"OFFSET(Potencia!D288,0,($L$1-1)*10)","v":9.68},{"$f":"OFFSET(Potencia!E288,0,($L$1-1)*10)","v":9.68},{"$f":"OFFSET(Potencia!F288,0,($L$1-1)*10)","v":9.68},{"$f":"OFFSET(Potencia!G288,0,($L$1-1)*10)","v":9.68},{"$f":"OFFSET(Potencia!H288,0,($L$1-1)*10)","v":9.68},{"$f":"OFFSET(Potencia!I288,0,($L$1-1)*10)","v":"-"},{"$f":"OFFSET(Potencia!J288,0,($L$1-1)*10)","v":"-"},{"$f":"OFFSET(Potencia!K288,0,($L$1-1)*10)","v":"-"},{"$f":"OFFSET(Potencia!L288,0,($L$1-1)*10)","v":"-"}]
[null,"Residuos renovables",{"$f":"OFFSET(Potencia!C289,0,($L$1-1)*10)","v":"-"},{"$f":"OFFSET(Potencia!D289,0,($L$1-1)*10)","v":"-"},{"$f":"OFFSET(Potencia!E289,0,($L$1-1)*10)","v":"-"},{"$f":"OFFSET(Potencia!F289,0,($L$1-1)*10)","v":"-"},{"$f":"OFFSET(Potencia!G289,0,($L$1-1)*10)","v":"-"},{"$f":"OFFSET(Potencia!H289,0,($L$1-1)*10)","v":"-"},{"$f":"OFFSET(Potencia!I289,0,($L$1-1)*10)","v":"-"},{"$f":"OFFSET(Potencia!J289,0,($L$1-1)*10)","v":"-"},{"$f":"OFFSET(Potencia!K289,0,($L$1-1)*10)","v":"-"},{"$f":"OFFSET(Potencia!L289,0,($L$1-1)*10)","v":"-"}]
[null,"Total",{"$f":"OFFSET(Potencia!C290,0,($L$1-1)*10)","v":4380.9005859999897},{"$f":"OFFSET(Potencia!D290,0,($L$1-1)*10)","v":4368.1895859999904},{"$f":"OFFSET(Potencia!E290,0,($L$1-1)*10)","v":4367.22729599999},{"$f":"OFFSET(Potencia!F290,0,($L$1-1)*10)","v":4371.9195459999901},{"$f":"OFFSET(Potencia!G290,0,($L$1-1)*10)","v":5044.7337009999892},{"$f":"OFFSET(Potencia!H290,0,($L$1-1)*10)","v":5044.7337009999892},{"$f":"OFFSET(Potencia!I290,0,($L$1-1)*10)","v":"-"},{"$f":"OFFSET(Potencia!J290,0,($L$1-1)*10)","v":"-"},{"$f":"OFFSET(Potencia!K290,0,($L$1-1)*10)","v":"-"},{"$f":"OFFSET(Potencia!L290,0,($L$1-1)*10)","v":"-"}]
[null,"(1) Otras renovables incluyen biogás, biomasa, hidráulica marina y geotérmica."]
[null,"Datos a 31 de diciembre."]
[null,{"$f":"IF(L1=1,IF(MONTH(FACT)=1,\"\",(CONCATENATE(\"(*) Para el año \",YEAR(FACT), \" datos a \",TEXT(FACT-30,\"mmmm\"),\" de \",YEAR(FACT),\".\"))),\"\")","v":"(*) Para el año 2020 datos a abril de 2020."}]
[]
[]
[]
[null,{"$f":"IF(L1=2,IF(MONTH(FACT)=1,\"\",(CONCATENATE(\"(*) Para el año \",YEAR(FACT), \" datos a \",TEXT(FACT-30,\"mmmm\"),\" de \",YEAR(FACT),\".\"))),\"\")","v":""}]

{"sheet":"Potencia Navarra","index":20,"n_rows":30,"n_cols":12,"rows_kept":30,"cut":false,"hidden":false,"merged":[[29,1,29,11],[39,1,39,8],[23,1,23,6],[24,1,24,6],[25,1,25,6]]}
[null,null,null,null,null,null,null,null,null,null,null,1]
[]
[]
[]
[null,null,null,null,null,null,null,null,null,"  Sistema / C.Autónoma"]
[null,null,null,null,null,null,null,null,null,"  Periodo"]
[]
[null,null,{"$f":"OFFSET(Potencia!C292,0,($L$1-1)*10)","v":2015},{"$f":"OFFSET(Potencia!D292,0,($L$1-1)*10)","v":2016},{"$f":"OFFSET(Potencia!E292,0,($L$1-1)*10)","v":2017},{"$f":"OFFSET(Potencia!F292,0,($L$1-1)*10)","v":2018},{"$f":"OFFSET(Potencia!G292,0,($L$1-1)*10)","v":2019},{"$f":"OFFSET(Potencia!H292,0,($L$1-1)*10)","v":2020},{"$f":"OFFSET(Potencia!I292,0,($L$1-1)*10)","v":2021},{"$f":"OFFSET(Potencia!J292,0,($L$1-1)*10)","v":2022},{"$f":"OFFSET(Potencia!K292,0,($L$1-1)*10)","v":2023},{"$f":"OFFSET(Potencia!L292,0,($L$1-1)*10)","v":2024}]
[]
[null,{"$f":"Potencia!B85","v":"Bombeo puro"},{"$f":"OFFSET(Potencia!C293,0,($L$1-1)*10)","v":"-"},{"$f":"OFFSET(Potencia!D293,0,($L$1-1)*10)","v":"-"},{"$f":"OFFSET(Potencia!E293,0,($L$1-1)*10)","v":"-"},{"$f":"OFFSET(Potencia!F293,0,($L$1-1)*10)","v":"-"},{"$f":"OFFSET(Potencia!G293,0,($L$1-1)*10)","v":"-"},{"$f":"OFFSET(Potencia!H293,0,($L$1-1)*10)","v":"-"},{"$f":"OFFSET(Potencia!I293,0,($L$1-1)*10)","v":"-"},{"$f":"OFFSET(Potencia!J293,0,($L$1-1)*10)","v":"-"},{"$f":"OFFSET(Potencia!K293,0,($L$1-1)*10)","v":"-"},{"$f":"OFFSET(Potencia!L293,0,($L$1-1)*10)","v":"-"}]
[null,{"$f":"Potencia!B86","v":"Hidráulica convencional y mixta"},{"$f":"OFFSET(Potencia!C294,0,($L$1-1)*10)","v":254.76300000000001},{"$f":"OFFSET(Potencia!D294,0,($L$1-1)*10)","v":254.76300000000001},{"$f":"OFFSET(Potencia!E294,0,($L$1-1)*10)","v":254.76300000000001},{"$f":"OFFSET(Potencia!F294,0,($L$1-1)*10)","v":254.77500000000001},{"$f":"OFFSET(Potencia!G294,0,($L$1-1)*10)","v":254.77500000000001},{"$f":"OFFSET(Potencia!H294,0,($L$1-1)*10)","v":254.77500000000001},{"$f":"OFFSET(Potencia!I294,0,($L$1-1)*10)","v":"-"},{"$f":"OFFSET(Potencia!J294,0,($L$1-1)*10)","v":"-"},{"$f":"OFFSET(Potencia!K294,0,($L$1-1)*10)","v":"-"},{"$f":"OFFSET(Potencia!L294,0,($L$1-1)*10)","v":"-"}]
[null,{"$f":"Potencia!B87","v":"Nuclear"},{"$f":"OFFSET(Potencia!C295,0,($L$1-1)*10)","v":"-"},{"$f":"OFFSET(Potencia!D295,0,($L$1-1)*10)","v":"-"},{"$f":"OFFSET(Potencia!E295,0,($L$1-1)*10)","v":"-"},{"$f":"OFFSET(Potencia!F295,0,($L$1-1)*10)","v":"-"},{"$f":"OFFSET(Potencia!G295,0,($L$1-1)*10)","v":"-"},{"$f":"OFFSET(Potencia!H295,0,($L$1-1)*10)","v":"-"},{"$f":"OFFSET(Potencia!I295,0,($L$1-1)*10)","v":"-"},{"$f":"OFFSET(Potencia!J295,0,($L$1-1)*10)","v":"-"},{"$f":"OFFSET(Potencia!K295,0,($L$1-1)*10)","v":"-"},{"$f":"OFFSET(Potencia!L295,0,($L$1-1)*10)","v":"-"}]
[null,{"$f":"Potencia!B88","v":"Carbón"},{"$f":"OFFSET(Potencia!C296,0,($L$1-1)*10)","v":"-"},{"$f":"OFFSET(Potencia!D296,0,($L$1-1)*10)","v":"-"},{"$f":"OFFSET(Potencia!E296,0,($L$1-1)*10)","v":"-"},{"$f":"OFFSET(Potencia!F296,0,($L$1-1)*10)","v":"-"},{"$f":"OFFSET(Potencia!G296,0,($L$1-1)*10)","v":"-"},{"$f":"OFFSET(Potencia!H296,0,($L$1-1)*10)","v":"-"},{"$f":"OFFSET(Potencia!I296,0,($L$1-1)*10)","v":"-"},{"$f":"OFFSET(Potencia!J296,0,($L$1-1)*10)","v":"-"},{"$f":"OFFSET(Potencia!K296,0,($L$1-1)*10)","v":"-"},{"$f":"OFFSET(Potencia!L296,0,($L$1-1)*10)","v":"-"}]
[null,{"$f":"Potencia!B89","v":"Fuel + Gas"},{"$f":"OFFSET(Potencia!C297,0,($L$1-1)*10)","v":"-"},{"$f":"OFFSET(Potencia!D297,0,($L$1-1)*10)","v":"-"},{"$f":"OFFSET(Potencia!E297,0,($L$1-1)*10)","v":"-"},{"$f":"OFFSET(Potencia!F297,0,($L$1-1)*10)","v":"-"},{"$f":"OFFSET(Potencia!G297,0,($L$1-1)*10)","v":"-"},{"$f":"OFFSET(Potencia!H297,0,($L$1-1)*10)","v":"-"},{"$f":"OFFSET(Potencia!I297,0,($L$1-1)*10)","v":"-"},{"$f":"OFFSET(Potencia!J297,0,($L$1-1)*10)","v":"-"},{"$f":"OFFSET(Potencia!K297,0,($L$1-1)*10)","v":"-"},{"$f":"OFFSET(Potencia!L297,0,($L$1-1)*10)","v":"-"}]
[null,{"$f":"Potencia!B90","v":"Ciclo combinado"},{"$f":"OFFSET(Potencia!C298,0,($L$1-1)*10)","v":1222.32},{"$f":"OFFSET(Potencia!D298,0,($L$1-1)*10)","v":1222.32},{"$f":"OFFSET(Potencia!E298,0,($L$1-1)*10)","v":1222.32},{"$f":"OFFSET(Potencia!F298,0,($L$1-1)*10)","v":1222.32},{"$f":"OFFSET(Potencia!G298,0,($L$1-1)*10)","v":1222.32},{"$f":"OFFSET(Potencia!H298,0,($L$1-1)*10)","v":1222.32},{"$f":"OFFSET(Potencia!I298,0,($L$1-1)*10)","v":"-"},{"$f":"OFFSET(Potencia!J298,0,($L$1-1)*10)","v":"-"},{"$f":"OFFSET(Potencia!K298,0,($L$1-1)*10)","v":"-"},{"$f":"OFFSET(Potencia!L298,0,($L$1-1)*10)","v":"-"}]
[null,{"$f":"Potencia!B91","v":"Eólica"},{"$f":"OFFSET(Potencia!C299,0,($L$1-1)*10)","v":985.52374999999984},{"$f":"OFFSET(Potencia!D299,0,($L$1-1)*10)","v":995.15874999999994},{"$f":"OFFSET(Potencia!E299,0,($L$1-1)*10)","v":995.42874999999992},{"$f":"OFFSET(Potencia!F299,0,($L$1-1)*10)","v":995.42699999999991},{"$f":"OFFSET(Potencia!G299,0,($L$1-1)*10)","v":1098.4369999999999},{"$f":"OFFSET(Potencia!H299,0,($L$1-1)*10)","v":1098.4369999999999},{"$f":"OFFSET(Potencia!I299,0,($L$1-1)*10)","v":"-"},{"$f":"OFFSET(Potencia!J299,0,($L$1-1)*10)","v":"-"},{"$f":"OFFSET(Potencia!K299,0,($L$1-1)*10)","v":"-"},{"$f":"OFFSET(Potencia!L299,0,($L$1-1)*10)","v":"-"}]
[null,{"$f":"Potencia!B92","v":"Solar fotovoltaica"},{"$f":"OFFSET(Potencia!C300,0,($L$1-1)*10)","v":160.61974999999643},{"$f":"OFFSET(Potencia!D300,0,($L$1-1)*10)","v":160.85658999999646},{"$f":"OFFSET(Potencia!E300,0,($L$1-1)*10)","v":160.84150999999645},{"$f":"OFFSET(Potencia!F300,0,($L$1-1)*10)","v":161.99471999999645},{"$f":"OFFSET(Potencia!G300,0,($L$1-1)*10)","v":161.99221999999645},{"$f":"OFFSET(Potencia!H300,0,($L$1-1)*10)","v":161.99221999999645},{"$f":"OFFSET(Potencia!I300,0,($L$1-1)*10)","v":"-"},{"$f":"OFFSET(Potencia!J300,0,($L$1-1)*10)","v":"-"},{"$f":"OFFSET(Potencia!K300,0,($L$1-1)*10)","v":"-"},{"$f":"OFFSET(Potencia!L300,0,($L$1-1)*10)","v":"-"}]
[null,{"$f":"Potencia!B93","v":"Solar térmica"},{"$f":"OFFSET(Potencia!C301,0,($L$1-1)*10)","v":"-"},{"$f":"OFFSET(Potencia!D301,0,($L$1-1)*10)","v":"-"},{"$f":"OFFSET(Potencia!E301,0,($L$1-1)*10)","v":"-"},{"$f":"OFFSET(Potencia!F301,0,($L$1-1)*10)","v":"-"},{"$f":"OFFSET(Potencia!G301,0,($L$1-1)*10)","v":"-"},{"$f":"OFFSET(Potencia!H301,0,($L$1-1)*10)","v":"-"},{"$f":"OFFSET(Potencia!I301,0,($L$1-1)*10)","v":"-"},{"$f":"OFFSET(Potencia!J301,0,($L$1-1)*10)","v":"-"},{"$f":"OFFSET(Potencia!K301,0,($L$1-1)*10)","v":"-"},{"$f":"OFFSET(Potencia!L301,0,($L$1-1)*10)","v":"-"}]
[null,"Otras renovables (1)",{"$f":"OFFSET(Potencia!C302,0,($L$1-1)*10)","v":49.011000000000003},{"$f":"OFFSET(Potencia!D302,0,($L$1-1)*10)","v":49.011000000000003},{"$f":"OFFSET(Potencia!E302,0,($L$1-1)*10)","v":50.111000000000004},{"$f":"OFFSET(Potencia!F302,0,($L$1-1)*10)","v":50.111000000000004},{"$f":"OFFSET(Potencia!G302,0,($L$1-1)*10)","v":52.111000000000004},{"$f":"OFFSET(Potencia!H302,0,($L$1-1)*10)","v":52.111000000000004},{"$f":"OFFSET(Potencia!I302,0,($L$1-1)*10)","v":"-"},{"$f":"OFFSET(Potencia!J302,0,($L$1-1)*10)","v":"-"},{"$f":"OFFSET(Potencia!K302,0,($L$1-1)*10)","v":"-"},{"$f":"OFFSET(Potencia!L302,0,($L$1-1)*10)","v":"-"}]
[null,"Cogeneración",{"$f":"OFFSET(Potencia!C303,0,($L$1-1)*10)","v":166.5035},{"$f":"OFFSET(Potencia!D303,0,($L$1-1)*10)","v":159.43950000000004},{"$f":"OFFSET(Potencia!E303,0,($L$1-1)*10)","v":156.59650000000005},{"$f":"OFFSET(Potencia!F303,0,($L$1-1)*10)","v":147.53149999999999},{"$f":"OFFSET(Potencia!G303,0,($L$1-1)*10)","v":141.47149999999993},{"$f":"OFFSET(Potencia!H303,0,($L$1-1)*10)","v":141.47149999999993},{"$f":"OFFSET(Potencia!I303,0,($L$1-1)*10)","v":"-"},{"$f":"OFFSET(Potencia!J303,0,($L$1-1)*10)","v":"-"},{"$f":"OFFSET(Potencia!K303,0,($L$1-1)*10)","v":"-"},{"$f":"OFFSET(Potencia!L303,0,($L$1-1)*10)","v":"-"}]
[null,"Residuos no renovables",{"$f":"OFFSET(Potencia!C304,0,($L$1-1)*10)","v":"-"},{"$f":"OFFSET(Potencia!D304,0,($L$1-1)*10)","v":"-"},{"$f":"OFFSET(Potencia!E304,0,($L$1-1)*10)","v":"-"},{"$f":"OFFSET(Potencia!F304,0,($L$1-1)*10)","v":"-"},{"$f":"OFFSET(Potencia!G304,0,($L$1-1)*10)","v":"-"},{"$f":"OFFSET(Potencia!H304,0,($L$1-1)*10)","v":"-"},{"$f":"OFFSET(Potencia!I304,0,($L$1-1)*10)","v":"-"},{"$f":"OFFSET(Potencia!J304,0,($L$1-1)*10)","v":"-"},{"$f":"OFFSET(Potencia!K304,0,($L$1-1)*10)","v":"-"},{"$f":"OFFSET(Potencia!L304,0,($L$1-1)*10)","v":"-"}]
[null,"Residuos renovables",{"$f":"OFFSET(Potencia!C305,0,($L$1-1)*10)","v":"-"},{"$f":"OFFSET(Potencia!D305,0,($L$1-1)*10)","v":"-"},{"$f":"OFFSET(Potencia!E305,0,($L$1-1)*10)","v":"-"},{"$f":"OFFSET(Potencia!F305,0,($L$1-1)*10)","v":"-"},{"$f":"OFFSET(Potencia!G305,0,($L$1-1)*10)","v":"-"},{"$f":"OFFSET(Potencia!H305,0,($L$1-1)*10)","v":"-"},{"$f":"OFFSET(Potencia!I305,0,($L$1-1)*10)","v":"-"},{"$f":"OFFSET(Potencia!J305,0,($L$1-1)*10)","v":"-"},{"$f":"OFFSET(Potencia!K305,0,($L$1-1)*10)","v":"-"},{"$f":"OFFSET(Potencia!L305,0,($L$1-1)*10)","v":"-"}]
[null,"Total",{"$f":"OFFSET(Potencia!C306,0,($L$1-1)*10)","v":2838.7409999999959},{"$f":"OFFSET(Potencia!D306,0,($L$1-1)*10)","v":2841.5488399999958},{"$f":"OFFSET(Potencia!E306,0,($L$1-1)*10)","v":2840.0607599999962},{"$f":"OFFSET(Potencia!F306,0,($L$1-1)*10)","v":2832.1592199999964},{"$f":"OFFSET(Potencia!G306,0,($L$1-1)*10)","v":2931.1067199999966},{"$f":"OFFSET(Potencia!H306,0,($L$1-1)*10)","v":2931.1067199999966},{"$f":"OFFSET(Potencia!I306,0,($L$1-1)*10)","v":"-"},{"$f":"OFFSET(Potencia!J306,0,($L$1-1)*10)","v":"-"},{"$f":"OFFSET(Potencia!K306,0,($L$1-1)*10)","v":"-"},{"$f":"OFFSET(Potencia!L306,0,($L$1-1)*10)","v":"-"}]
[null,"(1) Otras renovables incluyen biogás, biomasa, hidráulica marina y geotérmica."]
[null,"Datos a 31 de diciembre."]
[null,{"$f":"IF(L1=1,IF(MONTH(FACT)=1,\"\",(CONCATENATE(\"(*) Para el año \",YEAR(FACT), \" datos a \",TEXT(FACT-30,\"mmmm\"),\" de \",YEAR(FACT),\".\"))),\"\")","v":"(*) Para el año 2020 datos a abril de 2020."}]
[]
[]
[]
[null,{"$f":"IF(L1=2,IF(MONTH(FACT)=1,\"\",(CONCATENATE(\"(*) Para el año \",YEAR(FACT), \" datos a \",TEXT(FACT-30,\"mmmm\"),\" de \",YEAR(FACT),\".\"))),\"\")","v":""}]

{"sheet":"Potencia País Vasco","index":21,"n_rows":30,"n_cols":12,"rows_kept":30,"cut":false,"hidden":false,"merged":[[29,1,29,11],[39,1,39,8],[23,1,23,6],[24,1,24,6],[25,1,25,6]]}
[null,null,null,null,null,null,null,null,null,null,null,1]
[]
[]
[]
[null,null,null,null,null,null,null,null,null,"  Sistema / C.Autónoma"]
[null,null,null,null,null,null,null,null,null,"  Periodo"]
[]
[null,null,{"$f":"OFFSET(Potencia!C308,0,($L$1-1)*10)","v":2015},{"$f":"OFFSET(Potencia!D308,0,($L$1-1)*10)","v":2016},{"$f":"OFFSET(Potencia!E308,0,($L$1-1)*10)","v":2017},{"$f":"OFFSET(Potencia!F308,0,($L$1-1)*10)","v":2018},{"$f":"OFFSET(Potencia!G308,0,($L$1-1)*10)","v":2019},{"$f":"OFFSET(Potencia!H308,0,($L$1-1)*10)","v":2020},{"$f":"OFFSET(Potencia!I308,0,($L$1-1)*10)","v":2021},{"$f":"OFFSET(Potencia!J308,0,($L$1-1)*10)","v":2022},{"$f":"OFFSET(Potencia!K308,0,($L$1-1)*10)","v":2023},{"$f":"OFFSET(Potencia!L308,0,($L$1-1)*10)","v":2024}]
[]
[null,{"$f":"Potencia!B85","v":"Bombeo puro"},{"$f":"OFFSET(Potencia!C309,0,($L$1-1)*10)","v":"-"},{"$f":"OFFSET(Potencia!D309,0,($L$1-1)*10)","v":"-"},{"$f":"OFFSET(Potencia!E309,0,($L$1-1)*10)","v":"-"},{"$f":"OFFSET(Potencia!F309,0,($L$1-1)*10)","v":"-"},{"$f":"OFFSET(Potencia!G309,0,($L$1-1)*10)","v":"-"},{"$f":"OFFSET(Potencia!H309,0,($L$1-1)*10)","v":"-"},{"$f":"OFFSET(Potencia!I309,0,($L$1-1)*10)","v":"-"},{"$f":"OFFSET(Potencia!J309,0,($L$1-1)*10)","v":"-"},{"$f":"OFFSET(Potencia!K309,0,($L$1-1)*10)","v":"-"},{"$f":"OFFSET(Potencia!L309,0,($L$1-1)*10)","v":"-"}]
[null,{"$f":"Potencia!B86","v":"Hidráulica convencional y mixta"},{"$f":"OFFSET(Potencia!C310,0,($L$1-1)*10)","v":170.13649999999998},{"$f":"OFFSET(Potencia!D310,0,($L$1-1)*10)","v":170.13649999999998},{"$f":"OFFSET(Potencia!E310,0,($L$1-1)*10)","v":170.13649999999998},{"$f":"OFFSET(Potencia!F310,0,($L$1-1)*10)","v":170.13649999999998},{"$f":"OFFSET(Potencia!G310,0,($L$1-1)*10)","v":174.35149999999999},{"$f":"OFFSET(Potencia!H310,0,($L$1-1)*10)","v":174.35149999999999},{"$f":"OFFSET(Potencia!I310,0,($L$1-1)*10)","v":"-"},{"$f":"OFFSET(Potencia!J310,0,($L$1-1)*10)","v":"-"},{"$f":"OFFSET(Potencia!K310,0,($L$1-1)*10)","v":"-"},{"$f":"OFFSET(Potencia!L310,0,($L$1-1)*10)","v":"-"}]
[null,{"$f":"Potencia!B87","v":"Nuclear"},{"$f":"OFFSET(Potencia!C311,0,($L$1-1)*10)","v":"-"},{"$f":"OFFSET(Potencia!D311,0,($L$1-1)*10)","v":"-"},{"$f":"OFFSET(Potencia!E311,0,($L$1-1)*10)","v":"-"},{"$f":"OFFSET(Potencia!F311,0,($L$1-1)*10)","v":"-"},{"$f":"OFFSET(Potencia!G311,0,($L$1-1)*10)","v":"-"},{"$f":"OFFSET(Potencia!H311,0,($L$1-1)*10)","v":"-"},{"$f":"OFFSET(Potencia!I311,0,($L$1-1)*10)","v":"-"},{"$f":"OFFSET(Potencia!J311,0,($L$1-1)*10)","v":"-"},{"$f":"OFFSET(Potencia!K311,0,($L$1-1)*10)","v":"-"},{"$f":"OFFSET(Potencia!L311,0,($L$1-1)*10)","v":"-"}]
[null,{"$f":"Potencia!B88","v":"Carbón"},{"$f":"OFFSET(Potencia!C312,0,($L$1-1)*10)","v":"-"},{"$f":"OFFSET(Potencia!D312,0,($L$1-1)*10)","v":"-"},{"$f":"OFFSET(Potencia!E312,0,($L$1-1)*10)","v":"-"},{"$f":"OFFSET(Potencia!F312,0,($L$1-1)*10)","v":"-"},{"$f":"OFFSET(Potencia!G312,0,($L$1-1)*10)","v":"-"},{"$f":"OFFSET(Potencia!H312,0,($L$1-1)*10)","v":"-"},{"$f":"OFFSET(Potencia!I312,0,($L$1-1)*10)","v":"-"},{"$f":"OFFSET(Potencia!J312,0,($L$1-1)*10)","v":"-"},{"$f":"OFFSET(Potencia!K312,0,($L$1-1)*10)","v":"-"},{"$f":"OFFSET(Potencia!L312,0,($L$1-1)*10)","v":"-"}]
[null,{"$f":"Potencia!B89","v":"Fuel + Gas"},{"$f":"OFFSET(Potencia!C313,0,($L$1-1)*10)","v":"-"},{"$f":"OFFSET(Potencia!D313,0,($L$1-1)*10)","v":"-"},{"$f":"OFFSET(Potencia!E313,0,($L$1-1)*10)","v":"-"},{"$f":"OFFSET(Potencia!F313,0,($L$1-1)*10)","v":"-"},{"$f":"OFFSET(Potencia!G313,0,($L$1-1)*10)","v":"-"},{"$f":"OFFSET(Potencia!H313,0,($L$1-1)*10)","v":"-"},{"$f":"OFFSET(Potencia!I313,0,($L$1-1)*10)","v":"-"},{"$f":"OFFSET(Potencia!J313,0,($L$1-1)*10)","v":"-"},{"$f":"OFFSET(Potencia!K313,0,($L$1-1)*10)","v":"-"},{"$f":"OFFSET(Potencia!L313,0,($L$1-1)*10)","v":"-"}]
[null,{"$f":"Potencia!B90","v":"Ciclo combinado"},{"$f":"OFFSET(Potencia!C314,0,($L$1-1)*10)","v":1968.07},{"$f":"OFFSET(Potencia!D314,0,($L$1-1)*10)","v":1968.07},{"$f":"OFFSET(Potencia!E314,0,($L$1-1)*10)","v":1968.07},{"$f":"OFFSET(Potencia!F314,0,($L$1-1)*10)","v":1968.07},{"$f":"OFFSET(Potencia!G314,0,($L$1-1)*10)","v":1968.07},{"$f":"OFFSET(Potencia!H314,0,($L$1-1)*10)","v":1968.07},{"$f":"OFFSET(Potencia!I314,0,($L$1-1)*10)","v":"-"},{"$f":"OFFSET(Potencia!J314,0,($L$1-1)*10)","v":"-"},{"$f":"OFFSET(Potencia!K314,0,($L$1-1)*10)","v":"-"},{"$f":"OFFSET(Potencia!L314,0,($L$1-1)*10)","v":"-"}]
[null,{"$f":"Potencia!B91","v":"Eólica"},{"$f":"OFFSET(Potencia!C315,0,($L$1-1)*10)","v":153.2852},{"$f":"OFFSET(Potencia!D315,0,($L$1-1)*10)","v":153.3852},{"$f":"OFFSET(Potencia!E315,0,($L$1-1)*10)","v":153.38380000000001},{"$f":"OFFSET(Potencia!F315,0,($L$1-1)*10)","v":153.38380000000001},{"$f":"OFFSET(Potencia!G315,0,($L$1-1)*10)","v":153.38380000000001},{"$f":"OFFSET(Potencia!H315,0,($L$1-1)*10)","v":153.38380000000001},{"$f":"OFFSET(Potencia!I315,0,($L$1-1)*10)","v":"-"},{"$f":"OFFSET(Potencia!J315,0,($L$1-1)*10)","v":"-"},{"$f":"OFFSET(Potencia!K315,0,($L$1-1)*10)","v":"-"},{"$f":"OFFSET(Potencia!L315,0,($L$1-1)*10)","v":"-"}]
[null,{"$f":"Potencia!B92","v":"Solar fotovoltaica"},{"$f":"OFFSET(Potencia!C316,0,($L$1-1)*10)","v":26.702890000000117},{"$f":"OFFSET(Potencia!D316,0,($L$1-1)*10)","v":26.728890000000121},{"$f":"OFFSET(Potencia!E316,0,($L$1-1)*10)","v":26.693950000000115},{"$f":"OFFSET(Potencia!F316,0,($L$1-1)*10)","v":26.828555000000115},{"$f":"OFFSET(Potencia!G316,0,($L$1-1)*10)","v":50.898415000000114},{"$f":"OFFSET(Potencia!H316,0,($L$1-1)*10)","v":50.878415000000118},{"$f":"OFFSET(Potencia!I316,0,($L$1-1)*10)","v":"-"},{"$f":"OFFSET(Potencia!J316,0,($L$1-1)*10)","v":"-"},{"$f":"OFFSET(Potencia!K316,0,($L$1-1)*10)","v":"-"},{"$f":"OFFSET(Potencia!L316,0,($L$1-1)*10)","v":"-"}]
[null,{"$f":"Potencia!B93","v":"Solar térmica"},{"$f":"OFFSET(Potencia!C317,0,($L$1-1)*10)","v":"-"},{"$f":"OFFSET(Potencia!D317,0,($L$1-1)*10)","v":"-"},{"$f":"OFFSET(Potencia!E317,0,($L$1-1)*10)","v":"-"},{"$f":"OFFSET(Potencia!F317,0,($L$1-1)*10)","v":"-"},{"$f":"OFFSET(Potencia!G317,0,($L$1-1)*10)","v":"-"},{"$f":"OFFSET(Potencia!H317,0,($L$1-1)*10)","v":"-"},{"$f":"OFFSET(Potencia!I317,0,($L$1-1)*10)","v":"-"},{"$f":"OFFSET(Potencia!J317,0,($L$1-1)*10)","v":"-"},{"$f":"OFFSET(Potencia!K317,0,($L$1-1)*10)","v":"-"},{"$f":"OFFSET(Potencia!L317,0,($L$1-1)*10)","v":"-"}]
[null,"Otras renovables (1)",{"$f":"OFFSET(Potencia!C318,0,($L$1-1)*10)","v":56.276999999999994},{"$f":"OFFSET(Potencia!D318,0,($L$1-1)*10)","v":56.276999999999994},{"$f":"OFFSET(Potencia!E318,0,($L$1-1)*10)","v":56.276999999999994},{"$f":"OFFSET(Potencia!F318,0,($L$1-1)*10)","v":56.276999999999994},{"$f":"OFFSET(Potencia!G318,0,($L$1-1)*10)","v":56.276999999999994},{"$f":"OFFSET(Potencia!H318,0,($L$1-1)*10)","v":56.276999999999994},{"$f":"OFFSET(Potencia!I318,0,($L$1-1)*10)","v":"-"},{"$f":"OFFSET(Potencia!J318,0,($L$1-1)*10)","v":"-"},{"$f":"OFFSET(Potencia!K318,0,($L$1-1)*10)","v":"-"},{"$f":"OFFSET(Potencia!L318,0,($L$1-1)*10)","v":"-"}]
[null,"Cogeneración",{"$f":"OFFSET(Potencia!C319,0,($L$1-1)*10)","v":419.69649999999979},{"$f":"OFFSET(Potencia!D319,0,($L$1-1)*10)","v":417.86749999999989},{"$f":"OFFSET(Potencia!E319,0,($L$1-1)*10)","v":405.9124999999998},{"$f":"OFFSET(Potencia!F319,0,($L$1-1)*10)","v":404.36749999999984},{"$f":"OFFSET(Potencia!G319,0,($L$1-1)*10)","v":398.93749999999977},{"$f":"OFFSET(Potencia!H319,0,($L$1-1)*10)","v":398.93749999999977},{"$f":"OFFSET(Potencia!I319,0,($L$1-1)*10)","v":"-"},{"$f":"OFFSET(Potencia!J319,0,($L$1-1)*10)","v":"-"},{"$f":"OFFSET(Potencia!K319,0,($L$1-1)*10)","v":"-"},{"$f":"OFFSET(Potencia!L319,0,($L$1-1)*10)","v":"-"}]
[null,"Residuos no renovables",{"$f":"OFFSET(Potencia!C320,0,($L$1-1)*10)","v":83.457999999999998},{"$f":"OFFSET(Potencia!D320,0,($L$1-1)*10)","v":83.457999999999998},{"$f":"OFFSET(Potencia!E320,0,($L$1-1)*10)","v":83.457999999999998},{"$f":"OFFSET(Potencia!F320,0,($L$1-1)*10)","v":76.930000000000007},{"$f":"OFFSET(Potencia!G320,0,($L$1-1)*10)","v":76.930000000000007},{"$f":"OFFSET(Potencia!H320,0,($L$1-1)*10)","v":76.930000000000007},{"$f":"OFFSET(Potencia!I320,0,($L$1-1)*10)","v":"-"},{"$f":"OFFSET(Potencia!J320,0,($L$1-1)*10)","v":"-"},{"$f":"OFFSET(Potencia!K320,0,($L$1-1)*10)","v":"-"},{"$f":"OFFSET(Potencia!L320,0,($L$1-1)*10)","v":"-"}]
[null,"Residuos renovables",{"$f":"OFFSET(Potencia!C321,0,($L$1-1)*10)","v":49.75},{"$f":"OFFSET(Potencia!D321,0,($L$1-1)*10)","v":49.75},{"$f":"OFFSET(Potencia!E321,0,($L$1-1)*10)","v":49.75},{"$f":"OFFSET(Potencia!F321,0,($L$1-1)*10)","v":49.75},{"$f":"OFFSET(Potencia!G321,0,($L$1-1)*10)","v":49.75},{"$f":"OFFSET(Potencia!H321,0,($L$1-1)*10)","v":49.75},{"$f":"OFFSET(Potencia!I321,0,($L$1-1)*10)","v":"-"},{"$f":"OFFSET(Potencia!J321,0,($L$1-1)*10)","v":"-"},{"$f":"OFFSET(Potencia!K321,0,($L$1-1)*10)","v":"-"},{"$f":"OFFSET(Potencia!L321,0,($L$1-1)*10)","v":"-"}]
[null,"Total",{"$f":"OFFSET(Potencia!C322,0,($L$1-1)*10)","v":2927.3760899999993},{"$f":"OFFSET(Potencia!D322,0,($L$1-1)*10)","v":2925.6730900000002},{"$f":"OFFSET(Potencia!E322,0,($L$1-1)*10)","v":2913.6817500000002},{"$f":"OFFSET(Potencia!F322,0,($L$1-1)*10)","v":2905.7433549999996},{"$f":"OFFSET(Potencia!G322,0,($L$1-1)*10)","v":2928.5982149999995},{"$f":"OFFSET(Potencia!H322,0,($L$1-1)*10)","v":2928.578215},{"$f":"OFFSET(Potencia!I322,0,($L$1-1)*10)","v":"-"},{"$f":"OFFSET(Potencia!J322,0,($L$1-1)*10)","v":"-"},{"$f":"OFFSET(Potencia!K322,0,($L$1-1)*10)","v":"-"},{"$f":"OFFSET(Potencia!L322,0,($L$1-1)*10)","v":"-"}]
[null,"(1) Otras renovables incluyen biogás, biomasa, hidráulica marina y geotérmica."]
[null,"Datos a 31 de diciembre."]
[null,{"$f":"IF(L1=1,IF(MONTH(FACT)=1,\"\",(CONCATENATE(\"(*) Para el año \",YEAR(FACT), \" datos a \",TEXT(FACT-30,\"mmmm\"),\" de \",YEAR(FACT),\".\"))),\"\")","v":"(*) Para el año 2020 datos a abril de 2020."}]
[]
[]
[]
[null,{"$f":"IF(L1=2,IF(MONTH(FACT)=1,\"\",(CONCATENATE(\"(*) Para el año \",YEAR(FACT), \" datos a \",TEXT(FACT-30,\"mmmm\"),\" de \",YEAR(FACT),\".\"))),\"\")","v":""}]

{"sheet":"Potencia","index":22,"n_rows":322,"n_cols":42,"rows_kept":322,"cut":false,"hidden":true,"merged":[]}
[]
[null,"Potencia instalada peninsular (MW)",1990,1991,1992,1993,1994,1995,1996,1997,1998,1999,2000,2001,2002,2003,2004,2005,2006,2007,2008,2009,2010,2011,2012,2013,2014,2015,2016,2017,2018,2019,2020,2021,2022,2023,2024,2025,2026,2027,2028,2029]
[null,"Hidráulica convencional y mixta",13792.61,13795.26,13848.85,13848.85,14063.97,14088.07,14143.08,14143.08,14143.08,14299.34,14299.34,14301.27,14304.68,14462.1,14492.17,14534.06,14566.41,14579.41,14635.51,14635.51,14655.31,14667.21,14886.65,14889.69,14895.92,17024.276629999997,17028.376629999999,17025.539629999996,17044.35123,17082.753229999998,17082.753229999998,"-","-","-","-","-","-","-","-","-"]
[null,"Bombeo puro",2428.44,2428.44,2428.44,2428.44,2428.44,2428.44,2428.44,2428.44,2428.44,2428.44,2428.44,2428.44,2428.44,2428.44,2428.44,2428.44,2450.9399999999996,2450.9399999999996,2450.9399999999996,2450.9399999999996,2450.9399999999996,2450.9399999999996,2450.9399999999996,2450.9399999999996,2450.9399999999996,3328.89,3328.89,3328.8900000000003,3328.8900000000003,3328.8900000000003,3328.8900000000003,"-","-","-","-","-","-","-","-","-"]
[null,"Nuclear",7329.28,7343.28,7391,7391,7391,7391,7391,7559.1,7606.09,7650.09,7677.39,7694.1,7694.1,7614.3099999999995,7590.15,7597.2799999999988,7455.58,7455.58,7455.58,7455.58,7515.3700000000008,7572.58,7572.58,7572.58,7572.58,7572.58,7572.58,7117.29,7117.29,7117.29,7117.29,"-","-","-","-","-","-","-","-","-"]
[null,"Carbón",10243,10310,10310,10310,10310,10310,10310,10859.9,10859.9,10859.9,11048.67,11058.880000000001,11051.18,11053.22,11036.69,10909.960000000001,10924.300000000001,10857.650000000001,10856.400000000001,10856.400000000001,10873.95,11103.390000000001,10595.47,10610.37,10468.02,10468.02,9535.8700000000008,9535.8700000000008,9561.8849999999984,{"$f":"9561.885-346.84","v":9215.0450000000001},{"$f":"9561.885-346.84","v":9215.0450000000001},"-","-","-","-","-","-","-","-","-"]
[null,"Fuel + Gas",7259.3499999999995,7247.2199999999993,7247.2199999999993,7247.2199999999993,7247.2199999999993,7247.2199999999993,7521.2199999999993,7521.2199999999993,7521.2199999999993,7521.2199999999993,7521.2199999999993,7521.2199999999993,7220.05,6655.2799999999988,6663.9199999999992,6369.9199999999992,6369.9199999999992,4521.99,4179.99,2826.07,2144.79,806.52,505.52,505.52,505.52,"-","-","-","-","-","-","-","-","-","-","-","-","-","-","-"]
[null,"Ciclo combinado","-","-","-","-","-","-","-","-","-","-","-","-",2619.4699999999998,4123.13,8062.079999999999,11992.369999999999,15304.920000000004,20672.210000000003,21374.120000000003,22750.110000000008,24844.380000000005,24911.730000000003,24947.71,24947.71,24947.71,24947.71,24947.71,24947.71,24561.86,{"$f":"24947.71-385.85","v":24561.86},{"$f":"24947.71-385.85","v":24561.86},"-","-","-","-","-","-","-","-","-"]
[null,"Resto hidráulica",594.21899999999994,644.23300000000006,727.77200000000005,793.65499999999997,897.16899999999976,1123.8878,1186.0117999999998,1233.3739499999999,1279.3079499999999,1331.8859499999999,1390.6804499999998,1473.1629499999999,1512.3313500000002,1567.29655,1629.9055500000002,1694.9185499999999,1796.3650500000001,1869.6106499999996,1977.2756499999998,2020.3066500000002,2030.9589800000001,2036.4207800000001,2039.9287800000002,2094.9217799999997,2094.9217799999997,"-","-","-","-","-","-","-","-","-","-","-","-","-","-","-"]
[null,"Eólica",0.54,0.54,30.439999999999998,33.630000000000003,38.910000000000004,96.559999999999988,146.35999999999999,375.44499999999999,633.77499999999998,1021.942,1828.9220000000003,2816.9320000000002,4390.9845000000005,5816.0565000000006,7777.1265000000003,9654.0224999999991,11285.709699999999,13525.789700000001,15992.826700000003,18714.441700000003,19561.053450000003,21018.087449999999,22608.70205,22852.974049999993,22871.444549999997,22798.204149999998,22845.657150000003,22871.21975,23124.038,25365.246999999999,25467.932360000003,"-","-","-","-","-","-","-","-","-"]
[null,"Solar fotovoltaica",0.1,0.1,0.1,0.1,1.1000000000000001,1.1000000000000001,1.1000000000000001,1.137,1.159,1.2201599999999999,1.7157400000000003,2.1768100000000001,4.8429000000000002,11.375629999999969,20.925459999999859,42.94620000000004,118.85114000000021,594.27135000000033,3205.1997500001021,3243.2076300001027,3645.2139100000977,4032.0594600000986,4293.5912300000982,4396.5001700001485,4402.664610000149,4432.2027210001288,4436.1886610001284,4438.0750350001281,4463.7811400001274,8664.5649800001265,8897.7368700001243,"-","-","-","-","-","-","-","-","-"]
[null,"Solar térmica","-","-","-","-","-","-","-","-","-","-","-","-","-","-","-","-",11.02,11.02,60.92,232.22,531.91999999999996,998.52,1949.92,2299.4275000000002,2299.4275000000002,2304.0129999999999,2304.0129999999999,2304.0129999999999,2304.0129999999999,2304.0129999999999,2304.0129999999999,"-","-","-","-","-","-","-","-","-"]
[null,"Térmica renovable/Otras renovables","-","-",15.459999999999999,20.96,20.96,62.134999999999998,80.031000000000006,101.988,114.72999999999999,128.54599999999999,181.30199999999999,229.33800000000002,341.29250000000002,433.44349999999997,451.07850000000008,478.67449999999997,554.42849999999999,572.6689100000001,612.49491,740.10491000000002,778.78391000000011,882.91990999999996,968.43241,944.44241000000011,981.96541000000002,876.26799999999992,864.57499999999982,866.30100000000004,870.97200000000009,1070.6409999999998,1070.1409999999998,"-","-","-","-","-","-","-","-","-"]
[null,"Térmica no renovable/Cogeneración y resto/Cogeneración",159.155,225.50699999999998,334.25400000000002,534.61200000000008,682.43600000000004,1162.9033000000002,1834.3803,2336.5797000000002,2956.4976999999994,3610.6446999999998,4216.4216999999999,4969.2517000000007,5377.3337000000001,5731.7867000000015,5987.431700000001,6162.5016999999998,6370.5046999999995,6482.9881000000005,6736.6391000000003,6968.1220000000003,7098.0841999999993,7179.0716999999986,7117.1501999999982,7057.8806999999997,7047.8021999999992,6135.83061,5954.5576099999998,5790.4726100000007,5716.6395000000011,5666.4455000000007,5661.7895000000008,"-","-","-","-","-","-","-","-","-"]
[null,"Residuos no renovables","-","-","-","-","-","-","-","-","-","-","-","-","-","-","-","-","-","-","-","-","-","-","-","-","-",469.58749999999998,457.65549999999996,457.65549999999996,451.1275,451.1275,451.1275,"-","-","-","-","-","-","-","-","-"]
[null,"Residuos renovables","-","-","-","-","-","-","-","-","-","-","-","-","-","-","-","-","-","-","-","-","-","-","-","-","-",121.7915,121.7915,121.7915,121.7915,121.7915,121.7915,"-","-","-","-","-","-","-","-","-"]
[null,"Total",{"$f":"SUM(C3:C16)","v":41806.693999999996},41994.579999999994,42333.536,42608.466999999997,43081.205000000009,43911.316099999989,45041.623100000004,46560.263650000008,47544.19965000001,48853.228810000001,50594.101889999998,52494.771460000004,56944.704950000014,59896.438880000002,66139.917710000009,71865.093449999986,77208.949090000009,83594.128710000005,89537.896110000103,92893.012890000115,96130.75445000011,97659.449300000109,99936.594670000093,100622.95661000014,100538.91605000016,100479.37411100013,99397.865051000132,98804.828025000141,98666.638870000141,{"$f":"SUM(AF3:AF16)","v":104949.66871000014},{"$f":"SUM(AG3:AG16)","v":105280.36996000014},"-","-","-","-","-","-","-","-","-"]
[]
[null,"Potencia instalada Islas Baleares (MW)",2006,2007,2008,2009,2010,2011,2012,2013,2014,2015,2016,2017,2018,2019,2020,2021,2022,2023,2024,2025]
[null,"Carbón",468.4,468.4,468.4,468.4,468.4,468.4,468.4,468.4,468.4,468.4,468.4,468.4,468.4,468.4,241.19999999999996,"-","-","-","-","-"]
[null,"Motores diesel",175.6,210.4,203.3,196.2,196.2,182,182,182,182,182,182,182,182,{"$f":"182-14.2*3","v":139.4},{"$f":"182-14.2*3","v":139.4},"-","-","-","-","-"]
[null,"Turbina de gas",541.89999999999986,387.9,460.7999999999999,531.79999999999995,533.4,533.4,557.4,605.4,605.4,605.4,605.4,605.4,605.4,605.4,605.4,"-","-","-","-","-"]
[null,"Fuel + Gas",{"$f":"SUM(C21:C22)","v":717.49999999999989},598.29999999999995,664.09999999999991,728,729.59999999999991,715.4,739.4,787.4,787.4,{"$f":"SUM(L21:L22)","v":787.4},{"$f":"SUM(M21:M22)","v":787.4},787.4,787.4,{"$f":"+P21+P22","v":744.8},{"$f":"+Q21+Q22","v":744.8},"-","-","-","-","-"]
[null,"Ciclo combinado",418.15,643.45000000000005,643.45000000000005,793.65000000000009,857.95,857.95,857.95,857.95,857.95,857.95,857.95,857.95,857.95,857.95,857.95,"-","-","-","-","-"]
[null,"Generación auxiliar","-","-","-","-","-","-","-","-","-","-","-","-","-","-","-","-","-","-","-","-"]
[null,"Eólica",3.6762999999999901,3.6762999999999999,3.6762999999999999,3.6762999999999999,3.6762999999999999,3.6762999999999901,3.6762999999999901,3.6762999999999999,3.6762999999999999,3.6474999999999906,3.6474999999999906,3.6474999999999906,3.6374999999999909,3.6374999999999909,3.6374999999999909,"-","-","-","-","-"]
[null,"Solar fotovoltaica",1.1128899999999999,1.4766900000000001,51.537539999999701,52.584539999999699,59.013529999999705,63.132079999999704,77.5061299999997,77.674929999999904,77.733829999999898,78.83145999999978,79.428214999999838,79.997084999999828,80.442744999999846,80.871014999999844,80.871014999999844,"-","-","-","-","-"]
[null,"Térmica renovable/Otras renovables","-","-","-","-","-","-",2.13,2.13,2.13,2.13,2.13,2.13,2.13,2.13,2.13,"-","-","-","-","-"]
[null,"Térmica no renovable/Cogeneración y resto/Cogeneración",38.31,39.167999999999999,38.188000000000002,40.402000000000001,81.170999999999992,82.170999999999992,85.625,85.625,85.625,10.487000000000002,10.487000000000002,10.487000000000002,10.486999999999998,10.486999999999998,10.486999999999998,"-","-","-","-","-"]
[null,"Residuos no renovables","-","-","-","-","-","-","-","-","-",37.400000000000006,37.400000000000006,37.400000000000006,37.400000000000006,37.400000000000006,37.400000000000006,"-","-","-","-","-"]
[null,"Residuos renovables","-","-","-","-","-","-","-","-","-",37.400000000000006,37.400000000000006,37.400000000000006,37.400000000000006,37.400000000000006,37.400000000000006,"-","-","-","-","-"]
[null,"Total",{"$f":"SUM(C20,C23:C30)","v":1647.1491899999999},{"$f":"SUM(D20,D23:D30)","v":1754.4709899999998},1869.35184,2086.7128399999997,2199.8108299999994,2190.7293799999998,2234.6874299999999,2282.8562300000003,2282.9151300000003,{"$f":"SUM(L20,L23:L31)","v":2283.6459600000003},{"$f":"SUM(M20,M23:M31)","v":2284.2427150000003},{"$f":"SUM(N20,N23:N31)","v":2284.8115850000004},{"$f":"SUM(O20,O23:O31)","v":2285.247245},{"$f":"SUM(P20,P23:P31)","v":2243.0755149999995},{"$f":"SUM(Q20,Q23:Q31)","v":2015.8755150000002},"-","-","-","-","-"]
[]
[null,"Potencia instalada Islas Canarias (MW)",2006,2007,2008,2009,2010,2011,2012,2013,2014,2015,2016,2017,2018,2019,2020,2021,2022,2023,2024,2025]
[null,"Hidráulica",0.8,0.8,0.8,0.8,0.8,0.8,0.8,0.8,0.8,2.02,2.02,2.02,2.02,2.02,2.02,"-","-","-","-","-"]
[null,"Motores diesel",476.73000000000008,476.73000000000008,476.73000000000008,476.73000000000008,476.73000000000008,476.73000000000008,476.73000000000008,496.2000000000001,495.92000000000013,495.92000000000013,495.92000000000013,495.92000000000013,495.92,495.92,495.92,"-","-","-","-","-"]
[null,"Turbina de gas",520.17000000000007,520.17000000000007,520.17000000000007,520.17000000000007,520.17000000000007,557.16000000000008,557.16000000000008,557.16000000000008,557.16000000000008,557.1400000000001,557.1400000000001,557.1400000000001,557.1400000000001,557.1400000000001,557.1400000000001,"-","-","-","-","-"]
[null,"Turbina de vapor",659.78,659.78,659.78,659.78,659.78,659.78,659.78,482.64,482.64,482.64,482.64,482.64,482.64,482.64,482.64,"-","-","-","-","-"]
[null,"Fuel + Gas",{"$f":"SUM(C36:C38)","v":1656.68},{"$f":"SUM(D36:D38)","v":1656.68},{"$f":"SUM(E36:E38)","v":1656.68},1656.68,1656.68,1693.67,1693.67,1536,1535.7200000000003,1535.7000000000003,1535.7000000000003,{"$f":"SUM(N36:N38)","v":1535.7000000000003},1535.7000000000003,{"$f":"SUM(P36:P38)","v":1535.7000000000003},{"$f":"SUM(Q36:Q38)","v":1535.7000000000003},"-","-","-","-","-"]
[null,"Ciclo combinado",635.20000000000005,635.20000000000005,635.20000000000005,640.20000000000005,870.60000000000014,864.2,864.2,864.2,864.2,864.2,864.2,864.2,864.2,864.2,864.2,"-","-","-","-","-"]
[null,"Generación auxiliar",41.269999999999996,41.35,16.18,16.100000000000001,"-","-","-","-","-","-","-","-","-","-","-","-","-","-","-","-"]
[null,"Hidroéolica","-","-","-","-","-","-","-","-",11.39,11.39,11.39,11.39,11.39,11.39,11.39,"-","-","-","-","-"]
[null,"Resto hidráulica",0.46300000000000002,0.46300000000000002,0.46300000000000002,0.46300000000000002,0.46300000000000002,0.46300000000000002,0.46300000000000002,0.46300000000000002,0.46300000000000002,"-","-","-","-","-","-","-","-","-","-","-"]
[null,"Eólica",126.645,134.95499999999998,136.98499999999999,142.58500000000001,142.58500000000001,145.13499999999999,145.47499999999999,152.59,152.59,152.05499999999998,152.05499999999998,206.89999999999995,417.71499999999997,430.315,430.315,"-","-","-","-","-"]
[null,"Solar fotovoltaica",5.4037799999999896,22.222709999999999,93.754159999999203,95.706609999999202,125.0978099999992,138.04025999999908,161.15557999999911,164.19107999999801,165.24327999999801,167.18666999999962,167.19166999999962,167.25116999999963,167.34816999999964,167.10714499999966,167.10714499999966,"-","-","-","-","-"]
[null,"Térmica renovable/Otras renovables",38.200000000000003,40.296000000000006,41.568000000000005,41.568000000000005,41.568000000000005,3.3679999999999999,3.3679999999999999,3.3679999999999999,3.3679999999999999,3.6960000000000002,3.6960000000000002,3.6960000000000002,3.6960000000000002,3.6960000000000002,3.6960000000000002,"-","-","-","-","-"]
[null,"Térmica no renovable/Cogeneración y resto/Cogeneración",33.268000000000001,33.268000000000001,33.268000000000001,33.268000000000001,33.268000000000001,33.268000000000001,33.268000000000001,33.268000000000001,33.268000000000001,"-","-","-","-","-","-","-","-","-","-","-"]
[null,"Total",{"$f":"SUM(C35,C39:C47)","v":2537.9297800000004},2565.2347100000002,2614.8981599999997,2627.3706099999999,2871.0618099999997,2878.9442599999988,2902.3995799999993,2754.8800799999985,2767.0422799999983,2736.2476699999993,2736.2526699999994,{"$f":"SUM(N35,N39:N47)","v":2791.1571699999995},{"$f":"SUM(O35,O39:O47)","v":3002.0691699999998},{"$f":"SUM(P35,P39:P47)","v":3014.4281449999994},{"$f":"SUM(Q35,Q39:Q47)","v":3014.4281449999994},"-","-","-","-","-"]
[]
[null,"Potencia instalada Ceuta (MW)",2006,2007,2008,2009,2010,2011,2012,2013,2014,2015,2016,2017,2018,2019,2020,2021,2022,2023,2024,2025]
[null,"Motores diesel",53.3,64.47999999999999,65.72,65.72,77.52,77.52,77.52,77.52,77.52,77.52,77.52,77.52,77.52,77.52,77.52,"-","-","-","-","-"]
[null,"Turbina de gas","-","-","-","-",13.3,13.3,13.3,13.3,13.3,13.3,13.3,13.3,13.3,13.3,13.3,"-","-","-","-","-"]
[null,"Fuel + Gas",{"$f":"SUM(C51:C52)","v":53.3},{"$f":"SUM(D51:D52)","v":64.47999999999999},65.72,65.72,90.82,90.82,90.82,90.82,90.82,90.82,90.82,{"$f":"SUM(N51:N52)","v":90.82},90.82,{"$f":"SUM(P51:P52)","v":90.82},90.82,"-","-","-","-","-"]
[null,"Total",{"$f":"C53","v":53.3},{"$f":"D53","v":64.47999999999999},65.72,65.72,90.82,90.82,90.82,90.82,90.82,90.82,90.82,{"$f":"N53","v":90.82},90.82,{"$f":"P53","v":90.82},{"$f":"Q53","v":90.82},{"$f":"R53","v":"-"},"-","-","-","-"]
[]
[null,"Potencia instalada Melilla (MW)",2006,2007,2008,2009,2010,2011,2012,2013,2014,2015,2016,2017,2018,2019,2020,2021,2022,2023,2024,2025]
[null,"Motores diesel",49.81,64.510000000000005,64.64,64.64,64.64,64.64,64.64,64.64,64.64,64.64,64.64,64.64,64.64,64.64,64.64,"-","-","-","-","-"]
[null,"Turbina de gas",11.5,11.5,11.5,11.5,11.5,11.5,11.5,11.5,11.5,11.5,11.5,11.5,11.5,11.5,11.5,"-","-","-","-","-"]
[null,"Fuel + Gas",{"$f":"SUM(C57:C58)","v":61.31},{"$f":"SUM(D57:D58)","v":76.010000000000005},76.14,76.14,76.14,76.14,76.14,76.14,76.14,76.14,76.14,{"$f":"SUM(N57:N58)","v":76.14},76.14,{"$f":"SUM(P57:P58)","v":76.14},76.14,"-","-","-","-","-"]
[null,"Solar fotovoltaica",7.4999999999999997E-3,8.3999999999999995E-3,5.79E-2,5.79E-2,5.79E-2,5.79E-2,5.79E-2,5.79E-2,5.79E-2,5.9700000000000003E-2,5.9700000000000003E-2,5.9700000000000003E-2,5.9700000000000003E-2,5.9700000000000003E-2,5.9700000000000003E-2,"-","-","-","-","-"]
[null,"Térmica no renovable/Cogeneración y resto/Cogeneración",0,2.1680000000000001,2.1680000000000001,2.1680000000000001,2.1680000000000001,2.1680000000000001,2.1680000000000001,2.1680000000000001,2.1680000000000001,"-","-","-","-","-","-","-","-","-","-","-"]
[null,"Residuos no renovables","-","-","-","-","-","-","-","-","-",1.0840000000000001,1.0840000000000001,1.0840000000000001,1.0840000000000001,1.0840000000000001,1.0840000000000001,"-","-","-","-","-"]
[null,"Residuos renovables","-","-","-","-","-","-","-","-","-",1.0840000000000001,1.0840000000000001,1.0840000000000001,1.0840000000000001,1.0840000000000001,1.0840000000000001,"-","-","-","-","-"]
[null,"Total",{"$f":"SUM(C59:C62)","v":61.317500000000003},{"$f":"SUM(D59:D62)","v":78.186400000000006},78.365900000000011,78.365900000000011,78.365900000000011,78.365900000000011,78.365900000000011,78.365900000000011,78.365900000000011,{"$f":"SUM(L59:L63)","v":78.367700000000013},{"$f":"SUM(M59:M63)","v":78.367700000000013},78.367700000000013,{"$f":"SUM(O59:O63)","v":78.367700000000013},78.367700000000013,{"$f":"SUM(Q59:Q63)","v":78.367700000000013},"-","-","-","-","-"]
[]
[null,"Potencia instalada nacional (MW)",2006,2007,2008,2009,2010,2011,2012,2013,2014,2015,2016,2017,2018,2019,2020,2021,2022,2023,2024,2025]
[null,"Hidráulica convencional y mixta",{"$f":"SUM(S3,C35)","v":14567.21},14580.21,14636.31,14636.31,14656.109999999999,14668.009999999998,14887.449999999999,14890.49,14896.72,17026.296629999997,{"$f":"SUM(AC3,M35)","v":17030.396629999999},{"$f":"SUM(AD3,N35)","v":17027.559629999996},{"$f":"SUM(AE3,O35)","v":17046.371230000001},{"$f":"SUM(AF3,P35)","v":17084.773229999999},{"$f":"SUM(AG3,Q35)","v":17084.773229999999},"-","-","-","-","-"]
[null,"Bombeo puro",{"$f":"S4","v":2450.9399999999996},{"$f":"T4","v":2450.9399999999996},2450.9399999999996,2450.9399999999996,2450.9399999999996,2450.9399999999996,2450.9399999999996,2450.9399999999996,2450.9399999999996,3328.89,{"$f":"AC4","v":3328.89},{"$f":"AD4","v":3328.8900000000003},{"$f":"AE4","v":3328.8900000000003},{"$f":"AF4","v":3328.8900000000003},{"$f":"AG4","v":3328.8900000000003},"-","-","-","-","-"]
[null,"Nuclear",{"$f":"S5","v":7455.58},{"$f":"T5","v":7455.58},7455.58,7455.58,7515.3700000000008,7572.58,7572.58,7572.58,7572.58,7572.58,7572.58,7117.29,7117.29,7117.29,7117.29,"-","-","-","-","-"]
[null,"Carbón",{"$f":"SUM(S6,C20)","v":11392.7},11326.050000000001,11324.800000000001,11324.800000000001,11342.35,11571.79,11063.869999999999,11078.77,10936.42,10936.42,{"$f":"SUM(AC6,M20)","v":10004.27},{"$f":"SUM(AD6,N20)","v":10004.27},{"$f":"SUM(AE6,O20)","v":10030.284999999998},{"$f":"SUM(AF6,P20)","v":9683.4449999999997},{"$f":"SUM(AG6,Q20)","v":9456.2450000000008},"-","-","-","-","-"]
[null,"Fuel + Gas",{"$f":"SUM(S7,C23,C25,C41,C39,C53,C59)","v":8899.9799999999977},6958.81,6658.8100000000013,5368.7100000000009,4698.03,3382.55,3105.55,2995.88,2995.6000000000004,2490.0600000000004,{"$f":"SUM(AC7,M23,M25,M41,M39,M53,M59)","v":2490.0600000000004},{"$f":"SUM(AD7,N23,N25,N41,N39,N53,N59)","v":2490.0600000000004},{"$f":"SUM(AE7,O23,O25,O41,O39,O53,O59)","v":2490.0600000000004},{"$f":"SUM(AF7,P23,P25,P41,P39,P53,P59)","v":2447.46},{"$f":"SUM(AG7,Q23,Q25,Q41,Q39,Q53,Q59)","v":2447.46},"-","-","-","-","-"]
[null,"Ciclo combinado",{"$f":"SUM(S8,C24,C40)","v":16358.270000000004},21950.860000000004,22652.770000000004,24183.96000000001,26572.930000000004,26633.880000000005,26669.86,26669.86,26669.86,26669.86,{"$f":"SUM(AC8,M24,M40)","v":26669.86},{"$f":"SUM(AD8,N24,N40)","v":26669.86},{"$f":"SUM(AE8,O24,O40)","v":26284.010000000002},{"$f":"SUM(AF8,P24,P40)","v":26284.010000000002},{"$f":"SUM(AG8,Q24,Q40)","v":26284.010000000002},"-","-","-","-","-"]
[null,"Hidroeólica",{"$f":"C42","v":"-"},"-","-","-","-","-","-","-",11.39,11.39,{"$f":"M42","v":11.39},11.39,11.39,11.39,11.39,"-","-","-","-","-"]
[null,"Resto hidráulica",{"$f":"SUM(S9,C43)","v":1796.8280500000001},1870.0736499999996,1977.7386499999998,2020.7696500000002,2031.4219800000001,2036.8837800000001,2040.3917800000002,2095.3847799999999,2095.3847799999999,"-","-","-","-","-","-","-","-","-","-","-"]
[null,"Eólica",{"$f":"SUM(S10,C26,C44)","v":11416.030999999999},13664.421,16133.488000000003,18860.703000000001,19707.314750000001,21166.898749999997,22757.853349999998,23009.240349999993,23027.710849999996,22953.906649999997,{"$f":"SUM(AC10,M26,M44)","v":23001.359650000002},{"$f":"SUM(AD10,N26,N44)","v":23081.767250000001},{"$f":"SUM(AE10,O26,O44)","v":23545.390500000001},{"$f":"SUM(AF10,P26,P44)","v":25799.199499999999},{"$f":"SUM(AG10,Q26,Q44)","v":25901.884860000002},"-","-","-","-","-"]
[null,"Solar fotovoltaica",{"$f":"SUM(S11,C27,C45,C60)","v":125.37531000000018},617.97915000000035,3350.5493500001007,3391.5566800001016,3829.3831500000965,4233.2897000000976,4532.3108400000965,4638.4240800001462,4645.6996200001468,{"$f":"SUM(AB11,L27,L45,L60)","v":4678.2805510001281},{"$f":"SUM(AC11,M27,M45,M60)","v":4682.8682460001273},{"$f":"SUM(AD11,N27,N45,N60)","v":4685.3829900001274},{"$f":"SUM(AE11,O27,O45,O60)","v":4711.6317550001268},{"$f":"SUM(AF11,P27,P45,P60)","v":8912.6028400001269},{"$f":"SUM(AG11,Q27,Q45,Q60)","v":9145.7747300001247},"-","-","-","-","-"]
[null,"Solar térmica",{"$f":"S12","v":11.02},11.02,60.92,232.22,531.91999999999996,998.52,1949.92,2299.4275000000002,2299.4275000000002,2304.0129999999999,{"$f":"AC12","v":2304.0129999999999},{"$f":"AD12","v":2304.0129999999999},{"$f":"AE12","v":2304.0129999999999},{"$f":"AF12","v":2304.0129999999999},{"$f":"AG12","v":2304.0129999999999},"-","-","-","-","-"]
[null,"Térmica renovable/Otras renovables",{"$f":"SUM(S13,C28,C46)","v":592.62850000000003},612.96491000000015,654.06290999999999,781.67291,820.35191000000009,886.28791000000001,973.93041000000005,949.94041000000016,987.46341000000007,882.09399999999994,{"$f":"SUM(AC13,M28,M46)","v":870.40099999999984},{"$f":"SUM(AD13,N28,N46)","v":872.12700000000007},{"$f":"SUM(AE13,O28,O46)","v":876.79800000000012},{"$f":"SUM(AF13,P28,P46)","v":1076.4669999999999},{"$f":"SUM(AG13,Q28,Q46)","v":1075.9669999999999},"-","-","-","-","-"]
[null,"Térmica no renovable/Cogeneración y resto/Cogeneración",{"$f":"SUM(S14,C29,C47,C61)","v":6442.0826999999999},6557.5920999999998,6810.2631000000001,7043.96,7214.6911999999993,7296.6786999999986,7238.2111999999979,7178.9416999999994,7168.8631999999989,6146.3176100000001,{"$f":"SUM(AC14,M29,M47,M61)","v":5965.0446099999999},{"$f":"SUM(AD14,N29,N47,N61)","v":5800.9596100000008},{"$f":"SUM(AE14,O29,O47,O61)","v":5727.1265000000012},{"$f":"SUM(AF14,P29,P47,P61)","v":5676.9325000000008},{"$f":"SUM(AG14,Q29,Q47,Q61)","v":5672.2765000000009},"-","-","-","-","-"]
[null,"Residuos no renovables","-","-","-","-","-","-","-","-","-",{"$f":"SUM(AB15,L30,L62)","v":508.07149999999996},{"$f":"SUM(AC15,M30,M62)","v":496.13949999999994},{"$f":"SUM(AD15,N30,N62)","v":496.13949999999994},{"$f":"SUM(AE15,O30,O62)","v":489.61150000000004},{"$f":"SUM(AF15,P30,P62)","v":489.61150000000004},{"$f":"SUM(AG15,Q30,Q62)","v":489.61150000000004},"-","-","-","-","-"]
[null,"Residuos renovables","-","-","-","-","-","-","-","-","-",160.27550000000002,160.27550000000002,160.27550000000002,160.27550000000002,160.27550000000002,160.27550000000002,"-","-","-","-","-"]
[null,"Total",{"$f":"SUM(C67:C81)","v":81508.645560000004},{"$f":"SUM(D67:D81)","v":88056.500809999998},94166.232010000094,97751.182240000126,101370.81299000009,102898.3088400001,105242.86758000008,105829.87882000011,{"$f":"SUM(K67:K81)","v":105758.05936000012},105668.45544100014,104587.54813600013,104049.98448000014,104123.14298500012,110376.36007000013,{"$f":"SUM(Q67:Q81)","v":110479.86132000016},"-","-","-","-","-"]
[]
[null,"Potencia instalada Andalucía (MW)",2015,2016,2017,2018,2019,2020,2021,2022,2023,2024]
[null,"Bombeo puro",582.88,582.88,582.88,582.88,582.88,582.88,"-","-","-","-"]
[null,"Hidráulica convencional y mixta",590.02299999999991,590.55299999999988,587.44399999999996,587.48400000000004,621.57900000000006,621.57900000000006,"-","-","-","-"]
[null,"Nuclear","-","-","-","-","-","-","-","-","-","-"]
[null,"Carbón",1989.4,1989.4,1989.4,1989.4,1989.4,1989.4,"-","-","-","-"]
[null,"Fuel + Gas","-","-","-","-","-","-","-","-","-","-"]
[null,"Ciclo combinado",5951.72,5951.72,5951.72,5951.72,5951.72,5951.72,"-","-","-","-"]
[null,"Eólica",3327.1804999999999,3327.1804999999999,3327.1804999999999,3327.1804999999999,3450.9055000000003,3450.9055000000003,"-","-","-","-"]
[null,"Solar fotovoltaica",874.98315900005468,877.64777900005481,878.46950900005459,881.89195900005473,1783.8415390000546,1954.8947990000543,"-","-","-","-"]
[null,"Solar térmica",1000.0229999999998,1000.0229999999998,1000.0229999999998,1000.0229999999998,1000.0229999999998,1000.0229999999998,"-","-","-","-"]
[null,"Térmica renovable/Otras renovables",232.26,233.64400000000001,229.92900000000003,229.92900000000003,276.86200000000002,276.86200000000002,"-","-","-","-"]
[null,"Térmica no renovable/Cogeneración y resto/Cogeneración",903.48049999999989,897.68049999999994,849.95850000000019,848.95950000000016,848.95950000000016,848.95950000000016,"-","-","-","-"]
[null,"Residuos no renovables",95.472999999999985,83.540999999999997,83.540999999999997,83.540999999999997,83.540999999999997,83.540999999999997,"-","-","-","-"]
[null,"Residuos renovables","-","-","-","-","-","-","-","-","-","-"]
[null,"Total",{"$f":"SUM(C85:C97)","v":15547.423159000055},15534.269779000055,15480.545509000054,15483.008959000055,16589.711539000058,16760.764799000055,"-","-","-","-"]
[]
[null,"Potencia instalada Aragón (MW)",2015,2016,2017,2018,2019,2020,2021,2022,2023,2024]
[null,"Bombeo puro",219.14,219.14,219.14,219.14,219.14,219.14,"-","-","-","-"]
[null,"Hidráulica convencional y mixta",1333.8325,1333.8325,1333.8325,1333.8325,1333.8544999999999,1333.8544999999999,"-","-","-","-"]
[null,"Nuclear","-","-","-","-","-","-","-","-","-","-"]
[null,"Carbón",1055.77,1055.77,1055.77,1055.77,1055.77,1055.77,"-","-","-","-"]
[null,"Fuel + Gas","-","-","-","-","-","-","-","-","-","-"]
[null,"Ciclo combinado",1869.68,1869.68,1869.68,1869.68,1869.68,1869.68,"-","-","-","-"]
[null,"Eólica",1906.3200000000002,1906.3200000000002,1924.3200000000002,2096.42,3213.1890000000003,3266.0843600000003,"-","-","-","-"]
[null,"Solar fotovoltaica",168.48273999999967,168.50273999999965,168.74613999999966,168.97913999999966,938.44108999999992,950.77900999999997,"-","-","-","-"]
[null,"Solar térmica","-","-","-","-","-","-","-","-","-","-"]
[null,"Térmica renovable/Otras renovables",42.335000000000001,42.335000000000001,42.335000000000001,42.335000000000001,42.335000000000001,42.335000000000001,"-","-","-","-"]
[null,"Térmica no renovable/Cogeneración y resto/Cogeneración",493.73199999999997,490.93700000000001,478.22699999999998,478.25900000000001,478.25900000000001,478.25900000000001,"-","-","-","-"]
[null,"Residuos no renovables",49.9,49.9,49.9,49.9,49.9,49.9,"-","-","-","-"]
[null,"Residuos renovables","-","-","-","-","-","-","-","-","-","-"]
[null,"Total",{"$f":"SUM(C101:C113)","v":7139.1922399999994},7136.4172399999998,7141.9506399999991,7314.3156399999989,9200.5685899999989,9265.8018699999993,"-","-","-","-"]
[]
[null,"Potencia instalada Asturias (MW)",2015,2016,2017,2018,2019,2020,2021,2022,2023,2024]
[null,"Bombeo puro","-","-","-","-","-","-","-","-","-","-"]
[null,"Hidráulica convencional y mixta",804.75179999999989,804.75179999999989,804.75179999999989,804.75179999999989,804.75179999999989,804.75179999999989,"-","-","-","-"]
[null,"Nuclear","-","-","-","-","-","-","-","-","-","-"]
[null,"Carbón",2364.59,2073.42,2073.42,2099.4349999999999,2099.4349999999999,2099.4349999999999,"-","-","-","-"]
[null,"Fuel + Gas","-","-","-","-","-","-","-","-","-","-"]
[null,"Ciclo combinado",854.17,854.17,854.17,854.17,854.17,854.17,"-","-","-","-"]
[null,"Eólica",518.45000000000005,518.45000000000005,518.45000000000005,518.45000000000005,518.45000000000005,518.45000000000005,"-","-","-","-"]
[null,"Solar fotovoltaica",0.79043000000000041,0.79043000000000041,0.73653000000000024,0.82895500000000033,0.79648500000000033,0.79648500000000033,"-","-","-","-"]
[null,"Solar térmica","-","-","-","-","-","-","-","-","-","-"]
[null,"Térmica renovable/Otras renovables",86.710000000000008,86.710000000000008,86.710000000000008,90.860000000000014,90.860000000000014,90.860000000000014,"-","-","-","-"]
[null,"Térmica no renovable/Cogeneración y resto/Cogeneración",81.516999999999967,74.905999999999963,68.923999999999978,68.923999999999978,68.923999999999978,68.923999999999978,"-","-","-","-"]
[null,"Residuos no renovables",74.387,74.387,74.387,74.387,74.387,74.387,"-","-","-","-"]
[null,"Residuos renovables","-","-","-","-","-","-","-","-","-","-"]
[null,"Total",{"$f":"SUM(C117:C129)","v":4785.3662299999996},4487.5852299999997,4481.5493299999998,4511.8067549999996,4511.7742849999995,4511.7742849999995,"-","-","-","-"]
[]
[null,"Potencia instalada C.Valenciana (MW)",2015,2016,2017,2018,2019,2020,2021,2022,2023,2024]
[null,"Bombeo puro",1511.95,1511.95,1511.95,1511.95,1511.95,1511.95,"-","-","-","-"]
[null,"Hidráulica convencional y mixta",639.78399999999988,639.78399999999988,639.78399999999988,639.78399999999988,639.78399999999988,639.78399999999988,"-","-","-","-"]
[null,"Nuclear",1063.94,1063.94,1063.94,1063.94,1063.94,1063.94,"-","-","-","-"]
[null,"Carbón","-","-","-","-","-","-","-","-","-","-"]
[null,"Fuel + Gas","-","-","-","-","-","-","-","-","-","-"]
[null,"Ciclo combinado",2853.54,2853.54,2853.54,2853.54,2853.54,2853.54,"-","-","-","-"]
[null,"Eólica",1205.2399999999998,1205.2399999999998,1205.2399999999998,1205.2399999999998,1205.2399999999998,1255.0299999999997,"-","-","-","-"]
[null,"Solar fotovoltaica",348.08595499999558,348.10863999999555,348.25512499999599,360.35772499999553,364.3151149999955,364.3151149999955,"-","-","-","-"]
[null,"Solar térmica",49.9,49.9,49.9,49.9,49.9,49.9,"-","-","-","-"]
[null,"Térmica renovable/Otras renovables",14.042999999999999,12.393000000000001,12.893000000000001,13.222999999999999,13.222999999999999,13.222999999999999,"-","-","-","-"]
[null,"Térmica no renovable/Cogeneración y resto/Cogeneración",522.76260999999977,503.37060999999977,500.92060999999978,462.51999999999975,457.7849999999998,453.12899999999979,"-","-","-","-"]
[null,"Residuos no renovables",63.087999999999994,63.087999999999994,63.087999999999994,63.087999999999994,63.087999999999994,63.087999999999994,"-","-","-","-"]
[null,"Residuos renovables","-","-","-","-","-","-","-","-","-","-"]
[null,"Total",{"$f":"SUM(C133:C145)","v":8272.3335649999935},8251.3142499999958,8249.5107349999962,8223.5427249999939,8222.7651149999947,8267.8991149999947,"-","-","-","-"]
[]
[null,"Potencia instalada Cantabria (MW)",2015,2016,2017,2018,2019,2020,2021,2022,2023,2024]
[null,"Bombeo puro",360.6,360.6,360.6,360.6,360.6,360.6,"-","-","-","-"]
[null,"Hidráulica convencional y mixta",98.417000000000002,98.841999999999985,98.841999999999985,98.841999999999985,98.912000000000006,98.912000000000006,"-","-","-","-"]
[null,"Nuclear","-","-","-","-","-","-","-","-","-","-"]
[null,"Carbón","-","-","-","-","-","-","-","-","-","-"]
[null,"Fuel + Gas","-","-","-","-","-","-","-","-","-","-"]
[null,"Ciclo combinado","-","-","-","-","-","-","-","-","-","-"]
[null,"Eólica",35.310500000000005,35.310500000000005,35.310500000000005,35.310500000000005,35.310500000000005,35.310500000000005,"-","-","-","-"]
[null,"Solar fotovoltaica",2.0995349999999982,2.0995349999999982,2.1730549999999984,2.1730549999999984,2.1730549999999984,2.1730549999999984,"-","-","-","-"]
[null,"Solar térmica","-","-","-","-","-","-","-","-","-","-"]
[null,"Térmica renovable/Otras renovables",12.862,12.862,12.862,12.862,12.862,12.862,"-","-","-","-"]
[null,"Térmica no renovable/Cogeneración y resto/Cogeneración",295.59950000000003,295.59950000000003,295.59950000000003,295.59950000000003,295.59950000000003,295.59950000000003,"-","-","-","-"]
[null,"Residuos no renovables",4.9669999999999996,4.9669999999999996,4.9669999999999996,4.9669999999999996,4.9669999999999996,4.9669999999999996,"-","-","-","-"]
[null,"Residuos renovables",4.9669999999999996,4.9669999999999996,4.9669999999999996,4.9669999999999996,4.9669999999999996,4.9669999999999996,"-","-","-","-"]
[null,"Total",{"$f":"SUM(C149:C161)","v":814.82253500000002},815.24753499999997,815.321055,815.321055,815.39105500000005,815.39105500000005,"-","-","-","-"]
[]
[null,"Potencia instalada Castilla-La Mancha (MW)",2015,2016,2017,2018,2019,2020,2021,2022,2023,2024]
[null,"Bombeo puro",215,215,215,215,215,215,"-","-","-","-"]
[null,"Hidráulica convencional y mixta",649.96699999999998,650.24199999999996,650.24199999999996,650.24199999999996,650.24199999999996,650.24199999999996,"-","-","-","-"]
[null,"Nuclear",1003.41,1003.41,1003.41,1003.41,1003.41,1003.41,"-","-","-","-"]
[null,"Carbón",502.64,"-","-","-","-","-","-","-","-","-"]
[null,"Fuel + Gas","-","-","-","-","-","-","-","-","-","-"]
[null,"Ciclo combinado",758.74,758.74,758.74,758.74,758.74,758.74,"-","-","-","-"]
[null,"Eólica",3798.9291999999987,3798.9291999999987,3799.1541999999986,3809.5241999999985,3812.5241999999985,3812.5241999999985,"-","-","-","-"]
[null,"Solar fotovoltaica",923.21464000007813,923.2315000000782,924.65074000007814,924.83340000007809,1746.2266700000782,1791.1660300000783,"-","-","-","-"]
[null,"Solar térmica",349.4,349.4,349.4,349.4,349.4,349.4,"-","-","-","-"]
[null,"Térmica renovable/Otras renovables",88.277000000000001,88.277000000000001,89.34,89.34,140.40300000000002,140.40300000000002,"-","-","-","-"]
[null,"Térmica no renovable/Cogeneración y resto/Cogeneración",389.78099999999995,379.78899999999993,352.52299999999997,353.47199999999998,353.47199999999998,353.47199999999998,"-","-","-","-"]
[null,"Residuos no renovables",0.68,0.68,0.68,0.68,0.68,0.68,"-","-","-","-"]
[null,"Residuos renovables","-","-","-","-","-","-","-","-","-","-"]
[null,"Total",{"$f":"SUM(C165:C177)","v":8680.0388400000775},8167.6987000000763,8143.1399400000773,8154.6416000000754,9030.097870000076,9075.0372300000763,"-","-","-","-"]
[]
[null,"Potencia instalada Castilla y León (MW)",2015,2016,2017,2018,2019,2020,2021,2022,2023,2024]
[null,"Bombeo puro","-","-","-","-","-","-","-","-","-","-"]
[null,"Hidráulica convencional y mixta",4398.9858999999997,4398.9858999999997,4399.2278999999999,4399.3154999999997,4399.3154999999997,4399.3154999999997,"-","-","-","-"]
[null,"Nuclear",455.29,455.29,"-","-","-","-","-","-","-","-"]
[null,"Carbón",2595.23,2456.89,2456.89,2456.89,2110.0499999999997,2110.0499999999997,"-","-","-","-"]
[null,"Fuel + Gas","-","-","-","-","-","-","-","-","-","-"]
[null,"Ciclo combinado","-","-","-","-","-","-","-","-","-","-"]
[null,"Eólica",5556.3820000000005,5589.8820000000014,5589.8820000000014,5589.8820000000014,6051.2170000000024,6051.2170000000024,"-","-","-","-"]
[null,"Solar fotovoltaica",494.27894000000333,494.42858500000335,495.03416000000334,495.63263000000336,802.72210500000335,802.71710500000336,"-","-","-","-"]
[null,"Solar térmica","-","-","-","-","-","-","-","-","-","-"]
[null,"Térmica renovable/Otras renovables",60.58,46.894999999999996,46.894999999999996,46.894999999999996,96.394999999999996,96.394999999999996,"-","-","-","-"]
[null,"Térmica no renovable/Cogeneración y resto/Cogeneración",605.39800000000002,595.83900000000006,592.50900000000001,592.50900000000001,592.50900000000001,592.50900000000001,"-","-","-","-"]
[null,"Residuos no renovables","-","-","-","-","-","-","-","-","-","-"]
[null,"Residuos renovables","-","-","-","-","-","-","-","-","-","-"]
[null,"Total",{"$f":"SUM(C181:C193)","v":14166.144840000004},14038.210485000005,13580.438060000004,13581.124130000006,14052.208605000005,14052.203605000006,"-","-","-","-"]
[]
[null,"Potencia instalada Cataluña (MW)",2015,2016,2017,2018,2019,2020,2021,2022,2023,2024]
[null,"Bombeo puro",439.32,439.32,439.32,439.32,439.32,439.32,"-","-","-","-"]
[null,"Hidráulica convencional y mixta",1913.1277999999998,1913.1727999999998,1912.8127999999997,1912.8127999999997,1912.8127999999997,1912.8127999999997,"-","-","-","-"]
[null,"Nuclear",3032.81,3032.81,3032.81,3032.81,3032.81,3032.81,"-","-","-","-"]
[null,"Carbón","-","-","-","-","-","-","-","-","-","-"]
[null,"Fuel + Gas","-","-","-","-","-","-","-","-","-","-"]
[null,"Ciclo combinado",4174.08,4174.08,4174.08,3788.23,3788.23,3788.23,"-","-","-","-"]
[null,"Eólica",1267.01,1268.81,1268.81,1271.1599999999999,1271.1599999999999,1271.1599999999999,"-","-","-","-"]
[null,"Solar fotovoltaica",266.12264999999917,266.53074999999916,266.50662999999918,269.51597999999916,273.87204999999921,276.53769999999918,"-","-","-","-"]
[null,"Solar térmica",24.29,24.29,24.29,24.29,24.29,24.29,"-","-","-","-"]
[null,"Térmica renovable/Otras renovables",71.48899999999999,71.813999999999993,72.644999999999996,72.835999999999984,73.095999999999989,73.095999999999989,"-","-","-","-"]
[null,"Térmica no renovable/Cogeneración y resto/Cogeneración",1087.3135000000007,1043.6515000000006,1010.3885000000007,1004.3940000000007,980.76000000000067,980.76000000000067,"-","-","-","-"]
[null,"Residuos no renovables",32.374500000000005,32.374500000000005,32.374500000000005,32.374500000000005,32.374500000000005,32.374500000000005,"-","-","-","-"]
[null,"Residuos renovables",27.174500000000002,27.174500000000002,27.174500000000002,27.174500000000002,27.174500000000002,27.174500000000002,"-","-","-","-"]
[null,"Total",{"$f":"SUM(C197:C209)","v":12335.111949999999},12294.028049999999,12261.211929999999,11874.917779999998,11855.89985,11858.565499999999,"-","-","-","-"]
[]
[null,"Potencia instalada Extremadura (MW)",2015,2016,2017,2018,2019,2020,2021,2022,2023,2024]
[null,"Bombeo puro","-","-","-","-","-","-","-","-","-","-"]
[null,"Hidráulica convencional y mixta",2277.8123000000001,2277.8123000000001,2277.8123000000001,2277.8123000000001,2277.8123000000001,2277.8123000000001,"-","-","-","-"]
[null,"Nuclear",2017.13,2017.13,2017.13,2017.13,2017.13,2017.13,"-","-","-","-"]
[null,"Carbón","-","-","-","-","-","-","-","-","-","-"]
[null,"Fuel + Gas","-","-","-","-","-","-","-","-","-","-"]
[null,"Ciclo combinado","-","-","-","-","-","-","-","-","-","-"]
[null,"Eólica","-","-","-","-",39.375,39.375,"-","-","-","-"]
[null,"Solar fotovoltaica",563.79798400001152,563.79798400001152,563.81490400001144,563.83580400001154,1247.1097640000107,1247.1097640000107,"-","-","-","-"]
[null,"Solar térmica",848.99999999999989,848.99999999999989,848.99999999999989,848.99999999999989,848.99999999999989,848.99999999999989,"-","-","-","-"]
[null,"Térmica renovable/Otras renovables",35.799999999999997,35.799999999999997,35.799999999999997,35.799999999999997,35.799999999999997,35.799999999999997,"-","-","-","-"]
[null,"Térmica no renovable/Cogeneración y resto/Cogeneración",18.077000000000002,18.077000000000002,18.077000000000002,18.077000000000002,18.077000000000002,18.077000000000002,"-","-","-","-"]
[null,"Residuos no renovables","-","-","-","-","-","-","-","-","-","-"]
[null,"Residuos renovables","-","-","-","-","-","-","-","-","-","-"]
[null,"Total",{"$f":"SUM(C213:C225)","v":5761.6172840000127},5761.6172840000127,5761.6342040000127,5761.6551040000122,6484.3040640000117,6484.3040640000117,"-","-","-","-"]
[]
[null,"Potencia instalada Galicia (MW)",2015,2016,2017,2018,2019,2020,2021,2022,2023,2024]
[null,"Bombeo puro","-","-","-","-","-","-","-","-","-","-"]
[null,"Hidráulica convencional y mixta",3698.7956900000004,3701.5756900000001,3701.5756900000001,3720.2476900000001,3720.2476900000001,3720.2476900000001,"-","-","-","-"]
[null,"Nuclear","-","-","-","-","-","-","-","-","-","-"]
[null,"Carbón",1960.39,1960.39,1960.39,1960.39,1960.39,1960.39,"-","-","-","-"]
[null,"Fuel + Gas","-","-","-","-","-","-","-","-","-","-"]
[null,"Ciclo combinado",1246.98,1246.98,1246.98,1246.98,1246.98,1246.98,"-","-","-","-"]
[null,"Eólica",3333.6770000000006,3336.0950000000007,3343.1700000000005,3411.170000000001,3805.1650000000009,3805.1650000000009,"-","-","-","-"]
[null,"Solar fotovoltaica",16.402789999999978,16.605189999999979,16.609824999999979,16.59610499999998,18.09610499999998,18.09900499999998,"-","-","-","-"]
[null,"Solar térmica","-","-","-","-","-","-","-","-","-","-"]
[null,"Térmica renovable/Otras renovables",64.221000000000004,64.221000000000004,65.821000000000012,65.821000000000012,115.73400000000001,115.73400000000001,"-","-","-","-"]
[null,"Térmica no renovable/Cogeneración y resto/Cogeneración",537.41559999999993,509.56860000000006,493.94560000000001,493.94560000000001,483.65060000000005,483.65060000000005,"-","-","-","-"]
[null,"Residuos no renovables",40.68,40.68,40.68,40.68,40.68,40.68,"-","-","-","-"]
[null,"Residuos renovables",25,25,25,25,25,25,"-","-","-","-"]
[null,"Total",{"$f":"SUM(C229:C241)","v":10923.562080000002},10901.115480000002,10894.172115000001,10980.830395000001,11415.943395000004,11415.946295000003,"-","-","-","-"]
[]
[null,"Potencia instalada La Rioja (MW)",2015,2016,2017,2018,2019,2020,2021,2022,2023,2024]
[null,"Bombeo puro","-","-","-","-","-","-","-","-","-","-"]
[null,"Hidráulica convencional y mixta",52.205539999999999,52.205539999999999,52.205539999999999,52.205539999999999,52.205539999999999,52.205539999999999,"-","-","-","-"]
[null,"Nuclear","-","-","-","-","-","-","-","-","-","-"]
[null,"Carbón","-","-","-","-","-","-","-","-","-","-"]
[null,"Fuel + Gas","-","-","-","-","-","-","-","-","-","-"]
[null,"Ciclo combinado",784.7,784.7,784.7,784.7,784.7,784.7,"-","-","-","-"]
[null,"Eólica",448.12,448.12,448.12,448.12,448.12,448.12,"-","-","-","-"]
[null,"Solar fotovoltaica",85.604179999999758,85.604179999999758,85.602979999999761,85.602979999999761,96.602979999999761,98.800779999999762,"-","-","-","-"]
[null,"Solar térmica","-","-","-","-","-","-","-","-","-","-"]
[null,"Térmica renovable/Otras renovables",4.2949999999999999,3.78,4.1269999999999998,4.1269999999999998,4.1269999999999998,3.6269999999999998,"-","-","-","-"]
[null,"Térmica no renovable/Cogeneración y resto/Cogeneración",43.102999999999994,41.712999999999994,40.736999999999995,22.917000000000005,22.917000000000005,22.917000000000005,"-","-","-","-"]
[null,"Residuos no renovables","-","-","-","-","-","-","-","-","-","-"]
[null,"Residuos renovables","-","-","-","-","-","-","-","-","-","-"]
[null,"Total",{"$f":"SUM(C245:C257)","v":1418.02772},1416.1227199999998,1415.4925199999998,1397.6725199999996,1408.6725199999996,1410.3703199999998,"-","-","-","-"]
[]
[null,"Potencia instalada Madrid (MW)",2015,2016,2017,2018,2019,2020,2021,2022,2023,2024]
[null,"Bombeo puro","-","-","-","-","-","-","-","-","-","-"]
[null,"Hidráulica convencional y mixta",108.51659999999998,108.51659999999998,108.51659999999998,108.51659999999998,108.51659999999998,108.51659999999998,"-","-","-","-"]
[null,"Nuclear","-","-","-","-","-","-","-","-","-","-"]
[null,"Carbón","-","-","-","-","-","-","-","-","-","-"]
[null,"Fuel + Gas","-","-","-","-","-","-","-","-","-","-"]
[null,"Ciclo combinado","-","-","-","-","-","-","-","-","-","-"]
[null,"Eólica","-","-","-","-","-","-","-","-","-","-"]
[null,"Solar fotovoltaica",63.170492000000053,63.409282000000047,63.439681000000036,63.517586000000023,63.470686000000001,63.470686000000001,"-","-","-","-"]
[null,"Solar térmica","-","-","-","-","-","-","-","-","-","-"]
[null,"Térmica renovable/Otras renovables",42.584000000000003,45.084000000000003,45.084000000000003,45.084000000000003,45.084000000000003,45.084000000000003,"-","-","-","-"]
[null,"Térmica no renovable/Cogeneración y resto/Cogeneración",244.64490000000001,212.01689999999996,212.05189999999996,211.06189999999998,211.02189999999996,211.02189999999996,"-","-","-","-"]
[null,"Residuos no renovables",14.9,14.9,14.9,14.9,14.9,14.9,"-","-","-","-"]
[null,"Residuos renovables",14.9,14.9,14.9,14.9,14.9,14.9,"-","-","-","-"]
[null,"Total",{"$f":"SUM(C261:C273)","v":488.71599200000003},458.82678199999998,458.89218099999994,457.98008599999991,457.8931859999999,457.8931859999999,"-","-","-","-"]
[]
[null,"Potencia instalada Murcia (MW)",2015,2016,2017,2018,2019,2020,2021,2022,2023,2024]
[null,"Bombeo puro","-","-","-","-","-","-","-","-","-","-"]
[null,"Hidráulica convencional y mixta",33.158000000000001,33.203000000000003,33.592999999999996,33.592999999999996,33.592999999999996,33.592999999999996,"-","-","-","-"]
[null,"Nuclear","-","-","-","-","-","-","-","-","-","-"]
[null,"Carbón","-","-","-","-","-","-","-","-","-","-"]
[null,"Fuel + Gas","-","-","-","-","-","-","-","-","-","-"]
[null,"Ciclo combinado",3263.71,3263.71,3263.71,3263.71,3263.71,3263.71,"-","-","-","-"]
[null,"Eólica",262.77599999999995,262.77599999999995,262.77,262.77,262.77,262.77,"-","-","-","-"]
[null,"Solar fotovoltaica",437.84658599998971,437.84658599998971,436.50029599998959,441.19254599998953,1114.0067009999893,1114.0067009999893,"-","-","-","-"]
[null,"Solar térmica",31.4,31.4,31.4,31.4,31.4,31.4,"-","-","-","-"]
[null,"Térmica renovable/Otras renovables",15.524000000000001,15.472000000000001,15.472000000000001,15.472000000000001,15.472000000000001,15.472000000000001,"-","-","-","-"]
[null,"Térmica no renovable/Cogeneración y resto/Cogeneración",326.80599999999998,314.10199999999998,314.10199999999998,314.10199999999998,314.10199999999998,314.10199999999998,"-","-","-","-"]
[null,"Residuos no renovables",9.68,9.68,9.68,9.68,9.68,9.68,"-","-","-","-"]
[null,"Residuos renovables","-","-","-","-","-","-","-","-","-","-"]
[null,"Total",{"$f":"SUM(C277:C289)","v":4380.9005859999897},4368.1895859999904,4367.22729599999,4371.9195459999901,5044.7337009999892,5044.7337009999892,"-","-","-","-"]
[]
[null,"Potencia instalada Navarra (MW)",2015,2016,2017,2018,2019,2020,2021,2022,2023,2024]
[null,"Bombeo puro","-","-","-","-","-","-","-","-","-","-"]
[null,"Hidráulica convencional y mixta",254.76300000000001,254.76300000000001,254.76300000000001,254.77500000000001,254.77500000000001,254.77500000000001,"-","-","-","-"]
[null,"Nuclear","-","-","-","-","-","-","-","-","-","-"]
[null,"Carbón","-","-","-","-","-","-","-","-","-","-"]
[null,"Fuel + Gas","-","-","-","-","-","-","-","-","-","-"]
[null,"Ciclo combinado",1222.32,1222.32,1222.32,1222.32,1222.32,1222.32,"-","-","-","-"]
[null,"Eólica",985.52374999999984,995.15874999999994,995.42874999999992,995.42699999999991,1098.4369999999999,1098.4369999999999,"-","-","-","-"]
[null,"Solar fotovoltaica",160.61974999999643,160.85658999999646,160.84150999999645,161.99471999999645,161.99221999999645,161.99221999999645,"-","-","-","-"]
[null,"Solar térmica","-","-","-","-","-","-","-","-","-","-"]
[null,"Térmica renovable/Otras renovables",49.011000000000003,49.011000000000003,50.111000000000004,50.111000000000004,52.111000000000004,52.111000000000004,"-","-","-","-"]
[null,"Térmica no renovable/Cogeneración y resto/Cogeneración",166.5035,159.43950000000004,156.59650000000005,147.53149999999999,141.47149999999993,141.47149999999993,"-","-","-","-"]
[null,"Residuos no renovables","-","-","-","-","-","-","-","-","-","-"]
[null,"Residuos renovables","-","-","-","-","-","-","-","-","-","-"]
[null,"Total",{"$f":"SUM(C293:C305)","v":2838.7409999999959},2841.5488399999958,2840.0607599999962,2832.1592199999964,2931.1067199999966,2931.1067199999966,"-","-","-","-"]
[]
[null,"Potencia instalada País Vasco (MW)",2015,2016,2017,2018,2019,2020,2021,2022,2023,2024]
[null,"Bombeo puro","-","-","-","-","-","-","-","-","-","-"]
[null,"Hidráulica convencional y mixta",170.13649999999998,170.13649999999998,170.13649999999998,170.13649999999998,174.35149999999999,174.35149999999999,"-","-","-","-"]
[null,"Nuclear","-","-","-","-","-","-","-","-","-","-"]
[null,"Carbón","-","-","-","-","-","-","-","-","-","-"]
[null,"Fuel + Gas","-","-","-","-","-","-","-","-","-","-"]
[null,"Ciclo combinado",1968.07,1968.07,1968.07,1968.07,1968.07,1968.07,"-","-","-","-"]
[null,"Eólica",153.2852,153.3852,153.38380000000001,153.38380000000001,153.38380000000001,153.38380000000001,"-","-","-","-"]
[null,"Solar fotovoltaica",26.702890000000117,26.728890000000121,26.693950000000115,26.828555000000115,50.898415000000114,50.878415000000118,"-","-","-","-"]
[null,"Solar térmica","-","-","-","-","-","-","-","-","-","-"]
[null,"Térmica renovable/Otras renovables",56.276999999999994,56.276999999999994,56.276999999999994,56.276999999999994,56.276999999999994,56.276999999999994,"-","-","-","-"]
[null,"Térmica no renovable/Cogeneración y resto/Cogeneración",419.69649999999979,417.86749999999989,405.9124999999998,404.36749999999984,398.93749999999977,398.93749999999977,"-","-","-","-"]
[null,"Residuos no renovables",83.457999999999998,83.457999999999998,83.457999999999998,76.930000000000007,76.930000000000007,76.930000000000007,"-","-","-","-"]
[null,"Residuos renovables",49.75,49.75,49.75,49.75,49.75,49.75,"-","-","-","-"]
[null,"Total",{"$f":"SUM(C309:C321)","v":2927.3760899999993},2925.6730900000002,2913.6817500000002,2905.7433549999996,2928.5982149999995,2928.578215,"-","-","-","-"]

{"sheet":"Año","index":23,"n_rows":23,"n_cols":25,"rows_kept":23,"cut":false,"hidden":true,"merged":[]}
[null,null,null,null,null,null,null,null,null,null,null,null,null,null,null,null,null,null,null,null,null,null,null,null,1]
[null,"1990-1999","2006-2015","2015-2024",null,null,null,null,null,null,null,null,null,null,"Nacional"]
[null,"2000-2009","2016-2025",null,null,null,null,null,null,null,null,null,null,null,"Peninsular"]
[null,"2010-2019",null,null,null,null,null,null,null,null,null,null,null,null,"Canarias"]
[null,"2020-2029",null,null,null,null,null,null,null,null,null,null,null,null,"Baleares"]
[null,null,null,null,null,null,null,null,null,null,null,null,null,null,"Ceuta"]
[null,null,null,null,null,null,null,null,null,null,null,null,null,null,"Melilla"]
[null,null,null,null,null,null,null,null,null,null,null,null,null,null,"--------------------"]
[null,null,null,null,null,null,null,null,null,null,null,null,null,null,"Andalucía"]
[null,null,null,null,null,null,null,null,null,null,null,null,null,null,"Aragón"]
[null,null,null,null,null,null,null,null,null,null,null,null,null,null,"Asturias"]
[null,null,null,null,null,null,null,null,null,null,null,null,null,null,"C.Valenciana"]
[null,null,null,null,null,null,null,null,null,null,null,null,null,null,"Cantabria"]
[null,null,null,null,null,null,null,null,null,null,null,null,null,null,"Castilla-La Mancha"]
[null,null,null,null,null,null,null,null,null,null,null,null,null,null,"Castilla y León"]
[null,null,null,null,null,null,null,null,null,null,null,null,null,null,"Cataluña"]
[null,null,null,null,null,null,null,null,null,null,null,null,null,null,"Extremadura"]
[null,null,null,null,null,null,null,null,null,null,null,null,null,null,"Galicia"]
[null,null,null,null,null,null,null,null,null,null,null,null,null,null,"La Rioja"]
[null,null,null,null,null,null,null,null,null,null,null,null,null,null,"Madrid"]
[null,null,null,null,null,null,null,null,null,null,null,null,null,null,"Murcia"]
[null,null,null,null,null,null,null,null,null,null,null,null,null,null,"Navarra"]
[null,null,null,null,null,null,null,null,null,null,null,null,null,null,"País Vasco"]