{"text_format":"1","workbook":"xlsx","n_sheets":15,"sheets":["AVISO LEGAL","Emisiones mensual nacional","Emisiones anual nacional","Emisiones mensual Peninsular","Emisiones anual Peninsular","Emisiones mensual Baleares","Emisiones anual Baleares","Emisiones mensual Canarias","Emisiones anual Canarias","Emisiones mensual Ceuta","Emisiones anual Ceuta","Emisiones mensual Melilla","Emisiones anual Melilla","Emisiones","Año"],"not_rendered":{"charts":0,"images":1,"macros":1,"external_links":0,"defined_names":13,"comments":0,"pivot_tables":0},"unopened":[],"bounds":{"document_bytes":16777216,"sheet_cells":100000,"rows_first":2000,"rows_last":500,"rows_between":2000,"halvings":0,"cell_chars":16384,"cell_head_chars":4096},"cells_cut":0,"cells_raw":0,"read":"whole","date_system":"1900"}

{"sheet":"AVISO LEGAL","index":0,"n_rows":23,"n_cols":10,"rows_kept":23,"cut":false,"hidden":false,"merged":[]}
[]
[null,null,null,null,null,null,null,"Fecha de actualización:",null,"2019-05-13"]
[]
[]
[]
[]
[]
[]
[]
[]
[]
[]
[]
[]
[]
[]
[]
[]
[]
[]
[]
[]
[null,null,null,null,null,null,null,null,null,"www.ree.es"]

{"sheet":"Emisiones mensual nacional","index":1,"n_rows":22,"n_cols":15,"rows_kept":22,"cut":false,"hidden":false,"merged":[[5,2,5,9],[18,1,18,14],[20,1,20,14],[21,1,21,14],[19,1,19,14]]}
[null,null,null,null,null,null,null,null,null,null,null,null,null,null,13]
[]
[]
[null,null,null,null,null,null,null,null,null,null,null,null,"Sistema eléctrico"]
[null,null,null,null,null,null,null,null,null,null,null,null,"Horizonte temporal"]
[null,null,null,null,null,null,null,null,null,null,null,null,"Periodo"]
[]
[null,null,"Ene.","Feb.","Mar.","Abr.","May.","Jun.","Jul.","Ago.","Sep.","Oct.","Nov.","Dic.",{"$f":"OFFSET(Año!B19,($O$1-1),0)","v":2019}]
[]
[null,"Carbón",{"$f":"OFFSET(Emisiones!D64,0,($O$1-1)*12)","v":3148919.2162000001},{"$f":"OFFSET(Emisiones!E64,0,($O$1-1)*12)","v":2306341.9065999994},{"$f":"OFFSET(Emisiones!F64,0,($O$1-1)*12)","v":931512.53300000005},{"$f":"OFFSET(Emisiones!G64,0,($O$1-1)*12)","v":819323.14934999985},{"$f":"OFFSET(Emisiones!H64,0,($O$1-1)*12)","v":"-"},{"$f":"OFFSET(Emisiones!I64,0,($O$1-1)*12)","v":"-"},{"$f":"OFFSET(Emisiones!J64,0,($O$1-1)*12)","v":"-"},{"$f":"OFFSET(Emisiones!K64,0,($O$1-1)*12)","v":"-"},{"$f":"OFFSET(Emisiones!L64,0,($O$1-1)*12)","v":"-"},{"$f":"OFFSET(Emisiones!M64,0,($O$1-1)*12)","v":"-"},{"$f":"OFFSET(Emisiones!N64,0,($O$1-1)*12)","v":"-"},{"$f":"OFFSET(Emisiones!O64,0,($O$1-1)*12)","v":"-"},{"$f":"IF(SUM(C10:N10)=0,\"-\",SUM(C10:N10))","v":7206096.8051499994}]
[null,"Fuel + Gas (1)",{"$f":"OFFSET(Emisiones!D65,0,($O$1-1)*12)","v":406774.39660000004},{"$f":"OFFSET(Emisiones!E65,0,($O$1-1)*12)","v":375396.08223},{"$f":"OFFSET(Emisiones!F65,0,($O$1-1)*12)","v":382902.11193000001},{"$f":"OFFSET(Emisiones!G65,0,($O$1-1)*12)","v":376283.74961},{"$f":"OFFSET(Emisiones!H65,0,($O$1-1)*12)","v":"-"},{"$f":"OFFSET(Emisiones!I65,0,($O$1-1)*12)","v":"-"},{"$f":"OFFSET(Emisiones!J65,0,($O$1-1)*12)","v":"-"},{"$f":"OFFSET(Emisiones!K65,0,($O$1-1)*12)","v":"-"},{"$f":"OFFSET(Emisiones!L65,0,($O$1-1)*12)","v":"-"},{"$f":"OFFSET(Emisiones!M65,0,($O$1-1)*12)","v":"-"},{"$f":"OFFSET(Emisiones!N65,0,($O$1-1)*12)","v":"-"},{"$f":"OFFSET(Emisiones!O65,0,($O$1-1)*12)","v":"-"},{"$f":"IF(SUM(C11:N11)=0,\"-\",SUM(C11:N11))","v":1541356.3403700001}]
[null,"Ciclo combinado (2)",{"$f":"OFFSET(Emisiones!D66,0,($O$1-1)*12)","v":1356347.5210299999},{"$f":"OFFSET(Emisiones!E66,0,($O$1-1)*12)","v":1063637.1813500002},{"$f":"OFFSET(Emisiones!F66,0,($O$1-1)*12)","v":956969.89818999998},{"$f":"OFFSET(Emisiones!G66,0,($O$1-1)*12)","v":1180349.3583800001},{"$f":"OFFSET(Emisiones!H66,0,($O$1-1)*12)","v":"-"},{"$f":"OFFSET(Emisiones!I66,0,($O$1-1)*12)","v":"-"},{"$f":"OFFSET(Emisiones!J66,0,($O$1-1)*12)","v":"-"},{"$f":"OFFSET(Emisiones!K66,0,($O$1-1)*12)","v":"-"},{"$f":"OFFSET(Emisiones!L66,0,($O$1-1)*12)","v":"-"},{"$f":"OFFSET(Emisiones!M66,0,($O$1-1)*12)","v":"-"},{"$f":"OFFSET(Emisiones!N66,0,($O$1-1)*12)","v":"-"},{"$f":"OFFSET(Emisiones!O66,0,($O$1-1)*12)","v":"-"},{"$f":"IF(SUM(C12:N12)=0,\"-\",SUM(C12:N12))","v":4557303.9589499999}]
[null,"Térmica renovable (3)",{"$f":"OFFSET(Emisiones!D67,0,($O$1-1)*12)","v":"-"},{"$f":"OFFSET(Emisiones!E67,0,($O$1-1)*12)","v":"-"},{"$f":"OFFSET(Emisiones!F67,0,($O$1-1)*12)","v":"-"},{"$f":"OFFSET(Emisiones!G67,0,($O$1-1)*12)","v":"-"},{"$f":"OFFSET(Emisiones!H67,0,($O$1-1)*12)","v":"-"},{"$f":"OFFSET(Emisiones!I67,0,($O$1-1)*12)","v":"-"},{"$f":"OFFSET(Emisiones!J67,0,($O$1-1)*12)","v":"-"},{"$f":"OFFSET(Emisiones!K67,0,($O$1-1)*12)","v":"-"},{"$f":"OFFSET(Emisiones!L67,0,($O$1-1)*12)","v":"-"},{"$f":"OFFSET(Emisiones!M67,0,($O$1-1)*12)","v":"-"},{"$f":"OFFSET(Emisiones!N67,0,($O$1-1)*12)","v":"-"},{"$f":"OFFSET(Emisiones!O67,0,($O$1-1)*12)","v":"-"},"-"]
[null,"Térmica no renovable/Cogeneración y resto/Cogeneración (3)",{"$f":"OFFSET(Emisiones!D68,0,($O$1-1)*12)","v":984098.54562999995},{"$f":"OFFSET(Emisiones!E68,0,($O$1-1)*12)","v":885626.38562000007},{"$f":"OFFSET(Emisiones!F68,0,($O$1-1)*12)","v":959124.99825000006},{"$f":"OFFSET(Emisiones!G68,0,($O$1-1)*12)","v":921773.14934000012},{"$f":"OFFSET(Emisiones!H68,0,($O$1-1)*12)","v":"-"},{"$f":"OFFSET(Emisiones!I68,0,($O$1-1)*12)","v":"-"},{"$f":"OFFSET(Emisiones!J68,0,($O$1-1)*12)","v":"-"},{"$f":"OFFSET(Emisiones!K68,0,($O$1-1)*12)","v":"-"},{"$f":"OFFSET(Emisiones!L68,0,($O$1-1)*12)","v":"-"},{"$f":"OFFSET(Emisiones!M68,0,($O$1-1)*12)","v":"-"},{"$f":"OFFSET(Emisiones!N68,0,($O$1-1)*12)","v":"-"},{"$f":"OFFSET(Emisiones!O68,0,($O$1-1)*12)","v":"-"},3750623.0788400001]
[null,"Residuos no renovables",{"$f":"OFFSET(Emisiones!D69,0,($O$1-1)*12)","v":49609.204199999993},{"$f":"OFFSET(Emisiones!E69,0,($O$1-1)*12)","v":45143.752919999999},{"$f":"OFFSET(Emisiones!F69,0,($O$1-1)*12)","v":50976.231359999991},{"$f":"OFFSET(Emisiones!G69,0,($O$1-1)*12)","v":45421.268999999993},{"$f":"OFFSET(Emisiones!H69,0,($O$1-1)*12)","v":"-"},{"$f":"OFFSET(Emisiones!I69,0,($O$1-1)*12)","v":"-"},{"$f":"OFFSET(Emisiones!J69,0,($O$1-1)*12)","v":"-"},{"$f":"OFFSET(Emisiones!K69,0,($O$1-1)*12)","v":"-"},{"$f":"OFFSET(Emisiones!L69,0,($O$1-1)*12)","v":"-"},{"$f":"OFFSET(Emisiones!M69,0,($O$1-1)*12)","v":"-"},{"$f":"OFFSET(Emisiones!N69,0,($O$1-1)*12)","v":"-"},{"$f":"OFFSET(Emisiones!O69,0,($O$1-1)*12)","v":"-"},191150.45747999998]
[]
[null,"Emisiones (tCO2)",{"$f":"IF(SUM(C10:C16)=0,\"-\",SUM(C10:C16))","v":5945748.8836599989},{"$f":"IF(SUM(D10:D16)=0,\"-\",SUM(D10:D16))","v":4676145.3087199992},3281485.7727300003,3343150.6756799999,"-","-","-","-","-","-","-",{"$f":"IF(SUM(N10:N16)=0,\"-\",SUM(N10:N16))","v":"-"},{"$f":"IF(SUM(C17:N17)=0,\"-\",SUM(C17:N17))","v":17246530.640789997}]
[null,"Factor de emision de CO2 (tCO2/MWh)",{"$f":"OFFSET(Emisiones!D72,0,($O$1-1)*12)","v":0.24192743211082485},{"$f":"OFFSET(Emisiones!E72,0,($O$1-1)*12)","v":0.227386054998888},{"$f":"OFFSET(Emisiones!F72,0,($O$1-1)*12)","v":0.1572290343995128},{"$f":"OFFSET(Emisiones!G72,0,($O$1-1)*12)","v":0.16882877099520727},{"$f":"OFFSET(Emisiones!H72,0,($O$1-1)*12)","v":"-"},{"$f":"OFFSET(Emisiones!I72,0,($O$1-1)*12)","v":"-"},{"$f":"OFFSET(Emisiones!J72,0,($O$1-1)*12)","v":"-"},{"$f":"OFFSET(Emisiones!K72,0,($O$1-1)*12)","v":"-"},{"$f":"OFFSET(Emisiones!L72,0,($O$1-1)*12)","v":"-"},{"$f":"OFFSET(Emisiones!M72,0,($O$1-1)*12)","v":"-"},{"$f":"OFFSET(Emisiones!N72,0,($O$1-1)*12)","v":"-"},{"$f":"OFFSET(Emisiones!O72,0,($O$1-1)*12)","v":"-"},{"$f":"OFFSET(Emisiones!D133,0,($O$1-1))","v":0.20097543809381382}]
[null,"(1) En el sistema eléctrico de Baleares y Canarias se incluye la generación con grupos auxiliares."]
[null,"(2) Incluye funcionamiento en ciclo abierto. En el sistema eléctrico de Canarias utiliza gasoil como combustible principal."]
[null,"(3) Incluye residuos hasta el 31/12/2010."]
[null,{"$f":"IF(MONTH(O4)=1,\"\",CONCATENATE(\"    Para el año \",YEAR(O4), \" valores acumulados hasta \",TEXT(O4-30,\"mmmm\"),\" de \",YEAR(O4),\".\"))","v":""}]

{"sheet":"Emisiones anual nacional","index":2,"n_rows":22,"n_cols":10,"rows_kept":22,"cut":false,"hidden":false,"merged":[[18,1,18,9],[20,1,20,9],[21,1,21,9],[19,1,19,9]]}
[null,null,null,null,null,null,null,null,null,2]
[]
[]
[null,null,null,null,null,null,null,"Sistema eléctrico"]
[null,null,null,null,null,null,null,"Horizonte temporal"]
[null,null,null,null,null,null,null,"Periodo"]
[]
[null,null,{"$f":"OFFSET(Emisiones!D124,0,($J$1-1)*8)","v":2015},{"$f":"OFFSET(Emisiones!E124,0,($J$1-1)*8)","v":2016},{"$f":"OFFSET(Emisiones!F124,0,($J$1-1)*8)","v":2017},{"$f":"OFFSET(Emisiones!G124,0,($J$1-1)*8)","v":2018},{"$f":"OFFSET(Emisiones!H124,0,($J$1-1)*8)","v":2019},{"$f":"OFFSET(Emisiones!I124,0,($J$1-1)*8)","v":2020},{"$f":"OFFSET(Emisiones!J124,0,($J$1-1)*8)","v":2021},{"$f":"OFFSET(Emisiones!K124,0,($J$1-1)*8)","v":2022}]
[]
[null,"Carbón",{"$f":"OFFSET(Emisiones!D125,0,($J$1-1)*8)","v":49985653.718099996},{"$f":"OFFSET(Emisiones!E125,0,($J$1-1)*8)","v":35448088.863449998},{"$f":"OFFSET(Emisiones!F125,0,($J$1-1)*8)","v":42768449.373349994},{"$f":"OFFSET(Emisiones!G125,0,($J$1-1)*8)","v":35649409.42295},{"$f":"OFFSET(Emisiones!H125,0,($J$1-1)*8)","v":7206096.8051499985},{"$f":"OFFSET(Emisiones!I125,0,($J$1-1)*8)","v":"-"},{"$f":"OFFSET(Emisiones!J125,0,($J$1-1)*8)","v":"-"},{"$f":"OFFSET(Emisiones!K125,0,($J$1-1)*8)","v":"-"}]
[null,"Fuel + Gas (1)",{"$f":"OFFSET(Emisiones!D126,0,($J$1-1)*8)","v":5245262.5964599997},{"$f":"OFFSET(Emisiones!E126,0,($J$1-1)*8)","v":5481851.8405200001},{"$f":"OFFSET(Emisiones!F126,0,($J$1-1)*8)","v":5686516.3458500002},{"$f":"OFFSET(Emisiones!G126,0,($J$1-1)*8)","v":5383399.0242000008},{"$f":"OFFSET(Emisiones!H126,0,($J$1-1)*8)","v":1541356.3403700001},{"$f":"OFFSET(Emisiones!I126,0,($J$1-1)*8)","v":"-"},{"$f":"OFFSET(Emisiones!J126,0,($J$1-1)*8)","v":"-"},{"$f":"OFFSET(Emisiones!K126,0,($J$1-1)*8)","v":"-"}]
[null,"Ciclo combinado (2)",{"$f":"OFFSET(Emisiones!D127,0,($J$1-1)*8)","v":12047200.337440001},{"$f":"OFFSET(Emisiones!E127,0,($J$1-1)*8)","v":11965815.208590001},{"$f":"OFFSET(Emisiones!F127,0,($J$1-1)*8)","v":14943265.769389998},{"$f":"OFFSET(Emisiones!G127,0,($J$1-1)*8)","v":11841809.91518},{"$f":"OFFSET(Emisiones!H127,0,($J$1-1)*8)","v":4557303.9589499999},{"$f":"OFFSET(Emisiones!I127,0,($J$1-1)*8)","v":"-"},{"$f":"OFFSET(Emisiones!J127,0,($J$1-1)*8)","v":"-"},{"$f":"OFFSET(Emisiones!K127,0,($J$1-1)*8)","v":"-"}]
[null,"Térmica renovable (3)",{"$f":"OFFSET(Emisiones!D128,0,($J$1-1)*8)","v":"-"},{"$f":"OFFSET(Emisiones!E128,0,($J$1-1)*8)","v":"-"},{"$f":"OFFSET(Emisiones!F128,0,($J$1-1)*8)","v":"-"},{"$f":"OFFSET(Emisiones!G128,0,($J$1-1)*8)","v":"-"},{"$f":"OFFSET(Emisiones!H128,0,($J$1-1)*8)","v":"-"},{"$f":"OFFSET(Emisiones!I128,0,($J$1-1)*8)","v":"-"},{"$f":"OFFSET(Emisiones!J128,0,($J$1-1)*8)","v":"-"},{"$f":"OFFSET(Emisiones!K128,0,($J$1-1)*8)","v":"-"}]
[null,"Térmica no renovable/Cogeneración y resto/Cogeneración (3)",{"$f":"OFFSET(Emisiones!D129,0,($J$1-1)*8)","v":9324324.7734199986},{"$f":"OFFSET(Emisiones!E129,0,($J$1-1)*8)","v":9586198.1168300007},{"$f":"OFFSET(Emisiones!F129,0,($J$1-1)*8)","v":10438368.480110001},{"$f":"OFFSET(Emisiones!G129,0,($J$1-1)*8)","v":10735825.628910001},{"$f":"OFFSET(Emisiones!H129,0,($J$1-1)*8)","v":3750623.0788400001},{"$f":"OFFSET(Emisiones!I129,0,($J$1-1)*8)","v":"-"},{"$f":"OFFSET(Emisiones!J129,0,($J$1-1)*8)","v":"-"},{"$f":"OFFSET(Emisiones!K129,0,($J$1-1)*8)","v":"-"}]
[null,"Residuos no renovables",{"$f":"OFFSET(Emisiones!D130,0,($J$1-1)*8)","v":595226.15243999998},{"$f":"OFFSET(Emisiones!E130,0,($J$1-1)*8)","v":625671.30348},{"$f":"OFFSET(Emisiones!F130,0,($J$1-1)*8)","v":625916.28359999997},{"$f":"OFFSET(Emisiones!G130,0,($J$1-1)*8)","v":584389.40519999992},{"$f":"OFFSET(Emisiones!H130,0,($J$1-1)*8)","v":191150.45747999998},{"$f":"OFFSET(Emisiones!I130,0,($J$1-1)*8)","v":"-"},{"$f":"OFFSET(Emisiones!J130,0,($J$1-1)*8)","v":"-"},{"$f":"OFFSET(Emisiones!K130,0,($J$1-1)*8)","v":"-"}]
[]
[null,"Emisiones (tCO2)",{"$f":"IF(SUM(C10:C16)=0,\"-\",SUM(C10:C16))","v":77197667.577859983},{"$f":"IF(SUM(D10:D16)=0,\"-\",SUM(D10:D16))","v":63107625.332869999},{"$f":"IF(SUM(E10:E16)=0,\"-\",SUM(E10:E16))","v":74462516.252299994},64194833.396439992,17246530.640789997,"-","-",{"$f":"IF(SUM(J10:J16)=0,\"-\",SUM(J10:J16))","v":"-"}]
[null,"Factor de emision de CO2 (tCO2/MWh)",{"$f":"OFFSET(Emisiones!D133,0,($J$1-1)*8)","v":0.28863920836770041},{"$f":"OFFSET(Emisiones!E133,0,($J$1-1)*8)","v":0.2410199502412998},{"$f":"OFFSET(Emisiones!F133,0,($J$1-1)*8)","v":0.28387678864091381},{"$f":"OFFSET(Emisiones!G133,0,($J$1-1)*8)","v":0.24598210415649166},{"$f":"OFFSET(Emisiones!H133,0,($J$1-1)*8)","v":0.20097543809381382},{"$f":"OFFSET(Emisiones!I133,0,($J$1-1)*8)","v":"-"},{"$f":"OFFSET(Emisiones!J133,0,($J$1-1)*8)","v":"-"},{"$f":"OFFSET(Emisiones!K133,0,($J$1-1)*8)","v":"-"}]
[null,"(1) En el sistema eléctrico de Baleares y Canarias se incluye la generación con grupos auxiliares."]
[null,"(2) Incluye funcionamiento en ciclo abierto. En el sistema eléctrico de Canarias utiliza gasoil como combustible principal."]
[null,"(3) Incluye residuos hasta el 31/12/2010."]
[null,{"$f":"IF(MONTH('AVISO LEGAL'!J2)=1,\"\",CONCATENATE(\"    Para el año \",YEAR('AVISO LEGAL'!J2), \" valores hasta \",TEXT('AVISO LEGAL'!J2-30,\"mmmm\"),\" de \",YEAR('AVISO LEGAL'!J2),\".\"))","v":"    Para el año 2019 valores hasta abril de 2019."}]

{"sheet":"Emisiones mensual Peninsular","index":3,"n_rows":21,"n_cols":15,"rows_kept":21,"cut":false,"hidden":false,"merged":[[5,2,5,9],[19,1,19,14],[20,1,20,14],[18,1,18,14]]}
[null,null,null,null,null,null,null,null,null,null,null,null,null,null,30]
[]
[]
[null,null,null,null,null,null,null,null,null,null,null,null,"Sistema eléctrico"]
[null,null,null,null,null,null,null,null,null,null,null,null,"Horizonte temporal"]
[null,null,null,null,null,null,null,null,null,null,null,null,"Periodo"]
[]
[null,null,"Ene.","Feb.","Mar.","Abr.","May.","Jun.","Jul.","Ago.","Sep.","Oct.","Nov.","Dic.",{"$f":"OFFSET(Año!B2,($O$1-1),0)","v":2019}]
[]
[null,"Carbón",{"$f":"OFFSET(Emisiones!D3,0,($O$1-1)*12)","v":2921291.6461},{"$f":"OFFSET(Emisiones!E3,0,($O$1-1)*12)","v":2134473.6068499996},{"$f":"OFFSET(Emisiones!F3,0,($O$1-1)*12)","v":783436.52659999998},{"$f":"OFFSET(Emisiones!G3,0,($O$1-1)*12)","v":686805.95894999988},{"$f":"OFFSET(Emisiones!H3,0,($O$1-1)*12)","v":"-"},{"$f":"OFFSET(Emisiones!I3,0,($O$1-1)*12)","v":"-"},{"$f":"OFFSET(Emisiones!J3,0,($O$1-1)*12)","v":"-"},{"$f":"OFFSET(Emisiones!K3,0,($O$1-1)*12)","v":"-"},{"$f":"OFFSET(Emisiones!L3,0,($O$1-1)*12)","v":"-"},{"$f":"OFFSET(Emisiones!M3,0,($O$1-1)*12)","v":"-"},{"$f":"OFFSET(Emisiones!N3,0,($O$1-1)*12)","v":"-"},{"$f":"OFFSET(Emisiones!O3,0,($O$1-1)*12)","v":"-"},{"$f":"IF(SUM(C10:N10)=0,\"-\",SUM(C10:N10))","v":6526007.738499999}]
[null,"Fuel + Gas",{"$f":"OFFSET(Emisiones!D4,0,($O$1-1)*12)","v":"-"},{"$f":"OFFSET(Emisiones!E4,0,($O$1-1)*12)","v":"-"},{"$f":"OFFSET(Emisiones!F4,0,($O$1-1)*12)","v":"-"},{"$f":"OFFSET(Emisiones!G4,0,($O$1-1)*12)","v":"-"},{"$f":"OFFSET(Emisiones!H4,0,($O$1-1)*12)","v":"-"},{"$f":"OFFSET(Emisiones!I4,0,($O$1-1)*12)","v":"-"},{"$f":"OFFSET(Emisiones!J4,0,($O$1-1)*12)","v":"-"},{"$f":"OFFSET(Emisiones!K4,0,($O$1-1)*12)","v":"-"},{"$f":"OFFSET(Emisiones!L4,0,($O$1-1)*12)","v":"-"},{"$f":"OFFSET(Emisiones!M4,0,($O$1-1)*12)","v":"-"},{"$f":"OFFSET(Emisiones!N4,0,($O$1-1)*12)","v":"-"},{"$f":"OFFSET(Emisiones!O4,0,($O$1-1)*12)","v":"-"},{"$f":"IF(SUM(C11:N11)=0,\"-\",SUM(C11:N11))","v":"-"}]
[null,"Ciclo combinado (1)",{"$f":"OFFSET(Emisiones!D5,0,($O$1-1)*12)","v":1183534.18147},{"$f":"OFFSET(Emisiones!E5,0,($O$1-1)*12)","v":907743.40646000009},{"$f":"OFFSET(Emisiones!F5,0,($O$1-1)*12)","v":787845.59244000004},{"$f":"OFFSET(Emisiones!G5,0,($O$1-1)*12)","v":1004270.71845},{"$f":"OFFSET(Emisiones!H5,0,($O$1-1)*12)","v":"-"},{"$f":"OFFSET(Emisiones!I5,0,($O$1-1)*12)","v":"-"},{"$f":"OFFSET(Emisiones!J5,0,($O$1-1)*12)","v":"-"},{"$f":"OFFSET(Emisiones!K5,0,($O$1-1)*12)","v":"-"},{"$f":"OFFSET(Emisiones!L5,0,($O$1-1)*12)","v":"-"},{"$f":"OFFSET(Emisiones!M5,0,($O$1-1)*12)","v":"-"},{"$f":"OFFSET(Emisiones!N5,0,($O$1-1)*12)","v":"-"},{"$f":"OFFSET(Emisiones!O5,0,($O$1-1)*12)","v":"-"},3883393.8988200002]
[null,"Térmica renovable (2)",{"$f":"OFFSET(Emisiones!D6,0,($O$1-1)*12)","v":"-"},{"$f":"OFFSET(Emisiones!E6,0,($O$1-1)*12)","v":"-"},{"$f":"OFFSET(Emisiones!F6,0,($O$1-1)*12)","v":"-"},{"$f":"OFFSET(Emisiones!G6,0,($O$1-1)*12)","v":"-"},{"$f":"OFFSET(Emisiones!H6,0,($O$1-1)*12)","v":"-"},{"$f":"OFFSET(Emisiones!I6,0,($O$1-1)*12)","v":"-"},{"$f":"OFFSET(Emisiones!J6,0,($O$1-1)*12)","v":"-"},{"$f":"OFFSET(Emisiones!K6,0,($O$1-1)*12)","v":"-"},{"$f":"OFFSET(Emisiones!L6,0,($O$1-1)*12)","v":"-"},{"$f":"OFFSET(Emisiones!M6,0,($O$1-1)*12)","v":"-"},{"$f":"OFFSET(Emisiones!N6,0,($O$1-1)*12)","v":"-"},{"$f":"OFFSET(Emisiones!O6,0,($O$1-1)*12)","v":"-"},"-"]
[null,"Térmica no renovable/Cogeneración y resto/Cogeneración (3)",{"$f":"OFFSET(Emisiones!D7,0,($O$1-1)*12)","v":982862.17323999992},{"$f":"OFFSET(Emisiones!E7,0,($O$1-1)*12)","v":884337.47730000003},{"$f":"OFFSET(Emisiones!F7,0,($O$1-1)*12)","v":957916.03916000004},{"$f":"OFFSET(Emisiones!G7,0,($O$1-1)*12)","v":920694.48168000008},{"$f":"OFFSET(Emisiones!H7,0,($O$1-1)*12)","v":"-"},{"$f":"OFFSET(Emisiones!I7,0,($O$1-1)*12)","v":"-"},{"$f":"OFFSET(Emisiones!J7,0,($O$1-1)*12)","v":"-"},{"$f":"OFFSET(Emisiones!K7,0,($O$1-1)*12)","v":"-"},{"$f":"OFFSET(Emisiones!L7,0,($O$1-1)*12)","v":"-"},{"$f":"OFFSET(Emisiones!M7,0,($O$1-1)*12)","v":"-"},{"$f":"OFFSET(Emisiones!N7,0,($O$1-1)*12)","v":"-"},{"$f":"OFFSET(Emisiones!O7,0,($O$1-1)*12)","v":"-"},3745810.1713800002]
[null,"Residuos no renovables",{"$f":"OFFSET(Emisiones!D8,0,($O$1-1)*12)","v":47182.812959999996},{"$f":"OFFSET(Emisiones!E8,0,($O$1-1)*12)","v":43379.81856},{"$f":"OFFSET(Emisiones!F8,0,($O$1-1)*12)","v":48186.928199999995},{"$f":"OFFSET(Emisiones!G8,0,($O$1-1)*12)","v":42082.227359999997},{"$f":"OFFSET(Emisiones!H8,0,($O$1-1)*12)","v":"-"},{"$f":"OFFSET(Emisiones!I8,0,($O$1-1)*12)","v":"-"},{"$f":"OFFSET(Emisiones!J8,0,($O$1-1)*12)","v":"-"},{"$f":"OFFSET(Emisiones!K8,0,($O$1-1)*12)","v":"-"},{"$f":"OFFSET(Emisiones!L8,0,($O$1-1)*12)","v":"-"},{"$f":"OFFSET(Emisiones!M8,0,($O$1-1)*12)","v":"-"},{"$f":"OFFSET(Emisiones!N8,0,($O$1-1)*12)","v":"-"},{"$f":"OFFSET(Emisiones!O8,0,($O$1-1)*12)","v":"-"},180831.78707999998]
[]
[null,"Emisiones (tCO2)",{"$f":"IF(SUM(C10:C16)=0,\"-\",SUM(C10:C16))","v":5134870.813769999},{"$f":"IF(SUM(D10:D16)=0,\"-\",SUM(D10:D16))","v":3969934.3091699998},2577385.0863999999,2653853.38644,"-","-","-","-","-","-","-",{"$f":"IF(SUM(N10:N16)=0,\"-\",SUM(N10:N16))","v":"-"},{"$f":"IF(SUM(C17:N17)=0,\"-\",SUM(C17:N17))","v":14336043.595779998}]
[null,"Factor de emision de CO2 (tCO2/MWh)",{"$f":"OFFSET(Emisiones!D11,0,($O$1-1)*12)","v":0.21901485308614471},{"$f":"OFFSET(Emisiones!E11,0,($O$1-1)*12)","v":0.20297218389442098},{"$f":"OFFSET(Emisiones!F11,0,($O$1-1)*12)","v":0.13026333176051316},{"$f":"OFFSET(Emisiones!G11,0,($O$1-1)*12)","v":0.14153971985596253},{"$f":"OFFSET(Emisiones!H11,0,($O$1-1)*12)","v":"-"},{"$f":"OFFSET(Emisiones!I11,0,($O$1-1)*12)","v":"-"},{"$f":"OFFSET(Emisiones!J11,0,($O$1-1)*12)","v":"-"},{"$f":"OFFSET(Emisiones!K11,0,($O$1-1)*12)","v":"-"},{"$f":"OFFSET(Emisiones!L11,0,($O$1-1)*12)","v":"-"},{"$f":"OFFSET(Emisiones!M11,0,($O$1-1)*12)","v":"-"},{"$f":"OFFSET(Emisiones!N11,0,($O$1-1)*12)","v":"-"},{"$f":"OFFSET(Emisiones!O11,0,($O$1-1)*12)","v":"-"},{"$f":"OFFSET(Emisiones!D83,0,($O$1-1))","v":0.17581574070066844}]
[null,"(1) Incluye funcionamiento en ciclo abierto."]
[null,"(2) Incluye residuos hasta el 31/12/2010."]
[null,{"$f":"IF(MONTH(O4)=1,\"\",CONCATENATE(\"    Para el año \",YEAR(O4), \" valores acumulados hasta \",TEXT(O4-30,\"mmmm\"),\" de \",YEAR(O4),\".\"))","v":""}]

{"sheet":"Emisiones anual Peninsular","index":4,"n_rows":21,"n_cols":10,"rows_kept":21,"cut":false,"hidden":false,"merged":[[19,1,19,9],[20,1,20,9],[18,1,18,9]]}
[null,null,null,null,null,null,null,null,null,4]
[]
[]
[null,null,null,null,null,null,null,"Sistema eléctrico"]
[null,null,null,null,null,null,null,"Horizonte temporal"]
[null,null,null,null,null,null,null,"Periodo"]
[]
[null,null,{"$f":"OFFSET(Emisiones!D74,0,($J$1-1)*8)","v":2014},{"$f":"OFFSET(Emisiones!E74,0,($J$1-1)*8)","v":2015},{"$f":"OFFSET(Emisiones!F74,0,($J$1-1)*8)","v":2016},{"$f":"OFFSET(Emisiones!G74,0,($J$1-1)*8)","v":2017},{"$f":"OFFSET(Emisiones!H74,0,($J$1-1)*8)","v":2018},{"$f":"OFFSET(Emisiones!I74,0,($J$1-1)*8)","v":2019},{"$f":"OFFSET(Emisiones!J74,0,($J$1-1)*8)","v":2020},{"$f":"OFFSET(Emisiones!K74,0,($J$1-1)*8)","v":2021}]
[]
[null,"Carbón",{"$f":"OFFSET(Emisiones!D75,0,($J$1-1)*8)","v":39005364.832449988},{"$f":"OFFSET(Emisiones!E75,0,($J$1-1)*8)","v":48217054.785449997},{"$f":"OFFSET(Emisiones!F75,0,($J$1-1)*8)","v":33260364.290999997},{"$f":"OFFSET(Emisiones!G75,0,($J$1-1)*8)","v":40300794.128199995},{"$f":"OFFSET(Emisiones!H75,0,($J$1-1)*8)","v":33137558.205199998},{"$f":"OFFSET(Emisiones!I75,0,($J$1-1)*8)","v":6526007.738499999},{"$f":"OFFSET(Emisiones!J75,0,($J$1-1)*8)","v":"-"},{"$f":"OFFSET(Emisiones!K75,0,($J$1-1)*8)","v":"-"}]
[null,"Fuel + Gas",{"$f":"OFFSET(Emisiones!D76,0,($J$1-1)*8)","v":"-"},{"$f":"OFFSET(Emisiones!E76,0,($J$1-1)*8)","v":"-"},{"$f":"OFFSET(Emisiones!F76,0,($J$1-1)*8)","v":"-"},{"$f":"OFFSET(Emisiones!G76,0,($J$1-1)*8)","v":"-"},{"$f":"OFFSET(Emisiones!H76,0,($J$1-1)*8)","v":"-"},{"$f":"OFFSET(Emisiones!I76,0,($J$1-1)*8)","v":"-"},{"$f":"OFFSET(Emisiones!J76,0,($J$1-1)*8)","v":"-"},{"$f":"OFFSET(Emisiones!K76,0,($J$1-1)*8)","v":"-"}]
[null,"Ciclo combinado (1)",{"$f":"OFFSET(Emisiones!D77,0,($J$1-1)*8)","v":7814588.1912500001},{"$f":"OFFSET(Emisiones!E77,0,($J$1-1)*8)","v":9262781.8572000004},{"$f":"OFFSET(Emisiones!F77,0,($J$1-1)*8)","v":9421334.5154599994},{"$f":"OFFSET(Emisiones!G77,0,($J$1-1)*8)","v":12449752.88823},{"$f":"OFFSET(Emisiones!H77,0,($J$1-1)*8)","v":9769081.6376499999},{"$f":"OFFSET(Emisiones!I77,0,($J$1-1)*8)","v":3883393.8988200002},{"$f":"OFFSET(Emisiones!J77,0,($J$1-1)*8)","v":"-"},{"$f":"OFFSET(Emisiones!K77,0,($J$1-1)*8)","v":"-"}]
[null,"Térmica renovable (2)",{"$f":"OFFSET(Emisiones!D78,0,($J$1-1)*8)","v":"-"},{"$f":"OFFSET(Emisiones!E78,0,($J$1-1)*8)","v":"-"},{"$f":"OFFSET(Emisiones!F78,0,($J$1-1)*8)","v":"-"},{"$f":"OFFSET(Emisiones!G78,0,($J$1-1)*8)","v":"-"},{"$f":"OFFSET(Emisiones!H78,0,($J$1-1)*8)","v":"-"},{"$f":"OFFSET(Emisiones!I78,0,($J$1-1)*8)","v":"-"},{"$f":"OFFSET(Emisiones!J78,0,($J$1-1)*8)","v":"-"},{"$f":"OFFSET(Emisiones!K78,0,($J$1-1)*8)","v":"-"}]
[null,"Térmica no renovable/Cogeneración y resto/Cogeneración (3)",{"$f":"OFFSET(Emisiones!D79,0,($J$1-1)*8)","v":8927367.88026},{"$f":"OFFSET(Emisiones!E79,0,($J$1-1)*8)","v":9312651.3744299989},{"$f":"OFFSET(Emisiones!F79,0,($J$1-1)*8)","v":9573358.6295400001},{"$f":"OFFSET(Emisiones!G79,0,($J$1-1)*8)","v":10424958.113530001},{"$f":"OFFSET(Emisiones!H79,0,($J$1-1)*8)","v":10722885.083890002},{"$f":"OFFSET(Emisiones!I79,0,($J$1-1)*8)","v":3745810.1713800002},{"$f":"OFFSET(Emisiones!J79,0,($J$1-1)*8)","v":"-"},{"$f":"OFFSET(Emisiones!K79,0,($J$1-1)*8)","v":"-"}]
[null,"Residuos no renovables",{"$f":"OFFSET(Emisiones!D80,0,($J$1-1)*8)","v":440002.45367999998},{"$f":"OFFSET(Emisiones!E80,0,($J$1-1)*8)","v":557931.53784},{"$f":"OFFSET(Emisiones!F80,0,($J$1-1)*8)","v":593114.07492000004},{"$f":"OFFSET(Emisiones!G80,0,($J$1-1)*8)","v":590190.92663999996},{"$f":"OFFSET(Emisiones!H80,0,($J$1-1)*8)","v":550524.30515999999},{"$f":"OFFSET(Emisiones!I80,0,($J$1-1)*8)","v":180831.78707999998},{"$f":"OFFSET(Emisiones!J80,0,($J$1-1)*8)","v":"-"},{"$f":"OFFSET(Emisiones!K80,0,($J$1-1)*8)","v":"-"}]
[]
[null,"Emisiones (tCO2)",{"$f":"IF(SUM(C10:C16)=0,\"-\",SUM(C10:C16))","v":56187323.357639983},{"$f":"IF(SUM(D10:D16)=0,\"-\",SUM(D10:D16))","v":67350419.554919988},52848171.510919988,63765696.05659999,{"$f":"IF(SUM(G10:G16)=0,\"-\",SUM(G10:G16))","v":54180049.231900007},14336043.595779998,"-",{"$f":"IF(SUM(J10:J16)=0,\"-\",SUM(J10:J16))","v":"-"}]
[null,"Factor de emision de CO2 (tCO2/MWh)",{"$f":"OFFSET(Emisiones!D83,0,($J$1-1)*8)","v":0.22185225448000162},{"$f":"OFFSET(Emisiones!E83,0,($J$1-1)*8)","v":0.26521004977195439},{"$f":"OFFSET(Emisiones!F83,0,($J$1-1)*8)","v":0.21301156084766146},{"$f":"OFFSET(Emisiones!G83,0,($J$1-1)*8)","v":0.25699093603095763},{"$f":"OFFSET(Emisiones!H83,0,($J$1-1)*8)","v":0.21944773960130584},{"$f":"OFFSET(Emisiones!I83,0,($J$1-1)*8)","v":0.17581574070066844},{"$f":"OFFSET(Emisiones!J83,0,($J$1-1)*8)","v":"-"},{"$f":"OFFSET(Emisiones!K83,0,($J$1-1)*8)","v":"-"}]
[null,"(1) Incluye funcionamiento en ciclo abierto."]
[null,"(2) Incluye residuos hasta el 31/12/2010."]
[null,{"$f":"IF(MONTH('AVISO LEGAL'!J2)=1,\"\",CONCATENATE(\"    Para el año \",YEAR('AVISO LEGAL'!J2), \" valores hasta \",TEXT('AVISO LEGAL'!J2-30,\"mmmm\"),\" de \",YEAR('AVISO LEGAL'!J2),\".\"))","v":"    Para el año 2019 valores hasta abril de 2019."}]

{"sheet":"Emisiones mensual Baleares","index":5,"n_rows":24,"n_cols":15,"rows_kept":24,"cut":false,"hidden":false,"merged":[[5,2,5,9],[22,1,22,14],[23,1,23,14],[20,1,20,14],[21,1,21,14]]}
[null,null,null,null,null,null,null,null,null,null,null,null,null,null,14]
[]
[]
[null,null,null,null,null,null,null,null,null,null,null,null,"Sistema eléctrico"]
[null,null,null,null,null,null,null,null,null,null,null,null,"Horizonte temporal"]
[null,null,null,null,null,null,null,null,null,null,null,null,"Periodo"]
[]
[null,null,"Ene.","Feb.","Mar.","Abr.","May.","Jun.","Jul.","Ago.","Sep.","Oct.","Nov.","Dic.",{"$f":"OFFSET(Año!B18,($O$1-1),0)","v":2019}]
[]
[null,"Carbón",{"$f":"OFFSET(Emisiones!D14,0,($O$1-1)*12)","v":227627.57010000001},{"$f":"OFFSET(Emisiones!E14,0,($O$1-1)*12)","v":171868.29975000001},{"$f":"OFFSET(Emisiones!F14,0,($O$1-1)*12)","v":148076.00640000001},{"$f":"OFFSET(Emisiones!G14,0,($O$1-1)*12)","v":132517.19039999999},{"$f":"OFFSET(Emisiones!H14,0,($O$1-1)*12)","v":"-"},{"$f":"OFFSET(Emisiones!I14,0,($O$1-1)*12)","v":"-"},{"$f":"OFFSET(Emisiones!J14,0,($O$1-1)*12)","v":"-"},{"$f":"OFFSET(Emisiones!K14,0,($O$1-1)*12)","v":"-"},{"$f":"OFFSET(Emisiones!L14,0,($O$1-1)*12)","v":"-"},{"$f":"OFFSET(Emisiones!M14,0,($O$1-1)*12)","v":"-"},{"$f":"OFFSET(Emisiones!N14,0,($O$1-1)*12)","v":"-"},{"$f":"OFFSET(Emisiones!O14,0,($O$1-1)*12)","v":"-"},{"$f":"IF(SUM(C10:N10)=0,\"-\",SUM(C10:N10))","v":680089.06664999994}]
[null,"Motores diesel",{"$f":"OFFSET(Emisiones!D20,0,($O$1-1)*12)","v":23592.206160000002},{"$f":"OFFSET(Emisiones!E20,0,($O$1-1)*12)","v":17806.541090000002},{"$f":"OFFSET(Emisiones!F20,0,($O$1-1)*12)","v":11145.97595},{"$f":"OFFSET(Emisiones!G20,0,($O$1-1)*12)","v":20235.77751},{"$f":"OFFSET(Emisiones!H20,0,($O$1-1)*12)","v":"-"},{"$f":"OFFSET(Emisiones!I20,0,($O$1-1)*12)","v":"-"},{"$f":"OFFSET(Emisiones!J20,0,($O$1-1)*12)","v":"-"},{"$f":"OFFSET(Emisiones!K20,0,($O$1-1)*12)","v":"-"},{"$f":"OFFSET(Emisiones!L20,0,($O$1-1)*12)","v":"-"},{"$f":"OFFSET(Emisiones!M20,0,($O$1-1)*12)","v":"-"},{"$f":"OFFSET(Emisiones!N20,0,($O$1-1)*12)","v":"-"},{"$f":"OFFSET(Emisiones!O20,0,($O$1-1)*12)","v":"-"},{"$f":"IF(SUM(C11:N11)=0,\"-\",SUM(C11:N11))","v":72780.500709999993}]
[null,"Turbina de gas",{"$f":"OFFSET(Emisiones!D27,0,($O$1-1)*12)","v":21398.263599999998},{"$f":"OFFSET(Emisiones!E27,0,($O$1-1)*12)","v":21470.816999999999},{"$f":"OFFSET(Emisiones!F27,0,($O$1-1)*12)","v":32821.066449999998},{"$f":"OFFSET(Emisiones!G27,0,($O$1-1)*12)","v":28662.896499999999},{"$f":"OFFSET(Emisiones!H27,0,($O$1-1)*12)","v":"-"},{"$f":"OFFSET(Emisiones!I27,0,($O$1-1)*12)","v":"-"},{"$f":"OFFSET(Emisiones!J27,0,($O$1-1)*12)","v":"-"},{"$f":"OFFSET(Emisiones!K27,0,($O$1-1)*12)","v":"-"},{"$f":"OFFSET(Emisiones!L27,0,($O$1-1)*12)","v":"-"},{"$f":"OFFSET(Emisiones!M27,0,($O$1-1)*12)","v":"-"},{"$f":"OFFSET(Emisiones!N27,0,($O$1-1)*12)","v":"-"},{"$f":"OFFSET(Emisiones!O27,0,($O$1-1)*12)","v":"-"},{"$f":"IF(SUM(C12:N12)=0,\"-\",SUM(C12:N12))","v":104353.04355}]
[null,"Ciclo combinado (1)",{"$f":"OFFSET(Emisiones!D28,0,($O$1-1)*12)","v":14108.975759999999},{"$f":"OFFSET(Emisiones!E28,0,($O$1-1)*12)","v":22714.881089999999},{"$f":"OFFSET(Emisiones!F28,0,($O$1-1)*12)","v":34410.61735},{"$f":"OFFSET(Emisiones!G28,0,($O$1-1)*12)","v":38262.451730000001},{"$f":"OFFSET(Emisiones!H28,0,($O$1-1)*12)","v":"-"},{"$f":"OFFSET(Emisiones!I28,0,($O$1-1)*12)","v":"-"},{"$f":"OFFSET(Emisiones!J28,0,($O$1-1)*12)","v":"-"},{"$f":"OFFSET(Emisiones!K28,0,($O$1-1)*12)","v":"-"},{"$f":"OFFSET(Emisiones!L28,0,($O$1-1)*12)","v":"-"},{"$f":"OFFSET(Emisiones!M28,0,($O$1-1)*12)","v":"-"},{"$f":"OFFSET(Emisiones!N28,0,($O$1-1)*12)","v":"-"},{"$f":"OFFSET(Emisiones!O28,0,($O$1-1)*12)","v":"-"},109496.92593]
[null,"Generación auxiliar (2)",{"$f":"OFFSET(Emisiones!D29,0,($O$1-1)*12)","v":"-"},{"$f":"OFFSET(Emisiones!E29,0,($O$1-1)*12)","v":"-"},{"$f":"OFFSET(Emisiones!F29,0,($O$1-1)*12)","v":"-"},{"$f":"OFFSET(Emisiones!G29,0,($O$1-1)*12)","v":"-"},{"$f":"OFFSET(Emisiones!H29,0,($O$1-1)*12)","v":"-"},{"$f":"OFFSET(Emisiones!I29,0,($O$1-1)*12)","v":"-"},{"$f":"OFFSET(Emisiones!J29,0,($O$1-1)*12)","v":"-"},{"$f":"OFFSET(Emisiones!K29,0,($O$1-1)*12)","v":"-"},{"$f":"OFFSET(Emisiones!L29,0,($O$1-1)*12)","v":"-"},{"$f":"OFFSET(Emisiones!M29,0,($O$1-1)*12)","v":"-"},{"$f":"OFFSET(Emisiones!N29,0,($O$1-1)*12)","v":"-"},{"$f":"OFFSET(Emisiones!O29,0,($O$1-1)*12)","v":"-"},"-"]
[null,"Térmica no renovable/Cogeneración y resto/Cogeneración (3)",{"$f":"OFFSET(Emisiones!D30,0,($O$1-1)*12)","v":"-"},{"$f":"OFFSET(Emisiones!E30,0,($O$1-1)*12)","v":"-"},{"$f":"OFFSET(Emisiones!F30,0,($O$1-1)*12)","v":"-"},{"$f":"OFFSET(Emisiones!G30,0,($O$1-1)*12)","v":"-"},{"$f":"OFFSET(Emisiones!H30,0,($O$1-1)*12)","v":"-"},{"$f":"OFFSET(Emisiones!I30,0,($O$1-1)*12)","v":"-"},{"$f":"OFFSET(Emisiones!J30,0,($O$1-1)*12)","v":"-"},{"$f":"OFFSET(Emisiones!K30,0,($O$1-1)*12)","v":"-"},{"$f":"OFFSET(Emisiones!L30,0,($O$1-1)*12)","v":"-"},{"$f":"OFFSET(Emisiones!M30,0,($O$1-1)*12)","v":"-"},{"$f":"OFFSET(Emisiones!N30,0,($O$1-1)*12)","v":"-"},{"$f":"OFFSET(Emisiones!O30,0,($O$1-1)*12)","v":"-"},"-"]
[null,"Cogeneración",{"$f":"OFFSET(Emisiones!D31,0,($O$1-1)*12)","v":1236.37239},{"$f":"OFFSET(Emisiones!E31,0,($O$1-1)*12)","v":1288.90832},{"$f":"OFFSET(Emisiones!F31,0,($O$1-1)*12)","v":1208.9590899999998},{"$f":"OFFSET(Emisiones!G31,0,($O$1-1)*12)","v":1078.6676600000001},{"$f":"OFFSET(Emisiones!H31,0,($O$1-1)*12)","v":"-"},{"$f":"OFFSET(Emisiones!I31,0,($O$1-1)*12)","v":"-"},{"$f":"OFFSET(Emisiones!J31,0,($O$1-1)*12)","v":"-"},{"$f":"OFFSET(Emisiones!K31,0,($O$1-1)*12)","v":"-"},{"$f":"OFFSET(Emisiones!L31,0,($O$1-1)*12)","v":"-"},{"$f":"OFFSET(Emisiones!M31,0,($O$1-1)*12)","v":"-"},{"$f":"OFFSET(Emisiones!N31,0,($O$1-1)*12)","v":"-"},{"$f":"OFFSET(Emisiones!O31,0,($O$1-1)*12)","v":"-"},4812.9074600000004]
[null,"Residuos no renovables",{"$f":"OFFSET(Emisiones!D32,0,($O$1-1)*12)","v":2294.5294800000001},{"$f":"OFFSET(Emisiones!E32,0,($O$1-1)*12)","v":1646.40708},{"$f":"OFFSET(Emisiones!F32,0,($O$1-1)*12)","v":2660.0790000000002},{"$f":"OFFSET(Emisiones!G32,0,($O$1-1)*12)","v":3229.5193199999999},{"$f":"OFFSET(Emisiones!H32,0,($O$1-1)*12)","v":"-"},{"$f":"OFFSET(Emisiones!I32,0,($O$1-1)*12)","v":"-"},{"$f":"OFFSET(Emisiones!J32,0,($O$1-1)*12)","v":"-"},{"$f":"OFFSET(Emisiones!K32,0,($O$1-1)*12)","v":"-"},{"$f":"OFFSET(Emisiones!L32,0,($O$1-1)*12)","v":"-"},{"$f":"OFFSET(Emisiones!M32,0,($O$1-1)*12)","v":"-"},{"$f":"OFFSET(Emisiones!N32,0,($O$1-1)*12)","v":"-"},{"$f":"OFFSET(Emisiones!O32,0,($O$1-1)*12)","v":"-"},9830.5348799999992]
[]
[null,"Emisiones (tCO2)",{"$f":"IF(SUM(C10:C18)=0,\"-\",SUM(C10:C18))","v":290257.91749000002},{"$f":"IF(SUM(D10:D18)=0,\"-\",SUM(D10:D18))","v":236795.85433000003},230322.70423999999,223986.50312000001,"-","-","-","-","-","-","-",{"$f":"IF(SUM(N10:N18)=0,\"-\",SUM(N10:N18))","v":"-"},{"$f":"IF(SUM(C19:N19)=0,\"-\",SUM(C19:N19))","v":981362.97918000002}]
[null,"Factor de emision de CO2 (tCO2/MWh)",{"$f":"OFFSET(Emisiones!D35,0,($O$1-1)*12)","v":0.85473022007685406},{"$f":"OFFSET(Emisiones!E35,0,($O$1-1)*12)","v":0.80169623994630612},{"$f":"OFFSET(Emisiones!F35,0,($O$1-1)*12)","v":0.73429212731556537},{"$f":"OFFSET(Emisiones!G35,0,($O$1-1)*12)","v":0.69759632353554457},{"$f":"OFFSET(Emisiones!H35,0,($O$1-1)*12)","v":"-"},{"$f":"OFFSET(Emisiones!I35,0,($O$1-1)*12)","v":"-"},{"$f":"OFFSET(Emisiones!J35,0,($O$1-1)*12)","v":"-"},{"$f":"OFFSET(Emisiones!K35,0,($O$1-1)*12)","v":"-"},{"$f":"OFFSET(Emisiones!L35,0,($O$1-1)*12)","v":"-"},{"$f":"OFFSET(Emisiones!M35,0,($O$1-1)*12)","v":"-"},{"$f":"OFFSET(Emisiones!N35,0,($O$1-1)*12)","v":"-"},{"$f":"OFFSET(Emisiones!O35,0,($O$1-1)*12)","v":"-"},{"$f":"OFFSET(Emisiones!D96,0,($O$1-1))","v":0.77290432911657814}]
[null,"(1) Incluye funcionamiento en ciclo abierto."]
[null,"(2) Grupos de emergencia que se instalan de forma transitoria en determinadas zonas para cubrir un déficit de generación."]
[null,"(3) Incluye residuos hasta el 31/12/2010."]
[null,{"$f":"IF(MONTH(O4)=1,\"\",CONCATENATE(\"    Para el año \",YEAR(O4), \" valores acumulados hasta \",TEXT(O4-30,\"mmmm\"),\" de \",YEAR(O4),\".\"))","v":""}]

{"sheet":"Emisiones anual Baleares","index":6,"n_rows":24,"n_cols":10,"rows_kept":24,"cut":false,"hidden":false,"merged":[[20,1,20,9],[23,1,23,9],[21,1,21,9],[22,1,22,9]]}
[null,null,null,null,null,null,null,null,null,2]
[]
[]
[null,null,null,null,null,null,null,"Sistema eléctrico"]
[null,null,null,null,null,null,null,"Horizonte temporal"]
[null,null,null,null,null,null,null,"Periodo"]
[]
[null,null,{"$f":"OFFSET(Emisiones!D85,0,($J$1-1)*8)","v":2014},{"$f":"OFFSET(Emisiones!E85,0,($J$1-1)*8)","v":2015},{"$f":"OFFSET(Emisiones!F85,0,($J$1-1)*8)","v":2016},{"$f":"OFFSET(Emisiones!G85,0,($J$1-1)*8)","v":2017},{"$f":"OFFSET(Emisiones!H85,0,($J$1-1)*8)","v":2018},{"$f":"OFFSET(Emisiones!I85,0,($J$1-1)*8)","v":2019},{"$f":"OFFSET(Emisiones!J85,0,($J$1-1)*8)","v":2020},{"$f":"OFFSET(Emisiones!K85,0,($J$1-1)*8)","v":2021}]
[]
[null,"Carbón",{"$f":"OFFSET(Emisiones!D86,0,($J$1-1)*8)","v":2078388.8396999999},{"$f":"OFFSET(Emisiones!E86,0,($J$1-1)*8)","v":1768598.9326499999},{"$f":"OFFSET(Emisiones!F86,0,($J$1-1)*8)","v":2187724.5724499999},{"$f":"OFFSET(Emisiones!G86,0,($J$1-1)*8)","v":2467655.2451500008},{"$f":"OFFSET(Emisiones!H86,0,($J$1-1)*8)","v":2511851.2177499998},{"$f":"OFFSET(Emisiones!I86,0,($J$1-1)*8)","v":680089.06664999994},{"$f":"OFFSET(Emisiones!J86,0,($J$1-1)*8)","v":"-"},{"$f":"OFFSET(Emisiones!K86,0,($J$1-1)*8)","v":"-"}]
[null,"Motores diesel",{"$f":"OFFSET(Emisiones!D87,0,($J$1-1)*8)","v":413405.80719999992},{"$f":"OFFSET(Emisiones!E87,0,($J$1-1)*8)","v":413240.86346999998},{"$f":"OFFSET(Emisiones!F87,0,($J$1-1)*8)","v":547918.66739999992},{"$f":"OFFSET(Emisiones!G87,0,($J$1-1)*8)","v":453712.90919999994},{"$f":"OFFSET(Emisiones!H87,0,($J$1-1)*8)","v":425362.86315000005},{"$f":"OFFSET(Emisiones!I87,0,($J$1-1)*8)","v":72780.500709999993},{"$f":"OFFSET(Emisiones!J87,0,($J$1-1)*8)","v":"-"},{"$f":"OFFSET(Emisiones!K87,0,($J$1-1)*8)","v":"-"}]
[null,"Turbina de gas",{"$f":"OFFSET(Emisiones!D88,0,($J$1-1)*8)","v":286840.06218000001},{"$f":"OFFSET(Emisiones!E88,0,($J$1-1)*8)","v":299160.54249000008},{"$f":"OFFSET(Emisiones!F88,0,($J$1-1)*8)","v":173276.71515},{"$f":"OFFSET(Emisiones!G88,0,($J$1-1)*8)","v":283827.53274},{"$f":"OFFSET(Emisiones!H88,0,($J$1-1)*8)","v":726749.06425000005},{"$f":"OFFSET(Emisiones!I88,0,($J$1-1)*8)","v":104353.04355},{"$f":"OFFSET(Emisiones!J88,0,($J$1-1)*8)","v":"-"},{"$f":"OFFSET(Emisiones!K88,0,($J$1-1)*8)","v":"-"}]
[null,"Ciclo combinado (1)",{"$f":"OFFSET(Emisiones!D89,0,($J$1-1)*8)","v":155264.25440000001},{"$f":"OFFSET(Emisiones!E89,0,($J$1-1)*8)","v":297734.18481999997},{"$f":"OFFSET(Emisiones!F89,0,($J$1-1)*8)","v":197980.37514999998},{"$f":"OFFSET(Emisiones!G89,0,($J$1-1)*8)","v":155558.86171999999},{"$f":"OFFSET(Emisiones!H89,0,($J$1-1)*8)","v":242115.31272999998},{"$f":"OFFSET(Emisiones!I89,0,($J$1-1)*8)","v":109496.92593},{"$f":"OFFSET(Emisiones!J89,0,($J$1-1)*8)","v":"-"},{"$f":"OFFSET(Emisiones!K89,0,($J$1-1)*8)","v":"-"}]
[null,"Generación auxiliar (2)",{"$f":"OFFSET(Emisiones!D90,0,($J$1-1)*8)","v":5693.6295599999994},{"$f":"OFFSET(Emisiones!E90,0,($J$1-1)*8)","v":7828.0825999999997},{"$f":"OFFSET(Emisiones!F90,0,($J$1-1)*8)","v":7468.6860599999991},{"$f":"OFFSET(Emisiones!G90,0,($J$1-1)*8)","v":10912.384099999999},{"$f":"OFFSET(Emisiones!H90,0,($J$1-1)*8)","v":8841.4695599999995},{"$f":"OFFSET(Emisiones!I90,0,($J$1-1)*8)","v":"-"},{"$f":"OFFSET(Emisiones!J90,0,($J$1-1)*8)","v":"-"},{"$f":"OFFSET(Emisiones!K90,0,($J$1-1)*8)","v":"-"}]
[null,"Térmica no renovable/Cogeneración y resto/Cogeneración (3)",{"$f":"OFFSET(Emisiones!D91,0,($J$1-1)*8)","v":9332.3560799999996},{"$f":"OFFSET(Emisiones!E91,0,($J$1-1)*8)","v":"-"},{"$f":"OFFSET(Emisiones!F91,0,($J$1-1)*8)","v":"-"},{"$f":"OFFSET(Emisiones!G91,0,($J$1-1)*8)","v":"-"},{"$f":"OFFSET(Emisiones!H91,0,($J$1-1)*8)","v":"-"},{"$f":"OFFSET(Emisiones!I91,0,($J$1-1)*8)","v":"-"},{"$f":"OFFSET(Emisiones!J91,0,($J$1-1)*8)","v":"-"},{"$f":"OFFSET(Emisiones!K91,0,($J$1-1)*8)","v":"-"}]
[null,"Cogeneración",{"$f":"OFFSET(Emisiones!D92,0,($J$1-1)*8)","v":"-"},{"$f":"OFFSET(Emisiones!E92,0,($J$1-1)*8)","v":11673.398989999998},{"$f":"OFFSET(Emisiones!F92,0,($J$1-1)*8)","v":12839.487289999999},{"$f":"OFFSET(Emisiones!G92,0,($J$1-1)*8)","v":13410.36658},{"$f":"OFFSET(Emisiones!H92,0,($J$1-1)*8)","v":12940.545019999998},{"$f":"OFFSET(Emisiones!I92,0,($J$1-1)*8)","v":4812.9074600000004},{"$f":"OFFSET(Emisiones!J92,0,($J$1-1)*8)","v":"-"},{"$f":"OFFSET(Emisiones!K92,0,($J$1-1)*8)","v":"-"}]
[null,"Residuos no renovables",{"$f":"OFFSET(Emisiones!D93,0,($J$1-1)*8)","v":30740.239079999999},{"$f":"OFFSET(Emisiones!E93,0,($J$1-1)*8)","v":36263.45508},{"$f":"OFFSET(Emisiones!F93,0,($J$1-1)*8)","v":31393.215960000001},{"$f":"OFFSET(Emisiones!G93,0,($J$1-1)*8)","v":34530.880319999997},{"$f":"OFFSET(Emisiones!H93,0,($J$1-1)*8)","v":32581.858680000001},{"$f":"OFFSET(Emisiones!I93,0,($J$1-1)*8)","v":9830.5348799999992},{"$f":"OFFSET(Emisiones!J93,0,($J$1-1)*8)","v":"-"},{"$f":"OFFSET(Emisiones!K93,0,($J$1-1)*8)","v":"-"}]
[]
[null,"Emisiones (tCO2)",{"$f":"IF(SUM(C10:C18)=0,\"-\",SUM(C10:C18))","v":2979665.1881999997},{"$f":"IF(SUM(D10:D18)=0,\"-\",SUM(D10:D18))","v":2834499.4601000003},3158601.7194600003,3419608.179810001,{"$f":"IF(SUM(G10:G18)=0,\"-\",SUM(G10:G18))","v":3960442.3311400004},981362.97918000014,"-",{"$f":"IF(SUM(J10:J18)=0,\"-\",SUM(J10:J18))","v":"-"}]
[null,"Factor de emision de CO2 (tCO2/MWh)",{"$f":"OFFSET(Emisiones!D96,0,($J$1-1)*8)","v":0.69631058864794115},{"$f":"OFFSET(Emisiones!E96,0,($J$1-1)*8)","v":0.63665476808279675},{"$f":"OFFSET(Emisiones!F96,0,($J$1-1)*8)","v":0.69076610143889694},{"$f":"OFFSET(Emisiones!G96,0,($J$1-1)*8)","v":0.70695283389513075},{"$f":"OFFSET(Emisiones!H96,0,($J$1-1)*8)","v":0.82169411573563977},{"$f":"OFFSET(Emisiones!I96,0,($J$1-1)*8)","v":0.77290432911657814},{"$f":"OFFSET(Emisiones!J96,0,($J$1-1)*8)","v":"-"},{"$f":"OFFSET(Emisiones!K96,0,($J$1-1)*8)","v":"-"}]
[null,"(1) Incluye funcionamiento en ciclo abierto."]
[null,"(2) Grupos de emergencia que se instalan de forma transitoria en determinadas zonas para cubrir un déficit de generación."]
[null,"(3) Incluye residuos hasta el 31/12/2010."]
[null,{"$f":"IF(MONTH('AVISO LEGAL'!J2)=1,\"\",CONCATENATE(\"    Para el año \",YEAR('AVISO LEGAL'!J2), \" valores hasta \",TEXT('AVISO LEGAL'!J2-30,\"mmmm\"),\" de \",YEAR('AVISO LEGAL'!J2),\".\"))","v":"    Para el año 2019 valores hasta abril de 2019."}]

{"sheet":"Emisiones mensual Canarias","index":7,"n_rows":21,"n_cols":15,"rows_kept":21,"cut":false,"hidden":false,"merged":[[5,2,5,9],[18,1,18,14],[19,1,19,14],[20,1,20,14]]}
[null,null,null,null,null,null,null,null,null,null,null,null,null,null,14]
[]
[]
[null,null,null,null,null,null,null,null,null,null,null,null,"Sistema eléctrico"]
[null,null,null,null,null,null,null,null,null,null,null,null,"Horizonte temporal"]
[null,null,null,null,null,null,null,null,null,null,null,null,"Periodo"]
[]
[null,null,"Ene.","Feb.","Mar.","Abr.","May.","Jun.","Jul.","Ago.","Sep.","Oct.","Nov.","Dic.",{"$f":"OFFSET(Año!B18,($O$1-1),0)","v":2019}]
[]
[null,"Motores diesel",{"$f":"OFFSET(Emisiones!D38,0,($O$1-1)*12)","v":113271.77680000001},{"$f":"OFFSET(Emisiones!E38,0,($O$1-1)*12)","v":99350.457049999997},{"$f":"OFFSET(Emisiones!F38,0,($O$1-1)*12)","v":104667.69885},{"$f":"OFFSET(Emisiones!G38,0,($O$1-1)*12)","v":102092.1915},{"$f":"OFFSET(Emisiones!H38,0,($O$1-1)*12)","v":"-"},{"$f":"OFFSET(Emisiones!I38,0,($O$1-1)*12)","v":"-"},{"$f":"OFFSET(Emisiones!J38,0,($O$1-1)*12)","v":"-"},{"$f":"OFFSET(Emisiones!K38,0,($O$1-1)*12)","v":"-"},{"$f":"OFFSET(Emisiones!L38,0,($O$1-1)*12)","v":"-"},{"$f":"OFFSET(Emisiones!M38,0,($O$1-1)*12)","v":"-"},{"$f":"OFFSET(Emisiones!N38,0,($O$1-1)*12)","v":"-"},{"$f":"OFFSET(Emisiones!O38,0,($O$1-1)*12)","v":"-"},{"$f":"IF(SUM(C10:N10)=0,\"-\",SUM(C10:N10))","v":419382.12420000002}]
[null,"Turbina de gas",{"$f":"OFFSET(Emisiones!D39,0,($O$1-1)*12)","v":24579.103360000005},{"$f":"OFFSET(Emisiones!E39,0,($O$1-1)*12)","v":21215.341280000001},{"$f":"OFFSET(Emisiones!F39,0,($O$1-1)*12)","v":21367.724000000002},{"$f":"OFFSET(Emisiones!G39,0,($O$1-1)*12)","v":22410.311840000002},{"$f":"OFFSET(Emisiones!H39,0,($O$1-1)*12)","v":"-"},{"$f":"OFFSET(Emisiones!I39,0,($O$1-1)*12)","v":"-"},{"$f":"OFFSET(Emisiones!J39,0,($O$1-1)*12)","v":"-"},{"$f":"OFFSET(Emisiones!K39,0,($O$1-1)*12)","v":"-"},{"$f":"OFFSET(Emisiones!L39,0,($O$1-1)*12)","v":"-"},{"$f":"OFFSET(Emisiones!M39,0,($O$1-1)*12)","v":"-"},{"$f":"OFFSET(Emisiones!N39,0,($O$1-1)*12)","v":"-"},{"$f":"OFFSET(Emisiones!O39,0,($O$1-1)*12)","v":"-"},{"$f":"IF(SUM(C11:N11)=0,\"-\",SUM(C11:N11))","v":89572.480479999998}]
[null,"Turbina de vapor",{"$f":"OFFSET(Emisiones!D40,0,($O$1-1)*12)","v":196785.5508},{"$f":"OFFSET(Emisiones!E40,0,($O$1-1)*12)","v":191683.6299},{"$f":"OFFSET(Emisiones!F40,0,($O$1-1)*12)","v":188154.27900000001},{"$f":"OFFSET(Emisiones!G40,0,($O$1-1)*12)","v":179959.11660000001},{"$f":"OFFSET(Emisiones!H40,0,($O$1-1)*12)","v":"-"},{"$f":"OFFSET(Emisiones!I40,0,($O$1-1)*12)","v":"-"},{"$f":"OFFSET(Emisiones!J40,0,($O$1-1)*12)","v":"-"},{"$f":"OFFSET(Emisiones!K40,0,($O$1-1)*12)","v":"-"},{"$f":"OFFSET(Emisiones!L40,0,($O$1-1)*12)","v":"-"},{"$f":"OFFSET(Emisiones!M40,0,($O$1-1)*12)","v":"-"},{"$f":"OFFSET(Emisiones!N40,0,($O$1-1)*12)","v":"-"},{"$f":"OFFSET(Emisiones!O40,0,($O$1-1)*12)","v":"-"},756582.57630000007]
[null,"Ciclo combinado (1)",{"$f":"OFFSET(Emisiones!D41,0,($O$1-1)*12)","v":158704.36379999999},{"$f":"OFFSET(Emisiones!E41,0,($O$1-1)*12)","v":133178.89379999999},{"$f":"OFFSET(Emisiones!F41,0,($O$1-1)*12)","v":134713.68840000001},{"$f":"OFFSET(Emisiones!G41,0,($O$1-1)*12)","v":137816.1882},{"$f":"OFFSET(Emisiones!H41,0,($O$1-1)*12)","v":"-"},{"$f":"OFFSET(Emisiones!I41,0,($O$1-1)*12)","v":"-"},{"$f":"OFFSET(Emisiones!J41,0,($O$1-1)*12)","v":"-"},{"$f":"OFFSET(Emisiones!K41,0,($O$1-1)*12)","v":"-"},{"$f":"OFFSET(Emisiones!L41,0,($O$1-1)*12)","v":"-"},{"$f":"OFFSET(Emisiones!M41,0,($O$1-1)*12)","v":"-"},{"$f":"OFFSET(Emisiones!N41,0,($O$1-1)*12)","v":"-"},{"$f":"OFFSET(Emisiones!O41,0,($O$1-1)*12)","v":"-"},564413.13419999997]
[null,"Generación auxiliar (2)",{"$f":"OFFSET(Emisiones!D42,0,($O$1-1)*12)","v":"-"},{"$f":"OFFSET(Emisiones!E42,0,($O$1-1)*12)","v":"-"},{"$f":"OFFSET(Emisiones!F42,0,($O$1-1)*12)","v":"-"},{"$f":"OFFSET(Emisiones!G42,0,($O$1-1)*12)","v":"-"},{"$f":"OFFSET(Emisiones!H42,0,($O$1-1)*12)","v":"-"},{"$f":"OFFSET(Emisiones!I42,0,($O$1-1)*12)","v":"-"},{"$f":"OFFSET(Emisiones!J42,0,($O$1-1)*12)","v":"-"},{"$f":"OFFSET(Emisiones!K42,0,($O$1-1)*12)","v":"-"},{"$f":"OFFSET(Emisiones!L42,0,($O$1-1)*12)","v":"-"},{"$f":"OFFSET(Emisiones!M42,0,($O$1-1)*12)","v":"-"},{"$f":"OFFSET(Emisiones!N42,0,($O$1-1)*12)","v":"-"},{"$f":"OFFSET(Emisiones!O42,0,($O$1-1)*12)","v":"-"},"-"]
[null,"Térmica no renovable/Cogeneración y resto",{"$f":"OFFSET(Emisiones!D43,0,($O$1-1)*12)","v":"-"},{"$f":"OFFSET(Emisiones!E43,0,($O$1-1)*12)","v":"-"},{"$f":"OFFSET(Emisiones!F43,0,($O$1-1)*12)","v":"-"},{"$f":"OFFSET(Emisiones!G43,0,($O$1-1)*12)","v":"-"},{"$f":"OFFSET(Emisiones!H43,0,($O$1-1)*12)","v":"-"},{"$f":"OFFSET(Emisiones!I43,0,($O$1-1)*12)","v":"-"},{"$f":"OFFSET(Emisiones!J43,0,($O$1-1)*12)","v":"-"},{"$f":"OFFSET(Emisiones!K43,0,($O$1-1)*12)","v":"-"},{"$f":"OFFSET(Emisiones!L43,0,($O$1-1)*12)","v":"-"},{"$f":"OFFSET(Emisiones!M43,0,($O$1-1)*12)","v":"-"},{"$f":"OFFSET(Emisiones!N43,0,($O$1-1)*12)","v":"-"},{"$f":"OFFSET(Emisiones!O43,0,($O$1-1)*12)","v":"-"},"-"]
[null,"Cogeneración",{"$f":"OFFSET(Emisiones!D44,0,($O$1-1)*12)","v":"-"},{"$f":"OFFSET(Emisiones!E44,0,($O$1-1)*12)","v":"-"},{"$f":"OFFSET(Emisiones!F44,0,($O$1-1)*12)","v":"-"},{"$f":"OFFSET(Emisiones!G44,0,($O$1-1)*12)","v":"-"},{"$f":"OFFSET(Emisiones!H44,0,($O$1-1)*12)","v":"-"},{"$f":"OFFSET(Emisiones!I44,0,($O$1-1)*12)","v":"-"},{"$f":"OFFSET(Emisiones!J44,0,($O$1-1)*12)","v":"-"},{"$f":"OFFSET(Emisiones!K44,0,($O$1-1)*12)","v":"-"},{"$f":"OFFSET(Emisiones!L44,0,($O$1-1)*12)","v":"-"},{"$f":"OFFSET(Emisiones!M44,0,($O$1-1)*12)","v":"-"},{"$f":"OFFSET(Emisiones!N44,0,($O$1-1)*12)","v":"-"},{"$f":"OFFSET(Emisiones!O44,0,($O$1-1)*12)","v":"-"},"-"]
[null,"Emisiones (tCO2)",{"$f":"IF(SUM(C10:C16)=0,\"-\",SUM(C10:C16))","v":493340.79476000002},{"$f":"IF(SUM(D10:D16)=0,\"-\",SUM(D10:D16))","v":445428.32202999992},448903.39025000005,442277.80813999998,"-","-","-","-","-","-","-",{"$f":"IF(SUM(N10:N16)=0,\"-\",SUM(N10:N16))","v":"-"},{"$f":"IF(SUM(C17:N17)=0,\"-\",SUM(C17:N17))","v":1829950.3151799999}]
[null,"Factor de emision de CO2 (tCO2/MWh)",{"$f":"OFFSET(Emisiones!D46,0,($O$1-1)*12)","v":0.65315392409046313},{"$f":"OFFSET(Emisiones!E46,0,($O$1-1)*12)","v":0.65656181174515305},{"$f":"OFFSET(Emisiones!F46,0,($O$1-1)*12)","v":0.60836093355515131},{"$f":"OFFSET(Emisiones!G46,0,($O$1-1)*12)","v":0.63149977306060501},{"$f":"OFFSET(Emisiones!H46,0,($O$1-1)*12)","v":"-"},{"$f":"OFFSET(Emisiones!I46,0,($O$1-1)*12)","v":"-"},{"$f":"OFFSET(Emisiones!J46,0,($O$1-1)*12)","v":"-"},{"$f":"OFFSET(Emisiones!K46,0,($O$1-1)*12)","v":"-"},{"$f":"OFFSET(Emisiones!L46,0,($O$1-1)*12)","v":"-"},{"$f":"OFFSET(Emisiones!M46,0,($O$1-1)*12)","v":"-"},{"$f":"OFFSET(Emisiones!N46,0,($O$1-1)*12)","v":"-"},{"$f":"OFFSET(Emisiones!O46,0,($O$1-1)*12)","v":"-"},{"$f":"OFFSET(Emisiones!D107,0,($O$1-1))","v":0.63716991904711195}]
[null,"(1) Utiliza gasoil como combustible principal. Incluye funcionamiento en ciclo abierto."]
[null,"(2) Grupos de emergencia que se instalan de forma transitoria en determinadas zonas para cubrir un déficit de generación."]
[null,{"$f":"IF(MONTH(O4)=1,\"\",CONCATENATE(\"    Para el año \",YEAR(O4), \" valores acumulados hasta \",TEXT(O4-30,\"mmmm\"),\" de \",YEAR(O4),\".\"))","v":""}]

{"sheet":"Emisiones anual Canarias","index":8,"n_rows":21,"n_cols":10,"rows_kept":21,"cut":false,"hidden":false,"merged":[[18,1,18,9],[19,1,19,9],[20,1,20,9]]}
[null,null,null,null,null,null,null,null,null,2]
[]
[]
[null,null,null,null,null,null,null,"Sistema eléctrico"]
[null,null,null,null,null,null,null,"Horizonte temporal"]
[null,null,null,null,null,null,null,"Periodo"]
[]
[null,null,{"$f":"OFFSET(Emisiones!D85,0,($J$1-1)*8)","v":2014},{"$f":"OFFSET(Emisiones!E85,0,($J$1-1)*8)","v":2015},{"$f":"OFFSET(Emisiones!F85,0,($J$1-1)*8)","v":2016},{"$f":"OFFSET(Emisiones!G85,0,($J$1-1)*8)","v":2017},{"$f":"OFFSET(Emisiones!H85,0,($J$1-1)*8)","v":2018},{"$f":"OFFSET(Emisiones!I85,0,($J$1-1)*8)","v":2019},{"$f":"OFFSET(Emisiones!J85,0,($J$1-1)*8)","v":2020},{"$f":"OFFSET(Emisiones!K85,0,($J$1-1)*8)","v":2021}]
[]
[null,"Motores diesel",{"$f":"OFFSET(Emisiones!D99,0,($J$1-1)*8)","v":1753322.7166999998},{"$f":"OFFSET(Emisiones!E99,0,($J$1-1)*8)","v":1805916.7680399998},{"$f":"OFFSET(Emisiones!F99,0,($J$1-1)*8)","v":1822287.26526},{"$f":"OFFSET(Emisiones!G99,0,($J$1-1)*8)","v":1838705.8669599998},{"$f":"OFFSET(Emisiones!H99,0,($J$1-1)*8)","v":1378742.3598},{"$f":"OFFSET(Emisiones!I99,0,($J$1-1)*8)","v":419382.12420000002},{"$f":"OFFSET(Emisiones!J99,0,($J$1-1)*8)","v":"-"},{"$f":"OFFSET(Emisiones!K99,0,($J$1-1)*8)","v":"-"}]
[null,"Turbina de gas",{"$f":"OFFSET(Emisiones!D100,0,($J$1-1)*8)","v":468967.58350000001},{"$f":"OFFSET(Emisiones!E100,0,($J$1-1)*8)","v":426146.85229999997},{"$f":"OFFSET(Emisiones!F100,0,($J$1-1)*8)","v":358670.81120000005},{"$f":"OFFSET(Emisiones!G100,0,($J$1-1)*8)","v":408649.4178},{"$f":"OFFSET(Emisiones!H100,0,($J$1-1)*8)","v":318476.26608000003},{"$f":"OFFSET(Emisiones!I100,0,($J$1-1)*8)","v":89572.480479999998},{"$f":"OFFSET(Emisiones!J100,0,($J$1-1)*8)","v":"-"},{"$f":"OFFSET(Emisiones!K100,0,($J$1-1)*8)","v":"-"}]
[null,"Turbina de vapor",{"$f":"OFFSET(Emisiones!D101,0,($J$1-1)*8)","v":1842986.5709200006},{"$f":"OFFSET(Emisiones!E101,0,($J$1-1)*8)","v":1978426.0046300001},{"$f":"OFFSET(Emisiones!F101,0,($J$1-1)*8)","v":2257167.2726699999},{"$f":"OFFSET(Emisiones!G101,0,($J$1-1)*8)","v":2380210.5265000002},{"$f":"OFFSET(Emisiones!H101,0,($J$1-1)*8)","v":2209889.1338999998},{"$f":"OFFSET(Emisiones!I101,0,($J$1-1)*8)","v":756582.57630000007},{"$f":"OFFSET(Emisiones!J101,0,($J$1-1)*8)","v":"-"},{"$f":"OFFSET(Emisiones!K101,0,($J$1-1)*8)","v":"-"}]
[null,"Ciclo combinado (1)",{"$f":"OFFSET(Emisiones!D102,0,($J$1-1)*8)","v":2527661.5228800001},{"$f":"OFFSET(Emisiones!E102,0,($J$1-1)*8)","v":2486684.2954199999},{"$f":"OFFSET(Emisiones!F102,0,($J$1-1)*8)","v":2346500.3179800003},{"$f":"OFFSET(Emisiones!G102,0,($J$1-1)*8)","v":2337954.0194399999},{"$f":"OFFSET(Emisiones!H102,0,($J$1-1)*8)","v":1830612.9647999997},{"$f":"OFFSET(Emisiones!I102,0,($J$1-1)*8)","v":564413.13419999997},{"$f":"OFFSET(Emisiones!J102,0,($J$1-1)*8)","v":"-"},{"$f":"OFFSET(Emisiones!K102,0,($J$1-1)*8)","v":"-"}]
[null,"Generación auxiliar (2)",{"$f":"OFFSET(Emisiones!D103,0,($J$1-1)*8)","v":"-"},{"$f":"OFFSET(Emisiones!E103,0,($J$1-1)*8)","v":"-"},{"$f":"OFFSET(Emisiones!F103,0,($J$1-1)*8)","v":"-"},{"$f":"OFFSET(Emisiones!G103,0,($J$1-1)*8)","v":"-"},{"$f":"OFFSET(Emisiones!H103,0,($J$1-1)*8)","v":"-"},{"$f":"OFFSET(Emisiones!I103,0,($J$1-1)*8)","v":"-"},{"$f":"OFFSET(Emisiones!J103,0,($J$1-1)*8)","v":"-"},{"$f":"OFFSET(Emisiones!K103,0,($J$1-1)*8)","v":"-"}]
[null,"Térmica no renovable/Cogeneración y resto",{"$f":"OFFSET(Emisiones!D104,0,($J$1-1)*8)","v":"-"},{"$f":"OFFSET(Emisiones!E104,0,($J$1-1)*8)","v":"-"},{"$f":"OFFSET(Emisiones!F104,0,($J$1-1)*8)","v":"-"},{"$f":"OFFSET(Emisiones!G104,0,($J$1-1)*8)","v":"-"},{"$f":"OFFSET(Emisiones!H104,0,($J$1-1)*8)","v":"-"},{"$f":"OFFSET(Emisiones!I104,0,($J$1-1)*8)","v":"-"},{"$f":"OFFSET(Emisiones!J104,0,($J$1-1)*8)","v":"-"},{"$f":"OFFSET(Emisiones!K104,0,($J$1-1)*8)","v":"-"}]
[null,"Cogeneración",{"$f":"OFFSET(Emisiones!D105,0,($J$1-1)*8)","v":"-"},{"$f":"OFFSET(Emisiones!E105,0,($J$1-1)*8)","v":"-"},{"$f":"OFFSET(Emisiones!F105,0,($J$1-1)*8)","v":"-"},{"$f":"OFFSET(Emisiones!G105,0,($J$1-1)*8)","v":"-"},{"$f":"OFFSET(Emisiones!H105,0,($J$1-1)*8)","v":"-"},{"$f":"OFFSET(Emisiones!I105,0,($J$1-1)*8)","v":"-"},{"$f":"OFFSET(Emisiones!J105,0,($J$1-1)*8)","v":"-"},{"$f":"OFFSET(Emisiones!K105,0,($J$1-1)*8)","v":"-"}]
[null,"Emisiones (tCO2)",{"$f":"IF(SUM(C10:C16)=0,\"-\",SUM(C10:C16))","v":6592938.3940000003},{"$f":"IF(SUM(D10:D16)=0,\"-\",SUM(D10:D16))","v":6697173.9203900006},6784625.6671099998,6965519.8306999998,5737720.7245799992,1829950.3151800002,"-",{"$f":"IF(SUM(J10:J16)=0,\"-\",SUM(J10:J16))","v":"-"}]
[null,"Factor de emision de CO2 (tCO2/MWh)",{"$f":"OFFSET(Emisiones!D107,0,($J$1-1)*8)","v":0.77608566533443935},{"$f":"OFFSET(Emisiones!E107,0,($J$1-1)*8)","v":0.77574521298297328},{"$f":"OFFSET(Emisiones!F107,0,($J$1-1)*8)","v":0.77590875222778111},{"$f":"OFFSET(Emisiones!G107,0,($J$1-1)*8)","v":0.77992057733799292},{"$f":"OFFSET(Emisiones!H107,0,($J$1-1)*8)","v":0.64901074179616225},{"$f":"OFFSET(Emisiones!I107,0,($J$1-1)*8)","v":0.63716991904711195},{"$f":"OFFSET(Emisiones!J107,0,($J$1-1)*8)","v":"-"},{"$f":"OFFSET(Emisiones!K107,0,($J$1-1)*8)","v":"-"}]
[null,"(1) Utiliza gasoil como combustible principal. Incluye funcionamiento en ciclo abierto."]
[null,"(2) Grupos de emergencia que se instalan de forma transitoria en determinadas zonas para cubrir un déficit de generación."]
[null,{"$f":"IF(MONTH('AVISO LEGAL'!J2)=1,\"\",CONCATENATE(\"    Para el año \",YEAR('AVISO LEGAL'!J2), \" valores hasta \",TEXT('AVISO LEGAL'!J2-30,\"mmmm\"),\" de \",YEAR('AVISO LEGAL'!J2),\".\"))","v":"    Para el año 2019 valores hasta abril de 2019."}]

{"sheet":"Emisiones mensual Ceuta","index":9,"n_rows":14,"n_cols":15,"rows_kept":14,"cut":false,"hidden":false,"merged":[[5,2,5,9],[13,1,13,14]]}
[null,null,null,null,null,null,null,null,null,null,null,null,null,null,13]
[]
[]
[null,null,null,null,null,null,null,null,null,null,null,null,"Sistema eléctrico"]
[null,null,null,null,null,null,null,null,null,null,null,null,"Horizonte temporal"]
[null,null,null,null,null,null,null,null,null,null,null,null,"Periodo"]
[]
[null,null,"Ene.","Feb.","Mar.","Abr.","May.","Jun.","Jul.","Ago.","Sep.","Oct.","Nov.","Dic.",{"$f":"OFFSET(Año!B19,($O$1-1),0)","v":2019}]
[]
[null,"Motores diesel",{"$f":"OFFSET(Emisiones!D49,0,($O$1-1)*12)","v":13729.007600000001},{"$f":"OFFSET(Emisiones!E49,0,($O$1-1)*12)","v":12334.513730000001},{"$f":"OFFSET(Emisiones!F49,0,($O$1-1)*12)","v":12780.158160000001},{"$f":"OFFSET(Emisiones!G49,0,($O$1-1)*12)","v":11719.271410000001},{"$f":"OFFSET(Emisiones!H49,0,($O$1-1)*12)","v":"-"},{"$f":"OFFSET(Emisiones!I49,0,($O$1-1)*12)","v":"-"},{"$f":"OFFSET(Emisiones!J49,0,($O$1-1)*12)","v":"-"},{"$f":"OFFSET(Emisiones!K49,0,($O$1-1)*12)","v":"-"},{"$f":"OFFSET(Emisiones!L49,0,($O$1-1)*12)","v":"-"},{"$f":"OFFSET(Emisiones!M49,0,($O$1-1)*12)","v":"-"},{"$f":"OFFSET(Emisiones!N49,0,($O$1-1)*12)","v":"-"},{"$f":"OFFSET(Emisiones!O49,0,($O$1-1)*12)","v":"-"},{"$f":"IF(SUM(C10:N10)=0,\"-\",SUM(C10:N10))","v":50562.950900000003}]
[null,"Turbina de gas",{"$f":"OFFSET(Emisiones!D50,0,($O$1-1)*12)","v":0.26566000000000001},{"$f":"OFFSET(Emisiones!E50,0,($O$1-1)*12)","v":0.50172000000000005},{"$f":"OFFSET(Emisiones!F50,0,($O$1-1)*12)","v":0.46398},{"$f":"OFFSET(Emisiones!G50,0,($O$1-1)*12)","v":0.93313999999999986},{"$f":"OFFSET(Emisiones!H50,0,($O$1-1)*12)","v":"-"},{"$f":"OFFSET(Emisiones!I50,0,($O$1-1)*12)","v":"-"},{"$f":"OFFSET(Emisiones!J50,0,($O$1-1)*12)","v":"-"},{"$f":"OFFSET(Emisiones!K50,0,($O$1-1)*12)","v":"-"},{"$f":"OFFSET(Emisiones!L50,0,($O$1-1)*12)","v":"-"},{"$f":"OFFSET(Emisiones!M50,0,($O$1-1)*12)","v":"-"},{"$f":"OFFSET(Emisiones!N50,0,($O$1-1)*12)","v":"-"},{"$f":"OFFSET(Emisiones!O50,0,($O$1-1)*12)","v":"-"},{"$f":"IF(SUM(C11:N11)=0,\"-\",SUM(C11:N11))","v":2.1644999999999999}]
[null,"Emisiones (tCO2)",{"$f":"IF(SUM(C10:C11)=0,\"-\",SUM(C10:C11))","v":13729.27326},{"$f":"IF(SUM(D10:D11)=0,\"-\",SUM(D10:D11))","v":12335.015450000001},12780.622140000001,11720.20455,"-","-","-","-","-","-","-",{"$f":"IF(SUM(N10:N11)=0,\"-\",SUM(N10:N11))","v":"-"},{"$f":"IF(SUM(C12:N12)=0,\"-\",SUM(C12:N12))","v":50565.115400000002}]
[null,"Factor de emision de CO2 (tCO2/MWh)",{"$f":"OFFSET(Emisiones!D52,0,($O$1-1)*12)","v":0.76999939596995859},{"$f":"OFFSET(Emisiones!E52,0,($O$1-1)*12)","v":0.7699987302995901},{"$f":"OFFSET(Emisiones!F52,0,($O$1-1)*12)","v":0.76999886674697648},{"$f":"OFFSET(Emisiones!G52,0,($O$1-1)*12)","v":0.7699975146333109},{"$f":"OFFSET(Emisiones!H52,0,($O$1-1)*12)","v":"-"},{"$f":"OFFSET(Emisiones!I52,0,($O$1-1)*12)","v":"-"},{"$f":"OFFSET(Emisiones!J52,0,($O$1-1)*12)","v":"-"},{"$f":"OFFSET(Emisiones!K52,0,($O$1-1)*12)","v":"-"},{"$f":"OFFSET(Emisiones!L52,0,($O$1-1)*12)","v":"-"},{"$f":"OFFSET(Emisiones!M52,0,($O$1-1)*12)","v":"-"},{"$f":"OFFSET(Emisiones!N52,0,($O$1-1)*12)","v":"-"},{"$f":"OFFSET(Emisiones!O52,0,($O$1-1)*12)","v":"-"},{"$f":"OFFSET(Emisiones!D113,0,($O$1-1))","v":0.7699986637549977}]
[null,{"$f":"IF(MONTH(O4)=1,\"\",CONCATENATE(\"    Para el año \",YEAR(O4), \" valores acumulados hasta \",TEXT(O4-30,\"mmmm\"),\" de \",YEAR(O4),\".\"))","v":""}]

{"sheet":"Emisiones anual Ceuta","index":10,"n_rows":14,"n_cols":10,"rows_kept":14,"cut":false,"hidden":false,"merged":[[13,1,13,9]]}
[null,null,null,null,null,null,null,null,null,2]
[]
[]
[null,null,null,null,null,null,null,"Sistema eléctrico"]
[null,null,null,null,null,null,null,"Horizonte temporal"]
[null,null,null,null,null,null,null,"Periodo"]
[]
[null,null,{"$f":"OFFSET(Emisiones!D109,0,($J$1-1)*8)","v":2015},{"$f":"OFFSET(Emisiones!E109,0,($J$1-1)*8)","v":2016},{"$f":"OFFSET(Emisiones!F109,0,($J$1-1)*8)","v":2017},{"$f":"OFFSET(Emisiones!G109,0,($J$1-1)*8)","v":2018},{"$f":"OFFSET(Emisiones!H109,0,($J$1-1)*8)","v":2019},{"$f":"OFFSET(Emisiones!I109,0,($J$1-1)*8)","v":2020},{"$f":"OFFSET(Emisiones!J109,0,($J$1-1)*8)","v":2021},{"$f":"OFFSET(Emisiones!K109,0,($J$1-1)*8)","v":2022}]
[]
[null,"Motores diesel",{"$f":"OFFSET(Emisiones!D110,0,($J$1-1)*8)","v":156508.12793000002},{"$f":"OFFSET(Emisiones!E110,0,($J$1-1)*8)","v":162129.65384000001},{"$f":"OFFSET(Emisiones!F110,0,($J$1-1)*8)","v":156039.21794999999},{"$f":"OFFSET(Emisiones!G110,0,($J$1-1)*8)","v":159571.82626},{"$f":"OFFSET(Emisiones!H110,0,($J$1-1)*8)","v":50562.950900000003},{"$f":"OFFSET(Emisiones!I110,0,($J$1-1)*8)","v":"-"},{"$f":"OFFSET(Emisiones!J110,0,($J$1-1)*8)","v":"-"},{"$f":"OFFSET(Emisiones!K110,0,($J$1-1)*8)","v":"-"}]
[null,"Turbina de gas",{"$f":"OFFSET(Emisiones!D111,0,($J$1-1)*8)","v":566.67794000000004},{"$f":"OFFSET(Emisiones!E111,0,($J$1-1)*8)","v":90.978559999999987},{"$f":"OFFSET(Emisiones!F111,0,($J$1-1)*8)","v":157.24630000000002},{"$f":"OFFSET(Emisiones!G111,0,($J$1-1)*8)","v":88.86363999999999},{"$f":"OFFSET(Emisiones!H111,0,($J$1-1)*8)","v":2.1644999999999999},{"$f":"OFFSET(Emisiones!I111,0,($J$1-1)*8)","v":"-"},{"$f":"OFFSET(Emisiones!J111,0,($J$1-1)*8)","v":"-"},{"$f":"OFFSET(Emisiones!K111,0,($J$1-1)*8)","v":"-"}]
[null,"Emisiones (tCO2)",{"$f":"IF(SUM(C10:C11)=0,\"-\",SUM(C10:C11))","v":157074.80587000001},{"$f":"IF(SUM(D10:D11)=0,\"-\",SUM(D10:D11))","v":162220.6324},156196.46424999999,159660.6899,50565.115400000002,"-","-",{"$f":"IF(SUM(J10:J11)=0,\"-\",SUM(J10:J11))","v":"-"}]
[null,"Factor de emision de CO2 (tCO2/MWh)",{"$f":"OFFSET(Emisiones!D113,0,($J$1-1)*8)","v":0.76988739789207195},{"$f":"OFFSET(Emisiones!E113,0,($J$1-1)*8)","v":0.76998249333769797},{"$f":"OFFSET(Emisiones!F113,0,($J$1-1)*8)","v":0.76996857525427653},{"$f":"OFFSET(Emisiones!G113,0,($J$1-1)*8)","v":0.76998262613038326},{"$f":"OFFSET(Emisiones!H113,0,($J$1-1)*8)","v":0.7699986637549977},{"$f":"OFFSET(Emisiones!I113,0,($J$1-1)*8)","v":"-"},{"$f":"OFFSET(Emisiones!J113,0,($J$1-1)*8)","v":"-"},{"$f":"OFFSET(Emisiones!K113,0,($J$1-1)*8)","v":"-"}]
[null,{"$f":"IF(MONTH('AVISO LEGAL'!J2)=1,\"\",CONCATENATE(\"Para el año \",YEAR('AVISO LEGAL'!J2), \" valores hasta \",TEXT('AVISO LEGAL'!J2-30,\"mmmm\"),\" de \",YEAR('AVISO LEGAL'!J2),\".\"))","v":"Para el año 2019 valores hasta abril de 2019."}]

{"sheet":"Emisiones mensual Melilla","index":11,"n_rows":17,"n_cols":15,"rows_kept":17,"cut":false,"hidden":false,"merged":[[5,2,5,9],[16,1,16,14]]}
[null,null,null,null,null,null,null,null,null,null,null,null,null,null,13]
[]
[]
[null,null,null,null,null,null,null,null,null,null,null,null,"Sistema eléctrico"]
[null,null,null,null,null,null,null,null,null,null,null,null,"Horizonte temporal"]
[null,null,null,null,null,null,null,null,null,null,null,null,"Periodo"]
[]
[null,null,"Ene.","Feb.","Mar.","Abr.","May.","Jun.","Jul.","Ago.","Sep.","Oct.","Nov.","Dic.",{"$f":"OFFSET(Año!B19,($O$1-1),0)","v":2019}]
[]
[null,"Motores diesel",{"$f":"OFFSET(Emisiones!D55,0,($O$1-1)*12)","v":13417.807479999999},{"$f":"OFFSET(Emisiones!E55,0,($O$1-1)*12)","v":11533.90084},{"$f":"OFFSET(Emisiones!F55,0,($O$1-1)*12)","v":11963.996660000001},{"$f":"OFFSET(Emisiones!G55,0,($O$1-1)*12)","v":11202.10707},{"$f":"OFFSET(Emisiones!H55,0,($O$1-1)*12)","v":"-"},{"$f":"OFFSET(Emisiones!I55,0,($O$1-1)*12)","v":"-"},{"$f":"OFFSET(Emisiones!J55,0,($O$1-1)*12)","v":"-"},{"$f":"OFFSET(Emisiones!K55,0,($O$1-1)*12)","v":"-"},{"$f":"OFFSET(Emisiones!L55,0,($O$1-1)*12)","v":"-"},{"$f":"OFFSET(Emisiones!M55,0,($O$1-1)*12)","v":"-"},{"$f":"OFFSET(Emisiones!N55,0,($O$1-1)*12)","v":"-"},{"$f":"OFFSET(Emisiones!O55,0,($O$1-1)*12)","v":"-"},{"$f":"IF(SUM(C10:N10)=0,\"-\",SUM(C10:N10))","v":48117.812049999993}]
[null,"Turbina de gas",{"$f":"OFFSET(Emisiones!D56,0,($O$1-1)*12)","v":0.41514000000000001},{"$f":"OFFSET(Emisiones!E56,0,($O$1-1)*12)","v":0.37962000000000001},{"$f":"OFFSET(Emisiones!F56,0,($O$1-1)*12)","v":0.74887999999999999},{"$f":"OFFSET(Emisiones!G56,0,($O$1-1)*12)","v":1.1440399999999999},{"$f":"OFFSET(Emisiones!H56,0,($O$1-1)*12)","v":"-"},{"$f":"OFFSET(Emisiones!I56,0,($O$1-1)*12)","v":"-"},{"$f":"OFFSET(Emisiones!J56,0,($O$1-1)*12)","v":"-"},{"$f":"OFFSET(Emisiones!K56,0,($O$1-1)*12)","v":"-"},{"$f":"OFFSET(Emisiones!L56,0,($O$1-1)*12)","v":"-"},{"$f":"OFFSET(Emisiones!M56,0,($O$1-1)*12)","v":"-"},{"$f":"OFFSET(Emisiones!N56,0,($O$1-1)*12)","v":"-"},{"$f":"OFFSET(Emisiones!O56,0,($O$1-1)*12)","v":"-"},{"$f":"IF(SUM(C11:N11)=0,\"-\",SUM(C11:N11))","v":2.6876799999999998}]
[null,"Térmica no renovable/Cogeneración y resto",{"$f":"OFFSET(Emisiones!D57,0,($O$1-1)*12)","v":"-"},{"$f":"OFFSET(Emisiones!E57,0,($O$1-1)*12)","v":"-"},{"$f":"OFFSET(Emisiones!F57,0,($O$1-1)*12)","v":"-"},{"$f":"OFFSET(Emisiones!G57,0,($O$1-1)*12)","v":"-"},{"$f":"OFFSET(Emisiones!H57,0,($O$1-1)*12)","v":"-"},{"$f":"OFFSET(Emisiones!I57,0,($O$1-1)*12)","v":"-"},{"$f":"OFFSET(Emisiones!J57,0,($O$1-1)*12)","v":"-"},{"$f":"OFFSET(Emisiones!K57,0,($O$1-1)*12)","v":"-"},{"$f":"OFFSET(Emisiones!L57,0,($O$1-1)*12)","v":"-"},{"$f":"OFFSET(Emisiones!M57,0,($O$1-1)*12)","v":"-"},{"$f":"OFFSET(Emisiones!N57,0,($O$1-1)*12)","v":"-"},{"$f":"OFFSET(Emisiones!O57,0,($O$1-1)*12)","v":"-"},"-"]
[null,"Residuos no renovables",{"$f":"OFFSET(Emisiones!D58,0,($O$1-1)*12)","v":131.86176},{"$f":"OFFSET(Emisiones!E58,0,($O$1-1)*12)","v":117.52727999999999},{"$f":"OFFSET(Emisiones!F58,0,($O$1-1)*12)","v":129.22415999999998},{"$f":"OFFSET(Emisiones!G58,0,($O$1-1)*12)","v":109.52231999999999},{"$f":"OFFSET(Emisiones!H58,0,($O$1-1)*12)","v":"-"},{"$f":"OFFSET(Emisiones!I58,0,($O$1-1)*12)","v":"-"},{"$f":"OFFSET(Emisiones!J58,0,($O$1-1)*12)","v":"-"},{"$f":"OFFSET(Emisiones!K58,0,($O$1-1)*12)","v":"-"},{"$f":"OFFSET(Emisiones!L58,0,($O$1-1)*12)","v":"-"},{"$f":"OFFSET(Emisiones!M58,0,($O$1-1)*12)","v":"-"},{"$f":"OFFSET(Emisiones!N58,0,($O$1-1)*12)","v":"-"},{"$f":"OFFSET(Emisiones!O58,0,($O$1-1)*12)","v":"-"},488.13551999999999]
[]
[null,"Emisiones (tCO2)",{"$f":"IF(SUM(C10:C14)=0,\"-\",SUM(C10:C14))","v":13550.084379999998},{"$f":"IF(SUM(D10:D14)=0,\"-\",SUM(D10:D14))","v":11651.80774},12093.9697,11312.773429999999,"-","-","-","-","-","-","-",{"$f":"IF(SUM(N10:N14)=0,\"-\",SUM(N10:N14))","v":"-"},{"$f":"IF(SUM(C15:N15)=0,\"-\",SUM(C15:N15))","v":48608.635249999999}]
[null,"Factor de emision de CO2 (tCO2/MWh)",{"$f":"OFFSET(Emisiones!D61,0,($O$1-1)*12)","v":0.73124384072561377},{"$f":"OFFSET(Emisiones!E61,0,($O$1-1)*12)","v":0.72985621181964389},{"$f":"OFFSET(Emisiones!F61,0,($O$1-1)*12)","v":0.72758378469530238},{"$f":"OFFSET(Emisiones!G61,0,($O$1-1)*12)","v":0.7312669879315582},{"$f":"OFFSET(Emisiones!H61,0,($O$1-1)*12)","v":"-"},{"$f":"OFFSET(Emisiones!I61,0,($O$1-1)*12)","v":"-"},{"$f":"OFFSET(Emisiones!J61,0,($O$1-1)*12)","v":"-"},{"$f":"OFFSET(Emisiones!K61,0,($O$1-1)*12)","v":"-"},{"$f":"OFFSET(Emisiones!L61,0,($O$1-1)*12)","v":"-"},{"$f":"OFFSET(Emisiones!M61,0,($O$1-1)*12)","v":"-"},{"$f":"OFFSET(Emisiones!N61,0,($O$1-1)*12)","v":"-"},{"$f":"OFFSET(Emisiones!O61,0,($O$1-1)*12)","v":"-"},{"$f":"OFFSET(Emisiones!D122,0,($O$1-1))","v":0.73000286768074985}]
[null,{"$f":"IF(MONTH(O4)=1,\"\",CONCATENATE(\"    Para el año \",YEAR(O4), \" valores acumulados hasta \",TEXT(O4-30,\"mmmm\"),\" de \",YEAR(O4),\".\"))","v":""}]

{"sheet":"Emisiones anual Melilla","index":12,"n_rows":17,"n_cols":10,"rows_kept":17,"cut":false,"hidden":false,"merged":[[16,1,16,9]]}
[null,null,null,null,null,null,null,null,null,2]
[]
[]
[null,null,null,null,null,null,null,"Sistema eléctrico"]
[null,null,null,null,null,null,null,"Horizonte temporal"]
[null,null,null,null,null,null,null,"Periodo"]
[]
[null,null,{"$f":"OFFSET(Emisiones!D115,0,($J$1-1)*8)","v":2015},{"$f":"OFFSET(Emisiones!E115,0,($J$1-1)*8)","v":2016},{"$f":"OFFSET(Emisiones!F115,0,($J$1-1)*8)","v":2017},{"$f":"OFFSET(Emisiones!G115,0,($J$1-1)*8)","v":2018},{"$f":"OFFSET(Emisiones!H115,0,($J$1-1)*8)","v":2019},{"$f":"OFFSET(Emisiones!I115,0,($J$1-1)*8)","v":2020},{"$f":"OFFSET(Emisiones!J115,0,($J$1-1)*8)","v":2021},{"$f":"OFFSET(Emisiones!K115,0,($J$1-1)*8)","v":2022}]
[]
[null,"Motores diesel",{"$f":"OFFSET(Emisiones!D116,0,($J$1-1)*8)","v":157016.16854000001},{"$f":"OFFSET(Emisiones!E116,0,($J$1-1)*8)","v":152652.74332000001},{"$f":"OFFSET(Emisiones!F116,0,($J$1-1)*8)","v":154244.06228000001},{"$f":"OFFSET(Emisiones!G116,0,($J$1-1)*8)","v":155627.52282000001},{"$f":"OFFSET(Emisiones!H116,0,($J$1-1)*8)","v":48117.812049999993},{"$f":"OFFSET(Emisiones!I116,0,($J$1-1)*8)","v":"-"},{"$f":"OFFSET(Emisiones!J116,0,($J$1-1)*8)","v":"-"},{"$f":"OFFSET(Emisiones!K116,0,($J$1-1)*8)","v":"-"}]
[null,"Turbina de gas",{"$f":"OFFSET(Emisiones!D117,0,($J$1-1)*8)","v":452.50851999999998},{"$f":"OFFSET(Emisiones!E117,0,($J$1-1)*8)","v":189.04705999999999},{"$f":"OFFSET(Emisiones!F117,0,($J$1-1)*8)","v":57.182020000000001},{"$f":"OFFSET(Emisiones!G117,0,($J$1-1)*8)","v":49.654740000000004},{"$f":"OFFSET(Emisiones!H117,0,($J$1-1)*8)","v":2.6876799999999998},{"$f":"OFFSET(Emisiones!I117,0,($J$1-1)*8)","v":"-"},{"$f":"OFFSET(Emisiones!J117,0,($J$1-1)*8)","v":"-"},{"$f":"OFFSET(Emisiones!K117,0,($J$1-1)*8)","v":"-"}]
[null,"Térmica no renovable/Cogeneración y resto",{"$f":"OFFSET(Emisiones!D118,0,($J$1-1)*8)","v":"-"},{"$f":"OFFSET(Emisiones!E118,0,($J$1-1)*8)","v":"-"},{"$f":"OFFSET(Emisiones!F118,0,($J$1-1)*8)","v":"-"},{"$f":"OFFSET(Emisiones!G118,0,($J$1-1)*8)","v":"-"},{"$f":"OFFSET(Emisiones!H118,0,($J$1-1)*8)","v":"-"},{"$f":"OFFSET(Emisiones!I118,0,($J$1-1)*8)","v":"-"},{"$f":"OFFSET(Emisiones!J118,0,($J$1-1)*8)","v":"-"},{"$f":"OFFSET(Emisiones!K118,0,($J$1-1)*8)","v":"-"}]
[null,"Residuos no renovables",{"$f":"OFFSET(Emisiones!D119,0,($J$1-1)*8)","v":1031.1595199999999},{"$f":"OFFSET(Emisiones!E119,0,($J$1-1)*8)","v":1164.0126},{"$f":"OFFSET(Emisiones!F119,0,($J$1-1)*8)","v":1194.4766400000001},{"$f":"OFFSET(Emisiones!G119,0,($J$1-1)*8)","v":1283.24136},{"$f":"OFFSET(Emisiones!H119,0,($J$1-1)*8)","v":488.13551999999999},{"$f":"OFFSET(Emisiones!I119,0,($J$1-1)*8)","v":"-"},{"$f":"OFFSET(Emisiones!J119,0,($J$1-1)*8)","v":"-"},{"$f":"OFFSET(Emisiones!K119,0,($J$1-1)*8)","v":"-"}]
[]
[null,"Emisiones (tCO2)",{"$f":"IF(SUM(C10:C14)=0,\"-\",SUM(C10:C14))","v":158499.83658},{"$f":"IF(SUM(D10:D14)=0,\"-\",SUM(D10:D14))","v":154005.80298000001},155495.72094000003,{"$f":"IF(SUM(F10:F14)=0,\"-\",SUM(F10:F14))","v":156960.41892000003},48608.635249999999,"-","-",{"$f":"IF(SUM(J10:J14)=0,\"-\",SUM(J10:J14))","v":"-"}]
[null,"Factor de emision de CO2 (tCO2/MWh)",{"$f":"OFFSET(Emisiones!D122,0,($J$1-1)*8)","v":0.74342720359883296},{"$f":"OFFSET(Emisiones!E122,0,($J$1-1)*8)","v":0.7393958805390608},{"$f":"OFFSET(Emisiones!F122,0,($J$1-1)*8)","v":0.73896002519243464},{"$f":"OFFSET(Emisiones!G122,0,($J$1-1)*8)","v":0.73707966528858426},{"$f":"OFFSET(Emisiones!H122,0,($J$1-1)*8)","v":0.73000286768074985},{"$f":"OFFSET(Emisiones!I122,0,($J$1-1)*8)","v":"-"},{"$f":"OFFSET(Emisiones!J122,0,($J$1-1)*8)","v":"-"},{"$f":"OFFSET(Emisiones!K122,0,($J$1-1)*8)","v":"-"}]
[null,{"$f":"IF(MONTH('AVISO LEGAL'!J2)=1,\"\",CONCATENATE(\"Para el año \",YEAR('AVISO LEGAL'!J2), \" valores hasta \",TEXT('AVISO LEGAL'!J2-30,\"mmmm\"),\" de \",YEAR('AVISO LEGAL'!J2),\".\"))","v":"Para el año 2019 valores hasta abril de 2019."}]

{"sheet":"Emisiones","index":13,"n_rows":133,"n_cols":363,"rows_kept":133,"cut":false,"hidden":true,"merged":[]}
[]
[null,null,"Emisiones de CO2 asociadas a la generación mensual peninsular","1990-01-01","1990-02-01","1990-03-01","1990-04-01","1990-05-01","1990-06-01","1990-07-01","1990-08-01","1990-09-01","1990-10-01","1990-11-01","1990-12-01","1991-01-01","1991-02-01","1991-03-01","1991-04-01","1991-05-01","1991-06-01","1991-07-01","1991-08-01","1991-09-01","1991-10-01","1991-11-01","1991-12-01","1992-01-01","1992-02-01","1992-03-01","1992-04-01","1992-05-01","1992-06-01","1992-07-01","1992-08-01","1992-09-01","1992-10-01","1992-11-01","1992-12-01","1993-01-01","1993-02-01","1993-03-01","1993-04-01","1993-05-01","1993-06-01","1993-07-01","1993-08-01","1993-09-01","1993-10-01","1993-11-01","1993-12-01","1994-01-01","1994-02-01","1994-03-01","1994-04-01","1994-05-01","1994-06-01","1994-07-01","1994-08-01","1994-09-01","1994-10-01","1994-11-01","1994-12-01","1995-01-01","1995-02-01","1995-03-01","1995-04-01","1995-05-01","1995-06-01","1995-07-01","1995-08-01","1995-09-01","1995-10-01","1995-11-01","1995-12-01","1996-01-01","1996-02-01","1996-03-01","1996-04-01","1996-05-01","1996-06-01","1996-07-01","1996-08-01","1996-09-01","1996-10-01","1996-11-01","1996-12-01","1997-01-01","1997-02-01","1997-03-01","1997-04-01","1997-05-01","1997-06-01","1997-07-01","1997-08-01","1997-09-01","1997-10-01","1997-11-01","1997-12-01","1998-01-01","1998-02-01","1998-03-01","1998-04-01","1998-05-01","1998-06-01","1998-07-01","1998-08-01","1998-09-01","1998-10-01","1998-11-01","1998-12-01","1999-01-01","1999-02-01","1999-03-01","1999-04-01","1999-05-01","1999-06-01","1999-07-01","1999-08-01","1999-09-01","1999-10-01","1999-11-01","1999-12-01","2000-01-01","2000-02-01","2000-03-01","2000-04-01","2000-05-01","2000-06-01","2000-07-01","2000-08-01","2000-09-01","2000-10-01","2000-11-01","2000-12-01","2001-01-01","2001-02-01","2001-03-01","2001-04-01","2001-05-01","2001-06-01","2001-07-01","2001-08-01","2001-09-01","2001-10-01","2001-11-01","2001-12-01","2002-01-01","2002-02-01","2002-03-01","2002-04-01","2002-05-01","2002-06-01","2002-07-01","2002-08-01","2002-09-01","2002-10-01","2002-11-01","2002-12-01","2003-01-01","2003-02-01","2003-03-01","2003-04-01","2003-05-01","2003-06-01","2003-07-01","2003-08-01","2003-09-01","2003-10-01","2003-11-01","2003-12-01","2004-01-01","2004-02-01","2004-03-01","2004-04-01","2004-05-01","2004-06-01","2004-07-01","2004-08-01","2004-09-01","2004-10-01","2004-11-01","2004-12-01","2005-01-01","2005-02-01","2005-03-01","2005-04-01","2005-05-01","2005-06-01","2005-07-01","2005-08-01","2005-09-01","2005-10-01","2005-11-01","2005-12-01","2006-01-01","2006-02-01","2006-03-01","2006-04-01","2006-05-01","2006-06-01","2006-07-01","2006-08-01","2006-09-01","2006-10-01","2006-11-01","2006-12-01","2007-01-01","2007-02-01","2007-03-01","2007-04-01","2007-05-01","2007-06-01","2007-07-01","2007-08-01","2007-09-01","2007-10-01","2007-11-01","2007-12-01","2008-01-01","2008-02-01","2008-03-01","2008-04-01","2008-05-01","2008-06-01","2008-07-01","2008-08-01","2008-09-01","2008-10-01","2008-11-01","2008-12-01","2009-01-01","2009-02-01","2009-03-01","2009-04-01","2009-05-01","2009-06-01","2009-07-01","2009-08-01","2009-09-01","2009-10-01","2009-11-01","2009-12-01","2010-01-01","2010-02-01","2010-03-01","2010-04-01","2010-05-01","2010-06-01","2010-07-01","2010-08-01","2010-09-01","2010-10-01","2010-11-01","2010-12-01","2011-01-01","2011-02-01","2011-03-01","2011-04-01","2011-05-01","2011-06-01","2011-07-01","2011-08-01","2011-09-01","2011-10-01","2011-11-01","2011-12-01","2012-01-01","2012-02-01","2012-03-01","2012-04-01","2012-05-01","2012-06-01","2012-07-01","2012-08-01","2012-09-01","2012-10-01","2012-11-01","2012-12-01","2013-01-01","2013-02-01","2013-03-01","2013-04-01","2013-05-01","2013-06-01","2013-07-01","2013-08-01","2013-09-01","2013-10-01","2013-11-01","2013-12-01","2014-01-01","2014-02-01","2014-03-01","2014-04-01","2014-05-01","2014-06-01","2014-07-01","2014-08-01","2014-09-01","2014-10-01","2014-11-01","2014-12-01","2015-01-01","2015-02-01","2015-03-01","2015-04-01","2015-05-01","2015-06-01","2015-07-01","2015-08-01","2015-09-01","2015-10-01","2015-11-01","2015-12-01","2016-01-01","2016-02-01","2016-03-01","2016-04-01","2016-05-01","2016-06-01","2016-07-01","2016-08-01","2016-09-01","2016-10-01","2016-11-01","2016-12-01","2017-01-01","2017-02-01","2017-03-01","2017-04-01","2017-05-01","2017-06-01","2017-07-01","2017-08-01","2017-09-01","2017-10-01","2017-11-01","2017-12-01","2018-01-01","2018-02-01","2018-03-01","2018-04-01","2018-05-01","2018-06-01","2018-07-01","2018-08-01","2018-09-01","2018-10-01","2018-11-01","2018-12-01","2019-01-01","2019-02-01","2019-03-01","2019-04-01","2019-05-01","2019-06-01","2019-07-01","2019-08-01","2019-09-01","2019-10-01","2019-11-01","2019-12-01"]
[null,null,"Carbón",3376977.3499999996,2668483.5,4420064.05,3929715.8499999992,4357755.45,5055360.3999999994,4988170.7,3750508.8,5118506.8999999994,5235420.55,4669309.8499999996,5001594.2,4963066,5031793.75,3320276.5999999996,3307756.55,3488227.0999999996,4043858.3499999996,4731164.3499999996,3882384.9499999997,4947667.45,5000084.6499999994,5068848.5,5228963.3999999994,5647740.5,5451419.2000000002,5798421.8999999994,4941243.55,4462583.2,4072289,4765172.45,3870627.75,5053310.3,4394412.1499999994,4659654.05,3717726.1999999997,5079539.8,5237378.5,5331590,4911780.25,4538607.8999999994,4002146.6999999997,4472405.25,4183814.25,4909548.7,3832067.25,4114526.9499999997,4345137.55,3779584.5,4345894.7,4533429.45,4193379.8,3750202.9,4721420.2,5188730.8999999994,4414149.3499999996,4737298.5,5032912.8499999996,4740312.8499999996,4878657.55,4713465.8499999996,3882366.9,4316207.2,4526676.8499999996,4607467.7,4739005.6499999994,5522464.9500000002,5429523.5999999996,5657662.2999999998,5180166.6499999994,5346041.3999999994,4251927.3499999996,2242480.6999999997,2403876.1999999997,3711094.25,2437873.85,2344615.1999999997,4562809.1499999994,5772089.7999999998,5432784,5209107.45,5035639.3499999996,4974006.2,2868859.4,3201466.75,3268384.75,4998369.8999999994,5134946.6499999994,4525902.5999999996,4608920.25,5234755.55,5185859.05,5873167.8999999994,5851896.4500000002,4265444.8999999994,3444700.9499999997,2645747.15,3011839.15,5028284.45,4039696.4,3144197.9,3849954.8,5079079.05,4202395.3,5511071.5999999996,5712952.2999999998,5705385.5499999998,6149072.5999999996,6023820.7999999998,5634146.9500000002,5838367.5,5209355.3999999994,4185646.8,5023314.05,6007213.8499999996,5011772.5,6048162.6499999994,5562864.6499999994,5016268.8499999996,5424417.3499999996,6314390.6499999994,5994101,6122655,5168588.05,4660624,5590786.0999999996,6207637.25,5949663.7999999998,6341133.1499999994,6263066.8999999994,5911125.1499999994,4092991.4,3670920.65,3247426.8,3226662.65,3615897.5999999996,4624071.8,5543388.7000000002,6066640.1499999994,5948463,6263980.7999999998,6256617.3499999996,6125617.0999999996,6636772.1999999993,6611450.8999999994,6084005.1999999993,6515599.6999999993,6142087.25,6114723.4499999993,5758010.7999999998,5982243.0999999996,5835542.2000000002,6085684.7999999998,5657238.5999999996,5738395.2000000002,4302925.25,4457789.5,4956737.0999999996,4976611.0999999996,4671549,4948365.7,5842588.3499999996,6317381.25,6313485.2999999998,6232443.6499999994,6140537.7999999998,5295436.8,4725582.1499999994,5373632.25,5577681.7999999998,6038348.1999999993,4904938.3499999996,5048162.25,5592564.5,6218687.6499999994,6015627.0499999998,5927285.5999999996,5881265.7000000002,5668699.3999999994,6267207.9499999993,6470490.8499999996,5784756.1499999994,5860224.1499999994,5231298.5,5392937.2000000002,5470962.5999999996,5945036.3499999996,5470268.1499999994,5620263.6499999985,5834474.3999999994,6011800.4499999993,6251872.0999999996,6542259.5499999998,5486600.5499999998,4527375.0999999996,3321667.4,4826449.3499999996,5284460.5,6184517.0999999996,5022261.45,5138559.5,4567058.5,4045303.3,4073249.4499999997,5797536.5,4650576.8,4620453.25,5543168.2999999998,5692213.7999999998,5485027.3499999996,5644402.2000000002,5591926.0999999996,5215674.8,5081386.5999999996,5211909,5767660.8999999994,4731913.8999999994,4367826.3999999994,3478811.65,2951695.6,2065959.2999999998,1939663.45,3498246.75,2912686.6999999997,3273449.1999999997,3894582.9499999993,3893433.4499999993,4230790.8,4355904.8499999996,2864643.3,2816593.25,1696093.9,2119331.25,2331381.6999999997,3052280.65,1705339.2999999998,2554998.4,2901583.1,1897826.4,1745457.7999999998,1611289.2999999998,1298912.2,801986.99230000004,602013.1,782710.7,1256434.8499999999,2327895.1999999997,2693947.3,2822569.6999999997,1887779.2,1545869.45,1937885.0499999998,1930446.1823499999,2334533.6612999998,2825741.7680499996,2310798.5373499999,2801002.3268999998,2584668.1616000002,3971800.9887000001,3860510.2689999999,4429282.22585,4064042.2751499997,3682967.5771999997,3596061.8821499995,4895512.9582500001,5018421.7551999995,4225145.71,2388185.8726999997,3593360.2578999996,4807638.91775,4439297.18475,4576247.4547999995,3617568.7269499996,3852901.8719499996,3717341.5060499995,3410835.5228999997,2731827.1439999999,2293090.7700999998,1174306.6897499999,842291.59730000002,1796942.8941999997,2336706.1820999999,4963609.4399000006,4154418.7989999996,4311581.9682499999,3826429.2384500001,2380385.7000999996,4424762.0232500006,2004566.6852499996,697308.48540000001,1077287.8191,1150974.07225,3014591.5479499996,4756301.9541999996,5108184.9428999992,4799166.6970999995,5399457.4318999993,4169951.1137499996,2986155.0564000001,3841419.0262500001,4642330.9434499992,2775094.7078,2436958.3558999998,2788405.4608499999,2665594.90435,5057884.1196499998,5753749.2985499995,4931991.6396499993,4358137.6977000004,4086648.8019500002,4335854.9546499997,4384403.9009499997,2451613.7693499997,1691290.6980999999,1579646.1679999998,837682.9155,960080.91074999992,1928529.6675499999,3459520.4350999999,3211023.4440999995,4080868.2124999999,4059462.1826499999,4225938.1962000001,4774707.6911999993,4900336.0607500002,3147814.2279499997,1677288.9691999999,1781214.2496,3348757.0461499998,4061799.3014000002,3829740.5641499995,2814312.452,2680093.2115499997,3706266.0763999997,4431643.3568000002,3921528.6122499998,2869067.3255499997,3314251.6021499997,1245148.0292,1292559.6991499998,2141603.1193499998,2159968.3540500002,3313215.1901499997,3321096.3929999997,3899598.9519000002,3196591.2341,3681457.5531499996,2703000.7534499997,2921291.6461,2134473.6068499996,783436.52659999998,686805.95894999988,"-","-","-","-","-","-","-","-"]
[null,null,"Fuel + Gas",142952.59999999998,74642.399999999994,75971.7,55854.399999999994,141473.5,269414.59999999998,289627.8,108264.79999999999,167238.39999999999,200820.19999999998,187207.3,292694.5,178656.09999999998,231188.3,90099.099999999991,127122.09999999999,140597.79999999999,194997.59999999998,481097.39999999997,125272.7,456239,215697.3,260115.09999999998,328097,909562.5,1251411,1003977.1,489240.49999999994,430087.69999999995,103371.09999999999,291006.09999999998,155060.5,370638.8,130085.9,61273.1,28793.8,66685.5,237631.09999999998,240685.19999999998,181615,69583.5,84320.599999999991,27248.899999999998,62019.299999999996,129690.4,36881.599999999999,55435.799999999996,52206,69918.799999999988,63287.7,81125.799999999988,85617.7,13349.699999999999,68216.399999999994,264371.8,38360,59292.799999999996,83208.299999999988,45142.999999999993,116637.49999999999,106946.7,26268.199999999997,100135,84483,75867.399999999994,201762.4,415620.1,162206.79999999999,404844.3,461005.3,302600.19999999995,221074.69999999998,10577,130066.99999999999,179977,96644.799999999988,21467.599999999999,114079,186083.8,98410.2,162288,68224.099999999991,170313.5,192199,183021.3,267960.7,317214.09999999998,347751.6,306291.3,345369.5,573630.39999999991,407618.39999999997,515087.99999999994,575850.79999999993,379910.3,367072.3,48946.799999999996,70653.099999999991,107095.79999999999,36737.399999999994,25408.6,140319.9,331778.3,354979.1,499698.49999999994,272449.8,698054,1151095.3999999999,1051720.5999999999,1302912.7999999998,760255.29999999993,372929.89999999997,118050.79999999999,372687,789593,480711.69999999995,417699.1,108381.7,289412.89999999997,481109.3,779568.29999999993,343884.79999999999,793020.89999999991,507250.1,121809.09999999999,471891.69999999995,623287,515738.3,1015268.1,651822.5,528553.9,343614.6,351603,284811.8,290672.19999999995,113994.29999999999,232499.4,803996.89999999991,946186.49999999988,841323,909393.79999999993,897018.5,924321.29999999993,1509912.5999999999,1864500.4,1133787.8999999999,993610.1,972415.49999999988,760711.7,1147862.0999999999,1327839.7999999998,622808.19999999995,845502,614959.1,334565.69999999995,263414.89999999997,406968.1,349374.89999999997,144513.59999999998,55095.6,165972.09999999998,857097.5,830762.1,747944.39999999991,660427.6,453860.39999999997,243287.09999999998,286846,301989.8,241434.19999999998,425801.6,122149.99999999999,218857.09999999998,516281.49999999994,763525,500242.39999999997,662660.6,405224.39999999997,326395.3,478065.69999999995,641419.79999999993,766563,954533.99999999988,260220.09999999998,365239.69999999995,812409.5,948006.49999999988,285372.5,360837.39999999997,250505.49999999997,294650.3,566264.29999999993,532375.19999999995,439266.1,204087.09999999998,197642.9,161469.69999999998,365110.19999999995,702835,237367.19999999998,532417.9,238439.59999999998,91816.2,74413.5,71827,154305.9,133788.19999999998,79220.399999999994,116531.79999999999,58517.2,191065.69999999998,148862.69999999998,163124.5,88992.4,139311.19999999998,117988.49999999999,99499.4,86978.5,49388.5,96040,103436.9,174198.5,108474.09999999999,169763.3,132348.29999999999,140046.19999999998,159086.19999999998,133166.6,90164.89999999998,83446.299999999988,134093.4,96438.299999999988,64038.799999999996,102963.7,148625.4,120154.99999999999,108162.59999999999,73161.2,116114.59999999999,115348.79999999999,107246.29999999999,88666.2,15762.599999999999,73855.599999999991,114708.29999999999,115898.29999999999,96944.4,79206.399999999994,96823.299999999988,87432.099999999991,116767.7,102904.9,0,0,0,0,0,0,0,0,0,0,0,0,0,307.80610000000001,0,0,0,0,0,0,0,0,0,0,0,0,0,0,0,0,0,0,0,0,0,0,0,0,0,0,0,0,0,0,0,0,0,0,0,0,6.4924999999999997,0,"-","-","-","-","-","-","-","-","-","-","-","-","-","-","-","-","-","-","-","-","-","-","-","-","-","-","-","-","-","-","-","-","-","-","-","-","-","-","-","-","-","-","-","-","-","-","-","-","-","-","-","-","-","-","-","-"]
[null,null,"Ciclo combinado","-","-","-","-","-","-","-","-","-","-","-","-","-","-","-","-","-","-","-","-","-","-","-","-","-","-","-","-","-","-","-","-","-","-","-","-",78.81,"-","-","-","-","-","-","-","-","-","-","-","-","-","-","-","-","-","-","-","-","-","-","-","-","-","-","-","-","-","-","-","-","-","-","-","-","-","-","-","-","-","-","-","-","-","-","-","-","-","-","-","-","-","-","-","-","-","-","-","-","-","-","-","-","-","-","-","-","-","-","-","-","-","-","-","-","-","-","-","-","-","-","-","-","-","-","-","-","-","-","-","-","-","-","-","-","-","-","-","-","-","-","-","-","-","-","-","-","-","-","-",44961.659999999996,112852.59,192619.78000000003,282381.03999999998,431388.18,425920.69,225822.84,191652.23,161627.84,312951.55,281932.96999999997,143037.93,295783.92,659021.05999999994,713116.54,663737.81999999995,749423.16,664434.9,447032.52,319551.61,570468.59,718994.36,840977.07,674195.5,744226.88,857529.76,1007246.5599999999,863370.21,1080968.69,1052799.1100000001,1022367.72,1042608.2,1238622.73,1242390.81,1238000.76,1197767.7,1297683.98,1718765.07,1919638.07,1637218.92,1640370.58,1507615.32,1543172.69,1522065.2999999998,2053369.76,2028644.14,1740901.43,1720798.22,1823936.09,2023733.5,2465849.09,1786427.34,2340040.21,1868581.4,1574889.09,1558130.31,2237260.13,1410818.51,1414714.6099999999,1500241.96,1601821.39,2282501.14,2436020.4300000002,1903841.29,2085915.33,2254083.29,2815019.94,2689723.14,2959915.27,2958364.9699999997,2506677.48,2552670.7000000002,2662623.9699999997,2810621.38,3279506.4699999997,3042621.3699999996,2892481.29,2669348.35,2525681.79,2106757.7999999998,2209001.75,1644350.67,1862080.5,2010744.65,2073288.71,2819639.02,3144102.75,3025791.18,2732482.5600000001,2425353.33,2043195.5,2270304.46,1963995.15,1760748.6,1512038.27336,1613427.9569999999,1684588.54,2025913.54,2509508.7199999997,2122575.2999999998,2307035.1,1952766.76,2045764.78,1794965.17029,1853857.0283699997,1706209.6971999998,1450617.2221899999,1021970.7869600001,1527630.6635100001,1784709.2520300001,1661931.6188599998,1725943.0233799999,1647251.05375,1365791.5046699999,1231344.85516,1224232.4539400002,1552597.5545899998,1423742.90674,1130101.43548,816338.00188,879572.22510000004,1139135.76914,1232990.7524299999,1276043.80036,1057101.8696000001,1186756.5569800001,1083688.2196,1029143.08637,956927.88829999999,716934.19519,544503.87959000003,407138.61458000005,597513.80807999999,501576.19172999996,814846.49746999994,869443.57684999995,820549.82547000004,932312.58194999991,745954.52729,1019124.61635,566299.65347999998,463010.31251000002,468248.95566000004,449817.86038999999,518249.60200000001,648969.55897000001,680292.52501999994,814788.48702,977671.16722000006,785283.74426000006,706401.18319000001,735555.14153000002,813749.73644000001,623243.95143999998,595082.29498999997,611712.51775,584298.65720000002,689315.17703999998,1253847.70349,859416.66639000003,724383.82661999995,770096.81824000005,770472.81297999993,967161.69461999997,688370.91927999991,479452.72992999997,489504.11921999994,427635.01247999998,548355.51595000003,692533.61648999993,873439.27307999996,740822.1455499999,786820.27988999989,1214503.92554,1263543.9246,1216353.05345,1077270.2843299999,557130.79448000004,528519.57952000003,454454.48171999998,589598.90165000001,1172532.26033,1382285.1852199999,1278133.9303599999,1183232.1704500001,1424013.6239,1682180.0767999999,1120401.59947,834213.97652999999,721767.95436999993,461775.02015,444244.64585000003,728317.37283999997,806646.88121999986,824833.37319000007,985312.27216999989,795004.04015999998,925673.17466999998,1169517.28684,1071775.6396600001,1183534.18147,907743.40646000009,787845.59244000004,1004270.71845,"-","-","-","-","-","-","-","-"]
[null,null,"Térmica renovable","-","-","-","-","-","-","-","-","-","-","-","-","-","-","-","-","-","-","-","-","-",81.430000000000007,33.150000000000006,30.6,38.42,31.450000000000003,35.53,31.62,37.230000000000004,423.47,145.35000000000002,280.84000000000003,373.15000000000003,541.62,484.84000000000003,389.81,466.99,729.47,943.50000000000011,863.6,882.47,691.73,748.85,859.35,810.90000000000009,1019.83,1109.93,873.12000000000012,1050.94,714.17000000000007,1323.96,2122.11,3813.78,2480.8100000000004,4402.1500000000005,5790.88,6113.71,6813.77,9361.0500000000011,10829.17,8927.7200000000012,9208.7300000000014,10140.33,10076.750000000002,10307.1,6526.3,9535.3000000000011,9547.2000000000007,9430.0700000000015,11179.37,8672.8900000000012,10563.970000000001,10534.900000000001,9480.3900000000012,12442.980000000001,11796.300000000001,11493.19,12661.77,12972.87,12935.130000000001,12733.85,12023.760000000004,9846.91,9641.5500000000011,9600.5800000000017,7928.2900000000009,9376.5200000000023,9696.9700000000012,9746.7800000000007,5755.52,9690.51,9056.24,9707.68,10381.220000000001,9888.9000000000015,9394.5400000000009,4930.4761699999999,9061.9933100000017,10463.416870000003,10650.33051,11879.298080000004,11657.670100000003,11969.175380000002,11448.76067,10265.48978,11429.952040000002,11731.721929999998,11798.590750000001,12207.129139999999,11515.912880000002,12960.998730000003,11994.630160000004,12108.820010000001,10885.273739999999,13645.975310000002,13445.11946,14476.081570000002,14361.742630000002,14061.287859999999,12740.153430000004,13209.877880000002,12256.063810000001,13868.379000000003,12858.722650000002,9716.3739700000042,11029.382060000002,13610.596950000003,13297.381810000003,14658.380730000001,15629.052170000003,16483.14747,16771.407120000003,19385.468900000003,17554.153590000002,19615.392200000002,18152.697920000002,19758.527950000003,27753.083610000005,27906.52578,24249.63997,29735.12789,31342.57547,29036.163709999993,31048.575770000003,17395.53254,17675.394360000002,19539.420389999999,19278.857820000005,19859.572889999999,18109.614650000003,21407.68894,23506.840779999999,21830.613579999997,22196.732039999999,21895.484390000001,24316.846240000003,21334.977730000002,21363.342060000003,24032.502370000002,23158.345879999997,25233.890330000002,23064.742180000001,24794.690399999999,25896.039140000001,26339.515589999999,27552.475279999999,24558.810300000001,27967.764200000005,28182.887639999997,24042.298790000004,27762.700340000003,26860.190230000004,26886.228959999997,24066.923630000005,24253.505430000001,23666.885920000004,25291.602950000004,25985.677930000002,25113.568410000007,26963.447209999998,29725.2837,25640.721070000003,30048.539550000001,27138.06424,29259.942019999999,27631.966940000006,28478.385380000007,29410.579359999996,27243.266019999999,26003.187080000003,28216.944420000003,29138.992119999999,29254.742399999996,27965.795429999998,30466.915160000004,29266.734710000008,31393.368240000003,34199.58,33093.9,30723.250000000004,30819.47,33542.870000000003,29941.590000000004,30374.920000000002,33220.89,29047.56,33483.54,31300.06,33509.380000000005,32851.990000000005,34518.840000000004,34450.33,32516.410000000003,38152.93,34706.69,36107.83,37111.68,36668.660000000003,38029,37652.11,37210.79,37476.670000000006,37995.68,37112.700000000004,35964.350000000006,39053.25,38361.520000000004,38116.720000000001,41426.620000000003,39313.01,42898.82,46800.490000000005,42513.26,38951.420000000006,40166.58,40096.030000000006,44892.920000000006,55307.630000000005,42331.700000000004,42830.310000000005,42659.8,38492.080000000002,41819.660000000003,42969.37,46737.25,45723.37,45565.100000000006,47396.68,44699.29,47478.79,45750.57,49913.87,"-","-","-","-","-","-","-","-","-","-","-","-","-","-","-","-","-","-","-","-","-","-","-","-","-","-","-","-","-","-","-","-","-","-","-","-","-","-","-","-","-","-","-","-","-","-","-","-","-","-","-","-","-","-","-","-","-","-","-","-","-","-","-","-","-","-","-","-","-","-","-","-","-","-","-","-","-","-","-","-","-","-","-","-","-","-","-","-","-","-","-","-","-","-","-","-","-","-","-","-","-","-","-","-","-","-","-","-"]
[null,null,"Térmica no renovable/Cogeneración y resto/Cogeneración",13203.450003700009,14189.870007399992,16999.650003699997,10930.909996300001,14697.880014799997,13524.979999999994,21928.42,20133.919996299996,26102.760003699994,29387.620003699991,31875.499996300005,29322.129996299995,35515.930000000008,34606.47,42570.720000000008,42961.07,41917.300000000003,36120.880000000005,44233.5,40376.619999999995,49767.59,55767.14,51911.37000000001,55565.49,58661.279999999992,57960.13,56740.609999999986,49460.490000000013,55632.09,54403.69000000001,54439.950000000033,57571.259999999987,58880.32,62764.210000000006,66424.990000000005,71127.319999999992,80006.209999999992,76736.149999999994,88421.119999999995,84511.330000000016,85388.969999999987,90066.140000000029,101022.20999999999,82204.750000000015,107621.16000000002,131909.07,145419.99,150469.38,156884.43999999997,147078.69999999998,158667.1,158242.71000000002,166041.93999999994,162806.29,154694.04,155044.79999999999,170174.46999999997,171469.1,175289.72,189043.39699999997,180580.34999999998,170919.27999999997,199282.74,190281.38,196697.54999999996,193523.69000000003,194219.29,188945.68000000005,207142.27999999994,223956.19,231381.72000000003,243148.46000000005,240246.18,249466.94999999998,256692.31,266867.31000000006,261562.99000000005,262069.88999999996,282695.90999999997,266800.71000000002,276140.61999999994,306339.28000000003,322349.92,335741.33,335749.1,305967.06,343748.12999999995,337085.91000000003,344965.43,333775.52,364092.95,336851.33,350593.5,399050.18,388862.97,400425.83999999997,419011.4824199999,390470.72729999985,436408.51019999996,421968.77069000003,423051.20310000004,396614.82408999995,432722.92947000003,403487.54671000002,435289.75858999998,483565.61440999992,479340.35501,520332.15661999991,510553.8443500002,487867.76092000003,531341.06151000003,512348.99369999999,527372.93028000009,514644.15587000002,530892.41985999991,499617.78432000004,516490.76666999998,568839.22321999981,558756.67770999984,582065.10780000011,580166.04246999964,532009.49832999997,575570.70240999979,543749.69527000014,543540.02996000019,527901.49822000007,532772.73580999998,498888.13766000007,509388.6525599999,537135.94897000003,500168.20964000013,549144.12988000014,558693.40142000013,525760.0192499999,547722.80596000014,515031.61135999992,547193.64120999991,524696.18525999982,548167.48638999998,486561.02784999995,531347.74962999998,575218.51976000005,587425.90422999999,585156.27538999985,648960.25790999993,601021.91905000014,648342.78415000008,648065.80881000008,646583.42601000005,594694.33112000022,640753.85660000017,586908.68937000015,620011.3398800001,704452.14528999967,683375.90115000005,684540.86797999986,721461.66836999962,664318.06695000001,709337.70632,689512.27752000047,700222.35967999953,668145.76690000005,708104.45858000021,645635.89781999984,704448.01238999993,768077.34010999976,724717.7297899999,748797.09779999976,757362.63368999993,725982.43233999982,779832.86504000064,732541.83119000017,715761.78543999942,672658.73200999934,710895.98906999989,654703.78974000015,675870.56474000018,733318.51002999954,767465.82297999982,779225.59884000011,755918.69278000016,722165.39135000051,775450.19320999982,754799.56339999964,754909.93661999982,710245.15795999952,716223.49031000026,660880.08726000006,709360.24264999991,680141.1883599998,690879.76236999978,676596.65644000098,739287.31932000001,717940.06978999986,762367.21817000024,706960.71309999947,705751.46467000013,646470.66,640602.09,605263.39,639416.61,684643.92999999993,696944.58,712359.52,734289.79,650101.1,690378.55999999994,677677.94,677059.3,700758.17,736428.39,691374.23,723769.95,778022.30999999994,777024.42,794385.92999999993,833209.29,823937.83,840634.82,824856.54,779465.30999999994,769160.44,820651.49,746163.83,805823,872814.09,856282.12,860112.36,896126.30999999994,829690.22,890459.02,865195.79,869916.62,854601.21,886739.78,752725.04,864801,911835.4,951366.2,958938.99,984649.17999999993,916497.77,968207.49,943630.98,955102.09,940459.71,967059.01,796760.96,933792.67999999993,979433.29,984082.34,1022273.74,976032.17341000005,913369.8044299999,1023245.41883,945412.70131000003,962834.05067000003,920199.16823000007,924432.21242999996,768616.75719000003,927237.76591999992,969269.27862999996,973063.05031999992,1001678.5717099999,1044956.9355799999,994887.95097999997,1056911.69404,1002833.1977799999,1012725.72387,965175.98047000007,1001715.81998,841445.95176000008,980061.12560999999,1038017.74135,1016922.1510199999,1038927.4477700001,1072861.65885,958856.17512000003,1037345.3769800001,1014968.18768,1018643.14349,954925.71987999999,951539.83803999994,736458.12541999994,888447.00144000002,915027.14728000003,915039.46716999996,935567.35244000005,942899.17180000001,693517.81426999997,676866.49077999999,598624.79376000003,714029.74846999999,767248.65,783186.40369999991,733789.29321999999,781039.50089999998,786397.59744000004,714884.99014999997,734883.42576999997,799573.28374999994,711334.46201000002,768837.30790000001,744405.01465000003,767475.76376999996,763140.28618000005,798351.90746000002,753526.71640999999,795021.03019000008,818150.4609399999,786901.0923299999,805934.04884000006,787238.28738999995,727998.89941000007,765700.4956299999,737220.56628999999,782034.49343000003,802060.30498000002,828719.54535000003,784621.5086399999,790013.77134999994,857899.21388000005,849495.2495899999,860356.29359999986,906351.39763999998,816389.63611999992,884660.61938999989,826386.48259999999,861073.76059999992,856683.38832999999,887287.66416000004,835333.49811000004,840844.97186000005,885397.16174000001,903382.16835999989,921167.36462000001,917825.37773000007,833065.82619999989,864190.93290000001,870829.69859999989,894773.11713999999,891043.24815,903304.97008,873678.50509000011,891003.58118999994,932404.58763000008,914678.2946299999,936086.9445499999,982862.17323999992,884337.47730000003,957916.03916000004,920694.48168000008,"-","-","-","-","-","-","-","-"]
[null,null,"Residuos no renovables","-","-","-","-","-","-","-","-","-","-","-","-","-","-","-","-","-","-","-","-","-","-","-","-","-","-","-","-","-","-","-","-","-","-","-","-","-","-","-","-","-","-","-","-","-","-","-","-","-","-","-","-","-","-","-","-","-","-","-","-","-","-","-","-","-","-","-","-","-","-","-","-","-","-","-","-","-","-","-","-","-","-","-","-","-","-","-","-","-","-","-","-","-","-","-","-","-","-","-","-","-","-","-","-","-","-","-","-","-","-","-","-","-","-","-","-","-","-","-","-","-","-","-","-","-","-","-","-","-","-","-","-","-","-","-","-","-","-","-","-","-","-","-","-","-","-","-","-","-","-","-","-","-","-","-","-","-","-","-","-","-","-","-","-","-","-","-","-","-","-","-","-","-","-","-","-","-","-","-","-","-","-","-","-","-","-","-","-","-","-","-","-","-","-","-","-","-","-","-","-","-","-","-","-","-","-","-","-","-","-","-","-","-","-","-","-","-","-","-","-","-","-","-","-","-","-","-","-","-","-","-","-","-","-","-","-","-","-","-","-","-","-","-","-","-","-","-","-","-","-","-","-",25517.46084,22838.899799999999,19799.035319999999,24707.60628,16839.216840000001,21296.764200000001,18230.381399999998,20238.274079999999,23227.046159999998,29658.104639999998,27865.74756,28311.263519999997,29800.530359999997,27083.136959999996,26467.53096,30819.607679999997,28768.664280000001,25004.989799999999,27264.155039999998,30597.512879999998,31452.977159999995,34274.111879999997,29151.164399999998,31028.869559999999,33648.986879999997,32878.778639999997,33489.872640000001,19135.188239999999,26738.660759999999,24057.8364,26520.94428,28666.364399999999,32185.205879999998,34279.856999999996,32620.728000000003,35813.705279999995,32362.062599999997,27751.327079999999,24544.143479999999,30226.156439999999,37541.233679999998,36457.437720000002,37515.293279999998,40745.839679999997,42324.612720000005,42190.933440000001,40716.511559999999,47626.901999999995,45149.985239999995,40877.019840000001,46996.612679999998,36962.687279999998,46247.485679999998,47112.317999999999,50447.154000000002,51307.438679999999,48579.896639999999,51717.417359999999,48788.810160000001,43744.712279999992,48206.324639999992,45025.484279999997,50180.765639999998,43059.485399999998,32879.288520000002,46941.849119999999,58306.667399999998,58357.135079999993,56878.369920000005,55209.089160000003,49277.314920000004,48792.300839999996,52045.663919999999,45812.669399999999,50191.247159999999,41440.263720000003,42140.044799999996,50726.798159999998,48150.747840000004,51656.350559999999,51195.716159999996,54818.926800000001,49566.062639999996,52446.43548,54377.174999999996,49010.421119999999,51694.914839999998,40231.481999999996,32886.559439999997,42099.070800000001,47898.10368,46717.265639999998,45364.942799999997,48394.002240000002,46067.771999999997,45782.595600000001,47182.812959999996,43379.81856,48186.928199999995,42082.227359999997,"-","-","-","-","-","-","-","-"]
[null,null,null,null,null,null,null,null,null,null,null,null,null,null,null,null,null,null,null,null,null,null,null,null,null,null,null,null,null,null,null,null,null,null,null,null,null,null,null,null,null,null,null,null,null,null,null,null,null,null,null,null,null,null,null,null,null,null,null,null,null,null,null,null,null,null,null,null,null,null,null,null,null,null,null,null,null,null,null,null,null,null,null,null,null,null,null,null,null,null,null,null,null,null,null,null,null,null,null,null,null,null,null,null,null,null,null,null,null,null,null,null,null,null,null,null,null,null,null,null,null,null,null,null,null,null,null,null,null,null,null,null,null,null,null,null,null,null,null,null,null,null,null,null,null,null,null,null,null,null,null,null,null,null,null,null,null,null,null,null,null,null,null,null,null,null,null,null,null,null,null,null,null,null,null,null,null,null,null,null,null,null,null,null,null,null,null,null,null,null,null,null,null,null,null,null,null,null,null,null,null,null,null,null,null,null,null,null,null,null,null,null,null,null,null,null,null,null,null,null,null,null,null,null,null,null,null,null,null,null,null,null,null,null,null,null,null,null,null,null,null,null,null,null,null,null,null,null,null,null,null,null,null,null,null,null,null,null,null,null,null,null,null,null,null,null,null,null,null,null,null,null,null,null,null,null,null,null,null,null,null,null,null,null,null,null,null,null,null,null,null,null,null,null,null,null,null,null,null,null,null,null,null,null,null,null,null,null,null,null,null,null,null,null,null,null,null,null,null,null,null,null,null,null,null,null,null,null,null,null,null,null,null,null,null,null,null,null,null,null,null,null,null,null,null,null,null,null,null,null,null,null,null,null,null,"-","-","-","-","-","-","-","-"]
[null,null,"Emisiones (tCO2)",3533133.4000036996,2757315.7700073998,4513035.4000036996,3996501.1599962991,4513926.8300147997,5338299.9799999995,5299726.92,3878907.5199962994,5311848.0600036997,5465628.3700037003,4888392.6499962993,5323610.8299962999,5177238.0299999993,5297588.5199999996,3452946.42,3477839.7199999997,3670742.1999999993,4274976.8299999991,5256495.25,4048034.27,5453674.04,5271630.5199999986,5380908.1200000001,5612656.4899999993,6616002.7000000002,6760821.7800000003,6859175.1399999997,5479976.1600000001,4948340.2200000007,4230487.2600000007,5110763.8499999996,4083540.3499999996,5483202.5700000003,4587803.88,4787836.9799999995,3818037.1299999994,5226777.3099999996,5552475.2199999997,5661639.8200000003,5178770.18,4694462.8399999989,4177225.17,4601425.21,4328897.6499999994,5147671.1600000011,4001877.75,4316492.67,4548686.05,4007438.6799999997,4556975.2700000005,4774546.3099999996,4439362.32,3933408.32,4954923.7,5612198.8899999997,4613345.0299999993,4972879.4799999995,5294404.0199999986,4970106.6199999992,5195167.6169999996,5009920.6199999992,4088763.11,4625765.2700000005,4811517.9799999995,4890339.75,5140818.04,6141839.6399999997,5790223.2799999993,6279078.9500000002,5876307.5099999998,5888696.209999999,4726714.4799999995,2503838.7799999998,2792890.54,4160206.54,2813182.26,2639138.98,4951619.8099999987,6253842.3799999999,5810930.04,5660269.9199999999,5422226.4899999993,5476516.5300000003,3406441.28,3729837.73,3850240.8000000003,5668708.6499999985,5829481.129999999,5186906.1099999994,5293820.7899999991,6182169.4099999992,5939385.0200000005,6748557.0799999991,6837178.6499999994,5044107.0699999994,4221593.63,3118635.9085899997,3482024.9706099997,5582252.1770700002,4509052.9011999993,3604537.0011800001,4398547.1941900002,5855549.4548499994,4972310.7073799996,6456325.3483699998,6480397.6664499994,6894511.6269399999,7832298.74737,7598302.3734899992,7436443.4238,7142924.8602400003,6106628.9238600004,4843179.3502899995,5921530.4796099998,7341345.2451699991,6005547.1037799995,6996828.5982399993,6254447.3158499999,5878499.7155699991,6500331.9112299997,7687334.8703499986,6882251.3621399999,7505114.9814099995,6232446.5679199994,5335689.5039299997,6601608.68028,7377307.5827600006,6977587.6194700003,7880448.2832899997,7467654.4011399997,6956330.40711,5002521.5369999995,4600602.5203200001,4075552.7728399998,4084673.0481599998,4263076.2092799991,5423523.3691600002,6899834.8688699994,7588900.6621699994,7300596.6678200001,7734457.4775200002,7760196.9452299997,7666400.467939999,8762889.651159998,9142307.0904499982,7836490.4134100005,8177092.0045399982,7781847.4166299999,7586839.8089000005,7631529.4357699994,8164864.22554,7351146.9701500004,8004416.933459999,7424767.2673299992,7004055.1255400004,5466850.0942200003,5769182.086099999,6304744.9590099994,6136427.8786899988,5582353.1534000002,6135577.9700099993,8049917.4190799994,8594159.0389799997,8396699.4569600001,8373081.937979999,8054462.9153899997,6735032.9600900002,6108744.6219999995,7031636.1613299996,7288135.0911300005,8112722.4353799997,6460685.8714199997,6753894.2443999993,7663101.4156399993,8724608.7044999991,8057610.3356600003,8372077.0576899992,8098593.3979600007,7810041.8113899985,8594070.8960499987,9136177.3564799987,8541516.0724199992,8858257.6427599993,7471223.9276399994,7840030.7586400006,8740014.2949000001,9557382.7956900001,8083150.2366199996,8358075.1386699993,8298739.5954399994,8568720.1467899997,9045937.3485599998,9896546.5717200004,8700416.6552199982,7265197.7633299995,5976335.9678099994,7548999.97291,8353974.4400000004,10026897.18,7682042.6299999999,8681253.6899999995,7392266.2999999998,6438894.7599999998,6448527.6999999993,8874134.3099999987,6894849.8699999992,6892818.1600000001,7831608.6600000001,8121135.669999999,8559655.8499999996,9042435.5600000005,8370454.6500000004,8221000.9900000002,8240637.5299999993,8977971.2500000019,9405866.2999999989,8661649.5399999991,8273776.3599999994,6913541.4500000002,6462914.9500000011,5648696.2699999996,5731120.4399999995,7744874.4900000002,6908347.8999999994,7140066.1399999987,7615844.8399999999,7472845.0799999991,7368944.2799999993,7592624.4299999997,5461443.4999999991,5746124.9900000002,4715273.13,5169088.6399999997,6147537.0499999998,7271915.1600000001,5644106.5500000007,6305337.4800000004,6367240.6600000011,5050834.4000000004,5132880.3599999994,4709839.7299999995,4103316.85,3339815.01566,3275897.0069999998,3583846.88,4384429.7699999996,5946972.4299999988,5739886.6399999997,6204920.0699999994,4954890.1400000006,4738234.84,4907942.7302900003,4785852.84497,4976952.0627299994,5319403.4443899989,4302889.6319000004,5308306.2579199998,5310873.3460600004,6576395.2013900001,6375308.3236499997,7026998.0916800005,6428761.163089999,5915241.2302400004,5850284.1713199988,7522867.9787800005,7464443.5559799988,6438626.37048,4238176.68004,5514426.87115,6936955.6571599999,6701267.9121999992,6724334.7198000001,5686184.6993200006,6111950.282159999,5847103.0410699993,5509934.9265999999,4795265.6780300001,4001759.9190499997,2789645.8189600003,2283533.5877999999,3439838.5065299999,3817265.9301099996,6756516.7196900006,5788986.8656700002,6052764.0010399995,5708048.8246799996,4074000.4225599999,6415267.6973200012,3546127.5731299995,1881587.9392599999,2246947.4090200001,2229642.8828400001,4284412.1320999991,6208977.6008899994,6609179.1648999983,6388490.31702,7200492.7127399994,5783823.3888899991,4448157.7412999999,5359484.4955499992,6300803.9488799991,4150550.14109,3847881.0639699996,4181485.6805300005,4063616.8109999998,6557451.90087,7856396.0635000002,6596242.4611299988,5926122.451150001,5726613.4984900001,5942017.670119999,6201244.3566899998,3975429.3006599997,2943767.8117200001,2885031.5484899995,2045597.9796699998,2323350.2086499999,3470065.4381399998,5219985.92093,4794824.2333699996,5714580.6336599998,6187074.4112299997,6388254.6853099996,6900209.339089998,6936003.4066400006,4567147.3279499998,3140660.4152699998,3103495.4776400002,4841569.7532000002,6141741.7482200004,6147464.1613699999,4979436.2310300004,4755366.0700200005,6070495.7888399996,7066771.6645999998,6015544.0118200006,4675483.8548099995,4918095.8038399993,2622808.8970900001,2647865.5255999994,3797580.1687699994,3899757.5542199998,5089251.6370999999,5226804.4358999999,5630971.5160500007,5103062.9986400008,5811720.9066199996,4756645.9332599994,5134870.813769999,3969934.3091699998,2577385.0863999999,2653853.38644,"-","-","-","-","-","-","-","-"]
[null,null,"Factor de emision de CO2 (tCO2/MWh)",0.27036219130985573,0.25739426876589339,0.39152102077515,0.37782176574133686,0.42644734692968517,0.48867089443626621,0.45781274994732712,0.38007481743885385,0.48531359583017614,0.49161529090508332,0.4147544554732881,0.40972649988226811,0.38308200796776903,0.4306946120130366,0.2937259170570809,0.30811412442342218,0.32088825940292237,0.38843333130407992,0.43856136806908258,0.38540161593111871,0.47508470323986352,0.44697687555001642,0.44144499448943209,0.44442949117825115,0.46734140349290937,0.52070027060029977,0.54219993805846001,0.48542914825150413,0.44386114165112711,0.39761444337757795,0.41901872528794415,0.38047524415023337,0.47846636818961058,0.3863842964957539,0.40934075768920808,0.30884530915616321,0.39776379114646765,0.47000083800613446,0.45417340436173803,0.46913272090029662,0.42490209750967095,0.37724267985906307,0.39182294083756353,0.39588370437753106,0.45207113356349937,0.33517459553567641,0.34858374701393691,0.35374731677089555,0.29758799512772494,0.37152906604977992,0.39570370885440315,0.38310888500163542,0.33688428177012303,0.41480874971117809,0.43896501552474754,0.39995150571390253,0.42072621151442091,0.45392440343375223,0.41505228043370274,0.40127467736471362,0.36220101549471323,0.34463636775884537,0.35402984394956333,0.41451906104266789,0.40242217868574603,0.42123278822958055,0.47791210607404633,0.48841619147740711,0.52232105862391642,0.48536842830382432,0.47496656027426076,0.35360532239950854,0.17111058535410931,0.20027471194950439,0.30881550562873683,0.23861143250460892,0.21353602949571013,0.39419151854756973,0.47203822926706263,0.48608725082604887,0.46104407493352029,0.41564174144315474,0.41030205527257335,0.24266138988069244,0.24020167836793826,0.30205583604022501,0.43021438436413256,0.43602248744921335,0.38152916080822091,0.39485121571152298,0.43044451682534474,0.43660275973276552,0.484282468950677,0.49237835576571726,0.35699058722714216,0.27313846049728407,0.20639720107479378,0.258115530749775,0.39625803488815581,0.33305909164202852,0.26619512453845584,0.31481580157176459,0.38516649272873243,0.3599716751688854,0.44886648142147234,0.45413393258865536,0.4712192859240622,0.48352546424236542,0.46349267380649584,0.49763426516195042,0.47080921574012907,0.45120657797200803,0.34038505804218294,0.40375989311378652,0.4599865453633738,0.41703091481928273,0.46277194541472183,0.41695934616130503,0.36864180435074478,0.38473129821835295,0.42666091466465195,0.44159116914980445,0.46031377041495564,0.41018408903305431,0.34426815042206266,0.40630124796898881,0.44340907333050411,0.44520798684931784,0.4951573963221072,0.47024708264804932,0.41269081488029746,0.28347067574358242,0.24384741032824608,0.24291902290537878,0.23063318354772261,0.27891933606477037,0.33218457250231626,0.40974275608659222,0.4332985880396148,0.43566214713996554,0.46659030241636518,0.45771344935190067,0.43216036810180453,0.46264041343246332,0.46974363712973138,0.46495780329433672,0.47045980640425683,0.46439341473585838,0.43369449250099118,0.42835908852059884,0.43924300605051847,0.43456727459645339,0.46712689458906254,0.4146096877374657,0.39060343604178394,0.28854868877864237,0.27789195696042707,0.33010772623176654,0.329227869014108,0.32336912123367878,0.34298384438385421,0.42553038381965697,0.42466914636015024,0.44056972615489071,0.45352961741931003,0.42253292594998343,0.35025260760568128,0.29601578858869326,0.33396911202127783,0.36339837856573687,0.38339718710106213,0.33628986480084122,0.35147082196959123,0.38068045746822776,0.40959636983690012,0.40642886430425151,0.42413132314684499,0.40743543858886533,0.37883698016010792,0.40114180689554924,0.40260713716055629,0.40451686869439818,0.41258363239932749,0.3844799462557299,0.39856379111170648,0.41700449438025344,0.4305003665070346,0.40077320256063681,0.40749600338504344,0.40725562952953603,0.39295673009287457,0.38524158270739656,0.40560415007016531,0.38900604661804056,0.31394225915645041,0.31544222835213348,0.36526602088321025,0.38887307737890359,0.41902287143643024,0.36685721916989772,0.40123195964817959,0.34825445157929963,0.30072374586013545,0.27492762103680757,0.36315310956499869,0.3160661730915067,0.29719182576312797,0.376241228606216,0.37328243628150898,0.39518861827639862,0.38519328853685575,0.38400438622045069,0.3721349994803419,0.36326296921491941,0.3748823217324046,0.37706085265790984,0.34207682127239952,0.3502647063505207,0.289110409237962,0.2809087685589452,0.25771640810604346,0.25564559370779799,0.31739470377885726,0.30411142965585103,0.32098791702979768,0.33812981190480046,0.31926371041339496,0.30007746039621519,0.30176740114144701,0.25108005999135419,0.26851031279602777,0.23537907063648703,0.25430049695732632,0.28548124068679659,0.30799533190187811,0.25411163457239683,0.2951078363668998,0.2954595865587536,0.23022193374532454,0.21696472755222912,0.18981923070825743,0.17862388602024956,0.13962236826730232,0.15624025401400496,0.16868828887467507,0.20402254595947747,0.2442804711854305,0.25572151408352067,0.28333140021355396,0.22379634826774158,0.20666288204296712,0.20320606659379314,0.19412240900366709,0.22616435507153673,0.22305979299660708,0.20926598894180154,0.25689331377597935,0.2495782239163172,0.29150883814677286,0.29104411537512326,0.32393442500875813,0.30650110654328427,0.27524167440984498,0.25773724378569046,0.31293892939408191,0.301247646131233,0.28382743600981375,0.19926420829889438,0.25669526814662352,0.31962930586349514,0.29667480157386428,0.29881417566248325,0.26630884166851232,0.28251825127158903,0.2719428319962538,0.23936347049177292,0.20238985635013237,0.18343129479103998,0.12288191553466497,0.1096390821752211,0.17134734183172304,0.19118265298936155,0.29273024632619238,0.26930586816863816,0.29086911764507289,0.27386513928274869,0.18718146120449594,0.28134366865192451,0.15452299117080392,8.7333822586862078E-2,0.10342384704772437,0.11137667029600885,0.21177761463069611,0.30592371994994932,0.30083545584969684,0.307675341254739,0.34392852124546441,0.28244647657714361,0.22064470702524266,0.2414914740436189,0.26826632204364076,0.18720879876113788,0.17398639761834736,0.2132899033835266,0.20220952147196378,0.31800313478631032,0.32763695310101837,0.30558055697100872,0.29514784013828982,0.28983011214536869,0.29850797106654769,0.3017887176083367,0.18402179580357061,0.14261159241078922,0.13140111121056341,9.8914835967713693E-2,0.11909319437287817,0.17823635539968138,0.24199307269688883,0.23158064108335538,0.28688962342886298,0.30074766818886201,0.30884687706355896,0.33189960645133659,0.28731060617749449,0.22874915975767557,0.15670021747257706,0.16938875129452075,0.25396173991144044,0.29445001606730092,0.28634148779705548,0.24513588082076787,0.24985533742308269,0.30062319080336097,0.32740711682013135,0.25997237239552973,0.215132036085943,0.23677102064016131,0.11318510138601462,0.13461575125721034,0.19968243953281284,0.2089893663977995,0.24816488468863607,0.24938148468636204,0.28481673553957787,0.24402259365853912,0.27483437657335752,0.23122234353978913,0.21901485308614471,0.20297218389442098,0.13026333176051316,0.14153971985596253,"-","-","-","-","-","-","-","-"]
[]
[null,null,"Emisiones de CO2 asociadas a la generación mensual Islas Baleares","2006-01-01","2006-02-01","2006-03-01","2006-04-01","2006-05-01","2006-06-01","2006-07-01","2006-08-01","2006-09-01","2006-10-01","2006-11-01","2006-12-01","2007-01-01","2007-02-01","2007-03-01","2007-04-01","2007-05-01","2007-06-01","2007-07-01","2007-08-01","2007-09-01","2007-10-01","2007-11-01","2007-12-01","2008-01-01","2008-02-01","2008-03-01","2008-04-01","2008-05-01","2008-06-01","2008-07-01","2008-08-01","2008-09-01","2008-10-01","2008-11-01","2008-12-01","2009-01-01","2009-02-01","2009-03-01","2009-04-01","2009-05-01","2009-06-01","2009-07-01","2009-08-01","2009-09-01","2009-10-01","2009-11-01","2009-12-01","2010-01-01","2010-02-01","2010-03-01","2010-04-01","2010-05-01","2010-06-01","2010-07-01","2010-08-01","2010-09-01","2010-10-01","2010-11-01","2010-12-01","2011-01-01","2011-02-01","2011-03-01","2011-04-01","2011-05-01","2011-06-01","2011-07-01","2011-08-01","2011-09-01","2011-10-01","2011-11-01","2011-12-01","2012-01-01","2012-02-01","2012-03-01","2012-04-01","2012-05-01","2012-06-01","2012-07-01","2012-08-01","2012-09-01","2012-10-01","2012-11-01","2012-12-01","2013-01-01","2013-02-01","2013-03-01","2013-04-01","2013-05-01","2013-06-01","2013-07-01","2013-08-01","2013-09-01","2013-10-01","2013-11-01","2013-12-01","2014-01-01","2014-02-01","2014-03-01","2014-04-01","2014-05-01","2014-06-01","2014-07-01","2014-08-01","2014-09-01","2014-10-01","2014-11-01","2014-12-01","2015-01-01","2015-02-01","2015-03-01","2015-04-01","2015-05-01","2015-06-01","2015-07-01","2015-08-01","2015-09-01","2015-10-01","2015-11-01","2015-12-01","2016-01-01","2016-02-01","2016-03-01","2016-04-01","2016-05-01","2016-06-01","2016-07-01","2016-08-01","2016-09-01","2016-10-01","2016-11-01","2016-12-01","2017-01-01","2017-02-01","2017-03-01","2017-04-01","2017-05-01","2017-06-01","2017-07-01","2017-08-01","2017-09-01","2017-10-01","2017-11-01","2017-12-01","2018-01-01","2018-02-01","2018-03-01","2018-04-01","2018-05-01","2018-06-01","2018-07-01","2018-08-01","2018-09-01","2018-10-01","2018-11-01","2018-12-01","2019-01-01","2019-02-01","2019-03-01","2019-04-01","2019-05-01","2019-06-01","2019-07-01","2019-08-01","2019-09-01","2019-10-01","2019-11-01","2019-12-01"]
[null,null,"Carbón",267505.75,233513.8,266058.89999999997,227681.75,258244.19999999998,272698.45,278132.45,267255.89999999997,241774.05,168170.9,190989.9,251418.44999999998,240596.05,216148.75,209355.3,250325,216720.65,211541.25,264976.84999999998,278052.64999999997,250241.4,217689.65,191670.09999999998,249344.59999999998,273235.20000000001,256391.69999999998,252338.05,205411.84999999998,234432.44999999998,265397.7,279868.09999999998,286746.09999999998,271857.7,232353.84999999998,207055.34999999998,178796.65,177078.1,254221.9,218655.8,229985.5,256807.8,276760.64999999997,283669.05,292200.05,246943.94999999998,267618.8,241414.94999999998,266583.3,274197.51579999999,240473.91514999999,269936.40100000001,257245.85449999999,217857.9026,265093.85389999999,277485.5,272416.2316,271029.13374999998,206431.29595,182593.48364999998,211528.5998,257487.13929999998,211424.89780000001,126181.31324999999,183637.10424999997,228502.07120000001,242415.15179999999,277729.8799,271254.68560000003,256348.98514999999,189601.34294999999,158424.2838,223728.44754999998,251812.35989999998,208208.764,212938.26014999999,193772.39679999999,216237.88089999999,231249.81129999997,258457.50634999998,258443.04069999998,223153.23774999997,176275.25594999999,152649.1312,165241.23014999999,173184.45564999999,164124.60394999999,177206.64449999999,166701.67939999999,178501.5914,190576.5949,234333.09424999999,235839.08934999999,217945.89729999998,161171.77405000001,159838.10134999998,173684.85769999999,173934.86064999999,142578.37024999998,152242.79625000001,165311.93294999999,184770.56539999999,196241.54465,222882.12579999998,226583.78084999998,216317.4852,148385.65945000001,82487.090200000006,166652.62804999997,171714.21854999999,163123.67540000001,165020.90519999998,66657.439699999988,121312.41409999999,176203.48535,207897.83089999997,238392.78339999999,189194.03709999999,78218.907399999996,96716.419149999987,94146.816399999996,108688.75615,94668.61529999999,99786.318499999994,143921.51254999998,187317.28264999998,214211.41595,271827.23444999999,252205.1526,243927.34469999999,213127.27024999997,171574.23795000001,186469.43139999997,210005.26435000001,179983.57905,168594.20194999999,180033.0275,212853.98564999999,255500.79,259424.01259999999,250640.37339999998,225546.27064999999,186501.08730000001,144667.47630000001,193905.1764,208482.78045000002,202434.68070000003,209812.64850000001,192209.03205000001,196471.67819999999,218023.08254999999,254171.90294999999,270178.76549999998,263161.91475,195663.66015000001,111004.27695,190236.79500000001,227627.57010000001,171868.29975000001,148076.00640000001,132517.19039999999,"-","-","-","-","-","-","-","-"]
[null,null,"Motores diesel",60990.93,52613.33,54455.17,49832.86,61063.310000000005,65568.58,80241.7,78121.119999999995,72015.790000000008,61439.840000000004,48889.61,57742.3,60163.950000000004,50866.97,57582.14,55167.42,64976.450000000004,71284.290000000008,78985.06,81042.5,74400.479999999996,60952.43,56967.68,61927.25,61976.53,54601.47,58070.32,55840.4,66221.540000000008,74320.400000000009,89470.92,91245.77,75805.73,60249.42,55979,62470.87,65460.01,52518.62,55097.35,57190.21,58381.4,70680.61,81241.930000000008,81947.25,66271.59,54478.270000000004,47743.08,57294.93,61975.250260000001,54767.827729999997,60122.407729999999,54031.879439999997,64039.289929999999,72682.967280000012,87037.4274,87737.947990000001,75310.930310000011,59081.500170000007,51624.820939999998,62855.186239999995,62652.986550000001,49890.877959999998,59442.787250000001,55060.256020000001,64306.118800000004,68993.23431,74092.228210000001,75675.022500000006,62729.228870000006,42723.811900000001,38130.105860000003,57369.362049999996]
[null,null,"Motores diesel",null,null,null,null,null,null,null,null,null,null,null,null,null,null,null,null,null,null,null,null,null,null,null,null,null,null,null,null,null,null,null,null,null,null,null,null,null,null,null,null,null,null,null,null,null,null,null,null,null,null,null,null,null,null,null,null,null,null,null,null,null,null,null,null,null,null,null,null,null,null,null,null,59519.824300000007,55230.941180000002,54561.012519999997,53614.031560000003,61894.795100000003,70089.398959999991,77491.781759999998,76877.397499999992,60267.964300000007,45428.75318,35001.177860000003,40656.707780000004]
[null,null,"Motores diesel",null,null,null,null,null,null,null,null,null,null,null,null,null,null,null,null,null,null,null,null,null,null,null,null,null,null,null,null,null,null,null,null,null,null,null,null,null,null,null,null,null,null,null,null,null,null,null,null,null,null,null,null,null,null,null,null,null,null,null,null,null,null,null,null,null,null,null,null,null,null,null,null,null,null,null,null,null,null,null,null,null,null,null,null,42345.107279999997,37977.392159999996,37541.717279999997,39344.730479999998,48268.920960000003,50080.011119999996,64772.734319999996,61939.163519999995,47177.596799999999,35758.231199999995,27314.575200000003,39316.44672]
[null,null,"Motores diesel",null,null,null,null,null,null,null,null,null,null,null,null,null,null,null,null,null,null,null,null,null,null,null,null,null,null,null,null,null,null,null,null,null,null,null,null,null,null,null,null,null,null,null,null,null,null,null,null,null,null,null,null,null,null,null,null,null,null,null,null,null,null,null,null,null,null,null,null,null,null,null,null,null,null,null,null,null,null,null,null,null,null,null,null,null,null,null,null,null,null,null,null,null,null,null,null,35756.755320000004,33840.016640000002,23623.357179999999,23002.15624,31726.514139999999,37475.422600000005,43017.221919999996,47465.413780000003,42938.024359999996,31359.758099999999,31618.432639999999,31582.734280000001]
[null,null,"Motores diesel",null,null,null,null,null,null,null,null,null,null,null,null,null,null,null,null,null,null,null,null,null,null,null,null,null,null,null,null,null,null,null,null,null,null,null,null,null,null,null,null,null,null,null,null,null,null,null,null,null,null,null,null,null,null,null,null,null,null,null,null,null,null,null,null,null,null,null,null,null,null,null,null,null,null,null,null,null,null,null,null,null,null,null,null,null,null,null,null,null,null,null,null,null,null,null,null,null,null,null,null,null,null,null,null,null,null,null,null,31983.141179999995,30794.426129999996,29019.195329999995,30266.338229999998,36144.914669999998,36783.772379999995,52669.870169999995,47397.736109999991,38370.932820000002,29972.367569999999,21461.027819999999,28377.141059999998,21536.873729999999,36029.143679999994,44110.987860000001,42805.544219999996,49806.703739999997,52726.682069999995,61144.773809999991,61134.293219999992,52598.755829999995,50488.375289999989,35424.493949999996,40112.039999999994,48036.355559999996,40390.560239999999,35505.235019999993,41432.299079999997,50070.354959999997,55065.395489999995,60794.990459999994,50160.167579999994,24008.858279999997,15316.584569999999,14246.00259,18686.105370000001,23503.721940000003,26109.642720000003,24072.062839999999,24928.847450000001,34357.548410000003,39813.547350000001,55366.361200000007,59982.263220000008,48293.593300000008,38706.065490000001,28164.682130000001,22064.527099999999,23592.206160000002,17806.541090000002,11145.97595,20235.77751,"-","-","-","-","-","-","-","-"]
[null,null,"Motores diesel",60990.93,52613.33,54455.17,49832.86,61063.310000000005,65568.58,80241.7,78121.119999999995,72015.790000000008,61439.840000000004,48889.61,57742.3,60163.950000000004,50866.97,57582.14,55167.42,64976.450000000004,71284.290000000008,78985.06,81042.5,74400.479999999996,60952.43,56967.68,61927.25,61976.53,54601.47,58070.32,55840.4,66221.540000000008,74320.400000000009,89470.92,91245.77,75805.73,60249.42,55979,62470.87,65460.01,52518.62,55097.35,57190.21,58381.4,70680.61,81241.930000000008,81947.25,66271.59,54478.270000000004,47743.08,57294.93,61975.250260000001,54767.827729999997,60122.407729999999,54031.879439999997,64039.289929999999,72682.967280000012,87037.4274,87737.947990000001,75310.930310000011,59081.500170000007,51624.820939999998,62855.186239999995,62652.986550000001,49890.877959999998,59442.787250000001,55060.256020000001,64306.118800000004,68993.23431,74092.228210000001,75675.022500000006,62729.228870000006,42723.811900000001,38130.105860000003,57369.362049999996,59519.824300000007,55230.941180000002,54561.012519999997,53614.031560000003,61894.795100000003,70089.398959999991,77491.781759999998,76877.397499999992,60267.964300000007,45428.75318,35001.177860000003,40656.707780000004,42345.107279999997,37977.392159999996,37541.717279999997,39344.730479999998,48268.920960000003,50080.011119999996,64772.734319999996,61939.163519999995,47177.596799999999,35758.231199999995,27314.575200000003,39316.44672,35756.755320000004,33840.016640000002,23623.357179999999,23002.15624,31726.514139999999,37475.422600000005,43017.221919999996,47465.413780000003,42938.024359999996,31359.758099999999,31618.432639999999,31582.734280000001,31983.141179999995,30794.426129999996,29019.195329999995,30266.338229999998,36144.914669999998,36783.772379999995,52669.870169999995,47397.736109999991,38370.932820000002,29972.367569999999,21461.027819999999,28377.141059999998,21536.873729999999,36029.143679999994,44110.987860000001,42805.544219999996,49806.703739999997,52726.682069999995,61144.773809999991,61134.293219999992,52598.755829999995,50488.375289999989,35424.493949999996,40112.039999999994,48036.355559999996,40390.560239999999,35505.235019999993,41432.299079999997,50070.354959999997,55065.395489999995,60794.990459999994,50160.167579999994,24008.858279999997,15316.584569999999,14246.00259,18686.105370000001,23503.721940000003,26109.642720000003,24072.062839999999,24928.847450000001,34357.548410000003,39813.547350000001,55366.361200000007,59982.263220000008,48293.593300000008,38706.065490000001,28164.682130000001,22064.527099999999,23592.206160000002,17806.541090000002,11145.97595,20235.77751,"-","-","-","-","-","-","-","-"]
[null,null,"Turbina de gas",5140.78,8094.12,16894.939999999999,10041.06,11379.72,21471.1,41422.239999999998,30168.32,23377.34,21766.324479999992,13666.32,12698.4,17452.900000000001,15461.56,15177.4,12562.24,27257.16,23500.18,30604.92,28391.579999999998,15768.66,15523.72,15379.42,13386.6,12965.539999999999,14758.56,14788.16,9335.1,9898.24,16735.099999999999,25429.360000000001,28341.26,23358.84,15465.26,14312.34,16263.72,14049.64,15212.92,14550.619999999999,9079.7999999999993,18062.66,25068.239999999998,39299.18,38901.06,27547.98,18209.919999999998,15673.94,15477.1,17047.249759999999,18900.080260000002,16328.082979999999,12459.9498,11507.40108,14975.18168,30620.931380000002,31100.047340000001,19945.584079999997,16662.440880000002,15841.037180000001,16178.644419999999]
[null,null,"Turbina de gas",null,null,null,null,null,null,null,null,null,null,null,null,null,null,null,null,null,null,null,null,null,null,null,null,null,null,null,null,null,null,null,null,null,null,null,null,null,null,null,null,null,null,null,null,null,null,null,null,null,null,null,null,null,null,null,null,null,null,null,null,10343.14963,12729.26528,10770.862719999999,8026.3049700000001,10400.41704,17177.693939999997,30458.95249,36176.049999999996,28981.279340000001,23725.385139999999,18920.220550000002,6159.0852100000002]
[null,null,"Turbina de gas",null,null,null,null,null,null,null,null,null,null,null,null,null,null,null,null,null,null,null,null,null,null,null,null,null,null,null,null,null,null,null,null,null,null,null,null,null,null,null,null,null,null,null,null,null,null,null,null,null,null,null,null,null,null,null,null,null,null,null,null,null,null,null,null,null,null,null,null,null,null,null,null,7478.680699999999,14531.167820000001,8585.1082900000001,4691.8652599999996,7470.9357699999991,17622.07575,25357.028259999999,36315.561409999995,23009.778749999998,20080.727289999999,17023.377970000001,18699.06293]
[null,null,"Turbina de gas",null,null,null,null,null,null,null,null,null,null,null,null,null,null,null,null,null,null,null,null,null,null,null,null,null,null,null,null,null,null,null,null,null,null,null,null,null,null,null,null,null,null,null,null,null,null,null,null,null,null,null,null,null,null,null,null,null,null,null,null,null,null,null,null,null,null,null,null,null,null,null,null,null,null,null,null,null,null,null,null,null,null,null,null,16017.1024,17308.861960000002,16813.00504,13234.8164,16800.301439999999,20608.064880000002,32023.16936,35620.945879999999,30030.477880000002,26570.72912,22559.947800000002,19868.851600000002]
[null,null,"Turbina de gas",null,null,null,null,null,null,null,null,null,null,null,null,null,null,null,null,null,null,null,null,null,null,null,null,null,null,null,null,null,null,null,null,null,null,null,null,null,null,null,null,null,null,null,null,null,null,null,null,null,null,null,null,null,null,null,null,null,null,null,null,null,null,null,null,null,null,null,null,null,null,null,null,null,null,null,null,null,null,null,null,null,null,null,null,null,null,null,null,null,null,null,null,null,null,null,null,14026.872299999999,12123.478080000001,21200.94613,21749.04984,23035.774650000003,28507.913839999997,37299.041570000001,39033.0766,32625.256440000001,25653.040560000001,13749.3853,17836.226870000002]
[null,null,"Turbina de gas",null,null,null,null,null,null,null,null,null,null,null,null,null,null,null,null,null,null,null,null,null,null,null,null,null,null,null,null,null,null,null,null,null,null,null,null,null,null,null,null,null,null,null,null,null,null,null,null,null,null,null,null,null,null,null,null,null,null,null,null,null,null,null,null,null,null,null,null,null,null,null,null,null,null,null,null,null,null,null,null,null,null,null,null,null,null,null,null,null,null,null,null,null,null,null,null,null,null,null,null,null,null,null,null,null,null,null,null,18770.680560000001,16760.583390000003,19626.675270000003,16424.808059999999,22361.23101,30115.632600000001,39606.994230000004,41266.490370000007,29740.418460000001,24455.116590000001,21022.304039999999,19009.607910000002,24509.15568,10145.619209999999,6804.4031700000005,4603.6929900000005,9362.2862399999995,16904.69613,23823.347460000001,28288.551990000004,22270.789140000001,9342.7573200000006,10394.976570000001,6826.4392499999994,6746.9542200000005,5470.3589400000001,11371.39401,7235.1920099999998,15040.836359999999,20261.429940000002,30434.204610000001,42077.972279999994,41825.388660000004,38358.051659999997,31802.945669999997,33202.804380000001,56859.643199999999,56888.446249999994,57998.982949999998,54332.301200000002,62791.939100000003,73198.842349999992,91055.339699999997,86608.240550000002,71347.021599999993,51735.872349999998,45535.579549999995,18396.855449999999,21398.263599999998,21470.816999999999,32821.066449999998,28662.896499999999,"-","-","-","-","-","-","-","-"]
[null,null,"Turbina de gas",5140.78,8094.12,16894.939999999999,10041.06,11379.72,21471.1,41422.239999999998,30168.32,23377.34,21766.324479999992,13666.32,12698.4,17452.900000000001,15461.56,15177.4,12562.24,27257.16,23500.18,30604.92,28391.579999999998,15768.66,15523.72,15379.42,13386.6,12965.539999999999,14758.56,14788.16,9335.1,9898.24,16735.099999999999,25429.360000000001,28341.26,23358.84,15465.26,14312.34,16263.72,14049.64,15212.92,14550.619999999999,9079.7999999999993,18062.66,25068.239999999998,39299.18,38901.06,27547.98,18209.919999999998,15673.94,15477.1,17047.249759999999,18900.080260000002,16328.082979999999,12459.9498,11507.40108,14975.18168,30620.931380000002,31100.047340000001,19945.584079999997,16662.440880000002,15841.037180000001,16178.644419999999,10343.14963,12729.26528,10770.862719999999,8026.3049700000001,10400.41704,17177.693939999997,30458.95249,36176.049999999996,28981.279340000001,23725.385139999999,18920.220550000002,6159.0852100000002,7478.680699999999,14531.167820000001,8585.1082900000001,4691.8652599999996,7470.9357699999991,17622.07575,25357.028259999999,36315.561409999995,23009.778749999998,20080.727289999999,17023.377970000001,18699.06293,16017.1024,17308.861960000002,16813.00504,13234.8164,16800.301439999999,20608.064880000002,32023.16936,35620.945879999999,30030.477880000002,26570.72912,22559.947800000002,19868.851600000002,14026.872299999999,12123.478080000001,21200.94613,21749.04984,23035.774650000003,28507.913839999997,37299.041570000001,39033.0766,32625.256440000001,25653.040560000001,13749.3853,17836.226870000002,18770.680560000001,16760.583390000003,19626.675270000003,16424.808059999999,22361.23101,30115.632600000001,39606.994230000004,41266.490370000007,29740.418460000001,24455.116590000001,21022.304039999999,19009.607910000002,24509.15568,10145.619209999999,6804.4031700000005,4603.6929900000005,9362.2862399999995,16904.69613,23823.347460000001,28288.551990000004,22270.789140000001,9342.7573200000006,10394.976570000001,6826.4392499999994,6746.9542200000005,5470.3589400000001,11371.39401,7235.1920099999998,15040.836359999999,20261.429940000002,30434.204610000001,42077.972279999994,41825.388660000004,38358.051659999997,31802.945669999997,33202.804380000001,56859.643199999999,56888.446249999994,57998.982949999998,54332.301200000002,62791.939100000003,73198.842349999992,91055.339699999997,86608.240550000002,71347.021599999993,51735.872349999998,45535.579549999995,18396.855449999999,21398.263599999998,21470.816999999999,32821.066449999998,28662.896499999999,"-","-","-","-","-","-","-","-"]
[null,null,"Ciclo combinado",42599.21,41754.870000000003,26566.739999999998,21567.67,29450.52,39780.550000000003,64136.17,62068.61,49086.05,60521.64,29695.09,29281.43,40527.949999999997,36014.69,49323.22,24653.1,41916.19,64613.47,68965.41,62622.87,52234.01,53265.94,50050.27,41891.03,34211.68,33897.18,35983.24,44622.74,42456.02,39506.01,66133.429999999993,65822.63,44896.54,41322.339999999997,41179.89,73659.600000000006,76389.83,30284.5,49139.33,33221.56,25901.11,35938.47,64873.58,61612.77,44656.409999999996,21226.9,10869.49,23993.759999999998,30985.72437,33556.057390000002,25880.754820000002,13183.448909999999,32500.919879999998,22925.43606,58905.890699999996,54004.915839999994,27481.871729999999,39655.95102,36465.458780000001,44638.047639999997,32104.897780000003,37366.625229999998,75570.682560000001,32230.415099999998,33037.562330000001,34879.603260000004,43690.503539999998,56202.400969999995,42484.724600000001,43783.982930000006,35266.97883,22931.70793,25356.310160000001,49685.782630000002,19767.117909999997,18979.954010000001,20791.136200000001,34898.969060000003,40691.014180000006,45692.092540000005,17288.39097,26041.171279999999,15910.21386,12710.340639999999,13636.342600000002,18917.422899999998,14186.76237,9264.4133500000007,14057.331929999998,5710.7901599999996,13052.8896,10874.95564,1173.4172599999999,19721.203870000001,12929.195639999998,17187.644039999999,11941.90725,16387.12314,19100.10226,5645.2453999999998,12167.23725,5862.4990399999997,6480.633249999999,9756.0382699999991,5862.0372799999996,19536.576089999999,30338.38939,12186.46578,13535.001820000001,13933.94433,14008.88191,41011.61363,38155.559949999995,17698.333210000001,29231.697930000002,9661.46738,12835.137939999999,45422.916429999997,27976.91545,34262.714840000001,34115.521070000003,39916.497620000002,40568.576370000002,18943.6522,6882.7973499999998,4518.1976500000001,5454.57737,8954.0462499999994,9835.1642499999998,6053.9784799999998,12816.057779999999,9921.3087599999999,13924.394630000001,12889.894240000001,11632.31234,13806.35168,9643.1782800000001,4654.9966400000003,13036.92484,20739.1623,4748.02981,14940.54672,22388.221219999999,13154.84902,12792.10824,19735.489399999999,16170.09742,19699.285169999999,18747.050739999999,15069.308509999999,22039.383949999999,25629.360349999999,12752.94873,18683.357239999998,44919.982530000001,15876.94045,14108.975759999999,22714.881089999999,34410.61735,38262.451730000001,"-","-","-","-","-","-","-","-"]
[null,null,"Generación auxiliar","-","-","-","-","-","-",157.62,2612.94,1827.06,0.74,"-",100.80279999997929,"-","-","-","-","-","-",1810.78,6377.32,1144.78,"-","-","-","-","-","-","-","-","-",1515.52,1924,948.68,0.74,"-","-","-","-","-","-","-","-",1101.8599999999999,2251.08,767.38,-1.48,"-","-","-","-","-","-","-",33.807639999999999,1938.4573799999998,2166.6977999999999,814.24864000000002,0.59422000000000008,"-","-","-","-","-","-","-",784.99347999999998,1836.2433999999998,2697.6011800000001,1137.15282,-1.9195599999999999,"-","-","-","-","-","-","-",728.44859999999994,1897.4835799999998,2923.1006400000001,969.19280000000003,-0.35224,"-","-","-","-","-","-",-0.29452,428.95949999999993,1624.5841599999999,2143.0355600000003,806.00652000000002,1.48E-3,"-","-","-","-","-","-","-","-",1881.19544,2377.0287400000002,1435.7309799999998,-0.3256,"-","-","-","-","-","-","-",249.25567999999998,2725.0366800000002,3104.0143599999997,1752.0210400000001,-2.2451599999999998,"-","-","-","-","-","-","-",898.57607999999993,2162.5804399999997,2506.0033399999998,1586.39942,315.12678,"-","-","-","-","-","-",990.12,1262.34898,2315.0685399999998,3370.4928,1759.2382600000001,1215.1155200000001,"-","-","-","-","-","-",178.15040999999999,970.72718999999995,2352.0257699999997,3585.3255599999998,1563.0790799999997,192.16154999999998,"-","-","-","-","-","-","-","-","-","-","-","-","-","-"]
[null,null,"Térmica no renovable/Cogeneración y resto",3415.01602,3029.4591599999999,3316.91516,3152.81122,2402.6862600000004,3033.6048599999999,2933.3993,2947.5679999999998,2849.0217600000001,3119.0946800000002,2739.7216600000002,3230.0426600000001,2660.06,2930.7200000000003,3343.86,3124.6800000000003,2124.2000000000003,2596.62,2326.2200000000003,2506.92,2471.04,264.94,2097.42,3175.9,2861.3,3179.02,3227.9,2950.7400000000002,3057.08,2977,3089.58,2965.3,2776.28,3073.2000000000003,3097.6400000000003,3231.28,3296.54,2496,252.72,2906.28,3187.34,2911.7400000000002,2909.4,2787.98,2936.44,2983.5,3112.2000000000003,3250.78,2811.9,2403.96,2925.78,2913.04,2834.78,2701.6600000000003,2995.7200000000003,5968.8200000000006,6735.04,3579.1600000000003,4561.7,5391.88,348.04050000000001,328.96256,380.98788999999994,2.7150599999999998,288.43756999999999,239.31563,538.88687000000004,657.88072,685.41130999999996,630.00010999999995,496.02828999999997,336.79286999999999,434.96792999999997,782.20590000000004,1006.89728,170.95295000000002,1027.33978,942.6083000000001,1064.9721099999999,955.94162000000006,1013.4629299999999,892.90916000000004,729.93562999999995,781.57430999999997,883.44344999999998,833.40687000000003,780.19051000000002,180.54594,969.86990000000003,962.25270999999998,1194.56979,1052.7787599999999,802.42602999999997,305.93450000000001,657.25541999999996,894.03025999999988,771.92396999999994,622.92755999999997,669.92311000000007,280.67719,504.99819999999994,610.90995999999996,972.45138999999995,905.25753999999995,1015.3466,762.17891000000009,993.50143000000003,1222.2602199999999,"-","-","-","-","-","-","-","-","-","-","-","-","-","-","-","-","-","-","-","-","-","-","-","-","-","-","-","-","-","-","-","-","-","-","-","-","-","-","-","-","-","-","-","-","-","-","-","-","-","-","-","-","-","-","-","-","-","-","-","-"]
[null,null,"Cogeneración","-","-","-","-","-","-","-","-","-","-","-","-","-","-","-","-","-","-","-","-","-","-","-","-","-","-","-","-","-","-","-","-","-","-","-","-","-","-","-","-","-","-","-","-","-","-","-","-","-","-","-","-","-","-","-","-","-","-","-","-","-","-","-","-","-","-","-","-","-","-","-","-","-","-","-","-","-","-","-","-","-","-","-","-","-","-","-","-","-","-","-","-","-","-","-","-","-","-","-","-","-","-","-","-","-","-","-","-",1166.8904599999998,934.88196000000005,1025.36916,627.98619999999994,815.88922000000002,419.36724999999996,1080.9587000000001,1041.9370199999998,911.60341000000005,1161.7833499999999,1206.0386799999999,1280.6935799999999,1221.6696999999999,1187.6385799999998,1146.7424800000001,1129.4882699999998,784.9043099999999,1241.43806,1082.12679,1084.59247,1073.5235499999999,1015.2837000000001,883.36167999999998,988.71770000000004,1116.73955,1149.2566300000001,1300.6088300000001,739.61409000000003,746.35215999999991,1027.46225,1131.9054800000001,1290.59367,1189.91482,1239.35681,1146.5012400000001,1332.06105,1177.7051899999999,1140.95198,849.03345000000002,733.40141999999992,954.07274999999993,1242.1795400000001,1319.2586799999999,1300.71946,901.52350000000001,951.45833000000005,1163.89679,1206.34393,1236.37239,1288.90832,1208.9590899999998,1078.6676600000001,"-","-","-","-","-","-","-","-"]
[null,null,"Residuos no renovables","-","-","-","-","-","-","-","-","-","-","-","-","-","-","-","-","-","-","-","-","-","-","-","-","-","-","-","-","-","-","-","-","-","-","-","-","-","-","-","-","-","-","-","-","-","-","-","-","-","-","-","-","-","-","-","-","-","-","-","-",1723.0816799999998,1567.3130399999998,1536.45768,2140.3502399999998,1416.1419600000002,2844.09852,3132.2668799999997,3257.3244,3303.3374400000002,3137.9246399999997,2518.24764,3114.3439200000003,2629.59924,2005.8668399999999,2284.2972,2176.8386399999999,2674.41156,2359.42524,3236.92092,3158.8476000000001,2484.45372,1717.50144,1683.7072799999999,3057.6189599999998,2069.1903600000001,1459.61292,1927.1323199999999,1848.1971599999999,1970.3266799999999,2844.6131999999998,2605.4096399999999,2732.9513999999999,3380.7333599999997,2288.3960400000001,1898.5519199999999,2110.8678,1905.5167200000001,1561.7867999999999,2262.0370800000001,2785.0587599999999,1264.7340000000002,3164.8405199999997,3538.24296,2705.5058400000003,3356.8286399999997,3443.9636399999999,2054.5677599999999,2697.1563599999999,2199.2307599999999,1658.0495999999998,2734.5834,3273.3628800000001,3549.6311999999998,3289.0544399999999,3084.7076400000001,2996.9599200000002,3546.5106000000001,3519.4581599999997,3436.2944400000001,2975.61204,2055.4835999999996,1192.2781199999999,2066.8454400000001,2906.3768399999999,3482.4285599999998,3268.0982399999998,2703.9260399999998,3044.4063599999999,3027.2659199999998,3279.0075599999996,2225.0149200000001,2142.0843600000003,1810.5992399999998,1733.3259599999999,2524.2629999999999,3524.5853999999995,2690.3497199999997,3371.2045199999998,3373.3897199999997,3438.1615200000001,3606.39,3355.9174799999996,2707.0146,2395.6791599999997,1795.54188,1069.4290799999999,2687.9643599999999,2516.8172399999999,2525.9020799999998,3530.1970799999999,3462.9885600000002,3590.7269999999999,3228.8566799999999,3335.44164,1688.0102400000001,3149.9828399999997,2294.5294800000001,1646.40708,2660.0790000000002,3229.5193199999999,"-","-","-","-","-","-","-","-"]
[]
[null,null,"Emisiones (tCO2)",379651.68602000002,339005.57916000002,367292.66515999992,312276.15121999994,362540.43625999999,402552.28486000001,467023.57929999998,443174.45799999998,390929.31175999995,315018.53915999993,285980.64166000002,354471.42546,361400.91000000003,321422.68999999994,334781.92000000004,345832.43999999994,352994.64999999997,373535.81000000006,447669.24,458993.83999999997,396260.37,347696.68,316164.88999999996,369725.38,385250.24999999994,362827.93,364407.67,318160.82999999996,356065.33,398936.21,465506.91,477045.06,419643.77,352464.81,321624.22000000003,334422.12,336274.12,354733.94,337695.81999999995,332383.35000000003,362340.31,411359.70999999996,473095,479700.19,389123.74999999994,364515.91000000003,318813.65999999997,366599.87,387017.64019000001,350101.84052999999,375193.42653000006,339834.17264999996,328740.29349000001,378412.90655999992,458983.92685999995,453394.66057000001,401316.80851,325410.94224,291086.50055,340592.35810000001,364659.29543999996,313307.94186999998,273883.09135,281097.14564,337950.74890000001,367334.09094000002,431478.96129000001,445920.96537000005,395670.11953000003,303600.52811000001,253755.86497,313639.73952999996,347231.74223000003,330444.72836999991,299142.6933499999,273406.03921999998,310096.49930999993,357890.73720999999,408196.70715999993,424365.98200999992,328186.48121999996,270435.96606000001,222997.54379999998,241146.53476999997,248135.64173999999,240621.30076000001,248455.45201999997,230574.38273000001,260568.04778999998,271211.28646999999,349606.45112000004,350202.92011000001,301316.55515000003,245816.27025999999,225197.62732999996,253062.69811999999,238337.83620999998,207113.70246999999,219099.16201000003,218774.12037999998,253469.82364000002,271863.13061000005,316070.91232999996,328826.10161999997,303550.7095,229140.85114999997,161241.36672000002,232177.47155999998,239369.16333000001,227205.56081000002,231435.61026999998,158261.54869999998,222339.64014999999,264758.90091000003,336297.09625,343861.38855999993,276350.66136999999,182748.30434000003,171818.99957999997,180052.58583,192127.45993000001,183139.79251,194483.87381999998,214310.26707,257636.40284999998,293769.10418000002,368198.56636,357217.04623000004,334319.24280999991,283621.79937999992,233318.14285,246460.02146999998,281640.30755000003,241616.97505999997,230928.01514999999,246771.06975999998,292035.17712999997,341143.62782000005,370510.49624999997,371716.92355000001,302684.09048000001,260926.66006000002,216958.16162,262676.67537999997,304611.50089999998,307378.64013000001,311590.78951999999,294419.68453000003,316026.34169000003,351847.88456999999,429767.26081000007,450875.40164,401248.93764000002,309268.01675000001,232476.42819000001,250931.44477000003,290257.91749000002,236795.85433000003,230322.70423999999,223986.50312000001,"-","-","-","-","-","-","-","-"]
[null,null,"Factor de emision de CO2 (tCO2/MWh)",0.76455279150648359,0.75335242793269275,0.80054198441603708,0.80313189091180293,0.79522618373488685,0.7728311412609431,0.7318719293489333,0.73030350539519739,0.74309153798340566,0.68148813495575,0.76406370921934663,0.7893399331627925,0.76045658843284059,0.75862524811714183,0.7237229210757854,0.80207536667501589,0.74881238253225446,0.70191332436373488,0.72061754905590525,0.73501578943997126,0.7419647461283092,0.73207777742685998,0.71730780051092857,0.75870673698467095,0.78679663183864179,0.77994636669274886,0.77257884102892438,0.73188540051620132,0.75147805073656671,0.76892841654443445,0.72649297161647353,0.72765873130879255,0.75643382975885332,0.74668736415288595,0.7356185958427871,0.65857183649436091,0.65442715215677882,0.78187928427530451,0.72897415639139285,0.76028946886865834,0.78412684432171809,0.76925755821890263,0.72310822129699259,0.73156812029616525,0.74361724490478409,0.80471529333848457,0.82962384884214135,0.80113607954545452,0.78797081691504522,0.7690570816426926,0.79315606141919193,0.82270937763754814,0.75374103034014051,0.79614639776176699,0.72784013715690521,0.72546789513306242,0.77176845856341869,0.73165977903947643,0.72250520067774182,0.71987786188544201,0.76406494390243651,0.72776419132712944,0.60268502378728339,0.71450401459252144,0.7438733883766725,0.72985181095550911,0.7223758583476263,0.69731918613400579,0.71359260498834221,0.67590844766986091,0.68477495694106405,0.75560278346430398,0.76063973300954257,0.6889731645352104,0.75086545689225803,0.74880571883654323,0.74202320846039271,0.71921294727338336,0.70972415859496696,0.69962363448184195,0.7485814156401831,0.71531479000641673,0.73730112789898872,0.73066391665035879,0.73754965027779806,0.72375071242603684,0.73106752692697707,0.74775492522995013,0.72915443121327961,0.74036442012905934,0.73577735804820565,0.73897136657540108,0.75633922316939017,0.69648990018220647,0.7298631584851768,0.72583442389227792,0.73072458856113198,0.69580457923010908,0.67211928567772605,0.71010996418752792,0.72266054093849164,0.71016109925862725,0.70826295838936759,0.71131981512725273,0.71808724936270529,0.64815263790835909,0.5865095028520384,0.70774098581613754,0.70518813033866579,0.70851097028947874,0.68598743044093635,0.51296693796105142,0.57875173307583272,0.66261152430679937,0.65355477975750287,0.70810844019389796,0.68377599020194779,0.52556432843117851,0.57898895606338852,0.57411457221709794,0.59913821041402793,0.58671043710675475,0.57662174562020063,0.65721685140914987,0.70419329386904006,0.71898452520655909,0.73995703642395416,0.71738014746828604,0.72649876839795668,0.73300576605318046,0.71615098883230499,0.73895700413556231,0.73973957793921341,0.72986497567543918,0.6986390937739585,0.68905442766705183,0.71717444244046158,0.7351464623138978,0.70912131752822671,0.6886382067127268,0.71954004145686079,0.68348862344910144,0.65049605292674528,0.71536864829440294,0.86944895115905063,0.85954464438091527,0.83821072520119344,0.81704031601539306,0.81805898391849519,0.82267920816412821,0.82057427067887034,0.81829973095599251,0.85413909416415768,0.80682364654856686,0.70647455953257021,0.81225410104388041,0.85473022007685406,0.80169623994630612,0.73429212731556537,0.69759632353554457,"-","-","-","-","-","-","-","-"]
[]
[null,null,"Emisiones de CO2 asociadas a la generación mensual Islas Canarias","2006-01-01","2006-02-01","2006-03-01","2006-04-01","2006-05-01","2006-06-01","2006-07-01","2006-08-01","2006-09-01","2006-10-01","2006-11-01","2006-12-01","2007-01-01","2007-02-01","2007-03-01","2007-04-01","2007-05-01","2007-06-01","2007-07-01","2007-08-01","2007-09-01","2007-10-01","2007-11-01","2007-12-01","2008-01-01","2008-02-01","2008-03-01","2008-04-01","2008-05-01","2008-06-01","2008-07-01","2008-08-01","2008-09-01","2008-10-01","2008-11-01","2008-12-01","2009-01-01","2009-02-01","2009-03-01","2009-04-01","2009-05-01","2009-06-01","2009-07-01","2009-08-01","2009-09-01","2009-10-01","2009-11-01","2009-12-01","2010-01-01","2010-02-01","2010-03-01","2010-04-01","2010-05-01","2010-06-01","2010-07-01","2010-08-01","2010-09-01","2010-10-01","2010-11-01","2010-12-01","2011-01-01","2011-02-01","2011-03-01","2011-04-01","2011-05-01","2011-06-01","2011-07-01","2011-08-01","2011-09-01","2011-10-01","2011-11-01","2011-12-01","2012-01-01","2012-02-01","2012-03-01","2012-04-01","2012-05-01","2012-06-01","2012-07-01","2012-08-01","2012-09-01","2012-10-01","2012-11-01","2012-12-01","2013-01-01","2013-02-01","2013-03-01","2013-04-01","2013-05-01","2013-06-01","2013-07-01","2013-08-01","2013-09-01","2013-10-01","2013-11-01","2013-12-01","2014-01-01","2014-02-01","2014-03-01","2014-04-01","2014-05-01","2014-06-01","2014-07-01","2014-08-01","2014-09-01","2014-10-01","2014-11-01","2014-12-01","2015-01-01","2015-02-01","2015-03-01","2015-04-01","2015-05-01","2015-06-01","2015-07-01","2015-08-01","2015-09-01","2015-10-01","2015-11-01","2015-12-01","2016-01-01","2016-02-01","2016-03-01","2016-04-01","2016-05-01","2016-06-01","2016-07-01","2016-08-01","2016-09-01","2016-10-01","2016-11-01","2016-12-01","2017-01-01","2017-02-01","2017-03-01","2017-04-01","2017-05-01","2017-06-01","2017-07-01","2017-08-01","2017-09-01","2017-10-01","2017-11-01","2017-12-01","2018-01-01","2018-02-01","2018-03-01","2018-04-01","2018-05-01","2018-06-01","2018-07-01","2018-08-01","2018-09-01","2018-10-01","2018-11-01","2018-12-01","2019-01-01","2019-02-01","2019-03-01","2019-04-01","2019-05-01","2019-06-01","2019-07-01","2019-08-01","2019-09-01","2019-10-01","2019-11-01","2019-12-01"]
[null,null,"Motores diesel",135720.66,121654.37999999999,128303.76,117671.64,140103.56,145732.03999999998,144333.12,146971.06,149663.94,147311.35999999999,129542.78,139276.18,153838.56,125587.09999999999,139586.13999999998,130378.35999999999,132074.12,137559.1,150110.84,146489.72,139236.81999999998,141094.94,139540.22,138945.72,139321.28,139361.46,134979.38,140224.1,151387.57999999999,140003.51999999999,147912.41999999998,148752.91999999998,151236.69999999998,145627.9,139244.19999999998,147036.66,143909.18,132374.24,137700.13999999998,132612.85999999999,143434.4,145220.35999999999,149200.63999999998,150839,151832.01999999999,158651.96,150123.96,159474.41999999998,154045.54931999999,136903.38617999997,154141.38764,142162.75547999999,132949.80291999999,135136.02377999999,148704.10621999999,162636.23093999998,155734.01951999997,164315.39906,151605.80331999998,152043.50865999999,154418.34099999999,139195.89872,153581.66302000001,144963.31132000001,139435.09271999999,146971.32567999998,153483.00799999997,152199.79246,154076.37393999999,146111.70655999999,141715.7948,146120.57485999999,147053.11821999997,144873.37289999999,147298.5024,145950.14113999999,147173.4565,134265.98082,141422.93098,162225.64218,140927.14913999999,143156.40606000001,134316.73061999999,140259.79705999998,147482.76459999999,136118.75852,146807.27237999998,127854.04329999999,136148.08007999999,132033.59396,136488.58262,149002.95439999999,139864.42504,146838.50946,146959.07324,148988.62325999999,149050.24051999999,136412.18568,150704.24693999998,141907.43864000001,142238.86788000001,143722.30692,145568.70501999999,157691.17501999997,149732.02541999999,147062.70976,135852.98913999999,153379.82575999998,150003.625,136960.32534000001,151687.70983999997,143230.50617999997,150580.82791999998,133094.80187999998,150831.91519999999,163541.4437,162244.35458000001,156416.85483999999,148357.64309999999,158966.76045999999,156610.45766000001,139954.45939999999,155152.37056000001,146404.00785999998,148828.25831999999,143324.54214000001,160202.96950000001,163213.38383999999,141340.78748,162158.60308,151247.88397999998,153849.54143999997,154096.65745999999,136227.23222000001,147906.90303999998,149400.87169999999,153789.09677999999,145528.49632000001,154911.90309999997,167959.81935999999,156106.97683999999,168564.46932,152326.89246,151886.54835999999,119906.12075,107587.25835,114514.78090000001,111451.99,111896.43855000001,105832.45659999999,112978.28685,127676.67444999999,121629.66464999999,123938.82669999999,106506.41755,114823.44445000001,113271.77680000001,99350.457049999997,104667.69885,102092.1915,"-","-","-","-","-","-","-","-"]
[null,null,"Turbina de gas",68714.100000000006,75977.2,118638,79392.3,75151.7,97542.900000000009,87354.8,89376.3,99412.455999999991,108266.6,96352.1,75582,83393.7,82899.7,89609,82886.7,80392,65353.600000000006,62125.700000000004,72732.400000000009,81766.100000000006,74569.3,71644.3,61938.5,64093.9,50347.700000000004,37438.700000000004,42645.200000000004,52445.9,61236.5,61196.200000000004,54908.1,66188.2,47658,38209.599999999999,39215.800000000003,45246.5,28451.8,39054.6,14679.6,49917.4,48675.9,33020,38325.300000000003,51712.104600000021,40566.5,32808.765599999984,22365.200000000001,17538.352000000003,24379.412200000002,26140.864100000003,18107.546600000001,40111.702799999999,41523.754999999997,38763.176400000004,32482.481200000002,36885.841200000003,60557.269500000002,58293.661399999997,51482.091699999997,44836.390300000006,48109.548500000004,63664.058900000004,39120.983200000002,43785.229800000008,37882.861900000004,59875.692499999997,56833.608000000007,73668.093200000003,74528.123800000001,75476.553100000005,69656.163199999995,65975.167700000005,61690.957900000001,67062.323900000003,57234.633300000009,56826.892200000002,55282.188000000002,54585.3802,64317.542900000008,79048.830900000001,83358.705300000001,62766.109900000003,70122.670800000007,44814.238300000005,36868.495300000002,41059.384599999998,47187.076300000001,33247.851000000002,28954.279900000001,41208.822200000002,43341.884300000005,36894.872300000003,46288.096400000002,42562.244399999996,37052.785900000003,34119.025199999996,42401.417499999996,25079.262000000002,27398.686900000001,31997.262699999999,37406.326100000006,33774.664299999997,25233.867100000003,65090.434500000003,47320.311999999998,47529.970800000003,51616.354400000004,36226.860800000002,37109.2189,31152.846399999999,30645.966,48022.352300000006,45766.715799999998,36483.827900000004,32584.203600000001,42217.106100000005,31034.8298,28963.4202,25939.504500000003,23959.429000000004,28077.925199999998,23842.317199999998,24782.117100000003,22681.874800000001,18375.519499999999,20267.296399999999,40603.457699999999,48878.066899999998,35331.735400000005,33510.139000000003,38360.933000000005,40406.457000000002,30279.762500000001,32123.921699999999,24091.026700000002,30715.102600000002,30009.654999999999,36449.965500000006,36935.797599999998,41621.962200000002,39209.271399999998,33586.372300000003,33220.123299999999,30519.037920000002,27721.527680000003,21616.869120000003,24663.135840000003,30504.783680000004,26919.427360000005,21360.208800000004,25169.432960000002,31929.204160000005,28182.540960000002,28715.787520000005,21174.310079999999,24579.103360000005,21215.341280000001,21367.724000000002,22410.311840000002,"-","-","-","-","-","-","-","-"]
[null,null,"Turbina de vapor",310039.51,272262.57,312607.16000000003,265438.94,244058.47,222442.15,226562.85,236636.76,253385.67,232355.86000000002,241188.22,235713.83000000002,238267.24,217688.66,241140.16,262627.43,198381,249202.67,226036.86000000002,267031.15000000002,257894.41,264899.59999999998,249755.36000000002,270131.91000000003,289583.75,277048.09999999998,257079.17,241402.71,254506.18,203341.86000000002,243452.38,242981.57,253737.22,266027.23,251619.02,257895.30000000002,252658.54,219131.35,246949.19,222954.79,257876.61000000002,226554.84,237429.75,250785.09,250261.77,264825.73,221961.55000000002,235439.71,244957.90844999999,212785.90899,229622.69224999999,208198.63806,226617.32601000002,227508.06114999999,219290.17050000001,235657.34970999998,227773.42355000001,194970.57339999999,197305.11994,220915.35144000003,212845.48381000001,199883.57186999999,235483.91363000002,203305.41094,196374.77624000001,160524.72272999998,202359.09974999999,192270.35345000002,184399.45421999999,206381.79206000001,163428.53196000002,187265.54347,208647.58788000001,176858.51181,201844.11904999998,182067.50380999999,176038.09468000001,197056.71382,210708.71663000001,207334.95447,197552.54795000001,209651.60311,217670.82884999999,201278.19297,172721.22665999999,173341.59315,193748.53754000002,182969.36217000001,174252.31769000003,156749.25105999998,190411.02953000003,189984.49614,180993.67609000002,198300.87685999999,183456.95223,195850.00998999999,192860.78123000002,157300.48324,133660.40470000001,135577.97199999998,129936.65538,150210.76460000002,163140.88307000001,160596.86257,144243.04404000001,151105.21460000001,150208.79147,174144.71401999998,179899.69699,156817.32271000001,162005.98355,142017.09886,133926.47464999999,164769.21995,181590.80201000001,183578.65439000001,192899.70983000001,145150.27889000002,138574.28782999999,197196.47497000001,204127.95161000002,183899.31248999998,195122.54980000001,172412.01485000001,154184.82464000001,182023.78345000002,197958.59265000001,210309.93166,199364.97242999999,185635.48978,153114.36468,219013.48463000002,187426.29438000001,175800.27511000002,193721.01428999999,213703.65919000001,187416.05938000002,218204.41144000003,213166.83432999998,210228.86512,196645.38430000001,197546.33486,185864.09518,200487.29892,207346.30560000002,189368.24489999999,175682.74679999999,170602.7499,167768.26739999998,180027.7641,186024.35520000002,193449.55410000001,169744.80960000001,181732.16070000001,201623.6286,186518.54699999999,196785.5508,191683.6299,188154.27900000001,179959.11660000001,"-","-","-","-","-","-","-","-"]
[null,null,"Ciclo combinado",98232.42,84056.7,61910.16,108669.6,120717.48000000001,131053.26000000001,146608.80000000002,160800.9,156141.18,168643.02000000002,159254.16,169681.98,158790.06,132865.20000000001,155496.12,118652.04000000001,190260.72,144596.4,179006.1,147597.84,152524.32,179892.96,176931.30000000002,169141.44,155833.86000000002,130721.76000000001,171349.62,168006.54,151561.02000000002,187236.66,170546.22,172646.76,178542,169869.96,171135.12,179737.74000000002,170120.34,160038.84,173661.54,154494.6,115893.96,157951.56,183058.2,165342.06,157361.1,180899.16,188445.66,183548.82,179479.45392,158364.73224000001,178191.52884000001,168865.89251999999,150768.34344,148449.84102000002,170572.03956,174953.48598,183344.74859999999,208210.78668000002,197949.81881999999,193409.27267999999,197087.06237999999,148718.64306,146057.86416,165530.63982000001,191509.15056000001,214140.49020000003,172529.83800000002,196670.71476,199697.51178,209346.30132000003,226359.30720000001,205761.114,201452.84951999999,181423.17180000001,177498.28667999999,164543.68710000001,194106.78612,178216.8726,181477.59239999999,181552.40142000001,212533.25808000003,198026.38440000001,178736.11703999998,189285.70128000001,216865.86402000001,172966.95234000002,190436.32217999999,189291.57,193685.32482000001,189748.54158000002,204435.14676,209902.30403999999,209839.70981999999,192406.36584000001,167250.37134000001,161168.81664,192795.36431999999,177001.59594,216893.37617999999,213090.77712000001,216836.01965999999,194993.07438000001,209879.79636000001,204963.10146000001,246600.2058,223231.80204000001,231530.80860000002,199845.60102,198490.54524000001,175447.70334000001,197346.49428000001,202090.35678,202175.04449999999,187919.80506000001,198923.51543999999,198387.9339,202441.74366000001,272242.70658,241470.01085999998,209748.43578,191296.13568000001,169173.18444000001,180496.32588000002,191076.48300000001,209536.72584,184272.91974000001,186412.93398,191356.43826,186187.24566000002,228073.42038,235912.76903999998,192705.73608,218820.50034,182674.28244000001,194295.79026000001,170328.78719999999,198064.55136000001,166431.26604000002,179196.74136000001,202704.73782000001,183030.52170000001,225412.78812000001,219131.14236000003,197862.91044000001,140340.97500000001,129130.06319999999,156503.5086,147802.60979999998,149170.07339999999,140968.94159999999,138087.35759999999,151073.43119999999,168884.80439999999,190241.48579999999,154018.17959999997,164391.53459999998,158704.36379999999,133178.89379999999,134713.68840000001,137816.1882,"-","-","-","-","-","-","-","-"]
[null,null,"Generación auxiliar","-","-","-","-","-","-","-","-","-","-","-","-",9006.5399999999991,8527.02,8621.74,8614.34,8080.0599999999995,6984.12,7906.9,9221.14,8380.5,8830.42,7440.7,6688.12,7549.48,7147.66,8037.14,7423.68,5053.46,4743.3999999999996,5675.8,5814.92,3804.34,3499.46,4060.38,3603.06,3244.9,2892.66,3449.14,1913.6399999999999,2089.02,2373.92,3925.7,2479.7399999999998,1243.2,600.14,665.26,125.8,"-","-","-","-","-","-","-","-","-","-","-","-","-","-","-","-","-","-","-","-","-","-","-","-","-","-","-","-","-","-","-","-","-","-","-","-","-","-","-","-","-","-","-","-","-","-","-","-","-","-","-","-","-","-","-","-","-","-","-","-","-","-","-","-","-","-","-","-","-","-","-","-","-","-","-","-","-","-","-","-","-","-","-","-","-","-","-","-","-","-","-","-","-","-","-","-","-","-","-","-","-","-","-","-","-","-","-","-","-","-","-","-","-","-","-","-","-","-","-","-"]
[null,null,"Térmica no renovable/Cogeneración y resto",1132.8748000000001,"-","-","-","-","-","-","-","-","-","-","-","-","-","-","-","-","-","-","-","-","-","-","-","-","-","-","-","-","-","-","-","-","-","-","-","-","-","-","-",4,4,"-","-","-","-","-","-","-","-","-","-","-","-","-","-","-","-","-","-",987.13880000000017,2016.7812000000004,2103.2368000000001,1917.828,2467.61,430.35159999999996,"-","-","-","-","-","-","-","-","-","-","-","-","-","-","-","-","-","-","-","-","-","-","-","-","-","-","-","-","-","-","-","-","-","-","-","-","-","-","-","-","-","-","-","-","-","-","-","-","-","-","-","-","-","-","-","-","-","-","-","-","-","-","-","-","-","-","-","-","-","-","-","-","-","-","-","-","-","-","-","-","-","-","-","-","-","-","-","-","-","-","-","-","-","-","-","-","-","-","-","-","-","-"]
[null,null,"Cogeneración","-","-","-","-","-","-","-","-","-","-","-","-","-","-","-","-","-","-","-","-","-","-","-","-","-","-","-","-","-","-","-","-","-","-","-","-","-","-","-","-","-","-","-","-","-","-","-","-","-","-","-","-","-","-","-","-","-","-","-","-","-","-","-","-","-","-","-","-","-","-","-","-","-","-","-","-","-","-","-","-","-","-","-","-","-","-","-","-","-","-","-","-","-","-","-","-","-","-","-","-","-","-","-","-","-","-","-","-","-","-","-","-","-","-","-","-","-","-","-","-","-","-","-","-","-","-","-","-","-","-","-","-","-","-","-","-","-","-","-","-","-","-","-","-","-","-","-","-","-","-","-","-","-","-","-","-","-","-","-","-","-","-","-","-","-","-","-","-"]
[null,null,"Emisiones (tCO2)",613839.56480000005,553950.85,621459.08000000007,571172.48,580031.21,596770.35,604859.57000000007,633785.02,658603.24600000004,656576.84000000008,626337.26,620253.99,643296.10000000009,567567.67999999993,634453.15999999992,603158.87,609187.9,603695.89,625186.4,643072.25,639802.14999999991,669287.22,645311.88,646845.69000000006,656382.27,604626.68000000005,608884.01,599702.2300000001,614954.1399999999,596561.94000000006,628783.02,625104.27,653508.46,632682.54999999993,604268.31999999995,627488.56000000006,615179.46,542888.89,600814.61,526655.49,569215.39,580780.57999999996,606634.29,607771.18999999994,612410.19459999993,645543.49,594005.19559999998,600953.94999999995,596021.26368999993,532433.43961,588096.47282999998,537334.83265999996,550447.17516999994,552617.68095000007,577329.49267999991,605729.54782999994,603738.03287,628054.02864000003,605154.40347999998,617850.22448000009,610174.41628999996,537924.44334999996,600890.73650999996,554838.17327999999,573571.85931999993,559949.75211,588247.63824999996,597974.46867000009,611841.43313999998,636367.92374,606980.18706000003,608803.3955300001,623128.72331999999,564846.01441000006,593703.23202999996,549795.96534999995,574145.22950000002,564821.75523999997,588194.62020999996,615430.54096999997,630061.78607000003,634193.09886999999,593489.78640999994,600946.36210999999,581884.09357999999,519295.79931000003,572051.51670000004,547302.05177000002,537333.57359000004,507485.66649999999,572543.58111000003,592231.63887999998,567592.68325,583833.84855999995,540228.64121000003,543060.23578999995,568825.41127000004,513115.68235999998,526337.28981999995,517974.87465999997,521008.80562,526332.47200000007,552364.04875000007,548485.00615000003,605665.70976,568720.03839999996,565122.56001000002,578986.4952,564620.72803,506334.57029000006,542193.03406999994,517983.92781999998,534704.69936999993,531550.54269000003,567830.06055000005,578092.23558999994,599802.91417,604844.67011000006,557365.36198999989,591851.1757100001,575993.97395000001,521104.88153000001,554613.56344000006,534674.62280999997,535231.68359999999,527996.76483,564841.79252999998,605483.21146000002,575771.07247000001,611199.24864000001,573785.15669999993,603929.69515000004,600749.90917999996,524981.55226999999,568047.62928999995,557524.34479,569984.81012000004,560173.82880000002,583725.44429000001,617829.21990000003,577404.84504000004,630732.86369999999,590908.50230000005,583456.88101999997,498112.43926999997,453807.09412999998,468317.90542000002,454520.48553999997,459339.56302999996,453748.58966000006,458450.20845000003,497369.09271,492188.48280999996,524095.01416000002,490864.01326999994,486907.83612999995,493340.79476000002,445428.32202999992,448903.39025000005,442277.80813999998,"-","-","-","-","-","-","-","-"]
[null,null,"Factor de emision de CO2 (tCO2/MWh)",0.85059857439001418,0.85140032429856982,0.86080745315804863,0.825935628287923,0.81403661844928754,0.8320940307393706,0.7924924630226261,0.81463684307265971,0.84406433712209472,0.83926352858466757,0.84575024643180252,0.81658031135832532,0.83056425259738509,0.82650391941856005,0.82922913246688057,0.83043702801126229,0.80886194104166287,0.81411761294829366,0.77724990271732575,0.79569143756503702,0.82343360879699035,0.82707389681212717,0.82857109106667093,0.8186552246966331,0.82895807864453364,0.82134517525151407,0.78445126264025222,0.78874147736240163,0.79878386154419667,0.79261534577825021,0.79295579479949208,0.76726082025525277,0.82481410054145465,0.79389380075689886,0.79571285414238768,0.79414858126407983,0.7962725382940663,0.7877762170586281,0.79896622295509245,0.74010254385200636,0.78432736652533908,0.78939685508347524,0.74688236713607858,0.75050436086177486,0.79644824459707608,0.80330545078514548,0.78157188815874634,0.78477081891429534,0.79150059046692656,0.79249476303857125,0.78392443171356208,0.75611539877378275,0.76301676396147189,0.76679639530307542,0.76356653976666233,0.77405444323204264,0.7864338262346694,0.81795642463005314,0.81815946339588708,0.82037591460362658,0.81955629745747405,0.80408031657136336,0.81556856926179311,0.79585679021987643,0.79943580272556802,0.7707833039549068,0.77154198700084053,0.77109585465205677,0.80363567524169643,0.81561075300254671,0.82466970337806444,0.8052144352843571,0.82174248714394937,0.79835958161507314,0.79902089482905891,0.79777279782003574,0.79470766871866005,0.7778942269840895,0.76524770314401958,0.7742396127398844,0.82463347039347745,0.82854426688186722,0.82493609882192309,0.82520938592452109,0.79471369584102602,0.78726170857511579,0.80521862815100664,0.78616614854111411,0.76477804810708727,0.74315621910172114,0.76578547064976421,0.77125335995922684,0.78734565858117866,0.7980599237694106,0.79583587067698658,0.8038080047851317,0.78847259331544395,0.78176021542928387,0.74630330192050076,0.76846457386581335,0.74972813118640269,0.76685129931329865,0.75655252535528461,0.73588006703450959,0.81219025842633641,0.80200700179761553,0.79987298451890865,0.8042159410837828,0.77527738172938543,0.76820872583563837,0.76129075041168703,0.77097822621167911,0.76244893509627554,0.77861983038579341,0.74298964788497923,0.75669018475902505,0.80326455382982886,0.79918525765209913,0.78140269329516054,0.80772695758616109,0.79460851536832267,0.76711380497908044,0.77187815241311686,0.77622963118766852,0.76619734942159379,0.747541497684442,0.74128670018632237,0.76538653577192006,0.76948798013420605,0.80294516950797679,0.79533008336532096,0.81198518972846945,0.80593518095051253,0.78920363282566042,0.77105489108043723,0.79011071955232903,0.78188036385423954,0.76719632232890367,0.75824258493548402,0.76552747325052539,0.76075892040650961,0.79853606290127854,0.79448673119562052,0.77851583511421485,0.65950069326673655,0.66499327412606934,0.64162214484780611,0.64633656902234449,0.64158194663561718,0.64141745272613937,0.60398489680625322,0.63570324598246264,0.64358214615637244,0.67306621115091592,0.68066297378059848,0.65754055327575145,0.65315392409046313,0.65656181174515305,0.60836093355515131,0.63149977306060501,"-","-","-","-","-","-","-","-"]
[]
[null,null,"Emisiones de CO2 asociadas a la generación mensual Ceuta","2007-01-01","2007-02-01","2007-03-01","2007-04-01","2007-05-01","2007-06-01","2007-07-01","2007-08-01","2007-09-01","2007-10-01","2007-11-01","2007-12-01","2008-01-01","2008-02-01","2008-03-01","2008-04-01","2008-05-01","2008-06-01","2008-07-01","2008-08-01","2008-09-01","2008-10-01","2008-11-01","2008-12-01","2009-01-01","2009-02-01","2009-03-01","2009-04-01","2009-05-01","2009-06-01","2009-07-01","2009-08-01","2009-09-01","2009-10-01","2009-11-01","2009-12-01","2010-01-01","2010-02-01","2010-03-01","2010-04-01","2010-05-01","2010-06-01","2010-07-01","2010-08-01","2010-09-01","2010-10-01","2010-11-01","2010-12-01","2011-01-01","2011-02-01","2011-03-01","2011-04-01","2011-05-01","2011-06-01","2011-07-01","2011-08-01","2011-09-01","2011-10-01","2011-11-01","2011-12-01","2012-01-01","2012-02-01","2012-03-01","2012-04-01","2012-05-01","2012-06-01","2012-07-01","2012-08-01","2012-09-01","2012-10-01","2012-11-01","2012-12-01","2013-01-01","2013-02-01","2013-03-01","2013-04-01","2013-05-01","2013-06-01","2013-07-01","2013-08-01","2013-09-01","2013-10-01","2013-11-01","2013-12-01","2014-01-01","2014-02-01","2014-03-01","2014-04-01","2014-05-01","2014-06-01","2014-07-01","2014-08-01","2014-09-01","2014-10-01","2014-11-01","2014-12-01","2015-01-01","2015-02-01","2015-03-01","2015-04-01","2015-05-01","2015-06-01","2015-07-01","2015-08-01","2015-09-01","2015-10-01","2015-11-01","2015-12-01","2016-01-01","2016-02-01","2016-03-01","2016-04-01","2016-05-01","2016-06-01","2016-07-01","2016-08-01","2016-09-01","2016-10-01","2016-11-01","2016-12-01","2017-01-01","2017-02-01","2017-03-01","2017-04-01","2017-05-01","2017-06-01","2017-07-01","2017-08-01","2017-09-01","2017-10-01","2017-11-01","2017-12-01","2018-01-01","2018-02-01","2018-03-01","2018-04-01","2018-05-01","2018-06-01","2018-07-01","2018-08-01","2018-09-01","2018-10-01","2018-11-01","2018-12-01","2019-01-01","2019-02-01","2019-03-01","2019-04-01","2019-05-01","2019-06-01","2019-07-01","2019-08-01","2019-09-01","2019-10-01","2019-11-01","2019-12-01"]
[null,null,"Motores diesel",13849.99,12373.130000000001,12866.7,12072.06,12601.82,12493.25,13414.17,13406.470000000001,12945.24,13304.83,12972.19,13736.03,14130.27,13229.37,12887.49,12561.01,12869.01,12829.74,13918.52,13953.94,13402.62,13219.36,13452.67,14992.67,14997.29,12950.630000000001,13254.01,11885.720000000001,12509.42,13329.470000000001,14411.32,12870.550000000001,13819.960000000001,14001.68,12393.15,13980.12,12963.281870000001,13034.844129999999,13432.347390000001,12500.23929,13337.119950000002,13677.578530000001,14933.70571,15570.389450000001,14561.492329999999,14193.69875,13736.20787,13352.10261,12880.094150000001,11716.92368,12650.605660000001,11530.562120000001,12282.56337,13340.522579999999,14341.547219999999,14208.81385,12850.26974,13644.13358,12898.217640000001,13709.2417,14260.256009999999,13776.98784,13489.799400000002,12831.28,13371.056160000002,13446.510770000001,13657.811860000002,14258.29405,13183.614290000001,13575.996280000001,13349.979719999999,13661.721149999999,13759.648209999999,11947.004300000001,11868.224830000001,11197.45781,11999.00856,12130.320510000001,13757.367469999999,14593.99942,13341.729169999999,13046.35871,13455.740760000001,14216.292090000001,14478.494030000002,13256.30768,13595.7129,11392.17772,13159.795110000001,13323.00123,14073.685009999999,14341.985350000001,14255.087,14010.35405,13366.229800000001,14104.69137,14397.67945,12322.573340000001,12240.76007,11659.22219,12765.788420000001,13002.57728,14637.31115,14329.72926,12771.305470000001,13063.67678,12158.453230000001,13159.051289999999,13329.172780000001,13075.293000000001,13044.008670000001,12539.980530000001,13050.05471,13045.738090000001,14085.099490000001,14772.564730000002,13945.031870000001,13752.72206,13427.243829999999,14062.74408,14275.548209999999,12095.230070000001,12591.18476,11503.11162,12705.8932,13216.86982,13535.353370000001,14378.22078,13124.30042,12286.71521,12573.087449999999,13753.70304,14278.501160000002,13162.153619999999,13538.03066,12562.63701,12578.18793,12307.070930000002,13216.038990000001,13637.59705,13914.856339999998,13674.09967,13385.985690000001,13316.66721,13729.007600000001,12334.513730000001,12780.158160000001,11719.271410000001,"-","-","-","-","-","-","-","-"]
[null,null,"Turbina de gas","-","-","-","-","-","-","-","-","-","-","-","-","-","-","-","-","-","-","-","-","-","-","-","-","-","-","-","-","-","-",117.66,1375.66,"-","-",759.24,154.66,1512.0309,410.03474,"-",109.0057,89.59254,"-","-","-","-","-","-",2.2976999999999999,19.683260000000001,23.459480000000003,"-","-",129.16478000000001,23.701460000000001,15.79974,0.70077999999999996,"-",2.87934,4.9691000000000001,6.0938999999999997,"-",105.91176,81.462159999999997,7.6123800000000008,100.12200000000001,18.643560000000001,12.622179999999998,29.301780000000001,1.67906,43.030999999999999,14.844399999999998,"-",26.834619999999997,30.654499999999999,2.368E-2,24.494,87.217140000000001,6.7599,"-","-","-","-",8.1932799999999997,7.8846999999999996,1.8877400000000002,"-",58.331239999999994,"-",0.18722,0.16058,"-",0.16650000000000001,0.19018000000000002,0.23383999999999999,7.3163800000000005,"-",0.12654000000000001,171.02584000000002,0.40478000000000003,0.34927999999999998,50.166080000000001,7.1868799999999995,108.11843999999999,0.72741999999999996,0.38184000000000001,"-",227.96736000000001,0.22347999999999998,0.40552000000000005,0.50246000000000002,0.39294000000000001,0.32190000000000002,0.39294000000000001,0.14133999999999999,0.47360000000000002,0.71557999999999999,71.743739999999988,3.0991199999999997,12.389819999999999,0.39960000000000001,0.28267999999999999,11.709020000000001,0.3256,0.43585999999999997,0.42845999999999995,4.5065999999999997,2.6632600000000002,0.3145,97.965639999999993,5.78606,32.828620000000001,"-",0.40922000000000003,3.9664000000000001,2.3058399999999999,0.40922000000000003,5.6195599999999999,0.38331999999999999,0.66896,0.44325999999999999,3.1043000000000003,70.714399999999998,0.46694000000000002,0.37222,0.26566000000000001,0.50172000000000005,0.46398,0.93313999999999986,"-","-","-","-","-","-","-","-"]
[null,null,"Emisiones (tCO2)",13849.99,12373.130000000001,12866.7,12072.06,12601.82,12493.25,13414.17,13406.470000000001,12945.24,13304.83,12972.19,13736.03,14130.27,13229.37,12887.49,12561.01,12869.01,12829.74,13918.52,13953.94,13402.62,13219.36,13452.67,14992.67,14997.29,12950.630000000001,13254.01,11885.720000000001,12509.42,13329.470000000001,14528.98,14246.210000000001,13819.960000000001,14001.68,13152.39,14134.78,14475.31277,13444.878869999999,13432.347390000001,12609.244989999999,13426.712490000002,13677.578530000001,14933.70571,15570.389450000001,14561.492329999999,14193.69875,13736.20787,13354.400309999999,12899.777410000001,11740.383159999999,12650.605660000001,11530.562120000001,12411.728149999999,13364.224039999999,14357.346959999999,14209.51463,12850.26974,13647.012919999999,12903.186740000001,13715.3356,14260.256009999999,13882.899600000001,13571.261560000001,12838.892380000001,13471.178160000001,13465.154330000001,13670.434040000002,14287.59583,13185.293350000002,13619.027280000002,13364.824119999999,13661.721149999999,13786.482829999999,11977.658800000001,11868.248510000001,11221.95181,12086.225700000001,12137.08041,13757.367469999999,14593.99942,13341.729169999999,13046.35871,13463.93404,14224.176790000001,14480.381770000002,13256.30768,13654.04414,11392.17772,13159.982330000001,13323.16181,14073.685009999999,14342.15185,14255.277179999999,14010.587890000001,13373.546180000001,14104.69137,14397.805989999999,12493.599180000001,12241.164850000001,11659.571470000001,12815.954500000002,13009.764159999999,14745.42959,14330.456679999999,12771.687310000001,13063.67678,12386.420590000002,13159.27477,13329.578300000001,13075.795460000001,13044.401610000001,12540.302430000002,13050.44765,13045.879430000001,14085.57309,14773.280310000002,14016.775610000001,13755.821180000001,13439.63365,14063.143680000001,14275.830889999999,12106.939090000002,12591.51036,11503.547479999999,12706.32166,13221.376420000001,13538.01663,14378.53528,13222.26606,12292.501270000001,12605.916069999999,13753.70304,14278.910380000001,13166.120019999998,13540.336500000001,12563.04623,12583.807489999999,12307.454250000003,13216.707950000002,13638.04031,13917.960639999999,13744.81407,13386.452630000002,13317.039429999999,13729.27326,12335.015450000001,12780.622140000001,11720.20455,"-","-","-","-","-","-","-","-"]
[null,null,"Factor de emision de CO2 (tCO2/MWh)",0.77,0.77,0.77,0.77,0.77,0.77,0.77,0.77,0.77,0.77,0.77,0.77,0.77,0.77,0.77,0.77,0.77,0.77,0.77,0.77,0.77,0.77,0.77,0.77,0.77,0.77,0.77,0.77000000000000013,0.77,0.77,0.76974728476821186,0.76699741574243574,0.77,0.77,0.76820220781496407,0.76965858970868506,0.76675303394574079,0.76904916010151891,0.77,0.76973023338323954,0.76979175961755775,0.77,0.77,0.77,0.77,0.77,0.77,0.76999462911115157,0.76995237135694339,0.76993762921774656,0.77,0.77,0.76967528008310582,0.76994464200046731,0.76996564921787647,0.76999846049236498,0.77,0.76999341384581921,0.76998797862253576,0.76998613048349063,0.77,0.7697619270990318,0.76981266872475518,0.76998149186229081,0.76976806122497965,0.76995678113150046,0.76997117853386277,0.76993598540529107,0.76999602484161567,0.76990138113891826,0.769965329499952,0.77,0.76993924417020132,0.76992011642336278,0.76999993771617281,0.76993187082241388,0.76977480208412352,0.76998261412726343,0.77,0.77,0.77,0.77,0.76998100429713723,0.76998269671611663,0.76999593050863602,0.77,0.76986666475713583,0.77,0.76999955590391522,0.76999962376066422,0.77,0.76999963760685231,0.7699995835439245,0.76999947899437793,0.76998292265704138,0.77,0.76999972564579666,0.76957291583125231,0.76999896777118715,0.76999906487242809,0.76987782831687512,0.7699827558614446,0.76977118024122559,0.76999841545501446,0.76999906671802532,0.77,0.76942590576387038,0.76999946986476697,0.76999905032371607,0.76999880046490377,0.76999905966671478,0.7699991987043695,0.76999906010235397,0.76999966180140755,0.76999895041687316,0.76999848796911274,0.76984025545243129,0.76999296720165711,0.76997122325981471,0.76999911300162227,0.7699993818788563,0.76996981095164985,0.76999919279029649,0.76999881724493036,0.76999894738366659,0.76998935987815642,0.76999385905341722,0.76999931721200365,0.76976878408786853,0.76998530685907918,0.7699187145850912,0.77,0.76999910537395233,0.76999059597758146,0.76999468409791239,0.76999898318585347,0.76998606000414971,0.76999902776117246,0.76999842000313323,0.76999898542008582,0.76999303751273052,0.76983943211797867,0.76999891113203855,0.76999912748723953,0.76999939596995859,0.7699987302995901,0.76999886674697648,0.7699975146333109,"-","-","-","-","-","-","-","-"]
[]
[null,null,"Emisiones de CO2 asociadas a la generación mensual Melilla","2007-01-01","2007-02-01","2007-03-01","2007-04-01","2007-05-01","2007-06-01","2007-07-01","2007-08-01","2007-09-01","2007-10-01","2007-11-01","2007-12-01","2008-01-01","2008-02-01","2008-03-01","2008-04-01","2008-05-01","2008-06-01","2008-07-01","2008-08-01","2008-09-01","2008-10-01","2008-11-01","2008-12-01","2009-01-01","2009-02-01","2009-03-01","2009-04-01","2009-05-01","2009-06-01","2009-07-01","2009-08-01","2009-09-01","2009-10-01","2009-11-01","2009-12-01","2010-01-01","2010-02-01","2010-03-01","2010-04-01","2010-05-01","2010-06-01","2010-07-01","2010-08-01","2010-09-01","2010-10-01","2010-11-01","2010-12-01","2011-01-01","2011-02-01","2011-03-01","2011-04-01","2011-05-01","2011-06-01","2011-07-01","2011-08-01","2011-09-01","2011-10-01","2011-11-01","2011-12-01","2012-01-01","2012-02-01","2012-03-01","2012-04-01","2012-05-01","2012-06-01","2012-07-01","2012-08-01","2012-09-01","2012-10-01","2012-11-01","2012-12-01","2013-01-01","2013-02-01","2013-03-01","2013-04-01","2013-05-01","2013-06-01","2013-07-01","2013-08-01","2013-09-01","2013-10-01","2013-11-01","2013-12-01","2014-01-01","2014-02-01","2014-03-01","2014-04-01","2014-05-01","2014-06-01","2014-07-01","2014-08-01","2014-09-01","2014-10-01","2014-11-01","2014-12-01","2015-01-01","2015-02-01","2015-03-01","2015-04-01","2015-05-01","2015-06-01","2015-07-01","2015-08-01","2015-09-01","2015-10-01","2015-11-01","2015-12-01","2016-01-01","2016-02-01","2016-03-01","2016-04-01","2016-05-01","2016-06-01","2016-07-01","2016-08-01","2016-09-01","2016-10-01","2016-11-01","2016-12-01","2017-01-01","2017-02-01","2017-03-01","2017-04-01","2017-05-01","2017-06-01","2017-07-01","2017-08-01","2017-09-01","2017-10-01","2017-11-01","2017-12-01","2018-01-01","2018-01-01","2018-03-01","2018-04-01","2018-05-01","2018-06-01","2018-07-01","2018-08-01","2018-09-01","2018-10-01","2018-11-01","2018-12-01","2019-01-01","2019-02-01","2019-03-01","2019-04-01","2019-05-01","2019-06-01","2019-07-01","2019-08-01","2019-09-01","2019-10-01","2019-11-01","2019-12-01"]
[null,null,"Motores diesel",10972.5,9696.61,10363.43,10575.603499999999,11573.1,12102.128499999999,13698.9622,13117.535199999998,12499.718000000001,12452.5324,10933.23,12052.81,11962.720000000001,11259.710000000001,11053.35,11160.380000000001,11528.44,12342.33,13932.380000000001,14804.02,12997.6,12132.89,11902.66,13629.77,13669.81,11695.53,11903.43,10915.52,11720.94,12460.91,14481.390000000001,14921.83,12660.34,13369.51,11879.56,12437.04,13053.234040000001,11746.728070000001,12618.592139999999,11556.03757,12077.772629999999,12919.207839999999,14603.31565,15852.952500000001,13737.388279999999,12952.64971,12932.476479999999,13582.482760000001,13188.662410000001,12059.425070000001,12577.70976,11464.132680000001,12492.5339,13378.69533,14423.282720000001,15540.914620000001,13876.357109999999,13453.63096,12981.932809999998,14136.38688,14620.36191,14194.203099999999,13548.58813,12317.63456,13139.386259999999,14067.889990000001,15433.883080000001,16150.391180000001,13620.93194,13440.643370000002,12037.276019999999,12824.96831,13175.35758,11957.129800000001,12195.00128,11661.659240000001,12345.691049999999,12132.04839,13987.025360000001,15161.149080000001,13599.47897,12954.787230000002,12824.10283,13128.458420000001,13177.759979999999,11695.346740000001,12374.18952,11491.595499999999,12228.98292,12673.33144,13872.504800000002,14705.211289999999,13809.981570000002,12931.960580000001,12396.14453,12681.843790000001,13326.615610000001,12398.19966,12160.698550000001,11526.014500000001,12212.19384,12671.615110000001,16114.358260000001,15783.185880000001,13126.60118,12751.285470000001,12346.732090000001,12598.668389999999,12380.954740000001,11771.53131,12018.322469999999,11286.480590000001,12078.738210000001,12675.96946,13797.72933,15194.816559999999,13746.289480000001,12770.161250000001,12496.78045,12434.96947,13597.91048,11350.837960000001,12008.685149999999,10959.786529999999,11968.51656,13192.343010000001,14495.519499999999,15474.951800000001,13034.535360000002,12684.602699999999,12488.82173,12987.551500000001,13163.395629999999,12355.52318,12047.00805,11499.621210000001,11966.39752,12449.757320000001,13995.69556,15761.26398,14294.3493,12960.489080000001,12620.976060000001,12513.04593,13417.807479999999,11533.90084,11963.996660000001,11202.10707,"-","-","-","-","-","-","-","-"]
[null,null,"Turbina de gas",287.86,148.74,190.18,78.032999999999987,51.06,0.70299999999999996,91.123599999999982,171.11759999999998,27.823999999999995,36.171199999999999,358.15999999999997,344.1,620.12,320.42,361.12,126.53999999999999,33.299999999999997,100.64,151.69999999999999,56.24,157.62,185,160.57999999999998,6.66,7.4,8.14,56.98,39.22,1.48,46.62,"-",45.14,57.72,5.18,93.24,42.18,12.37354,16.137179999999997,2.4057399999999998,17.862120000000001,25.874839999999999,68.459620000000001,78.748580000000004,25.344999999999999,27.919460000000001,24.929860000000001,39.755020000000002,29.046480000000003,25.404199999999999,1.72864,4.7648599999999997,33.647799999999997,18.352739999999997,27.066979999999997,105.90288,27.3504,7.8536199999999994,98.738940000000014,36.347320000000003,7.9335399999999998,3.49946,"-","-",1.2032399999999999,3.6082400000000003,6.6947800000000006,16.681819999999998,"-",54.703020000000002,2.6077599999999999,1.36456,13.39992,3.1028199999999995,0.68376000000000003,"-","-",0.94572000000000001,0.26122000000000001,0.28120000000000001,"-","-",52.463039999999999,"-",11.586180000000001,2.4123999999999999,34.942059999999998,7.5790800000000003,"-","-",50.075060000000001,22.897819999999999,"-",41.039660000000005,72.719059999999999,156.9059,178.49835999999999,232.44731999999999,"-",41.266100000000002,"-","-",1.5288399999999998,96.173360000000002,0.69633999999999996,"-","-",78.566540000000003,1.83002,"-",0.20276000000000002,0.42179999999999995,84.693739999999991,9.5681999999999992,22.584059999999997,45.147399999999998,11.43596,12.778320000000001,"-","-",2.21482,"-",3.03104,0.33522000000000002,"-","-",9.3979999999999994E-2,"-","-","-","-",7.4022199999999998,46.319560000000003,32.780520000000003,6.4150600000000004,0.36703999999999998,0.42845999999999995,0.40774000000000005,0.91538000000000008,6.8642399999999997,0.6956,0.25529999999999997,"-",0.24346000000000001,0.28194000000000002,0.41514000000000001,0.37962000000000001,0.74887999999999999,1.1440399999999999,"-","-","-","-","-","-","-","-"]
[null,null,"Térmica no renovable/Cogeneración y resto",276.39,256.77999999999997,309.32,242.72,327.82,312.64999999999998,271.20999999999998,297.85000000000002,101.75,226.07,295.63,315.61,346.69,294.89,314.13,299.7,279.35000000000002,256.77999999999997,"-","-","-","-","-","-",303.02999999999997,268.62,289.33999999999997,328.56,303.02999999999997,276.39,289.70999999999998,268.99,261.58999999999997,0.37,"-",272.32,258.63,224.22,288.96999999999997,298.95999999999998,340.77,262.7,285.64,294.89,331.89,179.82,"-",203.87,"-","-","-","-","-","-","-","-","-","-","-","-","-","-","-","-","-","-","-","-","-","-","-","-","-","-","-","-","-","-","-","-","-","-","-","-","-","-","-","-","-","-","-","-","-","-","-","-","-","-","-","-","-","-","-","-","-","-","-","-","-","-","-","-","-","-","-","-","-","-","-","-","-","-","-","-","-","-","-","-","-","-","-","-","-","-","-","-","-","-","-","-","-","-","-","-","-","-","-","-","-","-","-","-","-","-","-","-"]
[null,null,"Residuos no renovables","-","-","-","-","-","-","-","-","-","-","-","-","-","-","-","-","-","-","-","-","-","-","-","-","-","-","-","-","-","-","-","-","-","-","-","-","-","-","-","-","-","-","-","-","-","-","-","-",111.43188000000001,95.501999999999995,103.34316,89.601240000000004,80.907480000000007,80.373360000000005,91.773719999999997,81.124319999999997,83.164319999999989,25.100999999999999,1.90404,0,0,0,0,7.5045599999999997,0,0,0,20.480879999999999,66.247079999999997,5.6702399999999997,80.645039999999995,96.527159999999995,93.678240000000002,77.78604,72.621599999999987,87.072479999999999,75.286680000000004,95.243639999999999,81.454560000000001,77.625839999999997,73.345559999999992,107.12088,19.765559999999997,103.53456,105.34596000000001,102.4008,107.99735999999999,94.033919999999995,82.085759999999993,78.622799999999998,93.011880000000005,83.97059999999999,86.448719999999994,94.721519999999998,21.487679999999997,117.67068,97.575959999999995,92.220479999999995,95.890200000000007,92.299799999999991,95.829719999999995,87.040319999999994,73.446599999999989,79.375799999999998,83.870999999999995,101.76588,26.556119999999996,105.28764,116.87652,99.176759999999987,93.136679999999998,107.97684,89.139240000000001,97.556159999999991,94.821120000000008,96.641999999999996,99.438240000000008,121.04411999999999,26.63796,121.56695999999999,108.48479999999999,102.26112000000001,105.12204,100.99463999999999,108.06419999999999,104.32356,102.15191999999999,81.841439999999992,107.72748,119.34251999999999,20.949719999999999,133.21319999999997,125.05812,116.27531999999999,125.81292000000001,109.51068000000001,114.29375999999999,100.91555999999999,110.86727999999999,113.01396,103.32096,99.408360000000002,26.369039999999998,138.3954,131.86176,117.52727999999999,129.22415999999998,109.52231999999999,"-","-","-","-","-","-","-","-"]
[null,null,null,null,null,null,null,null,null,null,null,null,null,null,null,null,null,null,null,null,null,null,null,null,null,null,null,null,null,null,null,null,null,null,null,null,null,null,null,null,null,null,null,null,null,null,null,null,null,null,null,null,null,null,null,null,null,null,null,null,null,null,null,null,null,null,null,null,null,null,null,null,null,null,null,null,null,null,null,null,null,null,null,null,null,null,null,null,null,null,null,null,null,null,null,null,null,null,null,null,null,null,null,null,null,null,null,null,null,null,null,null,null,null,null,null,null,null,null,null,null,null,null,null,null,null,null,null,null,null,null,null,null,null,null,null,null,null,null,null,null,null,null,null,null,null,null,null,null,null,null,"-","-","-","-","-","-","-","-"]
[null,null,"Emisiones (tCO2)",11536.75,10102.130000000001,10862.93,10896.356499999998,11951.98,12415.481499999998,14061.2958,13586.502799999998,12629.292000000001,12714.7736,11587.019999999999,12712.52,12929.530000000002,11875.02,11728.6,11586.620000000003,11841.09,12699.75,14084.080000000002,14860.26,13155.220000000001,12317.89,12063.24,13636.43,13980.24,11972.29,12249.75,11283.3,12025.45,12783.92,14771.1,15235.96,12979.65,13375.060000000001,11972.8,12751.54,13324.237580000001,11987.08525,12909.967879999998,11872.859689999999,12444.41747,13250.367459999999,14967.704229999999,16173.1875,14097.197739999998,13157.39957,12972.2315,13815.399240000002,13325.498490000002,12156.655710000001,12685.817779999999,11587.381720000001,12591.79412,13486.13567,14620.95932,15649.389340000002,13967.375049999999,13577.4709,13020.184169999999,14144.32042,14623.861370000001,14194.203099999999,13548.58813,12326.342360000001,13142.994499999999,14074.584770000001,15450.564900000001,16170.87206,13741.88204,13448.921370000002,12119.285619999999,12934.89539,13272.138639999999,12035.599600000001,12267.622880000001,11748.731720000002,12421.923449999998,12227.553250000001,14068.761120000001,15238.774920000002,13672.82453,13114.371150000003,12843.86839,13243.579160000001,13285.518339999999,11832.6896,12489.765959999999,11585.629419999999,12311.06868,12802.029299999998,13988.414500000003,14789.18189,13937.469950000002,13099.401159999999,12574.53811,12978.01283,13656.63889,12490.42014,12297.854850000002,11618.314300000002,12308.02356,12760.184270000002,16283.978220000001,15863.258020000001,13210.472179999999,12853.051350000002,12451.85475,12705.786049999999,12497.831260000001,11870.910830000001,12111.880949999999,11479.151170000001,12177.445650000001,12796.10968,13937.69785,15302.89452,13858.50604,12891.205370000001,12523.41841,12558.751249999999,13706.395280000001,11456.13012,12114.14241,11060.78117,12076.580760000001,13296.760550000001,14597.671419999999,15556.793240000001,13142.262840000001,12803.94522,12517.17367,13167.084260000001,13321.234269999999,12478.21356,12173.18801,11609.56035,12081.099020000001,12551.58826,14113.427080000001,15874.973539999999,14397.92556,13059.897440000001,12647.58856,12651.72327,13550.084379999998,11651.80774,12093.9697,11312.773429999999,"-","-","-","-","-","-","-","-"]
[null,null,"Factor de emision de CO2 (tCO2/MWh)",0.74982126608605226,0.74897167852906299,0.7464905167674547,0.75168022213024266,0.74769971848608063,0.74959134818571505,0.75407817879551675,0.75179851704293932,0.76328369394415574,0.75539291825095056,0.74841880893941337,0.74907312474220733,0.74685362754158979,0.74907083832713051,0.74742543971450426,0.74873150242326347,0.7507665483134669,0.75324733096085406,0.76962185792349735,0.76984199347251725,0.76958113958113961,0.76953145498844255,0.76953559581525899,0.76998475437605873,0.75203012372243139,0.75094336072257417,0.74967870257037938,0.7450181578078573,0.74915586842761028,0.75195106170225279,0.75370445963873867,0.75519008674101606,0.75314204479517233,0.76969902745007779,0.76975697569756973,0.7524808214327865,0.75410368106850345,0.75445999628154004,0.7515393572709983,0.74921912182757355,0.74739517854992554,0.75364519311409206,0.75397358833941286,0.75475126583755281,0.7505498732250292,0.75846906829138705,0.76967594384930893,0.75772064253292426,0.73642817731311316,0.73827586962882574,0.73716863210020933,0.73864286955500713,0.74372295536189503,0.74551411708489335,0.74420203464313128,0.74869902320866177,0.74571099821844622,0.76192813039635954,0.76913059286488461,0.76979399932394199,0.76979315297662576,0.76971798487526344,0.76969410077919331,0.76703949708099362,0.76958501883238506,0.76962128867549939,0.76963449625752134,0.7644606725340547,0.75000402730841487,0.76796624800298507,0.74303708807445912,0.7398759944076706,0.74143623502702138,0.7437014131044104,0.74574312930804065,0.73993281818373058,0.74510129469195729,0.73842760204085955,0.74625733154979634,0.749028748648359,0.74797336878662091,0.73698861341545452,0.76341488594634721,0.73852625091440427,0.73810091848728143,0.73517524010472779,0.73519048795195052,0.73716767506065317,0.74275784552074442,0.74470647364375087,0.74281950912916628,0.74670059688862589,0.74462547274803814,0.74054373772111037,0.76236286422276378,0.73339405368215382,0.74062506623067137,0.74016927321140769,0.73834423001309257,0.73794024967086402,0.73846398584993389,0.74219554383156883,0.7511533693106941,0.74941936746311477,0.74409236171149085,0.73805931830189742,0.7607824854000399,0.73675177280618831,0.73269108323196985,0.73640995681383148,0.73882638848815185,0.7320629509726444,0.74022525378396464,0.73905507455203245,0.74226109464209866,0.74421939756573452,0.74089039820148439,0.73247832316899253,0.76101585203278566,0.73148044871701523,0.73816133869501832,0.73426903629821849,0.7351098264471857,0.7333627212439181,0.73406028876188045,0.73829116969092767,0.74156601663455657,0.74842938104255197,0.7369506542843639,0.73271842215588834,0.76283869016374695,0.72973252567251545,0.73250049749881396,0.73273510335334202,0.72884647591736373,0.7322500132453339,0.73212481228888193,0.73759095666898822,0.73831978087846784,0.74111035088494082,0.74094416783403627,0.7392569548861222,0.76117897989550665,0.72676131141811684,0.73124384072561377,0.72985621181964389,0.72758378469530238,0.7312669879315582,"-","-","-","-","-","-","-","-"]
[]
[null,null,"Emisiones de CO2 asociadas a la generación mensual nacional","2007-01-01","2007-02-01","2007-03-01","2007-04-01","2007-05-01","2007-06-01","2007-07-01","2007-08-01","2007-09-01","2007-10-01","2007-11-01","2007-12-01","2008-01-01","2008-02-01","2008-03-01","2008-04-01","2008-05-01","2008-06-01","2008-07-01","2008-08-01","2008-09-01","2008-10-01","2008-11-01","2008-12-01","2009-01-01","2009-02-01","2009-03-01","2009-04-01","2009-05-01","2009-06-01","2009-07-01","2009-08-01","2009-09-01","2009-10-01","2009-11-01","2009-12-01","2010-01-01","2010-02-01","2010-03-01","2010-04-01","2010-05-01","2010-06-01","2010-07-01","2010-08-01","2010-09-01","2010-10-01","2010-11-01","2010-12-01","2011-01-01","2011-02-01","2011-03-01","2011-04-01","2011-05-01","2011-06-01","2011-07-01","2011-08-01","2011-09-01","2011-10-01","2011-11-01","2011-12-01","2012-01-01","2012-02-01","2012-03-01","2012-04-01","2012-05-01","2012-06-01","2012-07-01","2012-08-01","2012-09-01","2012-10-01","2012-11-01","2012-12-01","2013-01-01","2013-02-01","2013-03-01","2013-04-01","2013-05-01","2013-06-01","2013-07-01","2013-08-01","2013-09-01","2013-10-01","2013-11-01","2013-12-01","2014-01-01","2014-02-01","2014-03-01","2014-04-01","2014-05-01","2014-06-01","2014-07-01","2014-08-01","2014-09-01","2014-10-01","2014-11-01","2014-12-01","2015-01-01","2015-02-01","2015-03-01","2015-04-01","2015-05-01","2015-06-01","2015-07-01","2015-08-01","2015-09-01","2015-10-01","2015-11-01","2015-12-01","2016-01-01","2016-02-01","2016-03-01","2016-04-01","2016-05-01","2016-06-01","2016-07-01","2016-08-01","2016-09-01","2016-10-01","2016-11-01","2016-12-01","2017-01-01","2017-02-01","2017-03-01","2017-04-01","2017-05-01","2017-06-01","2017-07-01","2017-08-01","2017-09-01","2017-10-01","2017-11-01","2017-12-01","2018-01-01","2018-02-01","2018-03-01","2018-04-01","2018-05-01","2018-06-01","2018-07-01","2018-08-01","2018-09-01","2018-10-01","2018-11-01","2018-12-01","2019-01-01","2019-02-01","2019-03-01","2019-04-01","2019-05-01","2019-06-01","2019-07-01","2019-08-01","2019-09-01","2019-10-01","2019-11-01","2019-12-01"]
[null,null,"Carbón",6038132.5499999998,4866725.55,4829808.55,5793493.2999999998,5908934.4500000002,5696568.5999999996,5909379.0499999998,5869978.75,5465916.2000000002,5299076.25,5403579.0999999996,6017005.4999999991,5005149.0999999996,4624218.0999999996,3731149.6999999997,3157107.45,2300391.75,2205061.15,3778114.85,3199432.8,3545306.9,4126936.7999999993,4100488.7999999993,4409587.45,4532982.9499999993,3118865.1999999997,3035249.05,1926079.4,2376139.0499999998,2608142.3499999996,3335949.6999999997,1997539.3499999999,2801942.35,3169201.9,2139241.35,2012041.0999999999,1885486.8157999997,1539386.11515,1071923.3933000001,859258.95449999999,1000568.6026,1521528.7038999998,2605380.6999999997,2966363.5315999999,3093598.8337499998,2094210.4959499999,1728462.93365,2149413.6497999998,2187933.3216499998,2545958.5590999997,2951923.0812999997,2494435.6415999997,3029504.3980999999,2827083.3134000003,4249530.8685999997,4131764.9545999998,4685631.2110000001,4253643.6180999996,3841391.8609999996,3819790.3296999997,5147325.3181499997,5226630.5192,4438083.9701499995,2581958.2694999995,3809598.1387999998,5038888.7290500002,4697754.6911000004,4834690.4954999993,3840721.9646999994,4029177.1278999997,3869990.6372499997,3576076.7530499999,2905011.5996499998,2457215.3740499998,1351513.3342499998,1008993.2767,1975444.4855999998,2527282.7769999998,5197942.5341500007,4390257.8883499997,4529527.8655500002,3987601.0125000002,2540223.8014499997,4598446.8809500001,2178501.5458999998,839886.85565000004,1229530.6153500001,1316286.0052,3199362.1133499998,4952543.4988499992,5331067.0686999988,5025750.4779499993,5615774.9170999993,4318336.7731999997,3068642.1466000001,4008071.6543000001,4814045.1619999995,2938218.3832,2601979.2610999998,2855062.9005499999,2786907.3184500001,5234087.6049999995,5961647.1294499999,5170384.4230499994,4547331.7348000007,4164867.7093500001,4432571.3738000002,4478550.7173499996,2560302.5254999995,1785959.3133999999,1679432.4864999999,981604.42804999999,1147398.1934,2142741.0834999997,3731347.6695499998,3463228.5966999996,4324795.5571999997,4272589.4528999999,4397512.4341500001,4961177.1225999994,5110341.3251,3327797.8069999996,1845883.1711499998,1961247.2771000001,3561611.0318,4317300.0914000003,4089164.5767499995,3064952.8254,2905639.4821999995,3892767.1636999995,4576310.8331000004,4115433.7886499995,3077550.1059999997,3516686.2828499996,1454960.6776999999,1484768.7311999998,2338074.7975499998,2377991.4366000001,3567387.0930999997,3591275.1584999999,4162760.8666500002,3392254.8942499999,3792461.8300999994,2893237.5484499997,3148919.2162000001,2306341.9065999994,931512.53300000005,819323.14934999985,"-","-","-","-","-","-","-","-"]
[null,null,"Fuel + Gas",659060.24000000011,677555.39,708925.09,654182.58650000009,651918.57000000007,636997.2415,775851.01580000017,786843.63280000002,767189.03200000001,680656.34359999991,704302.46,697139.54,701702.99,655052.95000000007,584083.32999999996,616759.12000000011,667380.55000000005,699851.99,711129.29999999993,772546.03999999992,733985.84999999986,704111.46,688026.65,688281.1100000001,643408.17000000016,558682.19000000006,656108.8600000001,557709.65999999992,618032.13,647374.57000000007,722854.83,714896.70000000007,684336.6645999999,637868.6100000001,610216.3456,632139.9600000002,630351.53013999981,561610.55947999994,528171.37996999989,532999.51405999996,615464.18269999989,634423.34252000006,652914.43922000006,662435.84192999988,641614.14737000002,610191.15555000002,618146.58215000003,633345.61200999992,511210.19531000004,473610.69919999997,548176.36580000003,473504.60904999997,479224.24938999995,459104.81838999997,550991.75691,545630.20724000013,531726.06285999995,520668.28272000002,463592.67314000003,494430.38480999996,517558.49618000002,481569.86040999996,506470.91584999999,468715.90525000001,476018.34690999996,502584.54505000002,540584.32035000005,580432.18611000001,528636.39214999997,528738.12111000007,492181.6899,497516.52092000004,450345.38246999995,425550.57345000003,460033.16662999999,433473.6397,433150.03912000009,413123.55043999996,494273.59622000012,511787.62830000004,462708.26277000003,479810.05350000004,449140.82974000002,468440.93885999994,453474.22871999996,407064.17762000003,380304.02969,372519.07683999999,384324.04,423369.30237000005,452650.79895000003,461444.78694999992,464170.81414999999,429515.97694999998,404886.16595999995,455524.88884999999,444840.87344999996,403333.67531000002,417942.03239000007,385770.30330000003,416063.94888999994,436462.3064,494864.40739999997,501586.88143000001,493122.83132,412842.16477999999,383190.40221000003,455249.26207999996,456454.40072000003,422953.98950999993,450095.77447,414918.85378,410002.70179999992,439998.23232000001,493488.01008000004,536035.15457999997,493815.61460999993,469798.07008000003,409628.27227999998,484662.76629,464586.45998999994,411628.99709999998,445228.99878999993,458326.38269,462696.40830000007,496745.5505800001,526106.50266999996,540586.60181999998,488224.60995999997,485186.9313,442928.44822000002,464270.45442999998,465609.91593999992,433203.17816000001,419473.15419999999,410042.12029000005,432047.7403,451520.89189999999,496355.84527000011,525871.49073000008,472719.93763000006,451192.93090000004,436553.76750000007,388808.05138000002,406774.39660000004,375396.08223,382902.11193000001,376283.74961,"-","-","-","-","-","-","-","-"]
[null,null,"Ciclo combinado",2436578.14,1579698.4,1619533.9499999997,1643547.1,1833998.2999999998,2491711.0100000002,2683991.9400000004,2114062,2290673.6599999997,2487242.19,3042001.51,2900755.61,3149960.81,3122983.91,2714010.3400000003,2765299.9800000004,2856641.01,3037364.05,3516186.12,3281090.76,3115919.83,2880540.65,2737996.8000000003,2360155.14,2455511.92,1834674.01,2084881.37,2198460.81,2215083.7799999998,3013529.0500000003,3392034.5300000003,3252746.0100000002,2934500.0700000003,2627479.39,2242510.65,2477847.0399999996,2174460.3282899996,1952669.3896300001,1716110.5570199999,1795477.29843,1867857.8033199999,2197288.8170799999,2738986.6502599996,2351533.7018199996,2517861.7203299999,2200633.4977000002,2280180.0575999999,2033012.49061,2083048.9885299997,1892294.9654899996,1672245.7689100001,1219731.84188,1752177.3764000002,2033729.3454900002,1878151.9603999997,1978816.1391099999,1889433.2901300001,1618921.78892,1492971.1411899999,1452925.2758700002,1779406.7142699999,1654851.8611699999,1327366.8400699999,999861.64298999996,1094470.1474200001,1352251.6107999999,1455159.3590099998,1503288.2943200001,1286923.5186500002,1410824.1126600001,1278334.5504999999,1231139.1282899999,1187430.0949200001,908818.57043000008,749126.96414000005,605694.59793000005,805256.46482999995,697035.5234699999,1032334.53383,1090220.83653,1031562.95255,1144440.15166,926134.09427,1197481.07703,771036.92504999996,656399.03159000003,704242.43410000007,668553.88291000004,747252.85890999995,849825.13239000004,896652.95462999993,1029507.6267500001,1230133.4103000001,1028052.12239,968270.38118000003,947587.20833000005,1025775.2835,812625.59910999995,806437.67117999995,854814.48816000007,824629.26165,894933.31530999998,1482002.91686,1067466.06767,939660.70822000003,1087762.4412500001,1039919.7392899999,1211172.8452399999,913782.57602999988,688542.41198999994,710569.02146999992,637655.14767999994,764775.03914000001,881324.73387999996,1065306.78443,941132.63005999988,982842.68979999993,1448631.3244,1512272.7514199999,1418980.0982899999,1310015.1793,752694.97116000007,734447.68212000001,638589.62060000002,797306.63129000005,1343618.5230100001,1574518.85142,1501577.8304799998,1371010.72196,1664366.9587399999,1923699.4403799998,1331419.3589300001,987347.05976999993,870633.50696999987,634448.62617000006,611746.54081999999,896234.49697999994,962685.13132999989,984960.11474000011,1162015.06372,976641.79328999994,1134598.01771,1368455.4489699998,1252044.1147100001,1356347.5210299999,1063637.1813500002,956969.89818999998,1180349.3583800001,"-","-","-","-","-","-","-","-"]
[null,null,"Térmica renovable",33220.89,29047.56,33483.54,31300.06,33509.380000000005,32851.990000000005,34518.840000000004,34450.33,32516.410000000003,38152.93,34706.69,36107.83,37111.68,36668.660000000003,38029,37652.11,37210.79,37476.670000000006,37995.68,37112.700000000004,35964.350000000006,39053.25,38361.520000000004,38116.720000000001,41426.620000000003,39313.01,42898.82,46800.490000000005,42513.26,38951.420000000006,40166.58,40096.030000000006,44892.920000000006,55307.630000000005,42331.700000000004,42830.310000000005,42659.8,38492.080000000002,41819.660000000003,42969.37,46737.25,45723.37,45565.100000000006,47396.68,44699.29,47478.79,45750.57,49913.87,"-","-","-","-","-","-","-","-","-","-","-","-","-","-","-","-","-","-","-","-","-","-","-","-","-","-","-","-","-","-","-","-","-","-","-","-","-","-","-","-","-","-","-","-","-","-","-","-","-","-","-","-","-","-","-","-","-","-","-","-","-","-","-","-","-","-","-","-","-","-","-","-","-","-","-","-","-","-","-","-","-","-","-","-","-","-","-","-","-","-","-","-","-","-","-","-","-","-","-","-","-","-","-","-","-","-","-","-"]
[null,null,"Térmica no renovable/Cogeneración y resto/Cogeneración",737226.24000000011,653288.6,694031.73999999987,681045.34,679511.32,703667.44000000006,739025.82,694179,726342.74,778513.31999999983,779417.47000000009,797877.44,836417.28,827411.74,844176.85,828106.98,782801.73999999987,772394.22,823741.07,749129.13,808599.28,875887.28999999992,859379.76,863343.64,899725.88,832454.84,891001.08,868430.63000000012,873410.99,857793.34,889938.89,755782.01,867999.02999999991,914819.27,954478.39999999991,962462.09,987719.71,919125.95,971422.24,946842.98,958277.64,943424.07,970340.37,803024.66999999993,940859.61,983192.27,988644.03999999992,1027869.49,977367.35271000001,915715.54818999988,1025729.6435199999,947333.24436999997,965590.09823999996,920868.83546000009,924971.0993,769274.63791000005,927923.17722999991,969899.27873999998,973559.07860999997,1002015.3645799999,1045391.90351,995670.15687999991,1057918.5913199999,1003004.1507299999,1013753.06365,966118.58877000003,1002780.79209,842401.89338000014,981074.58854000003,1038910.6505100001,1017652.0866499998,1039709.0220800001,1073745.1022999999,959689.58198999998,1038125.56749,1015148.73362,1019613.0133900001,955887.97259000002,952734.40782999992,737510.90417999995,889249.42747,915333.08178000001,915696.7225899999,936461.38270000007,943671.09577000001,694140.74182999996,677536.41388999997,598905.47094999999,714534.74667000002,767859.55995999998,784158.85508999985,734694.55076000001,782054.84750000003,787159.77635000006,715878.49157999991,736105.68599000003,800740.17420999997,712269.34397000005,769862.67706000002,745033.00085000007,768291.65298999997,763559.65343000006,799432.86615999998,754568.65342999995,795932.63360000006,819312.24428999994,788107.1310099999,807214.74242000002,788459.95708999992,729186.5379900001,766847.23810999992,738350.05455999996,782819.39774000004,803301.74303999997,829801.67214000004,785706.10110999993,791087.29489999998,858914.49758000008,850378.61126999988,861345.0112999999,907468.13719000004,817538.89274999988,885961.22821999993,827126.09669000003,861820.11275999993,857710.85057999997,888419.56964,836624.09178000002,842034.88668,886636.51855000004,904528.66959999991,922499.42567000003,919003.08292000007,834206.77817999991,865039.96635,871563.1000199999,895727.18989000004,892285.42769000004,904624.22875999997,874979.22455000016,891905.10468999995,933356.04596000013,915842.19141999993,937293.28847999987,984098.54562999995,885626.38562000007,959124.99825000006,921773.14934000012,"-","-","-","-","-","-","-","-"]
[null,null,"Residuos no renovables","-","-","-","-","-","-","-","-","-","-","-","-","-","-","-","-","-","-","-","-","-","-","-","-","-","-","-","-","-","-","-","-","-","-","-","-","-","-","-","-","-","-","-","-","-","-","-","-",27351.974399999999,24501.714840000001,21438.836159999999,26937.55776,18336.266280000003,24221.236080000002,21454.421999999999,23576.7228,26613.547919999997,32821.130279999998,30385.899240000002,31425.607439999996,32430.129599999997,29089.003799999995,28751.828160000001,33003.950879999997,31443.075840000001,27364.41504,30501.075959999998,33776.841359999999,34003.677959999994,35997.283559999996,30915.516719999996,34183.015679999997,35811.855479999998,34416.177599999995,35489.626559999997,21070.457879999998,28784.274119999998,26997.693240000001,29207.80848,31476.941639999997,35639.284800000001,36675.373919999998,34539.045480000001,38028.107639999995,34372.925279999996,29415.514679999997,26914.177920000002,33105.24912,38888.053439999996,39700.901039999997,41146.548119999999,43535.316119999996,45767.890080000005,45729.618600000002,42792.566999999995,50441.729039999998,47446.791959999995,42627.289920000003,49827.086280000003,40328.34996,49892.946600000003,50488.412759999999,53605.308240000006,54383.774400000002,52210.27824,55338.6414,52251.66072,46825.611959999995,50378.684759999989,46316.939160000002,52340.747759999998,46073.839079999998,36450.856319999999,50307.503519999998,61105.414559999997,61498.183439999993,60005.074080000006,58609.14084,51528.967800000006,51055.952159999993,53964.747960000001,47648.256480000004,52820.6322,45065.843759999996,44938.458719999995,54202.326239999995,51626.289479999999,55176.353519999997,54909.833639999997,58294.186799999996,52294.026959999996,54975.327839999998,56297.774999999994,50196.125520000001,54508.692119999992,42857.809919999992,35526.755279999998,45730.183440000001,51471.959519999997,50421.006599999993,48697.120439999992,51828.85224,47782.151279999998,49070.973839999999,49609.204199999993,45143.752919999999,50976.231359999991,45421.268999999993,"-","-","-","-","-","-","-","-"]
[null,null,null,null,null,null,null,null,null,null,null,null,null,null,null,null,null,null,null,null,null,null,null,null,null,null,null,null,null,null,null,null,null,null,null,null,null,null,null,null,null,null,null,null,null,null,null,null,null,null,null,null,null,null,null,null,null,null,null,null,null,null,null,null,null,null,null,null,null,null,null,null,null,null,null,null,null,null,null,null,null,null,null,null,null,null,null,null,null,null,null,null,null,null,null,null,null,null,null,null,null,null,null,null,null,null,null,null,null,null,null,null,null,null,null,null,null,null,null,null,null,null,null,null,null,null,null,null,null,null,null,null,null,null,null,null,null,null,null,null,null,null,null,null,null,null,null,null,null,null,null,"-","-","-","-","-","-","-","-"]
[null,null,"Emisiones (tCO2)",9904218.0600000005,7806315.4999999991,7885782.8700000001,8803568.386500001,9107872.0200000014,9561796.2814999986,10142766.665800001,9499513.7127999999,9282638.0419999994,9283641.0336000007,9964007.2300000004,10448885.919999998,9730341.8599999994,9266335.3600000013,7911449.2199999988,7404925.6400000006,6644425.8399999999,6752148.0799999991,8867167.0199999996,8039311.4299999997,8239776.21,8626529.4499999993,8424253.5299999993,8359484.0600000005,8573055.5399999991,6383989.2499999991,6710139.1800000006,5597480.9899999993,6125179.209999999,7165790.7300000004,8380944.5300000003,6761060.1000000006,7333671.0345999999,7404676.8000000007,5988778.4455999993,6127320.4999999991,5720678.1842299988,5011284.0942599997,4329447.2302900003,4177548.11699,4488905.4786199993,5342388.3035000004,7013187.2594799986,6830754.4253499992,7238633.60145,5935706.2092000004,5661184.1834000004,5893555.1124200001,5786911.8325999994,5852081.4868199984,6219513.6956900004,5161942.8946599998,6244832.3884100001,6265007.5488200001,7625100.10721,7449062.6616599998,8061327.28914,7395954.0987600004,6801900.6531799994,6800586.9623999996,8522112.56171,8387811.4014599994,7358592.1455499995,5086543.9193500001,6425282.7726199999,7887207.8887100006,7726780.2385099996,7794589.7106699999,6671360.1419999991,7043647.29574,6689074.4810199989,6378624.4400200006,5652344.0348199997,4785690.27752,3634288.6590700001,3084380.7058300003,4262248.2770600002,4620327.5167399999,7706492.8805100005,6761254.1989999991,6948687.7931400007,6563859.6733600004,4865734.4935299996,7238858.3871800005,4381056.7207199996,2626906.32137,3018527.6709500002,2989369.6850199997,5084361.8123699995,7033298.3946099989,7505676.2254899982,7294932.7585299984,8137901.8791299993,6608794.2674899995,5200469.75232,6197731.1665099999,7132848.2851199992,4909074.2915099999,4646048.7280100007,4881009.042820001,4845785.1285800012,7379531.2928999988,8791552.6281100009,7548389.7999799997,6828258.1861800011,6540123.2010700004,6696040.3070299998,6999013.1790499995,4769378.1440999992,3672959.1920499997,3659285.2683099997,2818602.3231499996,3141446.1883999999,4317673.2962599993,6181049.5507600009,5787600.6658899989,6652546.2305899989,7108542.4857999999,7221321.0369199999,7777220.9506399995,7846375.8495400008,5357308.9244899992,3964341.7124799998,3930355.2208400001,5728372.6428699996,7069577.3418100011,7129835.7899599997,5998917.7030000007,5661819.5344399996,6987251.7590899998,7899761.4182599997,6888598.3555199997,5505807.9396299999,5704925.8716799989,3428431.1165399994,3420978.3022499997,4597610.9799999995,4730213.0709600002,6004799.2413900001,6204561.9441000009,6552724.8227000004,5963230.7410599999,6561095.3892699992,5520453.9768599998,5945748.8836599989,4676145.3087199992,3281485.7727300003,3343150.6756799999,"-","-","-","-","-","-","-","-"]
[null,null,"Factor de emision de CO2 (tCO2/MWh)",0.38508612846414358,0.34007728059301923,0.32249895683887358,0.40010667549180567,0.39577233854028093,0.41634280388251188,0.40674028899957354,0.408301061405004,0.3960868034416305,0.38676477724795311,0.39538625486950918,0.397939509258945,0.36528192241609475,0.37280272650305352,0.31402801998138402,0.30555940235529444,0.28646641745743118,0.28462192945324705,0.34273888550850595,0.33187055997385756,0.348764591051829,0.36207001053993043,0.34194523926414977,0.32286063760337347,0.32369469214750013,0.27844368776605177,0.29626899023864706,0.26388229428413679,0.28427294946113629,0.31375606710565201,0.33369718140079613,0.28509141587299502,0.32316019821295816,0.32416315631457554,0.25907553085967361,0.24591562416859322,0.21924213399919998,0.20765898443494854,0.17195221287529255,0.18883283796093123,0.20006685928733084,0.23512727056458241,0.27213688919942614,0.28586531836113266,0.31167088453636665,0.25378689259785286,0.23485913497640926,0.23189850942906715,0.22334305541798979,0.25293037654789535,0.24806330224914439,0.23806343537843591,0.28556544214239143,0.2778938209762854,0.31827109497107403,0.31889097885603185,0.34982488681293383,0.3325574626243708,0.30055195329300388,0.28447214670041232,0.33695252727634123,0.3225829071001296,0.3083854503299564,0.22752312492141466,0.28358514299860021,0.34348048082947757,0.32235836784007255,0.32552658430578263,0.2953268478233374,0.30876231686698374,0.29654388096619377,0.26453478574892736,0.22793875358222956,0.20953154000863641,0.15280400392941432,0.14107953416664165,0.20135749892027469,0.21951266767729899,0.31661114740460294,0.2968451502040142,0.31636534537574668,0.29887630157214884,0.21353438708682415,0.30335183914189401,0.1822913603959207,0.11658500934000232,0.13244042878331305,0.14213722367655288,0.23858981001669402,0.3286664266277658,0.32375925164041586,0.33144032611562885,0.36753758711754059,0.30630125217284071,0.24559345049905959,0.2662567558808635,0.29004771209014357,0.21174770687666808,0.20027695282586067,0.23675868053450957,0.22841472474831528,0.33949084829096632,0.34751117139350812,0.32997999589308125,0.32112293218788557,0.312962838920747,0.31964697783843699,0.3235941166893247,0.21026265257096416,0.16952320795219938,0.15878830767435642,0.12972654183278695,0.15244936548883287,0.20941225213915213,0.27029906670887627,0.26267220487455467,0.31432666503139878,0.32674088573112581,0.33178042973455146,0.35507923374817646,0.31007978712204026,0.25519114472594157,0.18750525620010813,0.202433754643953,0.28311582883191261,0.32006797155974831,0.31273136834091181,0.2764570962128024,0.27963557204042178,0.32653613373103052,0.34809727027642084,0.28357815142903836,0.24068624800653407,0.26114656179240781,0.14103745681273228,0.16474296899168556,0.22813301639913608,0.23856014777670062,0.27511377072681875,0.27783793762946718,0.31140356362749239,0.26971033417150397,0.29513950761807373,0.2549171636810833,0.24192743211082485,0.227386054998888,0.1572290343995128,0.16882877099520727,"-","-","-","-","-","-","-","-"]
[]
[null,null,"Emisiones de CO2 asociadas a la generación anual peninsular",1990,1991,1992,1993,1994,1995,1996,1997,1998,1999,2000,2001,2002,2003,2004,2005,2006,2007,2008,2009,2010,2011,2012,2013,2014,2015,2016,2017,2018,2019,2020,2021]
[null,null,"Carbón",52571867.600000001,53014091.649999999,56834600.249999993,54958543.100000001,54315973.549999997,58172976.399999991,46995235.550000004,55593815.700000003,54079676.25,64985351.350000001,68616762.449999988,61226458.799999997,70827906.450000003,64878507.699999988,68514100.700000003,69344384.549999982,59019761.75,64301935.600000001,41239060.149999991,30041433.899999999,19569293.042299997,38391855.855600007,48542457.739199996,35236352.446400002,39005364.832449988,48217054.785449997,33260364.290999997,40300794.128199995,33137558.205199998,6526007.738499999,"-","-"]
[null,null,"Fuel + Gas",2006162.2,2829179.5,5224508.0999999996,1244002.9000000001,988529.5,2562814.1000000006,1430331,4586778.6999999993,3737216.6999999997,6545464.0999999987,6695709.2999999989,8105733.2999999989,10881977.399999999,5202149.3999999994,4962627.5999999996,6506022.5999999996,3777240.6,1463535.4999999998,1452426.5,1252713,1096216.0999999999,"-","-","-","-","-","-","-","-","-","-","-"]
[null,null,"Ciclo combinado",0,0,0,78.81,0,0,0,0,0,0,0,0,1907599.01,5411651.8200000012,10475752.649999999,17703311.93,22985300.579999998,24631961.16,32967270.84,28260335.079999998,23293327.890650004,18201489.160020001,13807212.178270001,8926826.2028499991,7814588.1912500001,9262781.8572000004,9421334.5154599994,12449752.88823,9769081.6376499999,3883393.8988200002,"-","-"]
[null,null,"Térmica renovable",0,145.18,2813.3300000000004,9999.7400000000016,54816.5,114115.73000000001,138563.60000000003,110223.75,127286.87559000003,154403.12492,163388.76562000002,295537.93276,247012.59862000003,295297.09545999998,309075.91744000005,337935.87190000003,371043.13594000001,403866.45,450753.13,517528.79000000004,539205.82999999996,"-","-","-","-","-","-","-","-","-","-","-"]
[null,null,"Térmica no renovable/Cogeneración y resto/Cogeneración",242297.09002219999,531314.08000000007,704066.34,1223776.48,1965436.7069999999,2420078.61,3326973.3999999994,4241167.92,5242263.8786099991,6340790.72621,6430435.2811800009,6532974.6277100006,7707711.3273199992,8452778.3822299987,8705620.5551100001,8607570.3627100009,8258007.5650499985,8631270.0899999999,9833111.1199999992,10532395.58,11391949.24,11305390.95308,11994581.720209999,11399679.19379,8927367.88026,9312651.3744299989,9573358.6295400001,10424958.113530001,10722885.083890002,3745810.1713800002,"-","-"]
[null,null,"Residuos no renovables","-","-","-","-","-","-","-","-","-","-","-","-","-","-","-","-","-","-","-","-","-",278529.80063999997,351713.25096000003,360036.12839999999,440002.45367999998,557931.53784,593114.07492000004,590190.92663999996,550524.30515999999,180831.78707999998,"-","-"]
[]
[null,null,"Emisiones (tCO2)",54820326.890022203,56374730.409999996,62765988.019999996,57436401.030000001,57324756.256999999,63269984.839999989,51891103.550000004,64531986.070000008,63186443.7042,78026009.301129997,81906295.796799973,76160704.660469994,91572206.785939991,84240384.397689998,92967177.422549993,102499225.31460999,94411353.630989999,99432568.800000012,85942621.739999995,70604406.349999994,55889992.102949999,68177265.769340008,74695964.888640001,55922893.971440002,56187323.357639983,67350419.554919988,52848171.510919988,63765696.05659999,54180049.231900007,14336043.595779998,"-","-"]
[null,null,"Factor de emision de CO2 (tCO2/MWh)",0.4030362616004271,0.39733049865064507,0.43833899073765487,0.40497550798755316,0.39336006928518985,0.42370350273164592,0.33121043311484472,0.38596707614960046,0.36685713600396896,0.42810378555020573,0.41905025583123706,0.3691948287726729,0.42953528449262868,0.36745477183116959,0.38162267539570166,0.40372399129678715,0.35815891895671448,0.36473153530846231,0.30688559873491,0.2668945928356542,0.20448749222246948,0.25792123808894785,0.27814047652405988,0.21519006820830092,0.22185225448000162,0.26521004977195439,0.21301156084766146,0.25699093603095763,0.21944773960130584,0.17581574070066844,"-","-"]
[]
[null,null,"Emisiones de CO2 asociadas a la generación anual Islas Baleares",2006,2007,2008,2009,2010,2011,2012,2013,2014,2015,2016,2017,2018,2019,2020,2021]
[null,null,"Carbón",2923444.4999999995,2796662.25,2943884.7,3011939.85,2946289.6877000001,2626735.3025500001,2548438.8751500002,2233108.3838,2078388.8396999999,1768598.9326499999,2187724.5724499999,2467655.2451500008,2511851.2177499998,680089.06664999994,"-","-"]
[null,null,"Motores diesel",742974.54,774316.62000000011,806252.37,748305.25,791267.43541999988,711066.02028000006,690633.78600000008,531836.62703999993,413405.80719999992,413240.86346999998,547918.66739999992,453712.90919999994,425362.86315000005,72780.500709999993,"-","-"]
[null,null,"Turbina de gas",216120.66447999998,230466.34,201651.47999999998,251133.06000000003,221566.63084,213868.66630999997,200865.3702,267456.27376000001,286840.06218000001,299160.54249000008,173276.71515,283827.53274,726749.06425000005,104353.04355,"-","-"]
[null,null,"Ciclo combinado",496508.55,586078.15,563691.29999999993,478107.71,420184.47713999997,489550.08505999995,327812.49344000005,150712.36936000001,155264.25440000001,297734.18481999997,197980.37514999998,155558.86171999999,242115.31272999998,109496.92593,"-","-"]
[null,null,"Generación auxiliar",4699.1627999999791,9332.8799999999992,4388.9399999999996,4118.84,4953.8056799999995,6454.07132,6517.87338,5002.2927,5693.6295599999994,7828.0825999999997,7468.6860599999991,10912.384099999999,8841.4695599999995,"-","-","-"]
[null,null,"Térmica no renovable/Cogeneración y resto",36169.34074,29622.580000000009,36486.32,33030.92,45823.44,4933.4593800000011,9803.7678999999989,9516.7041399999998,9332.3560799999996,"-","-","-","-","-","-","-"]
[null,null,"Cogeneración","-","-","-","-","-","-","-","-","-",11673.398989999998,12839.487289999999,13410.36658,12940.545019999998,4812.9074600000004,"-","-"]
[null,null,"Residuos no renovables","-","-","-","-","-",29690.888040000002,29469.488640000003,27135.982799999998,30740.239079999999,36263.45508,31393.215960000001,34530.880319999997,32581.858680000001,9830.5348799999992,"-","-"]
[]
[null,null,"Emisiones (tCO2)",4419916.7580199996,4426478.82,4556355.1100000013,4526635.63,4430085.4767800011,4082298.4929399998,3813541.6547099994,3224768.6335999998,2979665.1881999997,2834499.4601000003,3158601.7194600003,3419608.179810001,3960442.3311400004,981362.97918000014,"-","-"]
[null,null,"Factor de emision de CO2 (tCO2/MWh)",0.7584424434401299,0.74033146068355349,0.74425450572921881,0.75533005758124083,0.7585383491967137,0.71128563520633703,0.7269653208156629,0.73317457281778908,0.69631058864794115,0.63665476808279675,0.69076610143889694,0.70695283389513075,0.82169411573563977,0.77290432911657814,"-","-"]
[]
[null,null,"Emisiones de CO2 asociadas a la generación anual Islas Canarias",2006,2007,2008,2009,2010,2011,2012,2013,2014,2015,2016,2017,2018,2019,2020,2021]
[null,null,"Motores diesel",1646284.48,1674441.64,1725088.1199999996,1755373.1799999997,1790377.9730399996,1772272.8830800001,1728923.22802,1694586.68086,1753322.7166999998,1805916.7680399998,1822287.26526,1838705.8669599998,1378742.3598,419382.12420000002,"-","-"]
[null,null,"Turbina de gas",1071760.456,909311,615583.80000000005,444823.67019999999,446266.15409999999,687437.3064,778271.40300000005,479480.0308999999,468967.58350000001,426146.85229999997,358670.81120000005,408649.4178,318476.26608000003,89572.480479999998,"-","-"]
[null,null,"Turbina de vapor",3052691.99,2943056.45,3038674.4899999998,2886828.92,2645602.5234499997,2344522.6541299997,2386709.3750300002,2192779.3291099998,1842986.5709200006,1978426.0046300001,2257167.2726699999,2380210.5265000002,2209889.1338999998,756582.57630000007,"-","-"]
[null,null,"Ciclo combinado",1565769.66,1905754.5000000002,2007187.26,1990815.8399999999,2112559.9443000001,2273408.6372400001,2238853.1084400001,2297997.28938,2527661.5228800001,2486684.2954199999,2346500.3179800003,2337954.0194399999,1830612.9647999997,564413.13419999997,"-","-"]
[null,null,"Generación auxiliar","-",98301.599999999991,66412.78,25003.119999999999,"-","-","-","-","-","-","-","-","-","-","-","-"]
[null,null,"Térmica no renovable/Cogeneración y resto",1132.8748000000001,"-","-",8,"-",9922.9464000000007,"-","-","-","-","-","-","-","-","-","-"]
[null,null,"Cogeneración","-","-","-","-","-","-","-","-","-","-","-","-","-","-","-","-"]
[null,null,"Emisiones (tCO2)",7337639.4608000005,7530865.1899999995,7452946.4500000002,7102852.7301999992,6994806.5948899984,7087564.4272499997,7132757.1144900005,6664843.3302499996,6592938.3940000003,6697173.9203900006,6784625.6671099998,6965519.8306999998,5737720.7245799992,1829950.3151800002,"-","-"]
[null,null,"Factor de emision de CO2 (tCO2/MWh)",0.83197963068657266,0.81723417113543639,0.79851879752254895,0.77992260873592678,0.78639661722826693,0.79968160634269869,0.80258460081184713,0.78351683564783148,0.77608566533443935,0.77574521298297328,0.77590875222778111,0.77992057733799292,0.64901074179616225,0.63716991904711195,"-","-"]
[]
[null,null,"Emisiones de CO2 asociadas a la generación anual Ceuta",2007,2008,2009,2010,2011,2012,2013,2014,2015,2016,2017,2018,2019,2020,2021,2022]
[null,null,"Motores diesel",156035.88,161446.67000000004,160403.32,165293.00788000002,156053.49529000002,162863.30753000002,155313.15184000001,163357.52124999999,156508.12793000002,162129.65384000001,156039.21794999999,159571.82626,50562.950900000003,"-","-","-"]
[null,null,"Turbina de gas","-","-",2407.2200000000003,2122.9615800000001,226.45184,415.23027999999999,192.06181999999998,68.473680000000002,566.67794000000004,90.978559999999987,157.24630000000002,88.86363999999999,2.1644999999999999,"-","-","-"]
[null,null,"Emisiones (tCO2)",156035.88,161446.67000000004,162810.54,167415.96946000002,156279.94713000002,163278.53781000001,155505.21366000001,163425.99492999999,157074.80587000001,162220.6324,156196.46424999999,159660.6899,50565.115400000002,"-","-","-"]
[null,null,"Factor de emision de CO2 (tCO2/MWh)",0.77,0.77000000000000024,0.76953873204486478,0.76960435807532701,0.76995476992092748,0.76992062286834406,0.76996144731757521,0.76998692097365495,0.76988739789207195,0.76998249333769797,0.76996857525427653,0.76998262613038326,0.7699986637549977,"-","-","-"]
[]
[null,null,"Emisiones de CO2 asociadas a la generación anual Melilla",2007,2008,2009,2010,2011,2012,2013,2014,2015,2016,2017,2018,2019,2020,2021,2022]
[null,null,"Motores diesel",140038.15979999999,148706.25,152115.81000000003,157632.83767000004,159573.66425,165396.15784999996,155121.88923,154038.85266000003,157016.16854000001,152652.74332000001,154244.06228000001,155627.52282000001,48117.812049999993,"-","-","-"]
[null,null,"Turbina de gas",1785.0724,2279.9399999999996,403.30000000000007,368.85744,395.09192000000002,103.76279999999998,69.323940000000007,567.06940000000009,452.50851999999998,189.04705999999999,57.182020000000001,49.654740000000004,2.6876799999999998,"-","-","-"]
[null,null,"Térmica no renovable/Cogeneración y resto",3233.8,1791.5399999999997,2861.9500000000003,2970.3599999999997,"-","-","-","-","-","-","-","-","-","-","-","-"]
[null,null,"Residuos no renovables","-","-","-","-",844.22652000000005,277.07495999999998,964.53564000000006,1067.7976799999999,1031.1595199999999,1164.0126,1194.4766400000001,1283.24136,488.13551999999999,"-","-","-"]
[]
[null,null,"Emisiones (tCO2)",145057.03219999999,152777.73000000001,155381.06000000003,160972.05511000002,160812.98269,165776.99560999995,156155.74880999999,155673.71974000003,158499.83658,154005.80298000001,155495.72094000003,156960.41892000003,48608.635249999999,"-","-","-"]
[null,null,"Factor de emision de CO2 (tCO2/MWh)",0.7515129634234794,0.75988406099853778,0.75444179553786039,0.75463399862774361,0.74838810862438088,0.76278052246369743,0.74476631371654989,0.74201394101585316,0.74342720359883296,0.7393958805390608,0.73896002519243464,0.73707966528858426,0.73000286768074985,"-","-","-"]
[]
[null,null,"Emisiones de CO2 asociadas a la generación anual nacional",2007,2008,2009,2010,2011,2012,2013,2014,2015,2016,2017,2018,2019,2020,2021,2022]
[null,null,"Carbón",67098597.850000001,44182944.849999994,33053373.75,22515582.729999997,41018591.15815001,51090896.614349999,37469460.830200002,41083753.672149986,49985653.718099996,35448088.863449998,42768449.373349994,35649409.42295,7206096.8051499985,"-","-","-"]
[null,null,"Fuel + Gas",8400621.1421999987,8222911.3399999999,7683628.6901999991,7321668.2870999994,6051870.3048200002,6120699.4940900002,5481837.661199999,5089248.2870500013,5245262.5964599997,5481851.8405200001,5686516.3458500002,5383399.0242000008,1541356.3403700001,"-","-","-"]
[null,null,"Ciclo combinado",27123793.809999999,35538149.399999999,30729258.629999999,25826072.312090002,20964447.882320002,16373877.780150002,11375535.861589998,10497513.968529999,12047200.337440001,11965815.208590001,14943265.769389998,11841809.91518,4557303.9589499999,"-","-","-"]
[null,null,"Térmica renovable",403866.45,450753.13,517528.79000000004,539205.82999999996,"-","-","-","-","-","-","-","-","-","-","-","-"]
[null,null,"Térmica no renovable/Cogeneración y resto/Cogeneración",8664126.4700000007,9871388.9799999986,10568296.449999999,11440743.039999999,11320247.358860001,12004385.488109998,11409195.89793,8936700.2363399994,9324324.7734199986,9586198.1168300007,10438368.480110001,10735825.628910001,3750623.0788400001,"-","-","-"]
[null,null,"Residuos no renovables","-","-","-","-",309064.91519999999,381459.81456000003,388136.64684,471810.49044000002,595226.15243999998,625671.30348,625916.28359999997,584389.40519999992,191150.45747999998,"-","-","-"]
[]
[null,null,"Emisiones (tCO2)",111691005.72220001,98266147.700000003,82552086.310200006,67643272.199189991,79664221.619350001,85971319.19125998,66124166.897759996,66079026.654509991,77197667.577859983,63107625.332869999,74462516.252299994,64194833.396439992,17246530.640789997,"-","-","-"]
[null,null,"Factor de emision de CO2 (tCO2/MWh)",0.38753571361415146,0.33207673402952015,0.29476783320418104,0.23447898216706395,0.28517319361706944,0.3036597246184175,0.24204189822634342,0.2479876258853044,0.28863920836770041,0.2410199502412998,0.28387678864091381,0.24598210415649166,0.20097543809381382,"-","-","-"]

{"sheet":"Año","index":14,"n_rows":31,"n_cols":26,"rows_kept":31,"cut":false,"hidden":true,"merged":[]}
[null,null,null,null,null,null,null,null,null,null,null,null,null,null,null,null,null,null,null,null,null,null,null,null,1,1]
[null,1990,"1990-1997","2006-2013","2007-2014",null,null,null,null,null,null,null,null,null,"Nacional","Mensual"]
[null,1991,"1998-2005","2014-2021","2015-2021",null,null,null,null,null,null,null,null,null,"Peninsular","Anual"]
[null,1992,"2006-2013",null,null,null,null,null,null,null,null,null,null,null,"Canarias"]
[null,1993,"2014-2021",null,null,null,null,null,null,null,null,null,null,null,"Baleares"]
[null,1994,null,null,null,null,null,null,null,null,null,null,null,null,"Ceuta"]
[null,1995,null,null,null,null,null,null,null,null,null,null,null,null,"Melilla"]
[null,1996]
[null,1997]
[null,1998]
[null,1999]
[null,2000]
[null,2001]
[null,2002]
[null,2003]
[null,2004]
[null,2005]
[null,2006]
[null,2007]
[null,2008]
[null,2009]
[null,2010]
[null,2011]
[null,2012]
[null,2013]
[null,2014]
[null,2015]
[null,2016]
[null,2017]
[null,2018]
[null,2019]