{"text_format":"1","workbook":"xlsx","n_sheets":9,"sheets":["AVISO LEGAL","Potencia nacional","Potencia peninsular","Potencia Baleares","Potencia Canarias","Potencia Ceuta","Potencia Melilla","Potencia","Año"],"not_rendered":{"charts":0,"images":1,"macros":1,"external_links":0,"defined_names":7,"comments":0,"pivot_tables":0},"unopened":[],"bounds":{"document_bytes":16777216,"sheet_cells":100000,"rows_first":2000,"rows_last":500,"rows_between":2000,"halvings":0,"cell_chars":16384,"cell_head_chars":4096},"cells_cut":0,"cells_raw":0,"read":"whole","date_system":"1900"}

{"sheet":"AVISO LEGAL","index":0,"n_rows":23,"n_cols":10,"rows_kept":23,"cut":false,"hidden":false,"merged":[]}
[]
[null,null,null,null,null,null,"Fecha de actualización:",null,"2021-05-01"]
[]
[]
[]
[]
[null,null,null,null,null,null,null,null,null," "]
[]
[]
[]
[]
[]
[]
[]
[]
[]
[]
[]
[]
[]
[]
[]
[null,null,null,null,null,null,null,null,"www.ree.es"]

{"sheet":"Potencia nacional","index":1,"n_rows":32,"n_cols":12,"rows_kept":32,"cut":false,"hidden":false,"merged":[[30,1,30,11],[31,1,31,11],[25,1,25,11],[29,1,29,11],[26,1,26,11],[27,1,27,11],[28,1,28,5]]}
[null,null,null,null,null,null,null,null,null,null,null,1]
[]
[]
[]
[null,null,null,null,null,null,null,null,null,"    Sistema"]
[null,null,null,null,null,null,null,null,null,"    Periodo"]
[]
[null,null,{"$f":"OFFSET(Potencia!C66,0,($L$1-1)*10)","v":2006},{"$f":"OFFSET(Potencia!D66,0,($L$1-1)*10)","v":2007},{"$f":"OFFSET(Potencia!E66,0,($L$1-1)*10)","v":2008},{"$f":"OFFSET(Potencia!F66,0,($L$1-1)*10)","v":2009},{"$f":"OFFSET(Potencia!G66,0,($L$1-1)*10)","v":2010},{"$f":"OFFSET(Potencia!H66,0,($L$1-1)*10)","v":2011},{"$f":"OFFSET(Potencia!I66,0,($L$1-1)*10)","v":2012},{"$f":"OFFSET(Potencia!J66,0,($L$1-1)*10)","v":2013},{"$f":"OFFSET(Potencia!K66,0,($L$1-1)*10)","v":2014},{"$f":"OFFSET(Potencia!L66,0,($L$1-1)*10)","v":" "}]
[]
[null,"Hidráulica convencional y mixta",{"$f":"OFFSET(Potencia!C67,0,($L$1-1)*10)","v":14567.21},{"$f":"OFFSET(Potencia!D67,0,($L$1-1)*10)","v":14580.21},{"$f":"OFFSET(Potencia!E67,0,($L$1-1)*10)","v":14636.31},{"$f":"OFFSET(Potencia!F67,0,($L$1-1)*10)","v":14636.31},{"$f":"OFFSET(Potencia!G67,0,($L$1-1)*10)","v":14656.109999999999},{"$f":"OFFSET(Potencia!H67,0,($L$1-1)*10)","v":14668.009999999998},{"$f":"OFFSET(Potencia!I67,0,($L$1-1)*10)","v":14887.449999999999},{"$f":"OFFSET(Potencia!J67,0,($L$1-1)*10)","v":14890.49},{"$f":"OFFSET(Potencia!K67,0,($L$1-1)*10)","v":14896.72},{"$f":"OFFSET(Potencia!L67,0,($L$1-1)*10)","v":" "}]
[null,"Bombeo puro",{"$f":"OFFSET(Potencia!C68,0,($L$1-1)*10)","v":2450.9399999999996},{"$f":"OFFSET(Potencia!D68,0,($L$1-1)*10)","v":2450.9399999999996},{"$f":"OFFSET(Potencia!E68,0,($L$1-1)*10)","v":2450.9399999999996},{"$f":"OFFSET(Potencia!F68,0,($L$1-1)*10)","v":2450.9399999999996},{"$f":"OFFSET(Potencia!G68,0,($L$1-1)*10)","v":2450.9399999999996},{"$f":"OFFSET(Potencia!H68,0,($L$1-1)*10)","v":2450.9399999999996},{"$f":"OFFSET(Potencia!I68,0,($L$1-1)*10)","v":2450.9399999999996},{"$f":"OFFSET(Potencia!J68,0,($L$1-1)*10)","v":2450.9399999999996},{"$f":"OFFSET(Potencia!K68,0,($L$1-1)*10)","v":2450.9399999999996},{"$f":"OFFSET(Potencia!L68,0,($L$1-1)*10)","v":" "}]
[null,"Nuclear",{"$f":"OFFSET(Potencia!C69,0,($L$1-1)*10)","v":7455.58},{"$f":"OFFSET(Potencia!D69,0,($L$1-1)*10)","v":7455.58},{"$f":"OFFSET(Potencia!E69,0,($L$1-1)*10)","v":7455.58},{"$f":"OFFSET(Potencia!F69,0,($L$1-1)*10)","v":7455.58},{"$f":"OFFSET(Potencia!G69,0,($L$1-1)*10)","v":7515.3700000000008},{"$f":"OFFSET(Potencia!H69,0,($L$1-1)*10)","v":7572.58},{"$f":"OFFSET(Potencia!I69,0,($L$1-1)*10)","v":7572.58},{"$f":"OFFSET(Potencia!J69,0,($L$1-1)*10)","v":7572.58},{"$f":"OFFSET(Potencia!K69,0,($L$1-1)*10)","v":7572.58},{"$f":"OFFSET(Potencia!L69,0,($L$1-1)*10)","v":" "}]
[null,"Carbón",{"$f":"OFFSET(Potencia!C70,0,($L$1-1)*10)","v":11392.7},{"$f":"OFFSET(Potencia!D70,0,($L$1-1)*10)","v":11326.050000000001},{"$f":"OFFSET(Potencia!E70,0,($L$1-1)*10)","v":11324.800000000001},{"$f":"OFFSET(Potencia!F70,0,($L$1-1)*10)","v":11324.800000000001},{"$f":"OFFSET(Potencia!G70,0,($L$1-1)*10)","v":11342.35},{"$f":"OFFSET(Potencia!H70,0,($L$1-1)*10)","v":11571.79},{"$f":"OFFSET(Potencia!I70,0,($L$1-1)*10)","v":11063.869999999999},{"$f":"OFFSET(Potencia!J70,0,($L$1-1)*10)","v":11078.77},{"$f":"OFFSET(Potencia!K70,0,($L$1-1)*10)","v":10936.42},{"$f":"OFFSET(Potencia!L70,0,($L$1-1)*10)","v":" "}]
[null,"Fuel + Gas",{"$f":"OFFSET(Potencia!C71,0,($L$1-1)*10)","v":8899.9799999999977},{"$f":"OFFSET(Potencia!D71,0,($L$1-1)*10)","v":6958.81},{"$f":"OFFSET(Potencia!E71,0,($L$1-1)*10)","v":6658.8100000000013},{"$f":"OFFSET(Potencia!F71,0,($L$1-1)*10)","v":5368.7100000000009},{"$f":"OFFSET(Potencia!G71,0,($L$1-1)*10)","v":4698.03},{"$f":"OFFSET(Potencia!H71,0,($L$1-1)*10)","v":3382.55},{"$f":"OFFSET(Potencia!I71,0,($L$1-1)*10)","v":3105.55},{"$f":"OFFSET(Potencia!J71,0,($L$1-1)*10)","v":2995.88},{"$f":"OFFSET(Potencia!K71,0,($L$1-1)*10)","v":2995.6000000000004},{"$f":"OFFSET(Potencia!L71,0,($L$1-1)*10)","v":" "}]
[null,"Ciclo combinado",{"$f":"OFFSET(Potencia!C72,0,($L$1-1)*10)","v":16358.270000000004},{"$f":"OFFSET(Potencia!D72,0,($L$1-1)*10)","v":21950.860000000004},{"$f":"OFFSET(Potencia!E72,0,($L$1-1)*10)","v":22652.770000000004},{"$f":"OFFSET(Potencia!F72,0,($L$1-1)*10)","v":24183.96000000001},{"$f":"OFFSET(Potencia!G72,0,($L$1-1)*10)","v":26572.930000000004},{"$f":"OFFSET(Potencia!H72,0,($L$1-1)*10)","v":26633.880000000005},{"$f":"OFFSET(Potencia!I72,0,($L$1-1)*10)","v":26669.86},{"$f":"OFFSET(Potencia!J72,0,($L$1-1)*10)","v":26669.86},{"$f":"OFFSET(Potencia!K72,0,($L$1-1)*10)","v":26669.86},{"$f":"OFFSET(Potencia!L72,0,($L$1-1)*10)","v":" "}]
[null,"Hidroeólica",{"$f":"OFFSET(Potencia!C73,0,($L$1-1)*10)","v":"-"},{"$f":"OFFSET(Potencia!D73,0,($L$1-1)*10)","v":"-"},{"$f":"OFFSET(Potencia!E73,0,($L$1-1)*10)","v":"-"},{"$f":"OFFSET(Potencia!F73,0,($L$1-1)*10)","v":"-"},{"$f":"OFFSET(Potencia!G73,0,($L$1-1)*10)","v":"-"},{"$f":"OFFSET(Potencia!H73,0,($L$1-1)*10)","v":"-"},{"$f":"OFFSET(Potencia!I73,0,($L$1-1)*10)","v":"-"},{"$f":"OFFSET(Potencia!J73,0,($L$1-1)*10)","v":"-"},{"$f":"OFFSET(Potencia!K73,0,($L$1-1)*10)","v":11.39},{"$f":"OFFSET(Potencia!L73,0,($L$1-1)*10)","v":" "}]
[null,"Resto hidráulica (1)",{"$f":"OFFSET(Potencia!C74,0,($L$1-1)*10)","v":1796.8280500000001},{"$f":"OFFSET(Potencia!D74,0,($L$1-1)*10)","v":1870.0736499999996},{"$f":"OFFSET(Potencia!E74,0,($L$1-1)*10)","v":1977.7386499999998},{"$f":"OFFSET(Potencia!F74,0,($L$1-1)*10)","v":2020.7696500000002},{"$f":"OFFSET(Potencia!G74,0,($L$1-1)*10)","v":2031.4219800000001},{"$f":"OFFSET(Potencia!H74,0,($L$1-1)*10)","v":2036.8837800000001},{"$f":"OFFSET(Potencia!I74,0,($L$1-1)*10)","v":2040.3917800000002},{"$f":"OFFSET(Potencia!J74,0,($L$1-1)*10)","v":2095.3847799999999},{"$f":"OFFSET(Potencia!K74,0,($L$1-1)*10)","v":2095.3847799999999},{"$f":"OFFSET(Potencia!L74,0,($L$1-1)*10)","v":" "}]
[null,"Eólica",{"$f":"OFFSET(Potencia!C75,0,($L$1-1)*10)","v":11416.030999999999},{"$f":"OFFSET(Potencia!D75,0,($L$1-1)*10)","v":13664.421},{"$f":"OFFSET(Potencia!E75,0,($L$1-1)*10)","v":16133.488000000003},{"$f":"OFFSET(Potencia!F75,0,($L$1-1)*10)","v":18860.703000000001},{"$f":"OFFSET(Potencia!G75,0,($L$1-1)*10)","v":19707.314750000001},{"$f":"OFFSET(Potencia!H75,0,($L$1-1)*10)","v":21166.898749999997},{"$f":"OFFSET(Potencia!I75,0,($L$1-1)*10)","v":22757.853349999998},{"$f":"OFFSET(Potencia!J75,0,($L$1-1)*10)","v":23009.240349999993},{"$f":"OFFSET(Potencia!K75,0,($L$1-1)*10)","v":23027.710849999996},{"$f":"OFFSET(Potencia!L75,0,($L$1-1)*10)","v":" "}]
[null,"Solar fotovoltaica",{"$f":"OFFSET(Potencia!C76,0,($L$1-1)*10)","v":125.37531000000018},{"$f":"OFFSET(Potencia!D76,0,($L$1-1)*10)","v":617.97915000000035},{"$f":"OFFSET(Potencia!E76,0,($L$1-1)*10)","v":3350.5493500001007},{"$f":"OFFSET(Potencia!F76,0,($L$1-1)*10)","v":3391.5566800001016},{"$f":"OFFSET(Potencia!G76,0,($L$1-1)*10)","v":3829.3831500000965},{"$f":"OFFSET(Potencia!H76,0,($L$1-1)*10)","v":4233.2897000000976},{"$f":"OFFSET(Potencia!I76,0,($L$1-1)*10)","v":4532.3108400000965},{"$f":"OFFSET(Potencia!J76,0,($L$1-1)*10)","v":4638.4240800001462},{"$f":"OFFSET(Potencia!K76,0,($L$1-1)*10)","v":4645.6996200001468},{"$f":"OFFSET(Potencia!L76,0,($L$1-1)*10)","v":" "}]
[null,"Solar térmica",{"$f":"OFFSET(Potencia!C77,0,($L$1-1)*10)","v":11.02},{"$f":"OFFSET(Potencia!D77,0,($L$1-1)*10)","v":11.02},{"$f":"OFFSET(Potencia!E77,0,($L$1-1)*10)","v":60.92},{"$f":"OFFSET(Potencia!F77,0,($L$1-1)*10)","v":232.22},{"$f":"OFFSET(Potencia!G77,0,($L$1-1)*10)","v":531.91999999999996},{"$f":"OFFSET(Potencia!H77,0,($L$1-1)*10)","v":998.52},{"$f":"OFFSET(Potencia!I77,0,($L$1-1)*10)","v":1949.92},{"$f":"OFFSET(Potencia!J77,0,($L$1-1)*10)","v":2299.4275000000002},{"$f":"OFFSET(Potencia!K77,0,($L$1-1)*10)","v":2299.4275000000002},{"$f":"OFFSET(Potencia!L77,0,($L$1-1)*10)","v":" "}]
[null,"Térmica renovable/Otras renovables (2)",{"$f":"OFFSET(Potencia!C78,0,($L$1-1)*10)","v":592.62850000000003},{"$f":"OFFSET(Potencia!D78,0,($L$1-1)*10)","v":612.96491000000015},{"$f":"OFFSET(Potencia!E78,0,($L$1-1)*10)","v":654.06290999999999},{"$f":"OFFSET(Potencia!F78,0,($L$1-1)*10)","v":781.67291},{"$f":"OFFSET(Potencia!G78,0,($L$1-1)*10)","v":820.35191000000009},{"$f":"OFFSET(Potencia!H78,0,($L$1-1)*10)","v":886.28791000000001},{"$f":"OFFSET(Potencia!I78,0,($L$1-1)*10)","v":973.93041000000005},{"$f":"OFFSET(Potencia!J78,0,($L$1-1)*10)","v":949.94041000000016},{"$f":"OFFSET(Potencia!K78,0,($L$1-1)*10)","v":987.46341000000007},{"$f":"OFFSET(Potencia!L78,0,($L$1-1)*10)","v":" "}]
[null,"Térmica no renovable/Cogeneración y resto/Cogeneración (3)",{"$f":"OFFSET(Potencia!C79,0,($L$1-1)*10)","v":6442.0826999999999},{"$f":"OFFSET(Potencia!D79,0,($L$1-1)*10)","v":6557.5920999999998},{"$f":"OFFSET(Potencia!E79,0,($L$1-1)*10)","v":6810.2631000000001},{"$f":"OFFSET(Potencia!F79,0,($L$1-1)*10)","v":7043.96},{"$f":"OFFSET(Potencia!G79,0,($L$1-1)*10)","v":7214.6911999999993},{"$f":"OFFSET(Potencia!H79,0,($L$1-1)*10)","v":7296.6786999999986},{"$f":"OFFSET(Potencia!I79,0,($L$1-1)*10)","v":7238.2111999999979},{"$f":"OFFSET(Potencia!J79,0,($L$1-1)*10)","v":7178.9416999999994},{"$f":"OFFSET(Potencia!K79,0,($L$1-1)*10)","v":7168.8631999999989},{"$f":"OFFSET(Potencia!L79,0,($L$1-1)*10)","v":" "}]
[null,"Residuos no renovables(4)",{"$f":"OFFSET(Potencia!C80,0,($L$1-1)*10)","v":"-"},{"$f":"OFFSET(Potencia!D80,0,($L$1-1)*10)","v":"-"},{"$f":"OFFSET(Potencia!E80,0,($L$1-1)*10)","v":"-"},{"$f":"OFFSET(Potencia!F80,0,($L$1-1)*10)","v":"-"},{"$f":"OFFSET(Potencia!G80,0,($L$1-1)*10)","v":"-"},{"$f":"OFFSET(Potencia!H80,0,($L$1-1)*10)","v":"-"},{"$f":"OFFSET(Potencia!I80,0,($L$1-1)*10)","v":"-"},{"$f":"OFFSET(Potencia!J80,0,($L$1-1)*10)","v":"-"},{"$f":"OFFSET(Potencia!K80,0,($L$1-1)*10)","v":"-"},{"$f":"OFFSET(Potencia!L80,0,($L$1-1)*10)","v":" "}]
[null,"Residuos renovables(4)",{"$f":"OFFSET(Potencia!C81,0,($L$1-1)*10)","v":"-"},{"$f":"OFFSET(Potencia!D81,0,($L$1-1)*10)","v":"-"},{"$f":"OFFSET(Potencia!E81,0,($L$1-1)*10)","v":"-"},{"$f":"OFFSET(Potencia!F81,0,($L$1-1)*10)","v":"-"},{"$f":"OFFSET(Potencia!G81,0,($L$1-1)*10)","v":"-"},{"$f":"OFFSET(Potencia!H81,0,($L$1-1)*10)","v":"-"},{"$f":"OFFSET(Potencia!I81,0,($L$1-1)*10)","v":"-"},{"$f":"OFFSET(Potencia!J81,0,($L$1-1)*10)","v":"-"},{"$f":"OFFSET(Potencia!K81,0,($L$1-1)*10)","v":"-"},{"$f":"OFFSET(Potencia!L81,0,($L$1-1)*10)","v":" "}]
[null,"Total",{"$f":"OFFSET(Potencia!C82,0,($L$1-1)*10)","v":81508.645560000004},{"$f":"OFFSET(Potencia!D82,0,($L$1-1)*10)","v":88056.500809999998},{"$f":"OFFSET(Potencia!E82,0,($L$1-1)*10)","v":94166.232010000094},{"$f":"OFFSET(Potencia!F82,0,($L$1-1)*10)","v":97751.182240000126},{"$f":"OFFSET(Potencia!G82,0,($L$1-1)*10)","v":101370.81299000009},{"$f":"OFFSET(Potencia!H82,0,($L$1-1)*10)","v":102898.3088400001},{"$f":"OFFSET(Potencia!I82,0,($L$1-1)*10)","v":105242.86758000008},{"$f":"OFFSET(Potencia!J82,0,($L$1-1)*10)","v":105829.87882000011},{"$f":"OFFSET(Potencia!K82,0,($L$1-1)*10)","v":105758.05936000012},{"$f":"OFFSET(Potencia!L82,0,($L$1-1)*10)","v":" "}]
[null,"(1) Incluye todas aquellas unidades menores de 50 MW que no pertenecen a ninguna unidad de gestión hidráulica (UGH). A partir de 2015 están incluidas en hidráulica convencional y mixta."]
[null,"(2) Otras renovables incluyen biogás, biomasa, hidráulica marina y geotérmica. Los valores de potencia incluyen residuos hasta el 31/12/2014."]
[null,"(3) Los valores de potencia incluyen residuos hasta el 31/12/2014."]
[null,"(4) Potencia incluída en térmica renovable y térmica no renovable/cogeneración y resto/cogeneración hasta el 31/12/2014."]
[null,"Fuente: Comisión Nacional de los Mercados y la Competencia (CNMC) hasta 2014 en: resto hidráulica, eólica, solar fotovoltaica, solar térmica, térmica renovable/otras renovables, térmica no renovable/cogeneración y resto/cogeneración y residuos."]
[null,"Datos a 31 de diciembre."]
[null,{"$f":"IF(L1=2,IF(MONTH(FACT)=1,\"\",(CONCATENATE(\"(*) Para el año \",YEAR(FACT), \" datos a \",TEXT(FACT-30,\"mmmm\"),\" de \",YEAR(FACT),\".\"))),\"\")","v":""}]

{"sheet":"Potencia peninsular","index":2,"n_rows":32,"n_cols":12,"rows_kept":32,"cut":false,"hidden":false,"merged":[[30,1,30,11],[29,1,29,11],[24,1,24,11],[28,1,28,11],[25,1,25,11],[26,1,26,11],[27,1,27,5]]}
[null,null,null,null,null,null,null,null,null,null,null,3]
[]
[]
[]
[null,null,null,null,null,null,null,null,null,"    Sistema"]
[null,null,null,null,null,null,null,null,null,"    Periodo"]
[]
[null,null,{"$f":"OFFSET(Potencia!C2,0,($L$1-1)*10)","v":2010},{"$f":"OFFSET(Potencia!D2,0,($L$1-1)*10)","v":2011},{"$f":"OFFSET(Potencia!E2,0,($L$1-1)*10)","v":2012},{"$f":"OFFSET(Potencia!F2,0,($L$1-1)*10)","v":2013},{"$f":"OFFSET(Potencia!G2,0,($L$1-1)*10)","v":2014},{"$f":"OFFSET(Potencia!H2,0,($L$1-1)*10)","v":" "},{"$f":"OFFSET(Potencia!I2,0,($L$1-1)*10)","v":" "},{"$f":"OFFSET(Potencia!J2,0,($L$1-1)*10)","v":" "},{"$f":"OFFSET(Potencia!K2,0,($L$1-1)*10)","v":" "},{"$f":"OFFSET(Potencia!L2,0,($L$1-1)*10)","v":" "}]
[]
[null,"Hidráulica convencional y mixta",{"$f":"OFFSET(Potencia!C3,0,($L$1-1)*10)","v":14655.31},{"$f":"OFFSET(Potencia!D3,0,($L$1-1)*10)","v":14667.21},{"$f":"OFFSET(Potencia!E3,0,($L$1-1)*10)","v":14886.65},{"$f":"OFFSET(Potencia!F3,0,($L$1-1)*10)","v":14889.69},{"$f":"OFFSET(Potencia!G3,0,($L$1-1)*10)","v":14895.92},{"$f":"OFFSET(Potencia!H3,0,($L$1-1)*10)","v":" "},{"$f":"OFFSET(Potencia!I3,0,($L$1-1)*10)","v":" "},{"$f":"OFFSET(Potencia!J3,0,($L$1-1)*10)","v":" "},{"$f":"OFFSET(Potencia!K3,0,($L$1-1)*10)","v":" "},{"$f":"OFFSET(Potencia!L3,0,($L$1-1)*10)","v":" "}]
[null,"Bombeo puro",{"$f":"OFFSET(Potencia!C4,0,($L$1-1)*10)","v":2450.9399999999996},{"$f":"OFFSET(Potencia!D4,0,($L$1-1)*10)","v":2450.9399999999996},{"$f":"OFFSET(Potencia!E4,0,($L$1-1)*10)","v":2450.9399999999996},{"$f":"OFFSET(Potencia!F4,0,($L$1-1)*10)","v":2450.9399999999996},{"$f":"OFFSET(Potencia!G4,0,($L$1-1)*10)","v":2450.9399999999996},{"$f":"OFFSET(Potencia!H4,0,($L$1-1)*10)","v":" "},{"$f":"OFFSET(Potencia!I4,0,($L$1-1)*10)","v":" "},{"$f":"OFFSET(Potencia!J4,0,($L$1-1)*10)","v":" "},{"$f":"OFFSET(Potencia!K4,0,($L$1-1)*10)","v":" "},{"$f":"OFFSET(Potencia!L4,0,($L$1-1)*10)","v":" "}]
[null,"Nuclear",{"$f":"OFFSET(Potencia!C5,0,($L$1-1)*10)","v":7515.3700000000008},{"$f":"OFFSET(Potencia!D5,0,($L$1-1)*10)","v":7572.58},{"$f":"OFFSET(Potencia!E5,0,($L$1-1)*10)","v":7572.58},{"$f":"OFFSET(Potencia!F5,0,($L$1-1)*10)","v":7572.58},{"$f":"OFFSET(Potencia!G5,0,($L$1-1)*10)","v":7572.58},{"$f":"OFFSET(Potencia!H5,0,($L$1-1)*10)","v":" "},{"$f":"OFFSET(Potencia!I5,0,($L$1-1)*10)","v":" "},{"$f":"OFFSET(Potencia!J5,0,($L$1-1)*10)","v":" "},{"$f":"OFFSET(Potencia!K5,0,($L$1-1)*10)","v":" "},{"$f":"OFFSET(Potencia!L5,0,($L$1-1)*10)","v":" "}]
[null,"Carbón",{"$f":"OFFSET(Potencia!C6,0,($L$1-1)*10)","v":10873.95},{"$f":"OFFSET(Potencia!D6,0,($L$1-1)*10)","v":11103.390000000001},{"$f":"OFFSET(Potencia!E6,0,($L$1-1)*10)","v":10595.47},{"$f":"OFFSET(Potencia!F6,0,($L$1-1)*10)","v":10610.37},{"$f":"OFFSET(Potencia!G6,0,($L$1-1)*10)","v":10468.02},{"$f":"OFFSET(Potencia!H6,0,($L$1-1)*10)","v":" "},{"$f":"OFFSET(Potencia!I6,0,($L$1-1)*10)","v":" "},{"$f":"OFFSET(Potencia!J6,0,($L$1-1)*10)","v":" "},{"$f":"OFFSET(Potencia!K6,0,($L$1-1)*10)","v":" "},{"$f":"OFFSET(Potencia!L6,0,($L$1-1)*10)","v":" "}]
[null,"Fuel + Gas",{"$f":"OFFSET(Potencia!C7,0,($L$1-1)*10)","v":2144.79},{"$f":"OFFSET(Potencia!D7,0,($L$1-1)*10)","v":806.52},{"$f":"OFFSET(Potencia!E7,0,($L$1-1)*10)","v":505.52},{"$f":"OFFSET(Potencia!F7,0,($L$1-1)*10)","v":505.52},{"$f":"OFFSET(Potencia!G7,0,($L$1-1)*10)","v":505.52},{"$f":"OFFSET(Potencia!H7,0,($L$1-1)*10)","v":" "},{"$f":"OFFSET(Potencia!I7,0,($L$1-1)*10)","v":" "},{"$f":"OFFSET(Potencia!J7,0,($L$1-1)*10)","v":" "},{"$f":"OFFSET(Potencia!K7,0,($L$1-1)*10)","v":" "},{"$f":"OFFSET(Potencia!L7,0,($L$1-1)*10)","v":" "}]
[null,"Ciclo combinado",{"$f":"OFFSET(Potencia!C8,0,($L$1-1)*10)","v":24844.380000000005},{"$f":"OFFSET(Potencia!D8,0,($L$1-1)*10)","v":24911.730000000003},{"$f":"OFFSET(Potencia!E8,0,($L$1-1)*10)","v":24947.71},{"$f":"OFFSET(Potencia!F8,0,($L$1-1)*10)","v":24947.71},{"$f":"OFFSET(Potencia!G8,0,($L$1-1)*10)","v":24947.71},{"$f":"OFFSET(Potencia!H8,0,($L$1-1)*10)","v":" "},{"$f":"OFFSET(Potencia!I8,0,($L$1-1)*10)","v":" "},{"$f":"OFFSET(Potencia!J8,0,($L$1-1)*10)","v":" "},{"$f":"OFFSET(Potencia!K8,0,($L$1-1)*10)","v":" "},{"$f":"OFFSET(Potencia!L8,0,($L$1-1)*10)","v":" "}]
[null,"Resto hidráulica (1)",{"$f":"OFFSET(Potencia!C9,0,($L$1-1)*10)","v":2030.9589800000001},{"$f":"OFFSET(Potencia!D9,0,($L$1-1)*10)","v":2036.4207800000001},{"$f":"OFFSET(Potencia!E9,0,($L$1-1)*10)","v":2039.9287800000002},{"$f":"OFFSET(Potencia!F9,0,($L$1-1)*10)","v":2094.9217799999997},{"$f":"OFFSET(Potencia!G9,0,($L$1-1)*10)","v":2094.9217799999997},{"$f":"OFFSET(Potencia!H9,0,($L$1-1)*10)","v":" "},{"$f":"OFFSET(Potencia!I9,0,($L$1-1)*10)","v":" "},{"$f":"OFFSET(Potencia!J9,0,($L$1-1)*10)","v":" "},{"$f":"OFFSET(Potencia!K9,0,($L$1-1)*10)","v":" "},{"$f":"OFFSET(Potencia!L9,0,($L$1-1)*10)","v":" "}]
[null,"Eólica",{"$f":"OFFSET(Potencia!C10,0,($L$1-1)*10)","v":19561.053450000003},{"$f":"OFFSET(Potencia!D10,0,($L$1-1)*10)","v":21018.087449999999},{"$f":"OFFSET(Potencia!E10,0,($L$1-1)*10)","v":22608.70205},{"$f":"OFFSET(Potencia!F10,0,($L$1-1)*10)","v":22852.974049999993},{"$f":"OFFSET(Potencia!G10,0,($L$1-1)*10)","v":22871.444549999997},{"$f":"OFFSET(Potencia!H10,0,($L$1-1)*10)","v":" "},{"$f":"OFFSET(Potencia!I10,0,($L$1-1)*10)","v":" "},{"$f":"OFFSET(Potencia!J10,0,($L$1-1)*10)","v":" "},{"$f":"OFFSET(Potencia!K10,0,($L$1-1)*10)","v":" "},{"$f":"OFFSET(Potencia!L10,0,($L$1-1)*10)","v":" "}]
[null,"Solar fotovoltaica",{"$f":"OFFSET(Potencia!C11,0,($L$1-1)*10)","v":3645.2139100000977},{"$f":"OFFSET(Potencia!D11,0,($L$1-1)*10)","v":4032.0594600000986},{"$f":"OFFSET(Potencia!E11,0,($L$1-1)*10)","v":4293.5912300000982},{"$f":"OFFSET(Potencia!F11,0,($L$1-1)*10)","v":4396.5001700001485},{"$f":"OFFSET(Potencia!G11,0,($L$1-1)*10)","v":4402.664610000149},{"$f":"OFFSET(Potencia!H11,0,($L$1-1)*10)","v":" "},{"$f":"OFFSET(Potencia!I11,0,($L$1-1)*10)","v":" "},{"$f":"OFFSET(Potencia!J11,0,($L$1-1)*10)","v":" "},{"$f":"OFFSET(Potencia!K11,0,($L$1-1)*10)","v":" "},{"$f":"OFFSET(Potencia!L11,0,($L$1-1)*10)","v":" "}]
[null,"Solar térmica",{"$f":"OFFSET(Potencia!C12,0,($L$1-1)*10)","v":531.91999999999996},{"$f":"OFFSET(Potencia!D12,0,($L$1-1)*10)","v":998.52},{"$f":"OFFSET(Potencia!E12,0,($L$1-1)*10)","v":1949.92},{"$f":"OFFSET(Potencia!F12,0,($L$1-1)*10)","v":2299.4275000000002},{"$f":"OFFSET(Potencia!G12,0,($L$1-1)*10)","v":2299.4275000000002},{"$f":"OFFSET(Potencia!H12,0,($L$1-1)*10)","v":" "},{"$f":"OFFSET(Potencia!I12,0,($L$1-1)*10)","v":" "},{"$f":"OFFSET(Potencia!J12,0,($L$1-1)*10)","v":" "},{"$f":"OFFSET(Potencia!K12,0,($L$1-1)*10)","v":" "},{"$f":"OFFSET(Potencia!L12,0,($L$1-1)*10)","v":" "}]
[null,"Térmica renovable/Otras renovables (2)",{"$f":"OFFSET(Potencia!C13,0,($L$1-1)*10)","v":778.78391000000011},{"$f":"OFFSET(Potencia!D13,0,($L$1-1)*10)","v":882.91990999999996},{"$f":"OFFSET(Potencia!E13,0,($L$1-1)*10)","v":968.43241},{"$f":"OFFSET(Potencia!F13,0,($L$1-1)*10)","v":944.44241000000011},{"$f":"OFFSET(Potencia!G13,0,($L$1-1)*10)","v":981.96541000000002},{"$f":"OFFSET(Potencia!H13,0,($L$1-1)*10)","v":" "},{"$f":"OFFSET(Potencia!I13,0,($L$1-1)*10)","v":" "},{"$f":"OFFSET(Potencia!J13,0,($L$1-1)*10)","v":" "},{"$f":"OFFSET(Potencia!K13,0,($L$1-1)*10)","v":" "},{"$f":"OFFSET(Potencia!L13,0,($L$1-1)*10)","v":" "}]
[null,"Térmica no renovable/Cogeneración y resto/Cogeneración (3)",{"$f":"OFFSET(Potencia!C14,0,($L$1-1)*10)","v":7098.0841999999993},{"$f":"OFFSET(Potencia!D14,0,($L$1-1)*10)","v":7179.0716999999986},{"$f":"OFFSET(Potencia!E14,0,($L$1-1)*10)","v":7117.1501999999982},{"$f":"OFFSET(Potencia!F14,0,($L$1-1)*10)","v":7057.8806999999997},{"$f":"OFFSET(Potencia!G14,0,($L$1-1)*10)","v":7047.8021999999992},{"$f":"OFFSET(Potencia!H14,0,($L$1-1)*10)","v":" "},{"$f":"OFFSET(Potencia!I14,0,($L$1-1)*10)","v":" "},{"$f":"OFFSET(Potencia!J14,0,($L$1-1)*10)","v":" "},{"$f":"OFFSET(Potencia!K14,0,($L$1-1)*10)","v":" "},{"$f":"OFFSET(Potencia!L14,0,($L$1-1)*10)","v":" "}]
[null,"Residuos no renovables(4)",{"$f":"OFFSET(Potencia!C15,0,($L$1-1)*10)","v":"-"},{"$f":"OFFSET(Potencia!D15,0,($L$1-1)*10)","v":"-"},{"$f":"OFFSET(Potencia!E15,0,($L$1-1)*10)","v":"-"},{"$f":"OFFSET(Potencia!F15,0,($L$1-1)*10)","v":"-"},{"$f":"OFFSET(Potencia!G15,0,($L$1-1)*10)","v":"-"},{"$f":"OFFSET(Potencia!H15,0,($L$1-1)*10)","v":" "},{"$f":"OFFSET(Potencia!I15,0,($L$1-1)*10)","v":" "},{"$f":"OFFSET(Potencia!J15,0,($L$1-1)*10)","v":" "},{"$f":"OFFSET(Potencia!K15,0,($L$1-1)*10)","v":" "},{"$f":"OFFSET(Potencia!L15,0,($L$1-1)*10)","v":" "}]
[null,"Residuos renovables(4)",{"$f":"OFFSET(Potencia!C16,0,($L$1-1)*10)","v":"-"},{"$f":"OFFSET(Potencia!D16,0,($L$1-1)*10)","v":"-"},{"$f":"OFFSET(Potencia!E16,0,($L$1-1)*10)","v":"-"},{"$f":"OFFSET(Potencia!F16,0,($L$1-1)*10)","v":"-"},{"$f":"OFFSET(Potencia!G16,0,($L$1-1)*10)","v":"-"},{"$f":"OFFSET(Potencia!H16,0,($L$1-1)*10)","v":" "},{"$f":"OFFSET(Potencia!I16,0,($L$1-1)*10)","v":" "},{"$f":"OFFSET(Potencia!J16,0,($L$1-1)*10)","v":" "},{"$f":"OFFSET(Potencia!K16,0,($L$1-1)*10)","v":" "},{"$f":"OFFSET(Potencia!L16,0,($L$1-1)*10)","v":" "}]
[null,"Total",{"$f":"OFFSET(Potencia!C17,0,($L$1-1)*10)","v":96130.75445000011},{"$f":"OFFSET(Potencia!D17,0,($L$1-1)*10)","v":97659.449300000109},{"$f":"OFFSET(Potencia!E17,0,($L$1-1)*10)","v":99936.594670000093},{"$f":"OFFSET(Potencia!F17,0,($L$1-1)*10)","v":100622.95661000014},{"$f":"OFFSET(Potencia!G17,0,($L$1-1)*10)","v":100538.91605000016},{"$f":"OFFSET(Potencia!H17,0,($L$1-1)*10)","v":" "},{"$f":"OFFSET(Potencia!I17,0,($L$1-1)*10)","v":" "},{"$f":"OFFSET(Potencia!J17,0,($L$1-1)*10)","v":" "},{"$f":"OFFSET(Potencia!K17,0,($L$1-1)*10)","v":" "},{"$f":"OFFSET(Potencia!L17,0,($L$1-1)*10)","v":" "}]
[null,"(1) Incluye todas aquellas unidades menores de 50 MW que no pertenecen a ninguna unidad de gestión hidráulica (UGH). A partir de 2015 están incluidas en hidráulica convencional y mixta."]
[null,"(2) Otras renovables incluyen biogás, biomasa, hidráulica marina y geotérmica. Los valores de potencia incluyen residuos hasta el 31/12/2014."]
[null,"(3) Los valores de potencia incluyen residuos hasta el 31/12/2014."]
[null,"(4) Potencia incluída en térmica renovable y térmica no renovable/cogeneración y resto/cogeneración hasta el 31/12/2014."]
[null,"Fuente: Comisión Nacional de los Mercados y la Competencia (CNMC) hasta 2014 en: resto hidráulica, eólica, solar fotovoltaica, solar térmica, térmica renovable/otras renovables, térmica no renovable/cogeneración y resto/cogeneración y residuos."]
[null,"Datos a 31 de diciembre."]
[null,{"$f":"IF(L1=4,IF(MONTH(FACT)=1,\"\",(CONCATENATE(\"(*) Para el año \",YEAR(FACT), \" datos a \",TEXT(FACT-30,\"mmmm\"),\" de \",YEAR(FACT),\".\"))),\"\")","v":""}]
[null,"A partir del 1/1/2011 se incluye GICC (Elcogás) en carbón, anteriormente en fuel/gas. Según el R.D. 134/2010 esta central está obligada a participar, como unidad vendedora que utiliza carbón autóctono como combustible, en el proceso de resolucion de restricciones por garantía de suministro."]

{"sheet":"Potencia Baleares","index":3,"n_rows":29,"n_cols":12,"rows_kept":29,"cut":false,"hidden":false,"merged":[[28,1,28,11],[27,1,27,11],[22,1,22,11],[26,1,26,11],[23,1,23,11],[24,1,24,11],[25,1,25,5]]}
[null,null,null,null,null,null,null,null,null,null,null,1]
[]
[]
[]
[null,null,null,null,null,null,null,null,null,"    Sistema"]
[null,null,null,null,null,null,null,null,null,"    Periodo"]
[]
[null,null,{"$f":"OFFSET(Potencia!C19,0,($L$1-1)*10)","v":2006},{"$f":"OFFSET(Potencia!D19,0,($L$1-1)*10)","v":2007},{"$f":"OFFSET(Potencia!E19,0,($L$1-1)*10)","v":2008},{"$f":"OFFSET(Potencia!F19,0,($L$1-1)*10)","v":2009},{"$f":"OFFSET(Potencia!G19,0,($L$1-1)*10)","v":2010},{"$f":"OFFSET(Potencia!H19,0,($L$1-1)*10)","v":2011},{"$f":"OFFSET(Potencia!I19,0,($L$1-1)*10)","v":2012},{"$f":"OFFSET(Potencia!J19,0,($L$1-1)*10)","v":2013},{"$f":"OFFSET(Potencia!K19,0,($L$1-1)*10)","v":2014},{"$f":"OFFSET(Potencia!L19,0,($L$1-1)*10)","v":" "}]
[]
[null,"Carbón",{"$f":"OFFSET(Potencia!C20,0,($L$1-1)*10)","v":468.4},{"$f":"OFFSET(Potencia!D20,0,($L$1-1)*10)","v":468.4},{"$f":"OFFSET(Potencia!E20,0,($L$1-1)*10)","v":468.4},{"$f":"OFFSET(Potencia!F20,0,($L$1-1)*10)","v":468.4},{"$f":"OFFSET(Potencia!G20,0,($L$1-1)*10)","v":468.4},{"$f":"OFFSET(Potencia!H20,0,($L$1-1)*10)","v":468.4},{"$f":"OFFSET(Potencia!I20,0,($L$1-1)*10)","v":468.4},{"$f":"OFFSET(Potencia!J20,0,($L$1-1)*10)","v":468.4},{"$f":"OFFSET(Potencia!K20,0,($L$1-1)*10)","v":468.4},{"$f":"OFFSET(Potencia!L20,0,($L$1-1)*10)","v":" "}]
[null,"Motores diesel",{"$f":"OFFSET(Potencia!C21,0,($L$1-1)*10)","v":175.6},{"$f":"OFFSET(Potencia!D21,0,($L$1-1)*10)","v":210.4},{"$f":"OFFSET(Potencia!E21,0,($L$1-1)*10)","v":203.3},{"$f":"OFFSET(Potencia!F21,0,($L$1-1)*10)","v":196.2},{"$f":"OFFSET(Potencia!G21,0,($L$1-1)*10)","v":196.2},{"$f":"OFFSET(Potencia!H21,0,($L$1-1)*10)","v":182},{"$f":"OFFSET(Potencia!I21,0,($L$1-1)*10)","v":182},{"$f":"OFFSET(Potencia!J21,0,($L$1-1)*10)","v":182},{"$f":"OFFSET(Potencia!K21,0,($L$1-1)*10)","v":182},{"$f":"OFFSET(Potencia!L21,0,($L$1-1)*10)","v":" "}]
[null,"Turbina de gas",{"$f":"OFFSET(Potencia!C22,0,($L$1-1)*10)","v":541.89999999999986},{"$f":"OFFSET(Potencia!D22,0,($L$1-1)*10)","v":387.9},{"$f":"OFFSET(Potencia!E22,0,($L$1-1)*10)","v":460.7999999999999},{"$f":"OFFSET(Potencia!F22,0,($L$1-1)*10)","v":531.79999999999995},{"$f":"OFFSET(Potencia!G22,0,($L$1-1)*10)","v":533.4},{"$f":"OFFSET(Potencia!H22,0,($L$1-1)*10)","v":533.4},{"$f":"OFFSET(Potencia!I22,0,($L$1-1)*10)","v":557.4},{"$f":"OFFSET(Potencia!J22,0,($L$1-1)*10)","v":605.4},{"$f":"OFFSET(Potencia!K22,0,($L$1-1)*10)","v":605.4},{"$f":"OFFSET(Potencia!L22,0,($L$1-1)*10)","v":" "}]
[null,"Fuel + Gas",{"$f":"OFFSET(Potencia!C23,0,($L$1-1)*10)","v":717.49999999999989},{"$f":"OFFSET(Potencia!D23,0,($L$1-1)*10)","v":598.29999999999995},{"$f":"OFFSET(Potencia!E23,0,($L$1-1)*10)","v":664.09999999999991},{"$f":"OFFSET(Potencia!F23,0,($L$1-1)*10)","v":728},{"$f":"OFFSET(Potencia!G23,0,($L$1-1)*10)","v":729.59999999999991},{"$f":"OFFSET(Potencia!H23,0,($L$1-1)*10)","v":715.4},{"$f":"OFFSET(Potencia!I23,0,($L$1-1)*10)","v":739.4},{"$f":"OFFSET(Potencia!J23,0,($L$1-1)*10)","v":787.4},{"$f":"OFFSET(Potencia!K23,0,($L$1-1)*10)","v":787.4},{"$f":"OFFSET(Potencia!L23,0,($L$1-1)*10)","v":" "}]
[null,"Ciclo combinado",{"$f":"OFFSET(Potencia!C24,0,($L$1-1)*10)","v":418.15},{"$f":"OFFSET(Potencia!D24,0,($L$1-1)*10)","v":643.45000000000005},{"$f":"OFFSET(Potencia!E24,0,($L$1-1)*10)","v":643.45000000000005},{"$f":"OFFSET(Potencia!F24,0,($L$1-1)*10)","v":793.65000000000009},{"$f":"OFFSET(Potencia!G24,0,($L$1-1)*10)","v":857.95},{"$f":"OFFSET(Potencia!H24,0,($L$1-1)*10)","v":857.95},{"$f":"OFFSET(Potencia!I24,0,($L$1-1)*10)","v":857.95},{"$f":"OFFSET(Potencia!J24,0,($L$1-1)*10)","v":857.95},{"$f":"OFFSET(Potencia!K24,0,($L$1-1)*10)","v":857.95},{"$f":"OFFSET(Potencia!L24,0,($L$1-1)*10)","v":" "}]
[null,"Generación auxiliar (1)",{"$f":"OFFSET(Potencia!C25,0,($L$1-1)*10)","v":"-"},{"$f":"OFFSET(Potencia!D25,0,($L$1-1)*10)","v":"-"},{"$f":"OFFSET(Potencia!E25,0,($L$1-1)*10)","v":"-"},{"$f":"OFFSET(Potencia!F25,0,($L$1-1)*10)","v":"-"},{"$f":"OFFSET(Potencia!G25,0,($L$1-1)*10)","v":"-"},{"$f":"OFFSET(Potencia!H25,0,($L$1-1)*10)","v":"-"},{"$f":"OFFSET(Potencia!I25,0,($L$1-1)*10)","v":"-"},{"$f":"OFFSET(Potencia!J25,0,($L$1-1)*10)","v":"-"},{"$f":"OFFSET(Potencia!K25,0,($L$1-1)*10)","v":"-"},{"$f":"OFFSET(Potencia!L25,0,($L$1-1)*10)","v":" "}]
[null,"Eólica",{"$f":"OFFSET(Potencia!C26,0,($L$1-1)*10)","v":3.6762999999999901},{"$f":"OFFSET(Potencia!D26,0,($L$1-1)*10)","v":3.6762999999999999},{"$f":"OFFSET(Potencia!E26,0,($L$1-1)*10)","v":3.6762999999999999},{"$f":"OFFSET(Potencia!F26,0,($L$1-1)*10)","v":3.6762999999999999},{"$f":"OFFSET(Potencia!G26,0,($L$1-1)*10)","v":3.6762999999999999},{"$f":"OFFSET(Potencia!H26,0,($L$1-1)*10)","v":3.6762999999999901},{"$f":"OFFSET(Potencia!I26,0,($L$1-1)*10)","v":3.6762999999999901},{"$f":"OFFSET(Potencia!J26,0,($L$1-1)*10)","v":3.6762999999999999},{"$f":"OFFSET(Potencia!K26,0,($L$1-1)*10)","v":3.6762999999999999},{"$f":"OFFSET(Potencia!L26,0,($L$1-1)*10)","v":" "}]
[null,"Solar fotovoltaica",{"$f":"OFFSET(Potencia!C27,0,($L$1-1)*10)","v":1.1128899999999999},{"$f":"OFFSET(Potencia!D27,0,($L$1-1)*10)","v":1.4766900000000001},{"$f":"OFFSET(Potencia!E27,0,($L$1-1)*10)","v":51.537539999999701},{"$f":"OFFSET(Potencia!F27,0,($L$1-1)*10)","v":52.584539999999699},{"$f":"OFFSET(Potencia!G27,0,($L$1-1)*10)","v":59.013529999999705},{"$f":"OFFSET(Potencia!H27,0,($L$1-1)*10)","v":63.132079999999704},{"$f":"OFFSET(Potencia!I27,0,($L$1-1)*10)","v":77.5061299999997},{"$f":"OFFSET(Potencia!J27,0,($L$1-1)*10)","v":77.674929999999904},{"$f":"OFFSET(Potencia!K27,0,($L$1-1)*10)","v":77.733829999999898},{"$f":"OFFSET(Potencia!L27,0,($L$1-1)*10)","v":" "}]
[null,"Térmica renovable/Otras renovables (2)",{"$f":"OFFSET(Potencia!C28,0,($L$1-1)*10)","v":"-"},{"$f":"OFFSET(Potencia!D28,0,($L$1-1)*10)","v":"-"},{"$f":"OFFSET(Potencia!E28,0,($L$1-1)*10)","v":"-"},{"$f":"OFFSET(Potencia!F28,0,($L$1-1)*10)","v":"-"},{"$f":"OFFSET(Potencia!G28,0,($L$1-1)*10)","v":"-"},{"$f":"OFFSET(Potencia!H28,0,($L$1-1)*10)","v":"-"},{"$f":"OFFSET(Potencia!I28,0,($L$1-1)*10)","v":2.13},{"$f":"OFFSET(Potencia!J28,0,($L$1-1)*10)","v":2.13},{"$f":"OFFSET(Potencia!K28,0,($L$1-1)*10)","v":2.13},{"$f":"OFFSET(Potencia!L28,0,($L$1-1)*10)","v":" "}]
[null,"Térmica no renovable/Cogeneración y resto/Cogeneración (3)",{"$f":"OFFSET(Potencia!C29,0,($L$1-1)*10)","v":38.31},{"$f":"OFFSET(Potencia!D29,0,($L$1-1)*10)","v":39.167999999999999},{"$f":"OFFSET(Potencia!E29,0,($L$1-1)*10)","v":38.188000000000002},{"$f":"OFFSET(Potencia!F29,0,($L$1-1)*10)","v":40.402000000000001},{"$f":"OFFSET(Potencia!G29,0,($L$1-1)*10)","v":81.170999999999992},{"$f":"OFFSET(Potencia!H29,0,($L$1-1)*10)","v":82.170999999999992},{"$f":"OFFSET(Potencia!I29,0,($L$1-1)*10)","v":85.625},{"$f":"OFFSET(Potencia!J29,0,($L$1-1)*10)","v":85.625},{"$f":"OFFSET(Potencia!K29,0,($L$1-1)*10)","v":85.625},{"$f":"OFFSET(Potencia!L29,0,($L$1-1)*10)","v":" "}]
[null,"Residuos no renovables(4)",{"$f":"OFFSET(Potencia!C30,0,($L$1-1)*10)","v":"-"},{"$f":"OFFSET(Potencia!D30,0,($L$1-1)*10)","v":"-"},{"$f":"OFFSET(Potencia!E30,0,($L$1-1)*10)","v":"-"},{"$f":"OFFSET(Potencia!F30,0,($L$1-1)*10)","v":"-"},{"$f":"OFFSET(Potencia!G30,0,($L$1-1)*10)","v":"-"},{"$f":"OFFSET(Potencia!H30,0,($L$1-1)*10)","v":"-"},{"$f":"OFFSET(Potencia!I30,0,($L$1-1)*10)","v":"-"},{"$f":"OFFSET(Potencia!J30,0,($L$1-1)*10)","v":"-"},{"$f":"OFFSET(Potencia!K30,0,($L$1-1)*10)","v":"-"},{"$f":"OFFSET(Potencia!L30,0,($L$1-1)*10)","v":" "}]
[null,"Residuos renovables(4)",{"$f":"OFFSET(Potencia!C31,0,($L$1-1)*10)","v":"-"},{"$f":"OFFSET(Potencia!D31,0,($L$1-1)*10)","v":"-"},{"$f":"OFFSET(Potencia!E31,0,($L$1-1)*10)","v":"-"},{"$f":"OFFSET(Potencia!F31,0,($L$1-1)*10)","v":"-"},{"$f":"OFFSET(Potencia!G31,0,($L$1-1)*10)","v":"-"},{"$f":"OFFSET(Potencia!H31,0,($L$1-1)*10)","v":"-"},{"$f":"OFFSET(Potencia!I31,0,($L$1-1)*10)","v":"-"},{"$f":"OFFSET(Potencia!J31,0,($L$1-1)*10)","v":"-"},{"$f":"OFFSET(Potencia!K31,0,($L$1-1)*10)","v":"-"},{"$f":"OFFSET(Potencia!L31,0,($L$1-1)*10)","v":" "}]
[null,"Total",{"$f":"OFFSET(Potencia!C32,0,($L$1-1)*10)","v":1647.1491899999999},{"$f":"OFFSET(Potencia!D32,0,($L$1-1)*10)","v":1754.4709899999998},{"$f":"OFFSET(Potencia!E32,0,($L$1-1)*10)","v":1869.35184},{"$f":"OFFSET(Potencia!F32,0,($L$1-1)*10)","v":2086.7128399999997},{"$f":"OFFSET(Potencia!G32,0,($L$1-1)*10)","v":2199.8108299999994},{"$f":"OFFSET(Potencia!H32,0,($L$1-1)*10)","v":2190.7293799999998},{"$f":"OFFSET(Potencia!I32,0,($L$1-1)*10)","v":2234.6874299999999},{"$f":"OFFSET(Potencia!J32,0,($L$1-1)*10)","v":2282.8562300000003},{"$f":"OFFSET(Potencia!K32,0,($L$1-1)*10)","v":2282.9151300000003},{"$f":"OFFSET(Potencia!L32,0,($L$1-1)*10)","v":" "}]
[null,"(1) Grupos de emergencia que se instalan de forma transitoria en determinadas zonas para cubrir un déficit de generación."]
[null,"(2) Otras renovables incluyen biogás y biomasa. Los valores de potencia incluyen residuos hasta el 31/12/2014."]
[null,"(3) Los valores de potencia incluyen residuos hasta el 31/12/2014."]
[null,"(4) Potencia incluída en térmica renovable y térmica no renovable/cogeneración y resto/cogeneración hasta el 31/12/2014."]
[null,"Fuente: Comisión Nacional de los Mercados y la Competencia (CNMC) hasta 2014 en: eólica, solar fotovoltaica, térmica renovable/otras renovables, térmica no renovable/cogeneración y resto/cogeneración y residuos."]
[null,"Datos a 31 de diciembre."]
[null,{"$f":"IF(L1=2,IF(MONTH(FACT)=1,\"\",(CONCATENATE(\"(*) Para el año \",YEAR(FACT), \" datos a \",TEXT(FACT-30,\"mmmm\"),\" de \",YEAR(FACT),\".\"))),\"\")","v":""}]

{"sheet":"Potencia Canarias","index":4,"n_rows":29,"n_cols":12,"rows_kept":29,"cut":false,"hidden":false,"merged":[[28,1,28,11],[24,1,24,11],[23,1,23,11],[26,1,26,11],[25,1,25,11],[27,1,27,11]]}
[null,null,null,null,null,null,null,null,null,null,null,1]
[]
[]
[]
[null,null,null,null,null,null,null,null,null,"    Sistema"]
[null,null,null,null,null,null,null,null,null,"    Periodo"]
[]
[null,null,{"$f":"OFFSET(Potencia!C34,0,($L$1-1)*10)","v":2006},{"$f":"OFFSET(Potencia!D34,0,($L$1-1)*10)","v":2007},{"$f":"OFFSET(Potencia!E34,0,($L$1-1)*10)","v":2008},{"$f":"OFFSET(Potencia!F34,0,($L$1-1)*10)","v":2009},{"$f":"OFFSET(Potencia!G34,0,($L$1-1)*10)","v":2010},{"$f":"OFFSET(Potencia!H34,0,($L$1-1)*10)","v":2011},{"$f":"OFFSET(Potencia!I34,0,($L$1-1)*10)","v":2012},{"$f":"OFFSET(Potencia!J34,0,($L$1-1)*10)","v":2013},{"$f":"OFFSET(Potencia!K34,0,($L$1-1)*10)","v":2014},{"$f":"OFFSET(Potencia!L34,0,($L$1-1)*10)","v":" "}]
[]
[null,"Hidráulica",{"$f":"OFFSET(Potencia!C35,0,($L$1-1)*10)","v":0.8},{"$f":"OFFSET(Potencia!D35,0,($L$1-1)*10)","v":0.8},{"$f":"OFFSET(Potencia!E35,0,($L$1-1)*10)","v":0.8},{"$f":"OFFSET(Potencia!F35,0,($L$1-1)*10)","v":0.8},{"$f":"OFFSET(Potencia!G35,0,($L$1-1)*10)","v":0.8},{"$f":"OFFSET(Potencia!H35,0,($L$1-1)*10)","v":0.8},{"$f":"OFFSET(Potencia!I35,0,($L$1-1)*10)","v":0.8},{"$f":"OFFSET(Potencia!J35,0,($L$1-1)*10)","v":0.8},{"$f":"OFFSET(Potencia!K35,0,($L$1-1)*10)","v":0.8},{"$f":"OFFSET(Potencia!L35,0,($L$1-1)*10)","v":" "}]
[null,"Motores diesel",{"$f":"OFFSET(Potencia!C36,0,($L$1-1)*10)","v":476.73000000000008},{"$f":"OFFSET(Potencia!D36,0,($L$1-1)*10)","v":476.73000000000008},{"$f":"OFFSET(Potencia!E36,0,($L$1-1)*10)","v":476.73000000000008},{"$f":"OFFSET(Potencia!F36,0,($L$1-1)*10)","v":476.73000000000008},{"$f":"OFFSET(Potencia!G36,0,($L$1-1)*10)","v":476.73000000000008},{"$f":"OFFSET(Potencia!H36,0,($L$1-1)*10)","v":476.73000000000008},{"$f":"OFFSET(Potencia!I36,0,($L$1-1)*10)","v":476.73000000000008},{"$f":"OFFSET(Potencia!J36,0,($L$1-1)*10)","v":496.2000000000001},{"$f":"OFFSET(Potencia!K36,0,($L$1-1)*10)","v":495.92000000000013},{"$f":"OFFSET(Potencia!L36,0,($L$1-1)*10)","v":" "}]
[null,"Turbina de gas",{"$f":"OFFSET(Potencia!C37,0,($L$1-1)*10)","v":520.17000000000007},{"$f":"OFFSET(Potencia!D37,0,($L$1-1)*10)","v":520.17000000000007},{"$f":"OFFSET(Potencia!E37,0,($L$1-1)*10)","v":520.17000000000007},{"$f":"OFFSET(Potencia!F37,0,($L$1-1)*10)","v":520.17000000000007},{"$f":"OFFSET(Potencia!G37,0,($L$1-1)*10)","v":520.17000000000007},{"$f":"OFFSET(Potencia!H37,0,($L$1-1)*10)","v":557.16000000000008},{"$f":"OFFSET(Potencia!I37,0,($L$1-1)*10)","v":557.16000000000008},{"$f":"OFFSET(Potencia!J37,0,($L$1-1)*10)","v":557.16000000000008},{"$f":"OFFSET(Potencia!K37,0,($L$1-1)*10)","v":557.16000000000008},{"$f":"OFFSET(Potencia!L37,0,($L$1-1)*10)","v":" "}]
[null,"Turbina de  vapor",{"$f":"OFFSET(Potencia!C38,0,($L$1-1)*10)","v":659.78},{"$f":"OFFSET(Potencia!D38,0,($L$1-1)*10)","v":659.78},{"$f":"OFFSET(Potencia!E38,0,($L$1-1)*10)","v":659.78},{"$f":"OFFSET(Potencia!F38,0,($L$1-1)*10)","v":659.78},{"$f":"OFFSET(Potencia!G38,0,($L$1-1)*10)","v":659.78},{"$f":"OFFSET(Potencia!H38,0,($L$1-1)*10)","v":659.78},{"$f":"OFFSET(Potencia!I38,0,($L$1-1)*10)","v":659.78},{"$f":"OFFSET(Potencia!J38,0,($L$1-1)*10)","v":482.64},{"$f":"OFFSET(Potencia!K38,0,($L$1-1)*10)","v":482.64},{"$f":"OFFSET(Potencia!L38,0,($L$1-1)*10)","v":" "}]
[null,"Fuel + Gas",{"$f":"OFFSET(Potencia!C39,0,($L$1-1)*10)","v":1656.68},{"$f":"OFFSET(Potencia!D39,0,($L$1-1)*10)","v":1656.68},{"$f":"OFFSET(Potencia!E39,0,($L$1-1)*10)","v":1656.68},{"$f":"OFFSET(Potencia!F39,0,($L$1-1)*10)","v":1656.68},{"$f":"OFFSET(Potencia!G39,0,($L$1-1)*10)","v":1656.68},{"$f":"OFFSET(Potencia!H39,0,($L$1-1)*10)","v":1693.67},{"$f":"OFFSET(Potencia!I39,0,($L$1-1)*10)","v":1693.67},{"$f":"OFFSET(Potencia!J39,0,($L$1-1)*10)","v":1536},{"$f":"OFFSET(Potencia!K39,0,($L$1-1)*10)","v":1535.7200000000003},{"$f":"OFFSET(Potencia!L39,0,($L$1-1)*10)","v":" "}]
[null,"Ciclo combinado (1)",{"$f":"OFFSET(Potencia!C40,0,($L$1-1)*10)","v":635.20000000000005},{"$f":"OFFSET(Potencia!D40,0,($L$1-1)*10)","v":635.20000000000005},{"$f":"OFFSET(Potencia!E40,0,($L$1-1)*10)","v":635.20000000000005},{"$f":"OFFSET(Potencia!F40,0,($L$1-1)*10)","v":640.20000000000005},{"$f":"OFFSET(Potencia!G40,0,($L$1-1)*10)","v":870.60000000000014},{"$f":"OFFSET(Potencia!H40,0,($L$1-1)*10)","v":864.2},{"$f":"OFFSET(Potencia!I40,0,($L$1-1)*10)","v":864.2},{"$f":"OFFSET(Potencia!J40,0,($L$1-1)*10)","v":864.2},{"$f":"OFFSET(Potencia!K40,0,($L$1-1)*10)","v":864.2},{"$f":"OFFSET(Potencia!L40,0,($L$1-1)*10)","v":" "}]
[null,"Generación auxiliar (2)",{"$f":"OFFSET(Potencia!C41,0,($L$1-1)*10)","v":41.269999999999996},{"$f":"OFFSET(Potencia!D41,0,($L$1-1)*10)","v":41.35},{"$f":"OFFSET(Potencia!E41,0,($L$1-1)*10)","v":16.18},{"$f":"OFFSET(Potencia!F41,0,($L$1-1)*10)","v":16.100000000000001},{"$f":"OFFSET(Potencia!G41,0,($L$1-1)*10)","v":"-"},{"$f":"OFFSET(Potencia!H41,0,($L$1-1)*10)","v":"-"},{"$f":"OFFSET(Potencia!I41,0,($L$1-1)*10)","v":"-"},{"$f":"OFFSET(Potencia!J41,0,($L$1-1)*10)","v":"-"},{"$f":"OFFSET(Potencia!K41,0,($L$1-1)*10)","v":"-"},{"$f":"OFFSET(Potencia!L41,0,($L$1-1)*10)","v":" "}]
[null,"Hidroeólica",{"$f":"OFFSET(Potencia!C42,0,($L$1-1)*10)","v":"-"},{"$f":"OFFSET(Potencia!D42,0,($L$1-1)*10)","v":"-"},{"$f":"OFFSET(Potencia!E42,0,($L$1-1)*10)","v":"-"},{"$f":"OFFSET(Potencia!F42,0,($L$1-1)*10)","v":"-"},{"$f":"OFFSET(Potencia!G42,0,($L$1-1)*10)","v":"-"},{"$f":"OFFSET(Potencia!H42,0,($L$1-1)*10)","v":"-"},{"$f":"OFFSET(Potencia!I42,0,($L$1-1)*10)","v":"-"},{"$f":"OFFSET(Potencia!J42,0,($L$1-1)*10)","v":"-"},{"$f":"OFFSET(Potencia!K42,0,($L$1-1)*10)","v":11.39},{"$f":"OFFSET(Potencia!L42,0,($L$1-1)*10)","v":" "}]
[null,"Resto hidráulica",{"$f":"OFFSET(Potencia!C43,0,($L$1-1)*10)","v":0.46300000000000002},{"$f":"OFFSET(Potencia!D43,0,($L$1-1)*10)","v":0.46300000000000002},{"$f":"OFFSET(Potencia!E43,0,($L$1-1)*10)","v":0.46300000000000002},{"$f":"OFFSET(Potencia!F43,0,($L$1-1)*10)","v":0.46300000000000002},{"$f":"OFFSET(Potencia!G43,0,($L$1-1)*10)","v":0.46300000000000002},{"$f":"OFFSET(Potencia!H43,0,($L$1-1)*10)","v":0.46300000000000002},{"$f":"OFFSET(Potencia!I43,0,($L$1-1)*10)","v":0.46300000000000002},{"$f":"OFFSET(Potencia!J43,0,($L$1-1)*10)","v":0.46300000000000002},{"$f":"OFFSET(Potencia!K43,0,($L$1-1)*10)","v":0.46300000000000002},{"$f":"OFFSET(Potencia!L43,0,($L$1-1)*10)","v":" "}]
[null,"Eólica",{"$f":"OFFSET(Potencia!C44,0,($L$1-1)*10)","v":126.645},{"$f":"OFFSET(Potencia!D44,0,($L$1-1)*10)","v":134.95499999999998},{"$f":"OFFSET(Potencia!E44,0,($L$1-1)*10)","v":136.98499999999999},{"$f":"OFFSET(Potencia!F44,0,($L$1-1)*10)","v":142.58500000000001},{"$f":"OFFSET(Potencia!G44,0,($L$1-1)*10)","v":142.58500000000001},{"$f":"OFFSET(Potencia!H44,0,($L$1-1)*10)","v":145.13499999999999},{"$f":"OFFSET(Potencia!I44,0,($L$1-1)*10)","v":145.47499999999999},{"$f":"OFFSET(Potencia!J44,0,($L$1-1)*10)","v":152.59},{"$f":"OFFSET(Potencia!K44,0,($L$1-1)*10)","v":152.59},{"$f":"OFFSET(Potencia!L44,0,($L$1-1)*10)","v":" "}]
[null,"Solar fotovoltaica",{"$f":"OFFSET(Potencia!C45,0,($L$1-1)*10)","v":5.4037799999999896},{"$f":"OFFSET(Potencia!D45,0,($L$1-1)*10)","v":22.222709999999999},{"$f":"OFFSET(Potencia!E45,0,($L$1-1)*10)","v":93.754159999999203},{"$f":"OFFSET(Potencia!F45,0,($L$1-1)*10)","v":95.706609999999202},{"$f":"OFFSET(Potencia!G45,0,($L$1-1)*10)","v":125.0978099999992},{"$f":"OFFSET(Potencia!H45,0,($L$1-1)*10)","v":138.04025999999908},{"$f":"OFFSET(Potencia!I45,0,($L$1-1)*10)","v":161.15557999999911},{"$f":"OFFSET(Potencia!J45,0,($L$1-1)*10)","v":164.19107999999801},{"$f":"OFFSET(Potencia!K45,0,($L$1-1)*10)","v":165.24327999999801},{"$f":"OFFSET(Potencia!L45,0,($L$1-1)*10)","v":" "}]
[null,"Térmica renovable/Otras renovables (3)",{"$f":"OFFSET(Potencia!C46,0,($L$1-1)*10)","v":38.200000000000003},{"$f":"OFFSET(Potencia!D46,0,($L$1-1)*10)","v":40.296000000000006},{"$f":"OFFSET(Potencia!E46,0,($L$1-1)*10)","v":41.568000000000005},{"$f":"OFFSET(Potencia!F46,0,($L$1-1)*10)","v":41.568000000000005},{"$f":"OFFSET(Potencia!G46,0,($L$1-1)*10)","v":41.568000000000005},{"$f":"OFFSET(Potencia!H46,0,($L$1-1)*10)","v":3.3679999999999999},{"$f":"OFFSET(Potencia!I46,0,($L$1-1)*10)","v":3.3679999999999999},{"$f":"OFFSET(Potencia!J46,0,($L$1-1)*10)","v":3.3679999999999999},{"$f":"OFFSET(Potencia!K46,0,($L$1-1)*10)","v":3.3679999999999999},{"$f":"OFFSET(Potencia!L46,0,($L$1-1)*10)","v":" "}]
[null,"Térmica no renovable/Cogeneración y resto/Cogeneración",{"$f":"OFFSET(Potencia!C47,0,($L$1-1)*10)","v":33.268000000000001},{"$f":"OFFSET(Potencia!D47,0,($L$1-1)*10)","v":33.268000000000001},{"$f":"OFFSET(Potencia!E47,0,($L$1-1)*10)","v":33.268000000000001},{"$f":"OFFSET(Potencia!F47,0,($L$1-1)*10)","v":33.268000000000001},{"$f":"OFFSET(Potencia!G47,0,($L$1-1)*10)","v":33.268000000000001},{"$f":"OFFSET(Potencia!H47,0,($L$1-1)*10)","v":33.268000000000001},{"$f":"OFFSET(Potencia!I47,0,($L$1-1)*10)","v":33.268000000000001},{"$f":"OFFSET(Potencia!J47,0,($L$1-1)*10)","v":33.268000000000001},{"$f":"OFFSET(Potencia!K47,0,($L$1-1)*10)","v":33.268000000000001},{"$f":"OFFSET(Potencia!L47,0,($L$1-1)*10)","v":" "}]
[null,"Total",{"$f":"OFFSET(Potencia!C48,0,($L$1-1)*10)","v":2537.9297800000004},{"$f":"OFFSET(Potencia!D48,0,($L$1-1)*10)","v":2565.2347100000002},{"$f":"OFFSET(Potencia!E48,0,($L$1-1)*10)","v":2614.8981599999997},{"$f":"OFFSET(Potencia!F48,0,($L$1-1)*10)","v":2627.3706099999999},{"$f":"OFFSET(Potencia!G48,0,($L$1-1)*10)","v":2871.0618099999997},{"$f":"OFFSET(Potencia!H48,0,($L$1-1)*10)","v":2878.9442599999988},{"$f":"OFFSET(Potencia!I48,0,($L$1-1)*10)","v":2902.3995799999993},{"$f":"OFFSET(Potencia!J48,0,($L$1-1)*10)","v":2754.8800799999985},{"$f":"OFFSET(Potencia!K48,0,($L$1-1)*10)","v":2767.0422799999983},{"$f":"OFFSET(Potencia!L48,0,($L$1-1)*10)","v":" "}]
[null,"(1) Utiliza gasoil como combustible principal."]
[null,"(2) Grupos de emergencia que se instalan de forma transitoria en determinadas zonas para cubrir un déficit de generación."]
[null,"(3) Otras renovables incluyen biogás y biomasa."]
[null,"Fuente: Comisión Nacional de los Mercados y la Competencia (CNMC) hasta 2014 en: resto hidráulica, eólica, solar fotovoltaica, térmica renovable/otras renovables y térmica no renovable/cogeneración y resto/cogeneración."]
[null,"Datos a 31 de diciembre."]
[null,{"$f":"IF(L1=2,IF(MONTH(FACT)=1,\"\",(CONCATENATE(\"(*) Para el año \",YEAR(FACT), \" datos a \",TEXT(FACT-30,\"mmmm\"),\" de \",YEAR(FACT),\".\"))),\"\")","v":""}]

{"sheet":"Potencia Ceuta","index":5,"n_rows":15,"n_cols":12,"rows_kept":15,"cut":false,"hidden":false,"merged":[[13,1,13,11],[14,1,14,11]]}
[null,null,null,null,null,null,null,null,null,null,null,1]
[]
[]
[]
[null,null,null,null,null,null,null,null,null,"    Sistema"]
[null,null,null,null,null,null,null,null,null,"    Periodo"]
[]
[null,null,{"$f":"OFFSET(Potencia!C50,0,($L$1-1)*10)","v":2006},{"$f":"OFFSET(Potencia!D50,0,($L$1-1)*10)","v":2007},{"$f":"OFFSET(Potencia!E50,0,($L$1-1)*10)","v":2008},{"$f":"OFFSET(Potencia!F50,0,($L$1-1)*10)","v":2009},{"$f":"OFFSET(Potencia!G50,0,($L$1-1)*10)","v":2010},{"$f":"OFFSET(Potencia!H50,0,($L$1-1)*10)","v":2011},{"$f":"OFFSET(Potencia!I50,0,($L$1-1)*10)","v":2012},{"$f":"OFFSET(Potencia!J50,0,($L$1-1)*10)","v":2013},{"$f":"OFFSET(Potencia!K50,0,($L$1-1)*10)","v":2014},{"$f":"OFFSET(Potencia!L50,0,($L$1-1)*10)","v":" "}]
[]
[null,"Motores diesel",{"$f":"OFFSET(Potencia!C51,0,($L$1-1)*10)","v":53.3},{"$f":"OFFSET(Potencia!D51,0,($L$1-1)*10)","v":64.47999999999999},{"$f":"OFFSET(Potencia!E51,0,($L$1-1)*10)","v":65.72},{"$f":"OFFSET(Potencia!F51,0,($L$1-1)*10)","v":65.72},{"$f":"OFFSET(Potencia!G51,0,($L$1-1)*10)","v":77.52},{"$f":"OFFSET(Potencia!H51,0,($L$1-1)*10)","v":77.52},{"$f":"OFFSET(Potencia!I51,0,($L$1-1)*10)","v":77.52},{"$f":"OFFSET(Potencia!J51,0,($L$1-1)*10)","v":77.52},{"$f":"OFFSET(Potencia!K51,0,($L$1-1)*10)","v":77.52},{"$f":"OFFSET(Potencia!L51,0,($L$1-1)*10)","v":" "}]
[null,"Turbina de gas",{"$f":"OFFSET(Potencia!C52,0,($L$1-1)*10)","v":"-"},{"$f":"OFFSET(Potencia!D52,0,($L$1-1)*10)","v":"-"},{"$f":"OFFSET(Potencia!E52,0,($L$1-1)*10)","v":"-"},{"$f":"OFFSET(Potencia!F52,0,($L$1-1)*10)","v":"-"},{"$f":"OFFSET(Potencia!G52,0,($L$1-1)*10)","v":13.3},{"$f":"OFFSET(Potencia!H52,0,($L$1-1)*10)","v":13.3},{"$f":"OFFSET(Potencia!I52,0,($L$1-1)*10)","v":13.3},{"$f":"OFFSET(Potencia!J52,0,($L$1-1)*10)","v":13.3},{"$f":"OFFSET(Potencia!K52,0,($L$1-1)*10)","v":13.3},{"$f":"OFFSET(Potencia!L52,0,($L$1-1)*10)","v":" "}]
[null,"Fuel + Gas",{"$f":"OFFSET(Potencia!C53,0,($L$1-1)*10)","v":53.3},{"$f":"OFFSET(Potencia!D53,0,($L$1-1)*10)","v":64.47999999999999},{"$f":"OFFSET(Potencia!E53,0,($L$1-1)*10)","v":65.72},{"$f":"OFFSET(Potencia!F53,0,($L$1-1)*10)","v":65.72},{"$f":"OFFSET(Potencia!G53,0,($L$1-1)*10)","v":90.82},{"$f":"OFFSET(Potencia!H53,0,($L$1-1)*10)","v":90.82},{"$f":"OFFSET(Potencia!I53,0,($L$1-1)*10)","v":90.82},{"$f":"OFFSET(Potencia!J53,0,($L$1-1)*10)","v":90.82},{"$f":"OFFSET(Potencia!K53,0,($L$1-1)*10)","v":90.82},{"$f":"OFFSET(Potencia!L53,0,($L$1-1)*10)","v":" "}]
[null,"Total",{"$f":"OFFSET(Potencia!C54,0,($L$1-1)*10)","v":53.3},{"$f":"OFFSET(Potencia!D54,0,($L$1-1)*10)","v":64.47999999999999},{"$f":"OFFSET(Potencia!E54,0,($L$1-1)*10)","v":65.72},{"$f":"OFFSET(Potencia!F54,0,($L$1-1)*10)","v":65.72},{"$f":"OFFSET(Potencia!G54,0,($L$1-1)*10)","v":90.82},{"$f":"OFFSET(Potencia!H54,0,($L$1-1)*10)","v":90.82},{"$f":"OFFSET(Potencia!I54,0,($L$1-1)*10)","v":90.82},{"$f":"OFFSET(Potencia!J54,0,($L$1-1)*10)","v":90.82},{"$f":"OFFSET(Potencia!K54,0,($L$1-1)*10)","v":90.82},{"$f":"OFFSET(Potencia!L54,0,($L$1-1)*10)","v":" "}]
[null,"Datos a 31 de diciembre."]
[null,{"$f":"IF(L1=2,IF(MONTH(FACT)=1,\"\",(CONCATENATE(\"(*) Para el año \",YEAR(FACT), \" datos a \",TEXT(FACT-30,\"mmmm\"),\" de \",YEAR(FACT),\".\"))),\"\")","v":""}]

{"sheet":"Potencia Melilla","index":6,"n_rows":21,"n_cols":12,"rows_kept":21,"cut":false,"hidden":false,"merged":[[19,1,19,11],[18,1,18,11],[20,1,20,11],[17,1,17,5]]}
[null,null,null,null,null,null,null,null,null,null,null,1]
[]
[]
[]
[null,null,null,null,null,null,null,null,null,"    Sistema"]
[null,null,null,null,null,null,null,null,null,"    Periodo"]
[]
[null,null,{"$f":"OFFSET(Potencia!C56,0,($L$1-1)*10)","v":2006},{"$f":"OFFSET(Potencia!D56,0,($L$1-1)*10)","v":2007},{"$f":"OFFSET(Potencia!E56,0,($L$1-1)*10)","v":2008},{"$f":"OFFSET(Potencia!F56,0,($L$1-1)*10)","v":2009},{"$f":"OFFSET(Potencia!G56,0,($L$1-1)*10)","v":2010},{"$f":"OFFSET(Potencia!H56,0,($L$1-1)*10)","v":2011},{"$f":"OFFSET(Potencia!I56,0,($L$1-1)*10)","v":2012},{"$f":"OFFSET(Potencia!J56,0,($L$1-1)*10)","v":2013},{"$f":"OFFSET(Potencia!K56,0,($L$1-1)*10)","v":2014},{"$f":"OFFSET(Potencia!L56,0,($L$1-1)*10)","v":" "}]
[]
[null,"Motores diesel",{"$f":"OFFSET(Potencia!C57,0,($L$1-1)*10)","v":49.81},{"$f":"OFFSET(Potencia!D57,0,($L$1-1)*10)","v":64.510000000000005},{"$f":"OFFSET(Potencia!E57,0,($L$1-1)*10)","v":64.64},{"$f":"OFFSET(Potencia!F57,0,($L$1-1)*10)","v":64.64},{"$f":"OFFSET(Potencia!G57,0,($L$1-1)*10)","v":64.64},{"$f":"OFFSET(Potencia!H57,0,($L$1-1)*10)","v":64.64},{"$f":"OFFSET(Potencia!I57,0,($L$1-1)*10)","v":64.64},{"$f":"OFFSET(Potencia!J57,0,($L$1-1)*10)","v":64.64},{"$f":"OFFSET(Potencia!K57,0,($L$1-1)*10)","v":64.64},{"$f":"OFFSET(Potencia!L57,0,($L$1-1)*10)","v":" "}]
[null,"Turbina de gas",{"$f":"OFFSET(Potencia!C58,0,($L$1-1)*10)","v":11.5},{"$f":"OFFSET(Potencia!D58,0,($L$1-1)*10)","v":11.5},{"$f":"OFFSET(Potencia!E58,0,($L$1-1)*10)","v":11.5},{"$f":"OFFSET(Potencia!F58,0,($L$1-1)*10)","v":11.5},{"$f":"OFFSET(Potencia!G58,0,($L$1-1)*10)","v":11.5},{"$f":"OFFSET(Potencia!H58,0,($L$1-1)*10)","v":11.5},{"$f":"OFFSET(Potencia!I58,0,($L$1-1)*10)","v":11.5},{"$f":"OFFSET(Potencia!J58,0,($L$1-1)*10)","v":11.5},{"$f":"OFFSET(Potencia!K58,0,($L$1-1)*10)","v":11.5},{"$f":"OFFSET(Potencia!L58,0,($L$1-1)*10)","v":" "}]
[null,"Fuel + Gas",{"$f":"OFFSET(Potencia!C59,0,($L$1-1)*10)","v":61.31},{"$f":"OFFSET(Potencia!D59,0,($L$1-1)*10)","v":76.010000000000005},{"$f":"OFFSET(Potencia!E59,0,($L$1-1)*10)","v":76.14},{"$f":"OFFSET(Potencia!F59,0,($L$1-1)*10)","v":76.14},{"$f":"OFFSET(Potencia!G59,0,($L$1-1)*10)","v":76.14},{"$f":"OFFSET(Potencia!H59,0,($L$1-1)*10)","v":76.14},{"$f":"OFFSET(Potencia!I59,0,($L$1-1)*10)","v":76.14},{"$f":"OFFSET(Potencia!J59,0,($L$1-1)*10)","v":76.14},{"$f":"OFFSET(Potencia!K59,0,($L$1-1)*10)","v":76.14},{"$f":"OFFSET(Potencia!L59,0,($L$1-1)*10)","v":" "}]
[null,"Solar fotovoltaica",{"$f":"OFFSET(Potencia!C60,0,($L$1-1)*10)","v":7.4999999999999997E-3},{"$f":"OFFSET(Potencia!D60,0,($L$1-1)*10)","v":8.3999999999999995E-3},{"$f":"OFFSET(Potencia!E60,0,($L$1-1)*10)","v":5.79E-2},{"$f":"OFFSET(Potencia!F60,0,($L$1-1)*10)","v":5.79E-2},{"$f":"OFFSET(Potencia!G60,0,($L$1-1)*10)","v":5.79E-2},{"$f":"OFFSET(Potencia!H60,0,($L$1-1)*10)","v":5.79E-2},{"$f":"OFFSET(Potencia!I60,0,($L$1-1)*10)","v":5.79E-2},{"$f":"OFFSET(Potencia!J60,0,($L$1-1)*10)","v":5.79E-2},{"$f":"OFFSET(Potencia!K60,0,($L$1-1)*10)","v":5.79E-2},{"$f":"OFFSET(Potencia!L60,0,($L$1-1)*10)","v":" "}]
[null,"Térmica no renovable/Cogeneración y resto/Cogeneración",{"$f":"OFFSET(Potencia!C61,0,($L$1-1)*10)","v":0},{"$f":"OFFSET(Potencia!D61,0,($L$1-1)*10)","v":2.1680000000000001},{"$f":"OFFSET(Potencia!E61,0,($L$1-1)*10)","v":2.1680000000000001},{"$f":"OFFSET(Potencia!F61,0,($L$1-1)*10)","v":2.1680000000000001},{"$f":"OFFSET(Potencia!G61,0,($L$1-1)*10)","v":2.1680000000000001},{"$f":"OFFSET(Potencia!H61,0,($L$1-1)*10)","v":2.1680000000000001},{"$f":"OFFSET(Potencia!I61,0,($L$1-1)*10)","v":2.1680000000000001},{"$f":"OFFSET(Potencia!J61,0,($L$1-1)*10)","v":2.1680000000000001},{"$f":"OFFSET(Potencia!K61,0,($L$1-1)*10)","v":2.1680000000000001},{"$f":"OFFSET(Potencia!L61,0,($L$1-1)*10)","v":" "}]
[null,"Residuos no renovables(1)",{"$f":"OFFSET(Potencia!C62,0,($L$1-1)*10)","v":"-"},{"$f":"OFFSET(Potencia!D62,0,($L$1-1)*10)","v":"-"},{"$f":"OFFSET(Potencia!E62,0,($L$1-1)*10)","v":"-"},{"$f":"OFFSET(Potencia!F62,0,($L$1-1)*10)","v":"-"},{"$f":"OFFSET(Potencia!G62,0,($L$1-1)*10)","v":"-"},{"$f":"OFFSET(Potencia!H62,0,($L$1-1)*10)","v":"-"},{"$f":"OFFSET(Potencia!I62,0,($L$1-1)*10)","v":"-"},{"$f":"OFFSET(Potencia!J62,0,($L$1-1)*10)","v":"-"},{"$f":"OFFSET(Potencia!K62,0,($L$1-1)*10)","v":"-"},{"$f":"OFFSET(Potencia!L62,0,($L$1-1)*10)","v":" "}]
[null,"Residuos renovables(1)",{"$f":"OFFSET(Potencia!C63,0,($L$1-1)*10)","v":"-"},{"$f":"OFFSET(Potencia!D63,0,($L$1-1)*10)","v":"-"},{"$f":"OFFSET(Potencia!E63,0,($L$1-1)*10)","v":"-"},{"$f":"OFFSET(Potencia!F63,0,($L$1-1)*10)","v":"-"},{"$f":"OFFSET(Potencia!G63,0,($L$1-1)*10)","v":"-"},{"$f":"OFFSET(Potencia!H63,0,($L$1-1)*10)","v":"-"},{"$f":"OFFSET(Potencia!I63,0,($L$1-1)*10)","v":"-"},{"$f":"OFFSET(Potencia!J63,0,($L$1-1)*10)","v":"-"},{"$f":"OFFSET(Potencia!K63,0,($L$1-1)*10)","v":"-"},{"$f":"OFFSET(Potencia!L63,0,($L$1-1)*10)","v":" "}]
[null,"Total",{"$f":"OFFSET(Potencia!C64,0,($L$1-1)*10)","v":61.317500000000003},{"$f":"OFFSET(Potencia!D64,0,($L$1-1)*10)","v":78.186400000000006},{"$f":"OFFSET(Potencia!E64,0,($L$1-1)*10)","v":78.365900000000011},{"$f":"OFFSET(Potencia!F64,0,($L$1-1)*10)","v":78.365900000000011},{"$f":"OFFSET(Potencia!G64,0,($L$1-1)*10)","v":78.365900000000011},{"$f":"OFFSET(Potencia!H64,0,($L$1-1)*10)","v":78.365900000000011},{"$f":"OFFSET(Potencia!I64,0,($L$1-1)*10)","v":78.365900000000011},{"$f":"OFFSET(Potencia!J64,0,($L$1-1)*10)","v":78.365900000000011},{"$f":"OFFSET(Potencia!K64,0,($L$1-1)*10)","v":78.365900000000011},{"$f":"OFFSET(Potencia!L64,0,($L$1-1)*10)","v":" "}]
[null,"(1) Potencia incluída en térmica no renovable/cogeneración y resto/cogeneración hasta el 31/12/2014."]
[null,"Fuente: Comisión Nacional de los Mercados y la Competencia (CNMC) hasta 2014 en: solar fotovoltaica, térmica no renovable/cogeneración y resto/cogeneración y residuos."]
[null,"Datos a 31 de diciembre."]
[null,{"$f":"IF(L1=2,IF(MONTH(FACT)=1,\"\",(CONCATENATE(\"(*) Para el año \",YEAR(FACT), \" datos a \",TEXT(FACT-30,\"mmmm\"),\" de \",YEAR(FACT),\".\"))),\"\")","v":""}]

{"sheet":"Potencia","index":7,"n_rows":82,"n_cols":32,"rows_kept":82,"cut":false,"hidden":true,"merged":[]}
[]
[null,"Potencia instalada peninsular (MW)",1990,1991,1992,1993,1994,1995,1996,1997,1998,1999,2000,2001,2002,2003,2004,2005,2006,2007,2008,2009,2010,2011,2012,2013,2014," "," "," "," "," "]
[null,"Hidráulica convencional y mixta",13792.61,13795.26,13848.85,13848.85,14063.97,14088.07,14143.08,14143.08,14143.08,14299.34,14299.34,14301.27,14304.68,14462.1,14492.17,14534.06,14566.41,14579.41,14635.51,14635.51,14655.31,14667.21,14886.65,14889.69,14895.92," "," "," "," "," "]
[null,"Bombeo puro",2428.44,2428.44,2428.44,2428.44,2428.44,2428.44,2428.44,2428.44,2428.44,2428.44,2428.44,2428.44,2428.44,2428.44,2428.44,2428.44,2450.9399999999996,2450.9399999999996,2450.9399999999996,2450.9399999999996,2450.9399999999996,2450.9399999999996,2450.9399999999996,2450.9399999999996,2450.9399999999996," "," "," "," "," "]
[null,"Nuclear",7329.28,7343.28,7391,7391,7391,7391,7391,7559.1,7606.09,7650.09,7677.39,7694.1,7694.1,7614.3099999999995,7590.15,7597.2799999999988,7455.58,7455.58,7455.58,7455.58,7515.3700000000008,7572.58,7572.58,7572.58,7572.58," "," "," "," "," "]
[null,"Carbón",10243,10310,10310,10310,10310,10310,10310,10859.9,10859.9,10859.9,11048.67,11058.880000000001,11051.18,11053.22,11036.69,10909.960000000001,10924.300000000001,10857.650000000001,10856.400000000001,10856.400000000001,10873.95,11103.390000000001,10595.47,10610.37,10468.02," "," "," "," "," "]
[null,"Fuel + Gas",7259.3499999999995,7247.2199999999993,7247.2199999999993,7247.2199999999993,7247.2199999999993,7247.2199999999993,7521.2199999999993,7521.2199999999993,7521.2199999999993,7521.2199999999993,7521.2199999999993,7521.2199999999993,7220.05,6655.2799999999988,6663.9199999999992,6369.9199999999992,6369.9199999999992,4521.99,4179.99,2826.07,2144.79,806.52,505.52,505.52,505.52," "," "," "," "," "]
[null,"Ciclo combinado","-","-","-","-","-","-","-","-","-","-","-","-",2619.4699999999998,4123.13,8062.079999999999,11992.369999999999,15304.920000000004,20672.210000000003,21374.120000000003,22750.110000000008,24844.380000000005,24911.730000000003,24947.71,24947.71,24947.71," "," "," "," "," "]
[null,"Resto hidráulica",594.21899999999994,644.23300000000006,727.77200000000005,793.65499999999997,897.16899999999976,1123.8878,1186.0117999999998,1233.3739499999999,1279.3079499999999,1331.8859499999999,1390.6804499999998,1473.1629499999999,1512.3313500000002,1567.29655,1629.9055500000002,1694.9185499999999,1796.3650500000001,1869.6106499999996,1977.2756499999998,2020.3066500000002,2030.9589800000001,2036.4207800000001,2039.9287800000002,2094.9217799999997,2094.9217799999997," "," "," "," "," "]
[null,"Eólica",0.54,0.54,30.439999999999998,33.630000000000003,38.910000000000004,96.559999999999988,146.35999999999999,375.44499999999999,633.77499999999998,1021.942,1828.9220000000003,2816.9320000000002,4390.9845000000005,5816.0565000000006,7777.1265000000003,9654.0224999999991,11285.709699999999,13525.789700000001,15992.826700000003,18714.441700000003,19561.053450000003,21018.087449999999,22608.70205,22852.974049999993,22871.444549999997," "," "," "," "," "]
[null,"Solar fotovoltaica",0.1,0.1,0.1,0.1,1.1000000000000001,1.1000000000000001,1.1000000000000001,1.137,1.159,1.2201599999999999,1.7157400000000003,2.1768100000000001,4.8429000000000002,11.375629999999969,20.925459999999859,42.94620000000004,118.85114000000021,594.27135000000033,3205.1997500001021,3243.2076300001027,3645.2139100000977,4032.0594600000986,4293.5912300000982,4396.5001700001485,4402.664610000149," "," "," "," "," "]
[null,"Solar térmica","-","-","-","-","-","-","-","-","-","-","-","-","-","-","-","-",11.02,11.02,60.92,232.22,531.91999999999996,998.52,1949.92,2299.4275000000002,2299.4275000000002," "," "," "," "," "]
[null,"Térmica renovable/Otras renovables","-","-",15.459999999999999,20.96,20.96,62.134999999999998,80.031000000000006,101.988,114.72999999999999,128.54599999999999,181.30199999999999,229.33800000000002,341.29250000000002,433.44349999999997,451.07850000000008,478.67449999999997,554.42849999999999,572.6689100000001,612.49491,740.10491000000002,778.78391000000011,882.91990999999996,968.43241,944.44241000000011,981.96541000000002," "," "," "," "," "]
[null,"Térmica no renovable/Cogeneración y resto/Cogeneración",159.155,225.50699999999998,334.25400000000002,534.61200000000008,682.43600000000004,1162.9033000000002,1834.3803,2336.5797000000002,2956.4976999999994,3610.6446999999998,4216.4216999999999,4969.2517000000007,5377.3337000000001,5731.7867000000015,5987.431700000001,6162.5016999999998,6370.5046999999995,6482.9881000000005,6736.6391000000003,6968.1220000000003,7098.0841999999993,7179.0716999999986,7117.1501999999982,7057.8806999999997,7047.8021999999992," "," "," "," "," "]
[null,"Residuos no renovables","-","-","-","-","-","-","-","-","-","-","-","-","-","-","-","-","-","-","-","-","-","-","-","-","-"," "," "," "," "," "]
[null,"Residuos renovables","-","-","-","-","-","-","-","-","-","-","-","-","-","-","-","-","-","-","-","-","-","-","-","-","-"," "," "," "," "," "]
[null,"Total",41806.693999999996,41994.579999999994,42333.536,42608.466999999997,43081.205000000009,43911.316099999989,45041.623100000004,46560.263650000008,47544.19965000001,48853.228810000001,50594.101889999998,52494.771460000004,56944.704950000014,59896.438880000002,66139.917710000009,71865.093449999986,77208.949090000009,83594.128710000005,89537.896110000103,92893.012890000115,96130.75445000011,97659.449300000109,99936.594670000093,100622.95661000014,100538.91605000016," "," "," "," "," "]
[]
[null,"Potencia instalada Islas Baleares (MW)",2006,2007,2008,2009,2010,2011,2012,2013,2014," "]
[null,"Carbón",468.4,468.4,468.4,468.4,468.4,468.4,468.4,468.4,468.4," "]
[null,"Motores diesel",175.6,210.4,203.3,196.2,196.2,182,182,182,182," "]
[null,"Turbina de gas",541.89999999999986,387.9,460.7999999999999,531.79999999999995,533.4,533.4,557.4,605.4,605.4," "]
[null,"Fuel + Gas",717.49999999999989,598.29999999999995,664.09999999999991,728,729.59999999999991,715.4,739.4,787.4,787.4," "]
[null,"Ciclo combinado",418.15,643.45000000000005,643.45000000000005,793.65000000000009,857.95,857.95,857.95,857.95,857.95," "]
[null,"Generación auxiliar","-","-","-","-","-","-","-","-","-"," "]
[null,"Eólica",3.6762999999999901,3.6762999999999999,3.6762999999999999,3.6762999999999999,3.6762999999999999,3.6762999999999901,3.6762999999999901,3.6762999999999999,3.6762999999999999," "]
[null,"Solar fotovoltaica",1.1128899999999999,1.4766900000000001,51.537539999999701,52.584539999999699,59.013529999999705,63.132079999999704,77.5061299999997,77.674929999999904,77.733829999999898," "]
[null,"Térmica renovable/Otras renovables","-","-","-","-","-","-",2.13,2.13,2.13," "]
[null,"Térmica no renovable/Cogeneración y resto/Cogeneración",38.31,39.167999999999999,38.188000000000002,40.402000000000001,81.170999999999992,82.170999999999992,85.625,85.625,85.625," "]
[null,"Residuos no renovables","-","-","-","-","-","-","-","-","-"," "]
[null,"Residuos renovables","-","-","-","-","-","-","-","-","-"," "]
[null,"Total",1647.1491899999999,1754.4709899999998,1869.35184,2086.7128399999997,2199.8108299999994,2190.7293799999998,2234.6874299999999,2282.8562300000003,2282.9151300000003," "]
[null,null,null,null,null,null,null,null,null,null,null," "]
[null,"Potencia instalada Islas Canarias (MW)",2006,2007,2008,2009,2010,2011,2012,2013,2014," "]
[null,"Hidráulica",0.8,0.8,0.8,0.8,0.8,0.8,0.8,0.8,0.8," "]
[null,"Motores diesel",476.73000000000008,476.73000000000008,476.73000000000008,476.73000000000008,476.73000000000008,476.73000000000008,476.73000000000008,496.2000000000001,495.92000000000013," "]
[null,"Turbina de gas",520.17000000000007,520.17000000000007,520.17000000000007,520.17000000000007,520.17000000000007,557.16000000000008,557.16000000000008,557.16000000000008,557.16000000000008," "]
[null,"Turbina de vapor",659.78,659.78,659.78,659.78,659.78,659.78,659.78,482.64,482.64," "]
[null,"Fuel + Gas",1656.68,1656.68,1656.68,1656.68,1656.68,1693.67,1693.67,1536,1535.7200000000003," "]
[null,"Ciclo combinado",635.20000000000005,635.20000000000005,635.20000000000005,640.20000000000005,870.60000000000014,864.2,864.2,864.2,864.2," "]
[null,"Generación auxiliar",41.269999999999996,41.35,16.18,16.100000000000001,"-","-","-","-","-"," "]
[null,"Hidroéolica","-","-","-","-","-","-","-","-",11.39," "]
[null,"Resto hidráulica",0.46300000000000002,0.46300000000000002,0.46300000000000002,0.46300000000000002,0.46300000000000002,0.46300000000000002,0.46300000000000002,0.46300000000000002,0.46300000000000002," "]
[null,"Eólica",126.645,134.95499999999998,136.98499999999999,142.58500000000001,142.58500000000001,145.13499999999999,145.47499999999999,152.59,152.59," "]
[null,"Solar fotovoltaica",5.4037799999999896,22.222709999999999,93.754159999999203,95.706609999999202,125.0978099999992,138.04025999999908,161.15557999999911,164.19107999999801,165.24327999999801," "]
[null,"Térmica renovable/Otras renovables",38.200000000000003,40.296000000000006,41.568000000000005,41.568000000000005,41.568000000000005,3.3679999999999999,3.3679999999999999,3.3679999999999999,3.3679999999999999," "]
[null,"Térmica no renovable/Cogeneración y resto/Cogeneración",33.268000000000001,33.268000000000001,33.268000000000001,33.268000000000001,33.268000000000001,33.268000000000001,33.268000000000001,33.268000000000001,33.268000000000001," "]
[null,"Total",2537.9297800000004,2565.2347100000002,2614.8981599999997,2627.3706099999999,2871.0618099999997,2878.9442599999988,2902.3995799999993,2754.8800799999985,2767.0422799999983," "]
[null,null,null,null,null,null,null,null,null,null,null," "]
[null,"Potencia instalada Ceuta (MW)",2006,2007,2008,2009,2010,2011,2012,2013,2014," "]
[null,"Motores diesel",53.3,64.47999999999999,65.72,65.72,77.52,77.52,77.52,77.52,77.52," "]
[null,"Turbina de gas","-","-","-","-",13.3,13.3,13.3,13.3,13.3," "]
[null,"Fuel + Gas",53.3,64.47999999999999,65.72,65.72,90.82,90.82,90.82,90.82,90.82," "]
[null,"Total",53.3,64.47999999999999,65.72,65.72,90.82,90.82,90.82,90.82,90.82," "]
[null,null,null,null,null,null,null,null,null,null,null," "]
[null,"Potencia instalada Melilla (MW)",2006,2007,2008,2009,2010,2011,2012,2013,2014," "]
[null,"Motores diesel",49.81,64.510000000000005,64.64,64.64,64.64,64.64,64.64,64.64,64.64," "]
[null,"Turbina de gas",11.5,11.5,11.5,11.5,11.5,11.5,11.5,11.5,11.5," "]
[null,"Fuel + Gas",61.31,76.010000000000005,76.14,76.14,76.14,76.14,76.14,76.14,76.14," "]
[null,"Solar fotovoltaica",7.4999999999999997E-3,8.3999999999999995E-3,5.79E-2,5.79E-2,5.79E-2,5.79E-2,5.79E-2,5.79E-2,5.79E-2," "]
[null,"Térmica no renovable/Cogeneración y resto/Cogeneración",0,2.1680000000000001,2.1680000000000001,2.1680000000000001,2.1680000000000001,2.1680000000000001,2.1680000000000001,2.1680000000000001,2.1680000000000001," "]
[null,"Residuos no renovables","-","-","-","-","-","-","-","-","-"," "]
[null,"Residuos renovables","-","-","-","-","-","-","-","-","-"," "]
[null,"Total",61.317500000000003,78.186400000000006,78.365900000000011,78.365900000000011,78.365900000000011,78.365900000000011,78.365900000000011,78.365900000000011,78.365900000000011," "]
[null,null,null,null,null,null,null,null,null,null,null," "]
[null,"Potencia instalada nacional (MW)",2006,2007,2008,2009,2010,2011,2012,2013,2014," "]
[null,"Hidráulica convencional y mixta",14567.21,14580.21,14636.31,14636.31,14656.109999999999,14668.009999999998,14887.449999999999,14890.49,14896.72," "]
[null,"Bombeo puro",2450.9399999999996,2450.9399999999996,2450.9399999999996,2450.9399999999996,2450.9399999999996,2450.9399999999996,2450.9399999999996,2450.9399999999996,2450.9399999999996," "]
[null,"Nuclear",7455.58,7455.58,7455.58,7455.58,7515.3700000000008,7572.58,7572.58,7572.58,7572.58," "]
[null,"Carbón",11392.7,11326.050000000001,11324.800000000001,11324.800000000001,11342.35,11571.79,11063.869999999999,11078.77,10936.42," "]
[null,"Fuel + Gas",8899.9799999999977,6958.81,6658.8100000000013,5368.7100000000009,4698.03,3382.55,3105.55,2995.88,2995.6000000000004," "]
[null,"Ciclo combinado",16358.270000000004,21950.860000000004,22652.770000000004,24183.96000000001,26572.930000000004,26633.880000000005,26669.86,26669.86,26669.86," "]
[null,"Hidroeólica","-","-","-","-","-","-","-","-",11.39," "]
[null,"Resto hidráulica",1796.8280500000001,1870.0736499999996,1977.7386499999998,2020.7696500000002,2031.4219800000001,2036.8837800000001,2040.3917800000002,2095.3847799999999,2095.3847799999999," "]
[null,"Eólica",11416.030999999999,13664.421,16133.488000000003,18860.703000000001,19707.314750000001,21166.898749999997,22757.853349999998,23009.240349999993,23027.710849999996," "]
[null,"Solar fotovoltaica",125.37531000000018,617.97915000000035,3350.5493500001007,3391.5566800001016,3829.3831500000965,4233.2897000000976,4532.3108400000965,4638.4240800001462,4645.6996200001468," "]
[null,"Solar térmica",11.02,11.02,60.92,232.22,531.91999999999996,998.52,1949.92,2299.4275000000002,2299.4275000000002," "]
[null,"Térmica renovable/Otras renovables",592.62850000000003,612.96491000000015,654.06290999999999,781.67291,820.35191000000009,886.28791000000001,973.93041000000005,949.94041000000016,987.46341000000007," "]
[null,"Térmica no renovable/Cogeneración y resto/Cogeneración",6442.0826999999999,6557.5920999999998,6810.2631000000001,7043.96,7214.6911999999993,7296.6786999999986,7238.2111999999979,7178.9416999999994,7168.8631999999989," "]
[null,"Residuos no renovables","-","-","-","-","-","-","-","-","-"," "]
[null,"Residuos renovables","-","-","-","-","-","-","-","-","-"," "]
[null,"Total",81508.645560000004,88056.500809999998,94166.232010000094,97751.182240000126,101370.81299000009,102898.3088400001,105242.86758000008,105829.87882000011,105758.05936000012," "]

{"sheet":"Año","index":8,"n_rows":7,"n_cols":7,"rows_kept":7,"cut":false,"hidden":true,"merged":[]}
[null,null,null,null,1,1,1]
[null,"1990-1999","2006-2014",null,"Nacional"]
[null,"2000-2009",null,null,"Peninsular"]
[null,"2010-2014",null,null,"Canarias"]
[null,null,null,null,"Baleares"]
[null,null,null,null,"Ceuta"]
[null,null,null,null,"Melilla"]