Workbook
Name AAAP: #REF!
Name AAAP: #REF!
Name AAI: #REF!
Name AAI: #REF!
Name ccc: Indice!ccc
Name ccc: 'T1'!ccc
Name ccc: 'T2'!ccc
Name ccc: Indice!ccc
Name CCCCV: #REF!
Name CUADRO_ANTERIOR: Indice!CUADRO_ANTERIOR
Name CUADRO_ANTERIOR: 'T1'!CUADRO_ANTERIOR
Name CUADRO_ANTERIOR: 'T2'!CUADRO_ANTERIOR
Name CUADRO_ANTERIOR: Indice!CUADRO_ANTERIOR
Name cuadro_anterior_jcol: #N/A
Name CUADRO_PROXIMO: Indice!CUADRO_PROXIMO
Name CUADRO_PROXIMO: 'T1'!CUADRO_PROXIMO
Name CUADRO_PROXIMO: 'T2'!CUADRO_PROXIMO
Name CUADRO_PROXIMO: Indice!CUADRO_PROXIMO
Name cuadro_proximo_jcol: #N/A
Name DATOS: #REF!
Name Demanda: #REF!
Name DIA: #REF!
Name DIA: #REF!
Name Fecha: #REF!
Name FINALIZAR: Indice!FINALIZAR
Name FINALIZAR: 'T1'!FINALIZAR
Name FINALIZAR: 'T2'!FINALIZAR
Name FINALIZAR: Indice!FINALIZAR
Name finalizar_jcol: #N/A
Name fl: #N/A
Name hola: #N/A
Name Horas: #REF!
Name IMPRESION: Indice!IMPRESION
Name IMPRESION: 'T1'!IMPRESION
Name IMPRESION: 'T2'!IMPRESION
Name IMPRESION: Indice!IMPRESION
Name impresion_jcol: #N/A
Name Índice: [0]!INDICE
Name indice_jcol: [0]!INDICE
Name INFO: #REF!
Name INFO: #REF!
Name IPAAI: #REF!
Name IPAAI: #REF!
Name IPP: #REF!
Name IPP: #REF!
Name jkhjklhjkhjkl: #N/A
Name LAYO: #REF!
Name LAYO: #REF!
Name MSTR.BANDA_PARA_CONSEJO_PROCESOS: #REF!
Name MSTR.BANDA_PARA_CONSEJO_PROCESOS1: #REF!
Name MSTR.BANDA_PARA_CONSEJO_PROCESOS10: #REF!
Name MSTR.BANDA_PARA_CONSEJO_PROCESOS2: #REF!
Name MSTR.BANDA_PARA_CONSEJO_PROCESOS3: #REF!
Name MSTR.BANDA_PARA_CONSEJO_PROCESOS4: #REF!
Name MSTR.BANDA_PARA_CONSEJO_PROCESOS5: #REF!
Name MSTR.BANDA_PARA_CONSEJO_PROCESOS6: #REF!
Name MSTR.BANDA_PARA_CONSEJO_PROCESOS7: #REF!
Name MSTR.BANDA_PARA_CONSEJO_PROCESOS8: #REF!
Name MSTR.BANDA_PARA_CONSEJO_PROCESOS9: #REF!
Name MSTR.Liquidación_por_Segmentos: #REF!

Sheet Indice
E2: Boletín mensual
E3: ='T1'!K3 -> Septiembre 2026
C4: Red de transporte
D8: • | E8: ='T1'!C7 -> Instalaciones de la red de transporte en España
D9: • | E9: ='T2'!C7 -> Evolución del índice de disponibilidad de la red de transporte
D10: • | E10: ='T3'!B7 -> Energía no suministrada (ENS) y tiempo de interrupción medio (TIM)

Sheet T1
K2: Boletín mensual
K3: ='Data 1'!B16 -> Septiembre 2026
C4: Red de transporte
C7: Instalaciones de la red de transporte en España | F7: 400 kV | H7: ≤ 220 kV
F8: Península | H8: Península | I8: Baleares | J8: Canarias | K8: Total
E9: Total líneas (km) | F9: =SUM(F10:F12) -> 22316.879 | H9: =SUM(H10:H12) -> 19979.995 | I9: =SUM(I10:I12) -> 2016.825 | J9: =SUM(J10:J12) -> 1889.342 | K9: =SUM(F9,H9:J9) -> 46203.041
E10: Líneas aéreas (km) | F10: 22199.673 | H10: 19001.644 | I10: 1141.911 | J10: 1390.971 | K10: =SUM(F10,H10:J10) -> 43734.199
E11: Cable submarino (km) | F11: 28.85 | H11: 373.8 | I11: 635.888 | J11: 129.403 | K11: =SUM(F11,H11:J11) -> 1167.941
E12: Cable subterráneo (km) | F12: 88.356 | H12: 604.551 | I12: 239.026 | J12: 368.968 | K12: =SUM(F12,H12:J12) -> 1300.901
E13: Subestaciones (posiciones) | F13: 1866 | H13: 3551 | I13: 736 | J13: 768 | K13: =SUM(F13:J13) -> 6921
E14: Transformación (MVA) | F14: 88315 | H14: 2113 | I14: 4478 | J14: 4665 | K14: =SUM(F14,H14:J14) -> 99571
E15: Número de unidades | F15: 161 | H15: 6 | I15: 45 | J15: 42 | K15: =SUM(F15,H15:J15) -> 254
E16: Reactancias (MVAr) | F16: 12500 | H16: 4102 | I16: 496 | J16: 72 | K16: =SUM(F16:J16) -> 17170
E17: Número de unidades | F17: 85 | H17: 66 | I17: 28 | J17: 11 | K17: =SUM(F17:J17) -> 190
E18: Condensadores (MVAr) | F18: 100 | H18: 1200 | I18: 0 | J18: 0 | K18: =SUM(F18:J18) -> 1300
E19: Número de unidades | F19: 1 | H19: 12 | I19: 0 | J19: 0 | K19: =SUM(F19:J19) -> 13
E20: Compensadores (MVAr) | F20: 150 | H20: 450 | I20: 100 | J20: 25 | K20: =SUM(F20:J20) -> 725
E21: Número de unidades | F21: 1 | H21: 3 | I21: 1 | J21: 1 | K21: =SUM(F21:J21) -> 6
E22: Otros dispositivos | F22: 2 | H22: 13 | I22: 8 | J22: 10 | K22: =SUM(F22:J22) -> 33
E23: Datos provisionales pendientes de auditoría en curso. El concepto "Otros dispositivos" incluye elementos de capacidad dinámica de línea, baterías y limitadores de flujo.
E24: Incluye los activos de la red de transporte del resto de empresas.
E25: Los activos de Ceuta se incluyen en el sistema peninsular.

Sheet T2
E2: Boletín mensual
E3: ='T1'!K3 -> Septiembre 2026
C4: Red de transporte
C7: Evolución del índice de disponibilidad de la red de transporte
C10: (%)
E25: Datos provisionales pendientes de auditoría en curso.

Sheet T3
E2: Boletín mensual
E3: ='T1'!K3 -> Septiembre 2026
B4: Red de transporte
B7: Energía no suministrada (ENS) y tiempo de interrupción medio (TIM) | D7: ='Data 1'!B16 -> Septiembre 2026 | E7: Acumulado anual
C8: Peninsular
C9: Energía no suministrada (MWh) | D9: ='Data 1'!M16 -> 0.76 | E9: ='Data 1'!P16 -> 42.49
C10: Tiempo de interrupción medio (minutos) | D10: ='Data 1'!G16 -> 0.0016 | E10: ='Data 1'!J16 -> 0.09
C11: Baleares
C12: Energía no suministrada (MWh) | D12: ='Data 1'!N16 -> 0 | E12: ='Data 1'!Q16 -> 24.12
C13: Tiempo de interrupción medio (minutos) | D13: ='Data 1'!H16 -> 0 | E13: ='Data 1'!K16 -> 1.805
C14: Canarias
C15: Energía no suministrada (MWh) | D15: ='Data 1'!O16 -> 0 | E15: ='Data 1'!R16 -> 7.09
C16: Tiempo de interrupción medio (minutos) | D16: ='Data 1'!I16 -> 0 | E16: ='Data 1'!L16 -> 0.409
C17: Datos provisionales pendientes de auditoría.

Sheet Data 1
C1: Indicadores | D1: Disponibilidad Total Acum. Mes (%) | G1: Tiempo de interrupción medio Acum. Mes (minutos) | J1: Tiempo de interrupción medio Acum. Año (minutos) | M1: Energía no suministrada (MWh) | P1: Energía no suministrada (MWh) Acum. Año
C2: Sistema Eléctrico | D2: Península | E2: Baleares | F2: Canarias | G2: Península | H2: Baleares | I2: Canarias | J2: Península | K2: Baleares | L2: Canarias | M2: Península | N2: Baleares | O2: Canarias | P2: Península | Q2: Baleares | R2: Canarias
B3: Mes | C3: Ámbito RdT
A4: =MID(B4,1,1) -> S | B4: Septiembre 2025 | C4: RdT | D4: 98.22 | E4: 98.35 | F4: 98.39 | G4: 0.00045 | H4: 0 | I4: 0 | J4: 0.165 | K4: 2.562 | L4: 0.378 | M4: 0.2 | N4: 0 | O4: 0 | P4: 75.733 | Q4: 32.12 | R4: 6.42
A5: =MID(B5,1,1) -> O | B5: Octubre 2025 | C5: RdT | D5: 97.63 | E5: 96.98 | F5: 97.85 | G5: 0 | H5: 0.283 | I5: 0 | J5: 0.167 | K5: 2.846 | L5: 0.376 | M5: 0 | N5: 3.17 | O5: 0 | P5: 75.733 | Q5: 35.29 | R5: 6.42
A6: =MID(B6,1,1) -> N | B6: Noviembre 2025 | C6: RdT | D6: 97.5 | E6: 93.55 | F6: 98.13 | G6: 0 | H6: 0 | I6: 0 | J6: 0.166 | K6: 2.903 | L6: 0.375 | M6: 0 | N6: 0 | O6: 0 | P6: 75.733 | Q6: 35.29 | R6: 6.42
A7: =MID(B7,1,1) -> D | B7: Diciembre 2025 | C7: RdT | D7: 98.44 | E7: 97.73 | F7: 98.58 | G7: 0.00992 | H7: 0.038 | I7: 0 | J7: 0.176 | K7: 2.971 | L7: 0.375 | M7: 4.76 | N7: 0.4 | O7: 0 | P7: 80.493 | Q7: 35.69 | R7: 6.42
A8: =MID(B8,1,1) -> E | B8: Enero 2026 | C8: RdT | D8: 99.34 | E8: 99.02 | F8: 99.37 | G8: 0 | H8: 1.249 | I8: 0 | J8: 0 | K8: 1.249 | L8: 0 | M8: 0 | N8: 14.02 | O8: 0 | P8: 0 | Q8: 14.02 | R8: 0
A9: =MID(B9,1,1) -> F | B9: Febrero 2026 | C9: RdT | D9: 98.29 | E9: 98.87 | F9: 99.14 | G9: 0.00021 | H9: 0 | I9: 0 | J9: 0 | K9: 1.321 | L9: 0 | M9: 0.1 | N9: 0 | O9: 0 | P9: 0.1 | Q9: 14.02 | R9: 0
A10: =MID(B10,1,1) -> M | B10: Marzo 2026 | C10: RdT | D10: 97.68 | E10: 97.68 | F10: 98.18 | G10: 0.00035 | H10: 0.64 | I10: 0 | J10: 0.001 | K10: 1.962 | L10: 0 | M10: 0.16 | N10: 6.68 | O10: 0 | P10: 0.26 | Q10: 20.7 | R10: 0
A11: =MID(B11,1,1) -> A | B11: Abril 2026 | C11: RdT | D11: 97.44 | E11: 97.35 | F11: 98.63 | G11: 0.07227 | H11: 0 | I11: 0 | J11: 0.065 | K11: 1.978 | L11: 0 | M11: 29.78 | N11: 0 | O11: 0 | P11: 30.04 | Q11: 20.7 | R11: 0
A12: =MID(B12,1,1) -> M | B12: Mayo 2026 | C12: RdT | D12: 97.49 | E12: 95.7 | F12: 98.23 | G12: 0.01089 | H12: 0.192 | I12: 0 | J12: 0.076 | K12: 2.155 | L12: 0 | M12: 4.6 | N12: 2.13 | O12: 0 | P12: 34.64 | Q12: 22.83 | R12: 0
A13: =MID(B13,1,1) -> J | B13: Junio 2026 | C13: RdT | D13: 97.74 | E13: 96.93 | F13: 97.92 | G13: 0.00182 | H13: 0 | I13: 0 | J13: 0.077 | K13: 2.036 | L13: 0 | M13: 0.88 | N13: 0 | O13: 0 | P13: 35.52 | Q13: 22.83 | R13: 0
A14: =MID(B14,1,1) -> J | B14: Julio 2026 | C14: RdT | D14: 97.5 | E14: 98.23 | F14: 97.53 | G14: 0.00441 | H14: 0 | I14: 0 | J14: 0.08 | K14: 1.854 | L14: 0 | M14: 2.33 | N14: 0 | O14: 0 | P14: 37.85 | Q14: 22.83 | R14: 0
A15: =MID(B15,1,1) -> A | B15: Agosto 2026 | C15: RdT | D15: 98.28 | E15: 98.26 | F15: 98.23 | G15: 0.00804 | H15: 0.067 | I15: 0.378 | J15: 0.088 | K15: 1.83 | L15: 0.415 | M15: 3.88 | N15: 1.29 | O15: 7.09 | P15: 41.73 | Q15: 24.12 | R15: 7.09
A16: =MID(B16,1,1) -> S | B16: Septiembre 2026 | C16: RdT | D16: 97.4 | E16: 97.46 | F16: 97.59 | G16: 0.0016 | H16: 0 | I16: 0 | J16: 0.09 | K16: 1.805 | L16: 0.409 | M16: 0.76 | N16: 0 | O16: 0 | P16: 42.49 | Q16: 24.12 | R16: 7.09

Sheet Mozart Reports
A1: 5 | B1: 8d76014afdfa463ba1282782e3929d3e
A2: <mi app="e" ver="22"><rptloc guid="921d3cffeb6f4dbda377b084239690ec" rank="0" ds="1"><ri hasPG="0" name="Serie AÑOS calidad REE anual por sistema" id="6BB380284658F08CCFFA0E8B80BC76C0" path="Objetos públicos\Informes\Informes macros\Consejo\Serie AÑOS calidad REE anual por sistema" cf="0" prompt="1" ve="0" vm="0" flashpth="C:\Users\fueperro\AppData\Local\Temp\" fimagepth="C:\Users\fueperro\AppData\Local\Temp\" swfn="DashboardViewer.swf" fvars="" dvis=""><ans><pan pk="B37D980545FB579A8E14C586038672A6@0@10" aid="" /></ans><ci ps="BI" srv="apbi5a" prj="BDEbi" prjid="A2E2948BC74B9CF051A963A6CEDDABFA" li="FUEPERRO" am="s" /><lu ut="10/06/2026 10:14:39" si="2.00000001778adcdbced63ab82b263b4fd2f2ea9e2c9b88d4269754abfc034dbc9c38fe86dcffd193b48c1c2a4c10a19a9acac57367e715503b05283b74a11692a7555660ac9b7acb20b387b7a84bb2cf1f7f4335777bc5fb620e028b28904e094873dc9c28c0af98eee808ed74f2054bd6327c52dac695bf7fd47c79207599a3553c258dc4207eab66eb7ce31d9eed35f3bfb083bb02fea13c32a676621d1ed1ae1a5768a00607ba589ed0fb1e515d287d35f7a8383ba9a38a6234053f5ba8bc071e3a9952f73b712ab0b74c220305bdafc6e820c87b810a3d03d2b5791a96f85b447d211d297a7a9758860d86de986625e2ba0ad0313b7be191938be7aee9541b71bee4e177da57d83a799a1f2054183135caa696d310faaedf1694868395ecbe78.p-3082.0.1_-3082.0.1_0.1.Europe/Madrid.upriv*_1*_pidn2*_20*_session*-lat*_1.0000000159b94bdd4215828ef2c1c2ec72f55c23b5ee3e721c50237d7b67c13554255344216b7c7155a4837cc0dadd770847a2dd08964afe.00000001f04d08da343c169dde06296dd05c1c9db5ee3e723a0ace78f64dcdd19fc36972efe376c408286eee96c4ae67cf0b0b6f4851092d.0.1.1.BDEbi.A2E2948BC74B9CF051A963A6CEDDABFA.0-3082.1.1_-0.1.0_-3082.1.1_5.5.0.*0.000000016dc08023efdf4cea888a1a294ae2b4a1c911585a0a872b9f0af9871cdda222153915a990.0.23.11*.4*.1200*.00787J.e.00000001007eb2f3a60a3a9a060b72bdf484def3c911585a627aa4cbd4c646af0317de8a2303653e.0.10*.131*.138*.19.*0.0.0.0" msgID="387ED54434432944D74AE6AD564A69B7" /></ri><do pa="6" cfmt="0" fmt="1" saf="0" hd="0" afg="1" rafg="1" arh="1" gosdo="0" cwd="1" ab="0" af="1" om="0" ag="0" lck="0" ppt="3" wpt="3" dai="0" rscd="1" rsrgb="1" rsrl="1" cit="2" c2d="1" cdf="0" cdt="0" dtlk="1" gaf="17" fqg="0" xqg="0" don="0" dcom="0" oaw="0" tws="0" ssm="1" ssn="MSTRStyle.Todos" glo="11101" pgsel="4" phdr="1" rdc="0" adt="0" rsoox="0" eco="1" ecfw="400" ecfh="300" ecfsu="1" ecwr="100" echr="100" eclar="1" ecrups="1"><details dbit="11169976358211" dsel="239" /></do><excel><epo ews="Data 05_CONSEJO" ece="A1" enr="MSTR.Serie_AÑOS_calidad_REE_anual_por_sistema" ptn="" qtn="" rows="8" cols="11" /><esdo ews="" ece="" ptn="" /></excel><pgs><pg rows="5" cols="9" nrr="243" nrc="441"><pg /><bls><bl sr="1" sc="1" rfetch="5" cfetch="9" posid="1" darows="0" dacols="1"><excel><epo ews="Data 05_CONSEJO" ece="A1" enr="MSTR.Serie_AÑOS_calidad_REE_anual_por_sistema" ptn="" qtn="" rows="8" cols="11" /><esdo ews="" ece="" ptn="" /></excel><gridRng><sect id="TITLE_AREA" rngprop="1:1:3:2" /><sect id="ROWHEADERS_AREA" rngprop="4:1:5:2" /><sect id="COLUMNHEADERS_AREA" rngprop="1:3:3:9" /><sect id="DATA_AREA" rngprop="4:3:5:9" /></gridRng><shapes /></bl></bls></pg></pgs></rptloc></mi>
A3: <mi app="e" ver="22"><rptloc guid="0db0ac30ece54b979b505039ba9767f9" rank="0" ds="1"><ri hasPG="0" name="Serie calidad RDT mensual por sistema" id="1B9CACDC447B36EA5480098B37C9E13B" path="Objetos públicos\Informes\Informes macros\Boletín\Serie calidad RDT mensual por sistema" cf="0" prompt="1" ve="0" vm="0" flashpth="d:\Usuarios\FUEPERRO\AppData\Local\Temp\" fimagepth="d:\Usuarios\FUEPERRO\AppData\Local\Temp\" swfn="DashboardViewer.swf" fvars="" dvis=""><ans><pan pk="B7C3BF0D4428274429E8B8B9E552B212@0@10" aid="EFAF5E76465120E133A58886DF2D2741" /></ans><ci ps="BI" srv="apbi5a" prj="BDEbi" prjid="A2E2948BC74B9CF051A963A6CEDDABFA" li="FUEPERRO" am="s" /><lu ut="10/06/2026 10:13:43" si="2.00000001778adcdbced63ab82b263b4fd2f2ea9e2c9b88d4269754abfc034dbc9c38fe86dcffd193b48c1c2a4c10a19a9acac57367e715503b05283b74a11692a7555660ac9b7acb20b387b7a84bb2cf1f7f4335777bc5fb620e028b28904e094873dc9c28c0af98eee808ed74f2054bd6327c52dac695bf7fd47c79207599a3553c258dc4207eab66eb7ce31d9eed35f3bfb083bb02fea13c32a676621d1ed1ae1a5768a00607ba589ed0fb1e515d287d35f7a8383ba9a38a6234053f5ba8bc071e3a9952f73b712ab0b74c220305bdafc6e820c87b810a3d03d2b5791a96f85b447d211d297a7a9758860d86de986625e2ba0ad0313b7be191938be7aee9541b71bee4e177da57d83a799a1f2054183135caa696d310faaedf1694868395ecbe78.p-3082.0.1_-3082.0.1_0.1.Europe/Madrid.upriv*_1*_pidn2*_20*_session*-lat*_1.0000000159b94bdd4215828ef2c1c2ec72f55c23b5ee3e721c50237d7b67c13554255344216b7c7155a4837cc0dadd770847a2dd08964afe.00000001f04d08da343c169dde06296dd05c1c9db5ee3e723a0ace78f64dcdd19fc36972efe376c408286eee96c4ae67cf0b0b6f4851092d.0.1.1.BDEbi.A2E2948BC74B9CF051A963A6CEDDABFA.0-3082.1.1_-0.1.0_-3082.1.1_5.5.0.*0.000000016dc08023efdf4cea888a1a294ae2b4a1c911585a0a872b9f0af9871cdda222153915a990.0.23.11*.4*.1200*.00787J.e.00000001007eb2f3a60a3a9a060b72bdf484def3c911585a627aa4cbd4c646af0317de8a2303653e.0.10*.131*.138*.19.*0.0.0.0" msgID="D23B66AE3B4C8B52D35A8298C413892F" /></ri><do pa="6" cfmt="0" fmt="1" saf="0" hd="0" afg="1" rafg="1" arh="1" gosdo="0" cwd="1" ab="0" af="1" om="0" ag="0" lck="0" ppt="3" wpt="3" dai="0" rscd="1" rsrgb="1" rsrl="1" cit="2" c2d="1" cdf="0" cdt="0" dtlk="1" gaf="17" fqg="0" xqg="0" don="0" dcom="0" oaw="0" tws="0" ssm="1" ssn="MSTRStyle.Todos" glo="11101" pgsel="4" phdr="1" rdc="0" adt="0" rsoox="0" eco="1" ecfw="400" ecfh="300" ecfsu="1" ecwr="100" echr="100" eclar="1" ecrups="1"><details dbit="11169976358211" dsel="239" /></do><excel><epo ews="Data 1" ece="B1" enr="MSTR.Serie_calidad_RDT_mensual_por_sistema.1" ptn="" qtn="" rows="16" cols="17" /><esdo ews="" ece="" ptn="" /></excel><pgs><pg rows="13" cols="15" nrr="1854" nrc="2220"><pg /><bls><bl sr="1" sc="1" rfetch="13" cfetch="15" posid="1" darows="0" dacols="1"><excel><epo ews="Data 1" ece="B1" enr="MSTR.Serie_calidad_RDT_mensual_por_sistema.1" ptn="" qtn="" rows="16" cols="17" /><esdo ews="" ece="" ptn="" /></excel><gridRng><sect id="TITLE_AREA" rngprop="1:1:3:2" /><sect id="ROWHEADERS_AREA" rngprop="4:1:13:2" /><sect id="COLUMNHEADERS_AREA" rngprop="1:3:3:15" /><sect id="DATA_AREA" rngprop="4:3:13:15" /></gridRng><shapes /></bl></bls></pg></pgs></rptloc></mi>
A4: <mi app="e" ver="22"><rptloc guid="8f9089ddbffe413189dda36a9c4c9767" rank="0" ds="1"><ri hasPG="0" name="Serie calidad RdT anual nacional" id="BA29292F49BC503A8E4847B416F6F195" path="Objetos públicos\Informes\Informes macros\Consejo\Serie calidad RdT anual nacional" cf="0" prompt="1" ve="0" vm="0" flashpth="C:\Users\FUEPERRO\AppData\Local\Temp\" fimagepth="C:\Users\FUEPERRO\AppData\Local\Temp\" swfn="DashboardViewer.swf" fvars="" dvis=""><ans /><ci ps="BI" srv="apbi5a" prj="BDEbi" prjid="A2E2948BC74B9CF051A963A6CEDDABFA" li="FUEPERRO" am="s" /><lu ut="10/06/2026 10:13:57" si="2.00000001778adcdbced63ab82b263b4fd2f2ea9e2c9b88d4269754abfc034dbc9c38fe86dcffd193b48c1c2a4c10a19a9acac57367e715503b05283b74a11692a7555660ac9b7acb20b387b7a84bb2cf1f7f4335777bc5fb620e028b28904e094873dc9c28c0af98eee808ed74f2054bd6327c52dac695bf7fd47c79207599a3553c258dc4207eab66eb7ce31d9eed35f3bfb083bb02fea13c32a676621d1ed1ae1a5768a00607ba589ed0fb1e515d287d35f7a8383ba9a38a6234053f5ba8bc071e3a9952f73b712ab0b74c220305bdafc6e820c87b810a3d03d2b5791a96f85b447d211d297a7a9758860d86de986625e2ba0ad0313b7be191938be7aee9541b71bee4e177da57d83a799a1f2054183135caa696d310faaedf1694868395ecbe78.p-3082.0.1_-3082.0.1_0.1.Europe/Madrid.upriv*_1*_pidn2*_20*_session*-lat*_1.0000000159b94bdd4215828ef2c1c2ec72f55c23b5ee3e721c50237d7b67c13554255344216b7c7155a4837cc0dadd770847a2dd08964afe.00000001f04d08da343c169dde06296dd05c1c9db5ee3e723a0ace78f64dcdd19fc36972efe376c408286eee96c4ae67cf0b0b6f4851092d.0.1.1.BDEbi.A2E2948BC74B9CF051A963A6CEDDABFA.0-3082.1.1_-0.1.0_-3082.1.1_5.5.0.*0.000000016dc08023efdf4cea888a1a294ae2b4a1c911585a0a872b9f0af9871cdda222153915a990.0.23.11*.4*.1200*.00787J.e.00000001007eb2f3a60a3a9a060b72bdf484def3c911585a627aa4cbd4c646af0317de8a2303653e.0.10*.131*.138*.19.*0.0.0.0" msgID="B2B7A0BC5C468742DF404B8691C4BD58" /></ri><do pa="6" cfmt="0" fmt="1" saf="0" hd="0" afg="1" rafg="1" arh="1" gosdo="0" cwd="1" ab="0" af="1" om="0" ag="0" lck="0" ppt="3" wpt="3" dai="0" rscd="1" rsrgb="1" rsrl="1" cit="2" c2d="1" cdf="0" cdt="0" dtlk="1" gaf="17" fqg="0" xqg="0" don="0" dcom="0" oaw="0" tws="0" ssm="1" ssn="MSTRStyle.Todos" glo="11101" pgsel="4" phdr="1" rdc="0" adt="0" rsoox="0" eco="1" ecfw="400" ecfh="300" ecfsu="1" ecwr="100" echr="100" eclar="1" ecrups="1"><details dbit="11169976358211" dsel="239" /></do><excel><epo ews="Data 06_CONSEJO" ece="A1" enr="MSTR.Serie_calidad_RdT_anual_nacional" ptn="" qtn="" rows="15" cols="13" /><esdo ews="" ece="" ptn="" /></excel><pgs><pg rows="13" cols="11" nrr="440" nrc="374"><pg /><bls><bl sr="1" sc="1" rfetch="13" cfetch="11" posid="1" darows="0" dacols="1"><excel><epo ews="Data 06_CONSEJO" ece="A1" enr="MSTR.Serie_calidad_RdT_anual_nacional" ptn="" qtn="" rows="15" cols="13" /><esdo ews="" ece="" ptn="" /></excel><gridRng><sect id="TITLE_AREA" rngprop="1:1:2:2" /><sect id="ROWHEADERS_AREA" rngprop="3:1:13:2" /><sect id="COLUMNHEADERS_AREA" rngprop="1:3:2:11" /><sect id="DATA_AREA" rngprop="3:3:13:11" /></gridRng><shapes /></bl></bls></pg></pgs></rptloc></mi>
A5: <mi app="e" ver="22"><rptloc guid="9560f38efd3241a6b9009bb0017b6997" rank="0" ds="1"><ri hasPG="0" name="Serie calidad REE anual por sistema" id="036CBA314C9176F61A395BAD319B9C10" path="Objetos públicos\Informes\Informes macros\Consejo\Serie calidad REE anual por sistema" cf="0" prompt="1" ve="0" vm="0" flashpth="d:\Usuarios\FUEPERRO\AppData\Local\Temp\" fimagepth="d:\Usuarios\FUEPERRO\AppData\Local\Temp\" swfn="DashboardViewer.swf" fvars="" dvis=""><ans /><ci ps="BI" srv="apbi5a" prj="BDEbi" prjid="A2E2948BC74B9CF051A963A6CEDDABFA" li="FUEPERRO" am="s" /><lu ut="10/06/2026 10:14:06" si="2.00000001778adcdbced63ab82b263b4fd2f2ea9e2c9b88d4269754abfc034dbc9c38fe86dcffd193b48c1c2a4c10a19a9acac57367e715503b05283b74a11692a7555660ac9b7acb20b387b7a84bb2cf1f7f4335777bc5fb620e028b28904e094873dc9c28c0af98eee808ed74f2054bd6327c52dac695bf7fd47c79207599a3553c258dc4207eab66eb7ce31d9eed35f3bfb083bb02fea13c32a676621d1ed1ae1a5768a00607ba589ed0fb1e515d287d35f7a8383ba9a38a6234053f5ba8bc071e3a9952f73b712ab0b74c220305bdafc6e820c87b810a3d03d2b5791a96f85b447d211d297a7a9758860d86de986625e2ba0ad0313b7be191938be7aee9541b71bee4e177da57d83a799a1f2054183135caa696d310faaedf1694868395ecbe78.p-3082.0.1_-3082.0.1_0.1.Europe/Madrid.upriv*_1*_pidn2*_20*_session*-lat*_1.0000000159b94bdd4215828ef2c1c2ec72f55c23b5ee3e721c50237d7b67c13554255344216b7c7155a4837cc0dadd770847a2dd08964afe.00000001f04d08da343c169dde06296dd05c1c9db5ee3e723a0ace78f64dcdd19fc36972efe376c408286eee96c4ae67cf0b0b6f4851092d.0.1.1.BDEbi.A2E2948BC74B9CF051A963A6CEDDABFA.0-3082.1.1_-0.1.0_-3082.1.1_5.5.0.*0.000000016dc08023efdf4cea888a1a294ae2b4a1c911585a0a872b9f0af9871cdda222153915a990.0.23.11*.4*.1200*.00787J.e.00000001007eb2f3a60a3a9a060b72bdf484def3c911585a627aa4cbd4c646af0317de8a2303653e.0.10*.131*.138*.19.*0.0.0.0" msgID="91B45689EC4CDDB9D31D8A9AFC8335A7" /></ri><do pa="6" cfmt="0" fmt="1" saf="0" hd="0" afg="1" rafg="1" arh="1" gosdo="0" cwd="1" ab="0" af="1" om="0" ag="0" lck="0" ppt="3" wpt="3" dai="0" rscd="1" rsrgb="1" rsrl="1" cit="2" c2d="1" cdf="0" cdt="0" dtlk="1" gaf="17" fqg="0" xqg="0" don="0" dcom="0" oaw="0" tws="0" ssm="1" ssn="MSTRStyle.Todos" glo="11101" pgsel="4" phdr="1" rdc="0" adt="0" rsoox="0" eco="1" ecfw="400" ecfh="300" ecfsu="1" ecwr="100" echr="100" eclar="1" ecrups="1"><details dbit="11169976358211" dsel="239" /></do><excel><epo ews="Data 3_CONSEJO" ece="A1" enr="MSTR.Serie_calidad_REE_anual_por_sistema" ptn="" qtn="" rows="41" cols="13" /><esdo ews="" ece="" ptn="" /></excel><pgs><pg rows="39" cols="10" nrr="5607" nrc="1510"><pg /><bls><bl sr="1" sc="1" rfetch="39" cfetch="10" posid="1" darows="0" dacols="1"><excel><epo ews="Data 3_CONSEJO" ece="A1" enr="MSTR.Serie_calidad_REE_anual_por_sistema" ptn="" qtn="" rows="41" cols="13" /><esdo ews="" ece="" ptn="" /></excel><gridRng><sect id="TITLE_AREA" rngprop="1:1:2:3" /><sect id="ROWHEADERS_AREA" rngprop="3:1:39:3" /><sect id="COLUMNHEADERS_AREA" rngprop="1:4:2:10" /><sect id="DATA_AREA" rngprop="3:4:39:10" /></gridRng><shapes /></bl></bls></pg></pgs></rptloc></mi>
A6: <mi app="e" ver="22"><rptloc guid="a50d0a0fca64470cad3fa4d84ddf49cc" rank="0" ds="1"><ri hasPG="0" name="Serie calidad REE mensual por sistema" id="4969EFF34347FF320DF5429C8A801097" path="Objetos públicos\Informes\Informes macros\Consejo\Serie calidad REE mensual por sistema" cf="0" prompt="1" ve="0" vm="0" flashpth="d:\Usuarios\FUEPERRO\AppData\Local\Temp\" fimagepth="d:\Usuarios\FUEPERRO\AppData\Local\Temp\" swfn="DashboardViewer.swf" fvars="" dvis=""><ans /><ci ps="BI" srv="apbi5a" prj="BDEbi" prjid="A2E2948BC74B9CF051A963A6CEDDABFA" li="FUEPERRO" am="s" /><lu ut="10/06/2026 10:13:34" si="2.00000001778adcdbced63ab82b263b4fd2f2ea9e2c9b88d4269754abfc034dbc9c38fe86dcffd193b48c1c2a4c10a19a9acac57367e715503b05283b74a11692a7555660ac9b7acb20b387b7a84bb2cf1f7f4335777bc5fb620e028b28904e094873dc9c28c0af98eee808ed74f2054bd6327c52dac695bf7fd47c79207599a3553c258dc4207eab66eb7ce31d9eed35f3bfb083bb02fea13c32a676621d1ed1ae1a5768a00607ba589ed0fb1e515d287d35f7a8383ba9a38a6234053f5ba8bc071e3a9952f73b712ab0b74c220305bdafc6e820c87b810a3d03d2b5791a96f85b447d211d297a7a9758860d86de986625e2ba0ad0313b7be191938be7aee9541b71bee4e177da57d83a799a1f2054183135caa696d310faaedf1694868395ecbe78.p-3082.0.1_-3082.0.1_0.1.Europe/Madrid.upriv*_1*_pidn2*_20*_session*-lat*_1.0000000159b94bdd4215828ef2c1c2ec72f55c23b5ee3e721c50237d7b67c13554255344216b7c7155a4837cc0dadd770847a2dd08964afe.00000001f04d08da343c169dde06296dd05c1c9db5ee3e723a0ace78f64dcdd19fc36972efe376c408286eee96c4ae67cf0b0b6f4851092d.0.1.1.BDEbi.A2E2948BC74B9CF051A963A6CEDDABFA.0-3082.1.1_-0.1.0_-3082.1.1_5.5.0.*0.000000016dc08023efdf4cea888a1a294ae2b4a1c911585a0a872b9f0af9871cdda222153915a990.0.23.11*.4*.1200*.00787J.e.00000001007eb2f3a60a3a9a060b72bdf484def3c911585a627aa4cbd4c646af0317de8a2303653e.0.10*.131*.138*.19.*0.0.0.0" msgID="82CC8D0B904F691D3E9DEB987C9080E6" /></ri><do pa="6" cfmt="0" fmt="1" saf="0" hd="0" afg="1" rafg="1" arh="1" gosdo="0" cwd="1" ab="0" af="1" om="0" ag="0" lck="0" ppt="3" wpt="3" dai="0" rscd="1" rsrgb="1" rsrl="1" cit="2" c2d="1" cdf="0" cdt="0" dtlk="1" gaf="17" fqg="0" xqg="0" don="0" dcom="0" oaw="0" tws="0" ssm="1" ssn="MSTRStyle.Todos" glo="11101" pgsel="4" phdr="1" rdc="0" adt="0" rsoox="0" eco="1" ecfw="400" ecfh="300" ecfsu="1" ecwr="100" echr="100" eclar="1" ecrups="1"><details dbit="11169976358211" dsel="239" /></do><excel><epo ews="Data 2_CONSEJO" ece="A1" enr="MSTR.Serie_calidad_REE_mensual_por_sistema" ptn="" qtn="" rows="41" cols="13" /><esdo ews="" ece="" ptn="" /></excel><pgs><pg rows="39" cols="10" nrr="5538" nrc="1500"><pg /><bls><bl sr="1" sc="1" rfetch="39" cfetch="10" posid="1" darows="0" dacols="1"><excel><epo ews="Data 2_CONSEJO" ece="A1" enr="MSTR.Serie_calidad_REE_mensual_por_sistema" ptn="" qtn="" rows="41" cols="13" /><esdo ews="" ece="" ptn="" /></excel><gridRng><sect id="TITLE_AREA" rngprop="1:1:2:3" /><sect id="ROWHEADERS_AREA" rngprop="3:1:39:3" /><sect id="COLUMNHEADERS_AREA" rngprop="1:4:2:10" /><sect id="DATA_AREA" rngprop="3:4:39:10" /></gridRng><shapes /></bl></bls></pg></pgs></rptloc></mi>
