Workbook
Name Dem_Dia: OFFSET(Dat_01!$D$129,0,0,COUNT(Dat_01!$D$129:$D$159),1)
Name Dem_Fechas: OFFSET(Dat_01!$C$129,0,0,COUNT(Dat_01!$C$129:$C$159),1)
Name Dem_Hora: OFFSET(Dat_01!$B$129,0,0,COUNT(Dat_01!$B$129:$B$159),1)
Name MSTR.Variación_y_componentes_mensual_de_la_demanda: #REF!
Name MSTR.Variación_y_componentes_mensual_de_la_demanda.1: #REF!
Name Temp_Año_Ant: OFFSET(Dat_01!$E$52,0,0,COUNT(Dat_01!$E$52:$E$82),1)
Name Temp_Banda_Max: OFFSET(Dat_01!$G$52,0,0,COUNT(Dat_01!$G$52:$G$82),1)
Name Temp_Banda_Min: OFFSET(Dat_01!$H$52,0,0,COUNT(Dat_01!$H$52:$H$82),1)
Name Temp_Fechas: OFFSET(Dat_01!$F$52,0,0,COUNT(Dat_01!$F$52:$F$82),1)
Name Temp_Max: OFFSET(Dat_01!$B$52,0,0,COUNT(Dat_01!$B$52:$B$82),1)
Name Temp_Med: OFFSET(Dat_01!$C$52,0,0,COUNT(Dat_01!$C$52:$C$82),1)
Name Temp_Med_Hist: OFFSET(Dat_01!$E$52,0,0,COUNT(Dat_01!$E$52:$E$82),1)
Name Temp_Min: OFFSET(Dat_01!$D$52,0,0,COUNT(Dat_01!$D$52:$D$82),1)
Name ZZZ: Dat_01!$A$177:$E$179

Sheet Indice
A1: Demanda
E2: Boletín mensual
E3: =Dat_01!A2 -> Septiembre 2026
C4: Demanda
D8: • | E8: ='D1'!C7 -> Componentes de la variación de la demanda peninsular
D9: • | E9: ='D2'!C7 -> Componentes de la variación mensual de la demanda peninsular
D10: • | E10: ='D3'!$C$7 -> Evolución diaria de las temperaturas peninsulares
D11: • | E11: ='D4'!C7 -> Evolución de la demanda peninsular
D12: • | E12: ='D5'!B7 -> Potencia instántanea máxima peninsular
D13: • | E13: ='D6'!C7 -> Demanda diaria y demanda horaria máxima peninsulares

Sheet D1
K2: Boletín mensual
K3: =Indice!E3 -> Septiembre 2026
C4: Demanda
C7: Componentes de la variación de la demanda peninsular | F7: =K3 -> Septiembre 2026 | H7: Acumulado anual | J7: Año móvil
F8: GWh | G8: =CONCATENATE("% ",RIGHT(F7,2),"/",RIGHT(F7,2)-1) -> % 26/25 | H8: GWh | I8: =G8 -> % 26/25 | J8: GWh | K8: =G8 -> % 26/25
E9: Variación mensual | F9: =VLOOKUP("Demanda transporte (b.c.)",Dat_01!A4:J29,2,FALSE)/1000 -> 20592.188 | G9: =VLOOKUP("Demanda transporte (b.c.)",Dat_01!A4:J29,4,FALSE)*100 -> 6.1382114 | H9: =VLOOKUP("Demanda transporte (b.c.)",Dat_01!A4:J29,5,FALSE)/1000 -> 185874.78 | I9: =VLOOKUP("Demanda transporte (b.c.)",Dat_01!A4:J29,7,FALSE)*100 -> 3.252967 | J9: =VLOOKUP("Demanda transporte (b.c.)",Dat_01!A4:J29,8,FALSE)/1000 -> 246376 | K9: =VLOOKUP("Demanda transporte (b.c.)",Dat_01!A4:J29,10,FALSE)*100 -> 3.4252968
E11: Componentes (1)
E12: Laboralidad | G12: =Dat_01!D46*100 -> 0.194 | I12: =Dat_01!H46*100 -> 0.097 | K12: =Dat_01!L46*100 -> 0.11
E13: Temperatura (2) | G13: =Dat_01!E46*100 -> 3.947 | I13: =Dat_01!I46*100 -> 1.324 | K13: =Dat_01!M46*100 -> 1.291
E14: Demanda corregida | G14: =Dat_01!F46*100 -> 2.054 | I14: =Dat_01!J46*100 -> 1.839 | K14: =Dat_01!N46*100 -> 2.03
E15: (1) La suma de los componentes es igual al tanto por ciento de variación de la demanda total.
E16: (2) Una media de las temperaturas máximas diarias por debajo o por encima de los umbrales de invierno y verano respectivamente, produce aumento de la demanda.

Sheet D2
E2: Boletín mensual
E3: =Indice!E3 -> Septiembre 2026
C4: Demanda
C7: Componentes de la variación mensual de la demanda peninsular
I8: ,
C10: (%)

Sheet D3
E2: Boletín mensual
E3: =Indice!E3 -> Septiembre 2026
C4: Demanda
C7: Evolución diaria de las temperaturas peninsulares
C9: (º C)

Sheet D4
E2: Boletín mensual
E3: =Indice!E3 -> Septiembre 2026
C4: Demanda
C7: Evolución de la demanda peninsular
C9: (GWh)

Sheet D5
D2: Boletín mensual
D3: =Indice!E3 -> Septiembre 2026
B4: Demanda
B7: Potencia instántanea máxima peninsular
B9: (MW)

Sheet D6
E2: Boletín mensual
E3: =Indice!E3 -> Septiembre 2026
C4: Demanda
C7: Demanda diaria y demanda horaria máxima peninsulares

Sheet Data 1
G1: Boletín mensual
G2: =Dat_01!A2 -> Septiembre 2026
B3: Demanda
A5: =IF(MONTH(B7)=1,"enero",IF(MONTH(B7)=2,"febrero",IF(MONTH(B7)=3,"marzo",IF(MONTH(B7)=4,"abril",IF(MONTH(B7)=5,"mayo",IF(MONTH(B7)=6,"junio",IF(MONTH(B7)=7,"julio",IF(MONTH(B7)=8,"agosto",IF(MONTH(B7)=9,"septiembre",IF(MONTH(B7)=10,"octubre",IF(MONTH(B7)=11,"noviembre",IF(MONTH(B7)=12,"diciembre","")))))))))))) -> septiembre | B5: Evolución diaria de las temperaturas peninsulares (º C)
A6: =YEAR(B7)-1 -> 2025 | C6: Máxima 2018 | D6: Media 2018 | E6: Minima 2018 | F6: Banda minima 2008-2017 | G6: Banda máxima 2008-2017 | H6: Media 2017
A7: 1 | B7: =Dat_01!A52 -> 01/09/2026 | C7: =Dat_01!B52 -> 31.527 | D7: =Dat_01!C52 -> 25.806 | E7: =Dat_01!D52 -> 20.085 | F7: =Dat_01!H52 -> 17.910053 | G7: =Dat_01!G52 -> 28.505947 | H7: =Dat_01!E52 -> 21.558
A8: 2 | B8: =Dat_01!A53 -> 02/09/2026 | C8: =Dat_01!B53 -> 32.915 | D8: =Dat_01!C53 -> 26.338 | E8: =Dat_01!D53 -> 19.761 | F8: =Dat_01!H53 -> 17.592421 | G8: =Dat_01!G53 -> 28.411 | H8: =Dat_01!E53 -> 22.078
A9: 3 | B9: =Dat_01!A54 -> 03/09/2026 | C9: =Dat_01!B54 -> 34.916 | D9: =Dat_01!C54 -> 27.805 | E9: =Dat_01!D54 -> 20.694 | F9: =Dat_01!H54 -> 17.697474 | G9: =Dat_01!G54 -> 28.661632 | H9: =Dat_01!E54 -> 23.475
A10: 4 | B10: =Dat_01!A55 -> 04/09/2026 | C10: =Dat_01!B55 -> 34.532 | D10: =Dat_01!C55 -> 27.789 | E10: =Dat_01!D55 -> 21.046 | F10: =Dat_01!H55 -> 17.719316 | G10: =Dat_01!G55 -> 28.611368 | H10: =Dat_01!E55 -> 23.396
A11: 5 | B11: =Dat_01!A56 -> 05/09/2026 | C11: =Dat_01!B56 -> 34.494 | D11: =Dat_01!C56 -> 28.45 | E11: =Dat_01!D56 -> 22.406 | F11: =Dat_01!H56 -> 17.611263 | G11: =Dat_01!G56 -> 28.283158 | H11: =Dat_01!E56 -> 23.29
A12: 6 | B12: =Dat_01!A57 -> 06/09/2026 | C12: =Dat_01!B57 -> 34.739 | D12: =Dat_01!C57 -> 27.912 | E12: =Dat_01!D57 -> 21.085 | F12: =Dat_01!H57 -> 17.819 | G12: =Dat_01!G57 -> 28.676053 | H12: =Dat_01!E57 -> 24.885
A13: 7 | B13: =Dat_01!A58 -> 07/09/2026 | C13: =Dat_01!B58 -> 34.095 | D13: =Dat_01!C58 -> 27.388 | E13: =Dat_01!D58 -> 20.682 | F13: =Dat_01!H58 -> 17.651105 | G13: =Dat_01!G58 -> 27.980895 | H13: =Dat_01!E58 -> 24.452
A14: 8 | B14: =Dat_01!A59 -> 08/09/2026 | C14: =Dat_01!B59 -> 33.081 | D14: =Dat_01!C59 -> 26.771 | E14: =Dat_01!D59 -> 20.461 | F14: =Dat_01!H59 -> 17.222947 | G14: =Dat_01!G59 -> 27.869579 | H14: =Dat_01!E59 -> 23.096
A15: 9 | B15: =Dat_01!A60 -> 09/09/2026 | C15: =Dat_01!B60 -> 28.233 | D15: =Dat_01!C60 -> 22.92 | E15: =Dat_01!D60 -> 17.607 | F15: =Dat_01!H60 -> 17.077526 | G15: =Dat_01!G60 -> 27.353053 | H15: =Dat_01!E60 -> 21.127
A16: 10 | B16: =Dat_01!A61 -> 10/09/2026 | C16: =Dat_01!B61 -> 27.614 | D16: =Dat_01!C61 -> 21.635 | E16: =Dat_01!D61 -> 15.655 | F16: =Dat_01!H61 -> 17.028421 | G16: =Dat_01!G61 -> 27.483368 | H16: =Dat_01!E61 -> 22.041
A17: 11 | B17: =Dat_01!A62 -> 11/09/2026 | C17: =Dat_01!B62 -> 29.565 | D17: =Dat_01!C62 -> 22.974 | E17: =Dat_01!D62 -> 16.384 | F17: =Dat_01!H62 -> 17.093947 | G17: =Dat_01!G62 -> 28.088684 | H17: =Dat_01!E62 -> 22.918
A18: 12 | B18: =Dat_01!A63 -> 12/09/2026 | C18: =Dat_01!B63 -> 30.515 | D18: =Dat_01!C63 -> 24.141 | E18: =Dat_01!D63 -> 17.768 | F18: =Dat_01!H63 -> 17.237316 | G18: =Dat_01!G63 -> 27.680526 | H18: =Dat_01!E63 -> 22.969
... A36: 30 | B36: =Dat_01!A81 -> 30/09/2026 | C36: =Dat_01!B81 -> 27.403 | D36: =Dat_01!C81 -> 23.247 | E36: =Dat_01!D81 -> 19.092 | F36: =Dat_01!H81 -> 14.649684 | G36: =Dat_01!G81 -> 24.968 | H36: =Dat_01!E81 -> 19.718
B38: Media | C38: =AVERAGE(C7:C37) -> 30.7263 | D38: =AVERAGE(D7:D37) -> 24.539467 | E38: =AVERAGE(E7:E37) -> 18.352867 | F38: =AVERAGE(F7:F37) -> 16.29226 | G38: =AVERAGE(G7:G37) -> 26.573354 | H38: =AVERAGE(H7:H37) -> 21.975733
B40: Evolución de la demanda peninsular (GWh)
C41: Demanda transporte (b.c.)
A42: J | B42: 42613 | C42: =Dat_01!B94 -> 20890.421
A43: A | B43: 42643 | C43: =Dat_01!B95 -> 18611.148
A44: S | B44: 42674 | C44: =Dat_01!B96 -> 19023.305
A45: O | B45: 42704 | C45: =Dat_01!B97 -> 18742.665
A46: N | B46: 42735 | C46: =Dat_01!B98 -> 20431.586
A47: D | B47: 42766 | C47: =Dat_01!B99 -> 21687.167
A48: E | B48: 42794 | C48: =Dat_01!B100 -> 19135.185
A49: F | B49: 42825 | C49: =Dat_01!B101 -> 20651.727
A50: M | B50: 42855 | C50: =Dat_01!B102 -> 17627.146
A51: A | B51: 42886 | C51: =Dat_01!B103 -> 18330.101
A52: M | B52: 42916 | C52: =Dat_01!B104 -> 20492.835
A53: J | B53: 42947 | C53: =Dat_01!B105 -> 21968.53
... A66: J | B66: 43343 | C66: =Dat_01!B118 -> 21608.714
B68: Demanda diaria y demanda horaria máxima peninsulares
B69: Fecha | C69: Demanda horaria máxima (MWh) | D69: Demanda diaria (GWh)
A70: 1 | B70: =Dat_01!A129 -> 01/09/2026 | C70: =Dat_01!B129 -> 34989.564 | D70: =Dat_01!D129 -> 727.47106
A71: 2 | B71: =Dat_01!A130 -> 02/09/2026 | C71: =Dat_01!B130 -> 36512.051 | D71: =Dat_01!D130 -> 746.48112
A72: 3 | B72: =Dat_01!A131 -> 03/09/2026 | C72: =Dat_01!B131 -> 37575.876 | D72: =Dat_01!D131 -> 771.4282
A73: 4 | B73: =Dat_01!A132 -> 04/09/2026 | C73: =Dat_01!B132 -> 37285.755 | D73: =Dat_01!D132 -> 782.47329
...

Sheet Dat_01
A1: Mes | B1: Último día mes
A2: Septiembre 2026 | B2: 30/09/2026 | C2: =IF(MONTH(A2)=1,"enero",IF(MONTH(A2)=2,"febrero",IF(MONTH(A2)=3,"marzo",IF(MONTH(A2)=4,"abril",IF(MONTH(A2)=5,"mayo",IF(MONTH(A2)=6,"junio",IF(MONTH(A2)=7,"julio",IF(MONTH(A2)=8,"agosto",IF(MONTH(A2)=9,"septiembre",IF(MONTH(A2)=10,"octubre",IF(MONTH(A2)=11,"noviembre",IF(MONTH(A2)=12,"diciembre","")))))))))))) -> septiembre
A4: Mes | B4: Septiembre 2026
A5: Sistema Eléctrico | B5: Península
A6: Indicadores | B6: Mes (MWh) | C6: Mes Año anterior (MWh) | D6: % Incr. Mes | E6: Año (MWh) | F6: Año anterior (MWh) | G6: % Incr. Año | H6: Año móvil (MWh) | I6: Año móvil Año anterior (MWh) | J6: % Incr. Año móvil
A7: Balance
A8: Hidráulica | B8: 1617272 | C8: 1608430.3 | D8: 0.0054971022 | E8: 24336283 | F8: 26662422 | G8: -0.087244099 | H8: 31373106 | I8: 34757469 | J8: -0.097370804
A9: Nuclear | B9: 4904925.1 | C9: 4538216.1 | D9: 0.080804665 | E9: 39943238 | F9: 39648226 | G9: 0.0074407162 | H9: 52141914 | I9: 52164087 | J9: -0.0004250559
A10: Carbón | B10: 60241.68 | C10: 7238.918 | D10: 7.3219177 | E10: 224097.65 | F10: 1347212.3 | G10: -0.83365826 | H10: 297215.69 | I10: 2260760.9 | J10: -0.8685329
A11: Turbina de vapor | B11: 226010.66 | C11: 185059.54 | D11: 0.22128623 | E11: 1969514.4 | F11: 457942.21 | G11: 3.3007926 | H11: 2634710.7 | I11: 457942.21 | J11: 4.7533694
A12: Fuel | B12: 0.001 | C12: 0.001 | D12: 0 | E12: 0.002 | F12: 0.001 | G12: 1 | H12: 0.002 | I12: 0.001 | J12: 1
A13: Ciclo combinado | B13: 4395955.2 | C13: 3151580 | D13: 0.3948417 | E13: 30536896 | F13: 26337770 | G13: 0.15943362 | H13: 43009596 | I13: 36624518 | J13: 0.17433888
A14: Eólica | B14: 3350002.9 | C14: 3947648.8 | D14: -0.15139286 | E14: 40893362 | F14: 40495217 | G14: 0.0098319059 | H14: 57781296 | I14: 56064155 | J14: 0.030628133
A15: Solar fotovoltaica | B15: 6190596.9 | C15: 4954881.4 | D15: 0.24939355 | E15: 48109409 | F15: 40067512 | G15: 0.20070865 | H15: 57340636 | I15: 47510876 | J15: 0.20689496
A16: Solar térmica | B16: 466844.02 | C16: 396082.16 | D16: 0.17865449 | E16: 3648011.1 | F16: 3286506 | G16: 0.10999678 | H16: 4043504.6 | I16: 3648023.1 | J16: 0.1084098
A17: Otras renovables | B17: 326641.4 | C17: 330895.53 | D17: -0.012856402 | E17: 2810969.1 | F17: 2909365.8 | G17: -0.03382069 | H17: 3792555 | I17: 3830541.9 | J17: -0.0099168372
A18: Cogeneración | B18: 1045543 | C18: 1270127.8 | D18: -0.17682065 | E18: 8843529.4 | F18: 11461532 | G18: -0.22841646 | H18: 12856629 | I18: 15742785 | J18: -0.18333201
A19: Residuos renovables | B19: 36817.234 | C19: 45211.659 | D19: -0.18566949 | E19: 383313.26 | F19: 408158.27 | G19: -0.060871006 | H19: 543974.26 | I19: 597354.96 | J19: -0.089361774
... A29: Desconocido | B29: 10983.398 | C29: 0 | D29: 0 | E29: 13419.734 | F29: 0 | G29: 0 | H29: 13419.734 | I29: 0 | J29: 0
B31: Sistema Eléctrico | C31: Península
B32: Indicadores | C32: Variación Demanda B.C. Mes (%) | D32: Efecto Laboralidad Mes (%) | E32: Efecto Temperatura Mes (%) | F32: Variación Demanda Corregida Mes Móvil (%) | G32: Variación Demanda B.C. Año (%) | H32: Efecto Laboralidad Año (%) | I32: Efecto Temperatura Año (%) | J32: Variación Demanda Corregida Año (%) | K32: Variación Demanda B.C. Año Móvil (%) | L32: Efecto Laboralidad Año Movil (%) | M32: Efecto Temperatura Año Movil (%) | N32: Variación Demanda Corregida Año Móvil (%)
A33: Mes | B33: Día
A34: Septiembre 2025 | B34: 30/09/2025 | C34: 0.04246 | D34: 0.00806 | E34: 0.02029 | F34: 0.01411 | G34: 0.02615 | H34: 7e-05 | I34: 0.0126 | J34: 0.01348 | K34: 0.02173 | L34: 0.00081 | M34: 0.00758 | N34: 0.01334 | O34: =MID(UPPER(TEXT(A34,"mmm")),1,1) -> S
A35: Octubre 2025 | B35: 31/10/2025 | C35: 0.00614 | D35: 0.00176 | E35: 0.00742 | F35: -0.00304 | G35: 0.0242 | H35: 0.00021 | I35: 0.01214 | J35: 0.01185 | K35: 0.02058 | L35: -0.00048 | M35: 0.00984 | N35: 0.01122 | O35: =MID(UPPER(TEXT(A35,"mmm")),1,1) -> O
A36: Noviembre 2025 | B36: 30/11/2025 | C36: 0.06113 | D36: -0.00293 | E36: 0.01796 | F36: 0.0461 | G36: 0.02744 | H36: -5e-05 | I36: 0.01256 | J36: 0.01493 | K36: 0.02647 | L36: -0.00034 | M36: 0.01165 | N36: 0.01516 | O36: =MID(UPPER(TEXT(A36,"mmm")),1,1) -> N
A37: Diciembre 2025 | B37: 31/12/2025 | C37: 0.05096 | D37: 0.00597 | E37: 0.01053 | F37: 0.03446 | G37: 0.0295 | H37: 0.00041 | I37: 0.01242 | J37: 0.01667 | K37: 0.0295 | L37: 0.00041 | M37: 0.01242 | N37: 0.01667 | O37: =MID(UPPER(TEXT(A37,"mmm")),1,1) -> D
A38: Enero 2026 | B38: 31/01/2026 | C38: 0.05279 | D38: -0.01124 | E38: 0.02697 | F38: 0.03706 | G38: 0.05279 | H38: -0.01124 | I38: 0.02697 | J38: 0.03706 | K38: 0.03191 | L38: 0.0006 | M38: 0.01454 | N38: 0.01677 | O38: =MID(UPPER(TEXT(A38,"mmm")),1,1) -> E
A39: Febrero 2026 | B39: 28/02/2026 | C39: 0.01907 | D39: 0.00051 | E39: -0.00604 | F39: 0.0246 | G39: 0.03698 | H39: -0.00597 | I39: 0.0115 | J39: 0.03145 | K39: 0.03374 | L39: 0.00078 | M39: 0.01297 | N39: 0.01999 | O39: =MID(UPPER(TEXT(A39,"mmm")),1,1) -> F
A40: Marzo 2026 | B40: 31/03/2026 | C40: -0.02171 | D40: 0.00331 | E40: -0.02058 | F40: -0.00444 | G40: 0.01727 | H40: -0.00291 | I40: 0.00074 | J40: 0.01944 | K40: 0.02686 | L40: -0.00049 | M40: 0.00947 | N40: 0.01788 | O40: =MID(UPPER(TEXT(A40,"mmm")),1,1) -> M
A41: Abril 2026 | B41: 30/04/2026 | C41: 0.00989 | D41: 0.00435 | E41: 0.00619 | F41: -0.00065 | G41: 0.01562 | H41: -0.00129 | I41: 0.00204 | J41: 0.01487 | K41: 0.02976 | L41: 0.00051 | M41: 0.01019 | N41: 0.01906 | O41: =MID(UPPER(TEXT(A41,"mmm")),1,1) -> A
A42: Mayo 2026 | B42: 31/05/2026 | C42: 0.02824 | D42: -0.00423 | E42: 0.0162 | F42: 0.01627 | G42: 0.018 | H42: -0.00185 | I42: 0.00471 | J42: 0.01514 | K42: 0.03189 | L42: 0.00067 | M42: 0.01112 | N42: 0.0201 | O42: =MID(UPPER(TEXT(A42,"mmm")),1,1) -> M
A43: Junio 2026 | B43: 30/06/2026 | C43: 0.02087 | D43: 0.00858 | E43: 0.0089 | F43: 0.00339 | G43: 0.0185 | H43: -3e-05 | I43: 0.00543 | J43: 0.0131 | K43: 0.02446 | L43: 0.00101 | M43: 0.00784 | N43: 0.01561 | O43: =MID(UPPER(TEXT(A43,"mmm")),1,1) -> J
A44: Julio 2026 | B44: 31/07/2026 | C44: 0.07295 | D44: 0.00018 | E44: 0.0355 | F44: 0.03727 | G44: 0.02705 | H44: 9e-05 | I44: 0.01032 | J44: 0.01664 | K44: 0.02825 | L44: 0.0007 | M44: 0.01097 | N44: 0.01658 | O44: =MID(UPPER(TEXT(A44,"mmm")),1,1) -> J
A45: Agosto 2026 | B45: 31/08/2026 | C45: 0.04265 | D45: 0.00592 | E45: 0.00765 | F45: 0.02908 | G45: 0.02906 | H45: 0.00081 | I45: 0.01008 | J45: 0.01817 | K45: 0.03269 | L45: 0.00154 | M45: 0.01132 | N45: 0.01983 | O45: =MID(UPPER(TEXT(A45,"mmm")),1,1) -> A
A46: Septiembre 2026 | B46: 30/09/2026 | C46: 0.06195 | D46: 0.00194 | E46: 0.03947 | F46: 0.02054 | G46: 0.0326 | H46: 0.00097 | I46: 0.01324 | J46: 0.01839 | K46: 0.03431 | L46: 0.0011 | M46: 0.01291 | N46: 0.0203 | O46: =MID(UPPER(TEXT(A46,"mmm")),1,1) -> S
B49: ="Máxima "&MID(B2,7,4) -> Máxima 2026 | C49: ="Media "&MID(B2,7,4) -> Media 2026 | D49: ="Mínima "&MID(B2,7,4) -> Mínima 2026 | E49: ="Media "&MID(B2,7,4)-1 -> Media 2025 | G49: ="Banda máxima "&MID(B2,7,4)-20&"-"&MID(B2,7,4)-1 -> Banda máxima 2006-2025 | H49: ="Banda mínima "&MID(B2,7,4)-20&"-"&MID(B2,7,4)-1 -> Banda mínima 2006-2025
A50: Indicadores | B50: Media Máx (ºC) | C50: Media (ºC) | D50: Media Mín (ºC) | E50: Media año anterior (ºC) | F50: Indicadores | G50: Media Máx Hist (ºC) | H50: Media Mín Hist(ºC)
A51: Día | F51: Día
A52: 01/09/2026 | B52: 31.527 | C52: 25.806 | D52: 20.085 | E52: 21.558 | F52: 1 | G52: 28.505947 | H52: 17.910053
A53: 02/09/2026 | B53: 32.915 | C53: 26.338 | D53: 19.761 | E53: 22.078 | F53: 2 | G53: 28.411 | H53: 17.592421
...

Sheet Mozart Reports
A1: 12 | B1: ade24a70f4db4a94a81559f9e368a8e4
A2: <mi app="e" ver="22"><rptloc guid="3fa2219468cf495f9cf23cec581c7e25" rank="0" ds="1"><ri hasPG="0" name="Mes del informe" id="6B81E4A345D0B50062DA74B86812DB5B" path="Objetos públicos\Informes\Informes macros\Boletín\Mes del informe" cf="0" prompt="1" ve="0" vm="0" flashpth="d:\Usuarios\ARACABIV\AppData\Local\Temp\" fimagepth="d:\Usuarios\ARACABIV\AppData\Local\Temp\" swfn="DashboardViewer.swf" fvars="" dvis=""><ans><pan pk="B7C3BF0D4428274429E8B8B9E552B212@0@10" aid="" /></ans><ci ps="BI" srv="apbi5a" prj="BDEbi" prjid="A2E2948BC74B9CF051A963A6CEDDABFA" li="SEVPENMA" am="s" /><lu ut="10/13/2026 05:51:29" si="2.0000000151ab1369fb5018e5a80522e51b3674aaf07e8c189c7e31e3d717e494a583b3ac14c181b815233d97d799311cfaadec679278bcb32560fde1c19330e457f09c539e279e3e67553123aacfa7c1207377c7619d6f1b6f95f2d2d22ebdf25d07de3c8ac792ac5a3c024d664e7a34673db5a5f67024259a5ebc039a0ab095416ed871cbb64d04a5d05b83f9fa3eefe312f5e1ffcbc5f8627583901a50252eeb06648c2c8b16098aaddf6fb61fe3df061bbb14e401515ff9c84b17e735f8553d47437a1337baa886deb54790d0675e3b0ec961fefaeb0fc8129e11716504fc0c1b72f615d906641fea66bb8ce8734c259a652a70ef105fbe9d6d381431a32707263fef639221ec93ff2c13fe51cdfa801b409eea466e46a18e20d2259a968d9207.p-3082.0.1_-3082.0.1_0.1.Europe/Madrid.upriv*_1*_pidn2*_26*_session*-lat*_1.00000001ee8698e23bd45fd42705eb79bedd8181bc6025e0562034d0a8309212b4b859e21f139d3352b09b535605b0687febadef09902d03.0000000139c6e9470196d1ea82ba4d25f923adf4bc6025e037507dcccd0ad22835cc59c7f1626d36e61964b9a1c527c6d09d67bcc1c9b088.0.1.1.BDEbi.A2E2948BC74B9CF051A963A6CEDDABFA.0-3082.1.1_-0.1.0_-3082.1.1_5.5.0.*0.000000012402cdfd9b485c8654aeabf47082ad3cc911585aceb96809d10d2fc6c70336c2d32ae5c1.0.23.11*.4*.1200*.00787J.e.0000000167c22cfb4c24310cbea6cab584c3be77c911585abb4fe0f480a9d5846fa2bd1a71956f42.0.10*.131*.138*.19.*0.0.0.0" msgID="D760ABFCB845E542C3385185FFAE7321" /></ri><do pa="6" cfmt="0" fmt="1" saf="0" hd="0" afg="1" rafg="1" arh="1" gosdo="0" cwd="1" ab="0" af="1" om="0" ag="0" lck="0" ppt="3" wpt="3" dai="0" rscd="1" rsrgb="1" rsrl="1" cit="2" c2d="1" cdf="0" cdt="0" dtlk="1" gaf="17" fqg="0" xqg="0" don="0" dcom="0" oaw="0" tws="0" ssm="1" ssn="MSTRStyle.Todos" glo="11101" pgsel="4" phdr="1" rdc="0" adt="0" rsoox="0" eco="1" ecfw="400" ecfh="300" ecfsu="1" ecwr="100" echr="100" eclar="1" ecrups="1"><details dbit="11169976358211" dsel="239" /></do><excel><epo ews="Dat_01" ece="A1" enr="MSTR.Último_día_del_mes" ptn="" qtn="" rows="2" cols="2" /><esdo ews="" ece="" ptn="" /></excel><pgs><pg rows="1" cols="0" nrr="135" nrc="0"><pg /><bls><bl sr="1" sc="1" rfetch="1" cfetch="0" posid="1" darows="0" dacols="1"><excel><epo ews="Dat_01" ece="A1" enr="MSTR.Último_día_del_mes" ptn="" qtn="" rows="2" cols="2" /><esdo ews="" ece="" ptn="" /></excel><gridRng><sect id="TITLE_AREA" rngprop="1:1:1:2" /><sect id="ROWHEADERS_AREA" rngprop="2:1:1:2" /><sect id="COLUMNHEADERS_AREA" rngprop="0:0:0:0" /><sect id="DATA_AREA" rngprop="2:3:1:0" /></gridRng><shapes /></bl></bls></pg></pgs></rptloc></mi>
A3: <mi app="e" ver="22"><rptloc guid="7fa94db0b0c84a398c7bd0edc3ed0164" rank="0" ds="1"><ri hasPG="0" name="Potencia máxima instantánea. Mes" id="9DEC8D12491D2B5403CA4489652427FD" path="Objetos públicos\Informes\Informes macros\Boletín\Potencia máxima instantánea. Mes" cf="0" prompt="1" ve="0" vm="0" flashpth="d:\Usuarios\ARACABIV\AppData\Local\Temp\" fimagepth="d:\Usuarios\ARACABIV\AppData\Local\Temp\" swfn="DashboardViewer.swf" fvars="" dvis=""><ans><pan pk="B7C3BF0D4428274429E8B8B9E552B212@0@10" aid="" /></ans><ci ps="BI" srv="apbi5a" prj="BDEbi" prjid="A2E2948BC74B9CF051A963A6CEDDABFA" li="SEVPENMA" am="s" /><lu ut="10/13/2026 06:53:09" si="2.0000000151ab1369fb5018e5a80522e51b3674aaf07e8c189c7e31e3d717e494a583b3ac14c181b815233d97d799311cfaadec679278bcb32560fde1c19330e457f09c539e279e3e67553123aacfa7c1207377c7619d6f1b6f95f2d2d22ebdf25d07de3c8ac792ac5a3c024d664e7a34673db5a5f67024259a5ebc039a0ab095416ed871cbb64d04a5d05b83f9fa3eefe312f5e1ffcbc5f8627583901a50252eeb06648c2c8b16098aaddf6fb61fe3df061bbb14e401515ff9c84b17e735f8553d47437a1337baa886deb54790d0675e3b0ec961fefaeb0fc8129e11716504fc0c1b72f615d906641fea66bb8ce8734c259a652a70ef105fbe9d6d381431a32707263fef639221ec93ff2c13fe51cdfa801b409eea466e46a18e20d2259a968d9207.p-3082.0.1_-3082.0.1_0.1.Europe/Madrid.upriv*_1*_pidn2*_26*_session*-lat*_1.00000001ee8698e23bd45fd42705eb79bedd8181bc6025e0562034d0a8309212b4b859e21f139d3352b09b535605b0687febadef09902d03.0000000139c6e9470196d1ea82ba4d25f923adf4bc6025e037507dcccd0ad22835cc59c7f1626d36e61964b9a1c527c6d09d67bcc1c9b088.0.1.1.BDEbi.A2E2948BC74B9CF051A963A6CEDDABFA.0-3082.1.1_-0.1.0_-3082.1.1_5.5.0.*0.000000012402cdfd9b485c8654aeabf47082ad3cc911585aceb96809d10d2fc6c70336c2d32ae5c1.0.23.11*.4*.1200*.00787J.e.0000000167c22cfb4c24310cbea6cab584c3be77c911585abb4fe0f480a9d5846fa2bd1a71956f42.0.10*.131*.138*.19.*0.0.0.0" msgID="1C16482B074AE81DC6E4EF96790C1552" /></ri><do pa="6" cfmt="0" fmt="1" saf="0" hd="0" afg="1" rafg="1" arh="1" gosdo="0" cwd="1" ab="0" af="1" om="0" ag="0" lck="0" ppt="3" wpt="3" dai="0" rscd="1" rsrgb="1" rsrl="1" cit="2" c2d="1" cdf="0" cdt="0" dtlk="1" gaf="17" fqg="0" xqg="0" don="0" dcom="0" oaw="0" tws="0" ssm="1" ssn="MSTRStyle.Todos" glo="11101" pgsel="4" phdr="1" rdc="0" adt="0" rsoox="0" eco="1" ecfw="400" ecfh="300" ecfsu="1" ecwr="100" echr="100" eclar="1" ecrups="1"><details dbit="11169976358211" dsel="239" /></do><excel><epo ews="Dat_01" ece="A163" enr="MSTR.Potencia_máxima_instantánea._Mes" ptn="" qtn="" rows="4" cols="3" /><esdo ews="" ece="" ptn="" /></excel><pgs><pg rows="1" cols="2" nrr="138" nrc="276"><pg /><bls><bl sr="1" sc="1" rfetch="1" cfetch="2" posid="1" darows="0" dacols="1"><excel><epo ews="Dat_01" ece="A163" enr="MSTR.Potencia_máxima_instantánea._Mes" ptn="" qtn="" rows="4" cols="3" /><esdo ews="" ece="" ptn="" /></excel><gridRng><sect id="TITLE_AREA" rngprop="1:1:3:1" /><sect id="ROWHEADERS_AREA" rngprop="4:1:1:1" /><sect id="COLUMNHEADERS_AREA" rngprop="1:2:3:2" /><sect id="DATA_AREA" rngprop="4:2:1:2" /></gridRng><shapes /></bl></bls></pg></pgs></rptloc></mi>
A4: <mi app="e" ver="22"><rptloc guid="986b2b2cb744427f9e53bf5e1a936edf" rank="0" ds="1"><ri hasPG="0" name="Evolución diaria de la temperatura. Histórico" id="7E81E8B9403A621A0246948BE787D2F6" path="Objetos públicos\Informes\Informes macros\Boletín\Evolución diaria de la temperatura. Histórico" cf="0" prompt="1" ve="0" vm="0" flashpth="d:\Usuarios\ARACABIV\AppData\Local\Temp\" fimagepth="d:\Usuarios\ARACABIV\AppData\Local\Temp\" swfn="DashboardViewer.swf" fvars="" dvis=""><ans><pan pk="B7C3BF0D4428274429E8B8B9E552B212@0@10" aid="" /></ans><ci ps="BI" srv="apbi5a" prj="BDEbi" prjid="A2E2948BC74B9CF051A963A6CEDDABFA" li="SEVPENMA" am="s" /><lu ut="10/13/2026 06:19:20" si="2.0000000151ab1369fb5018e5a80522e51b3674aaf07e8c189c7e31e3d717e494a583b3ac14c181b815233d97d799311cfaadec679278bcb32560fde1c19330e457f09c539e279e3e67553123aacfa7c1207377c7619d6f1b6f95f2d2d22ebdf25d07de3c8ac792ac5a3c024d664e7a34673db5a5f67024259a5ebc039a0ab095416ed871cbb64d04a5d05b83f9fa3eefe312f5e1ffcbc5f8627583901a50252eeb06648c2c8b16098aaddf6fb61fe3df061bbb14e401515ff9c84b17e735f8553d47437a1337baa886deb54790d0675e3b0ec961fefaeb0fc8129e11716504fc0c1b72f615d906641fea66bb8ce8734c259a652a70ef105fbe9d6d381431a32707263fef639221ec93ff2c13fe51cdfa801b409eea466e46a18e20d2259a968d9207.p-3082.0.1_-3082.0.1_0.1.Europe/Madrid.upriv*_1*_pidn2*_26*_session*-lat*_1.00000001ee8698e23bd45fd42705eb79bedd8181bc6025e0562034d0a8309212b4b859e21f139d3352b09b535605b0687febadef09902d03.0000000139c6e9470196d1ea82ba4d25f923adf4bc6025e037507dcccd0ad22835cc59c7f1626d36e61964b9a1c527c6d09d67bcc1c9b088.0.1.1.BDEbi.A2E2948BC74B9CF051A963A6CEDDABFA.0-3082.1.1_-0.1.0_-3082.1.1_5.5.0.*0.000000012402cdfd9b485c8654aeabf47082ad3cc911585aceb96809d10d2fc6c70336c2d32ae5c1.0.23.11*.4*.1200*.00787J.e.0000000167c22cfb4c24310cbea6cab584c3be77c911585abb4fe0f480a9d5846fa2bd1a71956f42.0.10*.131*.138*.19.*0.0.0.0" msgID="66A46A7BDE446EFA0ED642BEBDAAF39B" /></ri><do pa="6" cfmt="0" fmt="1" saf="0" hd="0" afg="1" rafg="1" arh="1" gosdo="0" cwd="1" ab="0" af="1" om="0" ag="0" lck="0" ppt="3" wpt="3" dai="0" rscd="1" rsrgb="1" rsrl="1" cit="2" c2d="1" cdf="0" cdt="0" dtlk="1" gaf="17" fqg="0" xqg="0" don="0" dcom="0" oaw="0" tws="0" ssm="1" ssn="MSTRStyle.Todos" glo="11101" pgsel="4" phdr="1" rdc="0" adt="0" rsoox="0" eco="1" ecfw="400" ecfh="300" ecfsu="1" ecwr="100" echr="100" eclar="1" ecrups="1"><details dbit="11169976358211" dsel="239" /></do><excel><epo ews="Dat_01" ece="F50" enr="MSTR.Evolución_diaria_de_la_temperatura._Histórico" ptn="" qtn="" rows="32" cols="3" /><esdo ews="" ece="" ptn="" /></excel><pgs><pg rows="30" cols="2" nrr="4241" nrc="280"><pg /><bls><bl sr="1" sc="1" rfetch="30" cfetch="2" posid="1" darows="0" dacols="1"><excel><epo ews="Dat_01" ece="F50" enr="MSTR.Evolución_diaria_de_la_temperatura._Histórico" ptn="" qtn="" rows="32" cols="3" /><esdo ews="" ece="" ptn="" /></excel><gridRng><sect id="TITLE_AREA" rngprop="1:1:2:1" /><sect id="ROWHEADERS_AREA" rngprop="3:1:30:1" /><sect id="COLUMNHEADERS_AREA" rngprop="1:2:2:2" /><sect id="DATA_AREA" rngprop="3:2:30:2" /></gridRng><shapes /></bl></bls></pg></pgs></rptloc></mi>
A5: <mi app="e" ver="22"><rptloc guid="41593f9912e1482ab209d684cf122f8b" rank="0" ds="1"><ri hasPG="0" name="Demanda máxima horaria" id="F4916A424973C60FA27D1A9B257BE0EC" path="Objetos públicos\Informes\Informes macros\Boletín\Demanda máxima horaria" cf="0" prompt="1" ve="0" vm="0" flashpth="d:\Usuarios\ARACABIV\AppData\Local\Temp\" fimagepth="d:\Usuarios\ARACABIV\AppData\Local\Temp\" swfn="DashboardViewer.swf" fvars="" dvis=""><ans><pan pk="B7C3BF0D4428274429E8B8B9E552B212@0@10" aid="" /></ans><ci ps="BI" srv="apbi5a" prj="BDEbi" prjid="A2E2948BC74B9CF051A963A6CEDDABFA" li="SEVPENMA" am="s" /><lu ut="10/13/2026 06:51:27" si="2.0000000151ab1369fb5018e5a80522e51b3674aaf07e8c189c7e31e3d717e494a583b3ac14c181b815233d97d799311cfaadec679278bcb32560fde1c19330e457f09c539e279e3e67553123aacfa7c1207377c7619d6f1b6f95f2d2d22ebdf25d07de3c8ac792ac5a3c024d664e7a34673db5a5f67024259a5ebc039a0ab095416ed871cbb64d04a5d05b83f9fa3eefe312f5e1ffcbc5f8627583901a50252eeb06648c2c8b16098aaddf6fb61fe3df061bbb14e401515ff9c84b17e735f8553d47437a1337baa886deb54790d0675e3b0ec961fefaeb0fc8129e11716504fc0c1b72f615d906641fea66bb8ce8734c259a652a70ef105fbe9d6d381431a32707263fef639221ec93ff2c13fe51cdfa801b409eea466e46a18e20d2259a968d9207.p-3082.0.1_-3082.0.1_0.1.Europe/Madrid.upriv*_1*_pidn2*_26*_session*-lat*_1.00000001ee8698e23bd45fd42705eb79bedd8181bc6025e0562034d0a8309212b4b859e21f139d3352b09b535605b0687febadef09902d03.0000000139c6e9470196d1ea82ba4d25f923adf4bc6025e037507dcccd0ad22835cc59c7f1626d36e61964b9a1c527c6d09d67bcc1c9b088.0.1.1.BDEbi.A2E2948BC74B9CF051A963A6CEDDABFA.0-3082.1.1_-0.1.0_-3082.1.1_5.5.0.*0.000000012402cdfd9b485c8654aeabf47082ad3cc911585aceb96809d10d2fc6c70336c2d32ae5c1.0.23.11*.4*.1200*.00787J.e.0000000167c22cfb4c24310cbea6cab584c3be77c911585abb4fe0f480a9d5846fa2bd1a71956f42.0.10*.131*.138*.19.*0.0.0.0" msgID="C1F55BC8B94312F427C6C4B6A36D1139" /></ri><do pa="6" cfmt="0" fmt="1" saf="0" hd="0" afg="1" rafg="1" arh="1" gosdo="0" cwd="1" ab="0" af="1" om="0" ag="0" lck="0" ppt="3" wpt="3" dai="0" rscd="1" rsrgb="1" rsrl="1" cit="2" c2d="1" cdf="0" cdt="0" dtlk="1" gaf="17" fqg="0" xqg="0" don="0" dcom="0" oaw="0" tws="0" ssm="1" ssn="MSTRStyle.Todos" glo="11101" pgsel="4" phdr="1" rdc="0" adt="0" rsoox="0" eco="1" ecfw="400" ecfh="300" ecfsu="1" ecwr="100" echr="100" eclar="1" ecrups="1"><details dbit="11169976358211" dsel="239" /></do><excel><epo ews="Dat_01" ece="A127" enr="MSTR.Demanda_máxima_horaria" ptn="" qtn="" rows="32" cols="2" /><esdo ews="" ece="" ptn="" /></excel><pgs><pg rows="30" cols="1" nrr="4208" nrc="141"><pg /><bls><bl sr="1" sc="1" rfetch="30" cfetch="1" posid="1" darows="0" dacols="1"><excel><epo ews="Dat_01" ece="A127" enr="MSTR.Demanda_máxima_horaria" ptn="" qtn="" rows="32" cols="2" /><esdo ews="" ece="" ptn="" /></excel><gridRng><sect id="TITLE_AREA" rngprop="1:1:2:1" /><sect id="ROWHEADERS_AREA" rngprop="3:1:30:1" /><sect id="COLUMNHEADERS_AREA" rngprop="1:2:2:1" /><sect id="DATA_AREA" rngprop="3:2:30:1" /></gridRng><shapes /></bl></bls></pg></pgs></rptloc></mi>
A6: <mi app="e" ver="22"><rptloc guid="757bcc19a174479682b5c0cfe9f068f3" rank="0" ds="1"><ri hasPG="0" name="Demanda diaria" id="072FBD3440BD47CEA192BB8A0758E72D" path="Objetos públicos\Informes\Informes macros\Boletín\Demanda diaria" cf="0" prompt="1" ve="0" vm="0" flashpth="d:\Usuarios\ARACABIV\AppData\Local\Temp\" fimagepth="d:\Usuarios\ARACABIV\AppData\Local\Temp\" swfn="DashboardViewer.swf" fvars="" dvis=""><ans><pan pk="B7C3BF0D4428274429E8B8B9E552B212@0@10" aid="" /></ans><ci ps="BI" srv="apbi5a" prj="BDEbi" prjid="A2E2948BC74B9CF051A963A6CEDDABFA" li="SEVPENMA" am="s" /><lu ut="10/13/2026 06:51:54" si="2.0000000151ab1369fb5018e5a80522e51b3674aaf07e8c189c7e31e3d717e494a583b3ac14c181b815233d97d799311cfaadec679278bcb32560fde1c19330e457f09c539e279e3e67553123aacfa7c1207377c7619d6f1b6f95f2d2d22ebdf25d07de3c8ac792ac5a3c024d664e7a34673db5a5f67024259a5ebc039a0ab095416ed871cbb64d04a5d05b83f9fa3eefe312f5e1ffcbc5f8627583901a50252eeb06648c2c8b16098aaddf6fb61fe3df061bbb14e401515ff9c84b17e735f8553d47437a1337baa886deb54790d0675e3b0ec961fefaeb0fc8129e11716504fc0c1b72f615d906641fea66bb8ce8734c259a652a70ef105fbe9d6d381431a32707263fef639221ec93ff2c13fe51cdfa801b409eea466e46a18e20d2259a968d9207.p-3082.0.1_-3082.0.1_0.1.Europe/Madrid.upriv*_1*_pidn2*_26*_session*-lat*_1.00000001ee8698e23bd45fd42705eb79bedd8181bc6025e0562034d0a8309212b4b859e21f139d3352b09b535605b0687febadef09902d03.0000000139c6e9470196d1ea82ba4d25f923adf4bc6025e037507dcccd0ad22835cc59c7f1626d36e61964b9a1c527c6d09d67bcc1c9b088.0.1.1.BDEbi.A2E2948BC74B9CF051A963A6CEDDABFA.0-3082.1.1_-0.1.0_-3082.1.1_5.5.0.*0.000000012402cdfd9b485c8654aeabf47082ad3cc911585aceb96809d10d2fc6c70336c2d32ae5c1.0.23.11*.4*.1200*.00787J.e.0000000167c22cfb4c24310cbea6cab584c3be77c911585abb4fe0f480a9d5846fa2bd1a71956f42.0.10*.131*.138*.19.*0.0.0.0" msgID="12F16C476E4AD5583B13C99A8B724AF4" /></ri><do pa="6" cfmt="0" fmt="1" saf="0" hd="0" afg="1" rafg="1" arh="1" gosdo="0" cwd="1" ab="0" af="1" om="0" ag="0" lck="0" ppt="3" wpt="3" dai="0" rscd="1" rsrgb="1" rsrl="1" cit="2" c2d="1" cdf="0" cdt="0" dtlk="1" gaf="17" fqg="0" xqg="0" don="0" dcom="0" oaw="0" tws="0" ssm="1" ssn="MSTRStyle.Todos" glo="11101" pgsel="4" phdr="1" rdc="0" adt="0" rsoox="0" eco="1" ecfw="400" ecfh="300" ecfsu="1" ecwr="100" echr="100" eclar="1" ecrups="1"><details dbit="11169976358211" dsel="239" /></do><excel><epo ews="Dat_01" ece="C127" enr="MSTR.Demanda_diaria" ptn="" qtn="" rows="32" cols="2" /><esdo ews="" ece="" ptn="" /></excel><pgs><pg rows="30" cols="1" nrr="4115" nrc="138"><pg /><bls><bl sr="1" sc="1" rfetch="30" cfetch="1" posid="1" darows="0" dacols="1"><excel><epo ews="Dat_01" ece="C127" enr="MSTR.Demanda_diaria" ptn="" qtn="" rows="32" cols="2" /><esdo ews="" ece="" ptn="" /></excel><gridRng><sect id="TITLE_AREA" rngprop="1:1:2:1" /><sect id="ROWHEADERS_AREA" rngprop="3:1:30:1" /><sect id="COLUMNHEADERS_AREA" rngprop="1:2:2:1" /><sect id="DATA_AREA" rngprop="3:2:30:1" /></gridRng><shapes /></bl></bls></pg></pgs></rptloc></mi>
A7: <mi app="e" ver="22"><rptloc guid="18e988655bfd408887e27314f1e56b26" rank="0" ds="1"><ri hasPG="0" name="Potencia máxima instantánea. Años" id="9754D2B311EE472F63430080EF251746" path="Objetos públicos\Informes\Informes macros\Boletín\Potencia máxima instantánea. Años" cf="0" prompt="0" ve="0" vm="0" flashpth="C:\Users\SEVPENMA\AppData\Local\Temp\" fimagepth="C:\Users\SEVPENMA\AppData\Local\Temp\" swfn="DashboardViewer.swf" fvars="" dvis=""><ci ps="BI" srv="apbi5a" prj="BDEbi" prjid="A2E2948BC74B9CF051A963A6CEDDABFA" li="SEVPENMA" am="s" /><lu ut="10/13/2026 06:53:48" si="2.0000000151ab1369fb5018e5a80522e51b3674aaf07e8c189c7e31e3d717e494a583b3ac14c181b815233d97d799311cfaadec679278bcb32560fde1c19330e457f09c539e279e3e67553123aacfa7c1207377c7619d6f1b6f95f2d2d22ebdf25d07de3c8ac792ac5a3c024d664e7a34673db5a5f67024259a5ebc039a0ab095416ed871cbb64d04a5d05b83f9fa3eefe312f5e1ffcbc5f8627583901a50252eeb06648c2c8b16098aaddf6fb61fe3df061bbb14e401515ff9c84b17e735f8553d47437a1337baa886deb54790d0675e3b0ec961fefaeb0fc8129e11716504fc0c1b72f615d906641fea66bb8ce8734c259a652a70ef105fbe9d6d381431a32707263fef639221ec93ff2c13fe51cdfa801b409eea466e46a18e20d2259a968d9207.p-3082.0.1_-3082.0.1_0.1.Europe/Madrid.upriv*_1*_pidn2*_26*_session*-lat*_1.00000001ee8698e23bd45fd42705eb79bedd8181bc6025e0562034d0a8309212b4b859e21f139d3352b09b535605b0687febadef09902d03.0000000139c6e9470196d1ea82ba4d25f923adf4bc6025e037507dcccd0ad22835cc59c7f1626d36e61964b9a1c527c6d09d67bcc1c9b088.0.1.1.BDEbi.A2E2948BC74B9CF051A963A6CEDDABFA.0-3082.1.1_-0.1.0_-3082.1.1_5.5.0.*0.000000012402cdfd9b485c8654aeabf47082ad3cc911585aceb96809d10d2fc6c70336c2d32ae5c1.0.23.11*.4*.1200*.00787J.e.0000000167c22cfb4c24310cbea6cab584c3be77c911585abb4fe0f480a9d5846fa2bd1a71956f42.0.10*.131*.138*.19.*0.0.0.0" msgID="81EEFF19D04F0C89820E719956FE815A" /></ri><do pa="6" cfmt="0" fmt="1" saf="0" hd="0" afg="1" rafg="1" arh="1" gosdo="0" cwd="1" ab="0" af="1" om="0" ag="0" lck="0" ppt="3" wpt="3" dai="0" rscd="1" rsrgb="1" rsrl="1" cit="2" c2d="1" cdf="0" cdt="0" dtlk="1" gaf="17" fqg="0" xqg="0" don="0" dcom="0" oaw="0" tws="0" ssm="1" ssn="MSTRStyle.Todos" glo="11101" pgsel="4" phdr="1" rdc="0" adt="0" rsoox="0" eco="1" ecfw="400" ecfh="300" ecfsu="1" ecwr="100" echr="100" eclar="1" ecrups="1"><details dbit="11169976358211" dsel="239" /></do><excel><epo ews="Dat_01" ece="A169" enr="MSTR.Potencia_máxima_instantánea._Años" ptn="" qtn="" rows="6" cols="5" /><esdo ews="" ece="" ptn="" /></excel><pgs><pg rows="3" cols="4" nrr="144" nrc="192"><pg /><bls><bl sr="1" sc="1" rfetch="3" cfetch="4" posid="1" darows="0" dacols="1"><excel><epo ews="Dat_01" ece="A169" enr="MSTR.Potencia_máxima_instantánea._Años" ptn="" qtn="" rows="6" cols="5" /><esdo ews="" ece="" ptn="" /></excel><gridRng><sect id="TITLE_AREA" rngprop="1:1:3:1" /><sect id="ROWHEADERS_AREA" rngprop="4:1:3:1" /><sect id="COLUMNHEADERS_AREA" rngprop="1:2:3:4" /><sect id="DATA_AREA" rngprop="4:2:3:4" /></gridRng><shapes /></bl></bls></pg></pgs></rptloc></mi>
A8: <mi app="e" ver="22"><rptloc guid="ecb51ed5fd3c497eb5e9befb3ef2a01c" rank="0" ds="1"><ri hasPG="0" name="Balance B.C. Mensual Peninsular" id="72B518624D2DBF77003353B699115DFF" path="Objetos públicos\Informes\Informes macros\Boletín\Balance B.C. Mensual Peninsular" cf="0" prompt="1" ve="0" vm="0" flashpth="d:\Usuarios\ARACABIV\AppData\Local\Temp\" fimagepth="d:\Usuarios\ARACABIV\AppData\Local\Temp\" swfn="DashboardViewer.swf" fvars="" dvis=""><ans><pan pk="B7C3BF0D4428274429E8B8B9E552B212@0@10" aid="" /></ans><ci ps="BI" srv="apbi5a" prj="BDEbi" prjid="A2E2948BC74B9CF051A963A6CEDDABFA" li="SEVPENMA" am="s" /><lu ut="10/13/2026 06:04:58" si="2.0000000151ab1369fb5018e5a80522e51b3674aaf07e8c189c7e31e3d717e494a583b3ac14c181b815233d97d799311cfaadec679278bcb32560fde1c19330e457f09c539e279e3e67553123aacfa7c1207377c7619d6f1b6f95f2d2d22ebdf25d07de3c8ac792ac5a3c024d664e7a34673db5a5f67024259a5ebc039a0ab095416ed871cbb64d04a5d05b83f9fa3eefe312f5e1ffcbc5f8627583901a50252eeb06648c2c8b16098aaddf6fb61fe3df061bbb14e401515ff9c84b17e735f8553d47437a1337baa886deb54790d0675e3b0ec961fefaeb0fc8129e11716504fc0c1b72f615d906641fea66bb8ce8734c259a652a70ef105fbe9d6d381431a32707263fef639221ec93ff2c13fe51cdfa801b409eea466e46a18e20d2259a968d9207.p-3082.0.1_-3082.0.1_0.1.Europe/Madrid.upriv*_1*_pidn2*_26*_session*-lat*_1.00000001ee8698e23bd45fd42705eb79bedd8181bc6025e0562034d0a8309212b4b859e21f139d3352b09b535605b0687febadef09902d03.0000000139c6e9470196d1ea82ba4d25f923adf4bc6025e037507dcccd0ad22835cc59c7f1626d36e61964b9a1c527c6d09d67bcc1c9b088.0.1.1.BDEbi.A2E2948BC74B9CF051A963A6CEDDABFA.0-3082.1.1_-0.1.0_-3082.1.1_5.5.0.*0.000000012402cdfd9b485c8654aeabf47082ad3cc911585aceb96809d10d2fc6c70336c2d32ae5c1.0.23.11*.4*.1200*.00787J.e.0000000167c22cfb4c24310cbea6cab584c3be77c911585abb4fe0f480a9d5846fa2bd1a71956f42.0.10*.131*.138*.19.*0.0.0.0" msgID="798F91CDFD4788FA87CBE8B9C09196A9" /></ri><do pa="6" cfmt="0" fmt="1" saf="0" hd="0" afg="1" rafg="1" arh="1" gosdo="0" cwd="1" ab="0" af="1" om="0" ag="0" lck="0" ppt="3" wpt="3" dai="0" rscd="1" rsrgb="1" rsrl="1" cit="2" c2d="1" cdf="0" cdt="0" dtlk="1" gaf="17" fqg="0" xqg="0" don="0" dcom="0" oaw="0" tws="0" ssm="1" ssn="MSTRStyle.Todos" glo="11101" pgsel="4" phdr="1" rdc="0" adt="0" rsoox="0" eco="1" ecfw="400" ecfh="300" ecfsu="1" ecwr="100" echr="100" eclar="1" ecrups="1"><details dbit="11169976358211" dsel="239" /></do><excel><epo ews="Dat_01" ece="A4" enr="MSTR.Balance_B.C._Mensual_Sistema_eléctrico" ptn="" qtn="" rows="26" cols="10" /><esdo ews="" ece="" ptn="" /></excel><pgs><pg rows="22" cols="9" nrr="2680" nrc="1164"><pg /><bls><bl sr="1" sc="1" rfetch="22" cfetch="9" posid="1" darows="0" dacols="1"><excel><epo ews="Dat_01" ece="A4" enr="MSTR.Balance_B.C._Mensual_Sistema_eléctrico" ptn="" qtn="" rows="26" cols="10" /><esdo ews="" ece="" ptn="" /></excel><gridRng><sect id="TITLE_AREA" rngprop="1:1:4:1" /><sect id="ROWHEADERS_AREA" rngprop="5:1:22:1" /><sect id="COLUMNHEADERS_AREA" rngprop="1:2:4:9" /><sect id="DATA_AREA" rngprop="5:2:22:9" /></gridRng><shapes /></bl></bls></pg></pgs></rptloc></mi>
A9: <mi app="e" ver="22"><rptloc guid="2f668cd27d1e4729971813896d8ab35d" rank="0" ds="1"><ri hasPG="0" name="Potencia máxima instantánea. Histórico" id="CA4428004C9D6D5B3FD520A36E426DBA" path="Objetos públicos\Informes\Informes macros\Boletín\Potencia máxima instantánea. Histórico" cf="0" prompt="0" ve="0" vm="0" flashpth="d:\Usuarios\ARACABIV\AppData\Local\Temp\" fimagepth="d:\Usuarios\ARACABIV\AppData\Local\Temp\" swfn="DashboardViewer.swf" fvars="" dvis=""><ci ps="BI" srv="apbi5a" prj="BDEbi" prjid="A2E2948BC74B9CF051A963A6CEDDABFA" li="SEVPENMA" am="s" /><lu ut="10/13/2026 06:54:20" si="2.0000000151ab1369fb5018e5a80522e51b3674aaf07e8c189c7e31e3d717e494a583b3ac14c181b815233d97d799311cfaadec679278bcb32560fde1c19330e457f09c539e279e3e67553123aacfa7c1207377c7619d6f1b6f95f2d2d22ebdf25d07de3c8ac792ac5a3c024d664e7a34673db5a5f67024259a5ebc039a0ab095416ed871cbb64d04a5d05b83f9fa3eefe312f5e1ffcbc5f8627583901a50252eeb06648c2c8b16098aaddf6fb61fe3df061bbb14e401515ff9c84b17e735f8553d47437a1337baa886deb54790d0675e3b0ec961fefaeb0fc8129e11716504fc0c1b72f615d906641fea66bb8ce8734c259a652a70ef105fbe9d6d381431a32707263fef639221ec93ff2c13fe51cdfa801b409eea466e46a18e20d2259a968d9207.p-3082.0.1_-3082.0.1_0.1.Europe/Madrid.upriv*_1*_pidn2*_26*_session*-lat*_1.00000001ee8698e23bd45fd42705eb79bedd8181bc6025e0562034d0a8309212b4b859e21f139d3352b09b535605b0687febadef09902d03.0000000139c6e9470196d1ea82ba4d25f923adf4bc6025e037507dcccd0ad22835cc59c7f1626d36e61964b9a1c527c6d09d67bcc1c9b088.0.1.1.BDEbi.A2E2948BC74B9CF051A963A6CEDDABFA.0-3082.1.1_-0.1.0_-3082.1.1_5.5.0.*0.000000012402cdfd9b485c8654aeabf47082ad3cc911585aceb96809d10d2fc6c70336c2d32ae5c1.0.23.11*.4*.1200*.00787J.e.0000000167c22cfb4c24310cbea6cab584c3be77c911585abb4fe0f480a9d5846fa2bd1a71956f42.0.10*.131*.138*.19.*0.0.0.0" msgID="27AE8DEE1241485272377AA253F7940F" /></ri><do pa="6" cfmt="0" fmt="1" saf="0" hd="0" afg="1" rafg="1" arh="1" gosdo="0" cwd="1" ab="0" af="1" om="0" ag="0" lck="0" ppt="3" wpt="3" dai="0" rscd="1" rsrgb="1" rsrl="1" cit="2" c2d="1" cdf="0" cdt="0" dtlk="1" gaf="17" fqg="0" xqg="0" don="0" dcom="0" oaw="0" tws="0" ssm="1" ssn="MSTRStyle.Todos" glo="11101" pgsel="4" phdr="1" rdc="0" adt="0" rsoox="0" eco="1" ecfw="400" ecfh="300" ecfsu="1" ecwr="100" echr="100" eclar="1" ecrups="1"><details dbit="11169976358211" dsel="239" /></do><excel><epo ews="Dat_01" ece="A177" enr="MSTR.Potencia_máxima_instantánea._Histórico" ptn="" qtn="" rows="3" cols="5" /><esdo ews="" ece="" ptn="" /></excel><pgs><pg rows="1" cols="4" nrr="135" nrc="540"><pg /><bls><bl sr="1" sc="1" rfetch="1" cfetch="4" posid="1" darows="0" dacols="1"><excel><epo ews="Dat_01" ece="A177" enr="MSTR.Potencia_máxima_instantánea._Histórico" ptn="" qtn="" rows="3" cols="5" /><esdo ews="" ece="" ptn="" /></excel><gridRng><sect id="TITLE_AREA" rngprop="1:1:2:1" /><sect id="ROWHEADERS_AREA" rngprop="3:1:1:0" /><sect id="COLUMNHEADERS_AREA" rngprop="1:2:2:4" /><sect id="DATA_AREA" rngprop="3:2:1:4" /></gridRng><shapes /></bl></bls></pg></pgs></rptloc></mi>
A10: <mi app="e" ver="22"><rptloc guid="aa855f21cf2240a2924f67f9843babc8" rank="0" ds="1"><ri hasPG="0" name="Variación y componentes mensual de la demanda" id="004850134E7745A2BD365FB53E00C967" path="Objetos públicos\Informes\Demanda B.C.\Variación y componentes mensual de la demanda" cf="0" prompt="1" ve="0" vm="0" flashpth="d:\Usuarios\sevpenma\AppData\Local\Temp\" fimagepth="d:\Usuarios\sevpenma\AppData\Local\Temp\" swfn="DashboardViewer.swf" fvars="" dvis=""><ans><pan pk="195DDDD54E4256F86F7235A6C4D4ABE4@0@10" aid="" /><pan pk="86BA8826468B4BC44041DF8DC3E31322@0@10" aid="" /><pan pk="6383F02949E1244BCE94A09C4486F039@0@10" aid="" /></ans><ci ps="BI" srv="apbi5a" prj="BDEbi" prjid="A2E2948BC74B9CF051A963A6CEDDABFA" li="SEVPENMA" am="s" /><lu ut="10/13/2026 06:55:13" si="2.0000000151ab1369fb5018e5a80522e51b3674aaf07e8c189c7e31e3d717e494a583b3ac14c181b815233d97d799311cfaadec679278bcb32560fde1c19330e457f09c539e279e3e67553123aacfa7c1207377c7619d6f1b6f95f2d2d22ebdf25d07de3c8ac792ac5a3c024d664e7a34673db5a5f67024259a5ebc039a0ab095416ed871cbb64d04a5d05b83f9fa3eefe312f5e1ffcbc5f8627583901a50252eeb06648c2c8b16098aaddf6fb61fe3df061bbb14e401515ff9c84b17e735f8553d47437a1337baa886deb54790d0675e3b0ec961fefaeb0fc8129e11716504fc0c1b72f615d906641fea66bb8ce8734c259a652a70ef105fbe9d6d381431a32707263fef639221ec93ff2c13fe51cdfa801b409eea466e46a18e20d2259a968d9207.p-3082.0.1_-3082.0.1_0.1.Europe/Madrid.upriv*_1*_pidn2*_26*_session*-lat*_1.00000001ee8698e23bd45fd42705eb79bedd8181bc6025e0562034d0a8309212b4b859e21f139d3352b09b535605b0687febadef09902d03.0000000139c6e9470196d1ea82ba4d25f923adf4bc6025e037507dcccd0ad22835cc59c7f1626d36e61964b9a1c527c6d09d67bcc1c9b088.0.1.1.BDEbi.A2E2948BC74B9CF051A963A6CEDDABFA.0-3082.1.1_-0.1.0_-3082.1.1_5.5.0.*0.000000012402cdfd9b485c8654aeabf47082ad3cc911585aceb96809d10d2fc6c70336c2d32ae5c1.0.23.11*.4*.1200*.00787J.e.0000000167c22cfb4c24310cbea6cab584c3be77c911585abb4fe0f480a9d5846fa2bd1a71956f42.0.10*.131*.138*.19.*0.0.0.0" msgID="8683B9F24A4660DDF27F98998CBF3A92" /></ri><do pa="6" cfmt="0" fmt="1" saf="0" hd="0" afg="1" rafg="1" arh="1" gosdo="0" cwd="1" ab="0" af="1" om="0" ag="0" lck="0" ppt="3" wpt="3" dai="0" rscd="1" rsrgb="1" rsrl="1" cit="2" c2d="1" cdf="0" cdt="0" dtlk="1" gaf="17" fqg="0" xqg="0" don="0" dcom="0" oaw="0" tws="0" ssm="1" ssn="MSTRStyle.Todos" glo="11101" pgsel="4" phdr="1" rdc="0" adt="0" rsoox="0" eco="1" ecfw="400" ecfh="300" ecfsu="1" ecwr="100" echr="100" eclar="1" ecrups="1"><details dbit="11169976358211" dsel="239" /></do><excel><epo ews="Dat_02 CONSEJO" ece="A1" enr="MSTR.Variación_y_componentes_mensual_de_la_demanda.1" ptn="" qtn="" rows="28" cols="14" /><esdo ews="" ece="" ptn="" /></excel><pgs><pg rows="25" cols="12" nrr="2736" nrc="1440"><pg /><bls><bl sr="1" sc="1" rfetch="25" cfetch="12" posid="1" darows="0" dacols="1"><excel><epo ews="Dat_02 CONSEJO" ece="A1" enr="MSTR.Variación_y_componentes_mensual_de_la_demanda.1" ptn="" qtn="" rows="28" cols="14" /><esdo ews="" ece="" ptn="" /></excel><gridRng><sect id="TITLE_AREA" rngprop="1:1:3:2" /><sect id="ROWHEADERS_AREA" rngprop="4:1:25:2" /><sect id="COLUMNHEADERS_AREA" rngprop="1:3:3:12" /><sect id="DATA_AREA" rngprop="4:3:25:12" /></gridRng><shapes /></bl></bls></pg></pgs></rptloc></mi>
A11: <mi app="e" ver="22"><rptloc guid="d3f724fe30594a1dae9ca5a429682e2b" rank="0" ds="1"><ri hasPG="0" name="Serie Balance B.C. Mensual" id="85DAF1DE41E95BC81B8911AA48CC441D" path="Objetos públicos\Informes\Informes macros\Boletín\Serie Balance B.C. Mensual" cf="0" prompt="0" ve="0" vm="0" flashpth="d:\Usuarios\ARACABIV\AppData\Local\Temp\" fimagepth="d:\Usuarios\ARACABIV\AppData\Local\Temp\" swfn="DashboardViewer.swf" fvars="" dvis=""><ci ps="BI" srv="apbi5a" prj="BDEbi" prjid="A2E2948BC74B9CF051A963A6CEDDABFA" li="SEVPENMA" am="s" /><lu ut="10/13/2026 06:27:15" si="2.0000000151ab1369fb5018e5a80522e51b3674aaf07e8c189c7e31e3d717e494a583b3ac14c181b815233d97d799311cfaadec679278bcb32560fde1c19330e457f09c539e279e3e67553123aacfa7c1207377c7619d6f1b6f95f2d2d22ebdf25d07de3c8ac792ac5a3c024d664e7a34673db5a5f67024259a5ebc039a0ab095416ed871cbb64d04a5d05b83f9fa3eefe312f5e1ffcbc5f8627583901a50252eeb06648c2c8b16098aaddf6fb61fe3df061bbb14e401515ff9c84b17e735f8553d47437a1337baa886deb54790d0675e3b0ec961fefaeb0fc8129e11716504fc0c1b72f615d906641fea66bb8ce8734c259a652a70ef105fbe9d6d381431a32707263fef639221ec93ff2c13fe51cdfa801b409eea466e46a18e20d2259a968d9207.p-3082.0.1_-3082.0.1_0.1.Europe/Madrid.upriv*_1*_pidn2*_26*_session*-lat*_1.00000001ee8698e23bd45fd42705eb79bedd8181bc6025e0562034d0a8309212b4b859e21f139d3352b09b535605b0687febadef09902d03.0000000139c6e9470196d1ea82ba4d25f923adf4bc6025e037507dcccd0ad22835cc59c7f1626d36e61964b9a1c527c6d09d67bcc1c9b088.0.1.1.BDEbi.A2E2948BC74B9CF051A963A6CEDDABFA.0-3082.1.1_-0.1.0_-3082.1.1_5.5.0.*0.000000012402cdfd9b485c8654aeabf47082ad3cc911585aceb96809d10d2fc6c70336c2d32ae5c1.0.23.11*.4*.1200*.00787J.e.0000000167c22cfb4c24310cbea6cab584c3be77c911585abb4fe0f480a9d5846fa2bd1a71956f42.0.10*.131*.138*.19.*0.0.0.0" msgID="6EF54C83094E79652BA8EDA8D97D443E" /></ri><do pa="6" cfmt="0" fmt="1" saf="0" hd="0" afg="1" rafg="1" arh="1" gosdo="0" cwd="1" ab="0" af="1" om="0" ag="0" lck="0" ppt="3" wpt="3" dai="0" rscd="1" rsrgb="1" rsrl="1" cit="2" c2d="1" cdf="0" cdt="0" dtlk="1" gaf="17" fqg="0" xqg="0" don="0" dcom="0" oaw="0" tws="0" ssm="1" ssn="MSTRStyle.Todos" glo="11101" pgsel="4" phdr="1" rdc="0" adt="0" rsoox="0" eco="1" ecfw="400" ecfh="300" ecfsu="1" ecwr="100" echr="100" eclar="1" ecrups="1"><details dbit="11169976358211" dsel="239" /></do><excel><epo ews="Dat_01" ece="A85" enr="MSTR.Serie_Balance_B.C._Mensual" ptn="" qtn="" rows="36" cols="2" /><esdo ews="" ece="" ptn="" /></excel><pgs><pg rows="34" cols="1" nrr="4105" nrc="133"><pg /><bls><bl sr="1" sc="1" rfetch="34" cfetch="1" posid="1" darows="0" dacols="1"><excel><epo ews="Dat_01" ece="A85" enr="MSTR.Serie_Balance_B.C._Mensual" ptn="" qtn="" rows="36" cols="2" /><esdo ews="" ece="" ptn="" /></excel><gridRng><sect id="TITLE_AREA" rngprop="1:1:2:1" /><sect id="ROWHEADERS_AREA" rngprop="3:1:34:1" /><sect id="COLUMNHEADERS_AREA" rngprop="1:2:2:1" /><sect id="DATA_AREA" rngprop="3:2:34:1" /></gridRng><shapes /></bl></bls></pg></pgs></rptloc></mi>
A12: <mi app="e" ver="22"><rptloc guid="bae17a19270c47f08b4ea1a7c1272fd2" rank="0" ds="1"><ri hasPG="0" name="Evolución diaria de la temperatura" id="F0461665433196A2A3602C92C07A478A" path="Objetos públicos\Informes\Informes macros\Boletín\Evolución diaria de la temperatura" cf="0" prompt="1" ve="0" vm="0" flashpth="d:\Usuarios\ARACABIV\AppData\Local\Temp\" fimagepth="d:\Usuarios\ARACABIV\AppData\Local\Temp\" swfn="DashboardViewer.swf" fvars="" dvis=""><ans><pan pk="B7C3BF0D4428274429E8B8B9E552B212@0@10" aid="" /></ans><ci ps="BI" srv="apbi5a" prj="BDEbi" prjid="A2E2948BC74B9CF051A963A6CEDDABFA" li="SEVPENMA" am="s" /><lu ut="10/13/2026 06:18:58" si="2.0000000151ab1369fb5018e5a80522e51b3674aaf07e8c189c7e31e3d717e494a583b3ac14c181b815233d97d799311cfaadec679278bcb32560fde1c19330e457f09c539e279e3e67553123aacfa7c1207377c7619d6f1b6f95f2d2d22ebdf25d07de3c8ac792ac5a3c024d664e7a34673db5a5f67024259a5ebc039a0ab095416ed871cbb64d04a5d05b83f9fa3eefe312f5e1ffcbc5f8627583901a50252eeb06648c2c8b16098aaddf6fb61fe3df061bbb14e401515ff9c84b17e735f8553d47437a1337baa886deb54790d0675e3b0ec961fefaeb0fc8129e11716504fc0c1b72f615d906641fea66bb8ce8734c259a652a70ef105fbe9d6d381431a32707263fef639221ec93ff2c13fe51cdfa801b409eea466e46a18e20d2259a968d9207.p-3082.0.1_-3082.0.1_0.1.Europe/Madrid.upriv*_1*_pidn2*_26*_session*-lat*_1.00000001ee8698e23bd45fd42705eb79bedd8181bc6025e0562034d0a8309212b4b859e21f139d3352b09b535605b0687febadef09902d03.0000000139c6e9470196d1ea82ba4d25f923adf4bc6025e037507dcccd0ad22835cc59c7f1626d36e61964b9a1c527c6d09d67bcc1c9b088.0.1.1.BDEbi.A2E2948BC74B9CF051A963A6CEDDABFA.0-3082.1.1_-0.1.0_-3082.1.1_5.5.0.*0.000000012402cdfd9b485c8654aeabf47082ad3cc911585aceb96809d10d2fc6c70336c2d32ae5c1.0.23.11*.4*.1200*.00787J.e.0000000167c22cfb4c24310cbea6cab584c3be77c911585abb4fe0f480a9d5846fa2bd1a71956f42.0.10*.131*.138*.19.*0.0.0.0" msgID="8603AE459D4691F2EC46DAA20D6F6607" /></ri><do pa="6" cfmt="0" fmt="1" saf="0" hd="0" afg="1" rafg="1" arh="1" gosdo="0" cwd="1" ab="0" af="1" om="0" ag="0" lck="0" ppt="3" wpt="3" dai="0" rscd="1" rsrgb="1" rsrl="1" cit="2" c2d="1" cdf="0" cdt="0" dtlk="1" gaf="17" fqg="0" xqg="0" don="0" dcom="0" oaw="0" tws="0" ssm="1" ssn="MSTRStyle.Todos" glo="11101" pgsel="4" phdr="1" rdc="0" adt="0" rsoox="0" eco="1" ecfw="400" ecfh="300" ecfsu="1" ecwr="100" echr="100" eclar="1" ecrups="1"><details dbit="11169976358211" dsel="239" /></do><excel><epo ews="Dat_01" ece="A50" enr="MSTR.Evolución_diaria_de_la_temperatura" ptn="" qtn="" rows="32" cols="5" /><esdo ews="" ece="" ptn="" /></excel><pgs><pg rows="30" cols="4" nrr="4156" nrc="548"><pg /><bls><bl sr="1" sc="1" rfetch="30" cfetch="4" posid="1" darows="0" dacols="1"><excel><epo ews="Dat_01" ece="A50" enr="MSTR.Evolución_diaria_de_la_temperatura" ptn="" qtn="" rows="32" cols="5" /><esdo ews="" ece="" ptn="" /></excel><gridRng><sect id="TITLE_AREA" rngprop="1:1:2:1" /><sect id="ROWHEADERS_AREA" rngprop="3:1:30:1" /><sect id="COLUMNHEADERS_AREA" rngprop="1:2:2:4" /><sect id="DATA_AREA" rngprop="3:2:30:4" /></gridRng><shapes /></bl></bls></pg></pgs></rptloc></mi>
A13: <mi app="e" ver="22"><rptloc guid="6272d1dec3a54d38a6dd3f484ff23679" rank="0" ds="1"><ri hasPG="0" name="Variación y componentes mensual de la demanda" id="004850134E7745A2BD365FB53E00C967" path="Objetos públicos\Informes\Demanda B.C.\Variación y componentes mensual de la demanda" cf="0" prompt="1" ve="0" vm="0" flashpth="C:\Users\SEVPENMA\AppData\Local\Temp\" fimagepth="C:\Users\SEVPENMA\AppData\Local\Temp\" swfn="DashboardViewer.swf" fvars="" dvis=""><ans><pan pk="195DDDD54E4256F86F7235A6C4D4ABE4@0@10" aid="" /><pan pk="86BA8826468B4BC44041DF8DC3E31322@0@10" aid="" /><pan pk="6383F02949E1244BCE94A09C4486F039@0@10" aid="" /></ans><ci ps="BI" srv="apbi5a" prj="BDEbi" prjid="A2E2948BC74B9CF051A963A6CEDDABFA" li="SEVPENMA" am="s" /><lu ut="10/13/2026 06:18:30" si="2.0000000151ab1369fb5018e5a80522e51b3674aaf07e8c189c7e31e3d717e494a583b3ac14c181b815233d97d799311cfaadec679278bcb32560fde1c19330e457f09c539e279e3e67553123aacfa7c1207377c7619d6f1b6f95f2d2d22ebdf25d07de3c8ac792ac5a3c024d664e7a34673db5a5f67024259a5ebc039a0ab095416ed871cbb64d04a5d05b83f9fa3eefe312f5e1ffcbc5f8627583901a50252eeb06648c2c8b16098aaddf6fb61fe3df061bbb14e401515ff9c84b17e735f8553d47437a1337baa886deb54790d0675e3b0ec961fefaeb0fc8129e11716504fc0c1b72f615d906641fea66bb8ce8734c259a652a70ef105fbe9d6d381431a32707263fef639221ec93ff2c13fe51cdfa801b409eea466e46a18e20d2259a968d9207.p-3082.0.1_-3082.0.1_0.1.Europe/Madrid.upriv*_1*_pidn2*_26*_session*-lat*_1.00000001ee8698e23bd45fd42705eb79bedd8181bc6025e0562034d0a8309212b4b859e21f139d3352b09b535605b0687febadef09902d03.0000000139c6e9470196d1ea82ba4d25f923adf4bc6025e037507dcccd0ad22835cc59c7f1626d36e61964b9a1c527c6d09d67bcc1c9b088.0.1.1.BDEbi.A2E2948BC74B9CF051A963A6CEDDABFA.0-3082.1.1_-0.1.0_-3082.1.1_5.5.0.*0.000000012402cdfd9b485c8654aeabf47082ad3cc911585aceb96809d10d2fc6c70336c2d32ae5c1.0.23.11*.4*.1200*.00787J.e.0000000167c22cfb4c24310cbea6cab584c3be77c911585abb4fe0f480a9d5846fa2bd1a71956f42.0.10*.131*.138*.19.*0.0.0.0" msgID="770644DE444B02433301278FB014E808" /></ri><do pa="6" cfmt="0" fmt="1" saf="0" hd="0" afg="1" rafg="1" arh="1" gosdo="0" cwd="1" ab="0" af="1" om="0" ag="0" lck="0" ppt="3" wpt="3" dai="0" rscd="1" rsrgb="1" rsrl="1" cit="2" c2d="1" cdf="0" cdt="0" dtlk="1" gaf="17" fqg="0" xqg="0" don="0" dcom="0" oaw="0" tws="0" ssm="1" ssn="MSTRStyle.Todos" glo="11101" pgsel="4" phdr="1" rdc="0" adt="0" rsoox="0" eco="1" ecfw="400" ecfh="300" ecfsu="1" ecwr="100" echr="100" eclar="1" ecrups="1"><details dbit="11169976358211" dsel="239" /></do><excel><epo ews="Dat_01" ece="A31" enr="MSTR.Variación_y_componentes_mensual_de_la_demanda.1" ptn="" qtn="" rows="16" cols="14" /><esdo ews="" ece="" ptn="" /></excel><pgs><pg rows="13" cols="12" nrr="299" nrc="276"><pg /><bls><bl sr="1" sc="1" rfetch="13" cfetch="12" posid="1" darows="0" dacols="1"><excel><epo ews="Dat_01" ece="A31" enr="MSTR.Variación_y_componentes_mensual_de_la_demanda.1" ptn="" qtn="" rows="16" cols="14" /><esdo ews="" ece="" ptn="" /></excel><gridRng><sect id="TITLE_AREA" rngprop="1:1:3:2" /><sect id="ROWHEADERS_AREA" rngprop="4:1:13:2" /><sect id="COLUMNHEADERS_AREA" rngprop="1:3:3:12" /><sect id="DATA_AREA" rngprop="4:3:13:12" /></gridRng><shapes /></bl></bls></pg></pgs></rptloc></mi>
