{"text_format":"1","workbook":"xlsx","n_sheets":11,"sheets":["AVISO LEGAL","Intercambios por frontera mes","Intercambios por frontera año","Entradas por linea mes","Entradas por linea año","Salidas por linea mes","Salidas por linea año","Saldos por linea mes","Saldos por linea año","II fisicos","Año"],"not_rendered":{"charts":0,"images":1,"macros":1,"external_links":0,"defined_names":9,"comments":0,"pivot_tables":0},"unopened":[],"bounds":{"document_bytes":16777216,"sheet_cells":100000,"rows_first":2000,"rows_last":500,"rows_between":2000,"halvings":0,"cell_chars":16384,"cell_head_chars":4096},"cells_cut":0,"cells_raw":0,"read":"whole","date_system":"1900"}

{"sheet":"AVISO LEGAL","index":0,"n_rows":23,"n_cols":10,"rows_kept":23,"cut":false,"hidden":false,"merged":[]}
[]
[null,null,null,null,null,null,null,"Fecha de actualización:",null,"2017-11-13"]
[]
[]
[]
[]
[]
[]
[]
[]
[]
[]
[]
[]
[]
[]
[]
[]
[]
[]
[]
[]
[null,null,null,null,null,null,null,null,null,"www.ree.es"]

{"sheet":"Intercambios por frontera mes","index":1,"n_rows":25,"n_cols":16,"rows_kept":25,"cut":false,"hidden":false,"merged":[[24,1,24,15],[25,1,25,11]]}
[null,null,null,null,null,null,null,null,null,null,null,null,null,null,null,28]
[]
[]
[null,null,null,null,null,null,null,null,null,null,null,null,"Concepto"]
[null,null,null,null,null,null,null,null,null,null,null,null,"Horizonte temporal"]
[null,null,null,null,null,null,null,null,null,null,null,null,"Periodo"]
[]
[null,null,null,"Ene.","Feb.","Mar.","Abr.","May.","Jun.","Jul.","Ago.","Sep.","Oct.","Nov.","Dic.",{"$f":"OFFSET(Año!B2,($P$1-1),0)","v":2017}]
[]
[null,"Entradas","Andorra",{"$f":"OFFSET('II fisicos'!D3,0,($P$1-1)*12)","v":0},{"$f":"OFFSET('II fisicos'!E3,0,($P$1-1)*12)","v":0},{"$f":"OFFSET('II fisicos'!F3,0,($P$1-1)*12)","v":6.4900000000000001E-3},{"$f":"OFFSET('II fisicos'!G3,0,($P$1-1)*12)","v":1.33E-3},{"$f":"OFFSET('II fisicos'!H3,0,($P$1-1)*12)","v":6.0300000000000006E-3},{"$f":"OFFSET('II fisicos'!I3,0,($P$1-1)*12)","v":1.15E-3},{"$f":"OFFSET('II fisicos'!J3,0,($P$1-1)*12)","v":2.5000000000000001E-4},{"$f":"OFFSET('II fisicos'!K3,0,($P$1-1)*12)","v":1.3000000000000002E-4},{"$f":"OFFSET('II fisicos'!L3,0,($P$1-1)*12)","v":1.1000000000000001E-3},{"$f":"OFFSET('II fisicos'!M3,0,($P$1-1)*12)","v":0},{"$f":"OFFSET('II fisicos'!N3,0,($P$1-1)*12)","v":"-"},{"$f":"OFFSET('II fisicos'!O3,0,($P$1-1)*12)","v":"-"},{"$f":"SUM(D10:O10)","v":1.6480000000000002E-2}]
[null,null,"Francia",{"$f":"OFFSET('II fisicos'!D4,0,($P$1-1)*12)","v":505.54632900000001},{"$f":"OFFSET('II fisicos'!E4,0,($P$1-1)*12)","v":896.20979899999998},{"$f":"OFFSET('II fisicos'!F4,0,($P$1-1)*12)","v":1815.8410290000002},{"$f":"OFFSET('II fisicos'!G4,0,($P$1-1)*12)","v":1517.2799990000001},{"$f":"OFFSET('II fisicos'!H4,0,($P$1-1)*12)","v":1861.6174169999999},{"$f":"OFFSET('II fisicos'!I4,0,($P$1-1)*12)","v":1446.751409},{"$f":"OFFSET('II fisicos'!J4,0,($P$1-1)*12)","v":1416.4407120000001},{"$f":"OFFSET('II fisicos'!K4,0,($P$1-1)*12)","v":1706.722029},{"$f":"OFFSET('II fisicos'!L4,0,($P$1-1)*12)","v":1643.487609},{"$f":"OFFSET('II fisicos'!M4,0,($P$1-1)*12)","v":1411.4637},{"$f":"OFFSET('II fisicos'!N4,0,($P$1-1)*12)","v":"-"},{"$f":"OFFSET('II fisicos'!O4,0,($P$1-1)*12)","v":"-"},{"$f":"SUM(D11:O11)","v":14221.360032000001}]
[null,null,"Portugal",{"$f":"OFFSET('II fisicos'!D5,0,($P$1-1)*12)","v":840.39130399999999},{"$f":"OFFSET('II fisicos'!E5,0,($P$1-1)*12)","v":917.18662600000005},{"$f":"OFFSET('II fisicos'!F5,0,($P$1-1)*12)","v":683.733608},{"$f":"OFFSET('II fisicos'!G5,0,($P$1-1)*12)","v":576.25388600000008},{"$f":"OFFSET('II fisicos'!H5,0,($P$1-1)*12)","v":614.04710599999999},{"$f":"OFFSET('II fisicos'!I5,0,($P$1-1)*12)","v":631.52740099999994},{"$f":"OFFSET('II fisicos'!J5,0,($P$1-1)*12)","v":812.14536600000008},{"$f":"OFFSET('II fisicos'!K5,0,($P$1-1)*12)","v":901.02256499999999},{"$f":"OFFSET('II fisicos'!L5,0,($P$1-1)*12)","v":604.18244299999992},{"$f":"OFFSET('II fisicos'!M5,0,($P$1-1)*12)","v":111.1112},{"$f":"OFFSET('II fisicos'!N5,0,($P$1-1)*12)","v":"-"},{"$f":"OFFSET('II fisicos'!O5,0,($P$1-1)*12)","v":"-"},6691.6015049999996]
[null,null,"Marruecos",{"$f":"OFFSET('II fisicos'!D6,0,($P$1-1)*12)","v":1.2683},{"$f":"OFFSET('II fisicos'!E6,0,($P$1-1)*12)","v":0.12490000000000001},{"$f":"OFFSET('II fisicos'!F6,0,($P$1-1)*12)","v":2.3899999999999998E-2},{"$f":"OFFSET('II fisicos'!G6,0,($P$1-1)*12)","v":4.9399999999999999E-2},{"$f":"OFFSET('II fisicos'!H6,0,($P$1-1)*12)","v":2.5499999999999998E-2},{"$f":"OFFSET('II fisicos'!I6,0,($P$1-1)*12)","v":0.28449999999999998},{"$f":"OFFSET('II fisicos'!J6,0,($P$1-1)*12)","v":3.5999999999999999E-3},{"$f":"OFFSET('II fisicos'!K6,0,($P$1-1)*12)","v":0.12040000000000001},{"$f":"OFFSET('II fisicos'!L6,0,($P$1-1)*12)","v":0.89610000000000001},{"$f":"OFFSET('II fisicos'!M6,0,($P$1-1)*12)","v":0},{"$f":"OFFSET('II fisicos'!N6,0,($P$1-1)*12)","v":"-"},{"$f":"OFFSET('II fisicos'!O6,0,($P$1-1)*12)","v":"-"},2.7966000000000002]
[null,null,"Total",{"$f":"OFFSET('II fisicos'!D7,0,($P$1-1)*12)","v":1347.205933},{"$f":"OFFSET('II fisicos'!E7,0,($P$1-1)*12)","v":1813.5213249999999},{"$f":"OFFSET('II fisicos'!F7,0,($P$1-1)*12)","v":2499.6050270000001},{"$f":"OFFSET('II fisicos'!G7,0,($P$1-1)*12)","v":2093.5846150000002},{"$f":"OFFSET('II fisicos'!H7,0,($P$1-1)*12)","v":2475.6960530000001},{"$f":"OFFSET('II fisicos'!I7,0,($P$1-1)*12)","v":2078.5644600000001},{"$f":"OFFSET('II fisicos'!J7,0,($P$1-1)*12)","v":2228.5899279999999},{"$f":"OFFSET('II fisicos'!K7,0,($P$1-1)*12)","v":2607.8651239999999},{"$f":"OFFSET('II fisicos'!L7,0,($P$1-1)*12)","v":2248.5672519999998},{"$f":"OFFSET('II fisicos'!M7,0,($P$1-1)*12)","v":1522.5748999999998},{"$f":"OFFSET('II fisicos'!N7,0,($P$1-1)*12)","v":"-"},{"$f":"OFFSET('II fisicos'!O7,0,($P$1-1)*12)","v":"-"},20915.774616999999]
[null,"Salidas","Andorra",{"$f":"OFFSET('II fisicos'!D8,0,($P$1-1)*12)","v":31.225639999999999},{"$f":"OFFSET('II fisicos'!E8,0,($P$1-1)*12)","v":24.869720000000001},{"$f":"OFFSET('II fisicos'!F8,0,($P$1-1)*12)","v":17.67933},{"$f":"OFFSET('II fisicos'!G8,0,($P$1-1)*12)","v":12.571959999999999},{"$f":"OFFSET('II fisicos'!H8,0,($P$1-1)*12)","v":14.20318},{"$f":"OFFSET('II fisicos'!I8,0,($P$1-1)*12)","v":11.77998},{"$f":"OFFSET('II fisicos'!J8,0,($P$1-1)*12)","v":0.41783999999999999},{"$f":"OFFSET('II fisicos'!K8,0,($P$1-1)*12)","v":36.588389999999997},{"$f":"OFFSET('II fisicos'!L8,0,($P$1-1)*12)","v":9.724219999999999},{"$f":"OFFSET('II fisicos'!M8,0,($P$1-1)*12)","v":31.463999999999999},{"$f":"OFFSET('II fisicos'!N8,0,($P$1-1)*12)","v":"-"},{"$f":"OFFSET('II fisicos'!O8,0,($P$1-1)*12)","v":"-"},190.52426]
[null,null,"Francia",{"$f":"OFFSET('II fisicos'!D9,0,($P$1-1)*12)","v":856.01094599999999},{"$f":"OFFSET('II fisicos'!E9,0,($P$1-1)*12)","v":490.59349599999996},{"$f":"OFFSET('II fisicos'!F9,0,($P$1-1)*12)","v":115.81290300000001},{"$f":"OFFSET('II fisicos'!G9,0,($P$1-1)*12)","v":35.824441},{"$f":"OFFSET('II fisicos'!H9,0,($P$1-1)*12)","v":5.5707659999999999},{"$f":"OFFSET('II fisicos'!I9,0,($P$1-1)*12)","v":15.879736999999999},{"$f":"OFFSET('II fisicos'!J9,0,($P$1-1)*12)","v":15.412353999999999},{"$f":"OFFSET('II fisicos'!K9,0,($P$1-1)*12)","v":1.6110580000000001},{"$f":"OFFSET('II fisicos'!L9,0,($P$1-1)*12)","v":9.6235319999999991},{"$f":"OFFSET('II fisicos'!M9,0,($P$1-1)*12)","v":343.96370000000002},{"$f":"OFFSET('II fisicos'!N9,0,($P$1-1)*12)","v":"-"},{"$f":"OFFSET('II fisicos'!O9,0,($P$1-1)*12)","v":"-"},1890.3029329999999]
[null,null,"Portugal",{"$f":"OFFSET('II fisicos'!D10,0,($P$1-1)*12)","v":590.54874499999994},{"$f":"OFFSET('II fisicos'!E10,0,($P$1-1)*12)","v":276.99152199999997},{"$f":"OFFSET('II fisicos'!F10,0,($P$1-1)*12)","v":376.17712800000004},{"$f":"OFFSET('II fisicos'!G10,0,($P$1-1)*12)","v":466.77072999999996},{"$f":"OFFSET('II fisicos'!H10,0,($P$1-1)*12)","v":441.53250700000001},{"$f":"OFFSET('II fisicos'!I10,0,($P$1-1)*12)","v":388.75986},{"$f":"OFFSET('II fisicos'!J10,0,($P$1-1)*12)","v":343.76173800000004},{"$f":"OFFSET('II fisicos'!K10,0,($P$1-1)*12)","v":151.548034},{"$f":"OFFSET('II fisicos'!L10,0,($P$1-1)*12)","v":351.86627799999997},{"$f":"OFFSET('II fisicos'!M10,0,($P$1-1)*12)","v":455.92},{"$f":"OFFSET('II fisicos'!N10,0,($P$1-1)*12)","v":"-"},{"$f":"OFFSET('II fisicos'!O10,0,($P$1-1)*12)","v":"-"},3843.876542]
[null,null,"Marruecos",{"$f":"OFFSET('II fisicos'!D11,0,($P$1-1)*12)","v":400.9699},{"$f":"OFFSET('II fisicos'!E11,0,($P$1-1)*12)","v":479.93290000000002},{"$f":"OFFSET('II fisicos'!F11,0,($P$1-1)*12)","v":532.85490000000004},{"$f":"OFFSET('II fisicos'!G11,0,($P$1-1)*12)","v":537.45799999999997},{"$f":"OFFSET('II fisicos'!H11,0,($P$1-1)*12)","v":569.404},{"$f":"OFFSET('II fisicos'!I11,0,($P$1-1)*12)","v":533.28599999999994},{"$f":"OFFSET('II fisicos'!J11,0,($P$1-1)*12)","v":595.55459999999994},{"$f":"OFFSET('II fisicos'!K11,0,($P$1-1)*12)","v":590.20669999999996},{"$f":"OFFSET('II fisicos'!L11,0,($P$1-1)*12)","v":484.04480000000001},{"$f":"OFFSET('II fisicos'!M11,0,($P$1-1)*12)","v":418.18579999999997},{"$f":"OFFSET('II fisicos'!N11,0,($P$1-1)*12)","v":"-"},{"$f":"OFFSET('II fisicos'!O11,0,($P$1-1)*12)","v":"-"},5141.8976000000002]
[null,null,"Total",{"$f":"OFFSET('II fisicos'!D12,0,($P$1-1)*12)","v":1878.7552310000001},{"$f":"OFFSET('II fisicos'!E12,0,($P$1-1)*12)","v":1272.3876379999999},{"$f":"OFFSET('II fisicos'!F12,0,($P$1-1)*12)","v":1042.524261},{"$f":"OFFSET('II fisicos'!G12,0,($P$1-1)*12)","v":1052.625131},{"$f":"OFFSET('II fisicos'!H12,0,($P$1-1)*12)","v":1030.7104529999999},{"$f":"OFFSET('II fisicos'!I12,0,($P$1-1)*12)","v":949.70557699999995},{"$f":"OFFSET('II fisicos'!J12,0,($P$1-1)*12)","v":955.14653199999998},{"$f":"OFFSET('II fisicos'!K12,0,($P$1-1)*12)","v":779.95418199999995},{"$f":"OFFSET('II fisicos'!L12,0,($P$1-1)*12)","v":855.25882999999999},{"$f":"OFFSET('II fisicos'!M12,0,($P$1-1)*12)","v":1249.5335},{"$f":"OFFSET('II fisicos'!N12,0,($P$1-1)*12)","v":"-"},{"$f":"OFFSET('II fisicos'!O12,0,($P$1-1)*12)","v":"-"},11066.601334999999]
[null,"Saldo (1)","Andorra",{"$f":"OFFSET('II fisicos'!D13,0,($P$1-1)*12)","v":-31.225639999999999},{"$f":"OFFSET('II fisicos'!E13,0,($P$1-1)*12)","v":-24.869720000000001},{"$f":"OFFSET('II fisicos'!F13,0,($P$1-1)*12)","v":-17.672840000000001},{"$f":"OFFSET('II fisicos'!G13,0,($P$1-1)*12)","v":-12.57063},{"$f":"OFFSET('II fisicos'!H13,0,($P$1-1)*12)","v":-14.197150000000001},{"$f":"OFFSET('II fisicos'!I13,0,($P$1-1)*12)","v":-11.778829999999999},{"$f":"OFFSET('II fisicos'!J13,0,($P$1-1)*12)","v":-0.41758999999999996},{"$f":"OFFSET('II fisicos'!K13,0,($P$1-1)*12)","v":-36.588259999999998},{"$f":"OFFSET('II fisicos'!L13,0,($P$1-1)*12)","v":-9.7231199999999998},{"$f":"OFFSET('II fisicos'!M13,0,($P$1-1)*12)","v":-31.463999999999999},{"$f":"OFFSET('II fisicos'!N13,0,($P$1-1)*12)","v":"-"},{"$f":"OFFSET('II fisicos'!O13,0,($P$1-1)*12)","v":"-"},-190.50778]
[null,null,"Francia",{"$f":"OFFSET('II fisicos'!D14,0,($P$1-1)*12)","v":-350.46461699999998},{"$f":"OFFSET('II fisicos'!E14,0,($P$1-1)*12)","v":405.61630300000002},{"$f":"OFFSET('II fisicos'!F14,0,($P$1-1)*12)","v":1700.0281260000002},{"$f":"OFFSET('II fisicos'!G14,0,($P$1-1)*12)","v":1481.4555580000001},{"$f":"OFFSET('II fisicos'!H14,0,($P$1-1)*12)","v":1856.0466509999999},{"$f":"OFFSET('II fisicos'!I14,0,($P$1-1)*12)","v":1430.871672},{"$f":"OFFSET('II fisicos'!J14,0,($P$1-1)*12)","v":1401.028358},{"$f":"OFFSET('II fisicos'!K14,0,($P$1-1)*12)","v":1705.1109710000001},{"$f":"OFFSET('II fisicos'!L14,0,($P$1-1)*12)","v":1633.864077},{"$f":"OFFSET('II fisicos'!M14,0,($P$1-1)*12)","v":1067.5},{"$f":"OFFSET('II fisicos'!N14,0,($P$1-1)*12)","v":"-"},{"$f":"OFFSET('II fisicos'!O14,0,($P$1-1)*12)","v":"-"},12331.057099000001]
[null,null,"Portugal",{"$f":"OFFSET('II fisicos'!D15,0,($P$1-1)*12)","v":249.84255899999999},{"$f":"OFFSET('II fisicos'!E15,0,($P$1-1)*12)","v":640.19510400000001},{"$f":"OFFSET('II fisicos'!F15,0,($P$1-1)*12)","v":307.55647999999997},{"$f":"OFFSET('II fisicos'!G15,0,($P$1-1)*12)","v":109.48315600000008},{"$f":"OFFSET('II fisicos'!H15,0,($P$1-1)*12)","v":172.51459900000003},{"$f":"OFFSET('II fisicos'!I15,0,($P$1-1)*12)","v":242.76754099999997},{"$f":"OFFSET('II fisicos'!J15,0,($P$1-1)*12)","v":468.38362800000004},{"$f":"OFFSET('II fisicos'!K15,0,($P$1-1)*12)","v":749.47453099999996},{"$f":"OFFSET('II fisicos'!L15,0,($P$1-1)*12)","v":252.31616499999998},{"$f":"OFFSET('II fisicos'!M15,0,($P$1-1)*12)","v":-344.80879999999996},{"$f":"OFFSET('II fisicos'!N15,0,($P$1-1)*12)","v":"-"},{"$f":"OFFSET('II fisicos'!O15,0,($P$1-1)*12)","v":"-"},2847.7249630000006]
[null,null,"Marruecos",{"$f":"OFFSET('II fisicos'!D16,0,($P$1-1)*12)","v":-399.70160000000004},{"$f":"OFFSET('II fisicos'!E16,0,($P$1-1)*12)","v":-479.80800000000005},{"$f":"OFFSET('II fisicos'!F16,0,($P$1-1)*12)","v":-532.83100000000002},{"$f":"OFFSET('II fisicos'!G16,0,($P$1-1)*12)","v":-537.40859999999998},{"$f":"OFFSET('II fisicos'!H16,0,($P$1-1)*12)","v":-569.37850000000003},{"$f":"OFFSET('II fisicos'!I16,0,($P$1-1)*12)","v":-533.00149999999996},{"$f":"OFFSET('II fisicos'!J16,0,($P$1-1)*12)","v":-595.55099999999993},{"$f":"OFFSET('II fisicos'!K16,0,($P$1-1)*12)","v":-590.08629999999994},{"$f":"OFFSET('II fisicos'!L16,0,($P$1-1)*12)","v":-483.14869999999996},{"$f":"OFFSET('II fisicos'!M16,0,($P$1-1)*12)","v":-418.18579999999997},{"$f":"OFFSET('II fisicos'!N16,0,($P$1-1)*12)","v":"-"},{"$f":"OFFSET('II fisicos'!O16,0,($P$1-1)*12)","v":"-"},{"$f":"SUM(D23:O23)","v":-5139.1009999999997}]
[null,null,"Total",{"$f":"OFFSET('II fisicos'!D17,0,($P$1-1)*12)","v":-531.54929800000002},{"$f":"OFFSET('II fisicos'!E17,0,($P$1-1)*12)","v":541.13368700000001},{"$f":"OFFSET('II fisicos'!F17,0,($P$1-1)*12)","v":1457.080766},{"$f":"OFFSET('II fisicos'!G17,0,($P$1-1)*12)","v":1040.9594840000002},{"$f":"OFFSET('II fisicos'!H17,0,($P$1-1)*12)","v":1444.9856},{"$f":"OFFSET('II fisicos'!I17,0,($P$1-1)*12)","v":1128.8588829999999},{"$f":"OFFSET('II fisicos'!J17,0,($P$1-1)*12)","v":1273.4433960000001},{"$f":"OFFSET('II fisicos'!K17,0,($P$1-1)*12)","v":1827.910942},{"$f":"OFFSET('II fisicos'!L17,0,($P$1-1)*12)","v":1393.3084219999998},{"$f":"OFFSET('II fisicos'!M17,0,($P$1-1)*12)","v":273.0413999999999},{"$f":"OFFSET('II fisicos'!N17,0,($P$1-1)*12)","v":"-"},{"$f":"OFFSET('II fisicos'!O17,0,($P$1-1)*12)","v":"-"},{"$f":"SUM(D24:O24)","v":9849.1732820000016}]
[null,"(1) Valor positivo: saldo importador; Valor negativo: saldo exportador. "]

{"sheet":"Intercambios por frontera año","index":2,"n_rows":26,"n_cols":13,"rows_kept":26,"cut":false,"hidden":false,"merged":[[24,1,24,12],[25,1,25,12]]}
[null,null,null,null,null,null,null,null,null,null,null,null,3]
[]
[]
[null,null,null,null,null,null,null,null,null,null,"Concepto"]
[null,null,null,null,null,null,null,null,null,null,"Horizonte temporal"]
[null,null,null,null,null,null,null,null,null,null,"Periodo"]
[]
[null,null,null,{"$f":"OFFSET('II fisicos'!D109,0,($M$1-1)*10)","v":2010},{"$f":"OFFSET('II fisicos'!E109,0,($M$1-1)*10)","v":2011},{"$f":"OFFSET('II fisicos'!F109,0,($M$1-1)*10)","v":2012},{"$f":"OFFSET('II fisicos'!G109,0,($M$1-1)*10)","v":2013},{"$f":"OFFSET('II fisicos'!H109,0,($M$1-1)*10)","v":2014},{"$f":"OFFSET('II fisicos'!I109,0,($M$1-1)*10)","v":2015},{"$f":"OFFSET('II fisicos'!J109,0,($M$1-1)*10)","v":2016},{"$f":"OFFSET('II fisicos'!K109,0,($M$1-1)*10)","v":2017},{"$f":"OFFSET('II fisicos'!L109,0,($M$1-1)*10)","v":2018},{"$f":"OFFSET('II fisicos'!M109,0,($M$1-1)*10)","v":2019}]
[]
[null,"Entradas","Andorra",{"$f":"OFFSET('II fisicos'!D110,0,($M$1-1)*10)","v":3.6999999999999999E-4},{"$f":"OFFSET('II fisicos'!E110,0,($M$1-1)*10)","v":5.6000000000000006E-4},{"$f":"OFFSET('II fisicos'!F110,0,($M$1-1)*10)","v":1.58E-3},{"$f":"OFFSET('II fisicos'!G110,0,($M$1-1)*10)","v":1.1000000000000001E-3},{"$f":"OFFSET('II fisicos'!H110,0,($M$1-1)*10)","v":5.6000000000000008E-3},{"$f":"OFFSET('II fisicos'!I110,0,($M$1-1)*10)","v":6.2299999999999994E-3},{"$f":"OFFSET('II fisicos'!J110,0,($M$1-1)*10)","v":3.9799999999999992E-3},{"$f":"OFFSET('II fisicos'!K110,0,($M$1-1)*10)","v":1.6480000000000002E-2},{"$f":"OFFSET('II fisicos'!L110,0,($M$1-1)*10)","v":"-"},{"$f":"OFFSET('II fisicos'!M110,0,($M$1-1)*10)","v":"-"}]
[null,null,"Francia",{"$f":"OFFSET('II fisicos'!D111,0,($M$1-1)*10)","v":1983.2732699999999},{"$f":"OFFSET('II fisicos'!E111,0,($M$1-1)*10)","v":3986.9997699999994},{"$f":"OFFSET('II fisicos'!F111,0,($M$1-1)*10)","v":4910.520954999999},{"$f":"OFFSET('II fisicos'!G111,0,($M$1-1)*10)","v":4879.0747929999998},{"$f":"OFFSET('II fisicos'!H111,0,($M$1-1)*10)","v":5962.7610559999994},{"$f":"OFFSET('II fisicos'!I111,0,($M$1-1)*10)","v":9130.8875770000013},{"$f":"OFFSET('II fisicos'!J111,0,($M$1-1)*10)","v":12135.331055000001},{"$f":"OFFSET('II fisicos'!K111,0,($M$1-1)*10)","v":14221.360032000001},{"$f":"OFFSET('II fisicos'!L111,0,($M$1-1)*10)","v":"-"},{"$f":"OFFSET('II fisicos'!M111,0,($M$1-1)*10)","v":"-"}]
[null,null,"Portugal",{"$f":"OFFSET('II fisicos'!D112,0,($M$1-1)*10)","v":3189.0590740000002},{"$f":"OFFSET('II fisicos'!E112,0,($M$1-1)*10)","v":3929.8308789999992},{"$f":"OFFSET('II fisicos'!F112,0,($M$1-1)*10)","v":2870.6081570000001},{"$f":"OFFSET('II fisicos'!G112,0,($M$1-1)*10)","v":5323.4664100000009},{"$f":"OFFSET('II fisicos'!H112,0,($M$1-1)*10)","v":6344.7284030000001},{"$f":"OFFSET('II fisicos'!I112,0,($M$1-1)*10)","v":5810.6983619999992},{"$f":"OFFSET('II fisicos'!J112,0,($M$1-1)*10)","v":9701.608037},{"$f":"OFFSET('II fisicos'!K112,0,($M$1-1)*10)","v":6691.6015049999996},{"$f":"OFFSET('II fisicos'!L112,0,($M$1-1)*10)","v":"-"},{"$f":"OFFSET('II fisicos'!M112,0,($M$1-1)*10)","v":"-"}]
[null,null,"Marruecos",{"$f":"OFFSET('II fisicos'!D113,0,($M$1-1)*10)","v":33.919319999999999},{"$f":"OFFSET('II fisicos'!E113,0,($M$1-1)*10)","v":15.614409999999999},{"$f":"OFFSET('II fisicos'!F113,0,($M$1-1)*10)","v":4.6427499999999995},{"$f":"OFFSET('II fisicos'!G113,0,($M$1-1)*10)","v":1.1239300000000001},{"$f":"OFFSET('II fisicos'!H113,0,($M$1-1)*10)","v":2.5326},{"$f":"OFFSET('II fisicos'!I113,0,($M$1-1)*10)","v":14.139290000000001},{"$f":"OFFSET('II fisicos'!J113,0,($M$1-1)*10)","v":7.91737},{"$f":"OFFSET('II fisicos'!K113,0,($M$1-1)*10)","v":2.7966000000000002},{"$f":"OFFSET('II fisicos'!L113,0,($M$1-1)*10)","v":"-"},{"$f":"OFFSET('II fisicos'!M113,0,($M$1-1)*10)","v":"-"}]
[null,null,"Total",{"$f":"OFFSET('II fisicos'!D114,0,($M$1-1)*10)","v":5206.2520339999992},{"$f":"OFFSET('II fisicos'!E114,0,($M$1-1)*10)","v":7932.4456190000001},{"$f":"OFFSET('II fisicos'!F114,0,($M$1-1)*10)","v":7785.7734419999997},{"$f":"OFFSET('II fisicos'!G114,0,($M$1-1)*10)","v":10203.666233000002},{"$f":"OFFSET('II fisicos'!H114,0,($M$1-1)*10)","v":12310.027658999999},{"$f":"OFFSET('II fisicos'!I114,0,($M$1-1)*10)","v":14955.731458999999},{"$f":"OFFSET('II fisicos'!J114,0,($M$1-1)*10)","v":21844.860441999997},{"$f":"OFFSET('II fisicos'!K114,0,($M$1-1)*10)","v":20915.774616999999},{"$f":"OFFSET('II fisicos'!L114,0,($M$1-1)*10)","v":"-"},{"$f":"OFFSET('II fisicos'!M114,0,($M$1-1)*10)","v":"-"}]
[null,"Salidas","Andorra",{"$f":"OFFSET('II fisicos'!D115,0,($M$1-1)*10)","v":264.49448000000001},{"$f":"OFFSET('II fisicos'!E115,0,($M$1-1)*10)","v":305.7133},{"$f":"OFFSET('II fisicos'!F115,0,($M$1-1)*10)","v":286.21885999999995},{"$f":"OFFSET('II fisicos'!G115,0,($M$1-1)*10)","v":287.39902000000001},{"$f":"OFFSET('II fisicos'!H115,0,($M$1-1)*10)","v":234.51143999999999},{"$f":"OFFSET('II fisicos'!I115,0,($M$1-1)*10)","v":264.05766},{"$f":"OFFSET('II fisicos'!J115,0,($M$1-1)*10)","v":278.28440999999998},{"$f":"OFFSET('II fisicos'!K115,0,($M$1-1)*10)","v":190.52426},{"$f":"OFFSET('II fisicos'!L115,0,($M$1-1)*10)","v":"-"},{"$f":"OFFSET('II fisicos'!M115,0,($M$1-1)*10)","v":"-"}]
[null,null,"Francia",{"$f":"OFFSET('II fisicos'!D116,0,($M$1-1)*10)","v":3514.1936829999995},{"$f":"OFFSET('II fisicos'!E116,0,($M$1-1)*10)","v":2462.5921659999999},{"$f":"OFFSET('II fisicos'!F116,0,($M$1-1)*10)","v":3027.7288430000003},{"$f":"OFFSET('II fisicos'!G116,0,($M$1-1)*10)","v":3171.2084360000003},{"$f":"OFFSET('II fisicos'!H116,0,($M$1-1)*10)","v":2395.2653880000007},{"$f":"OFFSET('II fisicos'!I116,0,($M$1-1)*10)","v":1806.6752649999996},{"$f":"OFFSET('II fisicos'!J116,0,($M$1-1)*10)","v":4333.8223339999995},{"$f":"OFFSET('II fisicos'!K116,0,($M$1-1)*10)","v":1890.3029329999999},{"$f":"OFFSET('II fisicos'!L116,0,($M$1-1)*10)","v":"-"},{"$f":"OFFSET('II fisicos'!M116,0,($M$1-1)*10)","v":"-"}]
[null,null,"Portugal",{"$f":"OFFSET('II fisicos'!D117,0,($M$1-1)*10)","v":5823.346539000001},{"$f":"OFFSET('II fisicos'!E117,0,($M$1-1)*10)","v":6743.8694469999991},{"$f":"OFFSET('II fisicos'!F117,0,($M$1-1)*10)","v":10767.619209999999},{"$f":"OFFSET('II fisicos'!G117,0,($M$1-1)*10)","v":8100.1192170000013},{"$f":"OFFSET('II fisicos'!H117,0,($M$1-1)*10)","v":7247.4240899999995},{"$f":"OFFSET('II fisicos'!I117,0,($M$1-1)*10)","v":8077.1108450000002},{"$f":"OFFSET('II fisicos'!J117,0,($M$1-1)*10)","v":4615.5146349999995},{"$f":"OFFSET('II fisicos'!K117,0,($M$1-1)*10)","v":3843.876542},{"$f":"OFFSET('II fisicos'!L117,0,($M$1-1)*10)","v":"-"},{"$f":"OFFSET('II fisicos'!M117,0,($M$1-1)*10)","v":"-"}]
[null,null,"Marruecos",{"$f":"OFFSET('II fisicos'!D118,0,($M$1-1)*10)","v":3936.8963900000003},{"$f":"OFFSET('II fisicos'!E118,0,($M$1-1)*10)","v":4510.3970399999998},{"$f":"OFFSET('II fisicos'!F118,0,($M$1-1)*10)","v":4904.1601200000005},{"$f":"OFFSET('II fisicos'!G118,0,($M$1-1)*10)","v":5377.072009999999},{"$f":"OFFSET('II fisicos'!H118,0,($M$1-1)*10)","v":5838.9516699999995},{"$f":"OFFSET('II fisicos'!I118,0,($M$1-1)*10)","v":4941.0487800000001},{"$f":"OFFSET('II fisicos'!J118,0,($M$1-1)*10)","v":4949.92551},{"$f":"OFFSET('II fisicos'!K118,0,($M$1-1)*10)","v":5141.8976000000002},{"$f":"OFFSET('II fisicos'!L118,0,($M$1-1)*10)","v":"-"},{"$f":"OFFSET('II fisicos'!M118,0,($M$1-1)*10)","v":"-"}]
[null,null,"Total",{"$f":"OFFSET('II fisicos'!D119,0,($M$1-1)*10)","v":13538.931091999999},{"$f":"OFFSET('II fisicos'!E119,0,($M$1-1)*10)","v":14022.571952999999},{"$f":"OFFSET('II fisicos'!F119,0,($M$1-1)*10)","v":18985.727032999999},{"$f":"OFFSET('II fisicos'!G119,0,($M$1-1)*10)","v":16935.798683000001},{"$f":"OFFSET('II fisicos'!H119,0,($M$1-1)*10)","v":15716.152588000001},{"$f":"OFFSET('II fisicos'!I119,0,($M$1-1)*10)","v":15088.89255},{"$f":"OFFSET('II fisicos'!J119,0,($M$1-1)*10)","v":14177.546889000001},{"$f":"OFFSET('II fisicos'!K119,0,($M$1-1)*10)","v":11066.601334999999},{"$f":"OFFSET('II fisicos'!L119,0,($M$1-1)*10)","v":"-"},{"$f":"OFFSET('II fisicos'!M119,0,($M$1-1)*10)","v":"-"}]
[null,"Saldo (1)","Andorra",{"$f":"OFFSET('II fisicos'!D120,0,($M$1-1)*10)","v":-264.49410999999998},{"$f":"OFFSET('II fisicos'!E120,0,($M$1-1)*10)","v":-305.71274000000005},{"$f":"OFFSET('II fisicos'!F120,0,($M$1-1)*10)","v":-286.21727999999996},{"$f":"OFFSET('II fisicos'!G120,0,($M$1-1)*10)","v":-287.39792},{"$f":"OFFSET('II fisicos'!H120,0,($M$1-1)*10)","v":-234.50584000000001},{"$f":"OFFSET('II fisicos'!I120,0,($M$1-1)*10)","v":-264.05143000000004},{"$f":"OFFSET('II fisicos'!J120,0,($M$1-1)*10)","v":-278.28042999999997},{"$f":"OFFSET('II fisicos'!K120,0,($M$1-1)*10)","v":-190.50778},{"$f":"OFFSET('II fisicos'!L120,0,($M$1-1)*10)","v":"-"},{"$f":"OFFSET('II fisicos'!M120,0,($M$1-1)*10)","v":"-"}]
[null,null,"Francia",{"$f":"OFFSET('II fisicos'!D121,0,($M$1-1)*10)","v":-1530.9204130000001},{"$f":"OFFSET('II fisicos'!E121,0,($M$1-1)*10)","v":1524.4076040000004},{"$f":"OFFSET('II fisicos'!F121,0,($M$1-1)*10)","v":1882.7921120000001},{"$f":"OFFSET('II fisicos'!G121,0,($M$1-1)*10)","v":1707.8663569999999},{"$f":"OFFSET('II fisicos'!H121,0,($M$1-1)*10)","v":3567.495668},{"$f":"OFFSET('II fisicos'!I121,0,($M$1-1)*10)","v":7324.2123120000006},{"$f":"OFFSET('II fisicos'!J121,0,($M$1-1)*10)","v":7801.5087210000002},{"$f":"OFFSET('II fisicos'!K121,0,($M$1-1)*10)","v":12331.057099000001},{"$f":"OFFSET('II fisicos'!L121,0,($M$1-1)*10)","v":"-"},{"$f":"OFFSET('II fisicos'!M121,0,($M$1-1)*10)","v":"-"}]
[null,null,"Portugal",{"$f":"OFFSET('II fisicos'!D122,0,($M$1-1)*10)","v":-2634.2874649999999},{"$f":"OFFSET('II fisicos'!E122,0,($M$1-1)*10)","v":-2814.0385680000004},{"$f":"OFFSET('II fisicos'!F122,0,($M$1-1)*10)","v":-7897.0110530000011},{"$f":"OFFSET('II fisicos'!G122,0,($M$1-1)*10)","v":-2776.6528070000004},{"$f":"OFFSET('II fisicos'!H122,0,($M$1-1)*10)","v":-902.69568699999968},{"$f":"OFFSET('II fisicos'!I122,0,($M$1-1)*10)","v":-2266.4124830000005},{"$f":"OFFSET('II fisicos'!J122,0,($M$1-1)*10)","v":5086.0934020000004},{"$f":"OFFSET('II fisicos'!K122,0,($M$1-1)*10)","v":2847.7249630000006},{"$f":"OFFSET('II fisicos'!L122,0,($M$1-1)*10)","v":"-"},{"$f":"OFFSET('II fisicos'!M122,0,($M$1-1)*10)","v":"-"}]
[null,null,"Marruecos",{"$f":"OFFSET('II fisicos'!D123,0,($M$1-1)*10)","v":-3902.9770700000004},{"$f":"OFFSET('II fisicos'!E123,0,($M$1-1)*10)","v":-4494.7826299999997},{"$f":"OFFSET('II fisicos'!F123,0,($M$1-1)*10)","v":-4899.5173699999996},{"$f":"OFFSET('II fisicos'!G123,0,($M$1-1)*10)","v":-5375.9480800000001},{"$f":"OFFSET('II fisicos'!H123,0,($M$1-1)*10)","v":-5836.4190699999999},{"$f":"OFFSET('II fisicos'!I123,0,($M$1-1)*10)","v":-4926.90949},{"$f":"OFFSET('II fisicos'!J123,0,($M$1-1)*10)","v":-4942.0081399999999},{"$f":"OFFSET('II fisicos'!K123,0,($M$1-1)*10)","v":-5139.1009999999997},{"$f":"OFFSET('II fisicos'!L123,0,($M$1-1)*10)","v":"-"},{"$f":"OFFSET('II fisicos'!M123,0,($M$1-1)*10)","v":"-"}]
[null,null,"Total",{"$f":"OFFSET('II fisicos'!D124,0,($M$1-1)*10)","v":-8332.6790579999997},{"$f":"OFFSET('II fisicos'!E124,0,($M$1-1)*10)","v":-6090.1263339999987},{"$f":"OFFSET('II fisicos'!F124,0,($M$1-1)*10)","v":-11199.953591},{"$f":"OFFSET('II fisicos'!G124,0,($M$1-1)*10)","v":-6732.1324500000001},{"$f":"OFFSET('II fisicos'!H124,0,($M$1-1)*10)","v":-3406.1249290000001},{"$f":"OFFSET('II fisicos'!I124,0,($M$1-1)*10)","v":-133.1610910000004},{"$f":"OFFSET('II fisicos'!J124,0,($M$1-1)*10)","v":7667.313553},{"$f":"OFFSET('II fisicos'!K124,0,($M$1-1)*10)","v":9849.1732820000016},{"$f":"OFFSET('II fisicos'!L124,0,($M$1-1)*10)","v":"-"},{"$f":"OFFSET('II fisicos'!M124,0,($M$1-1)*10)","v":"-"}]
[null,"(1) Valor positivo: saldo importador; Valor negativo: saldo exportador. "]
[null,{"$f":"IF(M1=3,IF(MONTH(FACT)=1,\"Datos a 31 de diciembre.\",CONCATENATE(\"Datos a 31 de diciembre. Para el año \",YEAR('AVISO LEGAL'!J2), \" datos a \",TEXT('AVISO LEGAL'!J2-30,\"mmmm\"),\" de \",YEAR('AVISO LEGAL'!J2),\".\")),\"Datos a 31 de diciembre.\")","v":"Datos a 31 de diciembre. Para el año 2017 datos a octubre de 2017."}]

{"sheet":"Entradas por linea mes","index":3,"n_rows":38,"n_cols":16,"rows_kept":38,"cut":false,"hidden":false,"merged":[[39,1,39,15],[37,1,37,15],[19,1,33,1],[34,1,35,1],[9,1,10,1],[11,1,18,1]]}
[null,null,null,null,null,null,null,null,null,null,null,null,null,null,null,1]
[null,null,null,null,null,null,null,null,null,null,null,null,null,null,null,28]
[]
[null,null,null,null,null,null,null,null,null,null,null,null,"Concepto"]
[null,null,null,null,null,null,null,null,null,null,null,null,"Horizonte temporal"]
[null,null,null,null,null,null,null,null,null,null,null,null,"Periodo"]
[]
[null,null,null,"Ene.","Feb.","Mar.","Abr.","May.","Jun.","Jul.","Ago.","Sep.","Oct.","Nov.","Dic.",{"$f":"OFFSET(Año!B2,($P$2-1),0)","v":2017}]
[]
[null,"Andorra","Adrall-Margineda",{"$f":"OFFSET('II fisicos'!D20,0,($P$2-1)*12)","v":0},{"$f":"OFFSET('II fisicos'!E20,0,($P$2-1)*12)","v":0},{"$f":"OFFSET('II fisicos'!F20,0,($P$2-1)*12)","v":6.4900000000000001E-3},{"$f":"OFFSET('II fisicos'!G20,0,($P$2-1)*12)","v":1.33E-3},{"$f":"OFFSET('II fisicos'!H20,0,($P$2-1)*12)","v":6.0299999999999998E-3},{"$f":"OFFSET('II fisicos'!I20,0,($P$2-1)*12)","v":1.15E-3},{"$f":"OFFSET('II fisicos'!J20,0,($P$2-1)*12)","v":2.5000000000000001E-4},{"$f":"OFFSET('II fisicos'!K20,0,($P$2-1)*12)","v":1.3000000000000002E-4},{"$f":"OFFSET('II fisicos'!L20,0,($P$2-1)*12)","v":1.1000000000000001E-3},{"$f":"OFFSET('II fisicos'!M20,0,($P$2-1)*12)","v":"-"},{"$f":"OFFSET('II fisicos'!N20,0,($P$2-1)*12)","v":"-"},{"$f":"OFFSET('II fisicos'!O20,0,($P$2-1)*12)","v":"-"},{"$f":"IF(SUM(D10:O10)=0,\"-\",SUM(D10:O10))","v":1.6480000000000002E-2}]
[null,null,"Total",{"$f":"OFFSET('II fisicos'!D21,0,($P$2-1)*12)","v":0},{"$f":"OFFSET('II fisicos'!E21,0,($P$2-1)*12)","v":0},{"$f":"OFFSET('II fisicos'!F21,0,($P$2-1)*12)","v":6.4900000000000001E-3},{"$f":"OFFSET('II fisicos'!G21,0,($P$2-1)*12)","v":1.33E-3},{"$f":"OFFSET('II fisicos'!H21,0,($P$2-1)*12)","v":6.0299999999999998E-3},{"$f":"OFFSET('II fisicos'!I21,0,($P$2-1)*12)","v":1.15E-3},{"$f":"OFFSET('II fisicos'!J21,0,($P$2-1)*12)","v":2.5000000000000001E-4},{"$f":"OFFSET('II fisicos'!K21,0,($P$2-1)*12)","v":1.3000000000000002E-4},{"$f":"OFFSET('II fisicos'!L21,0,($P$2-1)*12)","v":1.1000000000000001E-3},{"$f":"OFFSET('II fisicos'!M21,0,($P$2-1)*12)","v":"-"},{"$f":"OFFSET('II fisicos'!N21,0,($P$2-1)*12)","v":"-"},{"$f":"OFFSET('II fisicos'!O21,0,($P$2-1)*12)","v":"-"},{"$f":"IF(SUM(D11:O11)=0,\"-\",SUM(D11:O11))","v":1.6480000000000002E-2}]
[null,"Francia","Arkale-Argia",{"$f":"OFFSET('II fisicos'!D22,0,($P$2-1)*12)","v":27.479320999999999},{"$f":"OFFSET('II fisicos'!E22,0,($P$2-1)*12)","v":64.809684000000004},{"$f":"OFFSET('II fisicos'!F22,0,($P$2-1)*12)","v":161.32373800000002},{"$f":"OFFSET('II fisicos'!G22,0,($P$2-1)*12)","v":135.71503300000001},{"$f":"OFFSET('II fisicos'!H22,0,($P$2-1)*12)","v":176.74392600000002},{"$f":"OFFSET('II fisicos'!I22,0,($P$2-1)*12)","v":94.880736999999996},{"$f":"OFFSET('II fisicos'!J22,0,($P$2-1)*12)","v":67.95030100000001},{"$f":"OFFSET('II fisicos'!K22,0,($P$2-1)*12)","v":84.754282000000003},{"$f":"OFFSET('II fisicos'!L22,0,($P$2-1)*12)","v":44.137132000000001},{"$f":"OFFSET('II fisicos'!M22,0,($P$2-1)*12)","v":"-"},{"$f":"OFFSET('II fisicos'!N22,0,($P$2-1)*12)","v":"-"},{"$f":"OFFSET('II fisicos'!O22,0,($P$2-1)*12)","v":"-"},857.79415399999993]
[null,null,"Benós-Lac D'oo",{"$f":"OFFSET('II fisicos'!D23,0,($P$2-1)*12)","v":1.9999999999999999E-6},{"$f":"OFFSET('II fisicos'!E23,0,($P$2-1)*12)","v":0},{"$f":"OFFSET('II fisicos'!F23,0,($P$2-1)*12)","v":4.7122999999999998E-2},{"$f":"OFFSET('II fisicos'!G23,0,($P$2-1)*12)","v":0},{"$f":"OFFSET('II fisicos'!H23,0,($P$2-1)*12)","v":0},{"$f":"OFFSET('II fisicos'!I23,0,($P$2-1)*12)","v":0},{"$f":"OFFSET('II fisicos'!J23,0,($P$2-1)*12)","v":0},{"$f":"OFFSET('II fisicos'!K23,0,($P$2-1)*12)","v":7.9682000000000003E-2},{"$f":"OFFSET('II fisicos'!L23,0,($P$2-1)*12)","v":3.9999999999999998E-6},{"$f":"OFFSET('II fisicos'!M23,0,($P$2-1)*12)","v":"-"},{"$f":"OFFSET('II fisicos'!N23,0,($P$2-1)*12)","v":"-"},{"$f":"OFFSET('II fisicos'!O23,0,($P$2-1)*12)","v":"-"},0.12681100000000001]
[null,null,"Biescas-Pragneres",{"$f":"OFFSET('II fisicos'!D24,0,($P$2-1)*12)","v":21.156711999999999},{"$f":"OFFSET('II fisicos'!E24,0,($P$2-1)*12)","v":26.374379000000001},{"$f":"OFFSET('II fisicos'!F24,0,($P$2-1)*12)","v":43.434992000000001},{"$f":"OFFSET('II fisicos'!G24,0,($P$2-1)*12)","v":45.710730000000005},{"$f":"OFFSET('II fisicos'!H24,0,($P$2-1)*12)","v":37.415656999999996},{"$f":"OFFSET('II fisicos'!I24,0,($P$2-1)*12)","v":18.829087999999999},{"$f":"OFFSET('II fisicos'!J24,0,($P$2-1)*12)","v":44.857482000000005},{"$f":"OFFSET('II fisicos'!K24,0,($P$2-1)*12)","v":92.172933},{"$f":"OFFSET('II fisicos'!L24,0,($P$2-1)*12)","v":41.855533999999999},{"$f":"OFFSET('II fisicos'!M24,0,($P$2-1)*12)","v":"-"},{"$f":"OFFSET('II fisicos'!N24,0,($P$2-1)*12)","v":"-"},{"$f":"OFFSET('II fisicos'!O24,0,($P$2-1)*12)","v":"-"},371.80750699999999]
[null,null,"Hernani-Argia",{"$f":"OFFSET('II fisicos'!D25,0,($P$2-1)*12)","v":157.07413099999999},{"$f":"OFFSET('II fisicos'!E25,0,($P$2-1)*12)","v":257.81875600000001},{"$f":"OFFSET('II fisicos'!F25,0,($P$2-1)*12)","v":605.72170200000005},{"$f":"OFFSET('II fisicos'!G25,0,($P$2-1)*12)","v":598.09544200000005},{"$f":"OFFSET('II fisicos'!H25,0,($P$2-1)*12)","v":667.84107799999992},{"$f":"OFFSET('II fisicos'!I25,0,($P$2-1)*12)","v":406.41146399999997},{"$f":"OFFSET('II fisicos'!J25,0,($P$2-1)*12)","v":502.62653799999998},{"$f":"OFFSET('II fisicos'!K25,0,($P$2-1)*12)","v":634.14896400000009},{"$f":"OFFSET('II fisicos'!L25,0,($P$2-1)*12)","v":619.87940099999992},{"$f":"OFFSET('II fisicos'!M25,0,($P$2-1)*12)","v":"-"},{"$f":"OFFSET('II fisicos'!N25,0,($P$2-1)*12)","v":"-"},{"$f":"OFFSET('II fisicos'!O25,0,($P$2-1)*12)","v":"-"},4449.6174759999994]
[null,null,"Irún-Errondenia",{"$f":"OFFSET('II fisicos'!D26,0,($P$2-1)*12)","v":0},{"$f":"OFFSET('II fisicos'!E26,0,($P$2-1)*12)","v":0},{"$f":"OFFSET('II fisicos'!F26,0,($P$2-1)*12)","v":0},{"$f":"OFFSET('II fisicos'!G26,0,($P$2-1)*12)","v":0},{"$f":"OFFSET('II fisicos'!H26,0,($P$2-1)*12)","v":0},{"$f":"OFFSET('II fisicos'!I26,0,($P$2-1)*12)","v":0},{"$f":"OFFSET('II fisicos'!J26,0,($P$2-1)*12)","v":0},{"$f":"OFFSET('II fisicos'!K26,0,($P$2-1)*12)","v":0},{"$f":"OFFSET('II fisicos'!L26,0,($P$2-1)*12)","v":0},{"$f":"OFFSET('II fisicos'!M26,0,($P$2-1)*12)","v":"-"},{"$f":"OFFSET('II fisicos'!N26,0,($P$2-1)*12)","v":"-"},{"$f":"OFFSET('II fisicos'!O26,0,($P$2-1)*12)","v":"-"},"-"]
[null,null,"Santa Llogaia-Baixas",{"$f":"OFFSET('II fisicos'!D27,0,($P$2-1)*12)","v":205.782644},{"$f":"OFFSET('II fisicos'!E27,0,($P$2-1)*12)","v":376.74004200000002},{"$f":"OFFSET('II fisicos'!F27,0,($P$2-1)*12)","v":684.45948399999997},{"$f":"OFFSET('II fisicos'!G27,0,($P$2-1)*12)","v":509.368424},{"$f":"OFFSET('II fisicos'!H27,0,($P$2-1)*12)","v":679.30778699999996},{"$f":"OFFSET('II fisicos'!I27,0,($P$2-1)*12)","v":638.69738299999995},{"$f":"OFFSET('II fisicos'!J27,0,($P$2-1)*12)","v":550.22980700000005},{"$f":"OFFSET('II fisicos'!K27,0,($P$2-1)*12)","v":658.44792100000006},{"$f":"OFFSET('II fisicos'!L27,0,($P$2-1)*12)","v":648.28606600000001},{"$f":"OFFSET('II fisicos'!M27,0,($P$2-1)*12)","v":"-"},{"$f":"OFFSET('II fisicos'!N27,0,($P$2-1)*12)","v":"-"},{"$f":"OFFSET('II fisicos'!O27,0,($P$2-1)*12)","v":"-"},4951.3195580000001]
[null,null,"Vic-Baixas",{"$f":"OFFSET('II fisicos'!D28,0,($P$2-1)*12)","v":94.053518999999994},{"$f":"OFFSET('II fisicos'!E28,0,($P$2-1)*12)","v":170.466938},{"$f":"OFFSET('II fisicos'!F28,0,($P$2-1)*12)","v":320.85399000000001},{"$f":"OFFSET('II fisicos'!G28,0,($P$2-1)*12)","v":228.39036999999999},{"$f":"OFFSET('II fisicos'!H28,0,($P$2-1)*12)","v":300.30896899999999},{"$f":"OFFSET('II fisicos'!I28,0,($P$2-1)*12)","v":287.93273700000003},{"$f":"OFFSET('II fisicos'!J28,0,($P$2-1)*12)","v":250.77658400000001},{"$f":"OFFSET('II fisicos'!K28,0,($P$2-1)*12)","v":237.118247},{"$f":"OFFSET('II fisicos'!L28,0,($P$2-1)*12)","v":289.32947200000001},{"$f":"OFFSET('II fisicos'!M28,0,($P$2-1)*12)","v":"-"},{"$f":"OFFSET('II fisicos'!N28,0,($P$2-1)*12)","v":"-"},{"$f":"OFFSET('II fisicos'!O28,0,($P$2-1)*12)","v":"-"},2179.230826]
[null,null,"Total",{"$f":"OFFSET('II fisicos'!D29,0,($P$2-1)*12)","v":505.54632899999996},{"$f":"OFFSET('II fisicos'!E29,0,($P$2-1)*12)","v":896.20979900000009},{"$f":"OFFSET('II fisicos'!F29,0,($P$2-1)*12)","v":1815.8410290000002},{"$f":"OFFSET('II fisicos'!G29,0,($P$2-1)*12)","v":1517.2799990000001},{"$f":"OFFSET('II fisicos'!H29,0,($P$2-1)*12)","v":1861.6174169999997},{"$f":"OFFSET('II fisicos'!I29,0,($P$2-1)*12)","v":1446.751409},{"$f":"OFFSET('II fisicos'!J29,0,($P$2-1)*12)","v":1416.4407119999998},{"$f":"OFFSET('II fisicos'!K29,0,($P$2-1)*12)","v":1706.722029},{"$f":"OFFSET('II fisicos'!L29,0,($P$2-1)*12)","v":1643.487609},{"$f":"OFFSET('II fisicos'!M29,0,($P$2-1)*12)","v":"-"},{"$f":"OFFSET('II fisicos'!N29,0,($P$2-1)*12)","v":"-"},{"$f":"OFFSET('II fisicos'!O29,0,($P$2-1)*12)","v":"-"},12809.896332]
[null,"Portugal","Aldeadávila-Pocinho 1",{"$f":"OFFSET('II fisicos'!D30,0,($P$2-1)*12)","v":17.540800000000001},{"$f":"OFFSET('II fisicos'!E30,0,($P$2-1)*12)","v":34.777500000000003},{"$f":"OFFSET('II fisicos'!F30,0,($P$2-1)*12)","v":19.596799999999998},{"$f":"OFFSET('II fisicos'!G30,0,($P$2-1)*12)","v":9.3930000000000007},{"$f":"OFFSET('II fisicos'!H30,0,($P$2-1)*12)","v":8.4427000000000003},{"$f":"OFFSET('II fisicos'!I30,0,($P$2-1)*12)","v":15.7273},{"$f":"OFFSET('II fisicos'!J30,0,($P$2-1)*12)","v":25.1922},{"$f":"OFFSET('II fisicos'!K30,0,($P$2-1)*12)","v":34.065400000000004},{"$f":"OFFSET('II fisicos'!L30,0,($P$2-1)*12)","v":14.483600000000001},{"$f":"OFFSET('II fisicos'!M30,0,($P$2-1)*12)","v":"-"},{"$f":"OFFSET('II fisicos'!N30,0,($P$2-1)*12)","v":"-"},{"$f":"OFFSET('II fisicos'!O30,0,($P$2-1)*12)","v":"-"},179.2193]
[null,null,"Aldeadávila-Pocinho 2",{"$f":"OFFSET('II fisicos'!D31,0,($P$2-1)*12)","v":17.485499999999998},{"$f":"OFFSET('II fisicos'!E31,0,($P$2-1)*12)","v":34.652900000000002},{"$f":"OFFSET('II fisicos'!F31,0,($P$2-1)*12)","v":19.620699999999999},{"$f":"OFFSET('II fisicos'!G31,0,($P$2-1)*12)","v":9.4182000000000006},{"$f":"OFFSET('II fisicos'!H31,0,($P$2-1)*12)","v":8.4519000000000002},{"$f":"OFFSET('II fisicos'!I31,0,($P$2-1)*12)","v":15.6564},{"$f":"OFFSET('II fisicos'!J31,0,($P$2-1)*12)","v":24.4665},{"$f":"OFFSET('II fisicos'!K31,0,($P$2-1)*12)","v":33.853900000000003},{"$f":"OFFSET('II fisicos'!L31,0,($P$2-1)*12)","v":14.456700000000001},{"$f":"OFFSET('II fisicos'!M31,0,($P$2-1)*12)","v":"-"},{"$f":"OFFSET('II fisicos'!N31,0,($P$2-1)*12)","v":"-"},{"$f":"OFFSET('II fisicos'!O31,0,($P$2-1)*12)","v":"-"},178.06270000000004]
[null,null,"Aldeadávila-Lagoaça",{"$f":"OFFSET('II fisicos'!D32,0,($P$2-1)*12)","v":175.71794399999999},{"$f":"OFFSET('II fisicos'!E32,0,($P$2-1)*12)","v":241.481088},{"$f":"OFFSET('II fisicos'!F32,0,($P$2-1)*12)","v":156.247488},{"$f":"OFFSET('II fisicos'!G32,0,($P$2-1)*12)","v":90.070920000000001},{"$f":"OFFSET('II fisicos'!H32,0,($P$2-1)*12)","v":113.74063199999999},{"$f":"OFFSET('II fisicos'!I32,0,($P$2-1)*12)","v":187.03634400000001},{"$f":"OFFSET('II fisicos'!J32,0,($P$2-1)*12)","v":230.119272},{"$f":"OFFSET('II fisicos'!K32,0,($P$2-1)*12)","v":210.63823199999999},{"$f":"OFFSET('II fisicos'!L32,0,($P$2-1)*12)","v":73.618200000000002},{"$f":"OFFSET('II fisicos'!M32,0,($P$2-1)*12)","v":"-"},{"$f":"OFFSET('II fisicos'!N32,0,($P$2-1)*12)","v":"-"},{"$f":"OFFSET('II fisicos'!O32,0,($P$2-1)*12)","v":"-"},1478.6701199999998]
[null,null,"Badajoz-Alcaçovas",{"$f":"OFFSET('II fisicos'!D33,0,($P$2-1)*12)","v":3.8000000000000002E-5},{"$f":"OFFSET('II fisicos'!E33,0,($P$2-1)*12)","v":2.4000000000000001E-5},{"$f":"OFFSET('II fisicos'!F33,0,($P$2-1)*12)","v":5.8000000000000007E-5},{"$f":"OFFSET('II fisicos'!G33,0,($P$2-1)*12)","v":1.1E-4},{"$f":"OFFSET('II fisicos'!H33,0,($P$2-1)*12)","v":6.5300000000000004E-4},{"$f":"OFFSET('II fisicos'!I33,0,($P$2-1)*12)","v":1.92E-4},{"$f":"OFFSET('II fisicos'!J33,0,($P$2-1)*12)","v":2.5000000000000001E-4},{"$f":"OFFSET('II fisicos'!K33,0,($P$2-1)*12)","v":2.5900000000000001E-4},{"$f":"OFFSET('II fisicos'!L33,0,($P$2-1)*12)","v":2.1599999999999999E-4},{"$f":"OFFSET('II fisicos'!M33,0,($P$2-1)*12)","v":"-"},{"$f":"OFFSET('II fisicos'!N33,0,($P$2-1)*12)","v":"-"},{"$f":"OFFSET('II fisicos'!O33,0,($P$2-1)*12)","v":"-"},1.8E-3]
[null,null,"Balboa-Alqueva",{"$f":"OFFSET('II fisicos'!D34,0,($P$2-1)*12)","v":0},{"$f":"OFFSET('II fisicos'!E34,0,($P$2-1)*12)","v":0},{"$f":"OFFSET('II fisicos'!F34,0,($P$2-1)*12)","v":0},{"$f":"OFFSET('II fisicos'!G34,0,($P$2-1)*12)","v":0},{"$f":"OFFSET('II fisicos'!H34,0,($P$2-1)*12)","v":0},{"$f":"OFFSET('II fisicos'!I34,0,($P$2-1)*12)","v":0},{"$f":"OFFSET('II fisicos'!J34,0,($P$2-1)*12)","v":0},{"$f":"OFFSET('II fisicos'!K34,0,($P$2-1)*12)","v":0},{"$f":"OFFSET('II fisicos'!L34,0,($P$2-1)*12)","v":0},{"$f":"OFFSET('II fisicos'!M34,0,($P$2-1)*12)","v":"-"},{"$f":"OFFSET('II fisicos'!N34,0,($P$2-1)*12)","v":"-"},{"$f":"OFFSET('II fisicos'!O34,0,($P$2-1)*12)","v":"-"},"-"]
[null,null,"Brovales-Alqueva",{"$f":"OFFSET('II fisicos'!D35,0,($P$2-1)*12)","v":206.301987},{"$f":"OFFSET('II fisicos'!E35,0,($P$2-1)*12)","v":208.707446},{"$f":"OFFSET('II fisicos'!F35,0,($P$2-1)*12)","v":211.25057699999999},{"$f":"OFFSET('II fisicos'!G35,0,($P$2-1)*12)","v":136.52610999999999},{"$f":"OFFSET('II fisicos'!H35,0,($P$2-1)*12)","v":146.53238000000002},{"$f":"OFFSET('II fisicos'!I35,0,($P$2-1)*12)","v":221.07374299999998},{"$f":"OFFSET('II fisicos'!J35,0,($P$2-1)*12)","v":285.55470100000002},{"$f":"OFFSET('II fisicos'!K35,0,($P$2-1)*12)","v":229.392314},{"$f":"OFFSET('II fisicos'!L35,0,($P$2-1)*12)","v":128.483509},{"$f":"OFFSET('II fisicos'!M35,0,($P$2-1)*12)","v":"-"},{"$f":"OFFSET('II fisicos'!N35,0,($P$2-1)*12)","v":"-"},{"$f":"OFFSET('II fisicos'!O35,0,($P$2-1)*12)","v":"-"},1773.8227669999999]
[null,null,"Cartelle-Lindoso",{"$f":"OFFSET('II fisicos'!D36,0,($P$2-1)*12)","v":14.316700000000001},{"$f":"OFFSET('II fisicos'!E36,0,($P$2-1)*12)","v":27.2818},{"$f":"OFFSET('II fisicos'!F36,0,($P$2-1)*12)","v":66.8476},{"$f":"OFFSET('II fisicos'!G36,0,($P$2-1)*12)","v":106.6918},{"$f":"OFFSET('II fisicos'!H36,0,($P$2-1)*12)","v":34.978600000000007},{"$f":"OFFSET('II fisicos'!I36,0,($P$2-1)*12)","v":13.4039},{"$f":"OFFSET('II fisicos'!J36,0,($P$2-1)*12)","v":19.892900000000001},{"$f":"OFFSET('II fisicos'!K36,0,($P$2-1)*12)","v":100.1105},{"$f":"OFFSET('II fisicos'!L36,0,($P$2-1)*12)","v":33.7423},{"$f":"OFFSET('II fisicos'!M36,0,($P$2-1)*12)","v":"-"},{"$f":"OFFSET('II fisicos'!N36,0,($P$2-1)*12)","v":"-"},{"$f":"OFFSET('II fisicos'!O36,0,($P$2-1)*12)","v":"-"},417.26609999999999]
[null,null,"Cedillo-Falaguerira",{"$f":"OFFSET('II fisicos'!D37,0,($P$2-1)*12)","v":222.34710000000001},{"$f":"OFFSET('II fisicos'!E37,0,($P$2-1)*12)","v":256.22480000000002},{"$f":"OFFSET('II fisicos'!F37,0,($P$2-1)*12)","v":128.85739999999998},{"$f":"OFFSET('II fisicos'!G37,0,($P$2-1)*12)","v":97.308600000000013},{"$f":"OFFSET('II fisicos'!H37,0,($P$2-1)*12)","v":169.04739999999998},{"$f":"OFFSET('II fisicos'!I37,0,($P$2-1)*12)","v":1.9769100000000002},{"$f":"OFFSET('II fisicos'!J37,0,($P$2-1)*12)","v":0},{"$f":"OFFSET('II fisicos'!K37,0,($P$2-1)*12)","v":10.9566},{"$f":"OFFSET('II fisicos'!L37,0,($P$2-1)*12)","v":202.9478},{"$f":"OFFSET('II fisicos'!M37,0,($P$2-1)*12)","v":"-"},{"$f":"OFFSET('II fisicos'!N37,0,($P$2-1)*12)","v":"-"},{"$f":"OFFSET('II fisicos'!O37,0,($P$2-1)*12)","v":"-"},1089.66661]
[null,null,"Conchas-Lindoso",{"$f":"OFFSET('II fisicos'!D38,0,($P$2-1)*12)","v":0},{"$f":"OFFSET('II fisicos'!E38,0,($P$2-1)*12)","v":0},{"$f":"OFFSET('II fisicos'!F38,0,($P$2-1)*12)","v":0},{"$f":"OFFSET('II fisicos'!G38,0,($P$2-1)*12)","v":0},{"$f":"OFFSET('II fisicos'!H38,0,($P$2-1)*12)","v":0},{"$f":"OFFSET('II fisicos'!I38,0,($P$2-1)*12)","v":0},{"$f":"OFFSET('II fisicos'!J38,0,($P$2-1)*12)","v":0},{"$f":"OFFSET('II fisicos'!K38,0,($P$2-1)*12)","v":0},{"$f":"OFFSET('II fisicos'!L38,0,($P$2-1)*12)","v":0},{"$f":"OFFSET('II fisicos'!M38,0,($P$2-1)*12)","v":"-"},{"$f":"OFFSET('II fisicos'!N38,0,($P$2-1)*12)","v":"-"},{"$f":"OFFSET('II fisicos'!O38,0,($P$2-1)*12)","v":"-"},"-"]
[null,null,"Encinasola-Barrancos",{"$f":"OFFSET('II fisicos'!D39,0,($P$2-1)*12)","v":0},{"$f":"OFFSET('II fisicos'!E39,0,($P$2-1)*12)","v":0},{"$f":"OFFSET('II fisicos'!F39,0,($P$2-1)*12)","v":0},{"$f":"OFFSET('II fisicos'!G39,0,($P$2-1)*12)","v":0},{"$f":"OFFSET('II fisicos'!H39,0,($P$2-1)*12)","v":0},{"$f":"OFFSET('II fisicos'!I39,0,($P$2-1)*12)","v":0},{"$f":"OFFSET('II fisicos'!J39,0,($P$2-1)*12)","v":0},{"$f":"OFFSET('II fisicos'!K39,0,($P$2-1)*12)","v":0},{"$f":"OFFSET('II fisicos'!L39,0,($P$2-1)*12)","v":0},{"$f":"OFFSET('II fisicos'!M39,0,($P$2-1)*12)","v":"-"},{"$f":"OFFSET('II fisicos'!N39,0,($P$2-1)*12)","v":"-"},{"$f":"OFFSET('II fisicos'!O39,0,($P$2-1)*12)","v":"-"},"-"]
[null,null,"Puebla de Guzmán-Tavira",{"$f":"OFFSET('II fisicos'!D40,0,($P$2-1)*12)","v":178.66573499999998},{"$f":"OFFSET('II fisicos'!E40,0,($P$2-1)*12)","v":86.594368000000003},{"$f":"OFFSET('II fisicos'!F40,0,($P$2-1)*12)","v":76.999984999999995},{"$f":"OFFSET('II fisicos'!G40,0,($P$2-1)*12)","v":120.070046},{"$f":"OFFSET('II fisicos'!H40,0,($P$2-1)*12)","v":126.375641},{"$f":"OFFSET('II fisicos'!I40,0,($P$2-1)*12)","v":163.553212},{"$f":"OFFSET('II fisicos'!J40,0,($P$2-1)*12)","v":203.073643},{"$f":"OFFSET('II fisicos'!K40,0,($P$2-1)*12)","v":250.07156000000001},{"$f":"OFFSET('II fisicos'!L40,0,($P$2-1)*12)","v":122.291118},{"$f":"OFFSET('II fisicos'!M40,0,($P$2-1)*12)","v":"-"},{"$f":"OFFSET('II fisicos'!N40,0,($P$2-1)*12)","v":"-"},{"$f":"OFFSET('II fisicos'!O40,0,($P$2-1)*12)","v":"-"},1327.6953080000001]
[null,null,"Rosal Frontera-V. Ficalho",{"$f":"OFFSET('II fisicos'!D41,0,($P$2-1)*12)","v":0},{"$f":"OFFSET('II fisicos'!E41,0,($P$2-1)*12)","v":0},{"$f":"OFFSET('II fisicos'!F41,0,($P$2-1)*12)","v":0},{"$f":"OFFSET('II fisicos'!G41,0,($P$2-1)*12)","v":0},{"$f":"OFFSET('II fisicos'!H41,0,($P$2-1)*12)","v":0},{"$f":"OFFSET('II fisicos'!I41,0,($P$2-1)*12)","v":0},{"$f":"OFFSET('II fisicos'!J41,0,($P$2-1)*12)","v":0},{"$f":"OFFSET('II fisicos'!K41,0,($P$2-1)*12)","v":0},{"$f":"OFFSET('II fisicos'!L41,0,($P$2-1)*12)","v":0},{"$f":"OFFSET('II fisicos'!M41,0,($P$2-1)*12)","v":"-"},{"$f":"OFFSET('II fisicos'!N41,0,($P$2-1)*12)","v":"-"},{"$f":"OFFSET('II fisicos'!O41,0,($P$2-1)*12)","v":"-"},"-"]
[null,null,"Saucelle-Pocinho",{"$f":"OFFSET('II fisicos'!D42,0,($P$2-1)*12)","v":8.0154999999999994},{"$f":"OFFSET('II fisicos'!E42,0,($P$2-1)*12)","v":27.466699999999999},{"$f":"OFFSET('II fisicos'!F42,0,($P$2-1)*12)","v":4.3129999999999997},{"$f":"OFFSET('II fisicos'!G42,0,($P$2-1)*12)","v":6.7751000000000001},{"$f":"OFFSET('II fisicos'!H42,0,($P$2-1)*12)","v":6.4771999999999998},{"$f":"OFFSET('II fisicos'!I42,0,($P$2-1)*12)","v":13.099399999999999},{"$f":"OFFSET('II fisicos'!J42,0,($P$2-1)*12)","v":23.8459},{"$f":"OFFSET('II fisicos'!K42,0,($P$2-1)*12)","v":31.933799999999998},{"$f":"OFFSET('II fisicos'!L42,0,($P$2-1)*12)","v":14.159000000000001},{"$f":"OFFSET('II fisicos'!M42,0,($P$2-1)*12)","v":"-"},{"$f":"OFFSET('II fisicos'!N42,0,($P$2-1)*12)","v":"-"},{"$f":"OFFSET('II fisicos'!O42,0,($P$2-1)*12)","v":"-"},136.0856]
[null,null,"Santa María-Elvás",{"$f":"OFFSET('II fisicos'!D43,0,($P$2-1)*12)","v":0},{"$f":"OFFSET('II fisicos'!E43,0,($P$2-1)*12)","v":0},{"$f":"OFFSET('II fisicos'!F43,0,($P$2-1)*12)","v":0},{"$f":"OFFSET('II fisicos'!G43,0,($P$2-1)*12)","v":0},{"$f":"OFFSET('II fisicos'!H43,0,($P$2-1)*12)","v":0},{"$f":"OFFSET('II fisicos'!I43,0,($P$2-1)*12)","v":0},{"$f":"OFFSET('II fisicos'!J43,0,($P$2-1)*12)","v":0},{"$f":"OFFSET('II fisicos'!K43,0,($P$2-1)*12)","v":0},{"$f":"OFFSET('II fisicos'!L43,0,($P$2-1)*12)","v":0},{"$f":"OFFSET('II fisicos'!M43,0,($P$2-1)*12)","v":"-"},{"$f":"OFFSET('II fisicos'!N43,0,($P$2-1)*12)","v":"-"},{"$f":"OFFSET('II fisicos'!O43,0,($P$2-1)*12)","v":"-"},"-"]
[null,null,"Total",{"$f":"OFFSET('II fisicos'!D44,0,($P$2-1)*12)","v":840.39130399999999},{"$f":"OFFSET('II fisicos'!E44,0,($P$2-1)*12)","v":917.18662599999993},{"$f":"OFFSET('II fisicos'!F44,0,($P$2-1)*12)","v":683.733608},{"$f":"OFFSET('II fisicos'!G44,0,($P$2-1)*12)","v":576.25388599999997},{"$f":"OFFSET('II fisicos'!H44,0,($P$2-1)*12)","v":614.0471060000001},{"$f":"OFFSET('II fisicos'!I44,0,($P$2-1)*12)","v":631.52740099999994},{"$f":"OFFSET('II fisicos'!J44,0,($P$2-1)*12)","v":812.14536599999997},{"$f":"OFFSET('II fisicos'!K44,0,($P$2-1)*12)","v":901.02256499999999},{"$f":"OFFSET('II fisicos'!L44,0,($P$2-1)*12)","v":604.18244299999992},{"$f":"OFFSET('II fisicos'!M44,0,($P$2-1)*12)","v":"-"},{"$f":"OFFSET('II fisicos'!N44,0,($P$2-1)*12)","v":"-"},{"$f":"OFFSET('II fisicos'!O44,0,($P$2-1)*12)","v":"-"},6580.4903049999994]
[null,"Marruecos","Puerto de la Cruz-Mellousa",{"$f":"OFFSET('II fisicos'!D45,0,($P$2-1)*12)","v":1.2683},{"$f":"OFFSET('II fisicos'!E45,0,($P$2-1)*12)","v":0.12490000000000001},{"$f":"OFFSET('II fisicos'!F45,0,($P$2-1)*12)","v":2.3899999999999998E-2},{"$f":"OFFSET('II fisicos'!G45,0,($P$2-1)*12)","v":4.9399999999999999E-2},{"$f":"OFFSET('II fisicos'!H45,0,($P$2-1)*12)","v":2.5499999999999998E-2},{"$f":"OFFSET('II fisicos'!I45,0,($P$2-1)*12)","v":0.28449999999999998},{"$f":"OFFSET('II fisicos'!J45,0,($P$2-1)*12)","v":3.5999999999999995E-3},{"$f":"OFFSET('II fisicos'!K45,0,($P$2-1)*12)","v":0.12040000000000001},{"$f":"OFFSET('II fisicos'!L45,0,($P$2-1)*12)","v":0.8960999999999999},{"$f":"OFFSET('II fisicos'!M45,0,($P$2-1)*12)","v":"-"},{"$f":"OFFSET('II fisicos'!N45,0,($P$2-1)*12)","v":"-"},{"$f":"OFFSET('II fisicos'!O45,0,($P$2-1)*12)","v":"-"},2.7965999999999998]
[null,null,"Total",{"$f":"OFFSET('II fisicos'!D46,0,($P$2-1)*12)","v":1.2683},{"$f":"OFFSET('II fisicos'!E46,0,($P$2-1)*12)","v":0.12490000000000001},{"$f":"OFFSET('II fisicos'!F46,0,($P$2-1)*12)","v":2.3899999999999998E-2},{"$f":"OFFSET('II fisicos'!G46,0,($P$2-1)*12)","v":4.9399999999999999E-2},{"$f":"OFFSET('II fisicos'!H46,0,($P$2-1)*12)","v":2.5499999999999998E-2},{"$f":"OFFSET('II fisicos'!I46,0,($P$2-1)*12)","v":0.28449999999999998},{"$f":"OFFSET('II fisicos'!J46,0,($P$2-1)*12)","v":3.5999999999999999E-3},{"$f":"OFFSET('II fisicos'!K46,0,($P$2-1)*12)","v":0.12040000000000001},{"$f":"OFFSET('II fisicos'!L46,0,($P$2-1)*12)","v":0.89610000000000001},{"$f":"OFFSET('II fisicos'!M46,0,($P$2-1)*12)","v":"-"},{"$f":"OFFSET('II fisicos'!N46,0,($P$2-1)*12)","v":"-"},{"$f":"OFFSET('II fisicos'!O46,0,($P$2-1)*12)","v":"-"},2.7966000000000002]
[null,"Entradas",null,{"$f":"OFFSET('II fisicos'!D47,0,($P$2-1)*12)","v":1347.205933},{"$f":"OFFSET('II fisicos'!E47,0,($P$2-1)*12)","v":1813.5213249999999},{"$f":"OFFSET('II fisicos'!F47,0,($P$2-1)*12)","v":2499.6050270000005},{"$f":"OFFSET('II fisicos'!G47,0,($P$2-1)*12)","v":2093.5846149999998},{"$f":"OFFSET('II fisicos'!H47,0,($P$2-1)*12)","v":2475.6960530000001},{"$f":"OFFSET('II fisicos'!I47,0,($P$2-1)*12)","v":2078.5644600000001},{"$f":"OFFSET('II fisicos'!J47,0,($P$2-1)*12)","v":2228.5899279999999},{"$f":"OFFSET('II fisicos'!K47,0,($P$2-1)*12)","v":2607.8651239999999},{"$f":"OFFSET('II fisicos'!L47,0,($P$2-1)*12)","v":2248.5672519999998},{"$f":"OFFSET('II fisicos'!M47,0,($P$2-1)*12)","v":"-"},{"$f":"OFFSET('II fisicos'!N47,0,($P$2-1)*12)","v":"-"},{"$f":"OFFSET('II fisicos'!O47,0,($P$2-1)*12)","v":"-"},19393.199717]
[null,{"$f":"IF(MONTH(FACT)=1,CONCATENATE(\"No hay datos de medida disponible para el mes de \",TEXT(FACT-30,\"mmmm\"),\" de \",YEAR(FACT)-1,\".\"),CONCATENATE(\"No hay datos de medida disponible para el mes de \",TEXT(FACT-30,\"mmmm\"),\" de \",YEAR(FACT),\".\"))","v":"No hay datos de medida disponible para el mes de octubre de 2017."}]

{"sheet":"Entradas por linea año","index":4,"n_rows":38,"n_cols":13,"rows_kept":38,"cut":false,"hidden":false,"merged":[[9,1,10,1],[11,1,18,1],[19,1,33,1],[34,1,35,1],[37,1,37,12]]}
[null,null,null,null,null,null,null,null,null,null,null,null,1]
[null,null,null,null,null,null,null,null,null,null,null,null,3]
[]
[null,null,null,null,null,null,null,null,null,null,"Concepto"]
[null,null,null,null,null,null,null,null,null,null,"Horizonte temporal"]
[null,null,null,null,null,null,null,null,null,null,"Periodo"]
[]
[null,null,null,{"$f":"OFFSET('II fisicos'!D109,0,($M$2-1)*10)","v":2010},{"$f":"OFFSET('II fisicos'!E109,0,($M$2-1)*10)","v":2011},{"$f":"OFFSET('II fisicos'!F109,0,($M$2-1)*10)","v":2012},{"$f":"OFFSET('II fisicos'!G109,0,($M$2-1)*10)","v":2013},{"$f":"OFFSET('II fisicos'!H109,0,($M$2-1)*10)","v":2014},{"$f":"OFFSET('II fisicos'!I109,0,($M$2-1)*10)","v":2015},{"$f":"OFFSET('II fisicos'!J109,0,($M$2-1)*10)","v":2016},{"$f":"OFFSET('II fisicos'!K109,0,($M$2-1)*10)","v":2017},{"$f":"OFFSET('II fisicos'!L109,0,($M$2-1)*10)","v":2018},{"$f":"OFFSET('II fisicos'!M109,0,($M$2-1)*10)","v":2019}]
[]
[null,"Andorra","Adrall-Margineda",{"$f":"OFFSET('II fisicos'!D127,0,($M$2-1)*10)","v":3.6999999999999999E-4},{"$f":"OFFSET('II fisicos'!E127,0,($M$2-1)*10)","v":5.6000000000000006E-4},{"$f":"OFFSET('II fisicos'!F127,0,($M$2-1)*10)","v":1.58E-3},{"$f":"OFFSET('II fisicos'!G127,0,($M$2-1)*10)","v":1.1000000000000001E-3},{"$f":"OFFSET('II fisicos'!H127,0,($M$2-1)*10)","v":5.6000000000000008E-3},{"$f":"OFFSET('II fisicos'!I127,0,($M$2-1)*10)","v":6.2299999999999994E-3},{"$f":"OFFSET('II fisicos'!J127,0,($M$2-1)*10)","v":3.9799999999999992E-3},{"$f":"OFFSET('II fisicos'!K127,0,($M$2-1)*10)","v":1.6480000000000002E-2},{"$f":"OFFSET('II fisicos'!L127,0,($M$2-1)*10)","v":"-"},{"$f":"OFFSET('II fisicos'!M127,0,($M$2-1)*10)","v":"-"}]
[null,null,"Total",{"$f":"OFFSET('II fisicos'!D128,0,($M$2-1)*10)","v":3.6999999999999999E-4},{"$f":"OFFSET('II fisicos'!E128,0,($M$2-1)*10)","v":5.6000000000000006E-4},{"$f":"OFFSET('II fisicos'!F128,0,($M$2-1)*10)","v":1.58E-3},{"$f":"OFFSET('II fisicos'!G128,0,($M$2-1)*10)","v":1.1000000000000001E-3},{"$f":"OFFSET('II fisicos'!H128,0,($M$2-1)*10)","v":5.6000000000000008E-3},{"$f":"OFFSET('II fisicos'!I128,0,($M$2-1)*10)","v":6.2299999999999994E-3},{"$f":"OFFSET('II fisicos'!J128,0,($M$2-1)*10)","v":3.9799999999999992E-3},{"$f":"OFFSET('II fisicos'!K128,0,($M$2-1)*10)","v":1.6480000000000002E-2},{"$f":"OFFSET('II fisicos'!L128,0,($M$2-1)*10)","v":"-"},{"$f":"OFFSET('II fisicos'!M128,0,($M$2-1)*10)","v":"-"}]
[null,"Francia","Arkale-Argia",{"$f":"OFFSET('II fisicos'!D129,0,($M$2-1)*10)","v":142.58195800000001},{"$f":"OFFSET('II fisicos'!E129,0,($M$2-1)*10)","v":340.07224199999996},{"$f":"OFFSET('II fisicos'!F129,0,($M$2-1)*10)","v":247.27064999999999},{"$f":"OFFSET('II fisicos'!G129,0,($M$2-1)*10)","v":349.27388000000008},{"$f":"OFFSET('II fisicos'!H129,0,($M$2-1)*10)","v":395.04532199999994},{"$f":"OFFSET('II fisicos'!I129,0,($M$2-1)*10)","v":611.13965199999996},{"$f":"OFFSET('II fisicos'!J129,0,($M$2-1)*10)","v":851.56727599999999},{"$f":"OFFSET('II fisicos'!K129,0,($M$2-1)*10)","v":857.79415399999993},{"$f":"OFFSET('II fisicos'!L129,0,($M$2-1)*10)","v":"-"},{"$f":"OFFSET('II fisicos'!M129,0,($M$2-1)*10)","v":"-"}]
[null,null,"Benós-Lac D'oo",{"$f":"OFFSET('II fisicos'!D130,0,($M$2-1)*10)","v":0.2127},{"$f":"OFFSET('II fisicos'!E130,0,($M$2-1)*10)","v":4.9693510000000005},{"$f":"OFFSET('II fisicos'!F130,0,($M$2-1)*10)","v":3.206826},{"$f":"OFFSET('II fisicos'!G130,0,($M$2-1)*10)","v":5.8512989999999991},{"$f":"OFFSET('II fisicos'!H130,0,($M$2-1)*10)","v":2.3075540000000001},{"$f":"OFFSET('II fisicos'!I130,0,($M$2-1)*10)","v":0.30538699999999996},{"$f":"OFFSET('II fisicos'!J130,0,($M$2-1)*10)","v":3.4315850000000001},{"$f":"OFFSET('II fisicos'!K130,0,($M$2-1)*10)","v":0.12681100000000001},{"$f":"OFFSET('II fisicos'!L130,0,($M$2-1)*10)","v":"-"},{"$f":"OFFSET('II fisicos'!M130,0,($M$2-1)*10)","v":"-"}]
[null,null,"Biescas-Pragneres",{"$f":"OFFSET('II fisicos'!D131,0,($M$2-1)*10)","v":87.241910000000004},{"$f":"OFFSET('II fisicos'!E131,0,($M$2-1)*10)","v":173.001259},{"$f":"OFFSET('II fisicos'!F131,0,($M$2-1)*10)","v":259.65247700000003},{"$f":"OFFSET('II fisicos'!G131,0,($M$2-1)*10)","v":224.78003699999999},{"$f":"OFFSET('II fisicos'!H131,0,($M$2-1)*10)","v":252.93208200000001},{"$f":"OFFSET('II fisicos'!I131,0,($M$2-1)*10)","v":351.18129499999998},{"$f":"OFFSET('II fisicos'!J131,0,($M$2-1)*10)","v":456.68851000000001},{"$f":"OFFSET('II fisicos'!K131,0,($M$2-1)*10)","v":371.80750699999999},{"$f":"OFFSET('II fisicos'!L131,0,($M$2-1)*10)","v":"-"},{"$f":"OFFSET('II fisicos'!M131,0,($M$2-1)*10)","v":"-"}]
[null,null,"Hernani-Argia",{"$f":"OFFSET('II fisicos'!D132,0,($M$2-1)*10)","v":971.20769700000005},{"$f":"OFFSET('II fisicos'!E132,0,($M$2-1)*10)","v":1784.6865579999999},{"$f":"OFFSET('II fisicos'!F132,0,($M$2-1)*10)","v":1686.9510560000001},{"$f":"OFFSET('II fisicos'!G132,0,($M$2-1)*10)","v":1690.5545269999998},{"$f":"OFFSET('II fisicos'!H132,0,($M$2-1)*10)","v":1883.472497},{"$f":"OFFSET('II fisicos'!I132,0,($M$2-1)*10)","v":2590.6453080000006},{"$f":"OFFSET('II fisicos'!J132,0,($M$2-1)*10)","v":3481.3946070000002},{"$f":"OFFSET('II fisicos'!K132,0,($M$2-1)*10)","v":4449.6174759999994},{"$f":"OFFSET('II fisicos'!L132,0,($M$2-1)*10)","v":"-"},{"$f":"OFFSET('II fisicos'!M132,0,($M$2-1)*10)","v":"-"}]
[null,null,"Irún-Errondenia",{"$f":"OFFSET('II fisicos'!D133,0,($M$2-1)*10)","v":0},{"$f":"OFFSET('II fisicos'!E133,0,($M$2-1)*10)","v":0},{"$f":"OFFSET('II fisicos'!F133,0,($M$2-1)*10)","v":0},{"$f":"OFFSET('II fisicos'!G133,0,($M$2-1)*10)","v":0},{"$f":"OFFSET('II fisicos'!H133,0,($M$2-1)*10)","v":0},{"$f":"OFFSET('II fisicos'!I133,0,($M$2-1)*10)","v":0},{"$f":"OFFSET('II fisicos'!J133,0,($M$2-1)*10)","v":0},{"$f":"OFFSET('II fisicos'!K133,0,($M$2-1)*10)","v":0},{"$f":"OFFSET('II fisicos'!L133,0,($M$2-1)*10)","v":"-"},{"$f":"OFFSET('II fisicos'!M133,0,($M$2-1)*10)","v":"-"}]
[null,null,"Santa Llogaia-Baixas",{"$f":"OFFSET('II fisicos'!D134,0,($M$2-1)*10)","v":0},{"$f":"OFFSET('II fisicos'!E134,0,($M$2-1)*10)","v":0},{"$f":"OFFSET('II fisicos'!F134,0,($M$2-1)*10)","v":0},{"$f":"OFFSET('II fisicos'!G134,0,($M$2-1)*10)","v":0},{"$f":"OFFSET('II fisicos'!H134,0,($M$2-1)*10)","v":0},{"$f":"OFFSET('II fisicos'!I134,0,($M$2-1)*10)","v":1500.6944090000002},{"$f":"OFFSET('II fisicos'!J134,0,($M$2-1)*10)","v":5111.2749160000003},{"$f":"OFFSET('II fisicos'!K134,0,($M$2-1)*10)","v":4951.3195580000001},{"$f":"OFFSET('II fisicos'!L134,0,($M$2-1)*10)","v":"-"},{"$f":"OFFSET('II fisicos'!M134,0,($M$2-1)*10)","v":"-"}]
[null,null,"Vic-Baixas",{"$f":"OFFSET('II fisicos'!D135,0,($M$2-1)*10)","v":782.0290050000001},{"$f":"OFFSET('II fisicos'!E135,0,($M$2-1)*10)","v":1684.2703599999998},{"$f":"OFFSET('II fisicos'!F135,0,($M$2-1)*10)","v":2713.439946},{"$f":"OFFSET('II fisicos'!G135,0,($M$2-1)*10)","v":2608.6150499999994},{"$f":"OFFSET('II fisicos'!H135,0,($M$2-1)*10)","v":3429.0036010000008},{"$f":"OFFSET('II fisicos'!I135,0,($M$2-1)*10)","v":4076.9215260000005},{"$f":"OFFSET('II fisicos'!J135,0,($M$2-1)*10)","v":2230.9741610000001},{"$f":"OFFSET('II fisicos'!K135,0,($M$2-1)*10)","v":2179.230826},{"$f":"OFFSET('II fisicos'!L135,0,($M$2-1)*10)","v":"-"},{"$f":"OFFSET('II fisicos'!M135,0,($M$2-1)*10)","v":"-"}]
[null,null,"Total",{"$f":"OFFSET('II fisicos'!D136,0,($M$2-1)*10)","v":1983.2732700000001},{"$f":"OFFSET('II fisicos'!E136,0,($M$2-1)*10)","v":3986.9997699999994},{"$f":"OFFSET('II fisicos'!F136,0,($M$2-1)*10)","v":4910.520954999999},{"$f":"OFFSET('II fisicos'!G136,0,($M$2-1)*10)","v":4879.0747929999998},{"$f":"OFFSET('II fisicos'!H136,0,($M$2-1)*10)","v":5962.7610559999994},{"$f":"OFFSET('II fisicos'!I136,0,($M$2-1)*10)","v":9130.8875770000013},{"$f":"OFFSET('II fisicos'!J136,0,($M$2-1)*10)","v":12135.331054999999},{"$f":"OFFSET('II fisicos'!K136,0,($M$2-1)*10)","v":12809.896332},{"$f":"OFFSET('II fisicos'!L136,0,($M$2-1)*10)","v":"-"},{"$f":"OFFSET('II fisicos'!M136,0,($M$2-1)*10)","v":"-"}]
[null,"Portugal","Aldeadávila-Pocinho 1",{"$f":"OFFSET('II fisicos'!D137,0,($M$2-1)*10)","v":709.82159999999999},{"$f":"OFFSET('II fisicos'!E137,0,($M$2-1)*10)","v":48.343999999999994},{"$f":"OFFSET('II fisicos'!F137,0,($M$2-1)*10)","v":23.582899999999999},{"$f":"OFFSET('II fisicos'!G137,0,($M$2-1)*10)","v":128.38349999999997},{"$f":"OFFSET('II fisicos'!H137,0,($M$2-1)*10)","v":132.56240000000003},{"$f":"OFFSET('II fisicos'!I137,0,($M$2-1)*10)","v":67.931799999999996},{"$f":"OFFSET('II fisicos'!J137,0,($M$2-1)*10)","v":254.0361},{"$f":"OFFSET('II fisicos'!K137,0,($M$2-1)*10)","v":179.2193},{"$f":"OFFSET('II fisicos'!L137,0,($M$2-1)*10)","v":"-"},{"$f":"OFFSET('II fisicos'!M137,0,($M$2-1)*10)","v":"-"}]
[null,null,"Aldeadávila-Pocinho 2",{"$f":"OFFSET('II fisicos'!D138,0,($M$2-1)*10)","v":605.29449999999997},{"$f":"OFFSET('II fisicos'!E138,0,($M$2-1)*10)","v":47.992800000000003},{"$f":"OFFSET('II fisicos'!F138,0,($M$2-1)*10)","v":23.567800000000002},{"$f":"OFFSET('II fisicos'!G138,0,($M$2-1)*10)","v":127.8103},{"$f":"OFFSET('II fisicos'!H138,0,($M$2-1)*10)","v":128.88176000000001},{"$f":"OFFSET('II fisicos'!I138,0,($M$2-1)*10)","v":67.847099999999998},{"$f":"OFFSET('II fisicos'!J138,0,($M$2-1)*10)","v":222.58861999999999},{"$f":"OFFSET('II fisicos'!K138,0,($M$2-1)*10)","v":178.06270000000004},{"$f":"OFFSET('II fisicos'!L138,0,($M$2-1)*10)","v":"-"},{"$f":"OFFSET('II fisicos'!M138,0,($M$2-1)*10)","v":"-"}]
[null,null,"Aldeadávila-Lagoaça",{"$f":"OFFSET('II fisicos'!D139,0,($M$2-1)*10)","v":54.690336000000002},{"$f":"OFFSET('II fisicos'!E139,0,($M$2-1)*10)","v":1477.83186},{"$f":"OFFSET('II fisicos'!F139,0,($M$2-1)*10)","v":423.891144},{"$f":"OFFSET('II fisicos'!G139,0,($M$2-1)*10)","v":2072.28024},{"$f":"OFFSET('II fisicos'!H139,0,($M$2-1)*10)","v":2481.9145209999997},{"$f":"OFFSET('II fisicos'!I139,0,($M$2-1)*10)","v":1414.211184},{"$f":"OFFSET('II fisicos'!J139,0,($M$2-1)*10)","v":3174.6785760000002},{"$f":"OFFSET('II fisicos'!K139,0,($M$2-1)*10)","v":1478.6701199999998},{"$f":"OFFSET('II fisicos'!L139,0,($M$2-1)*10)","v":"-"},{"$f":"OFFSET('II fisicos'!M139,0,($M$2-1)*10)","v":"-"}]
[null,null,"Badajoz-Alcaçovas",{"$f":"OFFSET('II fisicos'!D140,0,($M$2-1)*10)","v":4.55E-4},{"$f":"OFFSET('II fisicos'!E140,0,($M$2-1)*10)","v":4.3149999999999994E-3},{"$f":"OFFSET('II fisicos'!F140,0,($M$2-1)*10)","v":1.8910000000000001E-3},{"$f":"OFFSET('II fisicos'!G140,0,($M$2-1)*10)","v":1.2290000000000001E-3},{"$f":"OFFSET('II fisicos'!H140,0,($M$2-1)*10)","v":9.6900000000000003E-4},{"$f":"OFFSET('II fisicos'!I140,0,($M$2-1)*10)","v":1.2480000000000002E-3},{"$f":"OFFSET('II fisicos'!J140,0,($M$2-1)*10)","v":1.23E-3},{"$f":"OFFSET('II fisicos'!K140,0,($M$2-1)*10)","v":1.8E-3},{"$f":"OFFSET('II fisicos'!L140,0,($M$2-1)*10)","v":"-"},{"$f":"OFFSET('II fisicos'!M140,0,($M$2-1)*10)","v":"-"}]
[null,null,"Balboa-Alqueva",{"$f":"OFFSET('II fisicos'!D141,0,($M$2-1)*10)","v":0},{"$f":"OFFSET('II fisicos'!E141,0,($M$2-1)*10)","v":0},{"$f":"OFFSET('II fisicos'!F141,0,($M$2-1)*10)","v":0},{"$f":"OFFSET('II fisicos'!G141,0,($M$2-1)*10)","v":0},{"$f":"OFFSET('II fisicos'!H141,0,($M$2-1)*10)","v":0},{"$f":"OFFSET('II fisicos'!I141,0,($M$2-1)*10)","v":0},{"$f":"OFFSET('II fisicos'!J141,0,($M$2-1)*10)","v":0},{"$f":"OFFSET('II fisicos'!K141,0,($M$2-1)*10)","v":0},{"$f":"OFFSET('II fisicos'!L141,0,($M$2-1)*10)","v":"-"},{"$f":"OFFSET('II fisicos'!M141,0,($M$2-1)*10)","v":"-"}]
[null,null,"Brovales-Alqueva",{"$f":"OFFSET('II fisicos'!D142,0,($M$2-1)*10)","v":680.89948299999992},{"$f":"OFFSET('II fisicos'!E142,0,($M$2-1)*10)","v":1300.307333},{"$f":"OFFSET('II fisicos'!F142,0,($M$2-1)*10)","v":1382.492422},{"$f":"OFFSET('II fisicos'!G142,0,($M$2-1)*10)","v":1813.865141},{"$f":"OFFSET('II fisicos'!H142,0,($M$2-1)*10)","v":1549.5101550000002},{"$f":"OFFSET('II fisicos'!I142,0,($M$2-1)*10)","v":1519.4400130000001},{"$f":"OFFSET('II fisicos'!J142,0,($M$2-1)*10)","v":2055.6589860000004},{"$f":"OFFSET('II fisicos'!K142,0,($M$2-1)*10)","v":1773.8227669999999},{"$f":"OFFSET('II fisicos'!L142,0,($M$2-1)*10)","v":"-"},{"$f":"OFFSET('II fisicos'!M142,0,($M$2-1)*10)","v":"-"}]
[null,null,"Cartelle-Lindoso",{"$f":"OFFSET('II fisicos'!D143,0,($M$2-1)*10)","v":322.767},{"$f":"OFFSET('II fisicos'!E143,0,($M$2-1)*10)","v":159.36029999999997},{"$f":"OFFSET('II fisicos'!F143,0,($M$2-1)*10)","v":10.831900000000001},{"$f":"OFFSET('II fisicos'!G143,0,($M$2-1)*10)","v":62.730599999999995},{"$f":"OFFSET('II fisicos'!H143,0,($M$2-1)*10)","v":154.9425},{"$f":"OFFSET('II fisicos'!I143,0,($M$2-1)*10)","v":60.101999999999997},{"$f":"OFFSET('II fisicos'!J143,0,($M$2-1)*10)","v":535.45619999999997},{"$f":"OFFSET('II fisicos'!K143,0,($M$2-1)*10)","v":417.26609999999999},{"$f":"OFFSET('II fisicos'!L143,0,($M$2-1)*10)","v":"-"},{"$f":"OFFSET('II fisicos'!M143,0,($M$2-1)*10)","v":"-"}]
[null,null,"Cedillo-Falaguerira",{"$f":"OFFSET('II fisicos'!D144,0,($M$2-1)*10)","v":581.08429999999998},{"$f":"OFFSET('II fisicos'!E144,0,($M$2-1)*10)","v":877.20997999999986},{"$f":"OFFSET('II fisicos'!F144,0,($M$2-1)*10)","v":984.28610000000003},{"$f":"OFFSET('II fisicos'!G144,0,($M$2-1)*10)","v":1020.2621},{"$f":"OFFSET('II fisicos'!H144,0,($M$2-1)*10)","v":935.78719999999998},{"$f":"OFFSET('II fisicos'!I144,0,($M$2-1)*10)","v":1350.1971000000001},{"$f":"OFFSET('II fisicos'!J144,0,($M$2-1)*10)","v":1595.5244},{"$f":"OFFSET('II fisicos'!K144,0,($M$2-1)*10)","v":1089.66661},{"$f":"OFFSET('II fisicos'!L144,0,($M$2-1)*10)","v":"-"},{"$f":"OFFSET('II fisicos'!M144,0,($M$2-1)*10)","v":"-"}]
[null,null,"Conchas-Lindoso",{"$f":"OFFSET('II fisicos'!D145,0,($M$2-1)*10)","v":0},{"$f":"OFFSET('II fisicos'!E145,0,($M$2-1)*10)","v":0},{"$f":"OFFSET('II fisicos'!F145,0,($M$2-1)*10)","v":0},{"$f":"OFFSET('II fisicos'!G145,0,($M$2-1)*10)","v":0},{"$f":"OFFSET('II fisicos'!H145,0,($M$2-1)*10)","v":0},{"$f":"OFFSET('II fisicos'!I145,0,($M$2-1)*10)","v":0},{"$f":"OFFSET('II fisicos'!J145,0,($M$2-1)*10)","v":0},{"$f":"OFFSET('II fisicos'!K145,0,($M$2-1)*10)","v":0},{"$f":"OFFSET('II fisicos'!L145,0,($M$2-1)*10)","v":"-"},{"$f":"OFFSET('II fisicos'!M145,0,($M$2-1)*10)","v":"-"}]
[null,null,"Encinasola-Barrancos",{"$f":"OFFSET('II fisicos'!D146,0,($M$2-1)*10)","v":0},{"$f":"OFFSET('II fisicos'!E146,0,($M$2-1)*10)","v":0},{"$f":"OFFSET('II fisicos'!F146,0,($M$2-1)*10)","v":0},{"$f":"OFFSET('II fisicos'!G146,0,($M$2-1)*10)","v":0},{"$f":"OFFSET('II fisicos'!H146,0,($M$2-1)*10)","v":0},{"$f":"OFFSET('II fisicos'!I146,0,($M$2-1)*10)","v":0},{"$f":"OFFSET('II fisicos'!J146,0,($M$2-1)*10)","v":0},{"$f":"OFFSET('II fisicos'!K146,0,($M$2-1)*10)","v":0},{"$f":"OFFSET('II fisicos'!L146,0,($M$2-1)*10)","v":"-"},{"$f":"OFFSET('II fisicos'!M146,0,($M$2-1)*10)","v":"-"}]
[null,null,"Puebla de Guzmán-Tavira",{"$f":"OFFSET('II fisicos'!D147,0,($M$2-1)*10)","v":0},{"$f":"OFFSET('II fisicos'!E147,0,($M$2-1)*10)","v":0},{"$f":"OFFSET('II fisicos'!F147,0,($M$2-1)*10)","v":0},{"$f":"OFFSET('II fisicos'!G147,0,($M$2-1)*10)","v":0},{"$f":"OFFSET('II fisicos'!H147,0,($M$2-1)*10)","v":876.95859799999994},{"$f":"OFFSET('II fisicos'!I147,0,($M$2-1)*10)","v":1278.1297170000003},{"$f":"OFFSET('II fisicos'!J147,0,($M$2-1)*10)","v":1716.0585449999999},{"$f":"OFFSET('II fisicos'!K147,0,($M$2-1)*10)","v":1327.6953080000001},{"$f":"OFFSET('II fisicos'!L147,0,($M$2-1)*10)","v":"-"},{"$f":"OFFSET('II fisicos'!M147,0,($M$2-1)*10)","v":"-"}]
[null,null,"Rosal Frontera-V. Ficalho",{"$f":"OFFSET('II fisicos'!D148,0,($M$2-1)*10)","v":0},{"$f":"OFFSET('II fisicos'!E148,0,($M$2-1)*10)","v":9.9999999999999995E-7},{"$f":"OFFSET('II fisicos'!F148,0,($M$2-1)*10)","v":0},{"$f":"OFFSET('II fisicos'!G148,0,($M$2-1)*10)","v":0},{"$f":"OFFSET('II fisicos'!H148,0,($M$2-1)*10)","v":0},{"$f":"OFFSET('II fisicos'!I148,0,($M$2-1)*10)","v":0},{"$f":"OFFSET('II fisicos'!J148,0,($M$2-1)*10)","v":0},{"$f":"OFFSET('II fisicos'!K148,0,($M$2-1)*10)","v":0},{"$f":"OFFSET('II fisicos'!L148,0,($M$2-1)*10)","v":"-"},{"$f":"OFFSET('II fisicos'!M148,0,($M$2-1)*10)","v":"-"}]
[null,null,"Saucelle-Pocinho",{"$f":"OFFSET('II fisicos'!D149,0,($M$2-1)*10)","v":234.50139999999996},{"$f":"OFFSET('II fisicos'!E149,0,($M$2-1)*10)","v":18.780290000000001},{"$f":"OFFSET('II fisicos'!F149,0,($M$2-1)*10)","v":21.953999999999997},{"$f":"OFFSET('II fisicos'!G149,0,($M$2-1)*10)","v":98.133299999999991},{"$f":"OFFSET('II fisicos'!H149,0,($M$2-1)*10)","v":84.170299999999997},{"$f":"OFFSET('II fisicos'!I149,0,($M$2-1)*10)","v":52.838200000000001},{"$f":"OFFSET('II fisicos'!J149,0,($M$2-1)*10)","v":147.60538000000003},{"$f":"OFFSET('II fisicos'!K149,0,($M$2-1)*10)","v":136.0856},{"$f":"OFFSET('II fisicos'!L149,0,($M$2-1)*10)","v":"-"},{"$f":"OFFSET('II fisicos'!M149,0,($M$2-1)*10)","v":"-"}]
[null,null,"Santa María-Elvás",{"$f":"OFFSET('II fisicos'!D150,0,($M$2-1)*10)","v":0},{"$f":"OFFSET('II fisicos'!E150,0,($M$2-1)*10)","v":0},{"$f":"OFFSET('II fisicos'!F150,0,($M$2-1)*10)","v":0},{"$f":"OFFSET('II fisicos'!G150,0,($M$2-1)*10)","v":0},{"$f":"OFFSET('II fisicos'!H150,0,($M$2-1)*10)","v":0},{"$f":"OFFSET('II fisicos'!I150,0,($M$2-1)*10)","v":0},{"$f":"OFFSET('II fisicos'!J150,0,($M$2-1)*10)","v":0},{"$f":"OFFSET('II fisicos'!K150,0,($M$2-1)*10)","v":0},{"$f":"OFFSET('II fisicos'!L150,0,($M$2-1)*10)","v":"-"},{"$f":"OFFSET('II fisicos'!M150,0,($M$2-1)*10)","v":"-"}]
[null,null,"Total",{"$f":"OFFSET('II fisicos'!D151,0,($M$2-1)*10)","v":3189.0590740000002},{"$f":"OFFSET('II fisicos'!E151,0,($M$2-1)*10)","v":3929.8308789999992},{"$f":"OFFSET('II fisicos'!F151,0,($M$2-1)*10)","v":2870.6081570000006},{"$f":"OFFSET('II fisicos'!G151,0,($M$2-1)*10)","v":5323.4664100000009},{"$f":"OFFSET('II fisicos'!H151,0,($M$2-1)*10)","v":6344.7284030000001},{"$f":"OFFSET('II fisicos'!I151,0,($M$2-1)*10)","v":5810.6983619999992},{"$f":"OFFSET('II fisicos'!J151,0,($M$2-1)*10)","v":9701.608037},{"$f":"OFFSET('II fisicos'!K151,0,($M$2-1)*10)","v":6580.4903049999994},{"$f":"OFFSET('II fisicos'!L151,0,($M$2-1)*10)","v":"-"},{"$f":"OFFSET('II fisicos'!M151,0,($M$2-1)*10)","v":"-"}]
[null,"Marruecos","Puerto de la Cruz-Mellousa",{"$f":"OFFSET('II fisicos'!D152,0,($M$2-1)*10)","v":33.919319999999999},{"$f":"OFFSET('II fisicos'!E152,0,($M$2-1)*10)","v":15.614409999999999},{"$f":"OFFSET('II fisicos'!F152,0,($M$2-1)*10)","v":4.6427499999999995},{"$f":"OFFSET('II fisicos'!G152,0,($M$2-1)*10)","v":1.1239300000000001},{"$f":"OFFSET('II fisicos'!H152,0,($M$2-1)*10)","v":2.5326},{"$f":"OFFSET('II fisicos'!I152,0,($M$2-1)*10)","v":14.139290000000001},{"$f":"OFFSET('II fisicos'!J152,0,($M$2-1)*10)","v":7.91737},{"$f":"OFFSET('II fisicos'!K152,0,($M$2-1)*10)","v":2.7965999999999998},{"$f":"OFFSET('II fisicos'!L152,0,($M$2-1)*10)","v":"-"},{"$f":"OFFSET('II fisicos'!M152,0,($M$2-1)*10)","v":"-"}]
[null,null,"Total",{"$f":"OFFSET('II fisicos'!D153,0,($M$2-1)*10)","v":33.919319999999999},{"$f":"OFFSET('II fisicos'!E153,0,($M$2-1)*10)","v":15.614409999999999},{"$f":"OFFSET('II fisicos'!F153,0,($M$2-1)*10)","v":4.6427499999999995},{"$f":"OFFSET('II fisicos'!G153,0,($M$2-1)*10)","v":1.1239300000000001},{"$f":"OFFSET('II fisicos'!H153,0,($M$2-1)*10)","v":2.5326},{"$f":"OFFSET('II fisicos'!I153,0,($M$2-1)*10)","v":14.139290000000001},{"$f":"OFFSET('II fisicos'!J153,0,($M$2-1)*10)","v":7.91737},{"$f":"OFFSET('II fisicos'!K153,0,($M$2-1)*10)","v":2.7966000000000002},{"$f":"OFFSET('II fisicos'!L153,0,($M$2-1)*10)","v":"-"},{"$f":"OFFSET('II fisicos'!M153,0,($M$2-1)*10)","v":"-"}]
[null,"Entradas",null,{"$f":"OFFSET('II fisicos'!D154,0,($M$2-1)*10)","v":5206.2520339999992},{"$f":"OFFSET('II fisicos'!E154,0,($M$2-1)*10)","v":7932.4456190000001},{"$f":"OFFSET('II fisicos'!F154,0,($M$2-1)*10)","v":7785.7734420000006},{"$f":"OFFSET('II fisicos'!G154,0,($M$2-1)*10)","v":10203.666233000002},{"$f":"OFFSET('II fisicos'!H154,0,($M$2-1)*10)","v":12310.027658999999},{"$f":"OFFSET('II fisicos'!I154,0,($M$2-1)*10)","v":14955.731458999999},{"$f":"OFFSET('II fisicos'!J154,0,($M$2-1)*10)","v":21844.860441999997},{"$f":"OFFSET('II fisicos'!K154,0,($M$2-1)*10)","v":19393.199717},{"$f":"OFFSET('II fisicos'!L154,0,($M$2-1)*10)","v":"-"},{"$f":"OFFSET('II fisicos'!M154,0,($M$2-1)*10)","v":"-"}]
[null,{"$f":"IF(M2=3,IF(MONTH(FACT)=1,CONCATENATE(\"Datos a 31 de diciembre. Para el año \",YEAR(FACT)-1, \" datos a \",TEXT(FACT-60,\"mmmm\"),\" de \",YEAR(FACT)-1,\".\"),CONCATENATE(\"Datos a 31 de diciembre. Para el año \",YEAR(FACT), \" datos a \",TEXT(FACT-60,\"mmmm\"),\" de \",YEAR(FACT),\".\")),\"Datos a 31 de diciembre.\")","v":"Datos a 31 de diciembre. Para el año 2017 datos a septiembre de 2017."}]

{"sheet":"Salidas por linea mes","index":5,"n_rows":38,"n_cols":16,"rows_kept":38,"cut":false,"hidden":false,"merged":[[34,1,35,1],[9,1,10,1],[11,1,18,1],[19,1,33,1],[37,1,37,15]]}
[null,null,null,null,null,null,null,null,null,null,null,null,null,null,null,1]
[null,null,null,null,null,null,null,null,null,null,null,null,null,null,null,28]
[]
[null,null,null,null,null,null,null,null,null,null,null,null,"Concepto"]
[null,null,null,null,null,null,null,null,null,null,null,null,"Horizonte temporal"]
[null,null,null,null,null,null,null,null,null,null,null,null,"Periodo"]
[]
[null,null,null,"Ene.","Feb.","Mar.","Abr.","May.","Jun.","Jul.","Ago.","Sep.","Oct.","Nov.","Dic.",{"$f":"OFFSET(Año!B2,($P$2-1),0)","v":2017}]
[]
[null,"Andorra","Adrall-Margineda",{"$f":"OFFSET('II fisicos'!D50,0,($P$2-1)*12)","v":31.225639999999999},{"$f":"OFFSET('II fisicos'!E50,0,($P$2-1)*12)","v":24.869720000000001},{"$f":"OFFSET('II fisicos'!F50,0,($P$2-1)*12)","v":17.67933},{"$f":"OFFSET('II fisicos'!G50,0,($P$2-1)*12)","v":12.571959999999999},{"$f":"OFFSET('II fisicos'!H50,0,($P$2-1)*12)","v":14.20318},{"$f":"OFFSET('II fisicos'!I50,0,($P$2-1)*12)","v":11.77998},{"$f":"OFFSET('II fisicos'!J50,0,($P$2-1)*12)","v":0.41784000000000004},{"$f":"OFFSET('II fisicos'!K50,0,($P$2-1)*12)","v":36.588389999999997},{"$f":"OFFSET('II fisicos'!L50,0,($P$2-1)*12)","v":9.724219999999999},{"$f":"OFFSET('II fisicos'!M50,0,($P$2-1)*12)","v":"-"},{"$f":"OFFSET('II fisicos'!N50,0,($P$2-1)*12)","v":"-"},{"$f":"OFFSET('II fisicos'!O50,0,($P$2-1)*12)","v":"-"},{"$f":"IF(SUM(D10:O10)=0,\"-\",SUM(D10:O10))","v":159.06026}]
[null,null,"Total",{"$f":"OFFSET('II fisicos'!D51,0,($P$2-1)*12)","v":31.225639999999999},{"$f":"OFFSET('II fisicos'!E51,0,($P$2-1)*12)","v":24.869720000000001},{"$f":"OFFSET('II fisicos'!F51,0,($P$2-1)*12)","v":17.67933},{"$f":"OFFSET('II fisicos'!G51,0,($P$2-1)*12)","v":12.571959999999999},{"$f":"OFFSET('II fisicos'!H51,0,($P$2-1)*12)","v":14.20318},{"$f":"OFFSET('II fisicos'!I51,0,($P$2-1)*12)","v":11.77998},{"$f":"OFFSET('II fisicos'!J51,0,($P$2-1)*12)","v":0.41784000000000004},{"$f":"OFFSET('II fisicos'!K51,0,($P$2-1)*12)","v":36.588389999999997},{"$f":"OFFSET('II fisicos'!L51,0,($P$2-1)*12)","v":9.724219999999999},{"$f":"OFFSET('II fisicos'!M51,0,($P$2-1)*12)","v":"-"},{"$f":"OFFSET('II fisicos'!N51,0,($P$2-1)*12)","v":"-"},{"$f":"OFFSET('II fisicos'!O51,0,($P$2-1)*12)","v":"-"},{"$f":"IF(SUM(D11:O11)=0,\"-\",SUM(D11:O11))","v":159.06026}]
[null,"Francia","Arkale-Argia",{"$f":"OFFSET('II fisicos'!D52,0,($P$2-1)*12)","v":123.13976799999999},{"$f":"OFFSET('II fisicos'!E52,0,($P$2-1)*12)","v":61.724031000000004},{"$f":"OFFSET('II fisicos'!F52,0,($P$2-1)*12)","v":13.838049000000002},{"$f":"OFFSET('II fisicos'!G52,0,($P$2-1)*12)","v":5.7508680000000005},{"$f":"OFFSET('II fisicos'!H52,0,($P$2-1)*12)","v":0.44810899999999998},{"$f":"OFFSET('II fisicos'!I52,0,($P$2-1)*12)","v":1.012686},{"$f":"OFFSET('II fisicos'!J52,0,($P$2-1)*12)","v":1.8842460000000001},{"$f":"OFFSET('II fisicos'!K52,0,($P$2-1)*12)","v":0.42654199999999998},{"$f":"OFFSET('II fisicos'!L52,0,($P$2-1)*12)","v":8.4198360000000001},{"$f":"OFFSET('II fisicos'!M52,0,($P$2-1)*12)","v":"-"},{"$f":"OFFSET('II fisicos'!N52,0,($P$2-1)*12)","v":"-"},{"$f":"OFFSET('II fisicos'!O52,0,($P$2-1)*12)","v":"-"},216.64413500000001]
[null,null,"Benós-Lac D'oo",{"$f":"OFFSET('II fisicos'!D53,0,($P$2-1)*12)","v":0},{"$f":"OFFSET('II fisicos'!E53,0,($P$2-1)*12)","v":0},{"$f":"OFFSET('II fisicos'!F53,0,($P$2-1)*12)","v":1.1339999999999998E-3},{"$f":"OFFSET('II fisicos'!G53,0,($P$2-1)*12)","v":2.8399999999999996E-4},{"$f":"OFFSET('II fisicos'!H53,0,($P$2-1)*12)","v":1.2999999999999999E-5},{"$f":"OFFSET('II fisicos'!I53,0,($P$2-1)*12)","v":7.9999999999999996E-6},{"$f":"OFFSET('II fisicos'!J53,0,($P$2-1)*12)","v":0},{"$f":"OFFSET('II fisicos'!K53,0,($P$2-1)*12)","v":1.3098E-2},{"$f":"OFFSET('II fisicos'!L53,0,($P$2-1)*12)","v":0},{"$f":"OFFSET('II fisicos'!M53,0,($P$2-1)*12)","v":"-"},{"$f":"OFFSET('II fisicos'!N53,0,($P$2-1)*12)","v":"-"},{"$f":"OFFSET('II fisicos'!O53,0,($P$2-1)*12)","v":"-"},1.4537E-2]
[null,null,"Biescas-Pragneres",{"$f":"OFFSET('II fisicos'!D54,0,($P$2-1)*12)","v":72.741009999999989},{"$f":"OFFSET('II fisicos'!E54,0,($P$2-1)*12)","v":44.250475000000002},{"$f":"OFFSET('II fisicos'!F54,0,($P$2-1)*12)","v":17.284184},{"$f":"OFFSET('II fisicos'!G54,0,($P$2-1)*12)","v":13.376706},{"$f":"OFFSET('II fisicos'!H54,0,($P$2-1)*12)","v":3.1599020000000002},{"$f":"OFFSET('II fisicos'!I54,0,($P$2-1)*12)","v":13.306374},{"$f":"OFFSET('II fisicos'!J54,0,($P$2-1)*12)","v":13.262028000000001},{"$f":"OFFSET('II fisicos'!K54,0,($P$2-1)*12)","v":0.99009000000000003},{"$f":"OFFSET('II fisicos'!L54,0,($P$2-1)*12)","v":0.85762000000000005},{"$f":"OFFSET('II fisicos'!M54,0,($P$2-1)*12)","v":"-"},{"$f":"OFFSET('II fisicos'!N54,0,($P$2-1)*12)","v":"-"},{"$f":"OFFSET('II fisicos'!O54,0,($P$2-1)*12)","v":"-"},179.22838899999999]
[null,null,"Hernani-Argia",{"$f":"OFFSET('II fisicos'!D55,0,($P$2-1)*12)","v":374.73231800000002},{"$f":"OFFSET('II fisicos'!E55,0,($P$2-1)*12)","v":186.45795900000002},{"$f":"OFFSET('II fisicos'!F55,0,($P$2-1)*12)","v":37.589247999999998},{"$f":"OFFSET('II fisicos'!G55,0,($P$2-1)*12)","v":8.6230830000000012},{"$f":"OFFSET('II fisicos'!H55,0,($P$2-1)*12)","v":1.072241},{"$f":"OFFSET('II fisicos'!I55,0,($P$2-1)*12)","v":1.2613240000000001},{"$f":"OFFSET('II fisicos'!J55,0,($P$2-1)*12)","v":0.21188399999999999},{"$f":"OFFSET('II fisicos'!K55,0,($P$2-1)*12)","v":0},{"$f":"OFFSET('II fisicos'!L55,0,($P$2-1)*12)","v":0.16935800000000001},{"$f":"OFFSET('II fisicos'!M55,0,($P$2-1)*12)","v":"-"},{"$f":"OFFSET('II fisicos'!N55,0,($P$2-1)*12)","v":"-"},{"$f":"OFFSET('II fisicos'!O55,0,($P$2-1)*12)","v":"-"},610.11741499999994]
[null,null,"Irún-Errondenia",{"$f":"OFFSET('II fisicos'!D56,0,($P$2-1)*12)","v":0.38220599999999999},{"$f":"OFFSET('II fisicos'!E56,0,($P$2-1)*12)","v":7.1494000000000002E-2},{"$f":"OFFSET('II fisicos'!F56,0,($P$2-1)*12)","v":0.14715600000000001},{"$f":"OFFSET('II fisicos'!G56,0,($P$2-1)*12)","v":0.17357300000000001},{"$f":"OFFSET('II fisicos'!H56,0,($P$2-1)*12)","v":0.192022},{"$f":"OFFSET('II fisicos'!I56,0,($P$2-1)*12)","v":0.25015899999999996},{"$f":"OFFSET('II fisicos'!J56,0,($P$2-1)*12)","v":4.9817E-2},{"$f":"OFFSET('II fisicos'!K56,0,($P$2-1)*12)","v":0.18132799999999999},{"$f":"OFFSET('II fisicos'!L56,0,($P$2-1)*12)","v":0.176706},{"$f":"OFFSET('II fisicos'!M56,0,($P$2-1)*12)","v":"-"},{"$f":"OFFSET('II fisicos'!N56,0,($P$2-1)*12)","v":"-"},{"$f":"OFFSET('II fisicos'!O56,0,($P$2-1)*12)","v":"-"},1.6244609999999999]
[null,null,"Santa Llogaia-Baixas",{"$f":"OFFSET('II fisicos'!D57,0,($P$2-1)*12)","v":194.76411300000001},{"$f":"OFFSET('II fisicos'!E57,0,($P$2-1)*12)","v":134.77005700000001},{"$f":"OFFSET('II fisicos'!F57,0,($P$2-1)*12)","v":31.829432000000001},{"$f":"OFFSET('II fisicos'!G57,0,($P$2-1)*12)","v":5.2385900000000003},{"$f":"OFFSET('II fisicos'!H57,0,($P$2-1)*12)","v":0.59639900000000001},{"$f":"OFFSET('II fisicos'!I57,0,($P$2-1)*12)","v":4.9186000000000001E-2},{"$f":"OFFSET('II fisicos'!J57,0,($P$2-1)*12)","v":4.3789999999999992E-3},{"$f":"OFFSET('II fisicos'!K57,0,($P$2-1)*12)","v":0},{"$f":"OFFSET('II fisicos'!L57,0,($P$2-1)*12)","v":1.0000000000000001E-5},{"$f":"OFFSET('II fisicos'!M57,0,($P$2-1)*12)","v":"-"},{"$f":"OFFSET('II fisicos'!N57,0,($P$2-1)*12)","v":"-"},{"$f":"OFFSET('II fisicos'!O57,0,($P$2-1)*12)","v":"-"},367.25216599999999]
[null,null,"Vic-Baixas",{"$f":"OFFSET('II fisicos'!D58,0,($P$2-1)*12)","v":90.251531},{"$f":"OFFSET('II fisicos'!E58,0,($P$2-1)*12)","v":63.319480000000006},{"$f":"OFFSET('II fisicos'!F58,0,($P$2-1)*12)","v":15.123700000000001},{"$f":"OFFSET('II fisicos'!G58,0,($P$2-1)*12)","v":2.6613370000000001},{"$f":"OFFSET('II fisicos'!H58,0,($P$2-1)*12)","v":0.10208},{"$f":"OFFSET('II fisicos'!I58,0,($P$2-1)*12)","v":0},{"$f":"OFFSET('II fisicos'!J58,0,($P$2-1)*12)","v":0},{"$f":"OFFSET('II fisicos'!K58,0,($P$2-1)*12)","v":0},{"$f":"OFFSET('II fisicos'!L58,0,($P$2-1)*12)","v":1.9999999999999999E-6},{"$f":"OFFSET('II fisicos'!M58,0,($P$2-1)*12)","v":"-"},{"$f":"OFFSET('II fisicos'!N58,0,($P$2-1)*12)","v":"-"},{"$f":"OFFSET('II fisicos'!O58,0,($P$2-1)*12)","v":"-"},171.45813000000001]
[null,null,"Total",{"$f":"OFFSET('II fisicos'!D59,0,($P$2-1)*12)","v":856.01094599999999},{"$f":"OFFSET('II fisicos'!E59,0,($P$2-1)*12)","v":490.59349600000002},{"$f":"OFFSET('II fisicos'!F59,0,($P$2-1)*12)","v":115.81290299999999},{"$f":"OFFSET('II fisicos'!G59,0,($P$2-1)*12)","v":35.824441000000007},{"$f":"OFFSET('II fisicos'!H59,0,($P$2-1)*12)","v":5.5707659999999999},{"$f":"OFFSET('II fisicos'!I59,0,($P$2-1)*12)","v":15.879737},{"$f":"OFFSET('II fisicos'!J59,0,($P$2-1)*12)","v":15.412354000000001},{"$f":"OFFSET('II fisicos'!K59,0,($P$2-1)*12)","v":1.6110580000000001},{"$f":"OFFSET('II fisicos'!L59,0,($P$2-1)*12)","v":9.6235319999999991},{"$f":"OFFSET('II fisicos'!M59,0,($P$2-1)*12)","v":"-"},{"$f":"OFFSET('II fisicos'!N59,0,($P$2-1)*12)","v":"-"},{"$f":"OFFSET('II fisicos'!O59,0,($P$2-1)*12)","v":"-"},1546.3392330000001]
[null,"Portugal","Aldeadávila-Pocinho 1",{"$f":"OFFSET('II fisicos'!D60,0,($P$2-1)*12)","v":27.7379},{"$f":"OFFSET('II fisicos'!E60,0,($P$2-1)*12)","v":8.6027000000000005},{"$f":"OFFSET('II fisicos'!F60,0,($P$2-1)*12)","v":15.5733},{"$f":"OFFSET('II fisicos'!G60,0,($P$2-1)*12)","v":23.297900000000002},{"$f":"OFFSET('II fisicos'!H60,0,($P$2-1)*12)","v":22.155999999999999},{"$f":"OFFSET('II fisicos'!I60,0,($P$2-1)*12)","v":11.9864},{"$f":"OFFSET('II fisicos'!J60,0,($P$2-1)*12)","v":10.1684},{"$f":"OFFSET('II fisicos'!K60,0,($P$2-1)*12)","v":7.5392999999999999},{"$f":"OFFSET('II fisicos'!L60,0,($P$2-1)*12)","v":16.5412},{"$f":"OFFSET('II fisicos'!M60,0,($P$2-1)*12)","v":"-"},{"$f":"OFFSET('II fisicos'!N60,0,($P$2-1)*12)","v":"-"},{"$f":"OFFSET('II fisicos'!O60,0,($P$2-1)*12)","v":"-"},143.60309999999998]
[null,null,"Aldeadávila-Pocinho 2",{"$f":"OFFSET('II fisicos'!D61,0,($P$2-1)*12)","v":27.520099999999999},{"$f":"OFFSET('II fisicos'!E61,0,($P$2-1)*12)","v":8.5190999999999999},{"$f":"OFFSET('II fisicos'!F61,0,($P$2-1)*12)","v":15.3597},{"$f":"OFFSET('II fisicos'!G61,0,($P$2-1)*12)","v":22.960900000000002},{"$f":"OFFSET('II fisicos'!H61,0,($P$2-1)*12)","v":21.919900000000002},{"$f":"OFFSET('II fisicos'!I61,0,($P$2-1)*12)","v":11.9046},{"$f":"OFFSET('II fisicos'!J61,0,($P$2-1)*12)","v":10.1313},{"$f":"OFFSET('II fisicos'!K61,0,($P$2-1)*12)","v":7.4756},{"$f":"OFFSET('II fisicos'!L61,0,($P$2-1)*12)","v":16.386700000000001},{"$f":"OFFSET('II fisicos'!M61,0,($P$2-1)*12)","v":"-"},{"$f":"OFFSET('II fisicos'!N61,0,($P$2-1)*12)","v":"-"},{"$f":"OFFSET('II fisicos'!O61,0,($P$2-1)*12)","v":"-"},142.17789999999999]
[null,null,"Aldeadávila-Lagoaça",{"$f":"OFFSET('II fisicos'!D62,0,($P$2-1)*12)","v":56.020679999999999},{"$f":"OFFSET('II fisicos'!E62,0,($P$2-1)*12)","v":15.85116},{"$f":"OFFSET('II fisicos'!F62,0,($P$2-1)*12)","v":48.91536},{"$f":"OFFSET('II fisicos'!G62,0,($P$2-1)*12)","v":100.69617600000001},{"$f":"OFFSET('II fisicos'!H62,0,($P$2-1)*12)","v":44.511552000000002},{"$f":"OFFSET('II fisicos'!I62,0,($P$2-1)*12)","v":16.5078},{"$f":"OFFSET('II fisicos'!J62,0,($P$2-1)*12)","v":16.323983999999999},{"$f":"OFFSET('II fisicos'!K62,0,($P$2-1)*12)","v":15.158016},{"$f":"OFFSET('II fisicos'!L62,0,($P$2-1)*12)","v":35.794440000000002},{"$f":"OFFSET('II fisicos'!M62,0,($P$2-1)*12)","v":"-"},{"$f":"OFFSET('II fisicos'!N62,0,($P$2-1)*12)","v":"-"},{"$f":"OFFSET('II fisicos'!O62,0,($P$2-1)*12)","v":"-"},349.77916799999997]
[null,null,"Badajoz-Alcaçovas",{"$f":"OFFSET('II fisicos'!D63,0,($P$2-1)*12)","v":5.5200000000000008E-4},{"$f":"OFFSET('II fisicos'!E63,0,($P$2-1)*12)","v":7.4600000000000003E-4},{"$f":"OFFSET('II fisicos'!F63,0,($P$2-1)*12)","v":4.3599999999999997E-4},{"$f":"OFFSET('II fisicos'!G63,0,($P$2-1)*12)","v":3.0899999999999998E-4},{"$f":"OFFSET('II fisicos'!H63,0,($P$2-1)*12)","v":2.9700000000000001E-4},{"$f":"OFFSET('II fisicos'!I63,0,($P$2-1)*12)","v":1.6900000000000002E-4},{"$f":"OFFSET('II fisicos'!J63,0,($P$2-1)*12)","v":2.1599999999999999E-4},{"$f":"OFFSET('II fisicos'!K63,0,($P$2-1)*12)","v":1.3000000000000002E-4},{"$f":"OFFSET('II fisicos'!L63,0,($P$2-1)*12)","v":1.5300000000000001E-4},{"$f":"OFFSET('II fisicos'!M63,0,($P$2-1)*12)","v":"-"},{"$f":"OFFSET('II fisicos'!N63,0,($P$2-1)*12)","v":"-"},{"$f":"OFFSET('II fisicos'!O63,0,($P$2-1)*12)","v":"-"},3.0079999999999998E-3]
[null,null,"Balboa-Alqueva",{"$f":"OFFSET('II fisicos'!D64,0,($P$2-1)*12)","v":0},{"$f":"OFFSET('II fisicos'!E64,0,($P$2-1)*12)","v":0},{"$f":"OFFSET('II fisicos'!F64,0,($P$2-1)*12)","v":0},{"$f":"OFFSET('II fisicos'!G64,0,($P$2-1)*12)","v":0},{"$f":"OFFSET('II fisicos'!H64,0,($P$2-1)*12)","v":0},{"$f":"OFFSET('II fisicos'!I64,0,($P$2-1)*12)","v":0},{"$f":"OFFSET('II fisicos'!J64,0,($P$2-1)*12)","v":0},{"$f":"OFFSET('II fisicos'!K64,0,($P$2-1)*12)","v":0},{"$f":"OFFSET('II fisicos'!L64,0,($P$2-1)*12)","v":0},{"$f":"OFFSET('II fisicos'!M64,0,($P$2-1)*12)","v":"-"},{"$f":"OFFSET('II fisicos'!N64,0,($P$2-1)*12)","v":"-"},{"$f":"OFFSET('II fisicos'!O64,0,($P$2-1)*12)","v":"-"},{"$f":"SUM(D24:O24)","v":0}]
[null,null,"Brovales-Alqueva",{"$f":"OFFSET('II fisicos'!D65,0,($P$2-1)*12)","v":15.310615},{"$f":"OFFSET('II fisicos'!E65,0,($P$2-1)*12)","v":13.188651999999999},{"$f":"OFFSET('II fisicos'!F65,0,($P$2-1)*12)","v":21.141722000000001},{"$f":"OFFSET('II fisicos'!G65,0,($P$2-1)*12)","v":32.871292000000004},{"$f":"OFFSET('II fisicos'!H65,0,($P$2-1)*12)","v":13.767798000000001},{"$f":"OFFSET('II fisicos'!I65,0,($P$2-1)*12)","v":0.97953699999999999},{"$f":"OFFSET('II fisicos'!J65,0,($P$2-1)*12)","v":3.26742},{"$f":"OFFSET('II fisicos'!K65,0,($P$2-1)*12)","v":7.6849610000000004},{"$f":"OFFSET('II fisicos'!L65,0,($P$2-1)*12)","v":21.207592000000002},{"$f":"OFFSET('II fisicos'!M65,0,($P$2-1)*12)","v":"-"},{"$f":"OFFSET('II fisicos'!N65,0,($P$2-1)*12)","v":"-"},{"$f":"OFFSET('II fisicos'!O65,0,($P$2-1)*12)","v":"-"},129.419589]
[null,null,"Cartelle-Lindoso",{"$f":"OFFSET('II fisicos'!D66,0,($P$2-1)*12)","v":408.19929999999999},{"$f":"OFFSET('II fisicos'!E66,0,($P$2-1)*12)","v":210.8485},{"$f":"OFFSET('II fisicos'!F66,0,($P$2-1)*12)","v":207.4255},{"$f":"OFFSET('II fisicos'!G66,0,($P$2-1)*12)","v":184.17610000000002},{"$f":"OFFSET('II fisicos'!H66,0,($P$2-1)*12)","v":281.60629999999998},{"$f":"OFFSET('II fisicos'!I66,0,($P$2-1)*12)","v":329.8777},{"$f":"OFFSET('II fisicos'!J66,0,($P$2-1)*12)","v":291.93990000000002},{"$f":"OFFSET('II fisicos'!K66,0,($P$2-1)*12)","v":105.1431},{"$f":"OFFSET('II fisicos'!L66,0,($P$2-1)*12)","v":233.9941},{"$f":"OFFSET('II fisicos'!M66,0,($P$2-1)*12)","v":"-"},{"$f":"OFFSET('II fisicos'!N66,0,($P$2-1)*12)","v":"-"},{"$f":"OFFSET('II fisicos'!O66,0,($P$2-1)*12)","v":"-"},2253.2105000000001]
[null,null,"Cedillo-Falaguerira",{"$f":"OFFSET('II fisicos'!D67,0,($P$2-1)*12)","v":12.1561},{"$f":"OFFSET('II fisicos'!E67,0,($P$2-1)*12)","v":5.2021999999999995},{"$f":"OFFSET('II fisicos'!F67,0,($P$2-1)*12)","v":28.833599999999997},{"$f":"OFFSET('II fisicos'!G67,0,($P$2-1)*12)","v":67.023200000000003},{"$f":"OFFSET('II fisicos'!H67,0,($P$2-1)*12)","v":25.828700000000001},{"$f":"OFFSET('II fisicos'!I67,0,($P$2-1)*12)","v":0},{"$f":"OFFSET('II fisicos'!J67,0,($P$2-1)*12)","v":0},{"$f":"OFFSET('II fisicos'!K67,0,($P$2-1)*12)","v":0},{"$f":"OFFSET('II fisicos'!L67,0,($P$2-1)*12)","v":6.8301000000000007},{"$f":"OFFSET('II fisicos'!M67,0,($P$2-1)*12)","v":"-"},{"$f":"OFFSET('II fisicos'!N67,0,($P$2-1)*12)","v":"-"},{"$f":"OFFSET('II fisicos'!O67,0,($P$2-1)*12)","v":"-"},145.87389999999999]
[null,null,"Conchas-Lindoso",{"$f":"OFFSET('II fisicos'!D68,0,($P$2-1)*12)","v":0},{"$f":"OFFSET('II fisicos'!E68,0,($P$2-1)*12)","v":0},{"$f":"OFFSET('II fisicos'!F68,0,($P$2-1)*12)","v":0},{"$f":"OFFSET('II fisicos'!G68,0,($P$2-1)*12)","v":0},{"$f":"OFFSET('II fisicos'!H68,0,($P$2-1)*12)","v":0},{"$f":"OFFSET('II fisicos'!I68,0,($P$2-1)*12)","v":0},{"$f":"OFFSET('II fisicos'!J68,0,($P$2-1)*12)","v":0},{"$f":"OFFSET('II fisicos'!K68,0,($P$2-1)*12)","v":0},{"$f":"OFFSET('II fisicos'!L68,0,($P$2-1)*12)","v":0},{"$f":"OFFSET('II fisicos'!M68,0,($P$2-1)*12)","v":"-"},{"$f":"OFFSET('II fisicos'!N68,0,($P$2-1)*12)","v":"-"},{"$f":"OFFSET('II fisicos'!O68,0,($P$2-1)*12)","v":"-"},{"$f":"SUM(D28:O28)","v":0}]
[null,null,"Encinasola-Barrancos",{"$f":"OFFSET('II fisicos'!D69,0,($P$2-1)*12)","v":0},{"$f":"OFFSET('II fisicos'!E69,0,($P$2-1)*12)","v":0},{"$f":"OFFSET('II fisicos'!F69,0,($P$2-1)*12)","v":0},{"$f":"OFFSET('II fisicos'!G69,0,($P$2-1)*12)","v":0},{"$f":"OFFSET('II fisicos'!H69,0,($P$2-1)*12)","v":0},{"$f":"OFFSET('II fisicos'!I69,0,($P$2-1)*12)","v":0},{"$f":"OFFSET('II fisicos'!J69,0,($P$2-1)*12)","v":0},{"$f":"OFFSET('II fisicos'!K69,0,($P$2-1)*12)","v":0},{"$f":"OFFSET('II fisicos'!L69,0,($P$2-1)*12)","v":0},{"$f":"OFFSET('II fisicos'!M69,0,($P$2-1)*12)","v":"-"},{"$f":"OFFSET('II fisicos'!N69,0,($P$2-1)*12)","v":"-"},{"$f":"OFFSET('II fisicos'!O69,0,($P$2-1)*12)","v":"-"},0]
[null,null,"Puebla de Guzmán-Tavira",{"$f":"OFFSET('II fisicos'!D70,0,($P$2-1)*12)","v":0.25119800000000003},{"$f":"OFFSET('II fisicos'!E70,0,($P$2-1)*12)","v":1.621864},{"$f":"OFFSET('II fisicos'!F70,0,($P$2-1)*12)","v":2.76431},{"$f":"OFFSET('II fisicos'!G70,0,($P$2-1)*12)","v":5.5565530000000001},{"$f":"OFFSET('II fisicos'!H70,0,($P$2-1)*12)","v":3.5266599999999997},{"$f":"OFFSET('II fisicos'!I70,0,($P$2-1)*12)","v":0.15645400000000001},{"$f":"OFFSET('II fisicos'!J70,0,($P$2-1)*12)","v":2.1413180000000001},{"$f":"OFFSET('II fisicos'!K70,0,($P$2-1)*12)","v":1.2183269999999999},{"$f":"OFFSET('II fisicos'!L70,0,($P$2-1)*12)","v":5.3556930000000005},{"$f":"OFFSET('II fisicos'!M70,0,($P$2-1)*12)","v":"-"},{"$f":"OFFSET('II fisicos'!N70,0,($P$2-1)*12)","v":"-"},{"$f":"OFFSET('II fisicos'!O70,0,($P$2-1)*12)","v":"-"},22.592376999999999]
[null,null,"Rosal Frontera-V. Ficalho",{"$f":"OFFSET('II fisicos'!D71,0,($P$2-1)*12)","v":0},{"$f":"OFFSET('II fisicos'!E71,0,($P$2-1)*12)","v":0},{"$f":"OFFSET('II fisicos'!F71,0,($P$2-1)*12)","v":0},{"$f":"OFFSET('II fisicos'!G71,0,($P$2-1)*12)","v":0},{"$f":"OFFSET('II fisicos'!H71,0,($P$2-1)*12)","v":0},{"$f":"OFFSET('II fisicos'!I71,0,($P$2-1)*12)","v":0},{"$f":"OFFSET('II fisicos'!J71,0,($P$2-1)*12)","v":0},{"$f":"OFFSET('II fisicos'!K71,0,($P$2-1)*12)","v":0},{"$f":"OFFSET('II fisicos'!L71,0,($P$2-1)*12)","v":0},{"$f":"OFFSET('II fisicos'!M71,0,($P$2-1)*12)","v":"-"},{"$f":"OFFSET('II fisicos'!N71,0,($P$2-1)*12)","v":"-"},{"$f":"OFFSET('II fisicos'!O71,0,($P$2-1)*12)","v":"-"},{"$f":"SUM(D31:O31)","v":0}]
[null,null,"Saucelle-Pocinho",{"$f":"OFFSET('II fisicos'!D72,0,($P$2-1)*12)","v":43.3523},{"$f":"OFFSET('II fisicos'!E72,0,($P$2-1)*12)","v":13.156600000000001},{"$f":"OFFSET('II fisicos'!F72,0,($P$2-1)*12)","v":36.163199999999996},{"$f":"OFFSET('II fisicos'!G72,0,($P$2-1)*12)","v":30.188299999999998},{"$f":"OFFSET('II fisicos'!H72,0,($P$2-1)*12)","v":28.215299999999999},{"$f":"OFFSET('II fisicos'!I72,0,($P$2-1)*12)","v":17.347200000000001},{"$f":"OFFSET('II fisicos'!J72,0,($P$2-1)*12)","v":9.789200000000001},{"$f":"OFFSET('II fisicos'!K72,0,($P$2-1)*12)","v":7.3286000000000007},{"$f":"OFFSET('II fisicos'!L72,0,($P$2-1)*12)","v":15.7563},{"$f":"OFFSET('II fisicos'!M72,0,($P$2-1)*12)","v":"-"},{"$f":"OFFSET('II fisicos'!N72,0,($P$2-1)*12)","v":"-"},{"$f":"OFFSET('II fisicos'!O72,0,($P$2-1)*12)","v":"-"},201.29699999999997]
[null,null,"Santa María-Elvás",{"$f":"OFFSET('II fisicos'!D73,0,($P$2-1)*12)","v":0},{"$f":"OFFSET('II fisicos'!E73,0,($P$2-1)*12)","v":0},{"$f":"OFFSET('II fisicos'!F73,0,($P$2-1)*12)","v":0},{"$f":"OFFSET('II fisicos'!G73,0,($P$2-1)*12)","v":0},{"$f":"OFFSET('II fisicos'!H73,0,($P$2-1)*12)","v":0},{"$f":"OFFSET('II fisicos'!I73,0,($P$2-1)*12)","v":0},{"$f":"OFFSET('II fisicos'!J73,0,($P$2-1)*12)","v":0},{"$f":"OFFSET('II fisicos'!K73,0,($P$2-1)*12)","v":0},{"$f":"OFFSET('II fisicos'!L73,0,($P$2-1)*12)","v":0},{"$f":"OFFSET('II fisicos'!M73,0,($P$2-1)*12)","v":"-"},{"$f":"OFFSET('II fisicos'!N73,0,($P$2-1)*12)","v":"-"},{"$f":"OFFSET('II fisicos'!O73,0,($P$2-1)*12)","v":"-"},{"$f":"SUM(D33:O33)","v":0}]
[null,null,"Total",{"$f":"OFFSET('II fisicos'!D74,0,($P$2-1)*12)","v":590.54874500000005},{"$f":"OFFSET('II fisicos'!E74,0,($P$2-1)*12)","v":276.99152200000003},{"$f":"OFFSET('II fisicos'!F74,0,($P$2-1)*12)","v":376.17712800000004},{"$f":"OFFSET('II fisicos'!G74,0,($P$2-1)*12)","v":466.77073000000007},{"$f":"OFFSET('II fisicos'!H74,0,($P$2-1)*12)","v":441.53250700000001},{"$f":"OFFSET('II fisicos'!I74,0,($P$2-1)*12)","v":388.75986},{"$f":"OFFSET('II fisicos'!J74,0,($P$2-1)*12)","v":343.76173800000004},{"$f":"OFFSET('II fisicos'!K74,0,($P$2-1)*12)","v":151.548034},{"$f":"OFFSET('II fisicos'!L74,0,($P$2-1)*12)","v":351.86627799999997},{"$f":"OFFSET('II fisicos'!M74,0,($P$2-1)*12)","v":"-"},{"$f":"OFFSET('II fisicos'!N74,0,($P$2-1)*12)","v":"-"},{"$f":"OFFSET('II fisicos'!O74,0,($P$2-1)*12)","v":"-"},3387.9565420000004]
[null,"Marruecos","Puerto de la Cruz-Mellousa",{"$f":"OFFSET('II fisicos'!D75,0,($P$2-1)*12)","v":400.9699},{"$f":"OFFSET('II fisicos'!E75,0,($P$2-1)*12)","v":479.93290000000002},{"$f":"OFFSET('II fisicos'!F75,0,($P$2-1)*12)","v":532.85490000000004},{"$f":"OFFSET('II fisicos'!G75,0,($P$2-1)*12)","v":537.45799999999997},{"$f":"OFFSET('II fisicos'!H75,0,($P$2-1)*12)","v":569.404},{"$f":"OFFSET('II fisicos'!I75,0,($P$2-1)*12)","v":533.28599999999994},{"$f":"OFFSET('II fisicos'!J75,0,($P$2-1)*12)","v":595.55460000000005},{"$f":"OFFSET('II fisicos'!K75,0,($P$2-1)*12)","v":590.20669999999996},{"$f":"OFFSET('II fisicos'!L75,0,($P$2-1)*12)","v":484.04480000000001},{"$f":"OFFSET('II fisicos'!M75,0,($P$2-1)*12)","v":"-"},{"$f":"OFFSET('II fisicos'!N75,0,($P$2-1)*12)","v":"-"},{"$f":"OFFSET('II fisicos'!O75,0,($P$2-1)*12)","v":"-"},4723.7118]
[null,null,"Total",{"$f":"OFFSET('II fisicos'!D76,0,($P$2-1)*12)","v":400.9699},{"$f":"OFFSET('II fisicos'!E76,0,($P$2-1)*12)","v":479.93290000000002},{"$f":"OFFSET('II fisicos'!F76,0,($P$2-1)*12)","v":532.85490000000004},{"$f":"OFFSET('II fisicos'!G76,0,($P$2-1)*12)","v":537.45799999999997},{"$f":"OFFSET('II fisicos'!H76,0,($P$2-1)*12)","v":569.404},{"$f":"OFFSET('II fisicos'!I76,0,($P$2-1)*12)","v":533.28599999999994},{"$f":"OFFSET('II fisicos'!J76,0,($P$2-1)*12)","v":595.55460000000005},{"$f":"OFFSET('II fisicos'!K76,0,($P$2-1)*12)","v":590.20669999999996},{"$f":"OFFSET('II fisicos'!L76,0,($P$2-1)*12)","v":484.04480000000001},{"$f":"OFFSET('II fisicos'!M76,0,($P$2-1)*12)","v":"-"},{"$f":"OFFSET('II fisicos'!N76,0,($P$2-1)*12)","v":"-"},{"$f":"OFFSET('II fisicos'!O76,0,($P$2-1)*12)","v":"-"},4723.7118]
[null,"Salidas",null,{"$f":"OFFSET('II fisicos'!D77,0,($P$2-1)*12)","v":1878.7552310000001},{"$f":"OFFSET('II fisicos'!E77,0,($P$2-1)*12)","v":1272.3876380000002},{"$f":"OFFSET('II fisicos'!F77,0,($P$2-1)*12)","v":1042.524261},{"$f":"OFFSET('II fisicos'!G77,0,($P$2-1)*12)","v":1052.625131},{"$f":"OFFSET('II fisicos'!H77,0,($P$2-1)*12)","v":1030.7104530000001},{"$f":"OFFSET('II fisicos'!I77,0,($P$2-1)*12)","v":949.70557699999995},{"$f":"OFFSET('II fisicos'!J77,0,($P$2-1)*12)","v":955.14653200000009},{"$f":"OFFSET('II fisicos'!K77,0,($P$2-1)*12)","v":779.95418200000006},{"$f":"OFFSET('II fisicos'!L77,0,($P$2-1)*12)","v":855.25882999999999},{"$f":"OFFSET('II fisicos'!M77,0,($P$2-1)*12)","v":"-"},{"$f":"OFFSET('II fisicos'!N77,0,($P$2-1)*12)","v":"-"},{"$f":"OFFSET('II fisicos'!O77,0,($P$2-1)*12)","v":"-"},9817.0678349999998]
[null,{"$f":"IF(MONTH(FACT)=1,CONCATENATE(\"No hay datos de medida disponible para el mes de \",TEXT(FACT-30,\"mmmm\"),\" de \",YEAR(FACT)-1,\".\"),CONCATENATE(\"No hay datos de medida disponible para el mes de \",TEXT(FACT-30,\"mmmm\"),\" de \",YEAR(FACT),\".\"))","v":"No hay datos de medida disponible para el mes de octubre de 2017."}]

{"sheet":"Salidas por linea año","index":6,"n_rows":38,"n_cols":13,"rows_kept":38,"cut":false,"hidden":false,"merged":[[9,1,10,1],[11,1,18,1],[19,1,33,1],[34,1,35,1],[37,1,37,12]]}
[null,null,null,null,null,null,null,null,null,null,null,null,2]
[null,null,null,null,null,null,null,null,null,null,null,null,3]
[]
[null,null,null,null,null,null,null,null,null,null,"Concepto"]
[null,null,null,null,null,null,null,null,null,null,"Horizonte temporal"]
[null,null,null,null,null,null,null,null,null,null,"Periodo"]
[]
[null,null,null,{"$f":"OFFSET('II fisicos'!D109,0,($M$2-1)*10)","v":2010},{"$f":"OFFSET('II fisicos'!E109,0,($M$2-1)*10)","v":2011},{"$f":"OFFSET('II fisicos'!F109,0,($M$2-1)*10)","v":2012},{"$f":"OFFSET('II fisicos'!G109,0,($M$2-1)*10)","v":2013},{"$f":"OFFSET('II fisicos'!H109,0,($M$2-1)*10)","v":2014},{"$f":"OFFSET('II fisicos'!I109,0,($M$2-1)*10)","v":2015},{"$f":"OFFSET('II fisicos'!J109,0,($M$2-1)*10)","v":2016},{"$f":"OFFSET('II fisicos'!K109,0,($M$2-1)*10)","v":2017},{"$f":"OFFSET('II fisicos'!L109,0,($M$2-1)*10)","v":2018},{"$f":"OFFSET('II fisicos'!M109,0,($M$2-1)*10)","v":2019}]
[]
[null,"Andorra","Adrall-Margineda",{"$f":"OFFSET('II fisicos'!D157,0,($M$2-1)*10)","v":264.49448000000001},{"$f":"OFFSET('II fisicos'!E157,0,($M$2-1)*10)","v":305.7133},{"$f":"OFFSET('II fisicos'!F157,0,($M$2-1)*10)","v":286.21885999999995},{"$f":"OFFSET('II fisicos'!G157,0,($M$2-1)*10)","v":287.39902000000001},{"$f":"OFFSET('II fisicos'!H157,0,($M$2-1)*10)","v":234.51143999999999},{"$f":"OFFSET('II fisicos'!I157,0,($M$2-1)*10)","v":264.05766},{"$f":"OFFSET('II fisicos'!J157,0,($M$2-1)*10)","v":278.28440999999998},{"$f":"OFFSET('II fisicos'!K157,0,($M$2-1)*10)","v":159.06026},{"$f":"OFFSET('II fisicos'!L157,0,($M$2-1)*10)","v":"-"},{"$f":"OFFSET('II fisicos'!M157,0,($M$2-1)*10)","v":"-"}]
[null,null,"Total",{"$f":"OFFSET('II fisicos'!D158,0,($M$2-1)*10)","v":264.49448000000001},{"$f":"OFFSET('II fisicos'!E158,0,($M$2-1)*10)","v":305.7133},{"$f":"OFFSET('II fisicos'!F158,0,($M$2-1)*10)","v":286.21885999999995},{"$f":"OFFSET('II fisicos'!G158,0,($M$2-1)*10)","v":287.39902000000001},{"$f":"OFFSET('II fisicos'!H158,0,($M$2-1)*10)","v":234.51143999999999},{"$f":"OFFSET('II fisicos'!I158,0,($M$2-1)*10)","v":264.05766},{"$f":"OFFSET('II fisicos'!J158,0,($M$2-1)*10)","v":278.28440999999998},{"$f":"OFFSET('II fisicos'!K158,0,($M$2-1)*10)","v":159.06026},{"$f":"OFFSET('II fisicos'!L158,0,($M$2-1)*10)","v":"-"},{"$f":"OFFSET('II fisicos'!M158,0,($M$2-1)*10)","v":"-"}]
[null,"Francia","Arkale-Argia",{"$f":"OFFSET('II fisicos'!D159,0,($M$2-1)*10)","v":829.30404299999975},{"$f":"OFFSET('II fisicos'!E159,0,($M$2-1)*10)","v":607.04461199999992},{"$f":"OFFSET('II fisicos'!F159,0,($M$2-1)*10)","v":790.03689899999995},{"$f":"OFFSET('II fisicos'!G159,0,($M$2-1)*10)","v":663.96538199999998},{"$f":"OFFSET('II fisicos'!H159,0,($M$2-1)*10)","v":509.58662000000004},{"$f":"OFFSET('II fisicos'!I159,0,($M$2-1)*10)","v":358.74828500000001},{"$f":"OFFSET('II fisicos'!J159,0,($M$2-1)*10)","v":627.116895},{"$f":"OFFSET('II fisicos'!K159,0,($M$2-1)*10)","v":216.64413500000001},{"$f":"OFFSET('II fisicos'!L159,0,($M$2-1)*10)","v":"-"},{"$f":"OFFSET('II fisicos'!M159,0,($M$2-1)*10)","v":"-"}]
[null,null,"Benós-Lac D'oo",{"$f":"OFFSET('II fisicos'!D160,0,($M$2-1)*10)","v":4.535E-3},{"$f":"OFFSET('II fisicos'!E160,0,($M$2-1)*10)","v":1.0636129999999999},{"$f":"OFFSET('II fisicos'!F160,0,($M$2-1)*10)","v":0.21503900000000001},{"$f":"OFFSET('II fisicos'!G160,0,($M$2-1)*10)","v":3.188625},{"$f":"OFFSET('II fisicos'!H160,0,($M$2-1)*10)","v":1.0909940000000002},{"$f":"OFFSET('II fisicos'!I160,0,($M$2-1)*10)","v":3.8580000000000003E-3},{"$f":"OFFSET('II fisicos'!J160,0,($M$2-1)*10)","v":5.4139E-2},{"$f":"OFFSET('II fisicos'!K160,0,($M$2-1)*10)","v":1.4537E-2},{"$f":"OFFSET('II fisicos'!L160,0,($M$2-1)*10)","v":"-"},{"$f":"OFFSET('II fisicos'!M160,0,($M$2-1)*10)","v":"-"}]
[null,null,"Biescas-Pragneres",{"$f":"OFFSET('II fisicos'!D161,0,($M$2-1)*10)","v":720.93306500000006},{"$f":"OFFSET('II fisicos'!E161,0,($M$2-1)*10)","v":497.12103200000001},{"$f":"OFFSET('II fisicos'!F161,0,($M$2-1)*10)","v":517.63712899999996},{"$f":"OFFSET('II fisicos'!G161,0,($M$2-1)*10)","v":517.35850400000004},{"$f":"OFFSET('II fisicos'!H161,0,($M$2-1)*10)","v":405.25283399999995},{"$f":"OFFSET('II fisicos'!I161,0,($M$2-1)*10)","v":321.99725899999999},{"$f":"OFFSET('II fisicos'!J161,0,($M$2-1)*10)","v":331.74996099999993},{"$f":"OFFSET('II fisicos'!K161,0,($M$2-1)*10)","v":179.22838899999999},{"$f":"OFFSET('II fisicos'!L161,0,($M$2-1)*10)","v":"-"},{"$f":"OFFSET('II fisicos'!M161,0,($M$2-1)*10)","v":"-"}]
[null,null,"Hernani-Argia",{"$f":"OFFSET('II fisicos'!D162,0,($M$2-1)*10)","v":1154.4839649999999},{"$f":"OFFSET('II fisicos'!E162,0,($M$2-1)*10)","v":891.98998200000005},{"$f":"OFFSET('II fisicos'!F162,0,($M$2-1)*10)","v":1260.0689640000001},{"$f":"OFFSET('II fisicos'!G162,0,($M$2-1)*10)","v":1337.6890310000001},{"$f":"OFFSET('II fisicos'!H162,0,($M$2-1)*10)","v":1056.9283869999999},{"$f":"OFFSET('II fisicos'!I162,0,($M$2-1)*10)","v":721.46638999999982},{"$f":"OFFSET('II fisicos'!J162,0,($M$2-1)*10)","v":1793.5601690000001},{"$f":"OFFSET('II fisicos'!K162,0,($M$2-1)*10)","v":610.11741499999994},{"$f":"OFFSET('II fisicos'!L162,0,($M$2-1)*10)","v":"-"},{"$f":"OFFSET('II fisicos'!M162,0,($M$2-1)*10)","v":"-"}]
[null,null,"Irún-Errondenia",{"$f":"OFFSET('II fisicos'!D163,0,($M$2-1)*10)","v":1.7882180000000001},{"$f":"OFFSET('II fisicos'!E163,0,($M$2-1)*10)","v":1.9825429999999999},{"$f":"OFFSET('II fisicos'!F163,0,($M$2-1)*10)","v":1.6672779999999998},{"$f":"OFFSET('II fisicos'!G163,0,($M$2-1)*10)","v":1.588241},{"$f":"OFFSET('II fisicos'!H163,0,($M$2-1)*10)","v":1.3462160000000003},{"$f":"OFFSET('II fisicos'!I163,0,($M$2-1)*10)","v":1.6052370000000002},{"$f":"OFFSET('II fisicos'!J163,0,($M$2-1)*10)","v":1.4454249999999997},{"$f":"OFFSET('II fisicos'!K163,0,($M$2-1)*10)","v":1.6244609999999999},{"$f":"OFFSET('II fisicos'!L163,0,($M$2-1)*10)","v":"-"},{"$f":"OFFSET('II fisicos'!M163,0,($M$2-1)*10)","v":"-"}]
[null,null,"Santa Llogaia-Baixas",{"$f":"OFFSET('II fisicos'!D164,0,($M$2-1)*10)","v":0},{"$f":"OFFSET('II fisicos'!E164,0,($M$2-1)*10)","v":0},{"$f":"OFFSET('II fisicos'!F164,0,($M$2-1)*10)","v":0},{"$f":"OFFSET('II fisicos'!G164,0,($M$2-1)*10)","v":0},{"$f":"OFFSET('II fisicos'!H164,0,($M$2-1)*10)","v":0},{"$f":"OFFSET('II fisicos'!I164,0,($M$2-1)*10)","v":120.346041},{"$f":"OFFSET('II fisicos'!J164,0,($M$2-1)*10)","v":1064.7575390000002},{"$f":"OFFSET('II fisicos'!K164,0,($M$2-1)*10)","v":367.25216599999999},{"$f":"OFFSET('II fisicos'!L164,0,($M$2-1)*10)","v":"-"},{"$f":"OFFSET('II fisicos'!M164,0,($M$2-1)*10)","v":"-"}]
[null,null,"Vic-Baixas",{"$f":"OFFSET('II fisicos'!D165,0,($M$2-1)*10)","v":807.67985699999997},{"$f":"OFFSET('II fisicos'!E165,0,($M$2-1)*10)","v":463.39038400000004},{"$f":"OFFSET('II fisicos'!F165,0,($M$2-1)*10)","v":458.10353400000002},{"$f":"OFFSET('II fisicos'!G165,0,($M$2-1)*10)","v":647.41865299999995},{"$f":"OFFSET('II fisicos'!H165,0,($M$2-1)*10)","v":421.060337},{"$f":"OFFSET('II fisicos'!I165,0,($M$2-1)*10)","v":282.50819500000006},{"$f":"OFFSET('II fisicos'!J165,0,($M$2-1)*10)","v":515.13820599999997},{"$f":"OFFSET('II fisicos'!K165,0,($M$2-1)*10)","v":171.45813000000001},{"$f":"OFFSET('II fisicos'!L165,0,($M$2-1)*10)","v":"-"},{"$f":"OFFSET('II fisicos'!M165,0,($M$2-1)*10)","v":"-"}]
[null,null,"Total",{"$f":"OFFSET('II fisicos'!D166,0,($M$2-1)*10)","v":3514.1936829999995},{"$f":"OFFSET('II fisicos'!E166,0,($M$2-1)*10)","v":2462.5921659999999},{"$f":"OFFSET('II fisicos'!F166,0,($M$2-1)*10)","v":3027.7288430000003},{"$f":"OFFSET('II fisicos'!G166,0,($M$2-1)*10)","v":3171.2084360000003},{"$f":"OFFSET('II fisicos'!H166,0,($M$2-1)*10)","v":2395.2653880000003},{"$f":"OFFSET('II fisicos'!I166,0,($M$2-1)*10)","v":1806.6752649999996},{"$f":"OFFSET('II fisicos'!J166,0,($M$2-1)*10)","v":4333.8223339999995},{"$f":"OFFSET('II fisicos'!K166,0,($M$2-1)*10)","v":1546.3392330000001},{"$f":"OFFSET('II fisicos'!L166,0,($M$2-1)*10)","v":"-"},{"$f":"OFFSET('II fisicos'!M166,0,($M$2-1)*10)","v":"-"}]
[null,"Portugal","Aldeadávila-Pocinho 1",{"$f":"OFFSET('II fisicos'!D167,0,($M$2-1)*10)","v":205.90839999999997},{"$f":"OFFSET('II fisicos'!E167,0,($M$2-1)*10)","v":447.52957999999995},{"$f":"OFFSET('II fisicos'!F167,0,($M$2-1)*10)","v":576.39660000000003},{"$f":"OFFSET('II fisicos'!G167,0,($M$2-1)*10)","v":360.9298},{"$f":"OFFSET('II fisicos'!H167,0,($M$2-1)*10)","v":373.68984999999992},{"$f":"OFFSET('II fisicos'!I167,0,($M$2-1)*10)","v":437.245},{"$f":"OFFSET('II fisicos'!J167,0,($M$2-1)*10)","v":192.99800000000002},{"$f":"OFFSET('II fisicos'!K167,0,($M$2-1)*10)","v":143.60309999999998},{"$f":"OFFSET('II fisicos'!L167,0,($M$2-1)*10)","v":"-"},{"$f":"OFFSET('II fisicos'!M167,0,($M$2-1)*10)","v":"-"}]
[null,null,"Aldeadávila-Pocinho 2",{"$f":"OFFSET('II fisicos'!D168,0,($M$2-1)*10)","v":175.36610000000002},{"$f":"OFFSET('II fisicos'!E168,0,($M$2-1)*10)","v":444.29554000000002},{"$f":"OFFSET('II fisicos'!F168,0,($M$2-1)*10)","v":568.16219999999998},{"$f":"OFFSET('II fisicos'!G168,0,($M$2-1)*10)","v":358.79880000000003},{"$f":"OFFSET('II fisicos'!H168,0,($M$2-1)*10)","v":356.86163000000005},{"$f":"OFFSET('II fisicos'!I168,0,($M$2-1)*10)","v":435.15430000000003},{"$f":"OFFSET('II fisicos'!J168,0,($M$2-1)*10)","v":126.89013},{"$f":"OFFSET('II fisicos'!K168,0,($M$2-1)*10)","v":142.17789999999999},{"$f":"OFFSET('II fisicos'!L168,0,($M$2-1)*10)","v":"-"},{"$f":"OFFSET('II fisicos'!M168,0,($M$2-1)*10)","v":"-"}]
[null,null,"Aldeadávila-Lagoaça",{"$f":"OFFSET('II fisicos'!D169,0,($M$2-1)*10)","v":0},{"$f":"OFFSET('II fisicos'!E169,0,($M$2-1)*10)","v":447.42237000000006},{"$f":"OFFSET('II fisicos'!F169,0,($M$2-1)*10)","v":1065.2713920000001},{"$f":"OFFSET('II fisicos'!G169,0,($M$2-1)*10)","v":473.057928},{"$f":"OFFSET('II fisicos'!H169,0,($M$2-1)*10)","v":408.91737599999999},{"$f":"OFFSET('II fisicos'!I169,0,($M$2-1)*10)","v":551.00930400000004},{"$f":"OFFSET('II fisicos'!J169,0,($M$2-1)*10)","v":281.71713599999998},{"$f":"OFFSET('II fisicos'!K169,0,($M$2-1)*10)","v":349.77916799999997},{"$f":"OFFSET('II fisicos'!L169,0,($M$2-1)*10)","v":"-"},{"$f":"OFFSET('II fisicos'!M169,0,($M$2-1)*10)","v":"-"}]
[null,null,"Badajoz-Alcaçovas",{"$f":"OFFSET('II fisicos'!D170,0,($M$2-1)*10)","v":156.760459},{"$f":"OFFSET('II fisicos'!E170,0,($M$2-1)*10)","v":58.516978999999992},{"$f":"OFFSET('II fisicos'!F170,0,($M$2-1)*10)","v":0.98446599999999984},{"$f":"OFFSET('II fisicos'!G170,0,($M$2-1)*10)","v":6.0610000000000004E-3},{"$f":"OFFSET('II fisicos'!H170,0,($M$2-1)*10)","v":7.1210000000000006E-3},{"$f":"OFFSET('II fisicos'!I170,0,($M$2-1)*10)","v":5.555E-3},{"$f":"OFFSET('II fisicos'!J170,0,($M$2-1)*10)","v":5.7680000000000006E-3},{"$f":"OFFSET('II fisicos'!K170,0,($M$2-1)*10)","v":3.0079999999999998E-3},{"$f":"OFFSET('II fisicos'!L170,0,($M$2-1)*10)","v":"-"},{"$f":"OFFSET('II fisicos'!M170,0,($M$2-1)*10)","v":"-"}]
[null,null,"Balboa-Alqueva",{"$f":"OFFSET('II fisicos'!D171,0,($M$2-1)*10)","v":0},{"$f":"OFFSET('II fisicos'!E171,0,($M$2-1)*10)","v":0},{"$f":"OFFSET('II fisicos'!F171,0,($M$2-1)*10)","v":0},{"$f":"OFFSET('II fisicos'!G171,0,($M$2-1)*10)","v":0},{"$f":"OFFSET('II fisicos'!H171,0,($M$2-1)*10)","v":0},{"$f":"OFFSET('II fisicos'!I171,0,($M$2-1)*10)","v":0},{"$f":"OFFSET('II fisicos'!J171,0,($M$2-1)*10)","v":0},{"$f":"OFFSET('II fisicos'!K171,0,($M$2-1)*10)","v":0},{"$f":"OFFSET('II fisicos'!L171,0,($M$2-1)*10)","v":"-"},{"$f":"OFFSET('II fisicos'!M171,0,($M$2-1)*10)","v":"-"}]
[null,null,"Brovales-Alqueva",{"$f":"OFFSET('II fisicos'!D172,0,($M$2-1)*10)","v":627.24507999999992},{"$f":"OFFSET('II fisicos'!E172,0,($M$2-1)*10)","v":345.74558799999994},{"$f":"OFFSET('II fisicos'!F172,0,($M$2-1)*10)","v":265.97265199999998},{"$f":"OFFSET('II fisicos'!G172,0,($M$2-1)*10)","v":270.60432800000001},{"$f":"OFFSET('II fisicos'!H172,0,($M$2-1)*10)","v":300.70739000000003},{"$f":"OFFSET('II fisicos'!I172,0,($M$2-1)*10)","v":333.25560899999994},{"$f":"OFFSET('II fisicos'!J172,0,($M$2-1)*10)","v":246.30507999999998},{"$f":"OFFSET('II fisicos'!K172,0,($M$2-1)*10)","v":129.419589},{"$f":"OFFSET('II fisicos'!L172,0,($M$2-1)*10)","v":"-"},{"$f":"OFFSET('II fisicos'!M172,0,($M$2-1)*10)","v":"-"}]
[null,null,"Cartelle-Lindoso",{"$f":"OFFSET('II fisicos'!D173,0,($M$2-1)*10)","v":2872.4453000000003},{"$f":"OFFSET('II fisicos'!E173,0,($M$2-1)*10)","v":3771.8710000000001},{"$f":"OFFSET('II fisicos'!F173,0,($M$2-1)*10)","v":7045.0932000000003},{"$f":"OFFSET('II fisicos'!G173,0,($M$2-1)*10)","v":5517.5859},{"$f":"OFFSET('II fisicos'!H173,0,($M$2-1)*10)","v":4690.5196000000005},{"$f":"OFFSET('II fisicos'!I173,0,($M$2-1)*10)","v":5350.2435000000005},{"$f":"OFFSET('II fisicos'!J173,0,($M$2-1)*10)","v":3221.5092999999997},{"$f":"OFFSET('II fisicos'!K173,0,($M$2-1)*10)","v":2253.2105000000001},{"$f":"OFFSET('II fisicos'!L173,0,($M$2-1)*10)","v":"-"},{"$f":"OFFSET('II fisicos'!M173,0,($M$2-1)*10)","v":"-"}]
[null,null,"Cedillo-Falaguerira",{"$f":"OFFSET('II fisicos'!D174,0,($M$2-1)*10)","v":1377.0800999999999},{"$f":"OFFSET('II fisicos'!E174,0,($M$2-1)*10)","v":733.0915},{"$f":"OFFSET('II fisicos'!F174,0,($M$2-1)*10)","v":580.20809999999994},{"$f":"OFFSET('II fisicos'!G174,0,($M$2-1)*10)","v":622.10419999999999},{"$f":"OFFSET('II fisicos'!H174,0,($M$2-1)*10)","v":572.01749999999993},{"$f":"OFFSET('II fisicos'!I174,0,($M$2-1)*10)","v":318.27370000000002},{"$f":"OFFSET('II fisicos'!J174,0,($M$2-1)*10)","v":200.55419999999998},{"$f":"OFFSET('II fisicos'!K174,0,($M$2-1)*10)","v":145.87389999999999},{"$f":"OFFSET('II fisicos'!L174,0,($M$2-1)*10)","v":"-"},{"$f":"OFFSET('II fisicos'!M174,0,($M$2-1)*10)","v":"-"}]
[null,null,"Conchas-Lindoso",{"$f":"OFFSET('II fisicos'!D175,0,($M$2-1)*10)","v":0},{"$f":"OFFSET('II fisicos'!E175,0,($M$2-1)*10)","v":0},{"$f":"OFFSET('II fisicos'!F175,0,($M$2-1)*10)","v":0},{"$f":"OFFSET('II fisicos'!G175,0,($M$2-1)*10)","v":0},{"$f":"OFFSET('II fisicos'!H175,0,($M$2-1)*10)","v":0},{"$f":"OFFSET('II fisicos'!I175,0,($M$2-1)*10)","v":0},{"$f":"OFFSET('II fisicos'!J175,0,($M$2-1)*10)","v":0},{"$f":"OFFSET('II fisicos'!K175,0,($M$2-1)*10)","v":0},{"$f":"OFFSET('II fisicos'!L175,0,($M$2-1)*10)","v":"-"},{"$f":"OFFSET('II fisicos'!M175,0,($M$2-1)*10)","v":"-"}]
[null,null,"Encinasola-Barrancos",{"$f":"OFFSET('II fisicos'!D176,0,($M$2-1)*10)","v":0},{"$f":"OFFSET('II fisicos'!E176,0,($M$2-1)*10)","v":0},{"$f":"OFFSET('II fisicos'!F176,0,($M$2-1)*10)","v":0},{"$f":"OFFSET('II fisicos'!G176,0,($M$2-1)*10)","v":0},{"$f":"OFFSET('II fisicos'!H176,0,($M$2-1)*10)","v":0},{"$f":"OFFSET('II fisicos'!I176,0,($M$2-1)*10)","v":0},{"$f":"OFFSET('II fisicos'!J176,0,($M$2-1)*10)","v":0},{"$f":"OFFSET('II fisicos'!K176,0,($M$2-1)*10)","v":0},{"$f":"OFFSET('II fisicos'!L176,0,($M$2-1)*10)","v":"-"},{"$f":"OFFSET('II fisicos'!M176,0,($M$2-1)*10)","v":"-"}]
[null,null,"Puebla de Guzmán-Tavira",{"$f":"OFFSET('II fisicos'!D177,0,($M$2-1)*10)","v":0},{"$f":"OFFSET('II fisicos'!E177,0,($M$2-1)*10)","v":0},{"$f":"OFFSET('II fisicos'!F177,0,($M$2-1)*10)","v":0},{"$f":"OFFSET('II fisicos'!G177,0,($M$2-1)*10)","v":0},{"$f":"OFFSET('II fisicos'!H177,0,($M$2-1)*10)","v":14.953003000000001},{"$f":"OFFSET('II fisicos'!I177,0,($M$2-1)*10)","v":66.709676999999999},{"$f":"OFFSET('II fisicos'!J177,0,($M$2-1)*10)","v":28.123321000000001},{"$f":"OFFSET('II fisicos'!K177,0,($M$2-1)*10)","v":22.592376999999999},{"$f":"OFFSET('II fisicos'!L177,0,($M$2-1)*10)","v":"-"},{"$f":"OFFSET('II fisicos'!M177,0,($M$2-1)*10)","v":"-"}]
[null,null,"Rosal Frontera-V. Ficalho",{"$f":"OFFSET('II fisicos'!D178,0,($M$2-1)*10)","v":0},{"$f":"OFFSET('II fisicos'!E178,0,($M$2-1)*10)","v":0},{"$f":"OFFSET('II fisicos'!F178,0,($M$2-1)*10)","v":0},{"$f":"OFFSET('II fisicos'!G178,0,($M$2-1)*10)","v":0},{"$f":"OFFSET('II fisicos'!H178,0,($M$2-1)*10)","v":0},{"$f":"OFFSET('II fisicos'!I178,0,($M$2-1)*10)","v":0},{"$f":"OFFSET('II fisicos'!J178,0,($M$2-1)*10)","v":0},{"$f":"OFFSET('II fisicos'!K178,0,($M$2-1)*10)","v":0},{"$f":"OFFSET('II fisicos'!L178,0,($M$2-1)*10)","v":"-"},{"$f":"OFFSET('II fisicos'!M178,0,($M$2-1)*10)","v":"-"}]
[null,null,"Saucelle-Pocinho",{"$f":"OFFSET('II fisicos'!D179,0,($M$2-1)*10)","v":408.54109999999997},{"$f":"OFFSET('II fisicos'!E179,0,($M$2-1)*10)","v":495.39688999999998},{"$f":"OFFSET('II fisicos'!F179,0,($M$2-1)*10)","v":665.53060000000005},{"$f":"OFFSET('II fisicos'!G179,0,($M$2-1)*10)","v":497.03219999999999},{"$f":"OFFSET('II fisicos'!H179,0,($M$2-1)*10)","v":529.75062000000003},{"$f":"OFFSET('II fisicos'!I179,0,($M$2-1)*10)","v":585.21420000000001},{"$f":"OFFSET('II fisicos'!J179,0,($M$2-1)*10)","v":317.4117},{"$f":"OFFSET('II fisicos'!K179,0,($M$2-1)*10)","v":201.29699999999997},{"$f":"OFFSET('II fisicos'!L179,0,($M$2-1)*10)","v":"-"},{"$f":"OFFSET('II fisicos'!M179,0,($M$2-1)*10)","v":"-"}]
[null,null,"Santa María-Elvás",{"$f":"OFFSET('II fisicos'!D180,0,($M$2-1)*10)","v":0},{"$f":"OFFSET('II fisicos'!E180,0,($M$2-1)*10)","v":0},{"$f":"OFFSET('II fisicos'!F180,0,($M$2-1)*10)","v":0},{"$f":"OFFSET('II fisicos'!G180,0,($M$2-1)*10)","v":0},{"$f":"OFFSET('II fisicos'!H180,0,($M$2-1)*10)","v":0},{"$f":"OFFSET('II fisicos'!I180,0,($M$2-1)*10)","v":0},{"$f":"OFFSET('II fisicos'!J180,0,($M$2-1)*10)","v":0},{"$f":"OFFSET('II fisicos'!K180,0,($M$2-1)*10)","v":0},{"$f":"OFFSET('II fisicos'!L180,0,($M$2-1)*10)","v":"-"},{"$f":"OFFSET('II fisicos'!M180,0,($M$2-1)*10)","v":"-"}]
[null,null,"Total",{"$f":"OFFSET('II fisicos'!D181,0,($M$2-1)*10)","v":5823.3465390000001},{"$f":"OFFSET('II fisicos'!E181,0,($M$2-1)*10)","v":6743.8694469999991},{"$f":"OFFSET('II fisicos'!F181,0,($M$2-1)*10)","v":10767.619210000001},{"$f":"OFFSET('II fisicos'!G181,0,($M$2-1)*10)","v":8100.1192169999995},{"$f":"OFFSET('II fisicos'!H181,0,($M$2-1)*10)","v":7247.4240900000004},{"$f":"OFFSET('II fisicos'!I181,0,($M$2-1)*10)","v":8077.1108449999992},{"$f":"OFFSET('II fisicos'!J181,0,($M$2-1)*10)","v":4615.5146349999995},{"$f":"OFFSET('II fisicos'!K181,0,($M$2-1)*10)","v":3387.9565420000004},{"$f":"OFFSET('II fisicos'!L181,0,($M$2-1)*10)","v":"-"},{"$f":"OFFSET('II fisicos'!M181,0,($M$2-1)*10)","v":"-"}]
[null,"Marruecos","Puerto de la Cruz-Mellousa",{"$f":"OFFSET('II fisicos'!D182,0,($M$2-1)*10)","v":3936.8963900000003},{"$f":"OFFSET('II fisicos'!E182,0,($M$2-1)*10)","v":4510.3970399999998},{"$f":"OFFSET('II fisicos'!F182,0,($M$2-1)*10)","v":4904.1601200000005},{"$f":"OFFSET('II fisicos'!G182,0,($M$2-1)*10)","v":5377.072009999999},{"$f":"OFFSET('II fisicos'!H182,0,($M$2-1)*10)","v":5838.9516699999995},{"$f":"OFFSET('II fisicos'!I182,0,($M$2-1)*10)","v":4941.0487800000001},{"$f":"OFFSET('II fisicos'!J182,0,($M$2-1)*10)","v":4949.92551},{"$f":"OFFSET('II fisicos'!K182,0,($M$2-1)*10)","v":4723.7118},{"$f":"OFFSET('II fisicos'!L182,0,($M$2-1)*10)","v":"-"},{"$f":"OFFSET('II fisicos'!M182,0,($M$2-1)*10)","v":"-"}]
[null,null,"Total",{"$f":"OFFSET('II fisicos'!D183,0,($M$2-1)*10)","v":3936.8963900000003},{"$f":"OFFSET('II fisicos'!E183,0,($M$2-1)*10)","v":4510.3970399999998},{"$f":"OFFSET('II fisicos'!F183,0,($M$2-1)*10)","v":4904.1601200000005},{"$f":"OFFSET('II fisicos'!G183,0,($M$2-1)*10)","v":5377.072009999999},{"$f":"OFFSET('II fisicos'!H183,0,($M$2-1)*10)","v":5838.9516699999995},{"$f":"OFFSET('II fisicos'!I183,0,($M$2-1)*10)","v":4941.0487800000001},{"$f":"OFFSET('II fisicos'!J183,0,($M$2-1)*10)","v":4949.92551},{"$f":"OFFSET('II fisicos'!K183,0,($M$2-1)*10)","v":4723.7118},{"$f":"OFFSET('II fisicos'!L183,0,($M$2-1)*10)","v":"-"},{"$f":"OFFSET('II fisicos'!M183,0,($M$2-1)*10)","v":"-"}]
[null,"Salidas",null,{"$f":"OFFSET('II fisicos'!D184,0,($M$2-1)*10)","v":13538.931091999999},{"$f":"OFFSET('II fisicos'!E184,0,($M$2-1)*10)","v":14022.571953000002},{"$f":"OFFSET('II fisicos'!F184,0,($M$2-1)*10)","v":18985.727032999999},{"$f":"OFFSET('II fisicos'!G184,0,($M$2-1)*10)","v":16935.798683000001},{"$f":"OFFSET('II fisicos'!H184,0,($M$2-1)*10)","v":15716.152588000001},{"$f":"OFFSET('II fisicos'!I184,0,($M$2-1)*10)","v":15088.89255},{"$f":"OFFSET('II fisicos'!J184,0,($M$2-1)*10)","v":14177.546889000001},{"$f":"OFFSET('II fisicos'!K184,0,($M$2-1)*10)","v":9817.0678349999998},{"$f":"OFFSET('II fisicos'!L184,0,($M$2-1)*10)","v":"-"},{"$f":"OFFSET('II fisicos'!M184,0,($M$2-1)*10)","v":"-"}]
[null,{"$f":"IF(M2=3,IF(MONTH(FACT)=1,CONCATENATE(\"Datos a 31 de diciembre. Para el año \",YEAR(FACT)-1, \" datos a \",TEXT(FACT-60,\"mmmm\"),\" de \",YEAR(FACT)-1,\".\"),CONCATENATE(\"Datos a 31 de diciembre. Para el año \",YEAR(FACT), \" datos a \",TEXT(FACT-60,\"mmmm\"),\" de \",YEAR(FACT),\".\")),\"Datos a 31 de diciembre.\")","v":"Datos a 31 de diciembre. Para el año 2017 datos a septiembre de 2017."}]

{"sheet":"Saldos por linea mes","index":7,"n_rows":39,"n_cols":16,"rows_kept":39,"cut":false,"hidden":false,"merged":[[38,1,38,15],[37,1,37,15],[9,1,10,1],[11,1,18,1],[19,1,33,1],[34,1,35,1]]}
[null,null,null,null,null,null,null,null,null,null,null,null,null,null,null,3]
[null,null,null,null,null,null,null,null,null,null,null,null,null,null,null,28]
[]
[null,null,null,null,null,null,null,null,null,null,null,null,"Concepto"]
[null,null,null,null,null,null,null,null,null,null,null,null,"Horizonte temporal"]
[null,null,null,null,null,null,null,null,null,null,null,null,"Periodo"]
[]
[null,null,null,"Ene.","Feb.","Mar.","Abr.","May.","Jun.","Jul.","Ago.","Sep.","Oct.","Nov.","Dic.",{"$f":"OFFSET(Año!B2,($P$2-1),0)","v":2017}]
[]
[null,"Andorra","Adrall-Margineda",{"$f":"OFFSET('II fisicos'!D80,0,($P$2-1)*12)","v":-31.225639999999999},{"$f":"OFFSET('II fisicos'!E80,0,($P$2-1)*12)","v":-24.869720000000001},{"$f":"OFFSET('II fisicos'!F80,0,($P$2-1)*12)","v":-17.672840000000001},{"$f":"OFFSET('II fisicos'!G80,0,($P$2-1)*12)","v":-12.570630000000001},{"$f":"OFFSET('II fisicos'!H80,0,($P$2-1)*12)","v":-14.197149999999999},{"$f":"OFFSET('II fisicos'!I80,0,($P$2-1)*12)","v":-11.778829999999999},{"$f":"OFFSET('II fisicos'!J80,0,($P$2-1)*12)","v":-0.41759000000000002},{"$f":"OFFSET('II fisicos'!K80,0,($P$2-1)*12)","v":-36.588260000000005},{"$f":"OFFSET('II fisicos'!L80,0,($P$2-1)*12)","v":-9.7231200000000015},{"$f":"OFFSET('II fisicos'!M80,0,($P$2-1)*12)","v":"-"},{"$f":"OFFSET('II fisicos'!N80,0,($P$2-1)*12)","v":"-"},{"$f":"OFFSET('II fisicos'!O80,0,($P$2-1)*12)","v":"-"},{"$f":"IF(SUM(D10:O10)=0,\"-\",SUM(D10:O10))","v":-159.04378}]
[null,null,"Total",{"$f":"OFFSET('II fisicos'!D81,0,($P$2-1)*12)","v":-31.225639999999999},{"$f":"OFFSET('II fisicos'!E81,0,($P$2-1)*12)","v":-24.869720000000001},{"$f":"OFFSET('II fisicos'!F81,0,($P$2-1)*12)","v":-17.672840000000001},{"$f":"OFFSET('II fisicos'!G81,0,($P$2-1)*12)","v":-12.570630000000001},{"$f":"OFFSET('II fisicos'!H81,0,($P$2-1)*12)","v":-14.197149999999999},{"$f":"OFFSET('II fisicos'!I81,0,($P$2-1)*12)","v":-11.778829999999999},{"$f":"OFFSET('II fisicos'!J81,0,($P$2-1)*12)","v":-0.41759000000000002},{"$f":"OFFSET('II fisicos'!K81,0,($P$2-1)*12)","v":-36.588260000000005},{"$f":"OFFSET('II fisicos'!L81,0,($P$2-1)*12)","v":-9.7231200000000015},{"$f":"OFFSET('II fisicos'!M81,0,($P$2-1)*12)","v":"-"},{"$f":"OFFSET('II fisicos'!N81,0,($P$2-1)*12)","v":"-"},{"$f":"OFFSET('II fisicos'!O81,0,($P$2-1)*12)","v":"-"},{"$f":"IF(SUM(D11:O11)=0,\"-\",SUM(D11:O11))","v":-159.04378}]
[null,"Francia","Arkale-Argia",{"$f":"OFFSET('II fisicos'!D82,0,($P$2-1)*12)","v":-95.660447000000005},{"$f":"OFFSET('II fisicos'!E82,0,($P$2-1)*12)","v":3.085652999999998},{"$f":"OFFSET('II fisicos'!F82,0,($P$2-1)*12)","v":147.48568900000001},{"$f":"OFFSET('II fisicos'!G82,0,($P$2-1)*12)","v":129.96416499999998},{"$f":"OFFSET('II fisicos'!H82,0,($P$2-1)*12)","v":176.295817},{"$f":"OFFSET('II fisicos'!I82,0,($P$2-1)*12)","v":93.868051000000008},{"$f":"OFFSET('II fisicos'!J82,0,($P$2-1)*12)","v":66.066054999999992},{"$f":"OFFSET('II fisicos'!K82,0,($P$2-1)*12)","v":84.327740000000006},{"$f":"OFFSET('II fisicos'!L82,0,($P$2-1)*12)","v":35.717296000000005},{"$f":"OFFSET('II fisicos'!M82,0,($P$2-1)*12)","v":"-"},{"$f":"OFFSET('II fisicos'!N82,0,($P$2-1)*12)","v":"-"},{"$f":"OFFSET('II fisicos'!O82,0,($P$2-1)*12)","v":"-"},641.15001899999993]
[null,null,"Benós-Lac D'oo",{"$f":"OFFSET('II fisicos'!D83,0,($P$2-1)*12)","v":1.9999999999999999E-6},{"$f":"OFFSET('II fisicos'!E83,0,($P$2-1)*12)","v":0},{"$f":"OFFSET('II fisicos'!F83,0,($P$2-1)*12)","v":4.5988999999999995E-2},{"$f":"OFFSET('II fisicos'!G83,0,($P$2-1)*12)","v":-2.8399999999999996E-4},{"$f":"OFFSET('II fisicos'!H83,0,($P$2-1)*12)","v":-1.2999999999999999E-5},{"$f":"OFFSET('II fisicos'!I83,0,($P$2-1)*12)","v":-7.9999999999999996E-6},{"$f":"OFFSET('II fisicos'!J83,0,($P$2-1)*12)","v":0},{"$f":"OFFSET('II fisicos'!K83,0,($P$2-1)*12)","v":6.6584000000000004E-2},{"$f":"OFFSET('II fisicos'!L83,0,($P$2-1)*12)","v":3.9999999999999998E-6},{"$f":"OFFSET('II fisicos'!M83,0,($P$2-1)*12)","v":"-"},{"$f":"OFFSET('II fisicos'!N83,0,($P$2-1)*12)","v":"-"},{"$f":"OFFSET('II fisicos'!O83,0,($P$2-1)*12)","v":"-"},0.11227400000000001]
[null,null,"Biescas-Pragneres",{"$f":"OFFSET('II fisicos'!D84,0,($P$2-1)*12)","v":-51.584298000000004},{"$f":"OFFSET('II fisicos'!E84,0,($P$2-1)*12)","v":-17.876096},{"$f":"OFFSET('II fisicos'!F84,0,($P$2-1)*12)","v":26.150808000000001},{"$f":"OFFSET('II fisicos'!G84,0,($P$2-1)*12)","v":32.334023999999999},{"$f":"OFFSET('II fisicos'!H84,0,($P$2-1)*12)","v":34.255755000000001},{"$f":"OFFSET('II fisicos'!I84,0,($P$2-1)*12)","v":5.5227139999999997},{"$f":"OFFSET('II fisicos'!J84,0,($P$2-1)*12)","v":31.595454},{"$f":"OFFSET('II fisicos'!K84,0,($P$2-1)*12)","v":91.182842999999991},{"$f":"OFFSET('II fisicos'!L84,0,($P$2-1)*12)","v":40.997913999999994},{"$f":"OFFSET('II fisicos'!M84,0,($P$2-1)*12)","v":"-"},{"$f":"OFFSET('II fisicos'!N84,0,($P$2-1)*12)","v":"-"},{"$f":"OFFSET('II fisicos'!O84,0,($P$2-1)*12)","v":"-"},192.57911799999999]
[null,null,"Hernani-Argia",{"$f":"OFFSET('II fisicos'!D85,0,($P$2-1)*12)","v":-217.658187},{"$f":"OFFSET('II fisicos'!E85,0,($P$2-1)*12)","v":71.360796999999991},{"$f":"OFFSET('II fisicos'!F85,0,($P$2-1)*12)","v":568.13245400000005},{"$f":"OFFSET('II fisicos'!G85,0,($P$2-1)*12)","v":589.4723590000001},{"$f":"OFFSET('II fisicos'!H85,0,($P$2-1)*12)","v":666.76883700000008},{"$f":"OFFSET('II fisicos'!I85,0,($P$2-1)*12)","v":405.15014000000002},{"$f":"OFFSET('II fisicos'!J85,0,($P$2-1)*12)","v":502.41465399999998},{"$f":"OFFSET('II fisicos'!K85,0,($P$2-1)*12)","v":634.14896400000009},{"$f":"OFFSET('II fisicos'!L85,0,($P$2-1)*12)","v":619.71004299999993},{"$f":"OFFSET('II fisicos'!M85,0,($P$2-1)*12)","v":"-"},{"$f":"OFFSET('II fisicos'!N85,0,($P$2-1)*12)","v":"-"},{"$f":"OFFSET('II fisicos'!O85,0,($P$2-1)*12)","v":"-"},3839.5000610000006]
[null,null,"Irún-Errondenia",{"$f":"OFFSET('II fisicos'!D86,0,($P$2-1)*12)","v":-0.38220599999999999},{"$f":"OFFSET('II fisicos'!E86,0,($P$2-1)*12)","v":-7.1494000000000002E-2},{"$f":"OFFSET('II fisicos'!F86,0,($P$2-1)*12)","v":-0.14715600000000001},{"$f":"OFFSET('II fisicos'!G86,0,($P$2-1)*12)","v":-0.17357300000000001},{"$f":"OFFSET('II fisicos'!H86,0,($P$2-1)*12)","v":-0.192022},{"$f":"OFFSET('II fisicos'!I86,0,($P$2-1)*12)","v":-0.25015899999999996},{"$f":"OFFSET('II fisicos'!J86,0,($P$2-1)*12)","v":-4.9817E-2},{"$f":"OFFSET('II fisicos'!K86,0,($P$2-1)*12)","v":-0.18132799999999999},{"$f":"OFFSET('II fisicos'!L86,0,($P$2-1)*12)","v":-0.176706},{"$f":"OFFSET('II fisicos'!M86,0,($P$2-1)*12)","v":"-"},{"$f":"OFFSET('II fisicos'!N86,0,($P$2-1)*12)","v":"-"},{"$f":"OFFSET('II fisicos'!O86,0,($P$2-1)*12)","v":"-"},-1.6244609999999999]
[null,null,"Santa Llogaia-Baixas",{"$f":"OFFSET('II fisicos'!D87,0,($P$2-1)*12)","v":11.018531000000003},{"$f":"OFFSET('II fisicos'!E87,0,($P$2-1)*12)","v":241.96998500000001},{"$f":"OFFSET('II fisicos'!F87,0,($P$2-1)*12)","v":652.63005199999998},{"$f":"OFFSET('II fisicos'!G87,0,($P$2-1)*12)","v":504.12983400000002},{"$f":"OFFSET('II fisicos'!H87,0,($P$2-1)*12)","v":678.71138800000006},{"$f":"OFFSET('II fisicos'!I87,0,($P$2-1)*12)","v":638.6481970000001},{"$f":"OFFSET('II fisicos'!J87,0,($P$2-1)*12)","v":550.22542800000008},{"$f":"OFFSET('II fisicos'!K87,0,($P$2-1)*12)","v":658.44792100000006},{"$f":"OFFSET('II fisicos'!L87,0,($P$2-1)*12)","v":648.28605600000003},{"$f":"OFFSET('II fisicos'!M87,0,($P$2-1)*12)","v":"-"},{"$f":"OFFSET('II fisicos'!N87,0,($P$2-1)*12)","v":"-"},{"$f":"OFFSET('II fisicos'!O87,0,($P$2-1)*12)","v":"-"},4584.0673919999999]
[null,null,"Vic-Baixas",{"$f":"OFFSET('II fisicos'!D88,0,($P$2-1)*12)","v":3.8019879999999979},{"$f":"OFFSET('II fisicos'!E88,0,($P$2-1)*12)","v":107.147458},{"$f":"OFFSET('II fisicos'!F88,0,($P$2-1)*12)","v":305.73028999999997},{"$f":"OFFSET('II fisicos'!G88,0,($P$2-1)*12)","v":225.72903299999999},{"$f":"OFFSET('II fisicos'!H88,0,($P$2-1)*12)","v":300.20688900000005},{"$f":"OFFSET('II fisicos'!I88,0,($P$2-1)*12)","v":287.93273700000003},{"$f":"OFFSET('II fisicos'!J88,0,($P$2-1)*12)","v":250.77658400000001},{"$f":"OFFSET('II fisicos'!K88,0,($P$2-1)*12)","v":237.118247},{"$f":"OFFSET('II fisicos'!L88,0,($P$2-1)*12)","v":289.32946999999996},{"$f":"OFFSET('II fisicos'!M88,0,($P$2-1)*12)","v":"-"},{"$f":"OFFSET('II fisicos'!N88,0,($P$2-1)*12)","v":"-"},{"$f":"OFFSET('II fisicos'!O88,0,($P$2-1)*12)","v":"-"},2007.7726959999998]
[null,null,"Total",{"$f":"OFFSET('II fisicos'!D89,0,($P$2-1)*12)","v":-350.46461700000003},{"$f":"OFFSET('II fisicos'!E89,0,($P$2-1)*12)","v":405.61630300000002},{"$f":"OFFSET('II fisicos'!F89,0,($P$2-1)*12)","v":1700.0281260000002},{"$f":"OFFSET('II fisicos'!G89,0,($P$2-1)*12)","v":1481.4555580000001},{"$f":"OFFSET('II fisicos'!H89,0,($P$2-1)*12)","v":1856.0466510000001},{"$f":"OFFSET('II fisicos'!I89,0,($P$2-1)*12)","v":1430.8716720000002},{"$f":"OFFSET('II fisicos'!J89,0,($P$2-1)*12)","v":1401.028358},{"$f":"OFFSET('II fisicos'!K89,0,($P$2-1)*12)","v":1705.1109709999998},{"$f":"OFFSET('II fisicos'!L89,0,($P$2-1)*12)","v":1633.864077},{"$f":"OFFSET('II fisicos'!M89,0,($P$2-1)*12)","v":"-"},{"$f":"OFFSET('II fisicos'!N89,0,($P$2-1)*12)","v":"-"},{"$f":"OFFSET('II fisicos'!O89,0,($P$2-1)*12)","v":"-"},11263.557099000001]
[null,"Portugal","Aldeadávila-Pocinho 1",{"$f":"OFFSET('II fisicos'!D90,0,($P$2-1)*12)","v":-10.197100000000001},{"$f":"OFFSET('II fisicos'!E90,0,($P$2-1)*12)","v":26.174799999999998},{"$f":"OFFSET('II fisicos'!F90,0,($P$2-1)*12)","v":4.0235000000000003},{"$f":"OFFSET('II fisicos'!G90,0,($P$2-1)*12)","v":-13.9049},{"$f":"OFFSET('II fisicos'!H90,0,($P$2-1)*12)","v":-13.713299999999998},{"$f":"OFFSET('II fisicos'!I90,0,($P$2-1)*12)","v":3.7408999999999999},{"$f":"OFFSET('II fisicos'!J90,0,($P$2-1)*12)","v":15.0238},{"$f":"OFFSET('II fisicos'!K90,0,($P$2-1)*12)","v":26.5261},{"$f":"OFFSET('II fisicos'!L90,0,($P$2-1)*12)","v":-2.0575999999999999},{"$f":"OFFSET('II fisicos'!M90,0,($P$2-1)*12)","v":"-"},{"$f":"OFFSET('II fisicos'!N90,0,($P$2-1)*12)","v":"-"},{"$f":"OFFSET('II fisicos'!O90,0,($P$2-1)*12)","v":"-"},35.616199999999999]
[null,null,"Aldeadávila-Pocinho 2",{"$f":"OFFSET('II fisicos'!D91,0,($P$2-1)*12)","v":-10.034600000000001},{"$f":"OFFSET('II fisicos'!E91,0,($P$2-1)*12)","v":26.133800000000001},{"$f":"OFFSET('II fisicos'!F91,0,($P$2-1)*12)","v":4.2610000000000001},{"$f":"OFFSET('II fisicos'!G91,0,($P$2-1)*12)","v":-13.5427},{"$f":"OFFSET('II fisicos'!H91,0,($P$2-1)*12)","v":-13.468},{"$f":"OFFSET('II fisicos'!I91,0,($P$2-1)*12)","v":3.7518000000000002},{"$f":"OFFSET('II fisicos'!J91,0,($P$2-1)*12)","v":14.3352},{"$f":"OFFSET('II fisicos'!K91,0,($P$2-1)*12)","v":26.378299999999999},{"$f":"OFFSET('II fisicos'!L91,0,($P$2-1)*12)","v":-1.93},{"$f":"OFFSET('II fisicos'!M91,0,($P$2-1)*12)","v":"-"},{"$f":"OFFSET('II fisicos'!N91,0,($P$2-1)*12)","v":"-"},{"$f":"OFFSET('II fisicos'!O91,0,($P$2-1)*12)","v":"-"},35.884799999999998]
[null,null,"Aldeadávila-Lagoaça",{"$f":"OFFSET('II fisicos'!D92,0,($P$2-1)*12)","v":119.69726399999999},{"$f":"OFFSET('II fisicos'!E92,0,($P$2-1)*12)","v":225.62992800000001},{"$f":"OFFSET('II fisicos'!F92,0,($P$2-1)*12)","v":107.332128},{"$f":"OFFSET('II fisicos'!G92,0,($P$2-1)*12)","v":-10.625256000000011},{"$f":"OFFSET('II fisicos'!H92,0,($P$2-1)*12)","v":69.229079999999996},{"$f":"OFFSET('II fisicos'!I92,0,($P$2-1)*12)","v":170.52854399999998},{"$f":"OFFSET('II fisicos'!J92,0,($P$2-1)*12)","v":213.795288},{"$f":"OFFSET('II fisicos'!K92,0,($P$2-1)*12)","v":195.48021599999998},{"$f":"OFFSET('II fisicos'!L92,0,($P$2-1)*12)","v":37.82376},{"$f":"OFFSET('II fisicos'!M92,0,($P$2-1)*12)","v":"-"},{"$f":"OFFSET('II fisicos'!N92,0,($P$2-1)*12)","v":"-"},{"$f":"OFFSET('II fisicos'!O92,0,($P$2-1)*12)","v":"-"},1128.890952]
[null,null,"Badajoz-Alcaçovas",{"$f":"OFFSET('II fisicos'!D93,0,($P$2-1)*12)","v":-5.1400000000000003E-4},{"$f":"OFFSET('II fisicos'!E93,0,($P$2-1)*12)","v":-7.2199999999999999E-4},{"$f":"OFFSET('II fisicos'!F93,0,($P$2-1)*12)","v":-3.7800000000000003E-4},{"$f":"OFFSET('II fisicos'!G93,0,($P$2-1)*12)","v":-1.9900000000000001E-4},{"$f":"OFFSET('II fisicos'!H93,0,($P$2-1)*12)","v":3.5599999999999998E-4},{"$f":"OFFSET('II fisicos'!I93,0,($P$2-1)*12)","v":2.3E-5},{"$f":"OFFSET('II fisicos'!J93,0,($P$2-1)*12)","v":3.4E-5},{"$f":"OFFSET('II fisicos'!K93,0,($P$2-1)*12)","v":1.2899999999999999E-4},{"$f":"OFFSET('II fisicos'!L93,0,($P$2-1)*12)","v":6.3E-5},{"$f":"OFFSET('II fisicos'!M93,0,($P$2-1)*12)","v":"-"},{"$f":"OFFSET('II fisicos'!N93,0,($P$2-1)*12)","v":"-"},{"$f":"OFFSET('II fisicos'!O93,0,($P$2-1)*12)","v":"-"},-1.2080000000000003E-3]
[null,null,"Balboa-Alqueva",{"$f":"OFFSET('II fisicos'!D94,0,($P$2-1)*12)","v":0},{"$f":"OFFSET('II fisicos'!E94,0,($P$2-1)*12)","v":0},{"$f":"OFFSET('II fisicos'!F94,0,($P$2-1)*12)","v":0},{"$f":"OFFSET('II fisicos'!G94,0,($P$2-1)*12)","v":0},{"$f":"OFFSET('II fisicos'!H94,0,($P$2-1)*12)","v":0},{"$f":"OFFSET('II fisicos'!I94,0,($P$2-1)*12)","v":0},{"$f":"OFFSET('II fisicos'!J94,0,($P$2-1)*12)","v":0},{"$f":"OFFSET('II fisicos'!K94,0,($P$2-1)*12)","v":0},{"$f":"OFFSET('II fisicos'!L94,0,($P$2-1)*12)","v":0},{"$f":"OFFSET('II fisicos'!M94,0,($P$2-1)*12)","v":"-"},{"$f":"OFFSET('II fisicos'!N94,0,($P$2-1)*12)","v":"-"},{"$f":"OFFSET('II fisicos'!O94,0,($P$2-1)*12)","v":"-"},{"$f":"SUM(D24:O24)","v":0}]
[null,null,"Brovales-Alqueva",{"$f":"OFFSET('II fisicos'!D95,0,($P$2-1)*12)","v":190.99137200000001},{"$f":"OFFSET('II fisicos'!E95,0,($P$2-1)*12)","v":195.51879399999999},{"$f":"OFFSET('II fisicos'!F95,0,($P$2-1)*12)","v":190.10885500000001},{"$f":"OFFSET('II fisicos'!G95,0,($P$2-1)*12)","v":103.65481800000001},{"$f":"OFFSET('II fisicos'!H95,0,($P$2-1)*12)","v":132.76458199999999},{"$f":"OFFSET('II fisicos'!I95,0,($P$2-1)*12)","v":220.09420600000001},{"$f":"OFFSET('II fisicos'!J95,0,($P$2-1)*12)","v":282.28728100000001},{"$f":"OFFSET('II fisicos'!K95,0,($P$2-1)*12)","v":221.70735300000001},{"$f":"OFFSET('II fisicos'!L95,0,($P$2-1)*12)","v":107.27591700000001},{"$f":"OFFSET('II fisicos'!M95,0,($P$2-1)*12)","v":"-"},{"$f":"OFFSET('II fisicos'!N95,0,($P$2-1)*12)","v":"-"},{"$f":"OFFSET('II fisicos'!O95,0,($P$2-1)*12)","v":"-"},1644.4031779999998]
[null,null,"Cartelle-Lindoso",{"$f":"OFFSET('II fisicos'!D96,0,($P$2-1)*12)","v":-393.88260000000002},{"$f":"OFFSET('II fisicos'!E96,0,($P$2-1)*12)","v":-183.5667},{"$f":"OFFSET('II fisicos'!F96,0,($P$2-1)*12)","v":-140.5779},{"$f":"OFFSET('II fisicos'!G96,0,($P$2-1)*12)","v":-77.484300000000005},{"$f":"OFFSET('II fisicos'!H96,0,($P$2-1)*12)","v":-246.6277},{"$f":"OFFSET('II fisicos'!I96,0,($P$2-1)*12)","v":-316.47380000000004},{"$f":"OFFSET('II fisicos'!J96,0,($P$2-1)*12)","v":-272.04700000000003},{"$f":"OFFSET('II fisicos'!K96,0,($P$2-1)*12)","v":-5.0326000000000004},{"$f":"OFFSET('II fisicos'!L96,0,($P$2-1)*12)","v":-200.25179999999997},{"$f":"OFFSET('II fisicos'!M96,0,($P$2-1)*12)","v":"-"},{"$f":"OFFSET('II fisicos'!N96,0,($P$2-1)*12)","v":"-"},{"$f":"OFFSET('II fisicos'!O96,0,($P$2-1)*12)","v":"-"},-1835.9444000000001]
[null,null,"Cedillo-Falaguerira",{"$f":"OFFSET('II fisicos'!D97,0,($P$2-1)*12)","v":210.191},{"$f":"OFFSET('II fisicos'!E97,0,($P$2-1)*12)","v":251.02260000000001},{"$f":"OFFSET('II fisicos'!F97,0,($P$2-1)*12)","v":100.02380000000001},{"$f":"OFFSET('II fisicos'!G97,0,($P$2-1)*12)","v":30.28540000000001},{"$f":"OFFSET('II fisicos'!H97,0,($P$2-1)*12)","v":143.21870000000001},{"$f":"OFFSET('II fisicos'!I97,0,($P$2-1)*12)","v":1.9769100000000002},{"$f":"OFFSET('II fisicos'!J97,0,($P$2-1)*12)","v":0},{"$f":"OFFSET('II fisicos'!K97,0,($P$2-1)*12)","v":10.9566},{"$f":"OFFSET('II fisicos'!L97,0,($P$2-1)*12)","v":196.11770000000001},{"$f":"OFFSET('II fisicos'!M97,0,($P$2-1)*12)","v":"-"},{"$f":"OFFSET('II fisicos'!N97,0,($P$2-1)*12)","v":"-"},{"$f":"OFFSET('II fisicos'!O97,0,($P$2-1)*12)","v":"-"},943.79271000000006]
[null,null,"Conchas-Lindoso",{"$f":"OFFSET('II fisicos'!D98,0,($P$2-1)*12)","v":0},{"$f":"OFFSET('II fisicos'!E98,0,($P$2-1)*12)","v":0},{"$f":"OFFSET('II fisicos'!F98,0,($P$2-1)*12)","v":0},{"$f":"OFFSET('II fisicos'!G98,0,($P$2-1)*12)","v":0},{"$f":"OFFSET('II fisicos'!H98,0,($P$2-1)*12)","v":0},{"$f":"OFFSET('II fisicos'!I98,0,($P$2-1)*12)","v":0},{"$f":"OFFSET('II fisicos'!J98,0,($P$2-1)*12)","v":0},{"$f":"OFFSET('II fisicos'!K98,0,($P$2-1)*12)","v":0},{"$f":"OFFSET('II fisicos'!L98,0,($P$2-1)*12)","v":0},{"$f":"OFFSET('II fisicos'!M98,0,($P$2-1)*12)","v":"-"},{"$f":"OFFSET('II fisicos'!N98,0,($P$2-1)*12)","v":"-"},{"$f":"OFFSET('II fisicos'!O98,0,($P$2-1)*12)","v":"-"},{"$f":"SUM(D28:O28)","v":0}]
[null,null,"Encinasola-Barrancos",{"$f":"OFFSET('II fisicos'!D99,0,($P$2-1)*12)","v":0},{"$f":"OFFSET('II fisicos'!E99,0,($P$2-1)*12)","v":0},{"$f":"OFFSET('II fisicos'!F99,0,($P$2-1)*12)","v":0},{"$f":"OFFSET('II fisicos'!G99,0,($P$2-1)*12)","v":0},{"$f":"OFFSET('II fisicos'!H99,0,($P$2-1)*12)","v":0},{"$f":"OFFSET('II fisicos'!I99,0,($P$2-1)*12)","v":0},{"$f":"OFFSET('II fisicos'!J99,0,($P$2-1)*12)","v":0},{"$f":"OFFSET('II fisicos'!K99,0,($P$2-1)*12)","v":0},{"$f":"OFFSET('II fisicos'!L99,0,($P$2-1)*12)","v":0},{"$f":"OFFSET('II fisicos'!M99,0,($P$2-1)*12)","v":"-"},{"$f":"OFFSET('II fisicos'!N99,0,($P$2-1)*12)","v":"-"},{"$f":"OFFSET('II fisicos'!O99,0,($P$2-1)*12)","v":"-"},{"$f":"SUM(D29:O29)","v":0}]
[null,null,"Puebla de Guzmán-Tavira",{"$f":"OFFSET('II fisicos'!D100,0,($P$2-1)*12)","v":178.41453700000002},{"$f":"OFFSET('II fisicos'!E100,0,($P$2-1)*12)","v":84.972504000000001},{"$f":"OFFSET('II fisicos'!F100,0,($P$2-1)*12)","v":74.235675000000001},{"$f":"OFFSET('II fisicos'!G100,0,($P$2-1)*12)","v":114.513493},{"$f":"OFFSET('II fisicos'!H100,0,($P$2-1)*12)","v":122.84898099999999},{"$f":"OFFSET('II fisicos'!I100,0,($P$2-1)*12)","v":163.39675800000001},{"$f":"OFFSET('II fisicos'!J100,0,($P$2-1)*12)","v":200.93232500000002},{"$f":"OFFSET('II fisicos'!K100,0,($P$2-1)*12)","v":248.85323300000002},{"$f":"OFFSET('II fisicos'!L100,0,($P$2-1)*12)","v":116.93542500000001},{"$f":"OFFSET('II fisicos'!M100,0,($P$2-1)*12)","v":"-"},{"$f":"OFFSET('II fisicos'!N100,0,($P$2-1)*12)","v":"-"},{"$f":"OFFSET('II fisicos'!O100,0,($P$2-1)*12)","v":"-"},1305.1029309999999]
[null,null,"Rosal Frontera-V. Ficalho",{"$f":"OFFSET('II fisicos'!D101,0,($P$2-1)*12)","v":0},{"$f":"OFFSET('II fisicos'!E101,0,($P$2-1)*12)","v":0},{"$f":"OFFSET('II fisicos'!F101,0,($P$2-1)*12)","v":0},{"$f":"OFFSET('II fisicos'!G101,0,($P$2-1)*12)","v":0},{"$f":"OFFSET('II fisicos'!H101,0,($P$2-1)*12)","v":0},{"$f":"OFFSET('II fisicos'!I101,0,($P$2-1)*12)","v":0},{"$f":"OFFSET('II fisicos'!J101,0,($P$2-1)*12)","v":0},{"$f":"OFFSET('II fisicos'!K101,0,($P$2-1)*12)","v":0},{"$f":"OFFSET('II fisicos'!L101,0,($P$2-1)*12)","v":0},{"$f":"OFFSET('II fisicos'!M101,0,($P$2-1)*12)","v":"-"},{"$f":"OFFSET('II fisicos'!N101,0,($P$2-1)*12)","v":"-"},{"$f":"OFFSET('II fisicos'!O101,0,($P$2-1)*12)","v":"-"},{"$f":"SUM(D31:O31)","v":0}]
[null,null,"Saucelle-Pocinho",{"$f":"OFFSET('II fisicos'!D102,0,($P$2-1)*12)","v":-35.336800000000004},{"$f":"OFFSET('II fisicos'!E102,0,($P$2-1)*12)","v":14.3101},{"$f":"OFFSET('II fisicos'!F102,0,($P$2-1)*12)","v":-31.850200000000001},{"$f":"OFFSET('II fisicos'!G102,0,($P$2-1)*12)","v":-23.4132},{"$f":"OFFSET('II fisicos'!H102,0,($P$2-1)*12)","v":-21.738099999999999},{"$f":"OFFSET('II fisicos'!I102,0,($P$2-1)*12)","v":-4.2477999999999998},{"$f":"OFFSET('II fisicos'!J102,0,($P$2-1)*12)","v":14.056700000000001},{"$f":"OFFSET('II fisicos'!K102,0,($P$2-1)*12)","v":24.6052},{"$f":"OFFSET('II fisicos'!L102,0,($P$2-1)*12)","v":-1.5972999999999999},{"$f":"OFFSET('II fisicos'!M102,0,($P$2-1)*12)","v":"-"},{"$f":"OFFSET('II fisicos'!N102,0,($P$2-1)*12)","v":"-"},{"$f":"OFFSET('II fisicos'!O102,0,($P$2-1)*12)","v":"-"},-65.211400000000012]
[null,null,"Santa María-Elvás",{"$f":"OFFSET('II fisicos'!D103,0,($P$2-1)*12)","v":0},{"$f":"OFFSET('II fisicos'!E103,0,($P$2-1)*12)","v":0},{"$f":"OFFSET('II fisicos'!F103,0,($P$2-1)*12)","v":0},{"$f":"OFFSET('II fisicos'!G103,0,($P$2-1)*12)","v":0},{"$f":"OFFSET('II fisicos'!H103,0,($P$2-1)*12)","v":0},{"$f":"OFFSET('II fisicos'!I103,0,($P$2-1)*12)","v":0},{"$f":"OFFSET('II fisicos'!J103,0,($P$2-1)*12)","v":0},{"$f":"OFFSET('II fisicos'!K103,0,($P$2-1)*12)","v":0},{"$f":"OFFSET('II fisicos'!L103,0,($P$2-1)*12)","v":0},{"$f":"OFFSET('II fisicos'!M103,0,($P$2-1)*12)","v":"-"},{"$f":"OFFSET('II fisicos'!N103,0,($P$2-1)*12)","v":"-"},{"$f":"OFFSET('II fisicos'!O103,0,($P$2-1)*12)","v":"-"},{"$f":"SUM(D33:O33)","v":0}]
[null,null,"Total",{"$f":"OFFSET('II fisicos'!D104,0,($P$2-1)*12)","v":249.84255899999997},{"$f":"OFFSET('II fisicos'!E104,0,($P$2-1)*12)","v":640.19510400000001},{"$f":"OFFSET('II fisicos'!F104,0,($P$2-1)*12)","v":307.55647999999997},{"$f":"OFFSET('II fisicos'!G104,0,($P$2-1)*12)","v":109.48315599999999},{"$f":"OFFSET('II fisicos'!H104,0,($P$2-1)*12)","v":172.514599},{"$f":"OFFSET('II fisicos'!I104,0,($P$2-1)*12)","v":242.76754099999997},{"$f":"OFFSET('II fisicos'!J104,0,($P$2-1)*12)","v":468.38362799999993},{"$f":"OFFSET('II fisicos'!K104,0,($P$2-1)*12)","v":749.47453099999996},{"$f":"OFFSET('II fisicos'!L104,0,($P$2-1)*12)","v":252.31616500000001},{"$f":"OFFSET('II fisicos'!M104,0,($P$2-1)*12)","v":"-"},{"$f":"OFFSET('II fisicos'!N104,0,($P$2-1)*12)","v":"-"},{"$f":"OFFSET('II fisicos'!O104,0,($P$2-1)*12)","v":"-"},3192.5337629999999]
[null,"Marruecos","Puerto de la Cruz-Mellousa",{"$f":"OFFSET('II fisicos'!D105,0,($P$2-1)*12)","v":-399.70159999999998},{"$f":"OFFSET('II fisicos'!E105,0,($P$2-1)*12)","v":-479.80799999999999},{"$f":"OFFSET('II fisicos'!F105,0,($P$2-1)*12)","v":-532.83100000000002},{"$f":"OFFSET('II fisicos'!G105,0,($P$2-1)*12)","v":-537.40859999999998},{"$f":"OFFSET('II fisicos'!H105,0,($P$2-1)*12)","v":-569.37850000000003},{"$f":"OFFSET('II fisicos'!I105,0,($P$2-1)*12)","v":-533.00149999999996},{"$f":"OFFSET('II fisicos'!J105,0,($P$2-1)*12)","v":-595.55100000000004},{"$f":"OFFSET('II fisicos'!K105,0,($P$2-1)*12)","v":-590.08630000000005},{"$f":"OFFSET('II fisicos'!L105,0,($P$2-1)*12)","v":-483.14869999999996},{"$f":"OFFSET('II fisicos'!M105,0,($P$2-1)*12)","v":"-"},{"$f":"OFFSET('II fisicos'!N105,0,($P$2-1)*12)","v":"-"},{"$f":"OFFSET('II fisicos'!O105,0,($P$2-1)*12)","v":"-"},-4720.9151999999995]
[null,null,"Total",{"$f":"OFFSET('II fisicos'!D106,0,($P$2-1)*12)","v":-399.70159999999998},{"$f":"OFFSET('II fisicos'!E106,0,($P$2-1)*12)","v":-479.80799999999999},{"$f":"OFFSET('II fisicos'!F106,0,($P$2-1)*12)","v":-532.83100000000002},{"$f":"OFFSET('II fisicos'!G106,0,($P$2-1)*12)","v":-537.40859999999998},{"$f":"OFFSET('II fisicos'!H106,0,($P$2-1)*12)","v":-569.37850000000003},{"$f":"OFFSET('II fisicos'!I106,0,($P$2-1)*12)","v":-533.00149999999996},{"$f":"OFFSET('II fisicos'!J106,0,($P$2-1)*12)","v":-595.55100000000004},{"$f":"OFFSET('II fisicos'!K106,0,($P$2-1)*12)","v":-590.08630000000005},{"$f":"OFFSET('II fisicos'!L106,0,($P$2-1)*12)","v":-483.14870000000002},{"$f":"OFFSET('II fisicos'!M106,0,($P$2-1)*12)","v":"-"},{"$f":"OFFSET('II fisicos'!N106,0,($P$2-1)*12)","v":"-"},{"$f":"OFFSET('II fisicos'!O106,0,($P$2-1)*12)","v":"-"},-4720.9151999999995]
[null,"Saldo (1)",null,{"$f":"OFFSET('II fisicos'!D107,0,($P$2-1)*12)","v":-531.54929800000002},{"$f":"OFFSET('II fisicos'!E107,0,($P$2-1)*12)","v":541.13368700000001},{"$f":"OFFSET('II fisicos'!F107,0,($P$2-1)*12)","v":1457.080766},{"$f":"OFFSET('II fisicos'!G107,0,($P$2-1)*12)","v":1040.9594840000002},{"$f":"OFFSET('II fisicos'!H107,0,($P$2-1)*12)","v":1444.9856000000002},{"$f":"OFFSET('II fisicos'!I107,0,($P$2-1)*12)","v":1128.8588830000003},{"$f":"OFFSET('II fisicos'!J107,0,($P$2-1)*12)","v":1273.4433960000001},{"$f":"OFFSET('II fisicos'!K107,0,($P$2-1)*12)","v":1827.910942},{"$f":"OFFSET('II fisicos'!L107,0,($P$2-1)*12)","v":1393.3084220000001},{"$f":"OFFSET('II fisicos'!M107,0,($P$2-1)*12)","v":"-"},{"$f":"OFFSET('II fisicos'!N107,0,($P$2-1)*12)","v":"-"},{"$f":"OFFSET('II fisicos'!O107,0,($P$2-1)*12)","v":"-"},9576.1318820000015]
[null,{"$f":"IF(P2=27,\"(1) Valor positivo: saldo importador; Valor negativo: saldo exportador.\",\"(1) Valor positivo: saldo importador; Valor negativo: saldo exportador.\")","v":"(1) Valor positivo: saldo importador; Valor negativo: saldo exportador."}]
[null,{"$f":"IF(MONTH(FACT)=1,CONCATENATE(\"No hay datos de medida disponible para el mes de \",TEXT(FACT-30,\"mmmm\"),\" de \",YEAR(FACT)-1,\".\"),CONCATENATE(\"No hay datos de medida disponible para el mes de \",TEXT(FACT-30,\"mmmm\"),\" de \",YEAR(FACT),\".\"))","v":"No hay datos de medida disponible para el mes de octubre de 2017."}]

{"sheet":"Saldos por linea año","index":8,"n_rows":39,"n_cols":13,"rows_kept":39,"cut":false,"hidden":false,"merged":[[9,1,10,1],[11,1,18,1],[19,1,33,1],[34,1,35,1],[38,1,38,12],[37,1,37,12]]}
[null,null,null,null,null,null,null,null,null,null,null,null,3]
[null,null,null,null,null,null,null,null,null,null,null,null,3]
[]
[null,null,null,null,null,null,null,null,null,null,"Concepto"]
[null,null,null,null,null,null,null,null,null,null,"Horizonte temporal"]
[null,null,null,null,null,null,null,null,null,null,"Periodo"]
[]
[null,null,null,{"$f":"OFFSET('II fisicos'!D109,0,($M$2-1)*10)","v":2010},{"$f":"OFFSET('II fisicos'!E109,0,($M$2-1)*10)","v":2011},{"$f":"OFFSET('II fisicos'!F109,0,($M$2-1)*10)","v":2012},{"$f":"OFFSET('II fisicos'!G109,0,($M$2-1)*10)","v":2013},{"$f":"OFFSET('II fisicos'!H109,0,($M$2-1)*10)","v":2014},{"$f":"OFFSET('II fisicos'!I109,0,($M$2-1)*10)","v":2015},{"$f":"OFFSET('II fisicos'!J109,0,($M$2-1)*10)","v":2016},{"$f":"OFFSET('II fisicos'!K109,0,($M$2-1)*10)","v":2017},{"$f":"OFFSET('II fisicos'!L109,0,($M$2-1)*10)","v":2018},{"$f":"OFFSET('II fisicos'!M109,0,($M$2-1)*10)","v":2019}]
[]
[null,"Andorra","Adrall-Margineda",{"$f":"OFFSET('II fisicos'!D187,0,($M$2-1)*10)","v":-264.49410999999998},{"$f":"OFFSET('II fisicos'!E187,0,($M$2-1)*10)","v":-305.71274000000005},{"$f":"OFFSET('II fisicos'!F187,0,($M$2-1)*10)","v":-286.21727999999996},{"$f":"OFFSET('II fisicos'!G187,0,($M$2-1)*10)","v":-287.39792},{"$f":"OFFSET('II fisicos'!H187,0,($M$2-1)*10)","v":-234.50584000000001},{"$f":"OFFSET('II fisicos'!I187,0,($M$2-1)*10)","v":-264.05143000000004},{"$f":"OFFSET('II fisicos'!J187,0,($M$2-1)*10)","v":-278.28043000000002},{"$f":"OFFSET('II fisicos'!K187,0,($M$2-1)*10)","v":-159.04378},{"$f":"OFFSET('II fisicos'!L187,0,($M$2-1)*10)","v":"-"},{"$f":"OFFSET('II fisicos'!M187,0,($M$2-1)*10)","v":"-"}]
[null,null,"Total",{"$f":"OFFSET('II fisicos'!D188,0,($M$2-1)*10)","v":-264.49410999999998},{"$f":"OFFSET('II fisicos'!E188,0,($M$2-1)*10)","v":-305.71274000000005},{"$f":"OFFSET('II fisicos'!F188,0,($M$2-1)*10)","v":-286.21727999999996},{"$f":"OFFSET('II fisicos'!G188,0,($M$2-1)*10)","v":-287.39792},{"$f":"OFFSET('II fisicos'!H188,0,($M$2-1)*10)","v":-234.50584000000001},{"$f":"OFFSET('II fisicos'!I188,0,($M$2-1)*10)","v":-264.05143000000004},{"$f":"OFFSET('II fisicos'!J188,0,($M$2-1)*10)","v":-278.28043000000002},{"$f":"OFFSET('II fisicos'!K188,0,($M$2-1)*10)","v":-159.04378},{"$f":"OFFSET('II fisicos'!L188,0,($M$2-1)*10)","v":"-"},{"$f":"OFFSET('II fisicos'!M188,0,($M$2-1)*10)","v":"-"}]
[null,"Francia","Arkale-Argia",{"$f":"OFFSET('II fisicos'!D189,0,($M$2-1)*10)","v":-686.72208499999999},{"$f":"OFFSET('II fisicos'!E189,0,($M$2-1)*10)","v":-266.97237000000001},{"$f":"OFFSET('II fisicos'!F189,0,($M$2-1)*10)","v":-542.76624900000002},{"$f":"OFFSET('II fisicos'!G189,0,($M$2-1)*10)","v":-314.69150199999996},{"$f":"OFFSET('II fisicos'!H189,0,($M$2-1)*10)","v":-114.54129799999997},{"$f":"OFFSET('II fisicos'!I189,0,($M$2-1)*10)","v":252.391367},{"$f":"OFFSET('II fisicos'!J189,0,($M$2-1)*10)","v":224.45038099999996},{"$f":"OFFSET('II fisicos'!K189,0,($M$2-1)*10)","v":641.15001899999993},{"$f":"OFFSET('II fisicos'!L189,0,($M$2-1)*10)","v":"-"},{"$f":"OFFSET('II fisicos'!M189,0,($M$2-1)*10)","v":"-"}]
[null,null,"Benós-Lac D'oo",{"$f":"OFFSET('II fisicos'!D190,0,($M$2-1)*10)","v":0.20816499999999999},{"$f":"OFFSET('II fisicos'!E190,0,($M$2-1)*10)","v":3.9057380000000004},{"$f":"OFFSET('II fisicos'!F190,0,($M$2-1)*10)","v":2.991787},{"$f":"OFFSET('II fisicos'!G190,0,($M$2-1)*10)","v":2.662674},{"$f":"OFFSET('II fisicos'!H190,0,($M$2-1)*10)","v":1.2165599999999996},{"$f":"OFFSET('II fisicos'!I190,0,($M$2-1)*10)","v":0.30152899999999994},{"$f":"OFFSET('II fisicos'!J190,0,($M$2-1)*10)","v":3.3774459999999999},{"$f":"OFFSET('II fisicos'!K190,0,($M$2-1)*10)","v":0.11227400000000001},{"$f":"OFFSET('II fisicos'!L190,0,($M$2-1)*10)","v":"-"},{"$f":"OFFSET('II fisicos'!M190,0,($M$2-1)*10)","v":"-"}]
[null,null,"Biescas-Pragneres",{"$f":"OFFSET('II fisicos'!D191,0,($M$2-1)*10)","v":-633.69115499999998},{"$f":"OFFSET('II fisicos'!E191,0,($M$2-1)*10)","v":-324.11977300000001},{"$f":"OFFSET('II fisicos'!F191,0,($M$2-1)*10)","v":-257.98465199999998},{"$f":"OFFSET('II fisicos'!G191,0,($M$2-1)*10)","v":-292.5784670000001},{"$f":"OFFSET('II fisicos'!H191,0,($M$2-1)*10)","v":-152.32075200000003},{"$f":"OFFSET('II fisicos'!I191,0,($M$2-1)*10)","v":29.184036000000006},{"$f":"OFFSET('II fisicos'!J191,0,($M$2-1)*10)","v":124.93854900000001},{"$f":"OFFSET('II fisicos'!K191,0,($M$2-1)*10)","v":192.57911799999999},{"$f":"OFFSET('II fisicos'!L191,0,($M$2-1)*10)","v":"-"},{"$f":"OFFSET('II fisicos'!M191,0,($M$2-1)*10)","v":"-"}]
[null,null,"Hernani-Argia",{"$f":"OFFSET('II fisicos'!D192,0,($M$2-1)*10)","v":-183.27626799999999},{"$f":"OFFSET('II fisicos'!E192,0,($M$2-1)*10)","v":892.69657600000005},{"$f":"OFFSET('II fisicos'!F192,0,($M$2-1)*10)","v":426.88209199999994},{"$f":"OFFSET('II fisicos'!G192,0,($M$2-1)*10)","v":352.86549600000006},{"$f":"OFFSET('II fisicos'!H192,0,($M$2-1)*10)","v":826.54410999999982},{"$f":"OFFSET('II fisicos'!I192,0,($M$2-1)*10)","v":1869.1789180000001},{"$f":"OFFSET('II fisicos'!J192,0,($M$2-1)*10)","v":1687.8344379999999},{"$f":"OFFSET('II fisicos'!K192,0,($M$2-1)*10)","v":3839.5000610000006},{"$f":"OFFSET('II fisicos'!L192,0,($M$2-1)*10)","v":"-"},{"$f":"OFFSET('II fisicos'!M192,0,($M$2-1)*10)","v":"-"}]
[null,null,"Irún-Errondenia",{"$f":"OFFSET('II fisicos'!D193,0,($M$2-1)*10)","v":-1.7882180000000001},{"$f":"OFFSET('II fisicos'!E193,0,($M$2-1)*10)","v":-1.9825429999999999},{"$f":"OFFSET('II fisicos'!F193,0,($M$2-1)*10)","v":-1.6672779999999998},{"$f":"OFFSET('II fisicos'!G193,0,($M$2-1)*10)","v":-1.588241},{"$f":"OFFSET('II fisicos'!H193,0,($M$2-1)*10)","v":-1.3462160000000003},{"$f":"OFFSET('II fisicos'!I193,0,($M$2-1)*10)","v":-1.6052370000000002},{"$f":"OFFSET('II fisicos'!J193,0,($M$2-1)*10)","v":-1.4454249999999997},{"$f":"OFFSET('II fisicos'!K193,0,($M$2-1)*10)","v":-1.6244609999999999},{"$f":"OFFSET('II fisicos'!L193,0,($M$2-1)*10)","v":"-"},{"$f":"OFFSET('II fisicos'!M193,0,($M$2-1)*10)","v":"-"}]
[null,null,"Santa Llogaia-Baixas",{"$f":"OFFSET('II fisicos'!D194,0,($M$2-1)*10)","v":0},{"$f":"OFFSET('II fisicos'!E194,0,($M$2-1)*10)","v":0},{"$f":"OFFSET('II fisicos'!F194,0,($M$2-1)*10)","v":0},{"$f":"OFFSET('II fisicos'!G194,0,($M$2-1)*10)","v":0},{"$f":"OFFSET('II fisicos'!H194,0,($M$2-1)*10)","v":0},{"$f":"OFFSET('II fisicos'!I194,0,($M$2-1)*10)","v":1380.3483679999999},{"$f":"OFFSET('II fisicos'!J194,0,($M$2-1)*10)","v":4046.5173769999992},{"$f":"OFFSET('II fisicos'!K194,0,($M$2-1)*10)","v":4584.0673919999999},{"$f":"OFFSET('II fisicos'!L194,0,($M$2-1)*10)","v":"-"},{"$f":"OFFSET('II fisicos'!M194,0,($M$2-1)*10)","v":"-"}]
[null,null,"Vic-Baixas",{"$f":"OFFSET('II fisicos'!D195,0,($M$2-1)*10)","v":-25.650851999999951},{"$f":"OFFSET('II fisicos'!E195,0,($M$2-1)*10)","v":1220.8799760000002},{"$f":"OFFSET('II fisicos'!F195,0,($M$2-1)*10)","v":2255.3364120000001},{"$f":"OFFSET('II fisicos'!G195,0,($M$2-1)*10)","v":1961.1963970000002},{"$f":"OFFSET('II fisicos'!H195,0,($M$2-1)*10)","v":3007.943264},{"$f":"OFFSET('II fisicos'!I195,0,($M$2-1)*10)","v":3794.4133309999997},{"$f":"OFFSET('II fisicos'!J195,0,($M$2-1)*10)","v":1715.8359549999998},{"$f":"OFFSET('II fisicos'!K195,0,($M$2-1)*10)","v":2007.7726959999998},{"$f":"OFFSET('II fisicos'!L195,0,($M$2-1)*10)","v":"-"},{"$f":"OFFSET('II fisicos'!M195,0,($M$2-1)*10)","v":"-"}]
[null,null,"Total",{"$f":"OFFSET('II fisicos'!D196,0,($M$2-1)*10)","v":-1530.9204129999996},{"$f":"OFFSET('II fisicos'!E196,0,($M$2-1)*10)","v":1524.4076040000002},{"$f":"OFFSET('II fisicos'!F196,0,($M$2-1)*10)","v":1882.7921120000001},{"$f":"OFFSET('II fisicos'!G196,0,($M$2-1)*10)","v":1707.8663569999999},{"$f":"OFFSET('II fisicos'!H196,0,($M$2-1)*10)","v":3567.495668},{"$f":"OFFSET('II fisicos'!I196,0,($M$2-1)*10)","v":7324.2123119999997},{"$f":"OFFSET('II fisicos'!J196,0,($M$2-1)*10)","v":7801.5087210000002},{"$f":"OFFSET('II fisicos'!K196,0,($M$2-1)*10)","v":11263.557099000001},{"$f":"OFFSET('II fisicos'!L196,0,($M$2-1)*10)","v":"-"},{"$f":"OFFSET('II fisicos'!M196,0,($M$2-1)*10)","v":"-"}]
[null,"Portugal","Aldeadávila-Pocinho 1",{"$f":"OFFSET('II fisicos'!D197,0,($M$2-1)*10)","v":503.91319999999996},{"$f":"OFFSET('II fisicos'!E197,0,($M$2-1)*10)","v":-399.18557999999996},{"$f":"OFFSET('II fisicos'!F197,0,($M$2-1)*10)","v":-552.81370000000004},{"$f":"OFFSET('II fisicos'!G197,0,($M$2-1)*10)","v":-232.54630000000003},{"$f":"OFFSET('II fisicos'!H197,0,($M$2-1)*10)","v":-241.12745000000001},{"$f":"OFFSET('II fisicos'!I197,0,($M$2-1)*10)","v":-369.31320000000005},{"$f":"OFFSET('II fisicos'!J197,0,($M$2-1)*10)","v":61.0381},{"$f":"OFFSET('II fisicos'!K197,0,($M$2-1)*10)","v":35.616199999999999},{"$f":"OFFSET('II fisicos'!L197,0,($M$2-1)*10)","v":"-"},{"$f":"OFFSET('II fisicos'!M197,0,($M$2-1)*10)","v":"-"}]
[null,null,"Aldeadávila-Pocinho 2",{"$f":"OFFSET('II fisicos'!D198,0,($M$2-1)*10)","v":429.92840000000007},{"$f":"OFFSET('II fisicos'!E198,0,($M$2-1)*10)","v":-396.30273999999997},{"$f":"OFFSET('II fisicos'!F198,0,($M$2-1)*10)","v":-544.59439999999995},{"$f":"OFFSET('II fisicos'!G198,0,($M$2-1)*10)","v":-230.98849999999999},{"$f":"OFFSET('II fisicos'!H198,0,($M$2-1)*10)","v":-227.97987000000001},{"$f":"OFFSET('II fisicos'!I198,0,($M$2-1)*10)","v":-367.30719999999997},{"$f":"OFFSET('II fisicos'!J198,0,($M$2-1)*10)","v":95.698490000000021},{"$f":"OFFSET('II fisicos'!K198,0,($M$2-1)*10)","v":35.884799999999998},{"$f":"OFFSET('II fisicos'!L198,0,($M$2-1)*10)","v":"-"},{"$f":"OFFSET('II fisicos'!M198,0,($M$2-1)*10)","v":"-"}]
[null,null,"Aldeadávila-Lagoaça",{"$f":"OFFSET('II fisicos'!D199,0,($M$2-1)*10)","v":54.690336000000002},{"$f":"OFFSET('II fisicos'!E199,0,($M$2-1)*10)","v":1030.4094899999998},{"$f":"OFFSET('II fisicos'!F199,0,($M$2-1)*10)","v":-641.38024799999994},{"$f":"OFFSET('II fisicos'!G199,0,($M$2-1)*10)","v":1599.2223119999999},{"$f":"OFFSET('II fisicos'!H199,0,($M$2-1)*10)","v":2072.9971450000003},{"$f":"OFFSET('II fisicos'!I199,0,($M$2-1)*10)","v":863.20187999999985},{"$f":"OFFSET('II fisicos'!J199,0,($M$2-1)*10)","v":2892.9614399999991},{"$f":"OFFSET('II fisicos'!K199,0,($M$2-1)*10)","v":1128.890952},{"$f":"OFFSET('II fisicos'!L199,0,($M$2-1)*10)","v":"-"},{"$f":"OFFSET('II fisicos'!M199,0,($M$2-1)*10)","v":"-"}]
[null,null,"Badajoz-Alcaçovas",{"$f":"OFFSET('II fisicos'!D200,0,($M$2-1)*10)","v":-156.76000400000001},{"$f":"OFFSET('II fisicos'!E200,0,($M$2-1)*10)","v":-58.512663999999987},{"$f":"OFFSET('II fisicos'!F200,0,($M$2-1)*10)","v":-0.9825750000000002},{"$f":"OFFSET('II fisicos'!G200,0,($M$2-1)*10)","v":-4.8320000000000012E-3},{"$f":"OFFSET('II fisicos'!H200,0,($M$2-1)*10)","v":-6.1520000000000012E-3},{"$f":"OFFSET('II fisicos'!I200,0,($M$2-1)*10)","v":-4.3070000000000001E-3},{"$f":"OFFSET('II fisicos'!J200,0,($M$2-1)*10)","v":-4.5379999999999995E-3},{"$f":"OFFSET('II fisicos'!K200,0,($M$2-1)*10)","v":-1.2080000000000003E-3},{"$f":"OFFSET('II fisicos'!L200,0,($M$2-1)*10)","v":"-"},{"$f":"OFFSET('II fisicos'!M200,0,($M$2-1)*10)","v":"-"}]
[null,null,"Balboa-Alqueva",{"$f":"OFFSET('II fisicos'!D201,0,($M$2-1)*10)","v":0},{"$f":"OFFSET('II fisicos'!E201,0,($M$2-1)*10)","v":0},{"$f":"OFFSET('II fisicos'!F201,0,($M$2-1)*10)","v":0},{"$f":"OFFSET('II fisicos'!G201,0,($M$2-1)*10)","v":0},{"$f":"OFFSET('II fisicos'!H201,0,($M$2-1)*10)","v":0},{"$f":"OFFSET('II fisicos'!I201,0,($M$2-1)*10)","v":0},{"$f":"OFFSET('II fisicos'!J201,0,($M$2-1)*10)","v":0},{"$f":"OFFSET('II fisicos'!K201,0,($M$2-1)*10)","v":0},{"$f":"OFFSET('II fisicos'!L201,0,($M$2-1)*10)","v":"-"},{"$f":"OFFSET('II fisicos'!M201,0,($M$2-1)*10)","v":"-"}]
[null,null,"Brovales-Alqueva",{"$f":"OFFSET('II fisicos'!D202,0,($M$2-1)*10)","v":53.654402999999995},{"$f":"OFFSET('II fisicos'!E202,0,($M$2-1)*10)","v":954.5617450000002},{"$f":"OFFSET('II fisicos'!F202,0,($M$2-1)*10)","v":1116.5197699999999},{"$f":"OFFSET('II fisicos'!G202,0,($M$2-1)*10)","v":1543.2608129999999},{"$f":"OFFSET('II fisicos'!H202,0,($M$2-1)*10)","v":1248.8027649999999},{"$f":"OFFSET('II fisicos'!I202,0,($M$2-1)*10)","v":1186.1844039999999},{"$f":"OFFSET('II fisicos'!J202,0,($M$2-1)*10)","v":1809.3539059999998},{"$f":"OFFSET('II fisicos'!K202,0,($M$2-1)*10)","v":1644.4031779999998},{"$f":"OFFSET('II fisicos'!L202,0,($M$2-1)*10)","v":"-"},{"$f":"OFFSET('II fisicos'!M202,0,($M$2-1)*10)","v":"-"}]
[null,null,"Cartelle-Lindoso",{"$f":"OFFSET('II fisicos'!D203,0,($M$2-1)*10)","v":-2549.6783},{"$f":"OFFSET('II fisicos'!E203,0,($M$2-1)*10)","v":-3612.5107000000003},{"$f":"OFFSET('II fisicos'!F203,0,($M$2-1)*10)","v":-7034.2612999999992},{"$f":"OFFSET('II fisicos'!G203,0,($M$2-1)*10)","v":-5454.8552999999993},{"$f":"OFFSET('II fisicos'!H203,0,($M$2-1)*10)","v":-4535.5770999999995},{"$f":"OFFSET('II fisicos'!I203,0,($M$2-1)*10)","v":-5290.1415000000006},{"$f":"OFFSET('II fisicos'!J203,0,($M$2-1)*10)","v":-2686.0531000000001},{"$f":"OFFSET('II fisicos'!K203,0,($M$2-1)*10)","v":-1835.9444000000001},{"$f":"OFFSET('II fisicos'!L203,0,($M$2-1)*10)","v":"-"},{"$f":"OFFSET('II fisicos'!M203,0,($M$2-1)*10)","v":"-"}]
[null,null,"Cedillo-Falaguerira",{"$f":"OFFSET('II fisicos'!D204,0,($M$2-1)*10)","v":-795.99580000000014},{"$f":"OFFSET('II fisicos'!E204,0,($M$2-1)*10)","v":144.11847999999998},{"$f":"OFFSET('II fisicos'!F204,0,($M$2-1)*10)","v":404.07799999999997},{"$f":"OFFSET('II fisicos'!G204,0,($M$2-1)*10)","v":398.15789999999998},{"$f":"OFFSET('II fisicos'!H204,0,($M$2-1)*10)","v":363.76969999999994},{"$f":"OFFSET('II fisicos'!I204,0,($M$2-1)*10)","v":1031.9233999999999},{"$f":"OFFSET('II fisicos'!J204,0,($M$2-1)*10)","v":1394.9702000000002},{"$f":"OFFSET('II fisicos'!K204,0,($M$2-1)*10)","v":943.79271000000006},{"$f":"OFFSET('II fisicos'!L204,0,($M$2-1)*10)","v":"-"},{"$f":"OFFSET('II fisicos'!M204,0,($M$2-1)*10)","v":"-"}]
[null,null,"Conchas-Lindoso",{"$f":"OFFSET('II fisicos'!D205,0,($M$2-1)*10)","v":0},{"$f":"OFFSET('II fisicos'!E205,0,($M$2-1)*10)","v":0},{"$f":"OFFSET('II fisicos'!F205,0,($M$2-1)*10)","v":0},{"$f":"OFFSET('II fisicos'!G205,0,($M$2-1)*10)","v":0},{"$f":"OFFSET('II fisicos'!H205,0,($M$2-1)*10)","v":0},{"$f":"OFFSET('II fisicos'!I205,0,($M$2-1)*10)","v":0},{"$f":"OFFSET('II fisicos'!J205,0,($M$2-1)*10)","v":0},{"$f":"OFFSET('II fisicos'!K205,0,($M$2-1)*10)","v":0},{"$f":"OFFSET('II fisicos'!L205,0,($M$2-1)*10)","v":"-"},{"$f":"OFFSET('II fisicos'!M205,0,($M$2-1)*10)","v":"-"}]
[null,null,"Encinasola-Barrancos",{"$f":"OFFSET('II fisicos'!D206,0,($M$2-1)*10)","v":0},{"$f":"OFFSET('II fisicos'!E206,0,($M$2-1)*10)","v":0},{"$f":"OFFSET('II fisicos'!F206,0,($M$2-1)*10)","v":0},{"$f":"OFFSET('II fisicos'!G206,0,($M$2-1)*10)","v":0},{"$f":"OFFSET('II fisicos'!H206,0,($M$2-1)*10)","v":0},{"$f":"OFFSET('II fisicos'!I206,0,($M$2-1)*10)","v":0},{"$f":"OFFSET('II fisicos'!J206,0,($M$2-1)*10)","v":0},{"$f":"OFFSET('II fisicos'!K206,0,($M$2-1)*10)","v":0},{"$f":"OFFSET('II fisicos'!L206,0,($M$2-1)*10)","v":"-"},{"$f":"OFFSET('II fisicos'!M206,0,($M$2-1)*10)","v":"-"}]
[null,null,"Puebla de Guzmán-Tavira",{"$f":"OFFSET('II fisicos'!D207,0,($M$2-1)*10)","v":0},{"$f":"OFFSET('II fisicos'!E207,0,($M$2-1)*10)","v":0},{"$f":"OFFSET('II fisicos'!F207,0,($M$2-1)*10)","v":0},{"$f":"OFFSET('II fisicos'!G207,0,($M$2-1)*10)","v":0},{"$f":"OFFSET('II fisicos'!H207,0,($M$2-1)*10)","v":862.00559499999997},{"$f":"OFFSET('II fisicos'!I207,0,($M$2-1)*10)","v":1211.4200400000002},{"$f":"OFFSET('II fisicos'!J207,0,($M$2-1)*10)","v":1687.9352240000003},{"$f":"OFFSET('II fisicos'!K207,0,($M$2-1)*10)","v":1305.1029309999999},{"$f":"OFFSET('II fisicos'!L207,0,($M$2-1)*10)","v":"-"},{"$f":"OFFSET('II fisicos'!M207,0,($M$2-1)*10)","v":"-"}]
[null,null,"Rosal Frontera-V. Ficalho",{"$f":"OFFSET('II fisicos'!D208,0,($M$2-1)*10)","v":0},{"$f":"OFFSET('II fisicos'!E208,0,($M$2-1)*10)","v":9.9999999999999995E-7},{"$f":"OFFSET('II fisicos'!F208,0,($M$2-1)*10)","v":0},{"$f":"OFFSET('II fisicos'!G208,0,($M$2-1)*10)","v":0},{"$f":"OFFSET('II fisicos'!H208,0,($M$2-1)*10)","v":0},{"$f":"OFFSET('II fisicos'!I208,0,($M$2-1)*10)","v":0},{"$f":"OFFSET('II fisicos'!J208,0,($M$2-1)*10)","v":0},{"$f":"OFFSET('II fisicos'!K208,0,($M$2-1)*10)","v":0},{"$f":"OFFSET('II fisicos'!L208,0,($M$2-1)*10)","v":"-"},{"$f":"OFFSET('II fisicos'!M208,0,($M$2-1)*10)","v":"-"}]
[null,null,"Saucelle-Pocinho",{"$f":"OFFSET('II fisicos'!D209,0,($M$2-1)*10)","v":-174.03970000000004},{"$f":"OFFSET('II fisicos'!E209,0,($M$2-1)*10)","v":-476.61659999999995},{"$f":"OFFSET('II fisicos'!F209,0,($M$2-1)*10)","v":-643.5766000000001},{"$f":"OFFSET('II fisicos'!G209,0,($M$2-1)*10)","v":-398.89889999999991},{"$f":"OFFSET('II fisicos'!H209,0,($M$2-1)*10)","v":-445.58032000000003},{"$f":"OFFSET('II fisicos'!I209,0,($M$2-1)*10)","v":-532.37599999999998},{"$f":"OFFSET('II fisicos'!J209,0,($M$2-1)*10)","v":-169.80632},{"$f":"OFFSET('II fisicos'!K209,0,($M$2-1)*10)","v":-65.211400000000012},{"$f":"OFFSET('II fisicos'!L209,0,($M$2-1)*10)","v":"-"},{"$f":"OFFSET('II fisicos'!M209,0,($M$2-1)*10)","v":"-"}]
[null,null,"Santa María-Elvás",{"$f":"OFFSET('II fisicos'!D210,0,($M$2-1)*10)","v":0},{"$f":"OFFSET('II fisicos'!E210,0,($M$2-1)*10)","v":0},{"$f":"OFFSET('II fisicos'!F210,0,($M$2-1)*10)","v":0},{"$f":"OFFSET('II fisicos'!G210,0,($M$2-1)*10)","v":0},{"$f":"OFFSET('II fisicos'!H210,0,($M$2-1)*10)","v":0},{"$f":"OFFSET('II fisicos'!I210,0,($M$2-1)*10)","v":0},{"$f":"OFFSET('II fisicos'!J210,0,($M$2-1)*10)","v":0},{"$f":"OFFSET('II fisicos'!K210,0,($M$2-1)*10)","v":0},{"$f":"OFFSET('II fisicos'!L210,0,($M$2-1)*10)","v":"-"},{"$f":"OFFSET('II fisicos'!M210,0,($M$2-1)*10)","v":"-"}]
[null,null,"Total",{"$f":"OFFSET('II fisicos'!D211,0,($M$2-1)*10)","v":-2634.2874650000003},{"$f":"OFFSET('II fisicos'!E211,0,($M$2-1)*10)","v":-2814.0385679999999},{"$f":"OFFSET('II fisicos'!F211,0,($M$2-1)*10)","v":-7897.0110530000011},{"$f":"OFFSET('II fisicos'!G211,0,($M$2-1)*10)","v":-2776.6528069999999},{"$f":"OFFSET('II fisicos'!H211,0,($M$2-1)*10)","v":-902.69568700000036},{"$f":"OFFSET('II fisicos'!I211,0,($M$2-1)*10)","v":-2266.4124830000001},{"$f":"OFFSET('II fisicos'!J211,0,($M$2-1)*10)","v":5086.0934020000004},{"$f":"OFFSET('II fisicos'!K211,0,($M$2-1)*10)","v":3192.5337629999999},{"$f":"OFFSET('II fisicos'!L211,0,($M$2-1)*10)","v":"-"},{"$f":"OFFSET('II fisicos'!M211,0,($M$2-1)*10)","v":"-"}]
[null,"Marruecos","Puerto de la Cruz-Mellousa",{"$f":"OFFSET('II fisicos'!D212,0,($M$2-1)*10)","v":-3902.9770700000004},{"$f":"OFFSET('II fisicos'!E212,0,($M$2-1)*10)","v":-4494.7826299999997},{"$f":"OFFSET('II fisicos'!F212,0,($M$2-1)*10)","v":-4899.5173699999996},{"$f":"OFFSET('II fisicos'!G212,0,($M$2-1)*10)","v":-5375.9480799999992},{"$f":"OFFSET('II fisicos'!H212,0,($M$2-1)*10)","v":-5836.4190699999999},{"$f":"OFFSET('II fisicos'!I212,0,($M$2-1)*10)","v":-4926.90949},{"$f":"OFFSET('II fisicos'!J212,0,($M$2-1)*10)","v":-4942.0081399999999},{"$f":"OFFSET('II fisicos'!K212,0,($M$2-1)*10)","v":-4720.9151999999995},{"$f":"OFFSET('II fisicos'!L212,0,($M$2-1)*10)","v":"-"},{"$f":"OFFSET('II fisicos'!M212,0,($M$2-1)*10)","v":"-"}]
[null,null,"Total",{"$f":"OFFSET('II fisicos'!D213,0,($M$2-1)*10)","v":-3902.9770700000004},{"$f":"OFFSET('II fisicos'!E213,0,($M$2-1)*10)","v":-4494.7826299999997},{"$f":"OFFSET('II fisicos'!F213,0,($M$2-1)*10)","v":-4899.5173699999996},{"$f":"OFFSET('II fisicos'!G213,0,($M$2-1)*10)","v":-5375.9480799999992},{"$f":"OFFSET('II fisicos'!H213,0,($M$2-1)*10)","v":-5836.4190699999999},{"$f":"OFFSET('II fisicos'!I213,0,($M$2-1)*10)","v":-4926.90949},{"$f":"OFFSET('II fisicos'!J213,0,($M$2-1)*10)","v":-4942.0081399999999},{"$f":"OFFSET('II fisicos'!K213,0,($M$2-1)*10)","v":-4720.9151999999995},{"$f":"OFFSET('II fisicos'!L213,0,($M$2-1)*10)","v":"-"},{"$f":"OFFSET('II fisicos'!M213,0,($M$2-1)*10)","v":"-"}]
[null,"Saldo (1)",null,{"$f":"OFFSET('II fisicos'!D214,0,($M$2-1)*10)","v":-8332.6790579999997},{"$f":"OFFSET('II fisicos'!E214,0,($M$2-1)*10)","v":-6090.1263339999996},{"$f":"OFFSET('II fisicos'!F214,0,($M$2-1)*10)","v":-11199.953591},{"$f":"OFFSET('II fisicos'!G214,0,($M$2-1)*10)","v":-6732.1324499999992},{"$f":"OFFSET('II fisicos'!H214,0,($M$2-1)*10)","v":-3406.1249290000001},{"$f":"OFFSET('II fisicos'!I214,0,($M$2-1)*10)","v":-133.1610909999996},{"$f":"OFFSET('II fisicos'!J214,0,($M$2-1)*10)","v":7667.313553},{"$f":"OFFSET('II fisicos'!K214,0,($M$2-1)*10)","v":9576.1318820000015},{"$f":"OFFSET('II fisicos'!L214,0,($M$2-1)*10)","v":"-"},{"$f":"OFFSET('II fisicos'!M214,0,($M$2-1)*10)","v":"-"}]
[null,"(1) Valor positivo: saldo importador; Valor negativo: saldo exportador. "]
[null,{"$f":"IF(M2=3,IF(MONTH(FACT)=1,CONCATENATE(\"Datos a 31 de diciembre. Para el año \",YEAR(FACT)-1, \" datos a \",TEXT(FACT-60,\"mmmm\"),\" de \",YEAR(FACT)-1,\".\"),CONCATENATE(\"Datos a 31 de diciembre. Para el año \",YEAR(FACT), \" datos a \",TEXT(FACT-60,\"mmmm\"),\" de \",YEAR(FACT),\".\")),\"Datos a 31 de diciembre.\")","v":"Datos a 31 de diciembre. Para el año 2017 datos a septiembre de 2017."}]

{"sheet":"II fisicos","index":9,"n_rows":214,"n_cols":339,"rows_kept":214,"cut":false,"hidden":true,"merged":[[2,1,6,1],[7,1,11,1],[12,1,16,1],[109,1,113,1],[114,1,118,1],[19,1,20,1],[21,1,28,1],[29,1,43,1],[44,1,45,1],[49,1,50,1],[51,1,58,1],[59,1,73,1],[74,1,75,1],[79,1,80,1],[81,1,88,1],[89,1,103,1],[104,1,105,1],[126,1,127,1],[128,1,135,1],[136,1,150,1],[119,1,123,1],[186,1,187,1],[188,1,195,1],[196,1,210,1],[211,1,212,1],[151,1,152,1],[156,1,157,1],[158,1,165,1],[166,1,180,1],[181,1,182,1]]}
[]
[null,"Intercambios internacionales físicos por frontera (GWh)","País","1990-01-01","1990-02-01","1990-03-01","1990-04-01","1990-05-01","1990-06-01","1990-07-01","1990-08-01","1990-09-01","1990-10-01","1990-11-01","1990-12-01","1991-01-01","1991-02-01","1991-03-01","1991-04-01","1991-05-01","1991-06-01","1991-07-01","1991-08-01","1991-09-01","1991-10-01","1991-11-01","1991-12-01","1992-01-01","1992-02-01","1992-03-01","1992-04-01","1992-05-01","1992-06-01","1992-07-01","1992-08-01","1992-09-01","1992-10-01","1992-11-01","1992-12-01","1993-01-01","1993-02-01","1993-03-01","1993-04-01","1993-05-01","1993-06-01","1993-07-01","1993-08-01","1993-09-01","1993-10-01","1993-11-01","1993-12-01","1994-01-01","1994-02-01","1994-03-01","1994-04-01","1994-05-01","1994-06-01","1994-07-01","1994-08-01","1994-09-01","1994-10-01","1994-11-01","1994-12-01","1995-01-01","1995-02-01","1995-03-01","1995-04-01","1995-05-01","1995-06-01","1995-07-01","1995-08-01","1995-09-01","1995-10-01","1995-11-01","1995-12-01","1996-01-01","1996-02-01","1996-03-01","1996-04-01","1996-05-01","1996-06-01","1996-07-01","1996-08-01","1996-09-01","1996-10-01","1996-11-01","1996-12-01","1997-01-01","1997-02-01","1997-03-01","1997-04-01","1997-05-01","1997-06-01","1997-07-01","1997-08-01","1997-09-01","1997-10-01","1997-11-01","1997-12-01","1998-01-01","1998-02-01","1998-03-01","1998-04-01","1998-05-01","1998-06-01","1998-07-01","1998-08-01","1998-09-01","1998-10-01","1998-11-01","1998-12-01","1999-01-01","1999-02-01","1999-03-01","1999-04-01","1999-05-01","1999-06-01","1999-07-01","1999-08-01","1999-09-01","1999-10-01","1999-11-01","1999-12-01","2000-01-01","2000-02-01","2000-03-01","2000-04-01","2000-05-01","2000-06-01","2000-07-01","2000-08-01","2000-09-01","2000-10-01","2000-11-01","2000-12-01","2001-01-01","2001-02-01","2001-03-01","2001-04-01","2001-05-01","2001-06-01","2001-07-01","2001-08-01","2001-09-01","2001-10-01","2001-11-01","2001-12-01","2002-01-01","2002-02-01","2002-03-01","2002-04-01","2002-05-01","2002-06-01","2002-07-01","2002-08-01","2002-09-01","2002-10-01","2002-11-01","2002-12-01","2003-01-01","2003-02-01","2003-03-01","2003-04-01","2003-05-01","2003-06-01","2003-07-01","2003-08-01","2003-09-01","2003-10-01","2003-11-01","2003-12-01","2004-01-01","2004-02-01","2004-03-01","2004-04-01","2004-05-01","2004-06-01","2004-07-01","2004-08-01","2004-09-01","2004-10-01","2004-11-01","2004-12-01","2005-01-01","2005-02-01","2005-03-01","2005-04-01","2005-05-01","2005-06-01","2005-07-01","2005-08-01","2005-09-01","2005-10-01","2005-11-01","2005-12-01","2006-01-01","2006-02-01","2006-03-01","2006-04-01","2006-05-01","2006-06-01","2006-07-01","2006-08-01","2006-09-01","2006-10-01","2006-11-01","2006-12-01","2007-01-01","2007-02-01","2007-03-01","2007-04-01","2007-05-01","2007-06-01","2007-07-01","2007-08-01","2007-09-01","2007-10-01","2007-11-01","2007-12-01","2008-01-01","2008-02-01","2008-03-01","2008-04-01","2008-05-01","2008-06-01","2008-07-01","2008-08-01","2008-09-01","2008-10-01","2008-11-01","2008-12-01","2009-01-01","2009-02-01","2009-03-01","2009-04-01","2009-05-01","2009-06-01","2009-07-01","2009-08-01","2009-09-01","2009-10-01","2009-11-01","2009-12-01","2010-01-01","2010-02-01","2010-03-01","2010-04-01","2010-05-01","2010-06-01","2010-07-01","2010-08-01","2010-09-01","2010-10-01","2010-11-01","2010-12-01","2011-01-01","2011-02-01","2011-03-01","2011-04-01","2011-05-01","2011-06-01","2011-07-01","2011-08-01","2011-09-01","2011-10-01","2011-11-01","2011-12-01","2012-01-01","2012-02-01","2012-03-01","2012-04-01","2012-05-01","2012-06-01","2012-07-01","2012-08-01","2012-09-01","2012-10-01","2012-11-01","2012-12-01","2013-01-01","2013-02-01","2013-03-01","2013-04-01","2013-05-01","2013-06-01","2013-07-01","2013-08-01","2013-09-01","2013-10-01","2013-11-01","2013-12-01","2014-01-01","2014-02-01","2014-03-01","2014-04-01","2014-05-01","2014-06-01","2014-07-01","2014-08-01","2014-09-01","2014-10-01","2014-11-01","2014-12-01","2015-01-01","2015-02-01","2015-03-01","2015-04-01","2015-05-01","2015-06-01","2015-07-01","2015-08-01","2015-09-01","2015-10-01","2015-11-01","2015-12-01","2016-01-01","2016-02-01","2016-03-01","2016-04-01","2016-05-01","2016-06-01","2016-07-01","2016-08-01","2016-09-01","2016-10-01","2016-11-01","2016-12-01","2017-01-01","2017-02-01","2017-03-01","2017-04-01","2017-05-01","2017-06-01","2017-07-01","2017-08-01","2017-09-01","2017-10-01","2017-11-01","2017-12-01"]
[null,"Entradas","ANDORRA",0,0,0,0,0,0.25600000000000001,0,0,0,0,0,0,0,0,1.4E-2,0,0,1E-3,2E-3,0,0,0,0,0,0,0,0,0,0,0,0,3.0000000000000001E-3,0.01,0,4.0000000000000001E-3,0,0,0,0,0,6.0000000000000001E-3,8.0000000000000002E-3,1E-3,0,0,0,0,0,0,0,2E-3,0,0,0,0,0,0,0,0,0,0,0,0,0,1E-3,0,0,0,0,0,0,0,0,0,0,0,0,0,0,0,0,0,0,0,0,0,0,1.2E-2,2.4E-2,0.02,2E-3,0,0,0,0,0,0,0,3.0000000000000001E-3,0,1E-3,1E-3,1E-3,0,0,0,0,0,7.7839999999999998,0,0,0,0,0,0,0,0,0,0,0,0,0,0,0,0,0,0,0,0,0,0,0,0,0,0,0,0,0,0,0,0,0,0,0,0,0,0,0,0,0,0,0,0,0,0,0,0,0,0,0,0,0,0,0,0,0,0,0,0,1E-3,0,0,0,2E-3,0,0,0,0,0,0,0,0,0,1E-3,2E-3,3.0000000000000001E-3,0,0,1E-3,1E-3,7.0000000000000001E-3,0,0,0,0,0,0,0,0,0,2E-3,1E-3,0,0,0,0,0,0,0,1E-3,0.26500000000000001,1E-3,0,0,0,0,0,0,0,0,0,0,0,0,0,0,0,0,0,0,0,0,0,1E-3,0,0,0,0,0,8.0000000000000002E-3,0,0,0,0,3.4000000000000002E-4,2.9999999999999997E-5,0,0,0,0,0,0,0,0,0,0,0,1.6000000000000001E-4,7.0000000000000007E-5,1.1E-4,2.2000000000000001E-4,0,0,0,4.0000000000000002E-4,8.0000000000000007E-5,4.0000000000000003E-5,3.4000000000000002E-4,2.6000000000000003E-4,3.5999999999999997E-4,0,0,2.0000000000000002E-5,0,0,8.0000000000000007E-5,0,0,0,0,6.4999999999999997E-4,0,3.4000000000000002E-4,0,0,1.1E-4,0,0,0,0,0,4.0999999999999999E-4,8.3999999999999993E-4,6.6E-4,1.24E-3,1.06E-3,6.9999999999999999E-4,5.5000000000000003E-4,1.4000000000000001E-4,0,0,0,0,4.6999999999999999E-4,1.32E-3,6.0999999999999997E-4,0,5.0000000000000001E-4,2.6000000000000003E-4,3.5E-4,8.7000000000000001E-4,1.8500000000000001E-3,0,0,0,0,1.6000000000000001E-4,7.1999999999999994E-4,1.7000000000000001E-4,4.6999999999999999E-4,1.4299999999999998E-3,8.9999999999999998E-4,1.3000000000000002E-4,0,0,0,6.4900000000000001E-3,1.33E-3,6.0300000000000006E-3,1.15E-3,2.5000000000000001E-4,1.3000000000000002E-4,1.1000000000000001E-3,0,"-","-"]
[null,null,"FRANCIA",47.323,108.85299999999999,146.29900000000001,115.286,228.13800000000001,111.479,122.628,147.154,133.01300000000001,116.373,78.655000000000001,156.47800000000001,156.10300000000001,151.69900000000001,85.3,32.134999999999998,52.838000000000001,98.045000000000002,112.479,192.76599999999999,121.315,131.49600000000001,164.697,166.428,131.995,116.93899999999999,185.74299999999999,244.815,467.81799999999998,568.07100000000003,427.92500000000001,342.49099999999999,234.48400000000001,157.50299999999999,127.024,149.435,234.48099999999999,329.70600000000002,335.37599999999998,260.33499999999998,273.678,276.416,353.25599999999997,141.31,138.53700000000001,92.852000000000004,136.87899999999999,130.65,132.31800000000001,156.322,162.624,161.124,126.739,155.68600000000001,404.05,386.82,481.89600000000002,530.63099999999997,510.12200000000001,528.673,544.40300000000002,483.80700000000002,505.59699999999998,462.601,505.76900000000001,496.34500000000003,556.99800000000005,550.10199999999998,532.54999999999995,469.54500000000002,443.41300000000001,337.48200000000003,185.88900000000001,107.276,278.45499999999998,324.702,272.971,374.68200000000002,416.084,354.185,343.28100000000001,392.709,400.6,294.63299999999998,26.225999999999999,100.429,205.40100000000001,172.41200000000001,177.45699999999999,141.751,191.58500000000001,192.03399999999999,249.93,308.798,227.292,121.024,433.92899999999997,406.02499999999998,479.58100000000002,451.43200000000002,410.29700000000003,391.334,429.86599999999999,451.72399999999999,406.65,460.47300000000001,443.72500000000002,500.577,531.31700000000001,553.58299999999997,602.76199999999994,608.43899999999996,528.71500000000003,507.303,706.40700000000004,682.36699999999996,655.07299999999998,664.2,738.62300000000005,687.04200000000003,522.15200000000004,692.48099999999999,833.48800000000006,775.92499999999995,823.41099999999994,651.09,685.56100000000004,726.14099999999996,725.83399999999995,743.71299999999997,825.26700000000005,495.76799999999997,283.78899999999999,343.69099999999997,274.666,466.87799999999999,695.81500000000005,678.38400000000001,705.44100000000003,716.54899999999998,671.14,444.411,691.80700000000002,752.12699999999995,711.08900000000006,827.36300000000006,902.68200000000002,855.20299999999997,588.851,423.76799999999997,745.83399999999995,752.01700000000005,744.84299999999996,778.83100000000002,939.85900000000004,791.39599999999996,442.983,355.91899999999998,543.97400000000005,392.53300000000002,650.01900000000001,702.53,679.90599999999995,682.77200000000005,659.65,582.29700000000003,378.47699999999998,315.91000000000003,398.46199999999999,372.81900000000002,534.57299999999998,385.37299999999999,485.22,467.53300000000002,590.56299999999999,366.505,505.43900000000002,495.34500000000003,559.01300000000003,817.46900000000005,945.25599999999997,738.72699999999998,643.57100000000003,643.64499999999998,816.90099999999995,718.00599999999997,673.63,587.25,401.40100000000001,425.04199999999997,293.68700000000001,413.30200000000002,580.15599999999995,337.12099999999998,164.30500000000001,525.87699999999995,697.24699999999996,577.697,426.11900000000003,685.09699999999998,672.91499999999996,592.99900000000002,325.98200000000003,304.596,728.26599999999996,535.45600000000002,696.92100000000005,678.98599999999999,567.53200000000004,688.53399999999999,711.37900000000002,734.20500000000004,440.274,220.19300000000001,177.577,418.74900000000002,592.60400000000004,530.68399999999997,323.40300000000002,195.91,482.221,246.798,424.35300000000001,397.01400000000001,298.05700000000002,216.28,418.93,425.35700000000003,224.803,174.048,427.49200000000002,503.81900000000002,649.81799999999998,463.46,440.995,283.52800000000002,211.47200000000001,193.96799999999999,197.01,171.93700000000001,121.55772400000001,46.976014000000006,90.767991999999992,35.958673000000005,106.921913,245.33968900000002,218.86736499999998,456.85379499999999,277.673113,146.97753400000002,181.84427700000001,53.535180999999994,112.02132,33.423020999999999,58.332529999999998,161.75688600000001,306.71636999999998,480.08816400000001,569.88927899999999,652.84516000000008,456.43617899999998,484.87696,149.945312,520.668589,775.913005,192.46542600000001,517.61790099999996,336.457718,463.89886700000005,576.56759999999997,597.23351000000002,489.40004100000004,267.39712400000002,144.990118,210.578542,338.001103,407.63509199999999,162.12785500000001,16.360188000000001,127.509276,643.10476899999992,610.70011799999997,542.52131900000006,708.93860699999993,500.410348,422.18327199999999,168.19351,569.39043900000001,213.28157000000002,31.780954000000001,225.57662500000001,61.347569999999997,715.62708299999997,684.64358499999992,730.76023799999996,816.65039300000001,786.30433200000004,564.62796600000001,618.42491500000006,513.73582499999998,733.136481,172.00493599999999,351.270512,559.21912899999995,838.61568799999998,773.13353000000006,778.86655099999996,727.35183100000006,564.61117000000002,676.20622400000002,1264.8085020000001,1691.6630230000001,906.53185900000005,888.75554599999998,746.00145499999996,430.93863199999998,924.3002560000001,1210.4036370000001,1338.2263210000001,1404.554545,1285.461886,734.83149900000001,948.01542900000004,1317.30999,505.54632900000001,896.20979899999998,1815.8410290000002,1517.2799990000001,1861.6174169999999,1446.751409,1416.4407120000001,1706.722029,1643.487609,1411.4637,"-","-"]
[null,null,"PORTUGAL",211.92699999999999,173.49,125.096,111.664,113.816,151.453,153.33699999999999,117.279,161.28,149.572,109.46599999999999,117.77500000000001,136.166,163.84899999999999,186.10499999999999,118.348,134.79599999999999,136.70699999999999,109.345,113.96299999999999,93.730999999999995,127.298,151.55199999999999,148.46700000000001,115.32599999999999,45.942999999999998,52.216999999999999,154.26900000000001,78.629000000000005,70.064999999999998,32.613,103.539,124.708,120.309,155.614,144.19399999999999,166.452,169.64699999999999,167.71100000000001,123.614,144.77600000000001,114.158,163.42599999999999,158.98599999999999,122.373,148.19,272.07400000000001,150.964,172.16,145.97999999999999,140.125,135.78700000000001,146.691,105.682,63.158999999999999,93.484999999999999,92.221000000000004,101.63200000000001,59.033999999999999,112.944,91.087000000000003,86.643000000000001,101.871,114.812,100.788,114.045,158.97,174.06100000000001,206.67,221.48599999999999,155.82,214.804,304.46499999999997,262.71199999999999,215.81800000000001,206.22200000000001,179.12899999999999,304.31400000000002,400.30200000000002,390.68700000000001,233.54,114.045,183.142,210.45699999999999,272.07600000000002,198.69399999999999,186.98500000000001,157.00200000000001,118.88,201.88900000000001,168.40299999999999,110.557,190.548,333.74299999999999,245.67699999999999,296.14100000000002,276.19499999999999,230.012,249.72300000000001,265.46899999999999,353.92599999999999,275.858,375.27,320.28100000000001,265.596,364.56400000000002,375.88499999999999,345.34399999999999,333.58100000000002,324.29399999999998,395.733,487.42,497.07600000000002,488.24,450.22500000000002,196.488,250.28200000000001,303.81599999999997,383.17099999999999,374.82499999999999,380.42599999999999,312.58,285.91699999999997,358.94200000000001,423.029,208.47300000000001,259.56299999999999,246.81100000000001,267.267,332.71499999999997,357.702,333.41199999999998,302.01100000000002,239.523,227.3,435.89800000000002,280.596,322.96199999999999,353.27199999999999,138.6,260.52800000000002,307.87599999999998,282.09100000000001,326.80500000000001,327.67200000000003,338.07900000000001,388.459,409.75799999999998,291.83600000000001,292.87299999999999,314.27499999999998,171.482,217.93700000000001,190.852,236.48599999999999,250.11699999999999,361.71100000000001,297.41199999999998,279.00099999999998,249.61699999999999,316.62400000000002,307.51799999999997,273.58300000000003,150.88900000000001,203.32400000000001,170.52,213.643,280.62200000000001,268.077,214.88499999999999,188.61199999999999,108.367,143.10300000000001,118.399,145.994,108.785,151.80500000000001,189.95099999999999,216.96899999999999,257.15699999999998,409.363,337.63,280.62900000000002,187.97800000000001,158.429,215.50899999999999,266.52800000000002,112.913,147.77000000000001,149.959,180.63900000000001,353.32600000000002,223.333,250.58199999999999,330.03399999999999,270.63,196.202,151.13399999999999,254.44800000000001,298.51299999999998,109.64700000000001,257.52,356.964,483.13200000000001,454.79300000000001,357.31599999999997,344.637,103.929,155.226,112.68600000000001,150.67699999999999,150.04400000000001,85.700999999999993,32.057000000000002,111.327,94.542000000000002,180.649,82.320999999999998,37.673000000000002,60.616,80.180999999999997,86.623999999999995,80.945999999999998,104.43899999999999,117.7,63.762999999999998,167.779,251.04400000000001,242.797,349.34,294.45800000000003,148.959,173.34899999999999,157.03899999999999,155.23099999999999,192.94800000000001,194.60400000000001,164.18899999999999,213.96100000000001,533.47199999999998,617.43803500000001,350.47622200000001,357.60936300000003,287.27867300000003,291.068804,121.79977199999999,99.872470000000007,79.956122000000008,86.930311000000003,70.430326000000008,231.85692800000001,594.34204799999998,465.18135100000001,460.54515600000002,488.24495100000001,196.640927,436.15978200000001,224.41673499999999,240.49616500000002,301.45461399999999,231.18845499999998,255.41774799999999,338.06248900000003,292.02250600000002,181.30876500000002,267.75962599999997,183.078135,131.71823499999999,232.19162400000002,258.22854899999999,174.65298100000001,268.42373100000003,220.99519599999999,125.394706,435.96524699999998,390.89136200000002,667.21061499999996,566.68799200000001,881.00271200000009,791.46653300000003,386.31660800000003,247.82888800000001,91.895904000000002,242.52816000000001,187.61210500000001,308.943445,437.90606300000002,514.06738500000006,1168.214199,880.38511100000005,805.38225,467.01246000000003,265.37832199999997,303.81653899999998,251.76425899999998,308.20536900000002,315.86087699999996,295.49279999999999,726.10688800000003,557.109329,408.74429700000002,732.87417299999993,610.2021729999999,377.07500199999998,424.36655500000001,353.11010399999998,444.29017099999999,349.17281400000002,356.833461,753.51903400000003,460.97543899999999,539.53513899999996,1305.514185,1277.5479599999999,797.91247199999998,949.05557099999999,850.99605099999997,619.838573,617.84463600000004,633.4120969999999,590.15457300000003,515.37005299999998,768.24055700000008,775.72130900000002,840.39130399999999,917.18662600000005,683.733608,576.25388600000008,614.04710599999999,631.52740099999994,812.14536600000008,901.02256499999999,604.18244299999992,111.1112,"-","-"]
[null,null,"MARRUECOS",0,0,0,0,0,0,0,0,0,0,0,0,0,0,0,0,0,0,0,0,0,0,0,0,0,0,0,0,0,0,0,0,0,0,0,0,0,0,0,0,0,0,0,0,0,0,0,0,0,0,0,0,0,0,0,0,0,0,0,0,0,0,0,0,0,0,0,0,0,0,0,0,0,0,0,0,0,0,0,0,0,0,0,0,0,0,0,0,0,0,0,0.11899999999999999,0,4.2000000000000003E-2,1.8120000000000001,0,0,0,0,0,0,0,0,0,0,0,0,0,0,0,0,0,0,0,0,0,0,0,0,0,0,0,0,0,0,0,0,0,0,0,0,0,0,0,0,0,0,0,0,0,0,0,0,0,12.481,0,0,0,0,0,0,0,0,0,0,0,1.06,0.58799999999999997,0.58099999999999996,0.20300000000000001,0.13100000000000001,3.0760000000000001,5.9029999999999996,9.1690000000000005,0.76300000000000001,2.2989999999999999,1.1379999999999999,4.1420000000000003,0.28100000000000003,0.46100000000000002,1.4630000000000001,0.08,1.385,4.8259999999999996,3.5720000000000001,1.679,2.7360000000000002,0.51600000000000001,1.3620000000000001,2.83,13.728,14.619,15.077,12.545999999999999,9.3079999999999998,15.015000000000001,10.050000000000001,1.159,3.0259999999999998,1.5620000000000001,4.4080000000000004,9.9079999999999995,5.9950000000000001,1.905,3.379,3.7,0.75900000000000001,1.266,3.18,0.21,0.36899999999999999,4.8609999999999998,0.52300000000000002,2.0329999999999999,1.1639999999999999,0.66500000000000004,0.16600000000000001,0.60899999999999999,6.7000000000000004E-2,0.36799999999999999,0.68500000000000005,1.2070000000000001,0.29199999999999998,3.3849999999999998,1.8939999999999999,11.002000000000001,1.6990000000000001,0.126,1.8180000000000001,1E-3,1.4259999999999999,0.71,2E-3,8.9999999999999993E-3,5.3999999999999999E-2,4.0620000000000003,2.6619999999999999,2.3559999999999999,2.593,1.923,2.72,0.19600000000000001,3.5000000000000003E-2,0,1.2999999999999999E-2,0,6.4000000000000001E-2,0,0.13100000000000001,0.3,1.9214,9.3867999999999991,12.201499999999999,0.30410000000000004,0.24552000000000002,2.07E-2,0,0,0,0,1.3302,8.5091000000000001,2.9754999999999998,1.40459,2.3254999999999999,5.6100000000000004E-2,0.26539999999999997,0.38160000000000005,4.4000000000000003E-3,7.6E-3,3.1420000000000003E-2,4.8399999999999999E-2,6.2356999999999996,1.8782000000000001,1.1532,1.5198,0.6885,0.15969999999999998,0.1162,4.41E-2,0,5.0000000000000001E-4,5.0000000000000002E-5,0.91320000000000001,3.6299999999999999E-2,1.12E-2,0,0.17169999999999999,0.90460000000000007,0,1.4E-3,0,0,2.9999999999999997E-5,1.1999999999999999E-3,6.1999999999999998E-3,6.0000000000000001E-3,3.2799999999999996E-2,0.29139999999999999,0,0.1767,0.29380000000000001,1.6999999999999999E-3,3.8399999999999997E-2,0.58599999999999997,0.71160000000000001,0,7.1400000000000005E-2,9.6000000000000002E-2,0.2656,2.6551999999999998,0.79770000000000008,1.0597000000000001,6.9400000000000003E-2,9.4999999999999998E-3,0.75029999999999997,2.4085000000000001,0.113,2.8216000000000001,0.56238999999999995,0.98329999999999995,1.9087000000000001,0.64539999999999997,9.7099999999999992E-2,0.31850000000000001,9.5500000000000002E-2,0.16119999999999998,0.25900000000000001,1.4961,3.0499999999999999E-2,0.45066000000000001,7.0999999999999991E-4,0.64019999999999999,3.7225000000000001,1.2683,0.12490000000000001,2.3899999999999998E-2,4.9399999999999999E-2,2.5499999999999998E-2,0.28449999999999998,3.5999999999999999E-3,0.12040000000000001,0.89610000000000001,0,"-","-"]
[null,null,"Total",259.25,282.34300000000002,271.39499999999998,226.95,341.95400000000001,263.18799999999999,275.96499999999997,264.43299999999999,294.29300000000001,265.94499999999999,188.12099999999998,274.25300000000004,292.26900000000001,315.548,271.41899999999998,150.483,187.63399999999999,234.75299999999999,221.82599999999999,306.72899999999998,215.04599999999999,258.79399999999998,316.24900000000002,314.89499999999998,247.321,162.88200000000001,237.95999999999998,399.084,546.447,638.13599999999997,460.53800000000001,446.03299999999996,359.202,277.81200000000001,282.642,293.62900000000002,400.93299999999999,499.35300000000001,503.08699999999999,383.94899999999996,418.46,390.58199999999999,516.68299999999999,300.29599999999999,260.91000000000003,241.042,408.95299999999997,281.61400000000003,304.47800000000001,302.30200000000002,302.75099999999998,296.911,273.43,261.36799999999999,467.209,480.30500000000001,574.11699999999996,632.26299999999992,569.15600000000006,641.61699999999996,635.49,570.45000000000005,607.46799999999996,577.41300000000001,606.55799999999999,610.39,715.96800000000007,724.16300000000001,739.21999999999991,691.03099999999995,599.23299999999995,552.28600000000006,490.35399999999998,369.988,494.27300000000002,530.92399999999998,452.1,678.99600000000009,816.38599999999997,744.87200000000007,576.82100000000003,506.75400000000002,583.74199999999996,505.09,298.30200000000002,299.12299999999999,392.38600000000002,329.42600000000004,296.36099999999999,343.66,359.99,302.71000000000004,440.47800000000001,642.58299999999997,474.78100000000001,417.16500000000002,710.12400000000002,636.03700000000003,729.30700000000002,716.90100000000007,764.22399999999993,667.19299999999998,805.13699999999994,772.005,672.24599999999998,825.03700000000003,819.61,845.92100000000005,872.68200000000002,877.87699999999995,998.49499999999989,1095.8589999999999,1025.7910000000002,995.54300000000001,1156.6320000000001,878.85500000000002,905.35500000000002,968.01600000000008,1121.7940000000001,1061.867,902.57799999999997,1005.0609999999999,1119.405,1134.867,1246.44,859.5630000000001,945.12400000000002,972.952,993.10099999999989,1076.4279999999999,1182.9690000000001,829.18,585.79999999999995,583.21399999999994,501.96600000000001,902.77600000000007,976.41100000000006,1001.346,1058.713,855.149,931.66800000000001,752.28700000000003,973.89800000000002,1078.932,1051.242,1165.442,1291.1410000000001,1264.961,880.68700000000001,716.64099999999996,1060.1089999999999,923.49900000000002,962.78,969.68299999999999,1176.345,1041.5129999999999,805.75399999999991,653.91899999999987,823.55600000000004,642.35299999999995,966.774,1013.124,959.39200000000005,842.83,863.73699999999997,755.11599999999999,593.25800000000004,600.67400000000009,666.81999999999994,588.16599999999994,724.64799999999991,493.82,629.70800000000008,590.76,740.12900000000002,476.96899999999994,659.98,685.81200000000001,777.34399999999994,1077.4559999999999,1368.347,1090.9759999999999,939.27700000000004,844.17000000000007,984.63999999999987,948.53300000000002,950.20799999999997,701.322,552.19799999999998,576.56399999999996,478.74100000000004,776.53600000000006,809.48399999999992,589.60799999999995,497.71800000000002,800.20699999999999,894.20799999999997,730.09699999999998,683.74699999999996,983.81999999999994,782.93299999999999,855.38099999999997,683.46900000000005,789.76100000000008,1184.223,893.4369999999999,1041.7239999999999,783.524,722.82500000000005,801.58900000000006,863.00599999999997,885.45699999999999,526.26700000000005,255.63499999999999,290.798,524.29300000000001,774.952,613.13099999999997,362.89400000000001,256.52699999999999,563.82800000000009,334.13200000000001,505.30099999999999,501.46199999999999,415.81099999999998,284.10500000000002,589.37100000000009,678.75700000000006,470.19300000000004,525.31099999999992,724.67000000000007,652.97400000000005,823.20199999999988,620.5,596.23900000000003,476.476,406.14000000000004,358.15699999999998,411.10199999999998,705.71699999999998,740.91715900000008,406.83903600000002,460.57885500000003,323.54144600000001,398.23657700000001,367.160191,318.73983499999997,536.80991700000004,364.60342400000002,217.40786000000003,415.03140500000001,656.38632899999993,580.17817100000002,495.37276700000001,548.90298099999995,358.453913,743.14155200000005,704.88665900000001,810.38991399999998,954.30748400000004,687.65627399999994,740.34310800000003,494.24350099999998,814.56929500000001,958.37536999999998,461.74493200000001,701.38457600000004,468.33599299999997,696.206951,834.84060899999997,771.88649099999998,757.82427200000006,488.39239000000003,271.298024,646.58008899999993,728.90374500000007,1074.8457069999999,728.98754699999995,898.26750000000004,918.97580900000003,1029.4234269999999,858.52900599999998,634.41756299999997,951.46679699999993,688.02365299999997,731.13302699999997,606.10557300000005,1083.490624,1381.7871689999999,912.166065,1031.135575,528.65424000000007,981.00794499999995,988.4991839999999,983.11173699999995,1125.5684220000001,1102.1659090000001,860.19271600000002,1344.627943,1071.110754,1144.5359780000001,905.67680899999993,962.53238499999998,936.36400099999992,1262.9930629999999,1126.9945440000001,1225.5652219999999,1076.6381450000001,924.26649100000009,1430.287998,1726.7681110000001,2233.1087120000002,2212.691444,2166.4006060000002,1544.2324269999999,1380.0897029999999,1775.4576670000001,1830.5019300000001,1957.567227,2037.9976119999999,1876.0685489999998,1250.203162,1716.8963160000001,2096.7537990000001,1347.205933,1813.5213249999999,2499.6050270000001,2093.5846150000002,2475.6960530000001,2078.5644600000001,2228.5899279999999,2607.8651239999999,2248.5672519999998,1522.5748999999998,"-","-"]
[null,"Salidas","ANDORRA",0,0,0,0,0,2.0790000000000002,8.8699999999999992,2.706,3.8959999999999999,1.3420000000000001,0,0,0,2.544,0,0.314,0.11,1.357,14.208,21.045000000000002,7.0990000000000002,0,2.181,1.4999999999999999E-2,0.66900000000000004,1.7430000000000001,0,0.31,0.88400000000000001,0.45700000000000002,8.3290000000000006,4.7519999999999998,1.355,0,10.039999999999999,0,7.71,18.128,5.8,15.054,5.67,4.95,16.838999999999999,21.55,19.931999999999999,13.903,9.7260000000000009,3.242,0,0,16.599,11.795999999999999,0,0.14000000000000001,1.5860000000000001,0,20.452000000000002,18.117000000000001,14.531000000000001,26.01,21.512,9.67,0,0.02,1.4590000000000001,0,0,15.664,15.67,7.6139999999999999,20.623000000000001,17.646999999999998,26.602,12.939,11.827999999999999,5.23,3.8130000000000002,0.127,2.7709999999999999,9.1280000000000001,16.352,12.59,13.577,12.492000000000001,23.24,11.384,8.0630000000000006,8.35,4.8949999999999996,6.7279999999999998,6.1130000000000004,1.9E-2,5.8710000000000004,21.193999999999999,9.0649999999999995,0,0.75800000000000001,1.385,23.76,18.699000000000002,2.6219999999999999,4.1849999999999996,20.196000000000002,25.338000000000001,20.58,18.553000000000001,2.988,0,30.468,36.276000000000003,32.381999999999998,19.120999999999999,3.21,2.4420000000000002,0.29499999999999998,0,0.60499999999999998,23.762,30.207000000000001,41.329000000000001,41.523000000000003,36.134999999999998,35.462000000000003,27.626000000000001,2.4470000000000001,8.6300000000000008,4.0110000000000001,15.641,4.5220000000000002,24.983000000000001,30.245999999999999,40.732999999999997,41.825000000000003,39.795999999999999,25.856000000000002,19.338999999999999,0.161,0,0,0.16,7.08,30.593,35.506999999999998,48.040999999999997,47.988,41.008000000000003,35.664000000000001,25.751999999999999,4.3999999999999997E-2,5.6959999999999997,1.752,11.426,2.4860000000000002,35.871000000000002,37.9,46.164000000000001,41.335000000000001,42.015000000000001,33.911000000000001,24.538,1.929,0,0.443,24.675000000000001,5.1559999999999997,24.780999999999999,26.247,44.947000000000003,47.942999999999998,46.445,40.058999999999997,29.259,0.13100000000000001,4.9400000000000004,0.188,12.573,12.272,24.802,24.823,40.061999999999998,40.325000000000003,34.600999999999999,33.86,10.673999999999999,7.7549999999999999,11.944000000000001,5.4160000000000004,11.957000000000001,4.109,35.027999999999999,32.887,42.502000000000002,41.35,32.869999999999997,35.244999999999997,6.99,0.39300000000000002,0.249,6.9349999999999996,11.682,20.742999999999999,13.782,18.414999999999999,40.447000000000003,40.085000000000001,25.698,30.611999999999998,20.154,14.336,19.760999999999999,2.6019999999999999,10.679,0,41.779000000000003,25.271000000000001,30.664999999999999,29.231999999999999,27.298999999999999,27.116,28.741,18.062999999999999,18.021000000000001,1.7769999999999999,15.907999999999999,11.349,24.114999999999998,32.968000000000004,43.744999999999997,41.613,31.109000000000002,29.175000000000001,35.880000000000003,3.7410000000000001,1.752,1.589,38.826999999999998,31.198,13.677,31.959,38.874000000000002,27.817540000000001,30.321840000000002,30.487080000000002,8.9221699999999995,8.7691200000000009,20.513860000000001,9.6140799999999995,26.056450000000002,20.429590000000001,13.702729999999999,35.710449999999994,32.149569999999997,41.220759999999999,47.659579999999998,46.158699999999996,8.6163100000000004,12.870649999999999,16.536380000000001,10.91423,1.5100000000000001E-3,20.868119999999998,29.20421,30.15579,41.507059999999996,40.833640000000003,39.463999999999999,25.285799999999998,19.43759,11.226760000000001,9.8379200000000004,6.4819999999999989E-2,14.833030000000001,17.134169999999997,35.06776,36.472660000000005,36.56071,29.166790000000002,30.37407,30.355630000000001,26.206499999999998,17.80303,11.65175,2.09212,32.90943,32.02364,32.544689999999996,15.202639999999999,27.068729999999999,27.072900000000001,31.339770000000001,35.327910000000003,9.3500400000000017,10.632389999999999,13.84,11.60848,16.06204,8.2821100000000012,12.2675,30.662400000000002,28.065900000000003,28.376909999999999,27.214040000000001,36.408370000000005,6.9840900000000001,1.04064,3.82179,2.0000000000000002E-5,32.262,28.063580000000002,39.641570000000002,30.955749999999998,29.288900000000002,25.987179999999999,23.582049999999999,38.291379999999997,10.009510000000001,9.51281,6.6700400000000002,12.626959999999999,37.630749999999999,26.65005,32.136939999999996,34.367599999999996,20.819140000000001,31.225639999999999,24.869720000000001,17.67933,12.571959999999999,14.20318,11.77998,0.41783999999999999,36.588389999999997,9.724219999999999,31.463999999999999,"-","-"]
[null,null,"FRANCIA",351.23500000000001,114.82599999999999,150.846,130.83099999999999,61.433,111.104,133.57499999999999,157.566,116.34699999999999,131.322,222.93700000000001,193.483,165.376,161.89599999999999,224.27600000000001,273.02499999999998,269.06900000000002,173.023,121.79600000000001,121.754,111.786,121.06100000000001,123.95,134.053,137.114,140.59700000000001,124.8,58.176000000000002,28.86,52.71,34.322000000000003,85.861000000000004,79.453000000000003,138.96600000000001,110.16,152.435,116.155,89.534999999999997,91.227000000000004,82.578999999999994,38.703000000000003,51.652000000000001,55.301000000000002,103.76300000000001,123.82599999999999,79.58,136.15,150.28800000000001,161.87299999999999,156.88399999999999,103.11499999999999,110.71,60.436,100.27200000000001,58.515999999999998,34.887999999999998,26.347000000000001,16.361999999999998,18.443999999999999,37.957000000000001,43.03,15.186,17.945,7.11,16.103999999999999,19.567,48.061999999999998,31.631,29.027000000000001,25.369,42.018999999999998,80.537000000000006,207.05500000000001,327.81599999999997,170.999,83.646000000000001,102.14,82.096999999999994,76.23,57.951999999999998,65.447999999999993,85.093999999999994,77.694000000000003,111.538,479.46699999999998,256.733,109.402,96.180999999999997,118.188,137.1,130.69999999999999,141.03800000000001,88.116,71.933999999999997,146.65,279.149,87.203999999999994,65.066999999999993,54.213000000000001,44.781999999999996,47.24,58.719000000000001,57.994,51.451999999999998,73.016999999999996,69.906000000000006,73.671000000000006,63.134,66.067999999999998,44.78,46.765999999999998,65.317999999999998,40.658000000000001,35.034999999999997,55.633000000000003,25.472000000000001,48.927999999999997,40.515000000000001,46.707999999999998,64.722999999999999,135.31899999999999,58.313000000000002,37.308999999999997,36.600999999999999,8.8569999999999993,10.955,39.615000000000002,53.167000000000002,50.292000000000002,51.686999999999998,55.081000000000003,57.316000000000003,186.072,158.68799999999999,220.423,117.877,33.628999999999998,37.323999999999998,43.988999999999997,55.497,45.966000000000001,59.884999999999998,80.546999999999997,133.18799999999999,92.495000000000005,38.415999999999997,33.219000000000001,16.637,18.27,15.413,0.70199999999999996,0.53700000000000003,0.32500000000000001,2.4079999999999999,0.36299999999999999,8.6140000000000008,132.465,60.555999999999997,21.146999999999998,42.935000000000002,23.919,21.745000000000001,40.503999999999998,14.055,20.11,60.201000000000001,62.222000000000001,102.19499999999999,99.349000000000004,84.129000000000005,120.01900000000001,90.159000000000006,51.122,41.808999999999997,44.326000000000001,65.525000000000006,14.975,67.313999999999993,59.985999999999997,17.928999999999998,8.0950000000000006,30.425999999999998,52.463999999999999,34.869999999999997,10.218,32.506999999999998,79.516999999999996,31.212,55.692,113.41800000000001,125.953,181.43600000000001,120.98399999999999,166.315,265.56400000000002,85.278999999999996,13.397,63.314999999999998,163.47399999999999,43.683,37.299999999999997,77.623999999999995,207.73400000000001,235.83600000000001,71.168000000000006,57.841999999999999,82.644999999999996,28.54,62.595999999999997,48.018000000000001,78.676000000000002,40.729999999999997,97.468000000000004,181.762,216.19800000000001,145.703,71.036000000000001,34.68,161.495,174.45,115.185,142.43199999999999,128.941,79.119,130.04599999999999,190.607,222.41800000000001,211.97300000000001,322.79300000000001,276.435,148.37,91.929000000000002,78.697999999999993,187.54900000000001,250.53700000000001,130.49199999999999,128.93600000000001,162.71899999999999,223.75,349.86700000000002,468.40103199999999,371.66904899999997,440.20668699999999,363.27936299999999,239.42622599999999,228.804518,185.68527399999999,74.567001999999988,199.90109799999999,300.13554200000004,201.10639900000001,441.01149300000003,337.46034800000001,217.54038500000001,443.10672999999997,316.19118199999997,165.24307000000002,131.95770499999998,92.654323000000005,49.856938,104.308182,136.48585500000002,249.54977700000001,218.23767100000001,62.012140000000002,497.96826699999997,182.01211799999999,343.138037,215.46957999999998,99.903188999999998,100.17134900000001,154.84916799999999,197.84720100000001,418.592535,389.34044599999999,366.42481300000003,313.307118,468.70942400000001,656.15300999999999,591.31344300000001,143.937938,58.141813999999997,21.994790000000002,36.828847000000003,102.83189,138.342578,444.14491399999997,195.50267000000002,474.98749699999996,667.55918500000007,413.45261200000004,220.933008,48.929733999999996,18.169848999999999,36.213349000000001,3.9636390000000001,29.176770000000001,56.932165999999995,161.99720199999999,262.950377,112.77662699999999,553.11792800000001,301.74515100000002,149.36424,21.480751999999999,23.286463999999999,109.268495,41.442976999999999,96.291232999999991,193.85086200000001,181.00433600000002,23.046200000000002,520.73677899999996,505.73227800000001,452.90156999999999,811.00623299999995,280.21148999999997,16.717741,29.699632000000001,12.114227999999999,64.826706000000001,689.45119899999997,577.85251199999993,372.57196600000003,856.01094599999999,490.59349599999996,115.81290300000001,35.824441,5.5707659999999999,15.879736999999999,15.412353999999999,1.6110580000000001,9.6235319999999991,343.96370000000002,"-","-"]
[null,null,"PORTUGAL",177.31200000000001,150.96600000000001,132.536,117.116,121.123,149.56299999999999,161.68100000000001,136.197,159.18700000000001,155.01400000000001,104.654,167.922,151.42599999999999,128.21899999999999,169.21299999999999,104.063,110.021,106.212,177.934,136.08099999999999,195.99700000000001,152.005,133.94399999999999,147.178,205.59,332.75099999999998,326.37599999999998,151.935,244.72300000000001,213.71,329.89499999999998,138.524,147.08699999999999,155.08500000000001,154.41900000000001,138.47399999999999,181.16300000000001,169.25200000000001,221.79300000000001,238.07599999999999,149.97200000000001,116.185,161.96299999999999,156.88499999999999,121.937,148.41300000000001,263.44200000000001,148.446,163.06,126.351,138.934,132.28899999999999,141.65600000000001,104.57299999999999,279.05599999999998,311.21100000000001,255.81700000000001,214.6,164.69900000000001,223.52099999999999,188.67,169.19900000000001,210.398,216.39699999999999,210.37899999999999,221.18799999999999,261.42700000000002,287.18099999999998,304.95400000000001,223.15199999999999,156.56700000000001,205.64699999999999,279.84699999999998,258.072,215.637,207.59800000000001,170.92400000000001,299.41300000000001,399.78,389.25,441.49,532.36699999999996,508.64,412.75799999999998,279.55399999999997,235.571,494.93200000000002,635.03700000000003,612.47199999999998,468.04199999999997,620.93799999999999,615.88199999999995,449.88,410.21699999999998,247.82900000000001,307.28699999999998,282.32100000000003,223.624,246.41399999999999,264.601,344.81299999999999,283.46699999999998,375.322,310.30799999999999,432.36099999999999,365.61200000000002,378.71199999999999,463.27800000000002,464.69900000000001,369.62599999999998,391.29599999999999,234.07300000000001,149.03700000000001,211.49700000000001,398.65199999999999,149.30199999999999,433.22699999999998,278.56599999999997,227.58600000000001,320.53399999999999,333.80700000000002,276.15699999999998,396.46199999999999,332.62400000000002,336.51100000000002,463.916,488.92399999999998,532.43299999999999,433.74900000000002,371.40499999999997,426.96699999999998,304.57900000000001,235.98099999999999,204.946,207.60300000000001,186.119,243.583,337.62700000000001,437.84100000000001,367.28399999999999,481.19900000000001,371.61099999999999,328.26799999999997,340.726,360.79500000000002,361.95600000000002,365.64699999999999,370.637,470.59300000000002,376.512,410.52699999999999,510.86799999999999,449.09199999999998,492.56099999999998,534.58399999999995,624.86300000000006,456.29,399.29399999999998,393.47899999999998,427.26900000000001,595.14599999999996,481.18200000000002,602.20399999999995,575.27,553.90899999999999,532.04200000000003,415.34300000000002,466.73899999999998,702.95699999999999,630.02200000000005,711.76599999999996,830.33900000000006,758.30200000000002,739.50099999999998,810.21699999999998,736.39400000000001,605.31600000000003,732.11199999999997,600.56100000000004,673.36400000000003,958.94799999999998,695.54499999999996,754.20899999999995,693.04100000000005,726.2,691.50400000000002,794.04899999999998,673.05,873.61800000000005,939.64200000000005,905.21400000000006,924.66399999999999,928.81700000000001,818.68100000000004,837.50400000000002,550.10400000000004,739.62800000000004,823.63199999999995,788.31799999999998,656.15800000000002,820.23299999999995,794.58699999999999,513.79499999999996,361.87900000000002,704.77300000000002,798.26400000000001,844.33,706.82,760.33799999999997,621.50699999999995,752.70399999999995,862.36800000000005,929.68600000000004,919.55700000000002,872.18799999999999,876.98,894.61500000000001,859.26300000000003,1079.712,960.17700000000002,853.77300000000002,871.16200000000003,810.85,711.59500000000003,758.87400000000002,834.21900000000005,1045.93,1072.4649999999999,837.19500000000005,486.20299999999997,557.52700000000004,743.97199999999998,710.81100000000004,756.66399999999999,753.91899999999998,574.05999999999995,498.62,595.14599999999996,666.90899999999999,428.14400000000001,354.67653300000001,432.92849999999999,389.06253399999997,334.55971500000004,355.13216999999997,536.76146400000005,686.33074799999997,708.68532200000004,617.11808799999994,701.54887499999995,470.71843000000001,235.82416000000001,516.956368,304.559301,501.53646000000003,697.37513799999999,389.77203200000002,555.51416099999994,678.27173100000005,580.10641699999996,677.12032999999997,596.85522400000002,526.22076700000002,719.58151800000007,1041.8471260000001,967.86298599999998,978.51592799999992,931.67184799999995,979.429892,940.75655200000006,831.04387800000006,725.316823,838.70865300000003,946.39478199999996,600.29631400000005,985.77442799999994,621.45181000000002,467.98483099999999,262.15481800000003,266.15686700000003,536.18085199999996,687.12889199999995,1183.5062840000001,900.29433200000005,896.44751100000008,838.98715000000004,608.61873800000001,831.207132,396.744843,214.979434,309.57435600000002,488.36176799999998,650.82510400000001,747.90154799999993,957.30612600000006,825.47581300000002,820.83066899999994,704.30827099999999,469.46808399999998,661.64807400000007,907.70339799999999,518.737887,613.60544299999992,634.695607,545.18908099999999,748.8969350000001,829.43403699999999,733.38032900000007,598.03641000000005,411.14795400000003,649.09021200000007,887.19355200000007,402.60831999999999,256.696505,440.62455599999998,198.00357199999999,214.08190200000001,218.85403700000001,505.03369300000003,395.60672,397.25341100000003,546.03221099999996,485.276589,555.44311899999991,590.54874499999994,276.99152199999997,376.17712800000004,466.77072999999996,441.53250700000001,388.75986,343.76173800000004,151.548034,351.86627799999997,455.92,"-","-"]
[null,null,"MARRUECOS",0,0,0,0,0,0,0,0,0,0,0,0,0,0,0,0,0,0,0,0,0,0,0,0,0,0,0,0,0,0,0,0,0,0,0,0,0,0,0,0,0,0,0,0,0,0,0,0,0,0,0,0,0,0,0,0,0,0,0,0,0,0,0,0,0,0,0,0,0,0,0,0,0,0,0,0,0,0,0,0,0,0,0,0,0,0,0,0,0,0,0,0.77600000000000002,0,126.01900000000001,5.8209999999999997,0,0,0,0,0,14.435,75.959999999999994,67.055000000000007,64.811999999999998,171.77799999999999,164.81800000000001,80.716999999999999,66.007000000000005,67.33,60.401000000000003,65.194999999999993,64.668999999999997,204.428,175.71100000000001,186.43,199.24100000000001,211.6,186.423,191.97800000000001,197.31899999999999,195.54300000000001,218.55600000000001,227.923,218.846,215.08699999999999,202.18700000000001,153.74700000000001,163.18299999999999,163.81,184.547,154.477,165.16200000000001,160.131,158.11099999999999,132.048,132.37899999999999,120.435,121.89100000000001,145.846,150.16300000000001,114.337,150.49600000000001,126.724,67.408000000000001,17.948,75.275999999999996,135.00700000000001,146.58600000000001,132.74199999999999,132.01,71.191999999999993,164.55,82.813999999999993,140.70400000000001,112.78400000000001,115.877,149.24799999999999,101.066,128.001,184.53800000000001,211.72300000000001,100.852,78.893000000000001,105.343,124.383,82.975999999999999,113.504,105.86,134.89699999999999,127.35899999999999,86.837000000000003,165.28200000000001,123.816,125.84699999999999,126.857,117.166,81.370999999999995,192.57300000000001,137.63399999999999,148.00299999999999,65.430999999999997,30.747,47.518999999999998,36.801000000000002,64.423000000000002,36.289000000000001,39.643999999999998,159.74,114.145,151.06200000000001,104.29300000000001,48.253,83.504000000000005,155.51900000000001,158.465,115.953,121.96,105.01300000000001,102.898,209.05199999999999,215.19,206.322,228.82,327.30599999999998,273.637,247.12799999999999,327.50099999999998,289.06200000000001,380.34699999999998,335.76400000000001,318.80099999999999,285.69400000000002,345.68700000000001,266.31200000000001,230.07300000000001,200.744,236.87100000000001,347.47300000000001,293.91899999999998,384.77499999999998,338.08100000000002,354.86,471.54500000000002,490.91300000000001,451.35300000000001,337.18,236.50200000000001,283.029,166.22,205.84,182.547,330.12799999999999,467.32799999999997,443.69499999999999,535.10299999999995,550.51199999999994,458.55399999999997,527.97900000000004,385.69400000000002,342.84800000000001,194.7355,78.116399999999999,160.9366,345.87529999999998,337.72409000000005,402.30609999999996,437.76330000000002,486.10220000000004,491.4101,497.53059999999999,300.70670000000001,203.68950000000001,295.87650000000002,284.45585999999997,320.7371,411.08259999999996,408.87959999999998,405.6456,499.48419999999999,521.44349999999997,434.11649999999997,359.38208000000003,267.8338,301.4597,338.97340000000003,332.24290000000002,385.53980000000001,386.00829999999996,429.92109999999997,409.67230000000001,470.13190000000003,509.03500000000003,482.00496999999996,328.45184999999998,411.87759999999997,420.30099999999999,475.37220000000002,404.31319999999999,380.0213,446.4812,463.55720000000002,460.30170000000004,487.25599999999997,499.10871000000003,478.59370000000001,400.37779999999998,431.05059999999997,450.63840000000005,454.88209999999998,488.82830000000001,498.72740000000005,462.24170000000004,527.03219999999999,494.16890000000001,459.70403000000005,516.75970000000007,580.13119999999992,390.23453999999998,487.12759999999997,479.11399999999998,354.78199999999998,365.46199999999999,407.53020000000004,440.87079999999997,514.50980000000004,350.10020000000003,471.03809999999999,521.34620000000007,371.81700000000001,349.11968000000002,412.60990000000004,381.86290000000002,415.76890000000003,419.81400000000002,437.48829999999998,467.75450000000001,509.14909999999998,504.99090000000001,492.47579999999999,557.98980000000006,256.74773999999996,416.36066999999997,262.1884,209.19739999999999,400.9699,479.93290000000002,532.85490000000004,537.45799999999997,569.404,533.28599999999994,595.55459999999994,590.20669999999996,484.04480000000001,418.18579999999997,"-","-"]
[null,null,"Total",528.54700000000003,265.79200000000003,283.38200000000001,247.947,182.55600000000001,262.74599999999998,304.12599999999998,296.46899999999999,279.43,287.678,327.59100000000001,361.40499999999997,316.80200000000002,292.65899999999999,393.48900000000003,377.40199999999999,379.20000000000005,280.59199999999998,313.93799999999999,278.88,314.88200000000001,273.06600000000003,260.07499999999999,281.24599999999998,343.37300000000005,475.09100000000001,451.17599999999999,210.42099999999999,274.46699999999998,266.87700000000001,372.54599999999999,229.137,227.89499999999998,294.05100000000004,274.61900000000003,290.90899999999999,305.02800000000002,276.91500000000002,318.82,335.709,194.34500000000003,172.78700000000001,234.10300000000001,282.19799999999998,265.69499999999999,241.89600000000002,409.31799999999998,301.976,324.93299999999999,283.23500000000001,258.64800000000002,254.79499999999999,202.09200000000001,204.98500000000001,339.15799999999996,346.09899999999999,302.61599999999999,249.07900000000001,197.67400000000001,287.488,253.21199999999999,194.05500000000001,228.34299999999999,223.52699999999999,227.94199999999998,240.755,309.48900000000003,334.476,349.65100000000001,256.13499999999999,219.209,303.83100000000002,513.50400000000002,598.827,398.464,296.47400000000005,276.87700000000001,381.637,478.78099999999995,456.33,523.29,630.05099999999993,599.91099999999994,536.78800000000001,782.26099999999997,503.68799999999999,612.39700000000005,739.56799999999998,735.55499999999995,611.87,757.75099999999998,757.71499999999992,543.86699999999996,629.36400000000003,409.36500000000001,586.43599999999992,370.28300000000002,290.07600000000002,324.387,328.08199999999999,409.11,422.33099999999996,520.56700000000001,451.90999999999997,697.73599999999999,618.88900000000001,536.08799999999997,592.4190000000001,628.56500000000005,511.08300000000003,535.6389999999999,383.18099999999998,397.33299999999997,424.68500000000006,641.01,374.01499999999999,694.36,529.26599999999996,496.47899999999998,623.90499999999997,706.19200000000001,589.16100000000006,697.15599999999995,615.697,562.90200000000004,685.68799999999999,686.29700000000003,764.42399999999998,652.37300000000005,632.62199999999996,666.77099999999996,567.79000000000008,624.00900000000001,561.54099999999994,585.93000000000006,455.71400000000006,397.80799999999999,496.84200000000004,627.67599999999993,573.10400000000004,648.58199999999999,612.58500000000004,571.04600000000005,589.36299999999994,519.226,516.65599999999995,569.53700000000003,559.61200000000008,621.649,529.63099999999997,484.173,687.38100000000009,534.71699999999998,671.5440000000001,685.63099999999997,795.51800000000003,779.33799999999997,602.93100000000004,576.53800000000001,679.28,832.71699999999987,603.779,722.04399999999998,719.34299999999996,703.55799999999999,700,617.31600000000003,719.74099999999999,985.14599999999996,887.95500000000004,958.68099999999993,1115.039,933.37100000000009,912.09699999999998,981.58799999999997,931.6579999999999,713.93399999999997,1016.8009999999999,823.00400000000002,879.35799999999995,1072.799,791.31899999999996,888.05199999999991,775.38600000000008,808.596,772.24400000000003,918.62599999999998,875.95899999999995,1047.5640000000001,1239.1500000000001,1168.3470000000002,1196.855,1174.655,1173.385,1296.778,758.32600000000002,875.37800000000004,992.20899999999995,1061.625,920.57500000000005,1093.4659999999999,1092.3150000000001,968.7639999999999,965.46800000000007,1089.663,1128.932,1285.088,1044.576,1217.617,1025.05,1152.7829999999999,1199.471,1372.8409999999999,1409.4099999999999,1343.73,1254.0919999999999,1231.7540000000001,1268.7150000000001,1562.2419999999997,1548.143,1325.1019999999999,1386.4749999999999,1413.1130000000001,1297.5350000000001,1351.6220000000001,1386.1210000000001,1537.818,1611.212,1367.8210000000001,999.58699999999999,917.61900000000014,1201.9089999999999,1260.578,1389.66,1541.1479999999999,1293.8909999999998,1117.308,1299.521,1308.3119999999999,1159.7329999999999,1045.6306050000001,913.03578900000002,1020.692901,1052.6365479999999,941.05160599999999,1188.3859420000001,1319.3934019999999,1295.4109740000001,1328.858876,1512.917747,1008.241979,912.67472299999997,1191.513976,854.21512599999994,1311.53899,1433.26523,976.76535200000001,1109.6538459999999,1281.324484,1151.408365,1236.4131319999999,1121.927369,1073.7601339999999,1280.7859490000001,1483.6663060000001,1837.538153,1571.353646,1680.2557750000001,1636.0473319999999,1460.1699610000001,1401.4119470000001,1404.0340209999999,1535.694994,1728.5069269999999,1437.98702,1809.0609509999999,1439.297918,1371.381525,1328.6847580000001,1330.1580100000001,1161.47902,1217.224156,1694.8491939999999,1469.1413190000001,1509.896741,1410.2522180000001,1499.0168919999999,1504.4169320000001,1353.6873399999999,1402.7066890000001,1257.0822780000001,1180.886516,1237.4194279999999,1274.080297,1464.831985,1362.2611919999999,1438.4207489999999,1163.742477,1149.2552859999998,1431.7783509999999,1403.6389349999999,1464.531855,1359.289164,1231.9147369999998,1082.2202729999999,1126.1053890000001,1409.740652,1328.4315060000001,1094.2082230000001,993.76006600000005,1273.660198,1321.391552,1365.101179,1205.8248329999999,1369.3058060000001,1486.773815,1012.955302,747.23271800000009,1039.8360849999999,1003.341498,745.47790699999996,1683.9810199999999,1359.685101,1158.0316249999998,1878.7552310000001,1272.3876379999999,1042.524261,1052.625131,1030.7104529999999,949.70557699999995,955.14653199999998,779.95418199999995,855.25882999999999,1249.5335,"-","-"]
[null,"Saldo","ANDORRA",0,0,0,0,0,-1.8230000000000002,-8.8699999999999992,-2.706,-3.8959999999999999,-1.3420000000000001,0,0,0,-2.544,1.4E-2,-0.314,-0.11,-1.3560000000000001,-14.206,-21.045000000000002,-7.0990000000000002,0,-2.181,-1.4999999999999999E-2,-0.66900000000000004,-1.7430000000000001,0,-0.31,-0.88400000000000001,-0.45700000000000002,-8.3290000000000006,-4.7489999999999997,-1.345,0,-10.036,0,-7.71,-18.128,-5.8,-15.054,-5.6639999999999997,-4.9420000000000002,-16.837999999999997,-21.55,-19.931999999999999,-13.903,-9.7260000000000009,-3.242,0,0,-16.597000000000001,-11.795999999999999,0,-0.14000000000000001,-1.5860000000000001,0,-20.452000000000002,-18.117000000000001,-14.531000000000001,-26.01,-21.512,-9.67,0,-0.02,-1.4580000000000002,0,0,-15.664,-15.67,-7.6139999999999999,-20.623000000000001,-17.646999999999998,-26.602,-12.939,-11.827999999999999,-5.23,-3.8130000000000002,-0.127,-2.7709999999999999,-9.1280000000000001,-16.352,-12.59,-13.577,-12.492000000000001,-23.24,-11.384,-8.0630000000000006,-8.3379999999999992,-4.8709999999999996,-6.7080000000000002,-6.1110000000000007,-1.9E-2,-5.8710000000000004,-21.193999999999999,-9.0649999999999995,0,-0.75800000000000001,-1.385,-23.757000000000001,-18.699000000000002,-2.621,-4.1839999999999993,-20.195,-25.338000000000001,-20.58,-18.553000000000001,-2.988,0,-22.684000000000001,-36.276000000000003,-32.381999999999998,-19.120999999999999,-3.21,-2.4420000000000002,-0.29499999999999998,0,-0.60499999999999998,-23.762,-30.207000000000001,-41.329000000000001,-41.523000000000003,-36.134999999999998,-35.462000000000003,-27.626000000000001,-2.4470000000000001,-8.6300000000000008,-4.0110000000000001,-15.641,-4.5220000000000002,-24.983000000000001,-30.245999999999999,-40.732999999999997,-41.825000000000003,-39.795999999999999,-25.856000000000002,-19.338999999999999,-0.161,0,0,-0.16,-7.08,-30.593,-35.506999999999998,-48.040999999999997,-47.988,-41.008000000000003,-35.664000000000001,-25.751999999999999,-4.3999999999999997E-2,-5.6959999999999997,-1.752,-11.426,-2.4860000000000002,-35.871000000000002,-37.9,-46.164000000000001,-41.335000000000001,-42.015000000000001,-33.911000000000001,-24.538,-1.929,0,-0.443,-24.675000000000001,-5.1559999999999997,-24.780999999999999,-26.247,-44.947000000000003,-47.942999999999998,-46.444000000000003,-40.058999999999997,-29.259,-0.13100000000000001,-4.9380000000000006,-0.188,-12.573,-12.272,-24.802,-24.823,-40.061999999999998,-40.325000000000003,-34.600999999999999,-33.86,-10.673,-7.7530000000000001,-11.941000000000001,-5.4160000000000004,-11.957000000000001,-4.1079999999999997,-35.027000000000001,-32.880000000000003,-42.502000000000002,-41.35,-32.869999999999997,-35.244999999999997,-6.99,-0.39300000000000002,-0.249,-6.9349999999999996,-11.682,-20.741,-13.781000000000001,-18.414999999999999,-40.447000000000003,-40.085000000000001,-25.698,-30.611999999999998,-20.154,-14.336,-19.759999999999998,-2.3369999999999997,-10.678000000000001,0,-41.779000000000003,-25.271000000000001,-30.664999999999999,-29.231999999999999,-27.298999999999999,-27.116,-28.741,-18.062999999999999,-18.021000000000001,-1.7769999999999999,-15.907999999999999,-11.349,-24.114999999999998,-32.968000000000004,-43.744999999999997,-41.613,-31.109000000000002,-29.175000000000001,-35.880000000000003,-3.7410000000000001,-1.7510000000000001,-1.589,-38.826999999999998,-31.198,-13.677,-31.959,-38.866,-27.817540000000001,-30.321840000000002,-30.487080000000002,-8.9221699999999995,-8.7687800000000014,-20.513830000000002,-9.6140799999999995,-26.056450000000002,-20.429590000000001,-13.702729999999999,-35.710449999999994,-32.149569999999997,-41.220759999999999,-47.659579999999998,-46.158699999999996,-8.6163100000000004,-12.870649999999999,-16.53622,-10.914159999999999,-1.4E-3,-20.867899999999999,-29.20421,-30.15579,-41.507059999999996,-40.833239999999996,-39.463920000000002,-25.28576,-19.437249999999999,-11.2265,-9.8375599999999999,-6.4819999999999989E-2,-14.833030000000001,-17.134149999999998,-35.06776,-36.472660000000005,-36.560629999999996,-29.166790000000002,-30.37407,-30.355630000000001,-26.206499999999998,-17.802379999999999,-11.65175,-2.09178,-32.90943,-32.02364,-32.544579999999996,-15.202639999999999,-27.068729999999999,-27.072900000000001,-31.339770000000001,-35.327910000000003,-9.3496300000000012,-10.631549999999999,-13.83934,-11.607239999999999,-16.060980000000001,-8.281410000000001,-12.26695,-30.66226,-28.065900000000003,-28.376909999999999,-27.214040000000001,-36.408370000000005,-6.9836200000000002,-1.03932,-3.82118,-2.0000000000000002E-5,-32.261499999999998,-28.063320000000001,-39.641219999999997,-30.954879999999999,-29.287050000000001,-25.987179999999999,-23.582049999999999,-38.291379999999997,-10.009510000000001,-9.5126499999999989,-6.6693199999999999,-12.62679,-37.630279999999999,-26.648619999999998,-32.136040000000001,-34.367469999999997,-20.819140000000001,-31.225639999999999,-24.869720000000001,-17.672840000000001,-12.57063,-14.197150000000001,-11.778829999999999,-0.41758999999999996,-36.588259999999998,-9.7231199999999998,-31.463999999999999,"-","-"]
[null,null,"FRANCIA",-303.91200000000003,-5.972999999999999,-4.546999999999997,-15.544999999999987,166.70500000000001,0.375,-10.946999999999989,-10.412000000000006,16.666000000000011,-14.948999999999998,-144.28200000000001,-37.004999999999995,-9.2729999999999961,-10.196999999999974,-138.976,-240.89,-216.23100000000002,-74.977999999999994,-9.3170000000000073,71.011999999999986,9.5289999999999964,10.435000000000002,40.747,32.375,-5.1189999999999998,-23.658000000000015,60.942999999999998,186.63900000000001,438.95799999999997,515.36099999999999,393.60300000000001,256.63,155.03100000000001,18.536999999999978,16.864000000000004,-3,118.32599999999999,240.17100000000002,244.14899999999997,177.75599999999997,234.97499999999999,224.76400000000001,297.95499999999998,37.546999999999997,14.711000000000013,13.272000000000006,0.72899999999998499,-19.638000000000005,-29.554999999999978,-0.5619999999999834,59.509,50.414000000000001,66.302999999999997,55.414000000000001,345.53399999999999,351.93200000000002,455.54900000000004,514.26900000000001,491.678,490.71600000000001,501.37300000000005,468.62100000000004,487.65199999999999,455.49099999999999,489.66500000000002,476.77800000000002,508.93600000000004,518.471,503.52299999999997,444.17600000000004,401.39400000000001,256.94500000000005,-21.165999999999997,-220.53999999999996,107.45599999999999,241.05599999999998,170.83100000000002,292.58500000000004,339.85399999999998,296.233,277.83300000000003,307.61500000000001,322.90600000000001,183.09499999999997,-453.24099999999999,-156.304,95.999000000000009,76.231000000000009,59.268999999999991,4.6510000000000105,60.885000000000019,50.995999999999981,161.81400000000002,236.864,80.641999999999996,-158.125,346.72499999999997,340.95799999999997,425.36799999999999,406.65000000000003,363.05700000000002,332.61500000000001,371.87199999999996,400.27199999999999,333.63299999999998,390.56700000000001,370.05400000000003,437.44299999999998,465.24900000000002,508.803,555.99599999999998,543.12099999999998,488.05700000000002,472.26800000000003,650.774,656.89499999999998,606.14499999999998,623.68500000000006,691.91500000000008,622.31900000000007,386.83300000000008,634.16800000000001,796.17900000000009,739.32399999999996,814.55399999999997,640.13499999999999,645.94600000000003,672.97399999999993,675.54199999999992,692.02599999999995,770.18600000000004,438.452,97.716999999999985,185.00299999999999,54.242999999999995,349.00099999999998,662.18600000000004,641.06000000000006,661.452,661.05200000000002,625.17399999999998,384.52600000000001,611.26,618.93899999999996,618.59400000000005,788.94700000000012,869.46299999999997,838.56600000000003,570.58100000000002,408.35499999999996,745.13199999999995,751.48,744.51799999999992,776.423,939.49599999999998,782.78199999999993,310.51800000000003,295.363,522.827,349.59800000000001,626.1,680.78499999999997,639.40199999999993,668.7170000000001,639.54,522.096,316.255,213.71500000000003,299.113,288.69,414.55399999999997,295.214,434.09800000000001,425.72400000000005,546.23699999999997,300.98,490.464,428.03100000000006,499.02700000000004,799.54000000000008,937.16099999999994,708.30099999999993,591.10699999999997,608.77499999999998,806.68299999999999,685.49900000000002,594.11300000000006,556.03800000000001,345.709,311.62399999999997,167.73400000000001,231.86600000000001,459.17199999999997,170.80599999999998,-101.25900000000001,440.59799999999996,683.84999999999991,514.38200000000006,262.64500000000004,641.41399999999999,635.61500000000001,515.375,118.24800000000002,68.759999999999991,657.09799999999996,477.61400000000003,614.27600000000007,650.44600000000003,504.93600000000004,640.51599999999996,632.70299999999997,693.47500000000002,342.80599999999998,38.431000000000012,-38.621000000000009,273.04600000000005,521.56799999999998,496.00399999999996,161.90800000000002,21.460000000000008,367.036,104.36600000000001,295.41200000000003,317.89499999999998,168.01100000000002,25.673000000000002,196.512,213.38400000000001,-97.990000000000009,-102.387,279.12200000000001,411.89,571.12,275.91099999999994,190.458,153.03600000000003,82.536000000000001,31.248999999999995,-26.740000000000009,-177.93,-346.84330799999998,-324.69303500000001,-349.438695,-327.32069000000001,-132.504313,16.535171000000002,33.182090999999986,382.28679299999999,77.77201500000001,-153.158008,-19.262122000000002,-387.47631200000001,-225.43902799999998,-184.11736400000001,-384.77420000000001,-154.43429599999996,141.47329999999999,348.13045900000003,477.23495599999995,602.98822200000006,352.12799699999999,348.39110500000004,-99.60446499999999,302.43091799999996,713.90086499999995,-305.50284099999999,335.60578300000003,-6.6803190000000177,248.42928700000004,476.66441099999997,497.062161,334.55087300000002,69.549923000000007,-273.602417,-178.76190400000002,-28.423710000000021,94.327973999999983,-306.581569,-639.792822,-463.80416699999995,499.166831,552.55830400000002,520.52652899999998,672.10975999999994,397.57845800000001,283.84069399999998,-275.95140399999997,373.88776899999999,-261.70592699999997,-635.77823100000001,-187.87598700000001,-159.58543800000001,666.69734900000003,666.47373599999992,694.54688899999996,812.68675400000006,757.12756200000001,507.69580000000002,456.42771300000004,250.78544800000003,620.35985400000004,-381.11299199999996,49.525360999999975,409.85488899999996,817.13493599999993,749.84706600000004,669.59805599999993,685.90885400000002,468.31993700000004,482.35536200000007,1083.8041660000001,1668.6168230000001,385.7950800000001,383.02326799999997,293.09988499999997,-380.06760100000002,644.08876600000008,1193.6858960000002,1308.526689,1392.4403169999998,1220.63518,45.380299999999927,370.16291699999999,944.738024,-350.46461699999998,405.61630300000002,1700.0281260000002,1481.4555580000001,1856.0466509999999,1430.871672,1401.028358,1705.1109710000001,1633.864077,1067.5,"-","-"]
[null,null,"PORTUGAL",34.614999999999981,22.524000000000001,-7.4399999999999977,-5.4519999999999982,-7.3070000000000022,1.8900000000000148,-8.3440000000000225,-18.918000000000006,2.0929999999999893,-5.4420000000000073,4.8119999999999976,-50.146999999999991,-15.259999999999991,35.629999999999995,16.891999999999996,14.284999999999997,24.774999999999991,30.49499999999999,-68.588999999999999,-22.117999999999995,-102.26600000000002,-24.706999999999994,17.608000000000004,1.2890000000000157,-90.26400000000001,-286.80799999999999,-274.15899999999999,2.3340000000000032,-166.09399999999999,-143.64500000000001,-297.28199999999998,-34.984999999999999,-22.378999999999991,-34.77600000000001,1.1949999999999932,5.7199999999999989,-14.711000000000013,0.39499999999998181,-54.081999999999994,-114.46199999999999,-5.195999999999998,-2.027000000000001,1.4629999999999939,2.1009999999999991,0.43600000000000705,-0.22300000000001319,8.632000000000005,2.5180000000000007,9.0999999999999943,19.628999999999991,1.1910000000000025,3.4980000000000189,5.0349999999999966,1.1090000000000089,-215.89699999999999,-217.726,-163.596,-112.96799999999999,-105.66500000000002,-110.57699999999998,-97.582999999999984,-82.556000000000012,-108.527,-101.58499999999999,-109.59099999999999,-107.14299999999999,-102.45700000000002,-113.11999999999998,-98.28400000000002,-1.6659999999999968,-0.7470000000000141,9.1570000000000107,24.617999999999995,4.6399999999999864,0.1810000000000116,-1.3760000000000048,8.2049999999999841,4.9010000000000105,0.5220000000000482,1.4370000000000118,-207.95000000000002,-418.32199999999995,-325.49799999999999,-202.30099999999999,-7.4779999999999518,-36.87700000000001,-307.947,-478.03500000000003,-493.59199999999998,-266.15299999999996,-452.53499999999997,-505.32499999999993,-259.33199999999999,-76.47399999999999,-2.1520000000000152,-11.145999999999958,-6.1260000000000332,6.3880000000000052,3.3090000000000259,0.867999999999995,9.1129999999999995,-7.6089999999999804,-5.2000000000020918E-2,9.9730000000000132,-166.76499999999999,-1.0480000000000018,-2.8269999999999982,-117.93400000000003,-131.11799999999999,-45.331999999999994,4.4370000000000118,253.34700000000001,348.03899999999999,276.74299999999999,51.573000000000036,47.186000000000007,-182.94499999999996,25.25,155.58499999999998,54.290999999999997,46.618999999999971,36.423000000000002,-110.54500000000002,26.317999999999984,86.517999999999972,-255.44299999999998,-229.36099999999999,-285.62199999999996,-166.48200000000003,-38.69,-69.264999999999986,28.83299999999997,66.03000000000003,34.576999999999998,19.697000000000003,249.77900000000002,37.013000000000005,-14.66500000000002,-84.569000000000017,-228.684,-220.67099999999999,-63.735000000000014,-46.176999999999964,-13.920999999999992,-33.12299999999999,-23.87700000000001,22.812000000000012,39.120999999999981,-178.75700000000001,-83.63900000000001,-96.25200000000001,-339.38599999999997,-231.15499999999997,-301.70899999999995,-298.09799999999996,-374.74600000000009,-94.579000000000008,-101.88200000000001,-114.47800000000001,-177.65200000000002,-278.52199999999993,-173.66400000000004,-328.62099999999992,-424.38099999999997,-350.58499999999998,-361.52200000000005,-201.70000000000002,-186.11699999999996,-434.88,-415.13700000000006,-523.154,-721.97200000000009,-615.19900000000007,-621.10199999999998,-664.22299999999996,-627.60900000000004,-453.51100000000002,-542.16099999999994,-383.59200000000004,-416.20700000000005,-549.58500000000004,-357.91499999999996,-473.57999999999993,-505.06300000000005,-567.77100000000007,-475.995,-527.52099999999996,-560.13699999999994,-725.84800000000007,-789.68299999999999,-724.57500000000005,-571.33799999999997,-705.48400000000004,-568.09900000000005,-507.47,-279.47400000000005,-543.42600000000004,-672.49799999999993,-533.87,-357.64500000000004,-710.5859999999999,-537.06700000000001,-156.83099999999996,121.25299999999999,-249.98000000000002,-440.94800000000004,-499.69300000000004,-602.89100000000008,-605.11199999999997,-508.82099999999991,-602.02699999999993,-712.32400000000007,-843.98500000000001,-887.5,-760.86099999999999,-782.43799999999999,-713.96600000000001,-776.94200000000001,-1042.039,-899.56100000000004,-773.59199999999998,-784.53800000000001,-729.904,-607.15600000000006,-641.17399999999998,-770.45600000000002,-878.15100000000007,-821.42099999999994,-594.39800000000002,-136.863,-263.06900000000002,-595.01299999999992,-537.46199999999999,-599.625,-598.68799999999999,-381.11199999999997,-304.01599999999996,-430.95699999999999,-452.94799999999998,105.32799999999997,262.76150200000006,-82.452277999999993,-31.453170999999973,-47.281042000000014,-64.063365999999974,-414.96169200000003,-586.45827800000006,-628.72919999999999,-530.18777699999998,-631.11854900000003,-238.86150199999997,358.51788799999997,-51.775016999999991,155.98585500000004,-13.291509000000021,-500.73421100000002,46.387749999999997,-331.09742599999998,-437.77556600000003,-278.65180300000003,-445.93187499999999,-341.43747600000006,-188.158278,-427.55901200000005,-860.53836100000001,-700.10336000000007,-795.43779299999994,-799.95361300000002,-747.23826799999995,-682.52800300000001,-656.390897,-456.89309199999997,-617.71345700000006,-821.00007600000004,-164.33106700000005,-594.88306599999999,45.758804999999931,98.703160999999966,618.847894,525.30966599999999,-149.86424399999996,-439.300004,-1091.6103800000001,-657.7661720000001,-708.83540600000003,-530.04370500000005,-170.71267499999999,-317.139747,771.46935600000006,665.40567699999997,495.80789399999998,-21.349307999999962,-385.44678200000004,-444.08500899999996,-705.54186700000002,-517.270444,-504.96979200000004,-408.81547099999995,256.63880400000005,-104.53874499999999,-498.95910100000003,214.13628599999996,-3.4032700000000187,-257.62060499999995,-120.82252600000001,-395.78683100000006,-385.14386600000006,-384.207515,-241.20294900000002,342.37107999999995,-188.11477300000004,-347.65841300000005,902.90586500000006,1020.851455,357.287916,751.05199900000002,636.91414899999995,400.98453599999999,112.81094300000002,237.80537699999996,192.90116199999994,-30.662157999999994,282.96396800000008,220.27819000000005,249.84255899999999,640.19510400000001,307.55647999999997,109.48315600000008,172.51459900000003,242.76754099999997,468.38362800000004,749.47453099999996,252.31616499999998,-344.80879999999996,"-","-"]
[null,null,"MARRUECOS",0,0,0,0,0,0,0,0,0,0,0,0,0,0,0,0,0,0,0,0,0,0,0,0,0,0,0,0,0,0,0,0,0,0,0,0,0,0,0,0,0,0,0,0,0,0,0,0,0,0,0,0,0,0,0,0,0,0,0,0,0,0,0,0,0,0,0,0,0,0,0,0,0,0,0,0,0,0,0,0,0,0,0,0,0,0,0,0,0,0,0,-0.65700000000000003,0,-125.977,-4.0089999999999995,0,0,0,0,0,-14.435,-75.959999999999994,-67.055000000000007,-64.811999999999998,-171.77799999999999,-164.81800000000001,-80.716999999999999,-66.007000000000005,-67.33,-60.401000000000003,-65.194999999999993,-64.668999999999997,-204.428,-175.71100000000001,-186.43,-199.24100000000001,-211.6,-186.423,-191.97800000000001,-197.31899999999999,-195.54300000000001,-218.55600000000001,-227.923,-218.846,-215.08699999999999,-202.18700000000001,-153.74700000000001,-163.18299999999999,-163.81,-184.547,-154.477,-165.16200000000001,-160.131,-158.11099999999999,-132.048,-132.37899999999999,-120.435,-121.89100000000001,-145.846,-150.16300000000001,-114.337,-150.49600000000001,-126.724,-67.408000000000001,-5.4670000000000005,-75.275999999999996,-135.00700000000001,-146.58600000000001,-132.74199999999999,-132.01,-71.191999999999993,-164.55,-82.813999999999993,-140.70400000000001,-112.78400000000001,-115.877,-148.18799999999999,-100.47800000000001,-127.42,-184.33500000000001,-211.59200000000001,-97.77600000000001,-72.989999999999995,-96.174000000000007,-123.61999999999999,-80.676999999999992,-112.366,-101.718,-134.61599999999999,-126.898,-85.374000000000009,-165.202,-122.431,-121.021,-123.285,-115.48699999999999,-78.634999999999991,-192.05700000000002,-136.27199999999999,-145.17299999999997,-51.702999999999996,-16.128,-32.442,-24.255000000000003,-55.115000000000002,-21.274000000000001,-29.593999999999998,-158.58100000000002,-111.119,-149.5,-99.885000000000005,-38.344999999999999,-77.509,-153.614,-155.08600000000001,-112.253,-121.20099999999999,-103.747,-99.717999999999989,-208.84199999999998,-214.821,-201.46100000000001,-228.297,-325.27299999999997,-272.47300000000001,-246.46299999999999,-327.33499999999998,-288.45300000000003,-380.28,-335.39600000000002,-318.11599999999999,-284.48700000000002,-345.39500000000004,-262.92700000000002,-228.179,-189.74199999999999,-235.172,-347.34700000000004,-292.101,-384.774,-336.65500000000003,-354.15000000000003,-471.54300000000001,-490.904,-451.29900000000004,-333.11799999999999,-233.84,-280.673,-163.62700000000001,-203.917,-179.827,-329.93199999999996,-467.29299999999995,-443.69499999999999,-535.08999999999992,-550.51199999999994,-458.48999999999995,-527.97900000000004,-385.56300000000005,-342.548,-192.8141,-68.729599999999991,-148.73510000000002,-345.57119999999998,-337.47857000000005,-402.28539999999998,-437.76330000000002,-486.10220000000004,-491.4101,-497.53059999999999,-299.37650000000002,-195.18039999999999,-292.90100000000001,-283.05126999999999,-318.41159999999996,-411.0265,-408.61419999999998,-405.26399999999995,-499.47980000000001,-521.43589999999995,-434.08508,-359.33368000000002,-261.59809999999999,-299.58150000000001,-337.8202,-330.72310000000004,-384.85129999999998,-385.84859999999998,-429.80489999999998,-409.62819999999999,-470.13190000000003,-509.03449999999998,-482.00491999999997,-327.53864999999996,-411.84129999999999,-420.28980000000001,-475.37220000000002,-404.14150000000001,-379.11669999999998,-446.4812,-463.55580000000003,-460.30170000000004,-487.25599999999997,-499.10867999999999,-478.59250000000003,-400.3716,-431.0446,-450.60560000000004,-454.59069999999997,-488.82830000000001,-498.55070000000001,-461.9479,-527.03049999999996,-494.13050000000004,-459.11803000000003,-516.04809999999998,-580.13119999999992,-390.16314,-487.03159999999997,-478.84840000000003,-352.1268,-364.66430000000003,-406.47050000000002,-440.8014,-514.50030000000004,-349.34989999999999,-468.62959999999998,-521.23320000000001,-368.99540000000002,-348.55728999999997,-411.6266,-379.95420000000001,-415.12350000000004,-419.71690000000001,-437.16980000000001,-467.65899999999999,-508.98789999999997,-504.7319,-490.97969999999998,-557.9593000000001,-256.29707999999999,-416.35996,-261.54820000000001,-205.47489999999999,-399.70160000000004,-479.80800000000005,-532.83100000000002,-537.40859999999998,-569.37850000000003,-533.00149999999996,-595.55099999999993,-590.08629999999994,-483.14869999999996,-418.18579999999997,"-","-"]
[null,null,"Total",-269.29700000000003,16.551000000000002,-11.986999999999995,-20.996999999999986,159.39800000000002,0.4420000000000146,-28.161000000000008,-32.036000000000016,14.863,-21.733000000000004,-139.47000000000003,-87.151999999999987,-24.532999999999987,22.889000000000021,-122.07,-226.91899999999998,-191.56600000000003,-45.838999999999999,-92.112000000000009,27.84899999999999,-99.836000000000027,-14.271999999999991,56.174000000000007,33.649000000000015,-96.052000000000007,-312.209,-213.21600000000001,188.66300000000001,271.97999999999996,371.25900000000001,87.992000000000019,216.89600000000002,131.30700000000002,-16.239000000000033,8.0229999999999979,2.7199999999999989,95.904999999999987,222.43799999999999,184.26699999999997,48.239999999999981,224.11500000000001,217.79500000000002,282.57999999999993,18.097999999999995,-4.7849999999999788,-0.85400000000000809,-0.36500000000001087,-20.362000000000005,-20.454999999999984,19.067000000000007,44.103000000000002,42.116000000000021,71.337999999999994,56.38300000000001,128.05099999999999,134.20600000000002,271.50100000000003,383.18399999999997,371.48199999999997,354.12900000000002,382.27800000000008,376.39499999999998,379.125,353.88600000000002,378.61599999999999,369.63500000000005,406.47900000000004,389.68700000000001,389.56899999999996,434.89600000000007,380.024,248.45500000000007,-23.150000000000006,-228.83899999999997,95.808999999999997,234.45,175.22300000000001,297.35900000000004,337.60500000000002,288.54200000000003,53.531000000000034,-123.29699999999991,-16.168999999999983,-31.698000000000008,-483.95899999999995,-204.565,-220.011,-410.142,-439.19400000000002,-268.20999999999998,-397.76099999999997,-455.00499999999994,-103.38899999999998,13.219000000000023,65.415999999999983,-169.27099999999996,339.84099999999995,345.96100000000001,404.92,388.81900000000002,355.11400000000003,244.86200000000002,284.56999999999994,320.09499999999997,-25.489999999999981,206.148,283.52200000000005,253.50199999999995,244.11700000000002,366.79399999999998,462.85600000000005,712.678,628.45799999999997,570.85799999999995,515.62200000000007,504.84000000000003,210.99500000000003,438.75,625.31500000000005,437.96200000000022,196.38600000000002,415.9,422.24900000000002,519.16999999999996,683.53800000000001,173.875,258.82700000000006,208.52800000000002,340.72799999999984,443.80600000000004,516.19800000000009,261.39,-38.208999999999989,21.673000000000002,-83.963999999999999,447.06200000000001,578.60300000000007,504.50399999999996,431.03700000000003,282.04500000000007,283.08599999999996,139.70199999999997,402.85200000000003,489.56899999999985,532.01599999999996,648.78600000000017,721.60400000000004,705.34900000000005,259.03800000000001,187.00999999999993,575.93599999999992,236.11799999999999,428.06299999999999,298.13900000000007,490.71400000000006,245.99499999999983,26.416000000000054,50.988,247.01799999999997,-36.927000000000021,134.0570000000001,409.34499999999991,237.34800000000001,123.48700000000017,160.17900000000003,55.115999999999957,-24.058000000000035,-119.06699999999994,-318.32599999999996,-299.7890000000001,-234.03300000000002,-621.21900000000005,-303.66300000000001,-321.33699999999993,-241.45899999999997,-454.68899999999996,-53.954000000000008,-330.98899999999992,-45.659999999999968,198.09800000000004,295.54799999999989,299.65699999999998,51.22500000000003,68.783999999999935,176.04399999999987,176.28899999999999,31.582000000000047,-174.63699999999994,-495.3660000000001,-662.58600000000001,-689.60599999999999,-420.31899999999996,-365.17100000000011,-583.77700000000004,-799.06000000000006,41.880999999999901,18.829999999999842,-262.11199999999991,-377.87799999999993,63.244999999999948,-310.5329999999999,-236.93400000000003,-285.29499999999996,-175.70699999999999,94.559999999999889,-235.49499999999998,-243.36399999999992,-261.05200000000008,-494.79199999999992,-223.46099999999996,-289.77699999999993,-314.01400000000007,-846.57400000000007,-1153.7750000000001,-1052.932,-729.79899999999986,-456.80200000000002,-655.58400000000006,-1199.348,-1291.616,-761.274,-1052.3430000000001,-907.8119999999999,-796.07300000000009,-935.81099999999992,-1102.0160000000001,-948.44700000000012,-932.45499999999993,-897.62799999999993,-474.27600000000007,-192.94900000000001,-548.93499999999995,-437.37599999999992,-769.16000000000008,-944.90899999999988,-817.41499999999985,-711.16799999999989,-941.36400000000003,-897.21,-454.01600000000002,-304.71344599999998,-506.196753,-560.11404599999992,-729.095102,-542.81502899999998,-821.22575100000006,-1000.6535670000001,-758.60105700000008,-964.25545199999999,-1295.5098869999999,-593.21057399999995,-256.2883940000001,-611.33580499999994,-358.84235899999993,-762.63600899999994,-1074.8113169999999,-233.62379999999999,-404.76718699999998,-470.93457000000006,-197.10088099999999,-548.75685799999997,-381.58426100000008,-579.51663299999996,-466.21665400000006,-525.2909360000001,-1375.7932210000001,-869.96906999999987,-1211.9197819999999,-939.84038099999987,-625.32935200000009,-629.52545600000008,-646.20974899999987,-1047.302604,-1457.208903,-791.40693099999999,-1080.1572059999999,-364.45221100000009,-642.39397800000006,-430.41725799999995,-411.18220099999996,-132.05559299999999,-358.69514999999996,-1060.4316309999999,-517.67452200000014,-821.87308800000005,-679.119191,-892.91131899999993,-420.92630800000001,28.099829000000085,-490.54062400000004,-225.94670300000007,-652.23227599999996,-256.41148300000003,-285.58111300000002,-481.72024800000008,-236.69276999999994,-336.25483999999994,-303.54976099999993,195.37265700000012,-360.66759699999994,-259.102957,-558.85504600000002,-396.75677900000005,-295.55073600000003,180.77278999999996,0.88915499999995251,-184.17543000000003,-251.79336100000003,-169.94173199999997,436.52793200000002,453.107913,911.71715999999992,847.59026500000004,960.57577299999991,174.92662099999993,-106.68411200000001,762.50236500000005,1083.2692120000002,917.73114200000009,1034.6561139999999,1130.5906419999999,-433.77785800000004,357.21121500000004,938.722174,-531.54929800000002,541.13368700000001,1457.080766,1040.9594840000002,1444.9856,1128.8588829999999,1273.4433960000001,1827.910942,1393.3084219999998,273.0413999999999,"-","-"]
[]
[null,"Entradas internacionales físicas mensuales por líneas (GWh)","Líneas","1990-01-01","1990-02-01","1990-03-01","1990-04-01","1990-05-01","1990-06-01","1990-07-01","1990-08-01","1990-09-01","1990-10-01","1990-11-01","1990-12-01","1991-01-01","1991-02-01","1991-03-01","1991-04-01","1991-05-01","1991-06-01","1991-07-01","1991-08-01","1991-09-01","1991-10-01","1991-11-01","1991-12-01","1992-01-01","1992-02-01","1992-03-01","1992-04-01","1992-05-01","1992-06-01","1992-07-01","1992-08-01","1992-09-01","1992-10-01","1992-11-01","1992-12-01","1993-01-01","1993-02-01","1993-03-01","1993-04-01","1993-05-01","1993-06-01","1993-07-01","1993-08-01","1993-09-01","1993-10-01","1993-11-01","1993-12-01","1994-01-01","1994-02-01","1994-03-01","1994-04-01","1994-05-01","1994-06-01","1994-07-01","1994-08-01","1994-09-01","1994-10-01","1994-11-01","1994-12-01","1995-01-01","1995-02-01","1995-03-01","1995-04-01","1995-05-01","1995-06-01","1995-07-01","1995-08-01","1995-09-01","1995-10-01","1995-11-01","1995-12-01","1996-01-01","1996-02-01","1996-03-01","1996-04-01","1996-05-01","1996-06-01","1996-07-01","1996-08-01","1996-09-01","1996-10-01","1996-11-01","1996-12-01","1997-01-01","1997-02-01","1997-03-01","1997-04-01","1997-05-01","1997-06-01","1997-07-01","1997-08-01","1997-09-01","1997-10-01","1997-11-01","1997-12-01","1998-01-01","1998-02-01","1998-03-01","1998-04-01","1998-05-01","1998-06-01","1998-07-01","1998-08-01","1998-09-01","1998-10-01","1998-11-01","1998-12-01","1999-01-01","1999-02-01","1999-03-01","1999-04-01","1999-05-01","1999-06-01","1999-07-01","1999-08-01","1999-09-01","1999-10-01","1999-11-01","1999-12-01","2000-01-01","2000-02-01","2000-03-01","2000-04-01","2000-05-01","2000-06-01","2000-07-01","2000-08-01","2000-09-01","2000-10-01","2000-11-01","2000-12-01","2001-01-01","2001-02-01","2001-03-01","2001-04-01","2001-05-01","2001-06-01","2001-07-01","2001-08-01","2001-09-01","2001-10-01","2001-11-01","2001-12-01","2002-01-01","2002-02-01","2002-03-01","2002-04-01","2002-05-01","2002-06-01","2002-07-01","2002-08-01","2002-09-01","2002-10-01","2002-11-01","2002-12-01","2003-01-01","2003-02-01","2003-03-01","2003-04-01","2003-05-01","2003-06-01","2003-07-01","2003-08-01","2003-09-01","2003-10-01","2003-11-01","2003-12-01","2004-01-01","2004-02-01","2004-03-01","2004-04-01","2004-05-01","2004-06-01","2004-07-01","2004-08-01","2004-09-01","2004-10-01","2004-11-01","2004-12-01","2005-01-01","2005-02-01","2005-03-01","2005-04-01","2005-05-01","2005-06-01","2005-07-01","2005-08-01","2005-09-01","2005-10-01","2005-11-01","2005-12-01","2006-01-01","2006-02-01","2006-03-01","2006-04-01","2006-05-01","2006-06-01","2006-07-01","2006-08-01","2006-09-01","2006-10-01","2006-11-01","2006-12-01","2007-01-01","2007-02-01","2007-03-01","2007-04-01","2007-05-01","2007-06-01","2007-07-01","2007-08-01","2007-09-01","2007-10-01","2007-11-01","2007-12-01","2008-01-01","2008-02-01","2008-03-01","2008-04-01","2008-05-01","2008-06-01","2008-07-01","2008-08-01","2008-09-01","2008-10-01","2008-11-01","2008-12-01","2009-01-01","2009-02-01","2009-03-01","2009-04-01","2009-05-01","2009-06-01","2009-07-01","2009-08-01","2009-09-01","2009-10-01","2009-11-01","2009-12-01","2010-01-01","2010-02-01","2010-03-01","2010-04-01","2010-05-01","2010-06-01","2010-07-01","2010-08-01","2010-09-01","2010-10-01","2010-11-01","2010-12-01","2011-01-01","2011-02-01","2011-03-01","2011-04-01","2011-05-01","2011-06-01","2011-07-01","2011-08-01","2011-09-01","2011-10-01","2011-11-01","2011-12-01","2012-01-01","2012-02-01","2012-03-01","2012-04-01","2012-05-01","2012-06-01","2012-07-01","2012-08-01","2012-09-01","2012-10-01","2012-11-01","2012-12-01","2013-01-01","2013-02-01","2013-03-01","2013-04-01","2013-05-01","2013-06-01","2013-07-01","2013-08-01","2013-09-01","2013-10-01","2013-11-01","2013-12-01","2014-01-01","2014-02-01","2014-03-01","2014-04-01","2014-05-01","2014-06-01","2014-07-01","2014-08-01","2014-09-01","2014-10-01","2014-11-01","2014-12-01","2015-01-01","2015-02-01","2015-03-01","2015-04-01","2015-05-01","2015-06-01","2015-07-01","2015-08-01","2015-09-01","2015-10-01","2015-11-01","2015-12-01","2016-01-01","2016-02-01","2016-03-01","2016-04-01","2016-05-01","2016-06-01","2016-07-01","2016-08-01","2016-09-01","2016-10-01","2016-11-01","2016-12-01","2017-01-01","2017-02-01","2017-03-01","2017-04-01","2017-05-01","2017-06-01","2017-07-01","2017-08-01","2017-09-01","2017-10-01","2017-11-01","2017-12-01"]
[null,"Andorra","Adrall-Margineda",0,0,0,0,0,0.25600000000000001,0,0,0,0,0,0,0,0,1.4E-2,0,0,1E-3,2E-3,0,0,0,0,0,0,0,0,0,0,0,0,3.0000000000000001E-3,0.01,0,4.0000000000000001E-3,0,0,0,0,0,6.0000000000000001E-3,8.0000000000000002E-3,1E-3,0,0,0,0,0,0,0,2E-3,0,0,0,0,0,0,0,0,0,0,0,0,0,1E-3,0,0,0,0,0,0,0,0,0,0,0,0,0,0,0,0,0,0,0,0,0,0,1.2E-2,2.4E-2,0.02,2E-3,0,0,0,0,0,0,0,3.0000000000000001E-3,0,1E-3,1E-3,1E-3,0,0,0,0,0,7.7839999999999998,0,0,0,0,0,0,0,0,0,0,0,0,0,0,0,0,0,0,0,0,0,0,0,0,0,0,0,0,0,0,0,0,0,0,0,0,0,0,0,0,0,0,0,0,0,0,0,0,0,0,0,0,0,0,0,0,0,0,0,0,5.8699999999999996E-4,0,0,3.0000000000000001E-6,2.3119999999999998E-3,2.9E-5,0,3.5299999999999996E-4,1.7299999999999998E-4,0,0,3.9999999999999998E-6,0,0,6.8500000000000006E-4,1.6379999999999999E-3,2.6720000000000003E-3,1.7999999999999998E-4,9.1999999999999987E-5,6.8100000000000007E-4,6.3400000000000001E-4,7.3860000000000002E-3,1E-4,0,0,2.1499999999999999E-4,0,2.05E-4,1.3000000000000002E-4,4.0999999999999999E-4,0,1.9E-3,1.0300000000000001E-3,0,0,4.0000000000000003E-5,0,2.0000000000000002E-5,2.0000000000000002E-5,1.7999999999999998E-4,7.3999999999999999E-4,0.26547000000000004,1.4399999999999999E-3,0,0,2.9999999999999997E-5,0,0,0,1.4000000000000001E-4,0,1.0000000000000001E-5,2.7E-4,0,2.9999999999999997E-4,0,0,0,0,0,0,2.0000000000000001E-4,0,0,6.4999999999999997E-4,4.0000000000000003E-5,0,5.0000000000000002E-5,0,0,7.7200000000000003E-3,0,0,0,0,3.4000000000000002E-4,2.9999999999999997E-5,0,0,0,0,0,0,0,0,0,0,0,1.6000000000000001E-4,7.0000000000000007E-5,1.1E-4,2.2000000000000001E-4,0,0,0,4.0000000000000002E-4,8.0000000000000007E-5,4.0000000000000003E-5,3.4000000000000002E-4,2.6000000000000003E-4,3.5999999999999997E-4,0,0,2.0000000000000002E-5,0,0,8.0000000000000007E-5,0,0,0,0,6.4999999999999997E-4,0,3.4000000000000002E-4,0,0,1.1E-4,0,0,0,0,0,4.0999999999999999E-4,8.3999999999999993E-4,6.6E-4,1.24E-3,1.06E-3,6.9999999999999999E-4,5.5000000000000003E-4,1.4000000000000001E-4,0,0,0,0,4.6999999999999999E-4,1.32E-3,6.0999999999999997E-4,0,5.0000000000000001E-4,2.6000000000000003E-4,3.5E-4,8.7000000000000001E-4,1.8500000000000001E-3,0,0,0,0,1.6000000000000001E-4,7.1999999999999994E-4,1.7000000000000001E-4,4.6999999999999999E-4,1.4299999999999998E-3,8.9999999999999998E-4,1.3000000000000002E-4,0,0,0,6.4900000000000001E-3,1.33E-3,6.0299999999999998E-3,1.15E-3,2.5000000000000001E-4,1.3000000000000002E-4,1.1000000000000001E-3,"-","-","-"]
[null,null,"Total",{"$f":"D20","v":0},{"$f":"E20","v":0},0,0,0,0.25600000000000001,0,0,0,0,0,0,0,0,1.4E-2,0,0,1E-3,2E-3,0,0,0,0,0,0,0,0,0,0,0,0,3.0000000000000001E-3,0.01,0,4.0000000000000001E-3,0,0,0,0,0,6.0000000000000001E-3,8.0000000000000002E-3,1E-3,0,0,0,0,0,0,0,2E-3,0,0,0,0,0,0,0,0,0,0,0,0,0,1E-3,{"$f":"BQ20","v":0},0,0,0,0,0,0,0,0,0,0,0,0,0,0,0,0,0,0,0,0,0,1.2E-2,2.4E-2,0.02,2E-3,0,0,0,0,0,0,0,3.0000000000000001E-3,0,1E-3,1E-3,1E-3,0,0,0,0,0,7.7839999999999998,0,0,0,0,0,0,0,0,0,0,0,0,0,0,0,0,0,0,0,0,{"$f":"EC20","v":0},0,0,0,0,0,0,0,0,0,0,0,0,0,0,0,0,0,0,0,0,0,0,0,0,0,0,0,0,0,0,0,0,0,0,0,0,0,0,0,5.8699999999999996E-4,0,0,3.0000000000000001E-6,2.3119999999999998E-3,2.9E-5,0,3.5299999999999996E-4,1.7299999999999998E-4,0,0,3.9999999999999998E-6,0,0,6.8500000000000006E-4,1.6379999999999999E-3,2.6720000000000003E-3,1.7999999999999998E-4,9.1999999999999987E-5,6.8100000000000007E-4,6.3400000000000001E-4,7.3860000000000002E-3,1E-4,0,{"$f":"GO20","v":0},2.1499999999999999E-4,0,2.05E-4,1.3000000000000002E-4,4.0999999999999999E-4,0,1.9E-3,1.0300000000000001E-3,0,0,4.0000000000000003E-5,0,2.0000000000000002E-5,2.0000000000000002E-5,1.7999999999999998E-4,7.3999999999999999E-4,0.26547000000000004,1.4399999999999999E-3,0,0,2.9999999999999997E-5,0,0,0,1.4000000000000001E-4,0,1.0000000000000001E-5,2.7E-4,0,2.9999999999999997E-4,0,0,0,0,0,0,2.0000000000000001E-4,0,0,6.4999999999999997E-4,4.0000000000000003E-5,0,5.0000000000000002E-5,0,0,7.7200000000000003E-3,0,0,0,0,3.4000000000000002E-4,2.9999999999999997E-5,0,0,0,0,0,0,0,0,0,0,0,{"$f":"JA20","v":1.6000000000000001E-4},7.0000000000000007E-5,1.1E-4,2.2000000000000001E-4,0,0,0,4.0000000000000002E-4,8.0000000000000007E-5,4.0000000000000003E-5,3.4000000000000002E-4,2.6000000000000003E-4,3.5999999999999997E-4,0,0,2.0000000000000002E-5,0,0,8.0000000000000007E-5,0,0,0,0,6.4999999999999997E-4,0,3.4000000000000002E-4,0,0,1.1E-4,0,0,0,0,0,4.0999999999999999E-4,8.3999999999999993E-4,6.6E-4,1.24E-3,1.06E-3,6.9999999999999999E-4,5.5000000000000003E-4,1.4000000000000001E-4,0,0,0,0,4.6999999999999999E-4,1.32E-3,6.0999999999999997E-4,0,5.0000000000000001E-4,2.6000000000000003E-4,3.5E-4,8.7000000000000001E-4,1.8500000000000001E-3,0,0,0,0,1.6000000000000001E-4,7.1999999999999994E-4,1.7000000000000001E-4,4.6999999999999999E-4,1.4299999999999998E-3,{"$f":"LM20","v":8.9999999999999998E-4},1.3000000000000002E-4,0,0,0,6.4900000000000001E-3,1.33E-3,6.0299999999999998E-3,1.15E-3,2.5000000000000001E-4,1.3000000000000002E-4,1.1000000000000001E-3,"-","-","-"]
[null,"Francia","Arkale-Argia",0,0.22600000000000001,6.5000000000000002E-2,5.5179999999999998,6.0090000000000003,5.0000000000000001E-3,0.38100000000000001,2.2719999999999998,1.3879999999999999,1.722,1.0740000000000001,0.126,9.2999999999999999E-2,0,0,0.84599999999999997,3.7160000000000002,7.601,1.2629999999999999,4.2530000000000001,0.16500000000000001,0.376,1.881,0.57399999999999995,8.9999999999999993E-3,0,0.14699999999999999,5.5,24.913,19.603000000000002,17.343,19.064,4.3860000000000001,7.6820000000000004,1.3440000000000001,0.32,5.0999999999999997E-2,6.7000000000000004E-2,0.191,2.605,5.766,4.1150000000000002,1.569,0.439,1.865,1.677,0.90500000000000003,0.27300000000000002,0.185,0.16300000000000001,0.86199999999999999,0.185,2.5270000000000001,1.3560000000000001,0.44500000000000001,4.242,5.1970000000000001,12.173999999999999,14.439,2.9089999999999998,4.7610000000000001,6.81,8.9109999999999996,7.3390000000000004,18.968,13.756,1.2869999999999999,3.3119999999999998,5.923,9.3689999999999998,9.0839999999999996,7.4169999999999998,0.09,0.126,7.5279999999999996,15.558,10.683,8.7189999999999994,0.34300000000000003,1.097,2.2549999999999999,8.4540000000000006,1.6519999999999999,0.38200000000000001,1E-3,2.8000000000000001E-2,0.57299999999999995,2.6,0.97699999999999998,0.89500000000000002,0.109,0.216,5.7000000000000002E-2,0.313,0.2,0,8.4000000000000005E-2,0.34200000000000003,1.0149999999999999,2.073,7.6459999999999999,3.1549999999999998,2.4390000000000001,1.4690000000000001,0.28000000000000003,0.78900000000000003,0.32,1.1000000000000001,0.32900000000000001,0.33400000000000002,1.004,7.4999999999999997E-2,6.7880000000000003,3.9359999999999999,0.998,7.6790000000000003,0.76700000000000002,2.71,2.016,2.3740000000000001,0,0.246,2.11,4.1870000000000003,23.422999999999998,23.295000000000002,2.8660000000000001,1.137,1.0940000000000001,2.92,1.3071575825502633,1.19,0.10071231771841528,2E-3,1.4E-2,6.8560763599931791,14.994999999999999,4.54,2.3929999999999998,0.51200000000000001,0.56599999999999995,1.1519999999999999,0.78900000000000003,0.70799999999999996,1.1378577083279804,1.1945631403020556,3.8035885252445309,5.1820000000000004,36.796923084137802,59.106680054601902,44.548592900966476,76.288125748568419,59.017000000000003,66.855999999999995,66.832999999999998,37.740514761310116,10.628776907983625,11.2062978199928,40.466046055391594,38.116366132203716,90.618200349456572,62.343054912283982,42.783529448717623,43.501754852289402,39.918999999999997,21.574999999999999,34.362000000000002,19.407,16.610883999999999,14.680440000000001,21.075495,32.313383000000002,52.757754999999996,42.46846,36.429136,38.009492000000002,32.607583999999996,47.415402999999998,40.376294000000001,26.410730999999998,60.949277000000002,34.780594000000001,49.384571000000001,31.488002999999999,61.736985999999995,24.165984999999999,7.7793370000000008,14.367987999999999,8.6863160000000015,13.418450999999999,7.2905329999999999,5.3972569999999997,22.510854999999999,9.4631679999999996,3.116155,21.205054000000001,66.561685999999995,48.562111999999999,15.54786,48.165497000000002,34.237029999999997,33.291733999999998,24.775562000000001,9.0373649999999994,38.583777000000005,19.157152999999997,26.062175,36.722448999999997,28.474649000000003,32.895394000000003,20.987095,21.519089000000001,26.104493999999999,25.927312000000001,6.5350580000000003,20.996255000000001,54.126118999999996,48.360340999999998,34.259370000000004,23.706137999999999,73.216608999999991,27.036943999999998,32.771267999999999,36.239483,27.193491999999999,17.217346000000003,11.8559,17.70956,7.6175299999999995,3.461481,22.905417,35.681894,58.907584,23.360686000000001,17.921544999999998,29.302569999999999,18.904494,11.054596,16.973508000000002,8.295596999999999,0.39748700000000003,0.67826399999999998,1.1342780000000001,0.74798199999999992,11.163485000000001,27.846284999999998,24.011960999999999,44.569188000000004,20.180160000000001,3.017112,7.8326970000000005,1.0030589999999999,4.1027969999999998,0.24798699999999999,3.0221559999999998,9.4714489999999998,32.050147000000003,62.669932000000003,64.474955999999992,60.409605000000006,32.205784000000001,30.834249,16.209325,24.373854999999999,37.120168,4.2888959999999994,30.955964999999999,28.011953000000002,37.538637000000001,19.700898000000002,14.247031999999999,21.505144999999999,18.381246000000001,8.6523810000000001,6.9078010000000001,19.960528,24.647004000000003,9.2133289999999999,0.18423800000000001,4.6497849999999996,24.795821,67.603046000000006,58.120562,55.594911999999994,50.113416999999998,34.248984999999998,5.7317979999999995,14.370983000000001,5.6639809999999997,0.110497,12.657026,6.9571009999999998,69.422471000000002,57.725550000000005,62.767733999999997,44.155080999999996,21.706782999999998,44.494328000000003,35.366421000000003,34.018349000000001,44.322658000000004,1.461244,17.004694000000001,54.072124000000002,55.335245,57.179057999999998,24.308872999999998,40.90504,36.565358999999994,46.596665000000002,100.610669,132.77802299999999,59.457678000000001,54.717881999999996,41.324705999999999,26.291651000000002,67.217343,90.150126999999998,74.219638000000003,95.464998999999992,88.547151999999997,73.768726000000001,77.932096999999999,102.47527700000001,27.479320999999999,64.809684000000004,161.32373800000002,135.71503300000001,176.74392600000002,94.880736999999996,67.95030100000001,84.754282000000003,44.137132000000001,"-","-","-"]
[null,null,"Benós-Lac D'oo",0,0,0,0,0.11,4.5999999999999999E-2,0,0,0.13700000000000001,0,0,0,0,0,0,0,0,0,0,0,0,0,0,3.0000000000000001E-3,0,0,0,0,0,0,0.83399999999999996,0,0,0,0,0,0,0,0.432,0,0,0,3.9609999999999999,2.37,0,0,0,0.54700000000000004,0.19500000000000001,4.2939999999999996,0.14299999999999999,0,0,0,0,0,0,0,0,0,0,0,0,0,0,0,0.72699999999999998,0.95699999999999996,0.29399999999999998,1.5620000000000001,0,0,8.0000000000000002E-3,0.46500000000000002,0,0,0,0,0,0,0,0,0,0,3.0129999999999999,3.7719999999999998,0,0,0,0,0,0,0,0,0,0,0,0,0,4.1000000000000002E-2,5.726,0.41599999999999998,0.42199999999999999,0,0,0,0.44900000000000001,0,0.112,0,0,0,0.01,0,0,0,0,0,0,0.7,0,0,0.03,0,0,0,0,0,0,0,0,0,0.67243274759467175,0,0,0,0,0,0,0,0,0,0.01,0,0,0,0,0,0,0,31.949436101551417,0,3.6219999999999999,0,0,0,0,0,0,0,0,0,0,0,0,2.5999999999999999E-2,1.7999999999999999E-2,2.3E-2,2.2186000000000001E-2,2.6601E-2,2.0952000000000002E-2,2.0233000000000001E-2,1.1169E-2,1.1634E-2,2.4752E-2,2.0999789999999998,3.3E-4,0,9.7199999999999999E-4,3.7109999999999999E-3,2.9640000000000001E-3,0.286414,9.6369999999999997E-3,3.3470000000000001E-3,1.4E-5,0,1.248E-3,0,6.2164000000000004E-2,0,3.0499999999999998E-3,3.8959999999999997E-3,5.2849999999999998E-3,2.5430000000000001E-3,2.1309999999999996E-3,1.356E-3,1.5999999999999999E-5,3.8999999999999998E-3,0.197605,2.5119999999999999E-3,0,0,1.4830000000000002E-3,2.5349999999999999E-3,1.9059999999999999E-3,1.9859999999999999E-3,3.5769999999999999E-3,1.3109999999999999E-3,2.0599999999999999E-4,0,0,0,0,0,7.1070000000000005E-3,9.7520000000000003E-3,1.01E-2,7.9950000000000004E-3,1.1708999999999999E-2,1.7130619999999999,0,5.8652999999999997E-2,0,0,0,0,9.724E-3,1.3060000000000001E-3,1.526E-3,9.0899999999999998E-4,9.459999999999999E-4,0,0,0,0,0,0,0,1.2404999999999999E-2,0,0,0,0,0,0,0,0.2127,0,0,0,0,0,0,0,0,0,0,0,0,0,1.5681849999999999,3.3891990000000001,0,1.1967E-2,0,0,0,0,0,0,0,0,1.1212550000000001,2.0286029999999999,5.6968000000000005E-2,0,5.2500000000000008E-4,3.0600000000000001E-4,0,0.56282100000000002,2.1999999999999999E-5,0.18380199999999999,0,0,3.2506599999999999,1.8529929999999999,1.7000000000000001E-4,0,0,1.9999999999999999E-6,9.3819E-2,0.43604000000000004,0,0,0,0,0,1.506891,0.27051199999999997,2.9E-4,0,0,0,0.30521199999999998,0,0,0,0,0,0,0,1.75E-4,2.2600000000000002E-4,0,0,0,7.9363000000000003E-2,0,1.0944670000000001,0,2.2575289999999999,0,0,0,1.9999999999999999E-6,0,4.7122999999999998E-2,0,0,0,0,7.9682000000000003E-2,3.9999999999999998E-6,"-","-","-"]
[null,null,"Biescas-Pragneres",4.8419999999999996,10.755000000000001,9.4760000000000009,1.5940000000000001,29.294,4.5609999999999999,6.2229999999999999,6.8810000000000002,8.8010000000000002,4.1929999999999996,3.8330000000000002,24.94,12.753,25.606000000000002,4.391,0.71099999999999997,2.9260000000000002,2.0499999999999998,2.5470000000000002,5.9909999999999997,3.4729999999999999,0.48099999999999998,13.763,10.105,13.756,10.88,7.35,19.132999999999999,52.801000000000002,79.674999999999997,61.62,12.952,6.2130000000000001,9.0030000000000001,7.1,8.9920000000000009,20.539000000000001,53.703000000000003,33.320999999999998,15.555999999999999,31.638999999999999,13.999000000000001,29.323,2.7629999999999999,3.4889999999999999,10.159000000000001,11.496,9.9700000000000006,16.716999999999999,26.231000000000002,45.859000000000002,47.603999999999999,33.578000000000003,32.048000000000002,39.752000000000002,18.504000000000001,42.369,48.396000000000001,41.442,71.647000000000006,91.665999999999997,74.763000000000005,71.525000000000006,47.289000000000001,74.305000000000007,61.79,69.087000000000003,57.831000000000003,59.441000000000003,41.491,40.493000000000002,40.145000000000003,25.396999999999998,20.349,26.817,46.094999999999999,20.596,25.658999999999999,31.425000000000001,33.856000000000002,0.97199999999999998,18.617000000000001,24.956,37.595999999999997,5.1559999999999997,11.188000000000001,15.321999999999999,10.433999999999999,5.2,8.9559999999999995,11.276,6.508,21.277999999999999,0,1.3839999999999999,13.067,50.238,55.237000000000002,73.046000000000006,31.234999999999999,37.939,50.244,42.841999999999999,2.5979999999999999,11.358000000000001,56.677999999999997,30.231000000000002,45.781999999999996,37.802,58.433,66.757999999999996,75.793999999999997,76.03,62.103999999999999,65.319000000000003,50.587000000000003,55.564999999999998,54.155999999999999,69.415000000000006,72.355000000000004,26.196999999999999,68.284999999999997,85.878,81.778000000000006,67.549000000000007,49.173999999999999,52.014000000000003,67.522999999999996,83.608000000000004,78.963999999999999,69.23895635557642,38.204000000000001,31.947167935647609,44.741999999999997,21.302,4.5441783509549794,56.511000000000003,76.228999999999999,79.388000000000005,59.445999999999998,53.713999999999999,48.22,53.247999999999998,31.559000000000001,51.272619465451626,91.205048780397604,119.9308947553079,99.468999999999994,112.45163422585654,97.770563680071518,84.00155416497158,59.215134124885253,58.101999999999997,98.295000000000002,139.48599999999999,117.49664885108109,63.080918751570046,0,0,1.0010864381406097E-2,48.0734671310693,79.883074270400513,25.807159373646282,57.729418573143796,57.646000000000001,52.616,28.934999999999999,21.622,81.08714599999999,63.947735000000002,49.136792,34.650118999999997,42.622819999999997,43.584701000000003,36.079276,22.186753,38.519527000000004,88.571017000000012,53.120959999999997,74.387820000000005,88.238551000000001,93.437336000000002,77.294067999999996,85.922134999999997,51.770122999999998,53.784997000000004,57.280777,44.359105999999997,14.019388000000001,9.4067119999999989,16.885518999999999,48.311205999999999,73.304272999999995,17.927788,14.193067999999998,50.702252999999999,73.752926000000002,42.819761,34.462052999999997,45.220711000000001,68.983429000000001,52.786251,18.369987000000002,17.535066999999998,60.560446000000006,34.524417,67.572177999999994,82.877907999999991,39.693622000000005,83.068445999999994,49.543303000000002,61.232639000000006,30.208762999999998,11.919544999999999,20.253433000000001,14.853311,55.775760999999996,31.449488000000002,8.1243990000000004,10.624146000000001,52.019550000000002,21.250036000000001,33.390046000000005,17.886257000000001,11.150181,9.5753940000000011,37.256937000000001,21.840606000000001,20.452987,5.0182579999999994,31.897096000000001,39.464084999999997,53.361637000000002,40.283408000000001,24.374200999999999,11.614870000000002,8.9479150000000001,6.2671520000000003,15.768483,2.9328189999999998,1.6800550000000001,0.55068399999999995,10.180349,3.7419699999999998,1.3468389999999999,4.9314549999999997,6.1135169999999999,24.617573,25.337814999999999,7.6369379999999998,0.71314900000000003,0.39156599999999997,6.7076739999999999,8.0902460000000005,10.649388,12.30452,8.0033650000000005,7.7210110000000007,11.641763000000001,28.860199999999999,18.130931,23.509233000000002,7.4352529999999994,29.947675,48.904377999999994,10.389533,37.146817999999996,12.774966000000001,9.8516460000000006,8.9912050000000008,25.963626999999999,51.679514000000005,23.679735000000001,8.3121779999999994,10.405727000000001,11.55315,18.894265999999998,12.100972000000001,0.73547699999999994,4.0684480000000001,22.446083999999999,32.726116999999995,33.272160000000007,18.886416000000001,22.149182,17.821064999999997,0.33128800000000003,41.348562000000001,9.4034180000000003,1.2304459999999999,20.114491000000001,6.5258419999999999,41.956050000000005,24.992540000000002,11.935793,41.334828999999999,36.656347000000004,13.050189,25.938181,19.793955999999998,32.331300999999996,8.9349969999999992,26.00149,38.954046000000005,15.693790999999999,19.617365000000003,11.031870999999999,29.267927,6.1807949999999998,40.103394000000002,37.201625999999997,85.862691999999996,45.891154999999998,30.200695,54.232498,27.313899000000003,18.783828,41.641103999999999,36.869362000000002,50.198895999999998,35.384586999999996,35.576669000000003,33.105178000000002,47.490639000000002,21.156711999999999,26.374379000000001,43.434992000000001,45.710730000000005,37.415656999999996,18.829087999999999,44.857482000000005,92.172933,41.855533999999999,"-","-","-"]
[null,null,"Hernani-Argia",13.964,25.321999999999999,20.199000000000002,71.125,57.881,22.638999999999999,56.363,134.48599999999999,85.183000000000007,87.168999999999997,42.134,42.536000000000001,38.057000000000002,17.635000000000002,3.8220000000000001,17.434999999999999,35.250999999999998,80.756,78.850999999999999,156.91900000000001,46.286000000000001,72.38,113.166,110.077,88.921999999999997,38.835000000000001,80.918000000000006,149.73699999999999,312.49700000000001,346.90699999999998,239.59200000000001,293.43400000000003,163.773,124.77500000000001,60.082999999999998,51.034999999999997,82.620999999999995,59.581000000000003,81.373999999999995,108.887,88.471000000000004,76.658000000000001,125.99,86.248999999999995,128.90299999999999,76.944999999999993,59.779000000000003,63.706000000000003,31.309000000000001,19.876999999999999,27.411000000000001,30.558,38.694000000000003,46.302,132.53299999999999,242.554,210.68,260.53100000000001,265.46100000000001,260.96699999999998,237.96600000000001,206.44399999999999,220.80099999999999,200.68299999999999,229.93600000000001,209.959,186.40700000000001,261.15199999999999,219.46199999999999,219.43299999999999,257.51600000000002,186.64,80.653999999999996,44.155999999999999,206.09,220.56899999999999,193.90199999999999,216.25399999999999,163.95599999999999,176.602,171.054,254.02799999999999,225.97200000000001,152.44499999999999,9.6859999999999999,59.610999999999997,133.786,131.72800000000001,156.19,117.95,132.43,146.99,135.66,150.9,142.44999999999999,33.024999999999999,139.33099999999999,151.33000000000001,195.52,222.07,236.85,221.66,241.23,311.74,183.92,208.45,224.49,258.48,287.07,283.74599999999998,250.77,192.04,237.1,215.98,298.27,318.26,223.12,263.94,275.06,239.17,114.36,234.29,328.15,340.96,393.21,363.85,374.67,364.56,292.27999999999997,292.07900000000001,300.86272254024755,231.78100000000001,85.927952936579629,36.396000000000001,44.5,208.17631422237378,329.54,300.54000000000002,335.43,364.58,313.67,232.38,312.52,296.42,334.51494067694995,347.65765859516699,371.00615750756054,407.26900000000001,282.11758481865269,148.30881766588951,313.97537474848536,372.91748725657868,310.59199999999998,378.26,385.37,264.72137757183515,62.159597682107972,101.5749810684331,192.65737492363971,182.08561006051923,342.39624239508606,307.78906857954598,268.93068123037807,264.81995621896448,242.36600000000001,216.24100000000001,180.577,125.925,138.70896299999998,125.25824,160.97889699999999,216.620013,282.76670100000001,220.33174400000001,251.56451899999999,185.14874,168.419648,175.558864,217.76901800000002,326.03627799999998,404.23717999999997,300.355705,277.18531800000005,211.40056700000002,299.20555899999999,177.93268,101.78286,119.65329200000001,107.021794,101.56293099999999,90.471116999999992,101.77148099999999,163.455186,103.851535,31.752646000000002,127.65414999999999,290.94425900000005,239.80810300000002,124.80213099999999,238.268914,201.58554500000002,200.42672399999998,116.915144,63.104627999999998,222.70701199999999,144.88691399999999,189.55150399999999,231.627025,160.202631,174.14698499999997,164.76941699999998,205.166213,160.90546000000001,118.776472,63.677860000000003,177.905249,277.82000699999998,268.85433500000005,205.81826599999999,109.468783,278.70353499999999,118.199696,158.37532899999999,223.41924600000002,135.437533,107.76400199999999,103.92231699999999,130.395712,61.025186999999995,43.103797,155.95364600000002,212.02890299999999,290.73260199999999,116.02253399999999,99.155448000000007,143.92926199999999,105.553926,72.771496999999997,89.577774999999988,49.61542,5.2811729999999999,10.970717,8.2922270000000005,14.222344,68.383312000000004,136.986898,131.83678700000002,233.247241,166.075433,97.122062999999997,84.479892000000007,14.309610000000001,40.079959000000002,22.231085999999998,18.738364000000001,80.181386000000003,164.04152199999999,275.51384899999999,288.17327899999998,312.04092800000001,167.33971499999998,181.45614600000002,41.782279000000003,193.108045,287.43049300000001,55.820236999999999,205.79933400000002,151.42284599999999,194.69235999999998,159.53341,128.73705000000001,155.717288,98.980474000000001,74.284408999999997,59.701953000000003,114.831202,151.85423499999999,56.649796000000002,2.6748429999999996,16.989060000000002,232.79714199999998,284.16277500000001,174.17938599999999,257.09888899999999,207.931175,156.58320499999999,38.265266000000004,111.36875500000001,44.376623000000002,1.3286530000000001,53.016701999999995,31.539952,238.00499600000001,238.17384699999999,251.10465900000003,222.141717,261.90622500000001,187.56346400000001,173.16539799999998,181.150261,256.16404800000004,15.118713,117.60882099999999,231.71644499999999,215.34665900000002,200.804834,130.379312,205.63510699999998,165.131753,189.99454299999999,371.77302900000001,490.97204399999998,267.01613700000001,229.52036799999999,152.842219,106.67311100000001,261.69657599999999,366.00877600000001,361.797865,424.738044,362.00854700000002,225.224356,305.79726799999997,418.07134000000002,157.07413099999999,257.81875600000001,605.72170200000005,598.09544200000005,667.84107799999992,406.41146399999997,502.62653799999998,634.14896400000009,619.87940099999992,"-","-","-"]
[null,null,"Irún-Errondenia",0,0,0,0,0,0,0,0,0,0,0,0,0,0,0,0,0,0,0,0,0,0,0,0,0,0,0,0,0,0,0,0,0,0,0,0,0,0,0,0,0,0,0,0,0,0,0,0,0,0,0,0,0,0,0,0,0,0,0,0,0,0,0,0,0,0,0,0,0,0,0,0,0,0,0,0,0,0,0,0,0,0,0,0,0,0,0,0,0,0,0,0,0,0,0,0,0,0,0,0,0,0,0,0,0,0,0,0,0,0,0,0,0,0,0,0,0,0,0,0,0,0,0,0,0,0,0,0,0,0,0,0,0,0,0,0,0,0,0,0,0,0,0,0,0,0,0,0,0,0,0,0,0,0,0,0,0,0,0,0,0,0,0,0,4.0000000000000001E-3,0,0,0,9.9999999999999995E-7,0,0,0,0,3.5999999999999994E-5,6.7160000000000006E-3,0,7.0999999999999991E-5,0,2.05E-4,0,0,0,0,0,0,0,0,0,0,0,0,0,0,0,0,0,0,0,0,0,0,0,0,0,0,0,0,0,0,0,0,0,0,0,0,0,0,0,0,0,0,0,0,0,0,0,0,0,0,0,0,0,0,0,0,0,0,0,0,0,0,0,0,0,0,0,0,0,0,0,0,0,0,0,0,0,0,0,0,0,0,0,0,0,0,0,0,0,0,0,0,0,0,0,0,0,0,0,0,0,0,0,0,0,0,0,0,0,0,0,0,0,0,0,0,0,0,0,0,0,0,0,0,0,0,0,0,0,0,0,0,0,0,0,0,0,0,0,0,0,0,0,0,0,0,0,0,0,0,0,0,0,0,"-","-","-"]
[null,null,"Santa Llogaia-Baixas",0,0,0,0,0,0,0,0,0,0,0,0,0,0,0,0,0,0,0,0,0,0,0,0,0,0,0,0,0,0,0,0,0,0,0,0,0,0,0,0,0,0,0,0,0,0,0,0,0,0,0,0,0,0,0,0,0,0,0,0,0,0,0,0,0,0,0,0,0,0,0,0,0,0,0,0,0,0,0,0,0,0,0,0,0,0,0,0,0,0,0,0,0,0,0,0,0,0,0,0,0,0,0,0,0,0,0,0,0,0,0,0,0,0,0,0,0,0,0,0,0,0,0,0,0,0,0,0,0,0,0,0,0,0,0,0,0,0,0,0,0,0,0,0,0,0,0,0,0,0,0,0,0,0,0,0,0,0,0,0,0,0,0,0,0,0,0,0,0,0,0,0,0,0,0,0,0,0,0,0,0,0,0,0,0,0,0,0,0,0,0,0,0,0,0,0,0,0,0,0,0,0,0,0,0,0,0,0,0,0,0,0,0,0,0,0,0,0,0,0,0,0,0,0,0,0,0,0,0,0,0,0,0,0,0,0,0,0,0,0,0,0,0,0,0,0,0,0,0,0,0,0,0,0,0,0,0,0,0,0,0,0,0,0,0,0,0,0,0,0,0,0,0,0,0,0,0,0,0,0,0,0,0,0,0,0,0,0,0,0,0,0,0,0,0,0,0,0,0,0,0,0,0,5.3370000000000008E-2,2.0566519999999997,4.993023,50.903608999999996,30.448747999999998,154.86736999999999,210.15966800000001,440.98092300000002,606.23104599999999,344.63653899999997,382.89402800000005,342.42240900000002,186.73571500000003,412.49888400000003,499.94753800000001,606.10685400000011,619.31322799999998,555.16127400000005,278.69942199999997,367.90128299999998,514.95774200000005,205.782644,376.74004200000002,684.45948399999997,509.368424,679.30778699999996,638.69738299999995,550.22980700000005,658.44792100000006,648.28606600000001,"-","-","-"]
[null,null,"Vic-Baixas",28.516999999999999,72.55,116.559,37.048999999999999,134.84399999999999,84.227999999999994,59.661000000000001,3.5150000000000001,37.503999999999998,23.289000000000001,31.614000000000001,88.876000000000005,105.2,108.458,77.087000000000003,13.143000000000001,10.945,7.6379999999999999,29.818000000000001,25.603000000000002,71.391000000000005,58.259,35.887,45.668999999999997,29.308,67.224000000000004,97.328000000000003,70.444999999999993,77.606999999999999,121.886,108.536,17.041,60.112000000000002,16.042999999999999,58.497,89.087999999999994,131.27000000000001,216.35499999999999,220.05799999999999,133.28700000000001,147.80199999999999,181.64400000000001,192.41300000000001,49.488999999999997,4.28,4.0709999999999997,64.698999999999998,56.154000000000003,83.912000000000006,105.75700000000001,88.349000000000004,82.777000000000001,51.94,75.98,231.32,121.52,223.65,209.53,188.78,193.15,210.01,195.79,204.36,207.29,182.56,210.84,299.49,226.85,247.43,197.69,136.32,103.28,79.739999999999995,42.18,38.020000000000003,42.48,47.79,124.05,220.36,142.63,169,111.61,148.02000000000001,104.21,8.3699999999999992,25.83,55.72,27.65,15.09,13.95,47.77,38.32,92.935000000000002,157.58500000000001,83.257999999999996,74.932000000000002,244.27600000000001,199.11600000000001,210,196.01300000000001,122.136,115.85899999999999,142.93299999999999,135.917,211.09200000000001,194.55600000000001,188.23500000000001,195.215,206.00399999999999,211.07,284.23,340.53,208.78700000000001,225.28299999999999,341.82,305.84100000000001,375.62099999999998,343.39400000000001,392.13200000000001,372.44299999999998,381.59500000000003,389.66,417.32,349,339.22899999999998,214.77099999999999,256.01100000000002,292.92099999999999,348.85199999999998,369.75,453.85816352162584,224.69399999999999,165.14073406245967,262.55099999999999,208.85,247.30143106667802,294.76900000000001,297.07499999999999,288.23,292.01100000000002,303.19,162.65899999999999,325.24,423.44,324.16358214927038,387.30572948413339,407.94135921188706,343.04199999999997,157.484857871353,118.58193859943707,271.35904208402508,243.59625286996766,313.51,235.42,348.17,371.4374588157736,307.1137066583384,243.13772111157405,310.85057902096872,172.32101294289569,168.93109012438808,252.51480223776946,342.38462994725802,316.72087035560236,319.71499999999997,291.839,134.58500000000001,148.93299999999999,162.032488,168.90554600000002,303.36067400000002,101.76923600000001,107.06111299999999,161.13644099999999,266.45824399999998,119.060125,265.89189099999999,183.80019000000001,247.745251,390.63094000000001,391.82848100000001,309.86721799999998,239.69704300000001,314.83098100000001,404.18836700000003,462.12278900000001,506.78579999999999,408.86969499999998,271.61116499999997,300.65439700000002,179.037147,257.81850300000002,320.88043300000004,205.87564600000002,115.24080000000001,326.314278,265.987866,246.503142,251.10976199999999,353.43939699999999,368.10872499999999,306.49427800000001,165.920233,214.91653599999998,406.41328199999998,336.88541200000003,413.731899,327.75768800000003,339.160529,398.42281700000001,476.07946800000002,446.28665799999999,223.055554,63.569177000000003,87.103915999999998,204.983957,204.87153599999999,182.01229500000002,75.188953999999995,50.398071999999999,78.280957999999998,80.252891000000005,199.81649100000001,119.469323,124.27603999999999,81.723541999999995,265.88519600000001,255.409514,135.70551,122.46346700000001,216.73455900000002,216.64428599999999,246.81578099999999,283.79288700000001,299.54353600000002,98.680956000000009,78.065986000000009,103.874576,74.677357000000001,111.09305499999999,114.199009,34.776349000000003,71.161138000000008,17.246376999999999,26.028276999999999,75.575051000000002,56.692399999999999,154.419793,66.079705000000004,39.201421000000003,88.818539000000001,37.830946000000004,61.130890000000001,2.8537020000000002,25.922622,59.799531000000002,102.621336,134.18337199999999,205.59928099999999,251.53442699999999,237.191564,245.68813299999999,84.518455000000003,273.22704700000003,402.457966,121.96675999999999,243.71578400000001,144.247953,221.81622399999998,388.34208699999999,428.28580099999999,260.49809400000004,125.234414,51.712547000000001,133.50609299999999,191.65622300000001,212.23906200000002,84.163452000000007,12.76563,101.23916199999999,363.06569999999999,226.02437799999998,276.94921099999999,377.35838999999999,216.965914,211.67702400000002,123.864988,402.30213900000001,153.837548,29.111356000000001,139.69458700000001,15.888635000000001,366.24356599999999,363.75164799999999,404.95205200000004,509.01876600000003,466.03497700000003,318.01309399999997,383.68440299999997,278.77296899999999,400.31847399999998,146.489982,190.655507,234.117932,550.18334100000004,490.53924999999998,562.24288600000011,421.095009,201.865893,189.35195400000001,314.242255,375.81904300000002,189.530124,191.422573,155.17962299999999,83.924256,164.02426199999999,212.656092,258.13813500000003,214.83937800000001,242.10279699999998,121.562326,163.27960300000001,234.31499199999999,94.053518999999994,170.466938,320.85399000000001,228.39036999999999,300.30896899999999,287.93273700000003,250.77658400000001,237.118247,289.32947200000001,"-","-","-"]
[null,null,"Total",{"$f":"SUM(D22:D28)","v":47.323},{"$f":"SUM(E22:E28)","v":108.85299999999999},146.29900000000001,115.286,228.13800000000001,111.47899999999998,122.628,147.15399999999997,133.01300000000001,116.373,78.655000000000001,156.47800000000001,156.10300000000001,151.69900000000001,85.300000000000011,32.134999999999998,52.838000000000001,98.045000000000002,112.479,192.76600000000002,121.315,131.49599999999998,164.697,166.428,131.995,116.93900000000001,185.74299999999999,244.815,467.81799999999998,568.07099999999991,427.92500000000001,342.49100000000004,234.48399999999998,157.50300000000001,127.024,149.435,234.48099999999999,329.70600000000002,335.37599999999998,260.33500000000004,273.678,276.416,353.25599999999997,141.31,138.53700000000001,92.85199999999999,136.87900000000002,130.65,132.31800000000001,156.322,162.62400000000002,161.12400000000002,126.739,155.68600000000001,404.04999999999995,386.82,481.89599999999996,530.63099999999997,510.12199999999996,528.673,544.40300000000002,483.80700000000002,505.59699999999998,462.601,505.76900000000001,{"$f":"SUM(BQ22:BQ28)","v":496.34500000000003},556.99800000000005,550.10199999999998,532.54999999999995,469.54500000000002,443.41300000000001,337.48199999999997,185.88900000000001,107.27600000000001,278.45499999999998,324.702,272.971,374.68200000000002,416.084,354.185,343.28100000000001,392.709,400.6,294.63299999999998,26.225999999999999,100.42899999999999,205.40100000000001,172.41200000000001,177.45699999999999,141.751,191.58500000000001,192.03399999999999,249.93,308.798,227.29199999999997,121.024,433.92899999999997,406.02500000000003,479.58100000000002,451.43200000000002,410.29700000000003,391.334,429.86599999999999,451.72400000000005,406.65,460.47299999999996,443.72500000000002,500.577,531.31700000000001,553.58299999999997,602.76200000000006,608.43899999999996,528.71500000000003,507.303,706.40699999999993,682.36699999999996,655.07299999999998,664.2,738.62300000000005,687.04199999999992,522.15200000000004,692.48099999999999,833.48800000000006,775.92499999999995,823.41100000000006,651.09,685.56100000000004,726.14100000000008,725.83399999999995,{"$f":"SUM(EC22:EC28)","v":743.71299999999997},825.26700000000005,495.86900000000003,283.78899999999999,343.69099999999997,274.666,466.87799999999993,695.81500000000005,678.38400000000001,705.44100000000003,716.54899999999998,671.1400000000001,444.411,691.80700000000002,752.12699999999995,711.08899999999994,827.36300000000006,902.68200000000002,854.96199999999999,588.851,423.76800000000003,745.83399999999995,752.01700000000005,744.84299999999996,778.83100000000002,939.85899999999992,791.39599999999996,442.98300000000006,355.91899999999998,543.97400000000005,392.53300000000002,650.01900000000001,702.53,679.90599999999995,682.77200000000005,659.65000000000009,582.29700000000003,378.47699999999998,315.90999999999997,398.46166799999997,372.81856200000004,534.57281,385.37298399999997,485.21955800000001,467.53301600000003,590.56264299999998,366.505089,505.43905099999995,495.34547400000008,559.0127,817.46947999999998,945.25645299999996,738.72726699999998,643.57063700000003,643.64503300000001,816.90104900000006,718.00645099999997,673.63002200000005,587.25008099999991,401.40082699999994,425.04249100000004,293.687366,413.30234300000001,580.1560320000001,{"$f":"SUM(GO22:GO28)","v":337.12067999999999},164.3048,525.87709100000006,697.24675300000013,577.69701800000007,426.11941099999996,685.09703100000002,672.91472900000008,592.99898699999994,325.98240899999996,304.59613099999996,728.26642300000003,535.45588199999997,696.921333,678.98638100000005,567.53163700000005,688.53364199999999,711.37928299999999,734.20459900000003,440.274271,220.19250600000001,177.57737400000002,418.74852399999997,592.603523,530.68445400000007,323.40269799999999,195.91020100000003,482.22065199999997,246.79822000000001,424.35313400000001,397.01430900000003,298.05724599999996,216.28028399999999,418.93007399999999,425.35669799999999,224.80274,174.047912,427.49166400000001,503.81916799999999,649.81760399999996,463.45951500000001,440.99473,283.52765799999997,211.47232100000002,193.96782100000001,197.00952799999999,171.936891,121.55772400000001,46.976014000000006,90.767992000000007,35.958672999999997,106.921913,245.33968899999999,218.86736500000001,456.85379499999999,277.673113,146.97753399999999,181.84427700000001,53.535181000000009,112.02132,33.423020999999999,58.332530000000006,161.75688600000001,306.71636999999998,{"$f":"SUM(JA22:JA28)","v":480.08816400000001},569.88927899999999,652.84516000000008,456.43617899999998,484.87696,149.945312,520.668589,775.913005,192.46542599999998,517.61790099999996,336.457718,463.898867,576.56759999999997,597.23351000000002,489.40004100000004,267.39712400000002,144.990118,210.578542,338.001103,407.63509199999999,162.12785500000001,16.360188000000001,127.509276,643.10476900000003,610.70011799999997,542.52131899999995,708.93860699999993,500.410348,422.18327199999999,168.19351,569.39043900000001,213.28156999999999,31.780954000000001,225.57662500000001,61.347569999999997,715.62708299999997,684.64358500000003,730.76023800000007,816.65039300000001,786.30433200000004,564.62796600000001,618.42491499999994,513.73582499999998,733.136481,172.00493599999999,351.270512,559.21912899999995,838.61568800000009,773.13353000000006,778.86655100000007,727.35183099999995,564.61117000000002,676.20622400000002,1264.8085019999999,{"$f":"SUM(LC22:LC28)","v":1691.6630230000001},{"$f":"SUM(LD22:LD28)","v":906.53185900000005},888.75554600000009,746.00145500000008,430.93863200000004,924.3002560000001,1210.4036369999999,1338.2263210000001,1404.554545,1285.461886,734.83149899999989,948.01542899999981,1317.3099900000002,505.54632899999996,896.20979900000009,1815.8410290000002,{"$f":"SUM(LS22:LS28)","v":1517.2799990000001},1861.6174169999997,1446.751409,1416.4407119999998,1706.722029,1643.487609,"-","-","-"]
[null,"Portugal","Aldeadávila-Pocinho 1",27.425000000000001,12.941000000000001,0.16300000000000001,8.1000000000000003E-2,0.187,6.4000000000000001E-2,2E-3,4.0000000000000001E-3,0,2E-3,0.224,5.0000000000000001E-3,0.17199999999999999,0.42399999999999999,16.408000000000001,9.8569999999999993,8.4000000000000005E-2,1.758,1.4E-2,1.4E-2,0,3.0000000000000001E-3,3.1E-2,0.6,0,0,0.48499999999999999,7.0549999999999997,3.851,0.78600000000000003,0,0.14599999999999999,0,0.435,8.0000000000000002E-3,0.05,6.3E-2,0,0,0,0,4.2999999999999997E-2,0,3.0000000000000001E-3,0,7.9390000000000001,64.47,3.0270000000000001,6.444,2.1000000000000001E-2,1.353,7.7409999999999997,11.63,0.27700000000000002,0,0,0,0,5.8999999999999997E-2,0,4.3999999999999997E-2,0.626,0,0,0,0,0,0,0,0,0.76900000000000002,12.177,56.804000000000002,46.387999999999998,16.600000000000001,23.131,16.477,0.52400000000000002,8.8999999999999996E-2,0,0,0,0,24.103999999999999,41.168999999999997,7.5709999999999997,0.96199999999999997,0,0,1.69,0,0,3.2360000000000002,0.29499999999999998,42.725000000000001,48.701000000000001,53.456000000000003,36.844000000000001,11.223000000000001,22.449000000000002,8.8659999999999997,25.152999999999999,0.51900000000000002,5.0000000000000001E-3,0.36099999999999999,0.78700000000000003,0.501,0.03,4.2999999999999997E-2,0.67200000000000004,1.391,19.129000000000001,41.613999999999997,23.571000000000002,1.4890000000000001,44.595999999999997,0,13.321,32.704999999999998,16.02,19.172000000000001,21.189,2.2839999999999998,18.571999999999999,53.841999999999999,1.8029999999999999,2.1579999999999999,1.6240000000000001,0.35899999999999999,5.0629999999999997,17.552814795506237,82.531000000000006,69.937814948623227,41.442999999999998,40.543999999999997,94.58,26.158000000000001,19.8,8.4179999999999993,25.215,8.6080000000000005,48.448,33.573999999999998,7.8129999999999997,0.14854279696900058,0,1.9007596952783614,13.683,1.8390900211110062E-2,0,0,0,1E-3,3.2040000000000002,8.2669999999999995,14.641529036505901,1.8304439278160511,0.19603981280073826,6.9552091583353208,9.1245222321958099,4.0849412947720252,2.9456834656328841,0.40972997513986187,0,1.0999999999999999E-2,8.2420000000000009,47.081000000000003,14.112,3.9579599999999999,4.7243000000000004,1.4013199999999999,0.98997999999999997,0.46992,1.67E-2,1.3460000000000001E-2,0.30630000000000002,0.51970000000000005,0.51214000000000004,0.49174000000000001,1.6019400000000001,4.5399999999999998E-3,0.36763999999999997,0.46344000000000002,0.11242000000000001,9.6319999999999989E-2,0.23827999999999999,1.1999999999999999E-4,0,0,0,3.95E-2,0.18325999999999998,0.15530000000000002,0.19932,18.327599999999997,2.6592399999999996,3.8039999999999997E-2,0.38963999999999999,0.35654000000000002,0,4.444E-2,4.9802799999999996,36.694960000000002,73.841200000000001,12.903499999999999,19.335099999999997,6.8414999999999999,1.5715999999999999,0.28760000000000002,1.8557000000000001,1.1904999999999999,4.2900000000000001E-2,1.1000000000000001E-3,4.9200000000000001E-2,5.8400000000000001E-2,2.5700000000000001E-2,0.79089999999999994,0.60439999999999994,0,1.7515000000000001,5.8599999999999999E-2,0.22889999999999999,0.21309999999999998,0.46850000000000003,0.88249999999999995,8.5800000000000001E-2,3.4000000000000002E-2,0.8052999999999999,9.86,17.676599999999997,12.978299999999999,0.72850000000000004,1.1554,0.4582,1.1856,2.8935,3.194,4.6245000000000003,5.3428000000000004,66.321100000000001,136.78370000000001,105.1134,116.33019999999999,104.9051,71.551400000000001,17.359000000000002,11.5375,6.3086000000000002,7.2919,7.5145,37.383300000000006,87.742999999999995,8.2750000000000004,8.0962999999999994,9.7409999999999997,1.8804000000000001,4.3182,1.3720000000000001,2.0895999999999999,2.5154999999999998,1.1342000000000001,1.36,5.4801000000000002,2.0816999999999997,4.48E-2,0.46089999999999998,1.0430999999999999,2.8891,1.5871999999999999,1.0509000000000002,0.38280000000000003,1.4727000000000001,2.8683000000000001,1.8851,6.9912000000000001,2.9068000000000001,18.313099999999999,11.205500000000001,43.409199999999998,21.919599999999999,4.6242999999999999,1.9207000000000001,5.6299999999999996E-2,0.54910000000000003,1.9592000000000001,5.9604999999999997,6.9786999999999999,11.487299999999999,45.228300000000004,29.029799999999998,19.051099999999998,2.0562,3.6674000000000002,2.5283000000000002,0.19059999999999999,0.45500000000000002,0.96229999999999993,5.0369999999999999,19.448,4.9083999999999994,6.0331000000000001,15.247399999999999,6.0866999999999996,3.0491999999999999,4.0785999999999998,0.62870000000000004,1.4597,1.3240999999999998,2.3781999999999996,15.8079,6.3338999999999999,5.5042999999999997,38.06,45.341900000000003,16.925000000000001,26.168400000000002,21.516500000000001,13.560499999999999,13.3567,6.6513999999999998,15.645,12.172799999999999,24.928000000000001,19.709900000000001,17.540800000000001,34.777500000000003,19.596799999999998,9.3930000000000007,8.4427000000000003,15.7273,25.1922,34.065400000000004,14.483600000000001,"-","-","-"]
[null,null,"Aldeadávila-Pocinho 2",159.94499999999999,150.28700000000001,84.671000000000006,29.42,14.744,12.188000000000001,15.374000000000001,16.622,17.704000000000001,24.254000000000001,48.572000000000003,34.015000000000001,67.677999999999997,56.412999999999997,147.88999999999999,99.56,90.144999999999996,53.93,2.8679999999999999,0.55300000000000005,1.3120000000000001,24.388000000000002,30.574000000000002,18.651,6.7649999999999997,0.57199999999999995,0.86,29.638000000000002,4.851,6.2359999999999998,0.82399999999999995,5.2709999999999999,13.534000000000001,18.241,27.001000000000001,59.097000000000001,28.055,15.567,5.8959999999999999,0.78400000000000003,18.373000000000001,32.094000000000001,22.472000000000001,1.331,11.087,99.588999999999999,144.74700000000001,74.206999999999994,131.536,106.67700000000001,76.844999999999999,52.176000000000002,56.26,36.284999999999997,3.8039999999999998,4.9000000000000002E-2,7.8330000000000002,8.3580000000000005,14.414,9.125,43.372999999999998,73.744,51.273000000000003,21.498000000000001,8.2680000000000007,6.234,3.3530000000000002,9.4E-2,4.45,2.6920000000000002,11.069000000000001,50.953000000000003,166.06399999999999,173.11,143.03899999999999,142.84399999999999,122.642,71.483999999999995,39.317,14.398,6.3609999999999998,9.9000000000000005E-2,43.716000000000001,133.17400000000001,180.34700000000001,153.85400000000001,86.977000000000004,29.035,27.321000000000002,95.466999999999999,22.300999999999998,11.784000000000001,58.94,50.140999999999998,147.36199999999999,175.87100000000001,185.22900000000001,161.06399999999999,108.944,128.41200000000001,146.03800000000001,125.31699999999999,63.112000000000002,34.966999999999999,60.604999999999997,25.013999999999999,57.704999999999998,25.298999999999999,36.201000000000001,36.225000000000001,63.414000000000001,98.748999999999995,91.778000000000006,77.063000000000002,45.036000000000001,61.932000000000002,19.364999999999998,77.594999999999999,115.06100000000001,135.125,110.84,89.849000000000004,59.424999999999997,113.238,159.91,41.591000000000001,35.655000000000001,13.528,48.463999999999999,61.423000000000002,93.544996344949666,174.572,164.8954262593162,138.38,130.85,153.678,102.55,72.477000000000004,57.639000000000003,29.26,0,0,0,0,8.4494031248130845,37.67348115819243,75.428513956096367,82.210999999999999,35.05509923573257,36.215213423958033,7.362434961887665,1.7664636168649919,8.984,19.402000000000001,58.201000000000001,186.16963743009356,258.26946347546567,194.82436596137367,209.20688286959725,162.73998515315688,130.12340203831889,73.737753020326963,45.451129408524878,15.976936794360133,34.051000000000002,37.470999999999997,48.02,204.488,133.48500000000001,148.67815999999999,105.36554,91.794740000000004,89.977620000000002,36.012519999999995,16.80734,27.953279999999999,42.520400000000002,53.234160000000003,82.785119999999992,27.537500000000001,24.32554,30.215900000000001,37.836400000000005,39.554780000000001,18.305679999999999,16.90774,7.0360399999999998,1.12374,6.8913599999999997,7.6447799999999999,27.711880000000001,45.938919999999996,21.7422,17.187060000000002,104.57146,85.809060000000002,49.720140000000001,22.402360000000002,26.988240000000001,4.1848199999999993,8.4991000000000003,77.736999999999995,151.82973999999999,179.34639999999999,86.196300000000008,142.91820000000001,158.3586,66.561800000000005,110.49160000000001,81.723500000000001,15.995200000000001,3.9068000000000001,4.3173999999999992,13.6785,15.818100000000001,13.1599,12.4833,3.4159000000000002,0.61760000000000004,54.860199999999999,75.819199999999995,71.073800000000006,11.6837,13.7897,26.720800000000001,7.7441000000000004,1.9092,34.941900000000004,78.057500000000005,149.29300000000001,88.210599999999999,24.611699999999999,22.784200000000002,17.308199999999999,21.0761,18.347000000000001,31.431099999999997,29.3428,34.027500000000003,86.977199999999996,125.20180000000001,97.726900000000001,106.1862,98.606499999999997,54.676600000000001,18.64,11.8,1.5124000000000002,3.5185,7.5225,15.128299999999999,64.774799999999999,8.2081,8.0357000000000003,9.6677,1.8660999999999999,4.2903000000000002,1.3617000000000001,2.0800999999999998,2.4908000000000001,1.1265999999999998,1.3577000000000001,5.4470000000000001,2.0609999999999999,4.36E-2,0.58520000000000005,1.0389999999999999,2.8706,1.5919000000000001,1.0424,0.38219999999999998,1.4617,2.8444000000000003,1.8740000000000001,6.9527999999999999,2.88,18.2422,11.165899999999999,43.237000000000002,21.8428,4.5996999999999995,1.9025999999999998,5.5399999999999998E-2,0.54389999999999994,1.9478,5.9126000000000003,6.9491000000000005,11.411299999999999,45.119500000000002,25.978200000000001,18.966799999999999,2.0564,3.6598000000000002,1.8049600000000001,0.65229999999999999,0.45679999999999998,0.87639999999999996,5.0236000000000001,19.379000000000001,4.9080000000000004,6.0286999999999997,15.246700000000001,6.0831,3.0556000000000001,4.0869999999999997,0.62679999999999991,1.4594,1.3294000000000001,2.3709000000000002,15.7339,6.3353000000000002,5.4903000000000004,37.925800000000002,45.1357,16.9038,26.074200000000001,21.567499999999999,3.5484899999999997,6.59E-2,6.6388999999999996,8.89053,9.4925999999999995,26.721299999999999,19.623900000000003,17.485499999999998,34.652900000000002,19.620699999999999,9.4182000000000006,8.4519000000000002,15.6564,24.4665,33.853900000000003,14.456700000000001,"-","-","-"]
[null,null,"Aldeadávila-Lagoaça",0,0,0,0,0,0,0,0,0,0,0,0,0,0,0,0,0,0,0,0,0,0,0,0,0,0,0,0,0,0,0,0,0,0,0,0,0,0,0,0,0,0,0,0,0,0,0,0,0,0,0,0,0,0,0,0,0,0,0,0,0,0,0,0,0,0,0,0,0,0,0,0,0,0,0,0,0,0,0,0,0,0,0,0,0,0,0,0,0,0,0,0,0,0,0,0,0,0,0,0,0,0,0,0,0,0,0,0,0,0,0,0,0,0,0,0,0,0,0,0,0,0,0,0,0,0,0,0,0,0,0,0,0,0,0,0,0,0,0,0,0,0,0,0,0,0,0,0,0,0,0,0,0,0,0,0,0,0,0,0,0,0,0,0,0,0,0,0,0,0,0,0,0,0,0,0,0,0,0,0,0,0,0,0,0,0,0,0,0,0,0,0,0,0,0,0,0,0,0,0,0,0,0,0,0,0,0,0,0,0,0,0,0,0,0,0,0,0,0,0,0,0,0,0,0,0,0,0,0,0,0,0,0,0,0,0,0,0,0,0,0,0,0,0,0,0,0,0,0,0,0,54.690336000000002,335.44972799999999,206.73381599999999,259.568648,139.313188,154.16200800000001,18.679463999999999,18.684432000000001,36.076968000000001,49.440455999999998,46.248408000000005,127.94198399999999,85.532759999999996,8.5555439999999994,15.744672000000001,20.756736,24.456816,38.028312,23.661720000000003,9.4435200000000012,27.107135999999997,25.681751999999999,34.567343999999999,113.614704,82.272888000000009,214.27999199999999,232.099344,442.18612800000005,474.55329599999999,155.70662400000001,68.010840000000002,5.4563760000000006,23.975135999999999,37.015271999999996,121.41036,132.68102400000001,164.90584799999999,584.25105599999995,502.67584799999997,462.69921600000004,294.50239199999999,56.690928,47.196216,20.251943999999998,26.261928000000001,39.417192,69.514848999999998,225.19296,153.25999200000001,98.770104000000003,318.02155200000004,244.750248,99.070775999999995,119.2968,45.234287999999999,27.445391999999998,28.974240000000002,53.773199999999996,188.77665599999997,83.978855999999993,106.119072,517.39862400000004,520.96759199999997,284.64868800000005,478.396368,358.01719199999997,146.77459200000001,117.827352,92.385576,125.392104,136.74614399999999,226.31659200000001,169.80775199999999,175.71794399999999,241.481088,156.247488,90.070920000000001,113.74063199999999,187.03634400000001,230.119272,210.63823199999999,73.618200000000002,"-","-","-"]
[null,null,"Badajoz-Alcaçovas",0,0,0,0,0,0,0,0,0,0,0,0,0,0,0,0,0,0,0,0,0,0,0,0,0,0,0,0,0,0,0,0,0,0,0,0,0,0,0,0,0,0,0,0,0,0,0,0,0,0,0,0,0,0,0,0,0,0,0,0,0,0,0,0,0,0,0,0,0,0,0,0,0,0,0,0,0,0,0,0,0,0,0,0,0,0,0,0,0,0,0,0,0,0,0,0,0,0,0,0,0,0,0,0,0,0,0,0,0,0,0,0,0,0,0,0,0,0,0,0,0,0,0,0,0,0,0,0,0,0,0,0,0,0,0,0,0,0,0,0,0,0,0,0,0,0,0,0,0,0,0,0,0,0,0,0,0,0,0,0,0,0,0,0,0,0,0,0,0,0,0,0,0,0,0,0,0,0,0,0,0,0,0,0,0,0,0,0,0,5.0000000000000004E-6,2.5000000000000001E-5,0,0,0,0,0,0,0,0,3.9999999999999998E-6,0,0,0,9.6000000000000002E-5,0,0,0,0,2.04E-4,1.12E-4,1.11E-4,5.0000000000000004E-6,1.5009999999999999E-3,0,0,0,0,0,0,0,2.4000000000000001E-5,5.3000000000000014E-5,0,5.0000000000000004E-6,0,0,0,1.1E-5,1.02E-4,0,2.5900000000000001E-4,0,0,0,5.0000000000000004E-6,0,0,0,1.4299999999999998E-4,2.8499999999999999E-4,0,2.5000000000000001E-5,1.7299999999999998E-4,0,4.4999999999999996E-5,9.6000000000000002E-5,2.4000000000000001E-5,0,6.7000000000000002E-5,2.5000000000000001E-5,0,0,0,0,3.63E-3,0,3.9999999999999998E-6,5.1E-5,1.1999999999999999E-4,1.83E-4,1.54E-4,1.4399999999999998E-4,1.9000000000000001E-5,1.0000000000000001E-5,2.4000000000000001E-5,9.1000000000000003E-5,7.4200000000000004E-4,1.4099999999999998E-4,1.1999999999999999E-4,1.3900000000000002E-4,1.92E-4,1.92E-4,1.5900000000000002E-4,6.2000000000000003E-5,1.9000000000000001E-5,1.0000000000000001E-5,1.4E-5,2.4000000000000001E-5,3.4E-5,6.7000000000000002E-5,1.35E-4,1.7199999999999998E-4,2.2100000000000001E-4,2.4499999999999999E-4,1.83E-4,6.7000000000000002E-5,3.8000000000000002E-5,2.9E-5,1.0000000000000001E-5,1.4E-5,5.3000000000000014E-5,6.2000000000000003E-5,1.5900000000000002E-4,1.5300000000000001E-4,1.7799999999999999E-4,1.7299999999999998E-4,7.6000000000000004E-5,5.3000000000000014E-5,1.4E-5,2.4000000000000001E-5,2.4000000000000001E-5,2.4000000000000001E-5,7.7000000000000001E-5,8.1000000000000017E-5,1.7799999999999999E-4,2.1100000000000001E-4,2.1599999999999999E-4,1.8699999999999999E-4,1.3000000000000002E-4,4.8000000000000001E-5,4.8000000000000001E-5,2.4000000000000001E-5,1.0000000000000001E-5,2.9E-5,4.2999999999999988E-5,6.7000000000000002E-5,1.01E-4,1.5300000000000001E-4,2.3999999999999998E-4,2.5000000000000001E-4,1.93E-4,8.1000000000000017E-5,3.4E-5,2.9E-5,3.8000000000000002E-5,2.4000000000000001E-5,5.8000000000000007E-5,1.1E-4,6.5300000000000004E-4,1.92E-4,2.5000000000000001E-4,2.5900000000000001E-4,2.1599999999999999E-4,"-","-","-"]
[null,null,"Balboa-Alqueva",0,0,0,0,0,0,0,0,0,0,0,0,0,0,0,0,0,0,0,0,0,0,0,0,0,0,0,0,0,0,0,0,0,0,0,0,0,0,0,0,0,0,0,0,0,0,0,0,0,0,0,0,0,0,0,0,0,0,0,0,0,0,0,0,0,0,0,0,0,0,0,0,0,0,0,0,0,0,0,0,0,0,0,0,0,0,0,0,0,0,0,0,0,0,0,0,0,0,0,0,0,0,0,0,0,0,0,0,0,0,0,0,0,0,0,0,0,0,0,0,0,0,0,0,0,0,0,0,0,0,0,0,0,0,0,0,0,0,0,0,0,0,0,0,0,0,0,0,0,0,0,0,0,0,0,0,0,0,0,0,0,0,0,0,0,0,0,0,0,0,0,0,0,0,0,0,0,0,0,54.660302000000001,244.28248300000001,180.222027,137.784886,86.561325999999994,79.475149000000002,109.44727800000001,142.63708600000001,96.627202000000011,101.78717,122.689014,94.217994000000004,187.65916300000001,117.42474300000001,136.40323999999998,98.028634000000011,104.45609900000001,74.798113999999998,71.147008,103.634349,182.09694200000001,45.765324,81.021401999999995,44.354742999999999,0,0,0,0,0,0,0,0,0,0,0,0,0,0,0,0,0,0,0,0,0,0,0,0,0,0,0,0,0,0,0,0,0,0,0,0,0,0,0,0,0,0,0,0,0,0,0,0,0,0,0,0,0,0,0,0,0,0,0,0,0,0,0,0,0,0,0,0,0,0,0,0,0,0,0,0,0,0,0,0,0,0,0,0,0,0,0,0,0,0,0,0,0,0,0,0,0,0,0,0,0,0,0,0,0,0,0,0,0,0,0,0,0,0,0,0,0,0,0,0,0,0,0,0,0,0,0,0,0,0,"-","-","-"]
[null,null,"Brovales-Alqueva",0,0,0,0,0,0,0,0,0,0,0,0,0,0,0,0,0,0,0,0,0,0,0,0,0,0,0,0,0,0,0,0,0,0,0,0,0,0,0,0,0,0,0,0,0,0,0,0,0,0,0,0,0,0,0,0,0,0,0,0,0,0,0,0,0,0,0,0,0,0,0,0,0,0,0,0,0,0,0,0,0,0,0,0,0,0,0,0,0,0,0,0,0,0,0,0,0,0,0,0,0,0,0,0,0,0,0,0,0,0,0,0,0,0,0,0,0,0,0,0,0,0,0,0,0,0,0,0,0,0,0,0,0,0,0,0,0,0,0,0,0,0,0,0,0,0,0,0,0,0,0,0,0,0,0,0,0,0,0,0,0,0,0,0,0,0,0,0,0,0,0,0,0,0,0,0,0,0,0,0,0,0,0,0,0,0,0,0,0,0,0,0,0,0,0,0,0,0,0,0,0,0,0,69.987117999999995,248.852147,164.347576,152.490511,33.592230000000001,44.223824,20.609016,60.281785000000006,146.08940799999999,79.572085999999999,17.814432,51.817483999999993,53.430166,123.5973,57.796584000000003,35.738665999999995,2.9168240000000001,4.0369209999999995,10.295605,43.671874000000003,74.387991999999997,58.324812000000001,40.99812,132.923135,152.794321,72.374234000000001,113.865195,124.265326,100.60492600000001,120.39194999999999,98.539579000000003,84.152023,107.5441,101.24058100000001,78.768354000000002,76.339047999999991,135.63573300000002,138.679035,66.086697000000001,61.498489999999997,26.069773000000001,27.964158999999999,49.387276,40.711345999999999,39.297421999999997,42.979244000000001,24.432401000000002,78.768228000000008,85.025412000000003,45.292722999999995,99.371740000000003,85.709793000000005,28.541339000000001,116.32777,124.23792,146.44331299999999,149.59177299999999,97.790745000000001,126.091595,133.90708600000002,147.00153599999999,96.452096999999995,117.592563,109.040257,63.666877999999997,119.360192,123.01339,96.794069000000007,130.818003,108.19958500000001,51.944900000000004,168.12742399999999,197.48306400000001,223.350009,182.27722399999999,190.67095,175.51446999999999,135.23614900000001,130.382576,73.190807000000007,141.51737899999998,98.143450000000001,97.254317999999998,192.47760099999999,173.85020800000001,246.492133,195.79894899999999,167.94998100000001,95.383606,104.61581600000001,101.49443600000001,94.279764999999998,104.969352,87.869096999999996,77.363585,144.29430100000002,128.999134,101.55003599999999,119.320447,143.38515200000001,104.30891199999999,105.068162,118.343345,138.98054000000002,114.369624,119.836961,180.495587,122.79459900000001,150.98664799999997,208.72104099999999,156.76500099999998,167.57151199999998,97.779717999999988,112.742384,160.43842999999998,165.66489899999999,162.825084,198.12029800000002,161.86577600000001,236.16920199999998,226.99564100000001,206.301987,208.707446,211.25057699999999,136.52610999999999,146.53238000000002,221.07374299999998,285.55470100000002,229.392314,128.483509,"-","-","-"]
[null,null,"Cartelle-Lindoso",0,0,0,0,0,0,0,0,0,0,0,0,0,0,0,0,0,0,0,0,0,0,0,0,0,0,0,0,0,0,0,0,0,0,0,0,0,0,0,0,0,0,0,0,0,0,0,0,0,0,0,0,0,0,0,0,0,0,0,0,0,0,0,0,0,0,0,0,0,0,0,1.7,36.32,16.32,0.02,0.26,1.9,0,0,0,0,0,0,12.58,24.4,0.9,0,0,0.02,0,0,0,0,0,1.22,20.079999999999998,11.66,10.199999999999999,0.06,0,0.02,0,0,0,0,0,0,0,0,0,0,0.11,6.9,7.1,0,7.62,0,0.62,0.52900000000000003,0,1.2E-2,9.9000000000000005E-2,0,0,0,0,0,0,0,0,0,0.26300000000000001,7.0896765417273047,3.8,15.614000000000001,5.3540000000000001,2.5529999999999999,2.5999999999999999E-2,0,0,0,0,0,0,0,0,0,0,0,0,0,0,0,3.0000000000000001E-3,0,1.0041512266995337E-3,0,0,7.0590784556107357E-3,0,0.11714169889419777,0,0,0,0,0,0,0.17199999999999999,0,0,6.0000000000000002E-6,0,0,0,0,0,1E-4,0,7.6999999999999994E-3,2.4500000000000001E-2,0,0,0,0,0,0,0,0,0,0,0,0,0,0,0,0.57889999999999997,0.11419999999999998,0,0,0,0,0,1.01E-2,13.552299999999999,5.0000000000000001E-3,0,0,0,0,0,0,0,0,3.1100000000000003E-2,0,1.9E-3,0.12769999999999998,6.2200000000000005E-2,0,0,0.22419999999999998,0,6.3000000000000009E-3,1.9E-3,2.75E-2,9.9000000000000008E-3,0,0,8.9900000000000008E-2,0.4844,5.4024999999999999,0.22789999999999996,0.1077,0,1.8299999999999997E-2,17.217099999999999,4.9039999999999999,8.5562999999999985,0.87679999999999991,3.8841999999999999,11.549599999999998,10.375200000000001,22.3947,24.611699999999995,104.0145,20.6815,6.0043999999999995,0.44400000000000001,13.378,17.289200000000001,20.2377,71.786500000000004,20.828499999999998,19.3521,33.637300000000003,1.8736999999999999,36.877900000000004,23.386700000000001,1.26,6.6032999999999999,0.54990000000000006,1.5546999999999997,10.5442,2.8919999999999999,1E-3,0,1.4279000000000002,0.76519999999999999,0,0,0,0,0,4.6083999999999996,4.0278,1.6000000000000001E-3,3.9794,1.1120000000000001,28.164900000000003,21.291199999999996,6.4448999999999996,0.9405,0,0,2.5000000000000001E-3,0.13019999999999998,0.66459999999999997,4.0000000000000002E-4,4.4738999999999995,43.166400000000003,47.286600000000007,46.593600000000009,6.4767000000000001,5.6000000000000001E-2,0,6.4999999999999997E-3,0,1.6179000000000001,1.5264000000000002,3.7385000000000002,0.13760000000000003,1.4930999999999999,2.6888999999999998,25.608599999999999,6.5017000000000005,1.5960000000000001,0.15369999999999998,0.88759999999999994,2.0921000000000003,17.406300000000002,1.4789000000000001,5.7500000000000002E-2,31.424100000000003,74.567300000000003,29.070700000000002,95.599699999999984,160.26300000000001,60.326599999999999,9.8614999999999995,31.417100000000001,10.2943,13.6876,14.3308,4.6135000000000002,14.316700000000001,27.2818,66.8476,106.6918,34.978600000000007,13.4039,19.892900000000001,100.1105,33.7423,"-","-","-"]
[null,null,"Cedillo-Falagueira",3.504,2.052,40.146999999999998,82.149000000000001,98.784000000000006,139.15799999999999,137.96100000000001,100.651,143.57599999999999,125.312,60.646999999999998,83.754000000000005,68.090999999999994,106.608,6.9989999999999997,4.4740000000000002,44.49,79.569999999999993,106.45399999999999,113.38,92.418999999999997,102.90300000000001,120.941,128.69399999999999,108.56100000000001,45.371000000000002,50.389000000000003,108.352,65.445999999999998,62.15,31.785,97.548000000000002,111.17400000000001,100.66800000000001,128.566,84.281000000000006,138.16200000000001,154.08000000000001,161.815,122.828,126.321,82.018000000000001,140.953,157.64500000000001,111.286,35.405999999999999,13.021000000000001,71.216999999999999,27.587,39.281999999999996,60.741,70.167000000000002,69.677999999999997,68.900000000000006,59.354999999999997,93.436000000000007,84.388000000000005,93.274000000000001,44.536999999999999,103.819,47.454999999999998,11.343999999999999,50.597999999999999,93.313999999999993,92.52,107.81100000000001,155.61699999999999,173.96700000000001,202.22,218.79400000000001,143.41999999999999,139.875,0.64500000000000002,0.47,45.686999999999998,28.565999999999999,26.704999999999998,232.233,360.892,376.28899999999999,226.851,113.946,139.42599999999999,24.64,0.219,32.552,98.795000000000002,127.967,91.539000000000001,103.974,146.102,98.772999999999996,128.28299999999999,283.27499999999998,25.754000000000001,26.843,1.52,1.829,127.194,105.17700000000001,197.75399999999999,115.179,311.517,285.29399999999998,204.626,338.738,317.584,319.49400000000003,296.77699999999999,286.68599999999998,330.108,346.22500000000002,323.12900000000002,369.83199999999999,403.35599999999999,56.941000000000003,230.29599999999999,197.51599999999999,215.40799999999999,216.94399999999999,241.167,188.78800000000001,223.46199999999999,216.197,174.82900000000001,160.90100000000001,219.78800000000001,230.714,218.44399999999999,266.22800000000001,246.60418885954408,36.902999999999999,22.14806755477758,41.619,26.792000000000002,119.961,136.24,220.071,281.608,70.992999999999995,249.53399999999999,231.63300000000001,235.62299999999999,316.92200000000003,315.43578709967863,293.69259142870783,302.67945748205057,307.46800000000002,255.39851809839902,255.73335262965927,305.93962804703551,169.71049798148965,208.95099999999999,164.916,162.40299999999999,38.334477230481404,50.938460179910138,99.712039521386032,59.433406837124906,74.071475094971703,182.02518433726178,224.74555615039074,226.01613646291915,134.3475071351678,169.25399999999999,121.854,97.001999999999995,53.578000000000003,128.96517600000001,60.050736000000001,81.336203999999995,15.077124,52.439076,82.366851999999994,129.16288800000001,80.402833999999999,108.578664,135.99792000000002,133.62029999999999,172.67227199999999,140.75060399999998,126.670824,104.14929600000001,61.737480000000005,60.409260000000003,88.841304000000008,116.850852,15.16216,39.091391999999999,19.624860000000002,58.645332000000003,119.37499199999999,83.872763999999989,96.58375199999999,96.5124,76.017284000000004,71.515979999999999,56.768003999999998,123.13674,112.22931600000001,55.318932000000004,87.623676000000003,96.648067999999995,100.71718,99.694600000000008,20.937099999999997,24.196099999999998,1.6670999999999998,1E-4,7.6273,73.124100000000013,0,1.8092000000000001,0.47060000000000002,43.617100000000001,27.881799999999998,43.307199999999995,20.192400000000003,1.3166,0.67210000000000003,3.3600000000000005E-2,4.7231000000000005,25.2791,15.523299999999999,31.262599999999999,14.902299999999999,32.8887,62.261300000000006,76.62469999999999,57.9011,55.637800000000006,22.119499999999999,28.739699999999999,40.4985,47.778800000000004,44.680599999999998,50.143000000000001,39.0944,93.866699999999994,197.102,129.5558,33.7423,19.081099999999999,16.067499999999999,11.9193,10.264799999999999,28.6372,31.664099999999998,17.176200000000001,11.2378,75.067399999999992,196.67079999999999,44.020600000000002,115.4397,87.233800000000002,22.988799999999998,117.77500000000001,54.534399999999998,68.5458,104.16798,80.755499999999998,78.2012,51.796599999999998,51.750599999999999,76.148200000000003,132.5564,47.766199999999998,32.702599999999997,70.411600000000007,108.6497,67.231399999999994,105.7056,78.055199999999999,29.188200000000002,132.97639999999998,102.89460000000001,174.35939999999999,121.136,94.3446,58.417000000000002,76.852999999999994,43.393599999999999,13.100100000000001,75.856200000000001,47.822800000000001,75.298299999999998,96.822699999999998,142.85839999999999,216.14839999999998,67.692599999999999,77.311999999999998,25.300699999999999,39.096899999999998,46.569400000000002,41.021300000000004,62.138199999999998,74.417400000000001,47.399000000000001,127.5227,111.16860000000001,84.338800000000006,129.5685,98.878799999999998,68.591100000000012,77.545100000000005,93.0428,157.6309,108.4879,81.975700000000003,179.44329999999999,136.11750000000001,134.57670000000002,258.86129999999997,251.02260000000001,122.48530000000001,114.8874,66.530899999999988,89.264800000000008,166.44710000000001,201.72200000000001,104.47969999999999,34.618699999999997,38.284999999999997,146.9196,222.34710000000001,256.22480000000002,128.85739999999998,97.308600000000013,169.04739999999998,1.9769100000000002,0,10.9566,202.9478,"-","-","-"]
[null,null,"Conchas-Lindoso",0,0,0,0,0,0,0,0,0,0,0,0,0,0,0,0,0,0,0,0,0,0,0,0,0,0,0,0,0,0,0,0,0,0,0,0,0,0,0,0,0,0,0,0,0,0,0,0,0,0,0,0,0,0,0,0,0,0,0,0,0,0,0,0,0,0,0,0,0,0,0,0,0,0,0,0,0,0,0,0,0,0,0,0,0,0,0,0,0,0,0,0,0,0,0,0,0,0,0,0,0,0,0,0,0,0,0,0,0,0,0,0,0,0,0,0,0,0,0,0,0,0,0,0,0,2.4E-2,0,0,0,0,0,0,0,0,0,0,0,0,0,0,0,0,0,0,0,0,0,0,0,0,0,0,0,0,0,1.0041512266995337E-3,0,0,0,0,0,0,0,0,0,0,0,0,0,0,0,0,0,0,0,0,0,0,0,0,0,0,0,0,0,0,0,0,0,0,0,0,0,0,0,0,0,0,0,0,0,0,0,0,0,0,0,0,0,0,0,0,0,0,0,0,0,0,0,0,0,0,0,0,0,0,0,0,0,0,3.0000000000000001E-6,0,0,0,0,0,0,0,0,0,0,0,0,0,0,0,0,0,0,0,0,0,0,0,0,0,0,0,0,0,0,0,0,0,0,0,0,0,0,0,0,0,0,0,0,0,0,0,0,0,0,0,0,0,0,0,0,0,0,0,0,0,0,0,0,0,0,0,0,0,0,0,0,0,0,0,0,0,0,0,0,0,0,0,0,0,0,0,0,0,0,0,0,0,0,0,0,0,0,0,0,0,0,"-","-","-"]
[null,null,"Encinasola-Barrancos",0,0,0,0,0,0,0,0,0,0,0,0,0,0,0,0,0,0,0,0,0,0,0,0,0,0,0,0,0,0,0,0,0,0,0,0,0,0,0,0,0,0,0,0,0,0,0,0,0,0,0,0,0,0,0,0,0,0,0,0,0,0,0,0,0,0,0,0,0,0,0,0,0,0,0,0,0,0,0,0,0,0,0,0,0,0,0,0,0,0,0,0,0,0,0,0,0,0,0,0,0,0,0,0,0,0,0,0,0,0,0,0,0,0,0,0,0,0,0,0,0,0,0,0,0,0,0,0,0,0,0,0,0,0,0,0,0,0,0,0,0,0,0,0,0,0,0,0,0,0,0,0,0,0,0,0,0,0,0,0,0,0,0,0,0,0,0,0,0,0,0,0,0,0,0,0,0,0,0,0,0,0,0,0,0,0,0,0,0,0,0,0,0,0,0,0,0,0,0,0,0,0,0,0,0,0,0,0,0,0,0,0,0,0,0,0,0,0,0,0,0,0,0,0,0,0,0,0,0,0,0,0,0,0,0,0,0,0,0,0,0,0,0,0,0,0,0,0,0,0,0,0,0,0,0,0,0,0,0,0,0,0,0,0,0,0,0,0,0,0,0,0,0,0,0,0,0,0,0,0,0,0,0,0,0,0,0,0,0,0,0,0,0,0,0,0,0,0,0,0,0,0,0,0,0,0,0,0,0,0,0,0,0,0,0,0,0,0,0,0,0,0,0,0,0,0,0,0,0,0,0,0,0,"-","-","-"]
[null,null,"Puebla de Guzmán-Tavira",0,0,0,0,0,0,0,0,0,0,0,0,0,0,0,0,0,0,0,0,0,0,0,0,0,0,0,0,0,0,0,0,0,0,0,0,0,0,0,0,0,0,0,0,0,0,0,0,0,0,0,0,0,0,0,0,0,0,0,0,0,0,0,0,0,0,0,0,0,0,0,0,0,0,0,0,0,0,0,0,0,0,0,0,0,0,0,0,0,0,0,0,0,0,0,0,0,0,0,0,0,0,0,0,0,0,0,0,0,0,0,0,0,0,0,0,0,0,0,0,0,0,0,0,0,0,0,0,0,0,0,0,0,0,0,0,0,0,0,0,0,0,0,0,0,0,0,0,0,0,0,0,0,0,0,0,0,0,0,0,0,0,0,0,0,0,0,0,0,0,0,0,0,0,0,0,0,0,0,0,0,0,0,0,0,0,0,0,0,0,0,0,0,0,0,0,0,0,0,0,0,0,0,0,0,0,0,0,0,0,0,0,0,0,0,0,0,0,0,0,0,0,0,0,0,0,0,0,0,0,0,0,0,0,0,0,0,0,0,0,0,0,0,0,0,0,0,0,0,0,0,0,0,0,0,0,0,0,0,0,0,0,0,0,0,0,0,0,0,0,0,0,0,0,0,0,0,0,0,0,0,0,0,0,0,0,0,0,0,0,0,0,47.775519000000003,102.28967400000001,94.887271999999996,113.554716,111.50191199999999,85.512513000000013,174.65991299999999,146.77707899999999,106.66893300000001,124.62915,105.198796,70.163633000000004,105.18161500000001,93.077060000000003,116.785223,92.685362999999995,92.600669999999994,142.620543,97.712535999999986,130.806195,184.30341000000001,153.54583799999997,154.78824900000001,95.533918,99.381373999999994,137.616308,136.95314499999998,128.933187,123.03524800000001,140.71335200000001,183.751229,177.503287,178.66573499999998,86.594368000000003,76.999984999999995,120.070046,126.375641,163.553212,203.073643,250.07156000000001,122.291118,"-","-","-"]
[null,null,"Rosal Frontera-V. Ficalho",0,0,0,0,0,0,0,0,0,0,0,0,0,0,0,0,0,0,0,0,0,0,0,0,0,0,0,0,0,0,0,0,0,0,0,0,0,0,0,0,0,0,0,0,0,0,0,0,0,0,0,0,0,0,0,0,0,0,0,0,0,0,0,0,0,0,0,0,0,0,0,0,0,0,0,0,0,0,0,0,0,0,0,0,0,0,0,0,0,0,0,0,0,0,0,0,0,0,0,0,0,0,0,0,0,0,0,0,0,0,0,0,0,0,0,0,0,0,0,0,0,0,0,0,0,0,0,0,0,0,0,0,0,0,0,0,0,0,0,0,0,0,0,0,0,0,0,0,0,0,0,0,0,0,0,0,0,0,0,0,0,0,0,0,0,0,0,0,0,0,0,0,0,0,0,0,0,0,0,0,0,0,0,0,0,0,0,0,0,0,0,0,0,0,0,0,0,0,0,0,0,0,0,0,0,0,0,0,0,0,0,0,0,0,0,0,0,0,0,0,0,0,0,0,0,0,0,0,0,0,0,0,0,0,0,0,0,0,0,0,0,0,0,0,0,0,0,0,0,0,0,0,0,0,0,0,0,0,0,0,0,9.9999999999999995E-7,0,0,0,0,0,0,0,0,0,0,0,0,0,0,0,0,0,0,0,0,0,0,0,0,0,0,0,0,0,0,0,0,0,0,0,0,0,0,0,0,0,0,0,0,0,0,0,0,0,0,0,0,0,0,0,0,0,0,0,0,0,0,0,0,0,0,0,0,0,0,0,"-","-","-"]
[null,null,"Saucelle-Pocinho",21.053000000000001,8.2100000000000009,0.115,1.4E-2,0.10100000000000001,4.2999999999999997E-2,0,2E-3,0,4.0000000000000001E-3,2.3E-2,1E-3,0.22500000000000001,0.40400000000000003,14.808,4.4569999999999999,7.6999999999999999E-2,1.4490000000000001,8.9999999999999993E-3,1.6E-2,0,4.0000000000000001E-3,6.0000000000000001E-3,0.52200000000000002,0,0,0.48299999999999998,9.2240000000000002,4.4809999999999999,0.89300000000000002,4.0000000000000001E-3,0.57399999999999995,0,0.96499999999999997,3.9E-2,0.76600000000000001,0.17199999999999999,0,0,2E-3,8.2000000000000003E-2,3.0000000000000001E-3,1E-3,7.0000000000000001E-3,0,5.2560000000000002,49.835999999999999,2.5129999999999999,6.593,0,1.1859999999999999,5.7030000000000003,9.1229999999999993,0.22,0,0,0,0,2.4E-2,0,0.215,0.92900000000000005,0,0,0,0,0,0,0,0,0.56200000000000006,10.099,44.631999999999998,26.423999999999999,10.472,11.420999999999999,11.404999999999999,7.2999999999999995E-2,4.0000000000000001E-3,0,0,0,0,15.959,25.940999999999999,3.8170000000000002,0.251,0,0,0.75800000000000001,0,0,8.8999999999999996E-2,3.2000000000000001E-2,28.616,24.646000000000001,24.33,20.074999999999999,2.302,9.4309999999999992,1.248,10.209,0.122,1.4999999999999999E-2,4.0000000000000001E-3,2.5000000000000001E-2,9.5000000000000001E-2,0.52100000000000002,0.56000000000000005,0.71099999999999997,0.82,23.207000000000001,33.655000000000001,10.673999999999999,0.34399999999999997,25.399000000000001,0.621,14.763999999999999,19.468,6.7359999999999998,9.2349999999999994,12.654999999999999,0.746,10.935,34.448,4.1539999999999999,1.962,0.94499999999999995,0,0,0,39.143000000000001,37.94001469555571,14.281000000000001,13.497999999999999,62.325000000000003,13.095000000000001,10.587999999999999,5.6070000000000002,13.132,2.3860000000000001,27.794,12.894,2.0699999999999998,3.6382669785393413,6.71292741309977,8.450268866574719,6.3209999999999997,1.3639917656573297,0.92443394638272813,0.9729369910767709,5.0384016453650657E-3,1E-3,3.327,7.6109999999999998,10.969348000465706,50.672632416808206,2.6795547044395644,3.3984420564868829,3.6810175196755734,0.27333063075312813,6.089007363649416,1.7060041534160999,0.56455607047208944,8.0000000000000002E-3,2.9529999999999998,21.54,8.2720000000000002,1.6685999999999999,1.4321279999999998,0.50872799999999996,0.50490000000000002,0.21621600000000002,2.8799999999999997E-3,1.0067999999999999E-2,0.122436,0.18655000000000002,0.20677199999999998,6.427200000000001E-2,0.66068399999999994,2.9999999999999997E-4,0.15409999999999999,0.39472399999999996,1.2132E-2,0.14218799999999998,7.3900000000000007E-2,4.0999999999999995E-3,0,0,0,2.4199999999999999E-2,0.16969999999999999,0.13771600000000001,0.20896799999999999,12.593544,1.1095200000000001,1.5156000000000001E-2,0.42669600000000002,0.33183600000000002,2.3159999999999999E-3,1.9100000000000002E-2,6.1576000000000004,27.426400000000001,45.6873,7.1417000000000002,9.7784999999999993,2.7500999999999998,0.5363,0.22290000000000001,0.87050000000000005,8.5500000000000007E-2,5.0999999999999995E-3,0,1.29E-2,1.55E-2,4.2700000000000002E-2,0.34300000000000003,0.24919999999999998,0,0.41560000000000002,8.0999999999999996E-3,0.30280000000000001,9.2200000000000004E-2,0.26769999999999999,0.48219999999999996,2.29E-2,2.35E-2,0.24130000000000001,5.7906000000000004,10.1196,7.9630000000000001,0.66610000000000003,0.17019999999999999,0.2341,1.0204,2.2659000000000002,3.6911999999999998,3.8022,3.5079000000000002,43.551600000000001,75.66810000000001,37.431699999999999,32.118499999999997,17.018099999999997,20.942799999999998,5.4671000000000003,1.1819999999999999,0.72960000000000003,2.5864000000000003,2.4339,5.2720000000000002,33.651199999999996,3.1067,3.5158,2.6830799999999999,0.1774,2.4085999999999999,0.84450000000000003,1.3928,8.1099999999999992E-3,0.39089999999999997,0.60399999999999998,2.9455,0.70289999999999997,6.3500000000000001E-2,0.81979999999999997,2.0042,4.3668999999999993,1.2122999999999999,0.81029999999999991,0.41880000000000001,1.8584000000000001,3.3458000000000001,1.3267,3.2749000000000001,2.4523999999999999,14.686500000000001,7.6920000000000002,38.989899999999999,17.928099999999997,2.8518000000000003,1.2779,3.6700000000000003E-2,8.6199999999999999E-2,0.72089999999999999,2.9771000000000001,1.3323,9.5539000000000005,26.500900000000001,16.043299999999999,12.1165,1.1194999999999999,3.3950999999999998,1.8774000000000002,0.48089999999999999,0.36269999999999997,0.8165,4.0243000000000002,14.083600000000001,3.3495999999999997,5.2169999999999996,9.3472999999999988,3.1304000000000003,3.2271000000000001,2.6074000000000002,0.56089999999999995,0.37510000000000004,1.1144000000000001,1.8055999999999999,13.2348,6.2237999999999998,5.9943999999999997,28.819900000000001,30.202000000000002,5.5191800000000004,14.6158,10.9771,8.3087,7.6678000000000006,2.8386,4.2972000000000001,6.0730000000000004,17.738400000000002,10.547700000000001,8.0154999999999994,27.466699999999999,4.3129999999999997,6.7751000000000001,6.4771999999999998,13.099399999999999,23.8459,31.933799999999998,14.159000000000001,"-","-","-"]
[null,null,"Santa María-Elvás",0,0,0,0,0,0,0,0,0,0,0,0,0,0,0,0,0,0,0,0,0,0,0,0,0,0,0,0,0,0,0,0,0,0,0,0,0,0,0,0,0,0,0,0,0,0,0,0,0,0,0,0,0,0,0,0,0,0,0,0,0,0,0,0,0,0,0,0,0,0,0,0,0,0,0,0,0,0,0,0,0.32800000000000001,0,0,0,0,0,0,0,0,0,0,0,0,0,0,0,0,0,0,0,0,0,0,0,0,0,0,0,0,0,0,0,0,0,0,0,0,0,0,0,0,0,0,0,0,0,0,0,0,1E-3,0,0,0,0,2E-3,0,0,0,0,0,0,1E-3,0,0,0,0,0,0,0,0,0,0,0,0,4.0000000000000001E-3,0,0,0,0,0,0,0,0,0,0,0,0,0,0,0,4.7999999999999996E-4,2.1000000000000002E-5,6.0000000000000002E-6,7.0000000000000007E-6,0,0,1.9999999999999999E-6,6.900000000000001E-5,3.5000000000000004E-5,6.0000000000000002E-6,0,0,0,0,0,0,0,0,0,0,0,0,0,0,0,0,0,0,0,0,0,0,0,0,0,0,0,0,0,0,0,0,0,0,0,0,0,0,0,0,0,0,0,0,0,0,0,0,0,0,0,0,0,0,0,0,0,0,0,0,0,0,0,0,0,0,0,0,0,0,0,0,0,0,0,0,0,0,0,0,0,0,0,0,0,0,0,0,0,0,0,0,0,0,0,0,0,0,0,0,0,0,0,0,0,0,0,0,0,0,0,0,0,0,0,0,0,0,0,0,0,0,0,0,0,0,0,0,0,0,0,0,0,0,0,0,0,0,0,0,0,0,0,0,0,0,0,0,0,0,0,0,0,"-","-","-"]
[null,null,"Total",{"$f":"SUM(D30:D43)","v":211.92699999999999},{"$f":"SUM(E30:E43)","v":173.49},125.09599999999999,111.664,113.816,151.453,153.33700000000002,117.279,161.28,149.57199999999997,109.46599999999999,117.77500000000001,136.16599999999997,163.84899999999999,186.10499999999999,118.348,134.79599999999999,136.70699999999999,109.345,113.96299999999999,93.730999999999995,127.29800000000002,151.55199999999999,148.46699999999998,115.32600000000001,45.943000000000005,52.216999999999999,154.26900000000001,78.628999999999991,70.064999999999998,32.613,103.539,124.70800000000001,120.30900000000001,155.61399999999998,144.19399999999999,166.452,169.64700000000002,167.71099999999998,123.614,144.77599999999998,114.158,163.42600000000002,158.98600000000002,122.373,148.19,272.07400000000001,150.964,172.15999999999997,145.98000000000002,140.125,135.78700000000001,146.69099999999997,105.682,63.158999999999999,93.485000000000014,92.221000000000004,101.63200000000001,59.033999999999999,112.944,91.086999999999989,86.643000000000001,101.87100000000001,114.812,100.788,{"$f":"SUM(BQ30:BQ43)","v":114.045},158.97,174.06100000000001,206.67,221.48600000000002,155.82,214.80399999999997,304.46499999999997,262.71199999999999,215.81800000000001,206.22199999999998,179.12899999999999,304.31399999999996,400.30200000000002,390.68700000000001,233.54,114.045,183.142,210.45700000000005,272.07600000000002,198.69400000000002,186.98500000000001,157.00200000000001,118.88,201.88900000000001,168.40299999999999,110.557,190.54799999999997,333.74299999999994,245.67699999999996,296.14100000000002,276.19499999999999,230.01199999999997,249.72299999999998,265.46899999999999,353.92599999999999,275.858,375.27000000000004,320.28099999999995,265.596,364.56399999999996,375.88500000000005,345.34400000000005,333.58099999999996,324.29399999999998,395.733,487.42,497.07600000000002,488.23999999999995,450.22499999999997,196.488,250.28200000000001,303.81600000000003,383.17099999999999,374.82499999999999,380.42600000000004,312.58,285.91699999999997,358.94200000000001,423.029,208.47300000000001,259.56299999999999,246.81099999999998,267.267,{"$f":"SUM(EC30:EC43)","v":332.71499999999997},357.702,333.41200000000003,302.01099999999997,239.523,227.3,435.89799999999997,280.596,322.96200000000005,353.27200000000005,138.6,260.52800000000002,307.87599999999998,282.09100000000001,326.80500000000001,327.67200000000003,338.07900000000001,388.459,409.68300000000005,291.83600000000001,292.87300000000005,314.27499999999998,171.48200000000003,217.93699999999998,190.852,236.48599999999996,250.11699999999999,361.71100000000007,297.41199999999998,279.00099999999998,249.61699999999996,316.62400000000002,307.51800000000003,273.58299999999997,150.88900000000004,203.32400000000001,170.52,213.643,280.62200000000001,268.07673600000004,214.885324,188.612278,108.36676500000002,143.10283800000002,118.39895899999999,145.99375599999999,108.78484999999999,151.80541600000001,189.95106100000004,216.96916699999997,257.15720399999998,409.36346699999996,337.63049100000001,280.62874599999998,187.978138,158.428597,215.50850200000002,266.52819799999997,112.91310200000001,147.76992200000001,149.95865900000001,180.63893100000001,353.32603499999999,223.33272300000002,{"$f":"SUM(GO30:GO43)","v":250.58233999999996},330.033638,270.63010299999996,196.20162999999999,151.13370799999998,254.44770500000001,298.513398,109.646896,257.51995799999997,356.96401099999997,483.13159399999995,454.79324700000006,357.31647600000002,344.63681099999997,103.92903000000001,155.22622800000002,112.68612800000001,150.67719600000001,150.04421299999998,85.701287000000008,32.056732000000004,111.326584,94.542166000000009,180.64939999999999,82.320684,37.672865999999999,60.616223999999995,80.180644999999984,86.624257999999998,80.946274000000003,104.43909700000002,117.700412,63.763120000000001,167.77853500000001,251.04413200000002,242.79703599999999,349.33989499999996,294.45778800000005,148.95862600000001,173.34914999999998,157.03857900000003,155.23122799999999,192.94819999999999,194.603881,164.18855400000001,213.960891,533.47211800000002,617.43803500000001,350.47622200000001,357.60936299999992,287.27867299999997,291.068804,121.79977199999999,99.872470000000007,79.956121999999993,86.930310999999989,70.430325999999994,231.85692799999998,594.34204799999998,{"$f":"SUM(IV30:IV43)","v":465.18135100000001},460.54515600000002,488.24495100000001,196.640927,436.15978199999995,{"$f":"SUM(JA30:JA43)","v":224.41673500000002},240.49616499999999,301.45461399999999,231.18845499999998,255.41774800000002,338.06248900000003,292.02250600000002,181.30876500000002,267.75962599999997,183.07813499999997,131.71823499999996,232.19162400000002,258.22854899999999,174.65298100000001,268.42373100000003,220.99519600000002,125.394706,435.96524699999998,390.89136200000007,667.21061499999996,566.68799200000001,881.00271200000009,791.46653299999991,386.31660800000009,247.82888799999998,91.895904000000002,242.52815999999996,187.61210499999999,308.943445,437.90606299999996,514.06738499999994,1168.2141989999998,880.38511099999994,805.38225,467.01246000000003,265.37832200000003,303.81653900000003,251.76425899999998,308.20536900000002,315.86087700000002,295.49279999999993,726.10688800000003,557.109329,408.74429699999996,732.87417300000004,610.20217300000002,377.07500199999998,424.36655500000001,353.11010400000004,444.29017099999999,349.17281399999996,356.833461,753.51903399999992,460.97543899999999,539.53513900000007,1305.514185,1277.5479600000001,797.91247200000021,949.05557099999987,850.99605099999997,619.83857300000011,617.84463599999992,633.41209700000002,590.15457300000003,{"$f":"SUM(LM30:LM43)","v":515.37005299999998},768.24055699999985,{"$f":"SUM(LO30:LO43)","v":775.72130899999991},840.39130399999999,917.18662599999993,683.733608,576.25388599999997,614.0471060000001,631.52740099999994,812.14536599999997,901.02256499999999,604.18244299999992,"-","-","-"]
[null,"Marruecos","Puerto de la Cruz-Mellousa",0,0,0,0,0,0,0,0,0,0,0,0,0,0,0,0,0,0,0,0,0,0,0,0,0,0,0,0,0,0,0,0,0,0,0,0,0,0,0,0,0,0,0,0,0,0,0,0,0,0,0,0,0,0,0,0,0,0,0,0,0,0,0,0,0,0,0,0,0,0,0,0,0,0,0,0,0,0,0,0,0,0,0,0,0,0,0,0,0,0,0,0.11899999999999999,0,4.2000000000000003E-2,1.8120000000000001,0,0,0,0,0,0,0,0,0,0,0,0,0,0,0,0,0,0,0,0,0,0,0,0,0,0,0,0,0,0,0,0,0,0,0,0,0,0,0,0,0,0,0,0,0,0,0,0,0,12.481000000000002,0,0,0,0,0,0,0,0,0,0,0,1.06,0.58799999999999997,0.58099999999999996,0.20300000000000001,0.13100000000000001,3.0760000000000001,5.9029999999999996,9.1690000000000005,0.76300000000000001,2.2989999999999999,1.1379999999999999,4.1420000000000003,0.28120800000000001,0.46138600000000002,1.462998,7.9530000000000003E-2,1.38473,4.8256699999999997,3.5718619999999999,1.6788920000000001,2.7357800000000001,0.51570799999999994,1.3622480000000001,2.8296680000000003,13.728412000000001,14.618832000000001,15.076744000000001,12.545928,9.3079439999999991,15.014520000000001,10.049776,1.1593440000000002,3.0256560000000001,1.5615999999999999,4.408264,9.90808,5.9948000000000006,1.905016,3.3792040000000001,3.699856,0.75928799999999996,1.2662840000000002,3.1796159999999998,0.20965600000000001,0.36904000000000003,4.8605040000000006,0.52279600000000004,2.0327999999999999,1.1642999999999999,0.6653,0.1656,0.60899999999999999,6.6900000000000001E-2,0.36819999999999997,0.68459999999999988,1.2067999999999999,0.29149999999999998,3.3852899999999999,1.8942999999999999,11.0015,1.6985999999999999,0.126,1.8180999999999998,1.4E-3,1.4259999999999999,0.71040000000000003,1.8E-3,9.3999999999999986E-3,5.3700000000000005E-2,4.0617999999999999,2.6619000000000002,2.3561000000000001,2.5933999999999999,1.9234,2.7203000000000004,0.19640000000000002,3.4700000000000002E-2,0,1.3099999999999999E-2,0,6.4399999999999999E-2,0,0.13059999999999999,0.29955000000000004,1.9214,9.3867999999999991,12.201499999999999,0.30410000000000004,0.24552000000000002,2.07E-2,0,0,0,0,1.3302,8.5091000000000001,2.9754999999999998,1.40459,2.3254999999999999,5.6100000000000004E-2,0.26539999999999997,0.38160000000000005,4.4000000000000003E-3,7.6E-3,3.1420000000000003E-2,4.8399999999999999E-2,6.2357000000000005,1.8782000000000001,1.1532,1.5198,0.6885,0.15969999999999998,0.1162,4.4099999999999986E-2,0,5.0000000000000001E-4,5.0000000000000002E-5,0.91320000000000001,3.6299999999999999E-2,1.12E-2,0,0.17169999999999999,0.90460000000000007,0,1.4E-3,0,0,2.9999999999999997E-5,1.1999999999999999E-3,6.1999999999999998E-3,6.0000000000000001E-3,3.2799999999999996E-2,0.29139999999999999,0,0.1767,0.29380000000000001,1.6999999999999999E-3,3.8399999999999997E-2,0.58599999999999997,0.71160000000000001,0,7.1400000000000005E-2,9.6000000000000002E-2,0.2656,2.6551999999999998,0.79770000000000008,1.0597000000000001,6.9400000000000003E-2,9.4999999999999998E-3,0.75029999999999997,2.4085000000000001,0.113,2.8216000000000001,0.56238999999999995,0.98329999999999995,1.9087000000000001,0.64539999999999997,9.7099999999999992E-2,0.31850000000000001,9.5500000000000002E-2,0.16120000000000001,0.25900000000000001,1.4961,3.0499999999999999E-2,0.45066000000000001,7.1000000000000002E-4,0.64019999999999999,3.7225000000000001,1.2683,0.12490000000000001,2.3899999999999998E-2,4.9399999999999999E-2,2.5499999999999998E-2,0.28449999999999998,3.5999999999999995E-3,0.12040000000000001,0.8960999999999999,"-","-","-"]
[null,null,"Total",{"$f":"D45","v":0},{"$f":"E45","v":0},0,0,0,0,0,0,0,0,0,0,0,0,0,0,0,0,0,0,0,0,0,0,0,0,0,0,0,0,0,0,0,0,0,0,0,0,0,0,0,0,0,0,0,0,0,0,0,0,0,0,0,0,0,0,0,0,0,0,0,0,0,0,0,{"$f":"BQ45","v":0},0,0,0,0,0,0,0,0,0,0,0,0,0,0,0,0,0,0,0,0,0,0,0,0,0,0.11899999999999999,0,4.2000000000000003E-2,1.8120000000000001,0,0,0,0,0,0,0,0,0,0,0,0,0,0,0,0,0,0,0,0,0,0,0,0,0,0,0,0,0,0,0,0,0,0,{"$f":"EC45","v":0},0,0,0,0,0,0,0,0,0,0,0,0,0,0,12.481000000000002,0,0,0,0,0,0,0,0,0,0,0,1.06,0.58799999999999997,0.58099999999999996,0.20300000000000001,0.13100000000000001,3.0760000000000001,5.9029999999999996,9.1690000000000005,0.76300000000000001,2.2989999999999999,1.1379999999999999,4.1420000000000003,0.28120800000000001,0.46138600000000002,1.462998,7.9530000000000003E-2,1.38473,4.8256699999999997,3.5718619999999999,1.6788920000000001,2.7357800000000001,0.51570799999999994,1.3622480000000001,2.8296680000000003,13.728412000000001,14.618832000000001,15.076744000000001,12.545928,9.3079439999999991,15.014520000000001,10.049776,1.1593440000000002,3.0256560000000001,1.5615999999999999,4.408264,9.90808,5.9948000000000006,{"$f":"GO45","v":1.905016},3.3792040000000001,3.699856,0.75928799999999996,1.2662840000000002,3.1796159999999998,0.20965600000000001,0.36904000000000003,4.8605040000000006,0.52279600000000004,2.0327999999999999,1.1642999999999999,0.6653,0.1656,0.60899999999999999,6.6900000000000001E-2,0.36819999999999997,0.68459999999999988,1.2067999999999999,0.29149999999999998,3.3852899999999999,1.8942999999999999,11.0015,1.6985999999999999,0.126,1.8180999999999998,1.4E-3,1.4259999999999999,0.71040000000000003,1.8E-3,9.3999999999999986E-3,5.3700000000000005E-2,4.0617999999999999,2.6619000000000002,2.3561000000000001,2.5933999999999999,1.9234,2.7203000000000004,0.19640000000000002,3.4700000000000002E-2,0,1.3099999999999999E-2,0,6.4399999999999999E-2,0,0.13059999999999999,0.29955000000000004,1.9214,9.3867999999999991,12.201499999999999,0.30410000000000004,0.24552000000000002,2.07E-2,0,0,0,0,1.3302,8.5091000000000001,2.9754999999999998,1.40459,2.3254999999999999,5.6100000000000004E-2,0.26539999999999997,{"$f":"JA45","v":0.38160000000000005},4.4000000000000003E-3,7.6E-3,3.1420000000000003E-2,4.8399999999999999E-2,6.2357000000000005,1.8782000000000001,1.1532,1.5198,0.6885,0.15969999999999998,0.1162,4.4099999999999986E-2,0,5.0000000000000001E-4,5.0000000000000002E-5,0.91320000000000001,3.6299999999999999E-2,1.12E-2,0,0.17169999999999999,0.90460000000000007,0,1.4E-3,0,0,2.9999999999999997E-5,1.1999999999999999E-3,6.1999999999999998E-3,6.0000000000000001E-3,3.2799999999999996E-2,0.29139999999999999,0,0.1767,0.29380000000000001,1.6999999999999999E-3,3.8399999999999997E-2,0.58599999999999997,0.71160000000000001,0,7.1400000000000005E-2,9.6000000000000002E-2,0.2656,2.6551999999999998,0.79770000000000008,1.0597000000000001,6.9400000000000003E-2,9.4999999999999998E-3,0.75029999999999997,2.4085000000000001,0.113,2.8216000000000001,0.56238999999999995,0.98329999999999995,1.9087000000000001,0.64539999999999997,9.7099999999999992E-2,0.31850000000000001,9.5500000000000002E-2,0.16120000000000001,0.25900000000000001,1.4961,3.0499999999999999E-2,0.45066000000000001,{"$f":"LM45","v":7.1000000000000002E-4},0.64019999999999999,3.7225000000000001,1.2683,0.12490000000000001,2.3899999999999998E-2,4.9399999999999999E-2,2.5499999999999998E-2,0.28449999999999998,3.5999999999999999E-3,0.12040000000000001,0.89610000000000001,"-","-","-"]
[null,"Entradas",null,{"$f":"SUM(D21,D29,D44,D46)","v":259.25},{"$f":"SUM(E21,E29,E44,E46)","v":282.34300000000002},271.39499999999998,226.95,341.95400000000001,263.18799999999999,275.96500000000003,264.43299999999999,294.29300000000001,265.94499999999999,188.12099999999998,274.25300000000004,292.26900000000001,315.548,271.41899999999998,150.483,187.63399999999999,234.75299999999999,221.82599999999999,306.72900000000004,215.04599999999999,258.79399999999998,316.24900000000002,314.89499999999998,247.32100000000003,162.88200000000001,237.95999999999998,399.084,546.447,638.13599999999997,460.53800000000001,446.03300000000002,359.202,277.81200000000001,282.642,293.62900000000002,400.93299999999999,499.35300000000007,503.08699999999999,383.94900000000007,418.45999999999992,390.58199999999999,516.68299999999999,300.29600000000005,260.91000000000003,241.04199999999997,408.95300000000003,281.61400000000003,304.47799999999995,302.30200000000002,302.75100000000003,296.91100000000006,273.42999999999995,261.36799999999999,467.20899999999995,480.30500000000001,574.11699999999996,632.26299999999992,569.15599999999995,641.61699999999996,635.49,570.45000000000005,607.46799999999996,577.41300000000001,606.55799999999999,{"$f":"SUM(BQ21,BQ29,BQ44,BQ46)","v":610.39},715.96800000000007,724.16300000000001,739.21999999999991,691.03100000000006,599.23299999999995,552.28599999999994,490.35399999999998,369.988,494.27300000000002,530.92399999999998,452.1,678.99599999999998,816.38599999999997,744.87200000000007,576.82100000000003,506.75400000000002,583.74199999999996,505.09000000000003,298.30200000000002,299.12299999999999,392.38600000000002,329.42600000000004,296.36099999999999,343.66,359.99,302.71000000000004,440.47799999999995,642.58299999999997,474.78099999999995,417.16500000000002,710.12400000000002,636.03700000000003,729.30700000000002,716.90100000000007,764.22399999999993,667.19299999999998,805.13699999999994,772.005,672.24599999999998,825.03699999999992,819.61000000000013,845.92100000000005,872.68200000000002,877.87699999999995,998.49500000000012,1095.8589999999999,1025.7910000000002,995.54299999999989,1156.6319999999998,878.85500000000002,905.35500000000002,968.01600000000008,1121.7940000000001,1061.867,902.57800000000009,1005.0609999999999,1119.405,1134.867,1246.44,859.5630000000001,945.12400000000002,972.952,993.10099999999989,{"$f":"SUM(EC21,EC29,EC44,EC46)","v":1076.4279999999999},1182.9690000000001,829.28100000000006,585.79999999999995,583.21399999999994,501.96600000000001,902.77599999999984,976.41100000000006,1001.346,1058.7130000000002,855.149,931.66800000000012,752.28700000000003,973.89800000000002,1078.932,1051.242,1165.442,1291.1410000000001,1264.645,880.68700000000001,716.64100000000008,1060.1089999999999,923.49900000000002,962.78,969.68299999999999,1176.3449999999998,1041.5129999999999,805.75400000000013,653.91899999999987,823.55600000000004,642.35299999999995,966.774,1013.124,959.39199999999994,842.83,863.73700000000019,755.11599999999999,593.25800000000004,600.67399999999998,666.81961200000001,588.16585899999995,724.64808599999992,493.81927899999994,629.70712900000001,590.75995699999999,740.12828999999999,476.96883100000002,659.98059999999998,685.8124160000001,777.34411499999999,1077.4563519999999,1368.3483359999998,1090.9765900000002,939.27612699999997,844.16978399999994,984.639228,948.5321449999999,950.20817599999998,701.32261899999992,552.1970859999999,576.56338400000004,478.74194699999998,776.53655800000001,809.48355500000014,{"$f":"SUM(GO21,GO29,GO44,GO46)","v":589.60803599999997},497.71785700000004,800.20704999999998,894.20787600000017,730.09714000000008,683.74714199999994,983.82008500000006,782.93256500000007,855.38047899999992,683.46921599999996,789.76052499999992,1184.2240099999999,893.43765799999994,1041.7237640000001,783.52443100000005,722.82494500000007,801.58870999999999,863.00654900000006,885.45705200000009,526.26705800000002,255.63452800000002,290.79828800000001,524.29219000000001,774.95152300000007,613.13113800000008,362.89380399999999,256.52782500000001,563.82730700000002,334.13314800000001,505.30120800000003,501.46310600000004,415.81135799999998,284.10520400000001,589.37050899999997,678.75693000000001,470.19317599999999,525.31120699999997,724.66995199999997,652.97419400000001,823.20145400000001,620.49874399999999,596.23909800000001,476.47585799999996,406.14065199999999,358.15637500000003,411.10101900000001,705.71627899999999,740.91715899999997,406.83903600000002,460.57885499999992,323.54144599999995,398.23657700000001,367.160191,318.73983500000003,536.80991700000004,364.60342400000002,217.40785999999997,415.03140499999995,656.38632899999993,580.17817100000002,495.37276700000001,548.90298100000007,358.45391300000006,743.14155199999993,{"$f":"SUM(JA21,JA29,JA44,JA46)","v":704.88665900000012},810.38991400000009,954.30748400000004,687.65627399999994,740.34310800000003,494.24350100000004,814.56929500000001,958.37536999999998,461.74493199999989,701.38457599999992,468.33599299999997,696.20695100000012,834.84060899999997,771.88649099999998,757.82427200000006,488.39239000000003,271.298024,646.58008899999993,728.90374500000019,1074.8457069999999,728.98754700000006,898.26750000000004,918.97580899999991,1029.4234270000002,858.52900599999998,634.41756299999997,951.46679699999993,688.02365300000008,731.13302700000008,606.10557299999994,1083.490624,1381.7871689999997,912.16606499999989,1031.135575,528.65424000000007,981.00794500000006,988.49918400000013,983.11173700000018,1125.5684220000003,1102.1659090000001,860.19271600000002,1344.627943,1071.110754,1144.5359779999999,905.67680899999993,962.53238499999998,936.3640009999998,1262.9930629999999,1126.9945440000001,1225.5652220000002,1076.6381449999999,924.26649100000009,1430.287998,1726.7681110000001,2233.1087120000002,2212.691444,2166.4006060000002,1544.2324270000004,1380.0897029999999,1775.4576670000001,1830.5019299999999,1957.5672270000002,2037.9976119999999,1876.0685490000001,{"$f":"SUM(LM21,LM29,LM44,LM46)","v":1250.203162},1716.8963159999996,2096.7537990000001,1347.205933,1813.5213249999999,2499.6050270000005,2093.5846149999998,2475.6960530000001,2078.5644600000001,2228.5899279999999,2607.8651239999999,2248.5672519999998,"-","-","-"]
[]
[null,"Salidas internacionales físicas mensuales por líneas (GWh)","Líneas","1990-01-01","1990-02-01","1990-03-01","1990-04-01","1990-05-01","1990-06-01","1990-07-01","1990-08-01","1990-09-01","1990-10-01","1990-11-01","1990-12-01","1991-01-01","1991-02-01","1991-03-01","1991-04-01","1991-05-01","1991-06-01","1991-07-01","1991-08-01","1991-09-01","1991-10-01","1991-11-01","1991-12-01","1992-01-01","1992-02-01","1992-03-01","1992-04-01","1992-05-01","1992-06-01","1992-07-01","1992-08-01","1992-09-01","1992-10-01","1992-11-01","1992-12-01","1993-01-01","1993-02-01","1993-03-01","1993-04-01","1993-05-01","1993-06-01","1993-07-01","1993-08-01","1993-09-01","1993-10-01","1993-11-01","1993-12-01","1994-01-01","1994-02-01","1994-03-01","1994-04-01","1994-05-01","1994-06-01","1994-07-01","1994-08-01","1994-09-01","1994-10-01","1994-11-01","1994-12-01","1995-01-01","1995-02-01","1995-03-01","1995-04-01","1995-05-01","1995-06-01","1995-07-01","1995-08-01","1995-09-01","1995-10-01","1995-11-01","1995-12-01","1996-01-01","1996-02-01","1996-03-01","1996-04-01","1996-05-01","1996-06-01","1996-07-01","1996-08-01","1996-09-01","1996-10-01","1996-11-01","1996-12-01","1997-01-01","1997-02-01","1997-03-01","1997-04-01","1997-05-01","1997-06-01","1997-07-01","1997-08-01","1997-09-01","1997-10-01","1997-11-01","1997-12-01","1998-01-01","1998-02-01","1998-03-01","1998-04-01","1998-05-01","1998-06-01","1998-07-01","1998-08-01","1998-09-01","1998-10-01","1998-11-01","1998-12-01","1999-01-01","1999-02-01","1999-03-01","1999-04-01","1999-05-01","1999-06-01","1999-07-01","1999-08-01","1999-09-01","1999-10-01","1999-11-01","1999-12-01","2000-01-01","2000-02-01","2000-03-01","2000-04-01","2000-05-01","2000-06-01","2000-07-01","2000-08-01","2000-09-01","2000-10-01","2000-11-01","2000-12-01","2001-01-01","2001-02-01","2001-03-01","2001-04-01","2001-05-01","2001-06-01","2001-07-01","2001-08-01","2001-09-01","2001-10-01","2001-11-01","2001-12-01","2002-01-01","2002-02-01","2002-03-01","2002-04-01","2002-05-01","2002-06-01","2002-07-01","2002-08-01","2002-09-01","2002-10-01","2002-11-01","2002-12-01","2003-01-01","2003-02-01","2003-03-01","2003-04-01","2003-05-01","2003-06-01","2003-07-01","2003-08-01","2003-09-01","2003-10-01","2003-11-01","2003-12-01","2004-01-01","2004-02-01","2004-03-01","2004-04-01","2004-05-01","2004-06-01","2004-07-01","2004-08-01","2004-09-01","2004-10-01","2004-11-01","2004-12-01","2005-01-01","2005-02-01","2005-03-01","2005-04-01","2005-05-01","2005-06-01","2005-07-01","2005-08-01","2005-09-01","2005-10-01","2005-11-01","2005-12-01","2006-01-01","2006-02-01","2006-03-01","2006-04-01","2006-05-01","2006-06-01","2006-07-01","2006-08-01","2006-09-01","2006-10-01","2006-11-01","2006-12-01","2007-01-01","2007-02-01","2007-03-01","2007-04-01","2007-05-01","2007-06-01","2007-07-01","2007-08-01","2007-09-01","2007-10-01","2007-11-01","2007-12-01","2008-01-01","2008-02-01","2008-03-01","2008-04-01","2008-05-01","2008-06-01","2008-07-01","2008-08-01","2008-09-01","2008-10-01","2008-11-01","2008-12-01","2009-01-01","2009-02-01","2009-03-01","2009-04-01","2009-05-01","2009-06-01","2009-07-01","2009-08-01","2009-09-01","2009-10-01","2009-11-01","2009-12-01","2010-01-01","2010-02-01","2010-03-01","2010-04-01","2010-05-01","2010-06-01","2010-07-01","2010-08-01","2010-09-01","2010-10-01","2010-11-01","2010-12-01","2011-01-01","2011-02-01","2011-03-01","2011-04-01","2011-05-01","2011-06-01","2011-07-01","2011-08-01","2011-09-01","2011-10-01","2011-11-01","2011-12-01","2012-01-01","2012-02-01","2012-03-01","2012-04-01","2012-05-01","2012-06-01","2012-07-01","2012-08-01","2012-09-01","2012-10-01","2012-11-01","2012-12-01","2013-01-01","2013-02-01","2013-03-01","2013-04-01","2013-05-01","2013-06-01","2013-07-01","2013-08-01","2013-09-01","2013-10-01","2013-11-01","2013-12-01","2014-01-01","2014-02-01","2014-03-01","2014-04-01","2014-05-01","2014-06-01","2014-07-01","2014-08-01","2014-09-01","2014-10-01","2014-11-01","2014-12-01","2015-01-01","2015-02-01","2015-03-01","2015-04-01","2015-05-01","2015-06-01","2015-07-01","2015-08-01","2015-09-01","2015-10-01","2015-11-01","2015-12-01","2016-01-01","2016-02-01","2016-03-01","2016-04-01","2016-05-01","2016-06-01","2016-06-01","2016-08-01","2016-09-01","2016-10-01","2016-11-01","2016-12-01","2017-01-01","2017-02-01","2017-03-01","2017-04-01","2017-05-01","2017-06-01","2017-07-01","2017-08-01","2017-09-01","2017-10-01","2017-11-01","2017-12-01"]
[null,"Andorra","Adrall-Margineda",0,0,0,0,0,2.0790000000000002,8.8699999999999992,2.706,3.8959999999999999,1.3420000000000001,0,0,0,2.544,0,0.314,0.11,1.357,14.208,21.045000000000002,7.0990000000000002,0,2.181,1.4999999999999999E-2,0.66900000000000004,1.7430000000000001,0,0.31,0.88400000000000001,0.45700000000000002,8.3290000000000006,4.7519999999999998,1.355,0,10.039999999999999,0,7.71,18.128,5.8,15.054,5.67,4.95,16.838999999999999,21.55,19.931999999999999,13.903,9.7260000000000009,3.242,0,0,16.599,11.795999999999999,0,0.14000000000000001,1.5860000000000001,0,20.452000000000002,18.117000000000001,14.531000000000001,26.01,21.512,9.67,0,0.02,1.4590000000000001,0,0,15.664,15.67,7.6139999999999999,20.623000000000001,17.646999999999998,26.602,12.939,11.827999999999999,5.23,3.8130000000000002,0.127,2.7709999999999999,9.1280000000000001,16.352,12.59,13.577,12.492000000000001,23.24,11.384,8.0630000000000006,8.35,4.8949999999999996,6.7279999999999998,6.1130000000000004,1.9E-2,5.8710000000000004,21.193999999999999,9.0649999999999995,0,0.75800000000000001,1.385,23.76,18.699000000000002,2.6219999999999999,4.1849999999999996,20.196000000000002,25.338000000000001,20.58,18.553000000000001,2.988,0,30.468,36.276000000000003,32.381999999999998,19.120999999999999,3.21,2.4420000000000002,0.29499999999999998,0,0.60499999999999998,23.762,30.207000000000001,41.329000000000001,41.523000000000003,36.134999999999998,35.462000000000003,27.626000000000001,2.4470000000000001,8.6300000000000008,4.0110000000000001,15.641,4.5220000000000002,24.983000000000001,30.245999999999999,40.732999999999997,41.825000000000003,39.795999999999999,25.856000000000002,19.338999999999999,0.161,0,0,0.16,7.08,30.593,35.506999999999998,48.040999999999997,47.988,41.008000000000003,35.664000000000001,25.751999999999999,4.3999999999999997E-2,5.6959999999999997,1.752,11.426,2.4860000000000002,35.871000000000002,37.9,46.164000000000001,41.335000000000001,42.015000000000001,33.911000000000001,24.538,1.929,0,0.443,24.675000000000001,5.1559999999999997,24.780999999999999,26.247,44.947000000000003,47.943088000000003,46.445472000000002,40.059267999999996,29.258672999999998,0.13090700000000002,4.9400729999999999,0.18829499999999999,12.573242,12.272200000000002,24.801705999999999,24.822877000000002,40.061728000000002,40.32517,34.601076999999997,33.859594999999999,10.674372999999999,7.7554930000000004,11.943772999999998,5.4160319999999995,11.956572,4.1086579999999993,35.027982999999999,32.886777000000002,42.502149999999986,41.349693000000002,32.870361999999986,35.245009999999986,6.989844999999999,0.39337499999999997,0.24867500000000001,6.9351799999999999,11.681749999999999,20.742650000000001,13.78152,18.414630000000002,40.446600000000011,40.084739999999996,25.697890000000001,30.612349999999999,20.154430000000001,14.336200000000002,19.761279999999999,2.60216,10.67905,0,41.779300000000006,25.270900000000001,30.664729999999999,29.23151,27.29907,27.11637,28.741240000000001,18.062999999999999,18.021330000000003,1.7769000000000001,15.907579999999999,11.34923,24.115320000000001,32.968360000000004,43.745139999999999,41.612990000000011,31.10868,29.175279999999997,35.880350000000014,3.7408600000000001,1.75173,1.5894900000000001,38.827199999999998,31.198349999999998,13.676830000000001,31.959060000000001,38.874420000000001,27.817540000000001,30.321840000000002,30.487080000000002,8.9221699999999995,8.7691199999999991,20.513860000000001,9.6140799999999995,26.056450000000002,20.429590000000001,13.702729999999999,35.710449999999994,32.149569999999997,41.220759999999999,47.659579999999998,46.158699999999996,8.6163100000000021,12.870649999999999,16.536380000000001,10.91423,1.5100000000000001E-3,20.868119999999998,29.20421,30.15579,41.507059999999996,40.833640000000003,39.463999999999999,25.285799999999998,19.43759,11.226760000000001,9.8379200000000004,6.4819999999999989E-2,14.833030000000001,17.134169999999997,35.067759999999986,36.472660000000005,36.56071,29.166790000000002,30.37407,30.355630000000001,26.206499999999998,17.80303,11.65175,2.09212,32.90943,32.02364,32.544689999999996,15.202639999999999,27.068729999999999,27.072900000000001,31.339770000000001,35.327910000000003,9.3500400000000017,10.632389999999999,13.84,11.60848,16.06204,8.2821100000000012,12.2675,30.662400000000002,28.065900000000003,28.376909999999999,27.214040000000001,36.408370000000005,6.9840900000000001,1.04064,3.82179,2.0000000000000002E-5,32.262,28.063580000000002,39.641570000000009,30.955749999999998,29.288900000000002,25.987180000000002,23.582050000000002,38.291379999999997,10.009509999999999,9.51281,6.6700400000000002,12.62696,37.630749999999999,26.65005,32.136939999999996,34.367599999999996,20.819140000000001,31.225639999999999,24.869720000000001,17.67933,12.571959999999999,14.20318,11.77998,0.41784000000000004,36.588389999999997,9.724219999999999,"-","-","-"]
[null,null,"Total",{"$f":"D50","v":0},{"$f":"E50","v":0},0,0,0,2.0790000000000002,8.8699999999999992,2.706,3.8959999999999999,1.3420000000000001,0,0,0,2.544,0,0.314,0.11,1.357,14.208,21.045000000000002,7.0990000000000002,0,2.181,1.4999999999999999E-2,0.66900000000000004,1.7430000000000001,0,0.31,0.88400000000000001,0.45700000000000002,8.3290000000000006,4.7519999999999998,1.355,0,10.039999999999999,0,7.71,18.128,5.8,15.054,5.67,4.95,16.838999999999999,21.55,19.931999999999999,13.903,9.7260000000000009,3.242,0,0,16.599,11.795999999999999,0,0.14000000000000001,1.5860000000000001,0,20.452000000000002,18.117000000000001,14.531000000000001,26.01,21.512,9.67,0,0.02,1.4590000000000001,{"$f":"BQ50","v":0},0,15.664,15.67,7.6139999999999999,20.623000000000001,17.646999999999998,26.602,12.939,11.827999999999999,5.23,3.8130000000000002,0.127,2.7709999999999999,9.1280000000000001,16.352,12.59,13.577,12.492000000000001,23.24,11.384,8.0630000000000006,8.35,4.8949999999999996,6.7279999999999998,6.1130000000000004,1.9E-2,5.8710000000000004,21.193999999999999,9.0649999999999995,0,0.75800000000000001,1.385,23.76,18.699000000000002,2.6219999999999999,4.1849999999999996,20.196000000000002,25.338000000000001,20.58,18.553000000000001,2.988,0,30.468,36.276000000000003,32.381999999999998,19.120999999999999,3.21,2.4420000000000002,0.29499999999999998,0,0.60499999999999998,23.762,30.207000000000001,41.329000000000001,41.523000000000003,36.134999999999998,35.462000000000003,27.626000000000001,2.4470000000000001,8.6300000000000008,4.0110000000000001,15.641,4.5220000000000002,{"$f":"EC50","v":24.983000000000001},30.245999999999999,40.732999999999997,41.825000000000003,39.795999999999999,25.856000000000002,19.338999999999999,0.161,0,0,0.16,7.08,30.593,35.506999999999998,48.040999999999997,47.988,41.008000000000003,35.664000000000001,25.751999999999999,4.3999999999999997E-2,5.6959999999999997,1.752,11.426,2.4860000000000002,35.871000000000002,37.9,46.164000000000001,41.335000000000001,42.015000000000001,33.911000000000001,24.538,1.929,0,0.443,24.675000000000001,5.1559999999999997,24.780999999999999,26.247,44.947000000000003,47.943088000000003,46.445472000000002,40.059267999999996,29.258672999999998,0.13090700000000002,4.9400729999999999,0.18829499999999999,12.573242,12.272200000000002,24.801705999999999,24.822877000000002,40.061728000000002,40.32517,34.601076999999997,33.859594999999999,10.674372999999999,7.7554930000000004,11.943772999999998,5.4160319999999995,11.956572,4.1086579999999993,35.027982999999999,32.886777000000002,42.502149999999986,41.349693000000002,{"$f":"GO50","v":32.870361999999986},35.245009999999986,6.989844999999999,0.39337499999999997,0.24867500000000001,6.9351799999999999,11.681749999999999,20.742650000000001,13.78152,18.414630000000002,40.446600000000011,40.084739999999996,25.697890000000001,30.612349999999999,20.154430000000001,14.336200000000002,19.761279999999999,2.60216,10.67905,0,41.779300000000006,25.270900000000001,30.664729999999999,29.23151,27.29907,27.11637,28.741240000000001,18.062999999999999,18.021330000000003,1.7769000000000001,15.907579999999999,11.34923,24.115320000000001,32.968360000000004,43.745139999999999,41.612990000000011,31.10868,29.175279999999997,35.880350000000014,3.7408600000000001,1.75173,1.5894900000000001,38.827199999999998,31.198349999999998,13.676830000000001,31.959060000000001,38.874420000000001,27.817540000000001,30.321840000000002,30.487080000000002,8.9221699999999995,8.7691199999999991,20.513860000000001,9.6140799999999995,26.056450000000002,20.429590000000001,13.702729999999999,35.710449999999994,32.149569999999997,41.220759999999999,47.659579999999998,46.158699999999996,8.6163100000000021,12.870649999999999,{"$f":"JA50","v":16.536380000000001},10.91423,1.5100000000000001E-3,20.868119999999998,29.20421,30.15579,41.507059999999996,40.833640000000003,39.463999999999999,25.285799999999998,19.43759,11.226760000000001,9.8379200000000004,6.4819999999999989E-2,14.833030000000001,17.134169999999997,35.067759999999986,36.472660000000005,36.56071,29.166790000000002,30.37407,30.355630000000001,26.206499999999998,17.80303,11.65175,2.09212,32.90943,32.02364,32.544689999999996,15.202639999999999,27.068729999999999,27.072900000000001,31.339770000000001,35.327910000000003,9.3500400000000017,10.632389999999999,13.84,11.60848,16.06204,8.2821100000000012,12.2675,30.662400000000002,28.065900000000003,28.376909999999999,27.214040000000001,36.408370000000005,6.9840900000000001,1.04064,3.82179,2.0000000000000002E-5,32.262,28.063580000000002,39.641570000000009,30.955749999999998,29.288900000000002,25.987180000000002,23.582050000000002,38.291379999999997,10.009509999999999,9.51281,6.6700400000000002,12.62696,37.630749999999999,26.65005,{"$f":"LM50","v":32.136939999999996},34.367599999999996,20.819140000000001,31.225639999999999,24.869720000000001,17.67933,12.571959999999999,14.20318,11.77998,0.41784000000000004,36.588389999999997,9.724219999999999,"-","-","-"]
[null,"Francia","Arkale-Argia",111.423,54.215000000000003,70.013000000000005,39.713999999999999,18.584,58.287999999999997,59.901000000000003,35.53,45.280999999999999,39.037999999999997,63.027999999999999,101.434,89.45,96.625,80.492999999999995,69.186000000000007,59.268999999999998,33.024999999999999,52.896000000000001,33.228000000000002,42.326000000000001,34.509,43.323999999999998,53.938000000000002,79.802999999999997,91.228999999999999,67.100999999999999,29.974,15.757999999999999,40.698999999999998,16.404,11.023,34.712000000000003,29.151,47.843000000000004,67.525999999999996,66.272000000000006,70.837999999999994,60.927,34.055,22.478000000000002,26.946000000000002,40.384,52.633000000000003,32.944000000000003,33.548000000000002,62.835000000000001,68.266999999999996,82.207999999999998,82.460999999999999,46.180999999999997,70.028000000000006,32.997999999999998,36.475000000000001,50.890999999999998,26.658999999999999,25.468,15.811999999999999,12.677,34.21,36.024999999999999,14.757,17.184999999999999,5.2279999999999998,13.349,18.742999999999999,46.527999999999999,29.402000000000001,24.326000000000001,23.738,27.279,47.703000000000003,65.186000000000007,102.205,46.485999999999997,17.565999999999999,13.302,24.094000000000001,56.417999999999999,32.512,22.408000000000001,11.007999999999999,31.51,54.442,134.30099999999999,88.882000000000005,50.725000000000001,41.204000000000001,36.631999999999998,51.759,72.075000000000003,62.161000000000001,61.198999999999998,39.871000000000002,75.081999999999994,113.33799999999999,77.853999999999999,61.935000000000002,53.811999999999998,42.472999999999999,24.416,31.881,51.418999999999997,49.078000000000003,68.498999999999995,64.069999999999993,72.712999999999994,62.719000000000001,60.329000000000001,44.707000000000001,46.686999999999998,65.132000000000005,34.548000000000002,34.186,55.341999999999999,25.297000000000001,46.886000000000003,40.090000000000003,44.866,57.813000000000002,123.887,57.578000000000003,36.923000000000002,36.564,8.4260000000000002,9.3409999999999993,39.264000000000003,52.997,50.207999999999998,51.438000000000002,54.911117667950208,51.332999999999998,107.0142660828128,110.574,106.48,58.337432204730305,27.376999999999999,37.15,43.859000000000002,55.235999999999997,45.835000000000001,56.930999999999997,70.658000000000001,85.753,73.036949300223284,38.415999999999997,33.204659831642566,0.90953751163512264,6.3811179645335399,8.2922007809062919,0.70199999999999996,0,5.2999999999999999E-2,3.7999999999999999E-2,0.22,6.8775492892099743,49.712965018614362,30.789299691819703,6.639757109004738,16.617834169681409,3.1807820512820508,7.2232158719312807,18.337518266126967,8.8321940654104409,15.92,24.742999999999999,21.881,33.067,42.483896000000001,32.002096999999999,35.694519999999997,25.574358,11.923950000000001,15.423808000000001,18.412663999999999,23.447099999999999,8.5593960000000013,26.479148000000002,16.938497999999999,3.143227,4.8373370000000007,14.434441000000001,16.409719000000003,23.014958,2.9303129999999999,15.048105,46.024234999999997,22.795265000000001,23.884594,36.531934,45.281644,70.706581,49.217669999999998,61.873078,69.125880000000009,31.424127000000002,6.0863590000000007,23.665861,63.215719,18.114258999999997,16.62602,26.258535999999999,59.747862999999995,76.833724000000004,26.642042,28.009412000000001,30.616864,15.405877,24.431099999999997,17.804613,33.154963000000002,22.114702000000001,38.723976999999998,39.424264999999998,61.013553000000002,47.495946000000004,20.703903999999998,7.2802169999999995,27.613903999999998,28.843040999999999,9.6104699999999994,32.096565999999996,39.927824999999999,19.743938999999997,43.454062,47.331489000000005,74.781234999999995,70.574695000000006,89.048899999999989,83.336832000000001,48.206637000000001,23.998669999999997,20.020662000000002,52.541646,68.751159000000001,34.899850000000001,37.758400000000002,48.343162999999997,51.464716000000003,89.261139999999997,122.60503299999999,95.369468999999995,125.99440300000001,68.538003000000003,51.823758999999995,35.384868000000004,32.730210999999997,20.319354000000001,52.243893,59.994703999999999,47.993192999999998,116.307153,99.604056999999997,71.507179999999991,106.91437699999999,47.488911000000002,27.654229000000001,11.112540000000001,16.010942,16.003741999999999,30.24418,40.192698999999998,80.594232999999988,59.717521999999995,18.718553,144.40320700000001,47.388846999999998,74.360923999999997,39.595538999999995,30.967157,40.066626999999997,46.840153000000001,46.939819999999997,107.212659,107.80993600000001,85.733476999999993,65.517749000000009,90.617100999999991,125.27654700000001,122.79539699999999,23.192954,6.1511760000000004,14.178372,7.4538919999999997,17.724453,32.076808,105.930717,53.050215999999999,105.86395900000001,146.850707,80.430564000000004,45.857495,10.714291999999999,1.025201,0.45710600000000001,0.86560599999999999,26.091524,5.7511530000000004,34.459567,51.219446000000005,26.524694,127.54449000000001,61.794238,23.345044000000001,2.704777,2.0432619999999999,14.321346,7.6741229999999998,14.23719,43.226906,30.936362000000003,4.3958529999999998,83.236592999999999,82.699945999999997,72.72582700000001,111.76057899999999,45.452303000000001,1.6666780000000001,7.0035060000000007,4.2664049999999998,14.780678,74.139590999999996,73.686228,55.698560999999998,123.13976799999999,61.724031000000004,13.838049000000002,5.7508680000000005,0.44810899999999998,1.012686,1.8842460000000001,0.42654199999999998,8.4198360000000001,"-","-","-"]
[null,null,"Benós-Lac D'oo",0,0,0,0,6.08,8.2149999999999999,0,0,0,2.4E-2,0,0,0,0,0,0,0,0,0,0,4.6100000000000003,10.053000000000001,0,0,0,0,0,0,0,0,0.41499999999999998,0.16700000000000001,0,0,0,0,0,0,0,0,0,0,2.0590000000000002,0.79400000000000004,0,0,0,0,0,0,0,0,0,0.55000000000000004,0,0,0,0,0,3.5999999999999997E-2,0,0,0,0,0,0,0.96599999999999997,0,0,0,0,0,3.2000000000000001E-2,0.23300000000000001,0,0,2.911,0,0,0,0,0,0,0,0.106,0,0,0,0,0,0,0,0,0,0,0,0,0,0,0,6.0000000000000001E-3,0.314,1.2769999999999999,0,0,0,0,0,5.6000000000000001E-2,0,0,0.122,0.01,0,0,0,0,0,0,1.55,0,0,0,0,7.0000000000000007E-2,0,0,0,0,0,0,0,3.9940756004894065E-2,0,0,0,0,0,0,0,0,0.12,0.01,0,0,0,0,0,0,0,0,0,0.20100000000000001,0,0,0,0,0,0,0,0,0,0,0,0,0,0,0,2.9999999999999997E-5,5.3999999999999998E-5,2.1999999999999999E-5,7.9999999999999996E-6,0,0,1.0503999999999999E-2,0.11318399999999999,9.1920000000000005E-3,1.0688000000000001E-2,1.2237999999999999E-2,1.0634000000000001E-2,1.0926E-2,6.0819999999999997E-3,1.936E-3,1.1140000000000002E-3,9.2080000000000009E-3,5.2729999999999999E-3,8.7270000000000004E-3,9.972E-3,7.8955999999999998E-2,8.2030000000000002E-3,1.2083E-2,1.1538999999999999E-2,1.1284000000000001E-2,1.0157999999999999E-2,1.1480000000000001E-2,1.1669000000000001E-2,1.09E-2,1.0402E-2,4.589E-2,0.37718499999999999,2.5576000000000002E-2,2.7495000000000002E-2,3.421E-3,2.7280000000000004E-3,3.9410000000000001E-3,1.0298E-2,1.1264E-2,1.1698E-2,2.1999999999999999E-2,8.4789999999999987E-3,8.1359999999999991E-3,6.8449999999999995E-3,7.2809999999999993E-3,2.0510000000000003E-3,6.7500000000000004E-4,8.9999999999999992E-5,1E-4,5.9999999999999995E-5,2.4000000000000001E-5,9.7669999999999996E-3,2.7751000000000001E-2,1.8652999999999999E-2,2.2040000000000002E-3,0,4.6740000000000002E-3,4.202E-3,1.0441000000000001E-2,1.0081E-2,1.0135999999999999E-2,9.3080000000000003E-3,7.4189999999999994E-3,0,0,0,0,0,0,0,4.2999999999999988E-5,0,0,0,0,0,1.562E-3,5.0000000000000004E-6,2.9629999999999999E-3,5.0000000000000004E-6,0,0,0,0,0,0,1.7999999999999997E-5,2.1419999999999998E-3,0,0,0,0,0.42848399999999998,0.62993899999999992,0,3.0299999999999997E-3,0,0,0,0,7.9999999999999996E-6,7.9999999999999996E-6,0,2.0000000000000002E-5,0.108866,0.10069199999999999,5.4450000000000002E-3,0,0,0,0,0.140185,4.4807E-2,1.029E-3,3.9999999999999998E-6,8.3269999999999993E-3,2.175576,0.81867200000000007,0,2.5000000000000001E-5,0,0,4.8799999999999999E-4,1.9800000000000002E-4,2.0000000000000002E-5,2.8E-5,0,1.2E-5,7.9999999999999996E-6,0.55827400000000005,0.53196600000000005,0,0,0,0,3.8140000000000001E-3,1.5999999999999999E-5,0,2.0000000000000002E-5,7.9999999999999996E-6,0,0,0,0,0,0,0,0,2.2930000000000003E-3,1.2E-5,2.3167999999999998E-2,0,2.8666000000000001E-2,0,0,0,0,0,1.1339999999999998E-3,2.8399999999999996E-4,1.2999999999999999E-5,7.9999999999999996E-6,0,1.3098E-2,0,"-","-","-"]
[null,null,"Biescas-Pragneres",38.911000000000001,4.8920000000000003,7.1520000000000001,28.884,2.7050000000000001,10.489000000000001,20.728000000000002,36.938000000000002,19.561,16.678000000000001,26.77,11.726000000000001,11.734999999999999,2.2719999999999998,15.256,29.992999999999999,28,18.809999999999999,12.045999999999999,5.8019999999999996,2.4009999999999998,8.7230000000000008,11.45,10.693,12.614000000000001,10.481999999999999,21.306000000000001,7.6550000000000002,8.5999999999999993E-2,0,10.101000000000001,8.4879999999999995,8.3239999999999998,7.6420000000000003,10.166,13.977,9.6760000000000002,4.6580000000000004,10.132999999999999,10.874000000000001,1.4730000000000001,8.1639999999999997,2.6619999999999999,28.198,27.637,23.428000000000001,14.472,8.7929999999999993,5.2160000000000002,1.7050000000000001,0.47699999999999998,1.54,2.7690000000000001,2.4249999999999998,0.03,4.085,7.0000000000000007E-2,0.157,2.9009999999999998,2.8000000000000001E-2,5.0000000000000001E-3,2E-3,0,2.9000000000000001E-2,0,0,0,0,0,0.29799999999999999,3.3000000000000002E-2,2.423,20.318000000000001,25.727,9.2629999999999999,3.5529999999999999,9.0229999999999997,7.8940000000000001,1.71,1.649,20.625,5.7,4.8479999999999999,6.282,43.781999999999996,20.05,10.95,35.314,61.688000000000002,13.44,8.7720000000000002,22.135999999999999,9.27,0,8.0120000000000005,18.474,1.625,0.35399999999999998,0,0.871,4.92,1.7,0.81499999999999995,3.0000000000000001E-3,8.2000000000000003E-2,0.30299999999999999,0.50600000000000001,2.5000000000000001E-2,0.94399999999999995,2E-3,0,0,0,0,0.114,1.4E-2,2.5999999999999999E-2,1.9E-2,9.0999999999999998E-2,0.24099999999999999,1.4830000000000001,2.4E-2,0,0,1E-3,0.156,0.20100000000000001,0,0,0.01,0,0.98799999999999999,7.4759110052160471,6.5540000000000003,37.567999999999998,38.684232635969323,6.1269999999999998,6.0000000000000001E-3,0,0.115,2.1999999999999999E-2,2.714,9.3710000000000004,44.652999999999999,19.458050699776727,0,0,0,0,0,0,5.4030800821355245E-2,0,0,0,0,1.9726014709888313,0,0,5.0105029758431563E-3,3.7209337606837605,6.9748713944067546,14.630998616590663,1.4317814598223957,1.58,2.6269999999999998,5.7859999999999996,10.683999999999999,1.7933779999999999,5.9187979999999998,35.914107999999999,16.983040000000003,17.059314999999998,4.9696959999999999,6.1858500000000003,8.7421110000000013,2.1778369999999998,0.294603,12.326857,2.8150200000000001,0.56501299999999999,0.90092700000000003,14.820814,1.5939129999999999,3.5694170000000001,1.209017,0.413022,0.89128499999999999,22.119429,33.986547000000002,24.450718000000002,22.409951,19.408821,30.063255000000002,49.268042000000001,2.8645639999999997,2.396665,5.8221069999999999,13.752437,7.2076260000000003,2.2416119999999999,6.9102920000000001,26.858431,21.799509999999998,10.684477000000001,2.9157800000000003,15.017279,0.94809600000000005,1.2384029999999999,1.0079469999999999,4.9716250000000004,2.9033760000000002,17.970164,44.043711000000002,57.525339000000002,41.179457999999997,12.813671000000001,9.1125109999999996,64.695941000000005,38.266745999999998,8.7419829999999994,24.667106,13.376733,10.919397999999999,37.402911999999993,50.422921000000002,30.357893000000001,51.962032000000001,61.292599000000003,56.901803999999998,26.025554,16.554085999999998,13.757577999999999,12.877383999999999,30.961304999999999,23.150644,22.106629000000002,35.990901000000001,56.491261000000002,97.393421000000004,86.350026,69.529257000000001,58.159247999999998,47.780493,42.834243000000001,64.684584000000001,51.344991999999998,12.011136,36.991285000000005,69.915801000000002,79.296678,102.03532199999999,58.457008000000002,52.378833,43.333232000000002,43.603102,61.500624000000002,50.294082000000003,42.452057999999994,9.6128719999999994,23.40287,23.707419999999999,48.777703000000002,39.601228000000006,14.952258,89.927367000000004,33.710082,58.688995999999996,51.875571000000001,27.216493999999997,13.780231000000001,17.862939999999998,39.199725000000001,53.708728999999998,54.278689,62.436047000000002,60.526485999999998,80.161692000000002,75.968845000000002,80.356809999999996,39.735810999999998,22.774646000000001,4.6317889999999995,16.321874999999999,24.112401000000002,24.106957999999999,63.165747000000003,25.495443999999999,59.529000999999994,70.043793000000008,47.892206000000002,49.833860999999999,12.230091,14.011084,35.336093999999996,2.7464189999999999,2.7774960000000002,21.939598,30.515117,58.398074000000001,23.04664,85.620426000000009,43.227506999999996,25.147535000000001,12.474236999999999,10.377840000000001,21.708144000000001,5.1731610000000003,29.821211999999999,30.325555999999999,31.910418,3.1645829999999999,43.095939999999999,35.544557999999995,48.782887000000002,43.371758,25.283064,8.8787729999999989,7.2904020000000003,1.709106,9.7849179999999993,45.137406999999996,42.689244000000002,20.181903999999999,72.741009999999989,44.250475000000002,17.284184,13.376706,3.1599020000000002,13.306374,13.262028000000001,0.99009000000000003,0.85762000000000005,"-","-","-"]
[null,null,"Hernani-Argia",116.684,41.418999999999997,64.096000000000004,6.4470000000000001,14.686999999999999,28.292999999999999,27.623999999999999,0.80900000000000005,5.5019999999999998,5.1559999999999997,56.087000000000003,52.076000000000001,46.268000000000001,56.149000000000001,105.93300000000001,67.522999999999996,60.18,20.585000000000001,17.215,3.4620000000000002,27.193999999999999,22.58,3.3039999999999998,8.1340000000000003,4.4089999999999998,22.212,12.343999999999999,0.94199999999999995,0,0,1.4730000000000001,3.0000000000000001E-3,0.14000000000000001,0.754,12.544,37.619,15.234999999999999,9.5190000000000001,6.6109999999999998,1.734,5.4269999999999996,3.069,2.9460000000000002,4.5510000000000002,0.123,1.879,29.850999999999999,28.948,54.761000000000003,68.06,43.726999999999997,33.704000000000001,17.891999999999999,37.954999999999998,7.2039999999999997,0.01,0,0,0,0,0.20399999999999999,0,0,0.66300000000000003,0,0.16500000000000001,0.105,0,0.113,0.22,5.774,11.225,30.408999999999999,80.712999999999994,14.598000000000001,3.4740000000000002,0.48199999999999998,2.7069999999999999,0.13600000000000001,0,0.11799999999999999,1.2999999999999999E-2,0,2.508,115.232,53.671999999999997,0.29599999999999999,0.03,0,1.72,0.49,0.59,0.09,0.14000000000000001,9.6199999999999992,73.319000000000003,0.999,0.62,0.16,0.01,0,0,0,0,0.2,0.13,0.1,0.18,0,0,0,0,0.09,0,0,0,0,0,0.01,4.29,9.6300000000000008,0,0,0,0,0,0,0,0,0.02,0,0.18099999999999999,45.792076759611049,38.74,58.86,12.468844745627251,0.04,0.01,0,0,8.0000000000000002E-3,0.01,0.35,2.7,0,0,1.4340168357435786E-2,0,0.10142174248265227,0.16528459084909813,0,0,0,0,0,1.6661896993707759,77.880671592663219,26.630146809162504,8.1430983412322266,17.301266775586416,2.0794337606837607,5.131391234320855,7.5344454578060152,3.7017283950617288,5.0999999999999997E-2,31.446999999999999,25.763000000000002,41.884999999999998,38.297694,34.355129999999996,46.089146999999997,18.800926,7.5346000000000002,12.932131999999999,18.927616999999998,25.092286000000001,1.7831389999999998,15.049754999999999,19.623918,10.783290000000001,1.299156,8.9458439999999992,13.557101000000001,9.5796299999999999,3.615462,16.132999999999999,32.992607999999997,7.4355020000000005,9.4049019999999999,42.706437000000001,53.818908,87.853712999999999,51.831887000000002,67.497151000000002,107.41017699999999,50.473228999999996,3.181578,29.387321,80.132981999999998,17.835070999999999,17.252246,41.576470999999998,113.829662,132.51497700000002,33.479428999999996,25.773045,36.731425000000002,11.999044,36.571584999999999,29.122274000000001,40.465618999999997,15.635537000000001,36.400451000000004,48.520048000000003,62.253433999999999,46.775661999999997,25.579798,4.132104,18.617545,47.908602999999999,18.524221000000001,54.284253,68.176293999999999,21.304933000000002,36.914423999999997,50.747624999999999,114.861113,84.524994000000007,110.45007000000001,114.93392299999999,65.039237,44.116619,34.802419,120.03873399999999,150.160785,43.811713000000005,35.700982000000003,43.852817000000002,51.763745999999998,133.90250499999999,232.404112,130.961996,213.24392900000001,149.16334700000002,50.053413999999997,63.036082999999998,38.961948999999997,22.428108000000002,26.679234000000001,34.239457000000002,38.088330999999997,155.22400500000001,151.753063,66.168729000000013,207.486752,103.500766,35.921597999999996,12.216484000000001,19.827047999999998,23.307510999999998,41.495207000000001,58.615233999999994,79.541323999999989,92.156266000000002,18.410277999999998,201.98155,60.164591999999999,127.44721700000001,79.569396999999995,40.930191000000001,46.037438000000002,74.839652000000001,74.184725,169.45675599999998,195.20606799999999,171.84110000000001,109.73749000000001,157.79143200000001,261.40196599999996,319.35997800000001,56.536648999999997,8.3347870000000004,2.6019079999999999,11.61298,35.945500999999993,61.553069999999998,226.16839199999998,86.644877999999991,220.848873,359.03646199999997,188.35893799999999,82.462721999999999,15.912886,1.8469949999999999,0.25534600000000002,0.25742000000000004,0.144375,23.912514999999999,76.675551999999996,87.216302999999996,45.501311999999999,255.76562699999999,144.81844800000002,38.372644999999999,5.6543919999999996,5.7707370000000004,19.012970000000003,8.4506650000000008,32.749841000000004,84.024090999999999,72.260019999999997,9.085642,207.57202100000001,248.58624600000002,166.641853,341.59624500000001,101.55399700000001,3.097305,14.889143000000001,6.0588980000000001,36.880220000000001,249.35244699999998,242.44007300000001,174.89172099999999,374.73231800000002,186.45795900000002,37.589247999999998,8.6230830000000012,1.072241,1.2613240000000001,0.21188399999999999,0,0.16935800000000001,"-","-","-"]
[null,null,"Irún-Errondenia",0,0,0,0,7.032,4.1000000000000002E-2,0,1.101,0.16300000000000001,4.3390000000000004,0.246,0.29199999999999998,5.1999999999999998E-2,0.47299999999999998,0.82399999999999995,3.569,5.4749999999999996,10.023,10.587,7.351,7.2190000000000003,2.3719999999999999,0.14399999999999999,3.7280000000000002,2.7519999999999998,1.772,4.3769999999999998,4.6399999999999997,2.1680000000000001,7.4859999999999998,0.441,0.82299999999999995,2.169,3.653,0,6.0000000000000001E-3,0.67500000000000004,2.8000000000000001E-2,1.131,17.001000000000001,3.1429999999999998,2.996,0.64900000000000002,0.90100000000000002,1.1439999999999999,1.839,1.0389999999999999,1.1399999999999999,0.66200000000000003,7.4999999999999997E-2,0.25800000000000001,9.6000000000000002E-2,0.437,0.48699999999999999,0.30099999999999999,0.67400000000000004,0.72899999999999998,0.16300000000000001,0.106,9.2999999999999999E-2,8.5999999999999993E-2,7.6999999999999999E-2,7.0000000000000007E-2,1.1499999999999999,1.2549999999999999,8.8999999999999996E-2,0.46300000000000002,0.92900000000000005,4.5579999999999998,0.28299999999999997,0.113,0.13600000000000001,0.39,0.106,9.1999999999999998E-2,0.21299999999999999,1.0620000000000001,1.802,0.77600000000000002,0.64100000000000001,0.66700000000000004,1.2529999999999999,2.6160000000000001,9.6000000000000002E-2,0.106,7.9000000000000001E-2,0.121,2.2330000000000001,8.7999999999999995E-2,7.0999999999999994E-2,0.183,0.10100000000000001,0.83199999999999996,0.248,8.7999999999999995E-2,0.106,0.31,1.242,9.0999999999999998E-2,0.14499999999999999,0.81200000000000006,0.41499999999999998,0.14099999999999999,1.4E-2,1.1639999999999999,0.11700000000000001,0.11700000000000001,0.125,0.105,7.0999999999999994E-2,7.9000000000000001E-2,6.4000000000000001E-2,3.173,7.5999999999999998E-2,0.17699999999999999,0.16,2.0150000000000001,8.2000000000000003E-2,1.7290000000000001,0.11600000000000001,7.3999999999999996E-2,0.71099999999999997,0.38600000000000001,3.6999999999999998E-2,0.34100000000000003,0.71499999999999997,7.9000000000000001E-2,7.9000000000000001E-2,8.2000000000000003E-2,0.219,0.16988233204979628,0.14099999999999999,0,8.3000000000000004E-2,8.4000000000000005E-2,4.6682114319966024,7.5999999999999998E-2,0.13300000000000001,0.13,0.14499999999999999,0.10100000000000001,8.1000000000000003E-2,0.158,8.2000000000000003E-2,0,0,0,15.72746248836488,0.22397301464919045,0,0,0,7.0999999999999994E-2,0,0.10299999999999999,7.0261011419249605E-2,4.0093525833106332E-2,0,6.8151469194312794E-2,0.63432967674174356,6.4136752136752129E-2,0,0,0,2.2949999999999999,1.024,9.0999999999999998E-2,0.82499999999999996,8.0238000000000004E-2,7.2531000000000012E-2,7.5426000000000007E-2,0.16395599999999999,7.0233000000000004E-2,3.88E-4,0.32883000000000001,7.5462999999999988E-2,0.26665499999999998,1.264432,0.16003000000000001,7.8079999999999997E-2,7.0796999999999999E-2,0.83209600000000006,5.0985999999999997E-2,5.6226999999999999E-2,9.363500000000001E-2,7.5749999999999998E-2,7.7986E-2,7.8252000000000002E-2,7.5714000000000004E-2,7.7742999999999993E-2,7.5724E-2,6.7833000000000004E-2,0.145561,7.0906000000000011E-2,4.9177999999999999E-2,0.19950000000000001,0.12631900000000001,7.5109999999999996E-2,7.7661000000000008E-2,7.7205999999999997E-2,7.6248999999999997E-2,9.2549999999999993E-2,7.5011999999999995E-2,7.8090999999999994E-2,7.8325000000000006E-2,7.011400000000001E-2,6.9161E-2,6.6280000000000006E-2,8.7410000000000002E-2,7.3905999999999999E-2,7.3156000000000013E-2,6.9459999999999994E-2,7.352800000000001E-2,6.8236000000000005E-2,6.4908000000000007E-2,7.7051000000000008E-2,7.8033000000000005E-2,6.1613000000000001E-2,0.101456,0.20869900000000002,0.101622,0.12998099999999999,7.7998999999999999E-2,7.8690999999999997E-2,7.6183000000000001E-2,0.15048300000000001,0.113745,0.29794199999999998,0.121751,8.3888999999999991E-2,9.7697000000000006E-2,0.43845699999999999,0.30040600000000001,0.34246899999999997,0.10048799999999999,0.135963,0.19354299999999999,8.0013000000000001E-2,0.203794,0.22527,0.27636700000000003,7.7787000000000009E-2,5.5793999999999996E-2,0.28700599999999998,0.26943,0.14162899999999998,7.8798000000000007E-2,0.12352100000000001,0.149566,7.8773999999999997E-2,0.15491199999999999,9.4633999999999996E-2,7.9263E-2,7.1906999999999999E-2,6.7638000000000004E-2,0.371064,0.47333999999999998,0.244703,9.5385000000000011E-2,7.9861999999999989E-2,0.12012,0.16638499999999998,0.133908,7.896800000000001E-2,7.9325999999999994E-2,6.7016999999999993E-2,6.4620999999999998E-2,0.105605,0.17707400000000001,0.15916999999999998,7.6683000000000001E-2,8.6059999999999998E-2,0.25949099999999997,0.35040499999999997,9.7977000000000009E-2,0.14384899999999998,7.2986000000000009E-2,0.20652799999999999,7.4349999999999999E-2,0.16861600000000002,0.21151200000000001,0.106654,7.9546999999999993E-2,0.11679200000000001,8.6902000000000007E-2,0.23258199999999998,7.7258999999999994E-2,0.15451300000000001,7.9416E-2,8.9760000000000006E-2,7.4024000000000006E-2,0.17180899999999999,0.16686000000000001,0.111719,9.9240999999999996E-2,9.4182000000000002E-2,0.16336699999999998,0.14188700000000001,7.3811000000000002E-2,8.0140000000000003E-2,0.123722,2.5178000000000002E-2,0.18330199999999999,0.247359,0.26027400000000001,0.14288200000000001,8.0156999999999992E-2,8.0012E-2,0.22448699999999999,0.10448099999999999,6.4185000000000006E-2,6.9197999999999996E-2,0.111141,6.9381999999999999E-2,8.2098000000000004E-2,0.137486,9.9537E-2,0.27637200000000001,7.9023999999999997E-2,7.9819000000000001E-2,0.12063800000000001,0.18573500000000001,0.14657200000000001,5.7621000000000006E-2,0.38220599999999999,7.1494000000000002E-2,0.14715600000000001,0.17357300000000001,0.192022,0.25015899999999996,4.9817E-2,0.18132799999999999,0.176706,"-","-","-"]
[null,null,"Santa Llogaia-Baixas",0,0,0,0,0,0,0,0,0,0,0,0,0,0,0,0,0,0,0,0,0,0,0,0,0,0,0,0,0,0,0,0,0,0,0,0,0,0,0,0,0,0,0,0,0,0,0,0,0,0,0,0,0,0,0,0,0,0,0,0,0,0,0,0,0,0,0,0,0,0,0,0,0,0,0,0,0,0,0,0,0,0,0,0,0,0,0,0,0,0,0,0,0,0,0,0,0,0,0,0,0,0,0,0,0,0,0,0,0,0,0,0,0,0,0,0,0,0,0,0,0,0,0,0,0,0,0,0,0,0,0,0,0,0,0,0,0,0,0,0,0,0,0,0,0,0,0,0,0,0,0,0,0,0,0,0,0,0,0,0,0,0,0,0,0,0,0,0,0,0,0,0,0,0,0,0,0,0,0,0,0,0,0,0,0,0,0,0,0,0,0,0,0,0,0,0,0,0,0,0,0,0,0,0,0,0,0,0,0,0,0,0,0,0,0,0,0,0,0,0,0,0,0,0,0,0,0,0,0,0,0,0,0,0,0,0,0,0,0,0,0,0,0,0,0,0,0,0,0,0,0,0,0,0,0,0,0,0,0,0,0,0,0,0,0,0,0,0,0,0,0,0,0,0,0,0,0,0,0,0,0,0,0,0,0,0,0,0,0,0,0,0,0,0,0,0,0,0,0,0,0,0,0,0.21550999999999998,0.38705599999999996,4.9517430000000004,43.515853,20.006323999999999,1.7097329999999999,18.901538000000002,26.831292000000001,3.8269920000000002,119.533254,93.740530000000007,112.02753300000001,210.21876800000001,72.867104999999995,2.7433700000000001,0.24413399999999999,0,2.018065,219.417733,148.56615999999997,83.380887000000001,194.76411300000001,134.77005700000001,31.829432000000001,5.2385900000000003,0.59639900000000001,4.9186000000000001E-2,4.3789999999999992E-3,0,1.0000000000000001E-5,"-","-","-"]
[null,null,"Vic-Baixas",84.216999999999999,14.3,9.5850000000000009,55.786000000000001,12.345000000000001,5.7779999999999996,25.321999999999999,83.188000000000002,45.84,66.087000000000003,76.805999999999997,27.954999999999998,17.870999999999999,6.3769999999999998,21.77,102.754,116.145,90.58,29.052,71.911000000000001,28.036000000000001,42.823999999999998,65.727999999999994,57.56,37.536000000000001,14.901999999999999,19.672000000000001,14.965,10.848000000000001,4.5250000000000004,5.4880000000000004,65.356999999999999,34.107999999999997,97.766000000000005,39.606999999999999,33.307000000000002,24.297000000000001,4.492,12.425000000000001,18.914999999999999,6.1820000000000004,10.477,6.601,16.686,61.978000000000002,18.885999999999999,27.952999999999999,43.14,19.026,4.5830000000000002,12.472,5.3419999999999996,6.34,22.38,0.09,3.46,0.08,0.23,2.76,3.59,6.71,0.35,0.69,0.04,1.5,0.56999999999999995,0,1.3,0.03,0.83,8.82,19.05,90.72,118.83199999999999,100.56,58.84,75.36,45.6,17.190000000000001,23.15,21.63,67.12,38.72,48.21,185.94,94.05,47.31,17.399999999999999,19.78,70.11,49.18,56.05,16.725000000000001,31.675000000000001,53.847999999999999,73.912000000000006,6.4160000000000004,0.91600000000000004,0.15,1.2829999999999999,17.085999999999999,24.408999999999999,4.3419999999999996,2.3570000000000002,3.0720000000000001,5.2859999999999996,0.23499999999999999,8.5000000000000006E-2,4.6340000000000003,0,0,0,2.8370000000000002,0.77300000000000002,0,1E-3,1E-3,0.32400000000000001,1.2E-2,0.71299999999999997,0.245,0,0,0,1.9E-2,0.74299999999999999,7.0999999999999994E-2,9.0999999999999998E-2,2E-3,0,0,4.774,25.749805396355207,2.7370000000000001,17.431000000000001,3.7182789816765038,8.9999999999999993E-3,2.5000000000000001E-2,0,1E-3,0,2.9000000000000001E-2,0,0,0,0,0,0,11.56348727833462,6.955514628244611,0,0.48296919917864478,0,2.37,0.04,0,2.8586683919004812,3.1365534990177877,6.2959930805687199,8.3765588750145881,14.873713675213676,2.4155214993411098,1.0376594763539478E-3,8.9296079705436432E-2,0.26400000000000001,0.36,8.7010000000000005,15.734,16.693427,11.779904,2.245492,28.636368999999998,14.534038000000001,8.4834320000000005,0.46047199999999999,8.0545290000000005,2.1789360000000002,24.215565999999999,10.924521,1.0983499999999999,1.311401,5.306845,7.6236290000000002,0.62397199999999997,0,3.5800999999999999E-2,0,1.3849999999999999E-3,0.128029,0.10709300000000001,2.3142800000000001,0.386683,0.36870700000000001,6.8009269999999997,39.699697,0.30595499999999998,1.595626,4.3541989999999995,6.2494750000000003,7.1709000000000009E-2,1.0787829999999998,2.7588659999999998,7.2197060000000004,4.6066130000000003,0.27964299999999997,1.062894,0.19884800000000002,0.108846,0.245226,8.9900000000000006E-4,2.3380000000000002E-3,3.5399999999999999E-4,4.2930669999999997,49.703207999999997,35.339785000000006,10.175091,11.860593999999999,14.093116999999999,50.465908000000006,59.213249000000005,78.179224000000005,31.235401000000003,7.3803909999999995,27.071908000000001,12.193566000000001,41.950105000000001,2.2933150000000002,4.6033490000000006,61.869813000000001,21.169661000000001,8.9934290000000008,6.8214930000000003,9.816929,1.74922,0.56310799999999994,28.493831999999998,33.176065000000001,34.452105000000003,63.826256999999998,29.084294000000003,26.765494,75.730539999999991,42.753312999999999,97.510514000000001,94.443817999999993,65.557349000000002,62.566361000000001,19.684878000000001,83.837119999999999,135.90680600000002,35.573285000000006,67.350379000000004,27.566956999999999,27.413736,85.304713000000007,121.22519699999999,39.693279000000004,58.089896000000003,14.268889999999999,0.85295100000000001,8.6173210000000005,13.174177999999999,40.502609,26.680657,9.8517250000000001,61.589125999999993,40.683976000000001,82.535295000000005,44.251991000000004,0.63016899999999998,0.21037,15.220343000000002,37.154574000000004,87.763293999999988,31.942330999999999,46.270339999999997,77.452407000000008,139.932671,193.43130199999999,68.492457000000002,24.216205000000002,20.773522,0.50317000000000001,1.314981,22.787057000000001,19.554488000000003,48.802799,30.157594,88.66624800000001,91.538463000000007,96.696392000000003,42.606923000000002,9.9055849999999985,1.1748219999999998,6.5561999999999995E-2,0,0,4.6287389999999995,19.741188999999999,66.036414000000008,17.580258999999998,84.162206999999995,51.721656000000003,62.032333000000001,0,0,10.630004999999999,5.8684E-2,17.548770000000001,17.26829,19.002059000000003,2.5039319999999998,67.187830000000005,45.091616000000002,52.641372000000004,103.921397,34.953190999999997,5.5231000000000002E-2,0.17025499999999999,0,1.2135209999999998,101.21828599999999,70.324235000000002,38.361272,90.251531,63.319480000000006,15.123700000000001,2.6613370000000001,0.10208,0,0,0,1.9999999999999999E-6,"-","-","-"]
[null,null,"Total",{"$f":"SUM(D52:D58)","v":351.23500000000001},{"$f":"SUM(E52:E58)","v":114.82600000000001},150.84600000000003,130.83100000000002,61.432999999999993,111.104,133.57499999999999,157.566,116.34699999999999,131.322,222.93700000000001,193.483,165.376,161.89600000000002,224.27600000000004,273.02499999999998,269.06900000000002,173.02299999999997,121.79600000000002,121.754,111.786,121.06099999999999,123.94999999999999,134.053,137.114,140.59700000000001,124.79999999999998,58.176000000000002,28.86,52.709999999999994,34.322000000000003,85.86099999999999,79.453000000000003,138.96600000000001,110.16,152.435,116.155,89.535000000000011,91.227000000000004,82.579000000000008,38.703000000000003,51.652000000000001,55.300999999999995,103.76300000000001,123.82599999999999,79.58,136.15,150.28800000000001,161.87300000000002,156.88399999999999,103.11499999999998,110.71000000000002,60.435999999999993,100.27199999999999,58.516000000000005,34.887999999999998,26.346999999999998,16.361999999999998,18.443999999999999,37.957000000000008,43.03,15.186,17.945,7.11,16.103999999999999,{"$f":"SUM(BQ52:BQ58)","v":19.566999999999997},48.061999999999998,31.631,29.027000000000001,25.368999999999996,42.018999999999998,80.537000000000006,207.05500000000001,327.81599999999997,170.999,83.646000000000001,102.14,82.097000000000008,76.23,57.951999999999998,65.448000000000008,85.094000000000008,77.694000000000003,111.53800000000001,479.46699999999993,256.733,109.402,96.181000000000012,118.18799999999999,137.1,130.70000000000002,141.03800000000001,88.115999999999985,71.933999999999997,146.64999999999998,279.149,87.203999999999994,65.066999999999993,54.212999999999994,44.782000000000004,47.239999999999995,58.719000000000001,57.993999999999993,51.452000000000005,73.016999999999996,69.905999999999992,73.670999999999992,63.134,66.067999999999998,44.78,46.765999999999998,65.317999999999998,40.658000000000008,35.035000000000004,55.632999999999996,25.472000000000001,48.928000000000004,40.515000000000001,46.707999999999998,64.722999999999999,135.31900000000002,58.313000000000002,37.309000000000005,36.600999999999999,8.8569999999999993,10.955,39.615000000000002,53.167000000000002,50.292000000000002,{"$f":"SUM(EC52:EC58)","v":51.687000000000005},55.081000000000003,57.416999999999994,186.072,158.68799999999999,220.42300000000003,117.87699999999998,33.628999999999998,37.323999999999998,43.989000000000004,55.497,45.966000000000001,59.884999999999998,80.546999999999997,133.18799999999999,92.495000000000005,38.415999999999997,33.219000000000001,16.637000000000004,18.270000000000003,15.413,0.70199999999999996,0.53700000000000003,0.32500000000000001,2.4079999999999999,0.36299999999999999,8.6140000000000008,132.465,60.55599999999999,21.146999999999998,42.934999999999995,23.919,21.745000000000001,40.503999999999998,14.055000000000001,20.109999999999996,60.200999999999993,62.222000000000008,102.19499999999999,99.348662999999988,84.128513999999996,120.01871499999999,90.158657000000005,51.122136000000005,41.809456000000004,44.325937000000003,65.524673000000007,14.975155000000003,67.314191999999991,59.986061999999997,17.928601,8.0946300000000022,30.426234999999998,52.464185000000008,34.869814000000005,10.218035000000002,32.506945999999999,79.516577999999996,31.211660999999999,55.691623999999997,113.41795700000002,125.953357,181.43630000000002,120.98393,{"$f":"SUM(GO52:GO58)","v":166.31547500000002},265.56445400000001,85.279043999999999,13.397447000000001,63.314999999999998,163.474164,43.683055999999993,37.300485999999999,77.624210000000005,207.73409499999997,235.83564300000003,71.167856999999998,57.841542999999994,82.644841,28.539841000000003,62.595723999999997,48.018118000000001,78.675837000000001,40.730274000000001,97.468467999999987,181.76151899999999,216.19769400000001,145.70329800000002,71.03609999999999,34.679622000000002,161.494778,174.45010500000001,115.185271,142.43196,128.94144600000001,79.118869000000004,130.04582099999999,190.60682500000001,222.417742,211.97309300000001,322.79326900000001,276.43541700000003,148.36997299999999,91.929325000000006,78.697993999999994,187.549453,250.536845,130.49200200000001,128.935619,162.718999,223.74981699999998,349.86662999999999,468.40103199999999,371.66904899999997,440.20668699999999,363.27936300000005,239.42622599999999,228.80451799999997,185.68527399999999,74.567002000000002,199.90109799999999,300.13554200000004,201.10639899999998,441.01149299999997,337.46034800000001,217.54038500000001,443.10672999999997,316.19118199999997,165.24306999999999,{"$f":"SUM(JA52:JA58)","v":131.957705},92.654322999999977,49.856937999999992,104.308182,136.48585499999999,249.54977699999998,218.23767100000001,62.012140000000002,497.96826700000008,182.01211799999999,343.13803700000005,215.46957999999998,99.903188999999998,100.17134900000001,154.84916800000002,197.84720099999998,418.592535,389.34044599999999,366.42481299999997,313.307118,468.70942400000001,656.15300999999988,591.31344300000001,143.937938,58.141813999999997,21.994790000000002,36.828847000000003,102.83189,138.342578,444.14491400000003,195.50266999999999,474.98749700000002,667.55918499999984,413.45261199999999,220.93300799999997,48.929733999999996,18.169848999999999,36.213349000000001,3.9636390000000001,29.176770000000001,56.932165999999995,161.99720199999999,262.950377,112.77662699999999,553.11792800000001,301.74515100000002,149.36424,21.480751999999999,23.286464000000002,109.268495,41.442976999999999,96.291233000000005,193.85086199999998,181.004336,23.046199999999999,520.73677899999996,505.73227800000001,452.90156999999999,811.00623299999995,280.21149000000003,16.717740999999997,29.699632000000001,12.114228000000001,64.826706000000001,{"$f":"SUM(LM52:LM58)","v":689.45119900000009},577.85251200000005,372.57196599999997,856.01094599999999,490.59349600000002,115.81290299999999,35.824441000000007,5.5707659999999999,15.879737,15.412354000000001,1.6110580000000001,9.6235319999999991,"-","-","-"]
[null,"Portugal","Aldeadávila-Pocinho 1",14.685,16.192,51.756,49.570999999999998,50.356999999999999,65.022999999999996,71.284999999999997,60.52,71.363,66.796000000000006,48.841999999999999,77.343999999999994,69.73,61.610999999999997,20.335000000000001,16.253,50.225000000000001,49.343000000000004,74.876000000000005,58.898000000000003,87.350999999999999,69.766999999999996,63.26,66.259,90.644000000000005,130.691,126.95399999999999,68.519000000000005,96.411000000000001,96.570999999999998,138.642,65.491,79.085999999999999,80.218999999999994,78.646000000000001,73.402000000000001,91.052999999999997,81.468999999999994,98.414000000000001,99.334999999999994,70.814999999999998,57.005000000000003,82.402000000000001,82.582999999999998,95.647999999999996,39.637,15.874000000000001,61.351999999999997,56.750999999999998,51.89,56.180999999999997,42.81,31.158000000000001,37.048000000000002,112.776,121.04900000000001,115.29600000000001,92.024000000000001,78.078999999999994,89.984999999999999,79.097999999999999,56.689,103.38800000000001,92.772000000000006,91.412999999999997,101.81100000000001,85.727999999999994,116.108,134.41200000000001,90.503,61.218000000000004,55.896999999999998,4.3449999999999998,0.371,5.1619999999999999,3.6520000000000001,8.31,37.893999999999998,48.470999999999997,54.792000000000002,83.575000000000003,101.235,88.156999999999996,40.418999999999997,3.6659999999999999,23.402000000000001,61.45,98.834000000000003,116.419,59.612000000000002,91.358999999999995,93.171999999999997,26.164999999999999,37.731999999999999,2.2429999999999999,0.58699999999999997,0.09,3.5529999999999999,8.5860000000000003,0.93600000000000005,9.89,12.064,34.927999999999997,41.451999999999998,44.796999999999997,23.57,20.439,43.091000000000001,46.183999999999997,29.617999999999999,26.751999999999999,2.1829999999999998,1.5289999999999999,4.0919999999999996,21.567,6.6079999999999997,7.3159999999999998,0.185,3.7040000000000002,11.131,17.289000000000001,23.111999999999998,46.154000000000003,9.7010000000000005,8.3870000000000005,41.393000000000001,47.744999999999997,88.322999999999993,67.117999999999995,30.641999999999999,17.121045191342429,1.0129999999999999,1.794999157217614,6.4820000000000002,13.170999999999999,0,6.0709999999999997,18.013999999999999,26.466999999999999,17.297000000000001,34.258000000000003,14.46,11.837,28.861000000000001,18.71047460863144,0,3.8385873641426387,7.5735171222058115,27.249876110782314,28.758443915796121,40.539305286486403,71.321901965471966,57.543999999999997,56.442,27.456,19.066732733715433,2.9279943873948757,12.740440240280293,17.865947770645452,26.840576261002234,37.894169654211829,27.526457458216836,44.191690797456999,57.656554092680807,12.568,15.981999999999999,6.4379999999999997,12.481,31.66048,28.55836,52.6,58.080179999999999,65.881539999999987,72.994720000000001,86.01082000000001,70.458479999999994,75.522499999999994,68.605039999999988,61.7361,73.476600000000005,97.869119999999995,71.590919999999997,84.664880000000011,81.425619999999995,81.336759999999998,89.034820000000011,96.589919999999992,178.34948,140.39814000000001,116.41796000000001,108.45682000000001,86.276839999999993,106.02696,88.114460000000008,52.700620000000001,53.426220000000001,85.889420000000001,114.83319999999999,98.781600000000012,90.051839999999999,117.3708,74.426280000000006,19.566220000000001,4.1491000000000007,47.639400000000002,26.116299999999999,47.099800000000002,64.523899999999998,60.294199999999996,46.7988,83.252300000000005,96.45689999999999,101.6448,98.475100000000012,84.912800000000004,107.95819999999999,93.030299999999997,99.585599999999999,122.84089999999999,75.4131,83.715699999999998,79.356100000000012,74.908000000000001,71.748100000000008,86.367100000000008,100.669,108.05410000000001,93.840100000000007,53.0062,30.2287,63.938000000000002,97.090699999999998,102.82430000000001,74.918399999999991,48.076500000000003,76.040499999999994,41.315400000000004,58.388800000000003,38.889300000000006,9.0866000000000007,4.7000000000000002E-3,1.3030999999999999,5.1299999999999998E-2,6.6200000000000009E-2,1.7746999999999999,17.694700000000001,22.882300000000001,52.033199999999994,39.9589,43.836400000000005,23.4831,2.8198000000000003,27.360199999999999,16.938200000000002,33.296999999999997,52.703480000000006,26.339500000000001,39.329000000000001,37.795000000000002,46.855199999999996,48.487000000000002,46.580500000000001,30.742799999999999,41.101699999999994,60.7682,56.659199999999998,61.142000000000003,46.5184,49.086500000000001,46.578300000000006,47.786000000000001,40.123599999999996,47.5807,57.2333,24.9055,38.014900000000004,15.771100000000001,12.303900000000001,3.8019000000000003,7.0789,37.097499999999997,37.411499999999997,56.354800000000004,44.337400000000002,47.707999999999998,43.186800000000005,26.8415,29.0365,1.6479000000000001,6.5008999999999997,24.122499999999999,44.878099999999996,35.275199999999998,49.384999999999998,36.485550000000003,39.841999999999999,52.7911,39.696300000000001,11.7455,31.319800000000001,47.225900000000003,14.148700000000002,36.1158,48.593499999999999,35.974499999999999,43.662500000000001,41.217300000000002,42.893599999999999,33.792999999999999,18.148099999999999,37.3078,38.164300000000004,6.6553999999999993,6.5374999999999996,14.8726,9.8177000000000003,9.0402999999999984,13.8256,25.589599999999997,20.2775,14.544499999999999,34.835599999999999,16.8216,20.180099999999999,27.7379,8.6027000000000005,15.5733,23.297900000000002,22.155999999999999,11.9864,10.1684,7.5392999999999999,16.5412,"-","-","-"]
[null,null,"Aldeadávila-Pocinho 2",0,0,4.5620000000000003,14.779,19.529,23.329000000000001,20.57,16.611999999999998,19.315000000000001,22.462,10.955,19.638999999999999,7.06,9.1820000000000004,0.78500000000000003,0,4.8719999999999999,9.6720000000000006,30.417999999999999,28.582999999999998,41.801000000000002,15.532,13.295999999999999,17.425000000000001,33.936,73.649000000000001,73.704999999999998,24.556000000000001,61.302999999999997,42.658999999999999,61.228999999999999,25.614999999999998,19.829999999999998,19.852,15.058,5.6950000000000003,18.213000000000001,22.593,39.4,56.232999999999997,24.553000000000001,6.319,15.778,40.377000000000002,17.63,3.1579999999999999,0.373,3.9089999999999998,0.61399999999999999,3.5999999999999997E-2,2.7269999999999999,7.87,11.827,7.5869999999999997,51.465000000000003,67.8,34.564,41.673999999999999,8.4860000000000007,37.18,14.314,4.8209999999999997,9.5429999999999993,25.475000000000001,32.220999999999997,49.024000000000001,59.015000000000001,68.117000000000004,58.744999999999997,46.737000000000002,26.651,18.495000000000001,0,0,0,0,0,6.1790000000000003,15.824999999999999,15.83,29.06,57.418999999999997,19.838000000000001,6.4039999999999999,0,0,6.84,30.657,40.314,11.69,24.233000000000001,30.015000000000001,6.0439999999999996,10.702,0.91200000000000003,0,0,0,1.921,0.25900000000000001,0,1.726,9.2840000000000007,9.5540000000000003,10.36,6.87,4.7910000000000004,9.5399999999999991,8.5150000000000006,7.0330000000000004,6.5250000000000004,0.81399999999999995,0.214,0.71399999999999997,5.9829999999999997,2.84,19.163,7.4169999999999998,0.438,1.35,4.5839999999999996,9.3889999999999993,17.152999999999999,4.431,0.72399999999999998,9.7449999999999992,14.756,31.852,20.094999999999999,6.5620000000000003,2.6410948952720892,0,0,1.1339999999999999,6.0309999999999997,0,0.77300000000000002,4.6449999999999996,8.6639999999999997,0.84299999999999997,0,0,0,0,1.0967888742267808,5.1441585541250063,2.4837918238570014,0.86763204875164357,6.6793097554442911,8.0386727273717042,18.976108398224021,49.817413501597066,22.97,25.234000000000002,10.826000000000001,7.818342725422163E-2,0,0,0,0,1.774020993560629,12.871325593839924,31.84633405217896,24.933183421394542,21.960999999999999,11.989000000000001,9.0999999999999998E-2,0,4.0689799999999998,2.1074200000000003,6.4098800000000002,6.9443400000000004,8.4303399999999993,23.428419999999999,33.661660000000005,22.179680000000001,19.141240000000003,17.73272,14.92446,32.980080000000001,42.713080000000005,26.128979999999999,29.5838,19.285919999999997,18.5122,26.68582,44.657379999999996,93.120539999999991,44.521980000000006,37.774120000000003,24.044,30.759220000000003,42.845980000000004,36.45628,11.460379999999999,8.3556399999999993,29.862939999999998,48.633580000000002,47.60416,41.224299999999999,58.973080000000003,25.629560000000001,1.9157599999999999,0,13.8134,6.4616999999999996,1.2147000000000001,8.0470000000000006,1.9454,2.1955999999999998,21.6646,25.4937,38.693100000000001,18.429400000000001,23.191299999999998,47.072699999999998,46.944699999999997,54.5246,69.883499999999998,22.0032,10.8026,7.7314999999999996,29.196400000000001,38.4268,21.1813,29.815099999999997,59.228900000000003,26.3978,14.1219,0,3.7395999999999998,34.339300000000001,38.1389,28.4786,18.971499999999999,38.854099999999995,19.915800000000001,21.527799999999999,14.9841,1.4450000000000001,3.5000000000000001E-3,1.2052,4.2500000000000003E-2,5.9499999999999997E-2,1.6830000000000001,19.534800000000001,22.4787,34.412199999999999,18.6936,43.903199999999998,23.5413,9.8086000000000002,27.145700000000001,16.806799999999999,33.0578,52.449539999999999,26.133500000000002,39.051300000000005,37.475000000000001,46.5456,48.110500000000002,46.2072,30.502400000000002,40.810199999999995,60.407199999999996,51.903199999999998,60.790900000000001,46.23,48.756,46.318899999999999,47.553599999999996,39.910699999999999,47.354999999999997,56.369300000000003,24.748099999999997,37.819300000000005,15.674200000000001,12.1919,3.7616000000000001,7.0061,36.859300000000005,37.147400000000005,56.403700000000001,44.0426,47.374400000000001,42.860199999999999,26.607400000000002,28.87,1.6354000000000002,4.7229999999999999,23.933,44.414900000000003,34.957599999999999,18.46583,54.400100000000002,39.592100000000002,52.503900000000002,39.4375,11.6899,31.108400000000003,46.948599999999999,14.0297,35.8675,48.259800000000006,35.720800000000004,42.969000000000001,40.948,42.601900000000001,34.7029,18.0443,37.0762,37.985599999999998,6.6011999999999995,6.4725000000000001,14.7363,9.7071000000000005,8.7454000000000001,1.0341300000000002,2.6175999999999999,20.094900000000003,12.865,5.9523000000000001,18.034500000000001,20.029199999999999,27.520099999999999,8.5190999999999999,15.3597,22.960900000000002,21.919900000000002,11.9046,10.1313,7.4756,16.386700000000001,"-","-","-"]
[null,null,"Aldeadávila-Lagoaça",0,0,0,0,0,0,0,0,0,0,0,0,0,0,0,0,0,0,0,0,0,0,0,0,0,0,0,0,0,0,0,0,0,0,0,0,0,0,0,0,0,0,0,0,0,0,0,0,0,0,0,0,0,0,0,0,0,0,0,0,0,0,0,0,0,0,0,0,0,0,0,0,0,0,0,0,0,0,0,0,0,0,0,0,0,0,0,0,0,0,0,0,0,0,0,0,0,0,0,0,0,0,0,0,0,0,0,0,0,0,0,0,0,0,0,0,0,0,0,0,0,0,0,0,0,0,0,0,0,0,0,0,0,0,0,0,0,0,0,0,0,0,0,0,0,0,0,0,0,0,0,0,0,0,0,0,0,0,0,0,0,0,0,0,0,0,0,0,0,0,0,0,0,0,0,0,0,0,0,0,0,0,0,0,0,0,0,0,0,0,0,0,0,0,0,0,0,0,0,0,0,0,0,0,0,0,0,0,0,0,0,0,0,0,0,0,0,0,0,0,0,0,0,0,0,0,0,0,0,0,0,0,0,0,0,0,0,0,0,0,0,0,0,0,0,0,0,0,0,0,0,0,3.0352320000000002,5.7775680000000005,4.5530339999999994,17.160336000000001,20.620656,65.347992000000005,76.665096000000005,65.192903999999999,53.952264,50.553936,28.530792000000002,56.032559999999997,130.05338399999999,123.89608800000001,120.79670399999999,127.17518399999999,73.94695200000001,58.391711999999998,88.117199999999997,53.145071999999999,82.413072,135.90590400000002,24.104088000000001,47.326031999999998,19.019231999999999,2.1887280000000002,1.6416E-2,0.374112,10.9404,43.053336000000002,140.94907199999997,94.388976,81.727919999999997,40.477319999999999,17.71632,22.206096000000002,0,1.3823999999999999E-2,3.375432,3.1864319999999999,60.898823999999998,49.763807999999997,92.284487999999996,60.073271999999996,61.700616000000004,52.016904000000004,7.9725600000000005,17.631216000000002,65.939616000000001,3.9657600000000004,12.303792,38.787120000000002,17.993448000000001,74.008511999999996,85.542912000000001,91.137312000000009,57.571559999999998,16.460063999999999,48.567816000000001,38.731392,3.4181999999999997,8.6399999999999997E-4,5.4248400000000006,2.0543760000000004,1.227528,13.989240000000001,42.924167999999995,32.430024000000003,32.624639999999999,48.501288000000002,37.857672000000001,61.264296000000002,56.020679999999999,15.85116,48.91536,100.69617600000001,44.511552000000002,16.5078,16.323983999999999,15.158016,35.794440000000002,"-","-","-"]
[null,null,"Badajoz-Alcaçovas",0,0,0,0,0,0,0,0,0,0,0,0,0,0,0,0,0,0,0,0,0,0,0,0,0,0,0,0,0,0,0,0,0,0,0,0,0,0,0,0,0,0,0,0,0,0,0,0,0,0,0,0,0,0,0,0,0,0,0,0,0,0,0,0,0,0,0,0,0,0,0,0,0,0,0,0,0,0,0,0,0,0,0,0,0,0,0,0,0,0,0,0,0,0,0,0,0,0,0,0,0,0,0,0,0,0,0,0,0,0,0,0,0,0,0,0,0,0,0,0,0,0,0,0,0,0,0,0,0,0,0,0,0,0,0,0,0,0,0,0,0,0,0,0,0,0,0,0,0,0,0,0,0,0,0,0,0,0,0,0,0,0,0,0,0,0,0,0,0,0,0,0,0,0,0,0,0,0,0,0,16.806815,13.660258000000001,12.082063,10.076793,10.298776,14.999411,13.877753,17.840923,15.423859,10.35671,10.742685,13.914944999999999,14.837774,13.228404000000001,13.180449000000001,8.7490389999999998,12.665214000000001,11.587422,13.609805,12.717713,12.718986000000001,11.613796000000001,12.132577,16.393713999999999,17.609760999999999,14.325076999999999,13.704503000000001,12.436572,11.913262000000001,12.125356,15.039502000000001,14.887674000000001,11.774661,11.590432,13.438245,17.452247,16.675391000000001,14.554555000000001,14.129727999999998,12.535705999999999,4.3213509999999999,8.3559300000000007,16.349028000000001,14.969226000000001,12.770391999999999,12.169111000000001,14.304791,17.883727999999998,17.296067999999998,14.808325,12.589737,12.397746,12.820968000000001,14.098872999999999,15.228327999999999,16.139589000000001,13.760968999999999,12.268291999999999,12.834667999999999,17.240842000000001,18.684728,16.460332999999999,4.2237239999999998,11.945206000000001,10.137180000000001,2.6909009999999998,15.641062,17.893608,14.113398,12.482744,14.638779000000001,17.848796,18.136011999999997,15.386274,3.3109920000000002,0,3.9893689999999999,13.272827999999999,4.4188130000000001,1.54E-4,1.8799999999999999E-4,5.2500000000000008E-4,8.5399999999999994E-4,9.6999999999999994E-4,5.9999999999999995E-4,2.2600000000000002E-4,0.656331,0.323548,3.2499999999999999E-4,4.64E-4,2.9799999999999998E-4,2.8799999999999995E-4,2.6499999999999999E-4,5.5900000000000004E-4,5.9699999999999998E-4,9.6499999999999993E-4,8.4499999999999994E-4,6.0999999999999997E-4,5.7599999999999991E-4,4.28E-4,3.2200000000000002E-4,2.6900000000000003E-4,3.39E-4,1.4399999999999998E-4,2.5599999999999999E-4,8.7900000000000001E-4,7.0099999999999991E-4,6.9199999999999991E-4,1.1180000000000001E-3,8.6399999999999997E-4,7.1499999999999992E-4,4.9899999999999999E-4,5.2000000000000006E-4,3.4200000000000002E-4,1.4899999999999999E-4,2.6900000000000003E-4,4.1199999999999999E-4,7.7300000000000003E-4,8.9800000000000004E-4,5.6200000000000011E-4,6.0899999999999995E-4,5.9499999999999993E-4,4.6600000000000005E-4,2.9799999999999998E-4,6.7500000000000004E-4,1.3100000000000001E-4,1.34E-4,1.6800000000000002E-4,3.7599999999999998E-4,7.6400000000000003E-4,5.9999999999999995E-4,7.3899999999999997E-4,9.2299999999999999E-4,5.6599999999999999E-4,7.0599999999999992E-4,3.1599999999999998E-4,3.3199999999999999E-4,5.4700000000000007E-4,1.54E-4,8.5999999999999976E-5,1.8699999999999999E-4,6.8300000000000001E-4,7.1099999999999994E-4,5.5700000000000009E-4,5.5200000000000008E-4,7.4600000000000003E-4,4.3599999999999997E-4,3.0899999999999998E-4,2.9700000000000001E-4,1.6900000000000002E-4,2.1599999999999999E-4,1.3000000000000002E-4,1.5300000000000001E-4,"-","-","-"]
[null,null,"Balboa-Alqueva",0,0,0,0,0,0,0,0,0,0,0,0,0,0,0,0,0,0,0,0,0,0,0,0,0,0,0,0,0,0,0,0,0,0,0,0,0,0,0,0,0,0,0,0,0,0,0,0,0,0,0,0,0,0,0,0,0,0,0,0,0,0,0,0,0,0,0,0,0,0,0,0,0,0,0,0,0,0,0,0,0,0,0,0,0,0,0,0,0,0,0,0,0,0,0,0,0,0,0,0,0,0,0,0,0,0,0,0,0,0,0,0,0,0,0,0,0,0,0,0,0,0,0,0,0,0,0,0,0,0,0,0,0,0,0,0,0,0,0,0,0,0,0,0,0,0,0,0,0,0,0,0,0,0,0,0,0,0,0,0,0,0,0,0,0,0,0,0,0,0,0,0,0,0,0,0,0,0,0,0,3.7079000000000001E-2,0.63944199999999995,0.68446400000000007,7.8430469999999994,1.5215619999999999,7.4580570000000002,4.7901610000000003,5.7800959999999995,3.1947559999999999,0.93624800000000008,0.72796700000000003,0.19525000000000001,5.1428479999999999,1.90978,8.7355750000000008,3.2940659999999999,9.8209400000000002,9.4431600000000007,6.6720860000000002,1.029488,47.285536999999998,6.9373130000000005,1.984124,0,0,0,0,0,0,0,0,0,0,0,0,0,0,0,0,0,0,0,0,0,0,0,0,0,0,0,0,0,0,0,0,0,0,0,0,0,0,0,0,0,0,0,0,0,0,0,0,0,0,0,0,0,0,0,0,0,0,0,0,0,0,0,0,0,0,0,0,0,0,0,0,0,0,0,0,0,0,0,0,0,0,0,0,0,0,0,0,0,0,0,0,0,0,0,0,0,0,0,0,0,0,0,0,0,0,0,0,0,0,0,0,0,0,0,0,0,0,0,0,0,0,0,0,0,0,0,0,0,0,"-","-","-"]
[null,null,"Brovales-Alqueva",0,0,0,0,0,0,0,0,0,0,0,0,0,0,0,0,0,0,0,0,0,0,0,0,0,0,0,0,0,0,0,0,0,0,0,0,0,0,0,0,0,0,0,0,0,0,0,0,0,0,0,0,0,0,0,0,0,0,0,0,0,0,0,0,0,0,0,0,0,0,0,0,0,0,0,0,0,0,0,0,0,0,0,0,0,0,0,0,0,0,0,0,0,0,0,0,0,0,0,0,0,0,0,0,0,0,0,0,0,0,0,0,0,0,0,0,0,0,0,0,0,0,0,0,0,0,0,0,0,0,0,0,0,0,0,0,0,0,0,0,0,0,0,0,0,0,0,0,0,0,0,0,0,0,0,0,0,0,0,0,0,0,0,0,0,0,0,0,0,0,0,0,0,0,0,0,0,0,0,0,0,0,0,0,0,0,0,0,0,0,0,0,0,0,0,0,0,0,0,0,0,0,0,0,1.2789889999999999,3.3706329999999998,2.1156260000000002,46.698733999999995,30.814494999999997,42.620341000000003,19.968903999999998,0.59355100000000005,3.4133299999999998,57.755974999999999,52.897418999999999,11.419615,12.457584000000001,23.46903,31.392039,116.76322599999999,114.202763,128.785212,62.333571999999997,41.248178999999993,23.277228999999998,29.672280999999998,5.9968659999999998,11.323056000000001,21.092794000000001,9.7267379999999992,17.467523,16.138674000000002,7.213724,8.3350429999999989,17.963312999999999,10.239606999999999,12.710280000000001,12.578147000000001,16.842777999999999,11.850299999999999,12.909705000000001,38.567667,26.690909999999999,39.152709000000002,98.435389999999998,92.901062999999994,85.740085999999991,35.613413999999999,55.614089999999997,93.317231000000007,41.317450999999998,6.9853639999999997,48.155524,28.026059,38.581603999999999,76.988882000000004,34.161906999999999,24.224741000000002,15.334822000000001,6.010599,20.793478,12.848462999999999,25.103321000000001,15.516188,25.903642000000001,8.1785720000000008,26.179793,55.518616000000002,26.421814999999999,12.906976,14.00418,4.5001629999999997,15.011115999999999,43.789718999999998,14.387429000000001,19.170631,16.597832999999998,14.867993,10.719526,13.870426999999999,19.636029999999998,40.636286999999996,25.752072999999999,15.218912,31.147235000000002,42.932750999999996,15.382117000000001,23.843143999999999,16.354624999999999,10.494446,30.392309000000001,67.921317000000002,25.83475,10.612619,8.5672320000000006,10.569745000000001,24.625812000000003,33.122433999999998,23.750966000000002,38.461134999999999,42.09451,43.168491000000003,39.868370000000006,42.592400000000005,25.839740000000003,13.86825,11.137722,29.190574999999999,25.327214000000001,10.170058999999998,26.917134999999998,23.081143000000001,15.733233,19.979133999999998,35.827331000000001,40.819858000000004,54.183312000000001,6.9373440000000004,17.899419000000002,11.816146,6.8032579999999996,16.406262999999999,8.0385000000000009,11.861281999999999,15.310615,13.188651999999999,21.141722000000001,32.871292000000004,13.767798000000001,0.97953699999999999,3.26742,7.6849610000000004,21.207592000000002,"-","-","-"]
[null,null,"Cartelle-Lindoso",0,0,0,0,0,0,0,0,0,0,0,0,0,0,0,0,0,0,0,0,0,0,0,0,0,0,0,0,0,0,0,0,0,0,0,0,0,0,0,0,0,0,0,0,0,0,0,0,0,0,0,0,0,0,0,0,0,0,0,0,0,0,0,0,0,0,0,0,0,0,0,18.440000000000001,20.8,53.96,177.9,135.4,83.64,204.4,272.76,255.2,240.26900000000001,266.3,304.58,175.92,56.12,127.56,344.62,396.22,346.04,324.2,411.2,412.32,337.25599999999997,307.33999999999997,123.58,136.58000000000001,91.92,95.76,207.3,248.3,296.42,235.38,274.04000000000002,196.88,310.89999999999998,286.33999999999997,308.33999999999997,364.5,364.82,300.52,322.32,218.97800000000001,137.47999999999999,184.46,327.45999999999998,123.62,345.82,238.8,204.886,277.84300000000002,278.61799999999999,209.291,275.245,294.39100000000002,308.32900000000001,359.18299999999999,371.86700000000002,389.899,337.267,325.84199999999998,397.4666636825234,247.23699999999999,142.79933657116567,137.779,98.778000000000006,160.71100000000001,216.2,284.161,362.50200000000001,0,395.81599999999997,330.66800000000001,286.21300000000002,265.18299999999999,313.70640421810731,330.43979673881023,323.52928046124134,338.07527958214416,409.7727565199736,302.36641460666203,321.53858299097686,347.17320293938974,309.51,350.81799999999998,459.661,467.74237706469552,377.73166590699878,352.43703682690477,293.25301833480705,339.17767513202676,492.03953944367061,410.70458981902738,481.15814447478101,427.64410796015591,427.02800000000002,431.96600000000001,383.20299999999997,389.89699999999999,607.60850000000005,500.54820000000001,553.47540000000004,626.42930000000001,590.56209999999999,552.29730000000006,602.45669999999996,563.11449300000004,435.42040000000003,558.84139999999991,449.13779999999997,492.20190000000002,706.75530000000003,508.47519999999997,532.35480000000007,488.77909999999997,537.42610000000002,461.43459999999999,543.80180000000007,189.95750000000001,540.43550000000005,638.18830000000003,660.00750000000005,711.14880000000005,645.88519999999994,594.43110000000001,686.15919999999994,403.1943,507.3254,504.36340000000001,524.32359999999994,431.9563,466.8426,603.67469999999992,438.87209999999999,313.60379999999998,542.68040000000008,620.54039999999998,629.99699999999996,467.8184,565.99469999999997,438.96080000000001,518.54669999999999,627.77230000000009,594.08030000000008,466.39469999999994,560.56050000000005,536.34739999999999,590.26840000000004,492.15040000000005,570.87189999999987,503.23740000000004,366.18150000000003,431.0899,504.1336,420.51340000000005,464.44109999999995,487.0958,708.24689999999998,801.57240000000002,636.34609999999998,353.60159999999996,340.76529999999997,416.94328000000002,491.10059999999999,552.92919999999992,563.12950000000001,286.28519999999997,311.5634,359.65919999999994,504.74770000000001,365.02659999999997,289.48990000000003,253.67570000000001,220.66390000000001,155.28029999999998,69.386300000000006,182.3246,395.92129999999997,419.2525,250.98650000000001,246.9999,230.9212,157.54320000000001,242.54740000000001,169.268,322.05790000000002,328.73329999999999,197.6832,237.81070000000003,417.98809999999997,371.75940000000003,394.48030000000006,344.0496,304.92200000000003,440.5711,640.20040000000006,641.18709999999999,564.82439999999997,485.23940000000005,681.16219999999998,699.90660000000014,552.0313000000001,529.38900000000001,566.13569999999993,475.06829999999997,445.65959999999995,764.28919999999994,520.11570000000006,383.65259999999995,191.83320000000001,169.00620000000001,325.5018,397.47809999999998,735.95219999999995,605.68419999999992,553.32259999999997,530.86139999999989,431.55270000000002,672.62519999999995,365.07630000000006,122.8724,126.143,162.87720000000002,367.52090000000004,518.07770000000005,647.68909999999994,586.95899999999995,531.10719999999992,417.45850000000002,376.40190000000001,468.33640000000003,597.44330000000002,397.29909999999995,400.17240000000004,307.81259999999997,339.06700000000001,489.3972,589.9067,444.20170000000002,361.36500000000001,315.99740000000003,427.08919999999995,680.49189999999999,350.01549999999997,207.51340000000002,320.48839999999996,96.911599999999993,45.858699999999999,139.0489,364.57500000000005,261.10559999999998,284.63749999999999,380.6481,370.06979999999999,400.63679999999999,408.19929999999999,210.8485,207.4255,184.17610000000002,281.60629999999998,329.8777,291.93990000000002,105.1431,233.9941,"-","-","-"]
[null,null,"Cedillo-Falagueira",139.11699999999999,109.29900000000001,17.548999999999999,2.7160000000000002,2.7250000000000001,0.438,0.153,3.75,0.105,0.28599999999999998,6.6429999999999998,2.8109999999999999,10.821999999999999,0.73,103.911,56.359000000000002,5.3179999999999996,1.222,1.349,0.94499999999999995,4.0149999999999997,2.0630000000000002,4.8000000000000001E-2,2.6520000000000001,0.88100000000000001,16.792000000000002,17.998000000000001,1.46,10.015000000000001,8.8010000000000002,31.105,0.17499999999999999,2.7E-2,1.0389999999999999,1.4999999999999999E-2,3.4740000000000002,0.26,0,0,0.19900000000000001,1.72,4.4999999999999998E-2,5.8000000000000003E-2,1.0999999999999999E-2,1E-3,58.826000000000001,227.16,17.960999999999999,37.286000000000001,8.2490000000000006,22.512,33.771999999999998,61.720999999999997,15.052,2.82,0.871,0.84,0.80500000000000005,7.7389999999999999,0.51600000000000001,13.217000000000001,47.249000000000002,3.2589999999999999,0.46,3.5000000000000003E-2,0,4.4999999999999998E-2,1.0999999999999999E-2,0,0,0.65,51.195,242.78899999999999,194.24100000000001,16.707000000000001,53.83,63.283000000000001,0.112,1.9E-2,0,2.1999999999999999E-2,0.191,0.223,136.233,204.47300000000001,46.53,3.7210000000000001,0.159,6.6059999999999999,6.7530000000000001,1.571,11.603999999999999,3.6269999999999998,0.1,107.878,154.899,179.07400000000001,111.20399999999999,1.94,1.988,1.641,6.9930000000000003,0.32500000000000001,0,0,0,0,0,0,0,0,0,0.29699999999999999,2.9449999999999998,0,0.63400000000000001,0,4.7859999999999996,1.7,0,0.313,5.8999999999999997E-2,8.5999999999999993E-2,3.5000000000000003E-2,0.78600000000000003,1.0840000000000001,0.5,1.409,0.27100000000000002,1.7999999999999999E-2,0,45.49,76.946509943542182,41.878999999999998,53.796999999999997,17.123000000000001,0.46800000000000003,0.48499999999999999,1.0999999999999999E-2,10.637,0,0.16700000000000001,0.36399999999999999,0,0,0,0,0,0,10.343488505528125,0,1.011104387529149,0.107,5.9669999999999996,3.3069999999999999,105.89544280931734,65.00412609146403,8.2331510523804887,41.369024195829503,12.607970585612017,1.1012545671087426,0.15924995110880921,0.13900192571488867,11.894062278042442,0.11899999999999999,3.0009999999999999,4.0179999999999998,29.032,2.717784,43.015464000000001,25.616123999999999,68.190336000000002,14.524956,7.9577999999999998,2.0450520000000001,5.870628,6.1712639999999999,8.4776759999999989,2.3277959999999998,3.8000160000000003,8.208791999999999,6.1455600000000006,18.120132000000002,5.550624,7.1252640000000005,13.927247999999999,8.9418600000000001,31.822704000000002,24.402995999999998,41.391108000000003,7.9462799999999998,3.9795120000000002,22.290731999999998,8.7212880000000013,13.990031999999999,19.788803999999999,12.417368,34.071300000000001,7.8505559999999992,0.66167999999999993,14.997995999999999,7.493328,20.127596,20.00122,32.471299999999999,99.052800000000005,92.044200000000004,38.716500000000003,23.3551,30.396599999999999,13.705399999999999,0,80.843000000000004,174.24329999999998,51.162300000000002,52.540800000000004,48.014800000000001,86.715299999999999,162.78829999999999,151.8904,187.51139999999998,136.09909999999999,53.727599999999995,60.442300000000003,68.683800000000005,84.6096,53.3767,31.995900000000002,42.644199999999998,41.664999999999999,59.432000000000002,76.07119999999999,51.4178,38.780300000000004,41.149300000000004,76.361100000000008,55.364400000000003,79.352399999999989,31.2178,5.6823000000000006,30.4803,109.57299999999999,121.4628,105.62910000000001,153.89160000000001,180.5059,89.5077,83.761099999999999,171.51510000000002,203.29470000000001,98.479399999999998,28.979400000000002,99.545000000000002,20.889900000000001,52.552500000000002,137.73770000000002,42.854399999999998,88.869199999999992,43.555599999999998,30.479200000000002,56.626300000000001,36.990300000000005,55.850499999999997,67.140899999999988,56.296599999999998,26.1252,79.5184,123.596,43.512699999999995,13.5442,31.095500000000001,14.058299999999999,29.262400000000003,112.0913,24.014599999999998,27.0929,9.7068999999999992,17.5702,44.403700000000001,57.596199999999996,57.821199999999997,84.350300000000004,98.337100000000007,36.897500000000001,75.12660000000001,81.025999999999996,46.606900000000003,12.6616,3.7290999999999999,50.357800000000005,59.644199999999998,109.55110000000001,81.376499999999993,39.704099999999997,55.3949,36.379300000000001,28.0261,66.476300000000009,18.323499999999999,23.054599999999997,44.6663,14.478,28.2622,71.87530000000001,34.3202,21.0853,2.2406999999999999,22.7379,33.164699999999996,6.4856999999999996,18.1981,20.7593,5.2303999999999995,1.7405999999999999,19.499299999999998,16.923299999999998,68.823499999999996,20.888400000000001,14.386200000000001,12.317399999999999,12.2225,12.68,6.2119999999999997,9.6306000000000012,12.1561,5.2021999999999995,28.833599999999997,67.023200000000003,25.828700000000001,0,0,0,6.8301000000000007,"-","-","-"]
[null,null,"Conchas-Lindoso",4.3499999999999996,0,0,0,0,1.1000000000000001,0,0,0,0,0,0,0,0,8.25,0,0,0,1.74,0.88,0,0,0,0,0,0,0,0,0,0,0,0,0,0,0,0,0,0,0,0,0,0,0,0,0,0,0,0,0,0,0,0,0,0,0,0,0,0,0,0,0,0,0,0,0,0,0,0,0,0,2.1,0,0,0,0,0,0,0,0,0,0,0,0,0,0,0,0,0,0,0,0,1.6,3.78,0,0,1.5,0.04,0.2,2.4700000000000002,0.01,0,0,0,0,0,0,0.04,0,0,0,0,0,2E-3,1E-3,0,0,1.2E-2,0,0,0,0,0,0,0,0,1.7999999999999999E-2,0,0,0,0,0,0,0,0,0,0,0,0,0,303.38600000000002,0,0,0,0,0,0,0,0,0,0,0,0,0,0,0,0,0,0,0,1.0028611665297501E-2,0,0,0,0,0,0,0,0,0,0,0,0,0,0,0,0,0,0,0,0,0,0,0,0,0,0,0,0,0,0,0,0,0,0,0,0,0,0,0,0,0,0,0,0,0,0,0,0,0,0,0,0,0,0,0,0,0,0,0,0,0,0,0,0,0,0,0,0,0,0,0,0,0,0,0,0,0,0,0,0,0,0,0,0,0,0,0,0,0,0,0,0,0,0,0,0,0,0,0,0,0,0,0,0,0,0,0,0,0,0,0,0,0,0,0,0,0,0,0,0,0,0,0,0,0,0,0,0,0,0,0,0,0,0,0,0,0,0,0,0,0,0,0,0,0,0,0,0,0,0,0,0,0,0,0,0,0,0,0,0,0,0,0,0,0,0,0,0,0,0,0,0,0,"-","-","-"]
[null,null,"Encinasola-Barrancos",0,0,0,0,0,0,0,0,0,0,0,0,0,0,0,0,0,0,0,0,0,0,0,0,0,0,0,0,0,0,0,0,0,0,0,0,0,0,0,0,0,0,0,0,0,0,0,0,0,0,0,0,0,0,0,0,0,0,0,0,0,0,0,0,0,0,0,0,0,0,0,0,0,0,0,0,0,0,0,0,0,0,0,0,0,0,0,0,0,0,0,0.14499999999999999,0.14199999999999999,0.161,0.14199999999999999,0.20499999999999999,0.20599999999999999,0.18099999999999999,0.153,0.151,0.13700000000000001,6.8000000000000005E-2,0.19400000000000001,0.16,3.7999999999999999E-2,0.189,0.20300000000000001,0.23499999999999999,0.215,0.21299999999999999,0.21199999999999999,0.19700000000000001,0.20399999999999999,0.216,0.221,0.189,0.19900000000000001,0.216,0.24299999999999999,0.26600000000000001,0.28299999999999997,0.19700000000000001,0.01,5.3999999999999999E-2,4.9000000000000002E-2,0.15,0.151,0,0.216,0.23699999999999999,0.2225932585195998,0.156,0,0.153,1.2E-2,0.16400000000000001,0.23300000000000001,0.251,0.20499999999999999,8.4000000000000005E-2,0.19700000000000001,0.183,0.254,0.16200000000000001,0,0,0,0,0,0,0,0,0.111,0,0,0,1.0194966529926447E-3,0,0,0,8.0091241244272197E-3,0,0,0,0.19800000000000001,9.9000000000000005E-2,0,0,0,1.3269E-2,0,0,0,0,2.16E-3,0,0,0,0,0,0,0,0,0,0,0,0,0,0,0,0,0,0,4.9899999999999999E-4,4.6310000000000006E-3,0,0,0,0,0,9.9999999999999995E-7,0,0,1.5580999999999999E-2,0,1.5893999999999998E-2,0,0,0,0,0,0,5.8370000000000002E-3,0,0,0,3.4200000000000002E-4,0,1.1339E-2,0,0,0,0,0,9.9999999999999995E-7,0,0,0,0,0,1.2980000000000001E-3,9.9860000000000001E-3,0,3.48E-4,0,0,1.9999999999999999E-6,1.7561E-2,0,0,0,0,0,0,0,0,0,0,0,0,0,0,0,0,0,0,0,0,0,0,0,0,0,0,0,0,0,0,0,0,0,0,0,0,0,0,0,0,0,0,0,0,0,0,0,0,0,0,0,0,0,0,0,0,0,0,0,0,0,0,0,0,0,0,0,0,0,0,0,0,0,0,0,0,0,0,0,0,0,0,0,0,0,0,0,0,0,0,0,0,0,0,0,"-","-","-"]
[null,null,"Puebla de Guzmán-Tavira",0,0,0,0,0,0,0,0,0,0,0,0,0,0,0,0,0,0,0,0,0,0,0,0,0,0,0,0,0,0,0,0,0,0,0,0,0,0,0,0,0,0,0,0,0,0,0,0,0,0,0,0,0,0,0,0,0,0,0,0,0,0,0,0,0,0,0,0,0,0,0,0,0,0,0,0,0,0,0,0,0,0,0,0,0,0,0,0,0,0,0,0,0,0,0,0,0,0,0,0,0,0,0,0,0,0,0,0,0,0,0,0,0,0,0,0,0,0,0,0,0,0,0,0,0,0,0,0,0,0,0,0,0,0,0,0,0,0,0,0,0,0,0,0,0,0,0,0,0,0,0,0,0,0,0,0,0,0,0,0,0,0,0,0,0,0,0,0,0,0,0,0,0,0,0,0,0,0,0,0,0,0,0,0,0,0,0,0,0,0,0,0,0,0,0,0,0,0,0,0,0,0,0,0,0,0,0,0,0,0,0,0,0,0,0,0,0,0,0,0,0,0,0,0,0,0,0,0,0,0,0,0,0,0,0,0,0,0,0,0,0,0,0,0,0,0,0,0,0,0,0,0,0,0,0,0,0,0,0,0,0,0,0,0,0,0,0,0,0,0,0,0,0,0,0,0,0,0,0,0,0,0,0,0,0,0,0,0,0,0,0,0,3.4409999999999996E-2,1.818549,1.9489069999999999,2.633127,0.85652899999999998,4.2390600000000003,0.40386,3.018561,2.3990629999999999,4.4738410000000002,8.261614999999999,19.069789,5.2473179999999999,4.920642,0.5534690000000001,6.3407740000000006,8.1173599999999997,0.19686699999999999,4.6062610000000008,2.522678,0.93906400000000001,1.128741,2.7238789999999997,3.2707220000000001,9.2062299999999997,1.3267760000000002,2.9854520000000004,1.9833640000000001,2.6743260000000002,1.333477,0.13030600000000001,0.42098399999999997,0.25119800000000003,1.621864,2.76431,5.5565530000000001,3.5266599999999997,0.15645400000000001,2.1413180000000001,1.2183269999999999,5.3556930000000005,"-","-","-"]
[null,null,"Rosal Frontera-V. Ficalho",0,0,0,0,0,0,0,0,0,0,0,0,0,0,0,0,0,0,0,0,0,0,0,0,0,0,0,0,0,0,0,0,0,0,0,0,0,0,0,0,0,0,0,0,0,0,0,0,0,0,0,0,0,0,0,0,0,0,0,0,0,0,0,0,0,0,0,0,0,0,0,0,0,0,0,0,0,0,0,0,0,0,0,0,0,0,0,0,0,0,0,0,0,0,0,1E-3,0,3.0000000000000001E-3,2E-3,0,2E-3,8.0000000000000002E-3,4.0000000000000001E-3,2E-3,6.0000000000000001E-3,0,0,1E-3,0,1E-3,1E-3,1E-3,1E-3,1E-3,4.0000000000000001E-3,3.0000000000000001E-3,2E-3,0,0,0,0,0,0,0,0,0,0,1E-3,0,0,0,0,0,0,0,0,2E-3,0,0,0,0,0,0,1E-3,0,0,0,0,0,0,0,0,0,0,0,0,0,0,0,0,0,0,0,0,1E-3,0,0,0,0,0,0,0,0,0,0,0,0,0,0,0,0,0,0,0,0,0,0,0,0,0,0,0,0,0,0,0,0,0,0,0,0,0,0,0,0,0,0,0,0,0,0,0,0,0,0,0,0,0,0,0,0,0,0,0,0,0,0,0,0,0,0,0,0,0,0,0,0,0,0,0,0,0,0,0,0,0,0,0,0,0,0,0,0,0,0,0,0,0,0,0,0,0,0,0,0,0,0,0,0,0,0,0,0,0,0,0,0,0,0,0,0,0,0,0,0,0,0,0,0,0,0,0,0,0,0,0,0,0,0,0,0,0,0,0,0,0,0,0,0,0,0,0,0,0,0,0,0,0,0,0,0,0,0,0,0,0,0,0,0,0,0,0,0,"-","-","-"]
[null,null,"Saucelle-Pocinho",19.16,25.475000000000001,58.668999999999997,50.05,48.512,59.673000000000002,69.673000000000002,55.314999999999998,68.403999999999996,65.47,38.213999999999999,68.128,63.814,56.695999999999998,35.932000000000002,31.451000000000001,49.606000000000002,45.975000000000001,69.551000000000002,46.774999999999999,62.83,64.643000000000001,57.34,60.841999999999999,80.129000000000005,111.619,107.71899999999999,57.4,76.994,65.679000000000002,98.918999999999997,47.243000000000002,48.143999999999998,53.975000000000001,60.7,52.850999999999999,64.084999999999994,59.311999999999998,77.828999999999994,76.742000000000004,47.561,46.686,55.533000000000001,25.959,0.94799999999999995,40.652999999999999,13.571999999999999,57.622,60.459000000000003,58.808,51.646000000000001,41.524000000000001,32.542999999999999,38.301000000000002,104.983,114.797,98.733000000000004,74.457999999999998,64.704999999999998,89.081999999999994,74.200999999999993,53.051000000000002,86.143000000000001,91.396000000000001,79.894999999999996,63.667000000000002,114.343,97.161000000000001,103.401,78.024000000000001,58.970999999999997,53.886000000000003,4.1420000000000003,2.2029999999999998,8.827,8.27,9.3780000000000001,44.003999999999998,53.927999999999997,53.268999999999998,79.77,99.820999999999998,88.688999999999993,44.05,7.0220000000000002,31.443000000000001,70.899000000000001,101.907,96.183000000000007,57.94,82.887,57.883000000000003,64.671999999999997,47.051000000000002,5.8920000000000003,4.8339999999999996,1.611,5.2759999999999998,18.631,6.4450000000000003,29.513999999999999,19.835000000000001,46.319000000000003,52.095999999999997,57.908999999999999,41.258000000000003,37.177,35.975999999999999,34.523000000000003,23.419,27.207999999999998,4.0659999999999998,1.609,10.083,32.295999999999999,5.7709999999999999,53.180999999999997,19.542000000000002,8.0069999999999997,19.824999999999999,23.524999999999999,25.448,49.344000000000001,15.881,10.430999999999999,43.366,43.8,10.839,0,0,0,1E-3,4.6544155648146956,12.847,28.402000000000001,2.5999999999999999E-2,10.917,21.123000000000001,29.161999999999999,23.038,41.195999999999998,16.885999999999999,19.812000000000001,34.566000000000003,27.281332299034503,26.372044707064756,35.795340350758998,15.341175671698611,26.297431545137613,27.004980244641992,29.47300332431271,41.544377206012037,49.591999999999999,45.262,23.308,21.822197368611015,8.0927644314556133,25.883371880434392,32.213452914329693,41.42919765051051,54.737357687882273,29.920377177807055,44.868828749868101,53.142092247726289,81.674000000000007,59.76,11.568,23.314,43.304036000000004,44.001048000000004,62.685288,63.357552000000005,74.854092000000009,76.343772000000001,80.789820000000006,69.757704000000004,64.013986000000003,73.614312000000012,67.189331999999993,70.101174,86.558139999999995,68.904600000000002,76.718686000000005,80.080240000000003,69.979763999999989,77.964460000000003,81.390059999999991,156.17839999999998,105.2405,94.577995999999999,93.288499999999999,78.389499999999998,91.787846000000002,75.818855999999997,51.273156,53.295983999999997,81.646967999999987,100.69945200000001,89.476043999999987,78.516876000000011,102.04358000000001,64.811700000000002,19.196999999999999,7.7160000000000002,49.280099999999997,28.381,58.153700000000001,68.578600000000009,66.021299999999997,48.409699999999994,80.526200000000003,97.164100000000005,99.231200000000001,92.667600000000007,86.025000000000006,104.1892,87.2239,88.2637,107.79430000000001,78.333500000000001,87.037499999999994,79.74430000000001,70.201999999999998,64.246800000000007,82.153399999999991,90.187699999999992,96.722100000000012,89.452300000000008,52.687899999999999,36.173000000000002,59.593699999999998,90.980800000000002,7.2946999999999997,39.122800000000005,49.400800000000004,70.140299999999996,43.989800000000002,51.3536,47.392199999999995,17.811900000000001,3.1036999999999999,12.1435,15.9274,22.4267,19.824000000000002,41.109499999999997,54.159599999999998,65.719300000000004,66.236500000000007,57.714700000000001,38.337199999999996,11.839,51.031300000000002,31.4665,14.125629999999999,31.601900000000001,37.9895,47.608400000000003,45.039300000000004,13.26336,54.670300000000005,59.624699999999997,50.568100000000001,58.407899999999998,68.217100000000002,59.913400000000003,64.607399999999998,47.070699999999995,56.543399999999998,63.109400000000001,50.455800000000004,44.189699999999995,50.950400000000002,65.936399999999992,42.476399999999998,52.060499999999998,24.565999999999999,25.2089,7.6178999999999997,11.224500000000001,48.324300000000001,47.051699999999997,69.757000000000005,59.724599999999995,60.040500000000002,57.641800000000003,43.911099999999998,41.963900000000002,8.3003999999999998,20.016200000000001,41.963200000000001,55.532220000000002,44.926400000000001,60.073599999999999,60.535699999999999,49.427,69.218999999999994,51.860500000000002,19.178999999999998,48.717400000000005,60.985500000000002,27.1737,52.753300000000003,57.704800000000006,51.025400000000005,58.985399999999998,57.887099999999997,54.276400000000002,43.994300000000003,25.6447,49.327100000000002,45.456499999999998,14.0144,13.3232,27.051200000000001,18.4986,16.996599999999997,21.803099999999997,34.056100000000001,35.581699999999998,30.881499999999999,45.674500000000002,28.111499999999999,31.4193,43.3523,13.156600000000001,36.163199999999996,30.188299999999998,28.215299999999999,17.347200000000001,9.789200000000001,7.3286000000000007,15.7563,"-","-","-"]
[null,null,"Santa María-Elvás",0,0,0,0,0,0,0,0,0,0,0,0,0,0,0,0,0,0,0,0,0,0,0,0,0,0,0,0,0,0,0,0,0,0,0,3.052,7.5519999999999996,5.8780000000000001,6.15,5.5670000000000002,5.3230000000000004,6.13,8.1920000000000002,7.9550000000000001,7.71,6.1390000000000002,6.4630000000000001,7.6020000000000003,7.95,7.3680000000000003,5.8680000000000003,6.3129999999999997,4.407,6.585,7.0119999999999996,6.694,6.3840000000000003,5.6390000000000002,5.69,6.758,7.84,7.3890000000000002,8.0649999999999995,6.2939999999999996,6.8150000000000004,6.6859999999999999,2.2959999999999998,5.7839999999999998,8.3960000000000008,7.8879999999999999,6.9770000000000003,7.734,7.7709999999999999,7.2969999999999997,7.0410000000000004,6.4459999999999997,6.3129999999999997,6.8239999999999998,8.7769999999999992,10.159000000000001,8.7940000000000005,7.4009999999999998,7.1529999999999996,9.7319999999999993,8.2729999999999997,6.6360000000000001,7.4020000000000001,7.26,6.91,7.8470000000000004,9.6880000000000006,9.1430000000000007,8.1940000000000008,7.1310000000000002,7.1820000000000004,8.6809999999999992,9.3800000000000008,7.4470000000000001,5.4109999999999996,6.5119999999999996,7.2089999999999996,7.3929999999999998,10.228,10.164,8.3510000000000009,7.3849999999999998,7.7220000000000004,9.9350000000000005,10.442,8.8219999999999992,8.2780000000000005,7.8339999999999996,7.7009999999999996,8.9849999999999994,11.121,9.6370000000000005,7.5339999999999998,7.62,8.6080000000000005,10.119,9.1950000000000003,8.6609999999999996,8.4700000000000006,8.1310000000000002,7.8049999999999997,8.9770000000000003,10.105,10.11,8.782,8.1039999999999992,9.5156029723425206,10.682,9.7857387632598485,4.6719999999999997,7.4119999999999999,8.0950000000000006,8.9190000000000005,8.9480000000000004,10.83,11.999000000000001,9.7319999999999993,9.2469999999999999,9.7880000000000003,11.952999999999999,0,0,0,8.7793955751997341,0.59362606866222278,0,0,0,9.2579999999999991,8.8379999999999992,10.026,10.258066596406463,2.5324296860337294,0,8.777556784388274,7.2035517591831955,7.59164852944145,0,0,0,10.36,9.2449999999999992,10.025,12.015000000000001,13.596868000000001,11.777882,10.978892,7.3377460000000001,4.048743,6.4785879999999993,5.2511289999999997,5.0134270000000001,5.0469399999999993,4.84117,5.2453159999999999,0.80470600000000003,0,0,0,0,0,0,0,0,0,0,0,0,0,0,0,0,0,0,0,0,0,0,0,0,0,0,0,0,0,0,0,0,0,0,0,0,0,0,0,0,0,0,0,0,0,0,0,0,0,0,0,0,0,0,0,0,0,0,0,0,0,0,0,0,0,0,0,0,0,0,0,0,0,0,0,0,0,0,0,0,0,0,0,0,0,0,0,0,0,0,0,0,0,0,0,0,0,0,0,0,0,0,0,0,0,0,0,0,0,0,0,0,0,0,0,0,0,0,0,0,0,0,0,0,0,0,0,0,0,0,0,0,0,0,0,0,0,0,0,0,0,0,0,0,0,0,0,0,0,0,0,0,0,"-","-","-"]
[null,null,"Total",{"$f":"SUM(D60:D73)","v":177.31199999999998},{"$f":"SUM(E60:E73)","v":150.96600000000001},132.536,117.11599999999999,121.12299999999999,149.56299999999999,161.68099999999998,136.197,159.18700000000001,155.01400000000001,104.654,167.92199999999997,151.42600000000002,128.21899999999999,169.21300000000002,104.06299999999999,110.021,106.212,177.93400000000003,136.08099999999999,195.99699999999996,152.005,133.94400000000002,147.178,205.59000000000003,332.75099999999998,326.37599999999998,151.935,244.72299999999998,213.70999999999998,329.89499999999998,138.524,147.08699999999999,155.08500000000001,154.41900000000001,138.47400000000002,181.16299999999998,169.25200000000001,221.79299999999998,238.07600000000002,149.97200000000001,116.185,161.96300000000002,156.88500000000002,121.93699999999998,148.41300000000001,263.44200000000001,148.446,163.06,126.351,138.93399999999997,132.28899999999999,141.65600000000001,104.57299999999999,279.05599999999998,311.21100000000001,255.81700000000001,214.60000000000002,164.69900000000001,223.52099999999999,188.67,169.19900000000001,210.39800000000002,216.39700000000002,210.37899999999996,{"$f":"SUM(BQ60:BQ73)","v":221.18800000000002},261.42699999999996,287.18100000000004,304.95400000000001,223.15200000000002,156.56700000000001,205.64699999999999,279.84699999999998,258.072,215.637,207.59800000000001,170.92399999999998,299.41300000000001,399.78,389.25,441.48999999999995,532.36699999999996,508.64,412.75800000000004,279.55400000000003,235.571,494.93200000000002,635.03700000000003,612.47199999999998,468.04199999999997,620.93799999999999,615.88200000000006,449.87999999999994,410.21699999999998,247.82899999999998,307.28699999999998,282.32100000000003,223.624,246.41400000000002,264.601,344.81300000000005,283.46699999999993,375.32200000000006,310.30799999999999,432.36099999999993,365.61199999999997,378.71199999999999,463.27799999999996,464.69900000000001,369.62599999999998,391.29599999999994,234.07300000000004,149.03700000000001,211.49700000000001,398.65199999999999,149.30199999999996,433.22699999999998,278.56600000000003,227.58599999999998,320.53399999999999,333.80699999999996,276.15699999999998,396.46200000000005,332.62400000000002,336.51099999999997,463.91599999999988,488.92400000000004,532.43299999999999,433.74900000000002,{"$f":"SUM(EC60:EC73)","v":371.40499999999997},426.9670000000001,304.57900000000001,235.98099999999999,204.94599999999997,207.60299999999998,186.119,243.583,337.62699999999995,437.84100000000001,367.28400000000005,481.19899999999996,371.61099999999999,328.26800000000003,340.72599999999989,360.79500000000002,361.95599999999996,365.64699999999993,370.63699999999994,470.59300000000002,376.512,410.52699999999999,510.86799999999994,449.09199999999998,492.56099999999998,534.58399999999995,624.86300000000006,456.29000000000008,399.29399999999993,393.47899999999998,427.26900000000001,595.14600000000007,481.18199999999996,602.20399999999995,575.27,553.90899999999999,532.04200000000003,415.3429999999999,466.73899999999998,702.95664800000009,630.02164299999993,711.76558399999999,830.33945400000005,758.30177099999992,739.50060000000008,810.21734099999992,736.39441199999999,605.31632999999999,732.11231799999996,600.56080400000008,673.36447600000008,958.94832600000007,695.54495999999995,754.20882500000016,693.04134399999998,726.20042600000011,691.50441599999999,794.04893400000003,673.04964300000006,873.61773100000016,939.64244200000007,905.21375200000011,924.66406700000005,928.81734000000006,{"$f":"SUM(GO60:GO73)","v":818.68066699999997},837.50404300000002,550.10405300000002,739.62825000000009,823.63151399999992,788.31785099999991,656.15819700000009,820.23257999999998,794.5866769999999,513.79537699999992,361.87941499999999,704.77335000000005,798.26380400000005,844.32952899999998,706.819706,760.33845699999995,621.50719700000002,752.70360600000004,862.36822500000005,929.68622800000003,919.5565069999999,872.18756399999995,876.98016199999995,894.61541700000009,859.26318499999991,1079.7120059999997,960.17653199999995,853.77281400000004,871.16204199999993,810.85020000000009,711.59480500000018,758.87432200000001,834.21859199999994,1045.930357,1072.4652840000001,837.19516199999998,486.20336299999997,557.52715799999999,743.97168600000009,710.81099200000006,756.66356399999995,753.91924100000006,574.06039599999997,498.62005099999999,595.14580000000001,666.908546,428.14354199999997,354.67653300000001,432.92849999999999,389.06253399999997,334.55971499999998,355.13217000000003,536.76146400000005,686.33074799999997,708.68532200000004,617.11808799999994,701.54887500000007,470.71843000000001,235.82416000000001,{"$f":"SUM(IV60:IV73)","v":516.956368},304.559301,501.53646000000003,697.37513799999999,389.77203200000002,{"$f":"SUM(JA60:JA73)","v":555.51416099999994},678.27173100000005,580.10641700000008,677.12033000000008,596.85522400000002,526.22076700000002,719.58151799999996,1041.8471260000001,967.86298599999998,978.51592800000003,931.67184799999995,979.429892,940.75655200000028,831.04387800000006,725.31682300000011,838.70865299999991,946.39478200000008,600.29631399999994,985.77442799999994,621.45181000000014,467.98483099999999,262.15481800000003,266.15686699999998,536.18085199999996,687.12889199999995,1183.5062840000001,900.29433199999994,896.44751099999996,838.98714999999982,608.61873800000012,831.20713199999989,396.74484300000012,214.979434,309.57435599999997,488.36176800000004,650.82510400000001,747.90154800000005,957.30612599999995,825.47581300000002,820.83066899999994,704.3082710000001,469.46808400000003,661.64807400000007,907.70339799999988,518.737887,613.60544300000004,634.695607,545.1890810000001,748.89693499999998,829.43403699999999,733.38032899999996,598.03641000000005,411.14795400000003,649.09021199999984,887.19355200000007,402.60831999999994,256.696505,440.62455599999998,198.00357199999999,214.08190200000001,218.85403699999998,505.03369300000003,395.60672,397.25341100000003,{"$f":"SUM(LM60:LM73)","v":546.03221099999996},485.27658899999994,555.44311899999991,590.54874500000005,276.99152200000003,376.17712800000004,466.77073000000007,441.53250700000001,388.75986,343.76173800000004,151.548034,351.86627799999997,"-","-","-"]
[null,"Marruecos","Puerto de la Cruz-Mellousa",0,0,0,0,0,0,0,0,0,0,0,0,0,0,0,0,0,0,0,0,0,0,0,0,0,0,0,0,0,0,0,0,0,0,0,0,0,0,0,0,0,0,0,0,0,0,0,0,0,0,0,0,0,0,0,0,0,0,0,0,0,0,0,0,0,0,0,0,0,0,0,0,0,0,0,0,0,0,0,0,0,0,0,0,0,0,0,0,0,0,0,0.77600000000000002,0,126.01900000000001,5.8209999999999997,0,0,0,0,0,14.435,75.959999999999994,67.055000000000007,64.811999999999998,171.77799999999999,164.81800000000001,80.716999999999999,66.007000000000005,67.33,60.401000000000003,65.194999999999993,64.668999999999997,204.428,175.71100000000001,186.43,199.24100000000001,211.6,186.423,191.97800000000001,197.31899999999999,195.54300000000001,218.55600000000001,227.923,218.846,215.08699999999999,202.18700000000001,153.74700000000001,163.18299999999999,163.81,184.547,154.477,165.16200000000001,160.131,158.11099999999999,132.048,132.37899999999999,120.435,121.89100000000001,145.846,150.16300000000001,114.337,150.49600000000001,126.724,67.408000000000001,17.948,75.275999999999996,135.00700000000001,146.58600000000001,132.74199999999999,132.01,71.191999999999993,164.55,82.813999999999993,140.70400000000001,112.78400000000001,115.877,149.24799999999999,101.066,128.001,184.53800000000001,211.72300000000001,100.852,78.893000000000001,105.343,124.383,82.975999999999999,113.504,105.86,134.896512,127.35945600000001,86.836607999999998,165.28172800000002,123.815872,125.84716800000001,126.85664,117.166336,81.37088,192.57344000000001,137.63353599999999,148.00255999999999,65.431168,30.747135999999998,47.518720000000002,36.800896000000002,64.423423999999997,36.289152000000001,39.643647999999999,159.74028799999999,114.14489599999999,151.06150399999999,104.29344,48.252800000000001,83.504127999999994,155.518912,158.46489600000001,115.95327999999999,121.96019199999999,105.012756,102.897812,209.05197700000002,215.18974400000002,206.32156000000001,228.82030799999998,327.30549999999999,273.63679999999999,247.1275,327.50079999999997,289.06190000000004,380.34740000000005,335.76390000000004,318.80070000000001,285.69349999999997,345.68670000000003,266.31209999999999,230.07259999999999,200.744,236.87129999999999,347.47309999999999,293.91859999999997,384.77459999999996,338.08140000000003,354.86009999999999,471.5453,490.9128,451.35340000000002,337.18009999999998,236.5016,283.029,166.22039999999998,205.84039999999999,182.54660000000001,330.12779999999998,467.32769999999999,443.69459999999998,535.10339999999985,550.51149999999996,458.55399999999997,527.97940000000006,385.69409999999999,342.84845000000001,194.7355,78.116399999999999,160.9366,345.87529999999998,337.72409000000005,402.30609999999996,437.76330000000002,486.10220000000004,491.4101,497.53059999999999,300.70670000000001,203.68950000000001,295.87650000000002,284.45585999999997,320.7371,411.08259999999996,408.87959999999998,405.6456,499.48419999999999,521.44349999999997,434.11649999999997,359.38208000000003,267.8338,301.4597,338.97340000000003,332.24290000000002,385.53980000000001,386.00829999999996,429.92109999999997,409.67230000000001,470.13190000000003,509.03500000000003,482.00496999999996,328.45184999999998,411.87759999999997,420.30099999999999,475.37220000000002,404.31319999999999,380.0213,446.4812,463.55720000000002,460.30170000000004,487.25599999999997,499.10871000000003,478.59370000000001,400.37779999999998,431.05059999999997,450.63840000000005,454.88209999999998,488.82830000000001,498.72740000000005,462.24170000000004,527.03219999999999,494.16890000000001,459.70403000000005,516.75970000000007,580.13119999999992,390.23453999999998,487.12759999999997,479.11399999999998,354.78199999999998,365.46199999999999,407.53020000000004,440.87079999999997,514.50980000000004,350.10020000000003,471.03809999999999,521.34620000000007,371.81700000000001,349.11968000000013,412.60990000000004,381.86290000000002,415.76890000000003,419.81399999999996,437.48829999999998,467.75450000000001,509.14909999999998,504.99090000000001,492.47579999999999,557.98980000000006,256.74774000000002,416.36067000000003,262.1884,209.19739999999999,400.9699,479.93290000000002,532.85490000000004,537.45799999999997,569.404,533.28599999999994,595.55460000000005,590.20669999999996,484.04480000000001,"-","-","-"]
[null,null,"Total",{"$f":"D75","v":0},{"$f":"E75","v":0},0,0,0,0,0,0,0,0,0,0,0,0,0,0,0,0,0,0,0,0,0,0,0,0,0,0,0,0,0,0,0,0,0,0,0,0,0,0,0,0,0,0,0,0,0,0,0,0,0,0,0,0,0,0,0,0,0,0,0,0,0,0,0,{"$f":"BQ75","v":0},0,0,0,0,0,0,0,0,0,0,0,0,0,0,0,0,0,0,0,0,0,0,0,0,0,0.77600000000000002,0,126.01900000000001,5.8209999999999997,0,0,0,0,0,14.435,75.959999999999994,67.055000000000007,64.811999999999998,171.77799999999999,164.81800000000001,80.716999999999999,66.007000000000005,67.33,60.401000000000003,65.194999999999993,64.668999999999997,204.428,175.71100000000001,186.43,199.24100000000001,211.6,186.423,191.97800000000001,197.31899999999999,195.54300000000001,218.55600000000001,227.923,218.846,215.08699999999999,202.18700000000001,153.74700000000001,163.18299999999999,163.81,{"$f":"EC75","v":184.547},154.477,165.16200000000001,160.131,158.11099999999999,132.048,132.37899999999999,120.435,121.89100000000001,145.846,150.16300000000001,114.337,150.49600000000001,126.724,67.408000000000001,17.948,75.275999999999996,135.00700000000001,146.58600000000001,132.74199999999999,132.01,71.191999999999993,164.55,82.813999999999993,140.70400000000001,112.78400000000001,115.877,149.24799999999999,101.066,128.001,184.53800000000001,211.72300000000001,100.852,78.893000000000001,105.343,124.383,82.975999999999999,113.504,105.86,134.896512,127.35945600000001,86.836607999999998,165.28172800000002,123.815872,125.84716800000001,126.85664,117.166336,81.37088,192.57344000000001,137.63353599999999,148.00255999999999,65.431168,30.747135999999998,47.518720000000002,36.800896000000002,64.423423999999997,36.289152000000001,39.643647999999999,159.74028799999999,114.14489599999999,151.06150399999999,104.29344,48.252800000000001,83.504127999999994,{"$f":"GO75","v":155.518912},158.46489600000001,115.95327999999999,121.96019199999999,105.012756,102.897812,209.05197700000002,215.18974400000002,206.32156000000001,228.82030799999998,327.30549999999999,273.63679999999999,247.1275,327.50079999999997,289.06190000000004,380.34740000000005,335.76390000000004,318.80070000000001,285.69349999999997,345.68670000000003,266.31209999999999,230.07259999999999,200.744,236.87129999999999,347.47309999999999,293.91859999999997,384.77459999999996,338.08140000000003,354.86009999999999,471.5453,490.9128,451.35340000000002,337.18009999999998,236.5016,283.029,166.22039999999998,205.84039999999999,182.54660000000001,330.12779999999998,467.32769999999999,443.69459999999998,535.10339999999985,550.51149999999996,458.55399999999997,527.97940000000006,385.69409999999999,342.84845000000001,194.7355,78.116399999999999,160.9366,345.87529999999998,337.72409000000005,402.30609999999996,437.76330000000002,486.10220000000004,491.4101,497.53059999999999,300.70670000000001,203.68950000000001,295.87650000000002,284.45585999999997,320.7371,411.08259999999996,408.87959999999998,{"$f":"JA75","v":405.6456},499.48419999999999,521.44349999999997,434.11649999999997,359.38208000000003,267.8338,301.4597,338.97340000000003,332.24290000000002,385.53980000000001,386.00829999999996,429.92109999999997,409.67230000000001,470.13190000000003,509.03500000000003,482.00496999999996,328.45184999999998,411.87759999999997,420.30099999999999,475.37220000000002,404.31319999999999,380.0213,446.4812,463.55720000000002,460.30170000000004,487.25599999999997,499.10871000000003,478.59370000000001,400.37779999999998,431.05059999999997,450.63840000000005,454.88209999999998,488.82830000000001,498.72740000000005,462.24170000000004,527.03219999999999,494.16890000000001,459.70403000000005,516.75970000000007,580.13119999999992,390.23453999999998,487.12759999999997,479.11399999999998,354.78199999999998,365.46199999999999,407.53020000000004,440.87079999999997,514.50980000000004,350.10020000000003,471.03809999999999,521.34620000000007,371.81700000000001,349.11968000000013,412.60990000000004,381.86290000000002,415.76890000000003,419.81399999999996,437.48829999999998,467.75450000000001,509.14909999999998,504.99090000000001,492.47579999999999,557.98980000000006,256.74774000000002,{"$f":"LM75","v":416.36067000000003},262.1884,209.19739999999999,400.9699,479.93290000000002,532.85490000000004,537.45799999999997,569.404,533.28599999999994,595.55460000000005,590.20669999999996,484.04480000000001,"-","-","-"]
[null,"Salidas",null,{"$f":"SUM(D51,D59,D74,D76)","v":528.54700000000003},{"$f":"SUM(E51,E59,E74,E76)","v":265.79200000000003},283.38200000000006,247.947,182.55599999999998,262.74599999999998,304.12599999999998,296.46899999999999,279.43,287.678,327.59100000000001,361.40499999999997,316.80200000000002,292.65899999999999,393.48900000000003,377.40199999999999,379.20000000000005,280.59199999999998,313.93800000000005,278.88,314.88199999999995,273.06599999999997,260.07499999999999,281.24599999999998,343.37300000000005,475.09100000000001,451.17599999999993,210.42099999999999,274.46699999999998,266.87699999999995,372.54599999999999,229.137,227.89499999999998,294.05100000000004,274.61900000000003,290.90899999999999,305.02799999999996,276.91500000000002,318.82,335.70900000000006,194.34500000000003,172.78700000000001,234.10300000000001,282.19800000000004,265.69499999999994,241.89600000000002,409.31799999999998,301.976,324.93299999999999,283.23500000000001,258.64799999999997,254.79500000000002,202.09199999999998,204.98499999999999,339.15800000000002,346.09899999999999,302.61599999999999,249.07900000000001,197.67400000000001,287.488,253.21199999999999,194.05500000000001,228.34300000000002,223.52700000000002,227.94199999999995,{"$f":"SUM(BQ51,BQ59,BQ74,BQ76)","v":240.75500000000002},309.48899999999998,334.47600000000006,349.65100000000001,256.13499999999999,219.209,303.83100000000002,513.50400000000002,598.827,398.464,296.47400000000005,276.87699999999995,381.637,478.78099999999995,456.33,523.29,630.05099999999993,599.91099999999994,536.78800000000001,782.26099999999997,503.68799999999999,612.39700000000005,739.56799999999998,735.55499999999995,611.87,757.75099999999998,757.71500000000003,543.86699999999996,629.36400000000003,409.36500000000001,586.43599999999992,370.28300000000002,290.07600000000002,324.387,328.08199999999999,409.11000000000007,422.3309999999999,520.56700000000001,451.91,697.73599999999999,618.88900000000001,536.08799999999997,592.41899999999987,628.56500000000005,511.08300000000003,535.6389999999999,383.18100000000004,397.33300000000003,424.68500000000006,641.01,374.01499999999999,694.36,529.26600000000008,496.47899999999998,623.90499999999997,706.19200000000001,589.16100000000006,697.15600000000006,615.697,562.90199999999993,685.68799999999987,686.29700000000003,764.42399999999998,652.37300000000005,{"$f":"SUM(EC51,EC59,EC74,EC76)","v":632.62199999999996},666.77100000000007,567.89099999999996,624.00900000000001,561.54099999999994,585.93000000000006,455.71399999999994,397.80799999999999,496.84199999999998,627.67600000000004,573.10400000000004,648.58199999999999,612.58500000000004,571.04600000000005,589.36299999999994,519.226,516.65599999999995,569.53700000000003,559.61199999999997,621.649,529.63099999999997,484.173,687.38099999999986,534.71699999999998,671.5440000000001,685.63099999999997,795.51800000000003,779.33800000000019,602.93099999999993,576.53800000000001,679.28,832.7170000000001,603.779,722.04399999999998,719.34299999999996,703.55799999999999,700,617.31599999999992,719.74099999999999,985.14491100000009,887.95508499999994,958.68017499999996,1115.0385120000001,933.37068599999998,912.09729700000014,981.58821299999988,931.65866299999993,713.93456500000002,1016.801656,823.00327900000002,879.35736500000007,1072.7992940000001,791.31940799999984,888.05132500000013,775.38642699999991,808.59737800000005,772.24428699999999,918.62519199999997,875.95816400000001,1047.5629090000002,1239.1498860000002,1168.3473260000001,1196.855317,1174.6550910000001,{"$f":"SUM(GO51,GO59,GO74,GO76)","v":1173.3854160000001},1296.778403,758.32622199999992,875.37926400000015,992.20794499999988,1061.6250069999999,920.5749800000001,1093.4654599999999,1092.313967,968.76440999999988,965.46715799999993,1089.6627470000001,1128.9307370000001,1285.08752,1044.575877,1217.6177809999999,1025.050495,1152.782303,1199.471049,1372.841396,1409.4094259999997,1343.728758,1254.0921899999998,1231.7543270000001,1268.7149769999999,1562.2417539999997,1548.1424769999999,1325.1024850000001,1386.4754319999997,1413.1138460000002,1297.5340540000002,1351.6227730000001,1386.1208369999999,1537.8180589999999,1611.2125170000002,1367.821821,999.58786000000009,917.619011,1201.909161,1260.577546,1389.659347,1541.1489759999999,1293.8910980000001,1117.3080199999999,1299.521029,1308.3115229999999,1159.7330419999998,1045.6306050000001,913.03578899999991,1020.6929009999999,1052.6365479999999,941.05160600000011,1188.3859419999999,1319.3934019999999,1295.4109740000001,1328.858876,1512.9177470000002,1008.2419789999999,912.67472299999986,1191.513976,854.21512600000005,1311.53899,1433.26523,976.76535200000001,{"$f":"SUM(JA51,JA59,JA74,JA76)","v":1109.6538459999999},1281.324484,1151.408365,1236.4131320000001,1121.927369,1073.7601340000001,1280.7859490000001,1483.6663060000003,1837.5381530000002,1571.353646,1680.2557750000001,1636.0473320000001,1460.1699610000003,1401.4119470000001,1404.0340210000002,1535.694994,1728.5069269999999,1437.98702,1809.0609509999999,1439.2979180000002,1371.381525,1328.6847579999999,1330.1580099999999,1161.47902,1217.224156,1694.8491939999999,1469.1413190000001,1509.896741,1410.2522179999999,1499.0168920000001,1504.4169319999999,1353.6873400000002,1402.7066889999999,1257.0822780000001,1180.886516,1237.4194280000002,1274.080297,1464.831985,1362.2611919999999,1438.4207489999999,1163.742477,1149.2552860000001,1431.7783510000002,1403.6389349999997,1464.531855,1359.2891640000003,1231.9147370000001,1082.2202730000001,1126.1053890000001,1409.740652,1328.4315059999999,1094.2082230000001,993.76006600000017,1273.660198,1321.391552,1365.1011789999998,1205.8248330000001,1369.3058059999998,1486.773815,1012.9553020000001,747.23271799999998,1039.8360849999999,1003.341498,745.47790700000007,1683.9810200000002,1359.685101,{"$f":"SUM(LO51,LO59,LO74,LO76)","v":1158.0316249999998},1878.7552310000001,1272.3876380000002,1042.524261,1052.625131,1030.7104530000001,949.70557699999995,955.14653200000009,779.95418200000006,855.25882999999999,"-","-","-"]
[]
[null,"Saldo intercambios internacionales físicos mensuales por líneas (GWh)","Líneas","1990-01-01","1990-02-01","1990-03-01","1990-04-01","1990-05-01","1990-06-01","1990-07-01","1990-08-01","1990-09-01","1990-10-01","1990-11-01","1990-12-01","1991-01-01","1991-02-01","1991-03-01","1991-04-01","1991-05-01","1991-06-01","1991-07-01","1991-08-01","1991-09-01","1991-10-01","1991-11-01","1991-12-01","1992-01-01","1992-02-01","1992-03-01","1992-04-01","1992-05-01","1992-06-01","1992-07-01","1992-08-01","1992-09-01","1992-10-01","1992-11-01","1992-12-01","1993-01-01","1993-02-01","1993-03-01","1993-04-01","1993-05-01","1993-06-01","1993-07-01","1993-08-01","1993-09-01","1993-10-01","1993-11-01","1993-12-01","1994-01-01","1994-02-01","1994-03-01","1994-04-01","1994-05-01","1994-06-01","1994-07-01","1994-08-01","1994-09-01","1994-10-01","1994-11-01","1994-12-01","1995-01-01","1995-02-01","1995-03-01","1995-04-01","1995-05-01","1995-06-01","1995-07-01","1995-08-01","1995-09-01","1995-10-01","1995-11-01","1995-12-01","1996-01-01","1996-02-01","1996-03-01","1996-04-01","1996-05-01","1996-06-01","1996-07-01","1996-08-01","1996-09-01","1996-10-01","1996-11-01","1996-12-01","1997-01-01","1997-02-01","1997-03-01","1997-04-01","1997-05-01","1997-06-01","1997-07-01","1997-08-01","1997-09-01","1997-10-01","1997-11-01","1997-12-01","1998-01-01","1998-02-01","1998-03-01","1998-04-01","1998-05-01","1998-06-01","1998-07-01","1998-08-01","1998-09-01","1998-10-01","1998-11-01","1998-12-01","1999-01-01","1999-02-01","1999-03-01","1999-04-01","1999-05-01","1999-06-01","1999-07-01","1999-08-01","1999-09-01","1999-10-01","1999-11-01","1999-12-01","2000-01-01","2000-02-01","2000-03-01","2000-04-01","2000-05-01","2000-06-01","2000-07-01","2000-08-01","2000-09-01","2000-10-01","2000-11-01","2000-12-01","2001-01-01","2001-02-01","2001-03-01","2001-04-01","2001-05-01","2001-06-01","2001-07-01","2001-08-01","2001-09-01","2001-10-01","2001-11-01","2001-12-01","2002-01-01","2002-02-01","2002-03-01","2002-04-01","2002-05-01","2002-06-01","2002-07-01","2002-08-01","2002-09-01","2002-10-01","2002-11-01","2002-12-01","2003-01-01","2003-02-01","2003-03-01","2003-04-01","2003-05-01","2003-06-01","2003-07-01","2003-08-01","2003-09-01","2003-10-01","2003-11-01","2003-12-01","2004-01-01","2004-02-01","2004-03-01","2004-04-01","2004-05-01","2004-06-01","2004-07-01","2004-08-01","2004-09-01","2004-10-01","2004-11-01","2004-12-01","2005-01-01","2005-02-01","2005-03-01","2005-04-01","2005-05-01","2005-06-01","2005-07-01","2005-08-01","2005-09-01","2005-10-01","2005-11-01","2005-12-01","2006-01-01","2006-02-01","2006-03-01","2006-04-01","2006-05-01","2006-06-01","2006-07-01","2006-08-01","2006-09-01","2006-10-01","2006-11-01","2006-12-01","2007-01-01","2007-02-01","2007-03-01","2007-04-01","2007-05-01","2007-06-01","2007-07-01","2007-08-01","2007-09-01","2007-10-01","2007-11-01","2007-12-01","2008-01-01","2008-02-01","2008-03-01","2008-04-01","2008-05-01","2008-06-01","2008-07-01","2008-08-01","2008-09-01","2008-10-01","2008-11-01","2008-12-01","2009-01-01","2009-02-01","2009-03-01","2009-04-01","2009-05-01","2009-06-01","2009-07-01","2009-08-01","2009-09-01","2009-10-01","2009-11-01","2009-12-01","2010-01-01","2010-02-01","2010-03-01","2010-04-01","2010-05-01","2010-06-01","2010-07-01","2010-08-01","2010-09-01","2010-10-01","2010-11-01","2010-12-01","2011-01-01","2011-02-01","2011-03-01","2011-04-01","2011-05-01","2011-06-01","2011-07-01","2011-08-01","2011-09-01","2011-10-01","2011-11-01","2011-12-01","2012-01-01","2012-02-01","2012-03-01","2012-04-01","2012-05-01","2012-06-01","2012-07-01","2012-08-01","2012-09-01","2012-10-01","2012-11-01","2012-12-01","2013-01-01","2013-02-01","2013-03-01","2013-04-01","2013-05-01","2013-06-01","2013-07-01","2013-08-01","2013-09-01","2013-10-01","2013-11-01","2013-12-01","2014-01-01","2014-02-01","2014-03-01","2014-04-01","2014-05-01","2014-06-01","2014-07-01","2014-08-01","2014-09-01","2014-10-01","2014-11-01","2014-12-01","2015-01-01","2015-02-01","2015-03-01","2015-04-01","2015-05-01","2015-06-01","2015-07-01","2015-08-01","2015-09-01","2015-10-01","2015-11-01","2015-12-01","2016-01-01","2016-02-01","2016-03-01","2016-04-01","2016-05-01","2016-06-01","2016-06-01","2016-08-01","2016-09-01","2016-10-01","2016-11-01","2016-12-01","2017-01-01","2017-02-01","2017-03-01","2017-04-01","2017-05-01","2017-06-01","2017-07-01","2017-08-01","2017-09-01","2017-10-01","2017-11-01","2017-12-01"]
[null,"Andorra","Adrall-Margineda",0,0,0,0,0,-1.823,-8.8699999999999992,-2.706,-3.8959999999999999,-1.3420000000000001,0,0,0,-2.544,1.4E-2,-0.314,-0.11,-1.3560000000000001,-14.206,-21.045000000000002,-7.0990000000000002,0,-2.181,-1.4999999999999999E-2,-0.66900000000000004,-1.7430000000000001,0,-0.31,-0.88400000000000001,-0.45700000000000002,-8.3290000000000006,-4.7489999999999997,-1.345,0,-10.036,0,-7.71,-18.128,-5.8,-15.054,-5.6639999999999997,-4.9420000000000002,-16.838000000000001,-21.55,-19.931999999999999,-13.903,-9.7260000000000009,-3.242,0,0,-16.597000000000001,-11.795999999999999,0,-0.14000000000000001,-1.5860000000000001,0,-20.452000000000002,-18.117000000000001,-14.531000000000001,-26.01,-21.512,-9.67,0,-0.02,-1.458,0,0,-15.664,-15.67,-7.6139999999999999,-20.623000000000001,-17.646999999999998,-26.602,-12.939,-11.827999999999999,-5.23,-3.8130000000000002,-0.127,-2.7709999999999999,-9.1280000000000001,-16.352,-12.59,-13.577,-12.492000000000001,-23.24,-11.384,-8.0630000000000006,-8.3379999999999992,-4.8710000000000004,-6.7080000000000002,-6.1109999999999998,-1.9E-2,-5.8710000000000004,-21.193999999999999,-9.0649999999999995,0,-0.75800000000000001,-1.385,-23.757000000000001,-18.699000000000002,-2.621,-4.1840000000000002,-20.195,-25.338000000000001,-20.58,-18.553000000000001,-2.988,0,-22.684000000000001,-36.276000000000003,-32.381999999999998,-19.120999999999999,-3.21,-2.4420000000000002,-0.29499999999999998,0,-0.60499999999999998,-23.762,-30.207000000000001,-41.329000000000001,-41.523000000000003,-36.134999999999998,-35.462000000000003,-27.626000000000001,-2.4470000000000001,-8.6300000000000008,-4.0110000000000001,-15.641,-4.5220000000000002,-24.983000000000001,-30.245999999999999,-40.732999999999997,-41.825000000000003,-39.795999999999999,-25.856000000000002,-19.338999999999999,-0.161,0,0,-0.16,-7.08,-30.593,-35.506999999999998,-48.040999999999997,-47.988,-41.008000000000003,-35.664000000000001,-25.751999999999999,-4.3999999999999997E-2,-5.6959999999999997,-1.752,-11.426,-2.4860000000000002,-35.871000000000002,-37.9,-46.164000000000001,-41.335000000000001,-42.015000000000001,-33.911000000000001,-24.538,-1.929,0,-0.443,-24.675000000000001,-5.1559999999999997,-24.780999999999999,-26.247,-44.947000000000003,-47.943088000000003,-46.444884999999999,-40.059267999999996,-29.258672999999998,-0.13090399999999999,-4.9377610000000001,-0.18826599999999999,-12.573242,-12.271846999999999,-24.801532999999999,-24.822877000000002,-40.061728000000002,-40.325165999999996,-34.601076999999997,-33.859594999999999,-10.673688,-7.7538549999999997,-11.941101,-5.4158519999999992,-11.956479999999999,-4.107977,-35.027349000000001,-32.879391000000005,-42.502050000000004,-41.349693000000002,-32.870361999999986,-35.244794999999996,-6.989844999999999,-0.39317000000000002,-0.24854499999999999,-6.9347700000000003,-11.681749999999999,-20.740749999999998,-13.78049,-18.414630000000002,-40.446600000000011,-40.084699999999998,-25.697890000000001,-30.61233,-20.154409999999999,-14.336020000000001,-19.760540000000002,-2.3366899999999999,-10.677610000000001,0,-41.779300000000006,-25.270869999999999,-30.664729999999999,-29.23151,-27.29907,-27.116229999999998,-28.741240000000001,-18.062990000000003,-18.021060000000002,-1.7769000000000001,-15.90728,-11.34923,-24.115320000000001,-32.968360000000004,-43.745139999999999,-41.612990000000011,-31.10868,-29.175080000000001,-35.880350000000014,-3.7408600000000001,-1.75108,-1.58945,-38.827199999999998,-31.1983,-13.676830000000001,-31.959060000000001,-38.866699999999994,-27.817540000000001,-30.321840000000002,-30.487080000000002,-8.9221699999999995,-8.7687799999999996,-20.513830000000002,-9.6140799999999995,-26.056450000000002,-20.429590000000001,-13.702729999999999,-35.710449999999994,-32.149569999999997,-41.220759999999999,-47.659579999999998,-46.158699999999996,-8.6163100000000021,-12.870649999999999,-16.53622,-10.914159999999999,-1.4E-3,-20.867900000000002,-29.20421,-30.15579,-41.507059999999996,-40.833239999999996,-39.463920000000002,-25.28576,-19.437249999999999,-11.2265,-9.8375599999999999,-6.4819999999999989E-2,-14.833030000000001,-17.134150000000002,-35.067759999999986,-36.472660000000005,-36.560629999999996,-29.166790000000002,-30.37407,-30.355630000000001,-26.206499999999998,-17.802379999999999,-11.65175,-2.0917800000000004,-32.90943,-32.02364,-32.544580000000003,-15.202639999999999,-27.068729999999999,-27.072900000000001,-31.339770000000001,-35.327910000000003,-9.3496300000000012,-10.631549999999999,-13.83934,-11.607239999999999,-16.060980000000001,-8.2814099999999993,-12.266950000000001,-30.66226,-28.065900000000003,-28.376909999999999,-27.214040000000001,-36.408370000000005,-6.9836200000000002,-1.03932,-3.82118,-2.0000000000000002E-5,-32.261499999999998,-28.063320000000001,-39.641220000000011,-30.954879999999999,-29.287050000000001,-25.987180000000002,-23.582050000000002,-38.291379999999997,-10.009509999999999,-9.5126500000000007,-6.6693199999999999,-12.62679,-37.630279999999999,-26.648620000000001,-32.136040000000001,-34.367469999999997,-20.819140000000001,-31.225639999999999,-24.869720000000001,-17.672840000000001,-12.570630000000001,-14.197149999999999,-11.778829999999999,-0.41759000000000002,-36.588260000000005,-9.7231200000000015,"-","-","-"]
[null,null,"Total",{"$f":"D80","v":0},{"$f":"E80","v":0},0,0,0,-1.823,-8.8699999999999992,-2.706,-3.8959999999999999,-1.3420000000000001,0,0,0,-2.544,1.4E-2,-0.314,-0.11,-1.3560000000000001,-14.206,-21.045000000000002,-7.0990000000000002,0,-2.181,-1.4999999999999999E-2,-0.66900000000000004,-1.7430000000000001,0,-0.31,-0.88400000000000001,-0.45700000000000002,-8.3290000000000006,-4.7489999999999997,-1.345,0,-10.036,0,-7.71,-18.128,-5.8,-15.054,-5.6639999999999997,-4.9420000000000002,-16.838000000000001,-21.55,-19.931999999999999,-13.903,-9.7260000000000009,-3.242,0,0,-16.597000000000001,-11.795999999999999,0,-0.14000000000000001,-1.5860000000000001,0,-20.452000000000002,-18.117000000000001,-14.531000000000001,-26.01,-21.512,-9.67,0,-0.02,-1.458,{"$f":"BQ80","v":0},0,-15.664,-15.67,-7.6139999999999999,-20.623000000000001,-17.646999999999998,-26.602,-12.939,-11.827999999999999,-5.23,-3.8130000000000002,-0.127,-2.7709999999999999,-9.1280000000000001,-16.352,-12.59,-13.577,-12.492000000000001,-23.24,-11.384,-8.0630000000000006,-8.3379999999999992,-4.8710000000000004,-6.7080000000000002,-6.1109999999999998,-1.9E-2,-5.8710000000000004,-21.193999999999999,-9.0649999999999995,0,-0.75800000000000001,-1.385,-23.757000000000001,-18.699000000000002,-2.621,-4.1840000000000002,-20.195,-25.338000000000001,-20.58,-18.553000000000001,-2.988,0,-22.684000000000001,-36.276000000000003,-32.381999999999998,-19.120999999999999,-3.21,-2.4420000000000002,-0.29499999999999998,0,-0.60499999999999998,-23.762,-30.207000000000001,-41.329000000000001,-41.523000000000003,-36.134999999999998,-35.462000000000003,-27.626000000000001,-2.4470000000000001,-8.6300000000000008,-4.0110000000000001,-15.641,-4.5220000000000002,{"$f":"EC80","v":-24.983000000000001},-30.245999999999999,-40.732999999999997,-41.825000000000003,-39.795999999999999,-25.856000000000002,-19.338999999999999,-0.161,0,0,-0.16,-7.08,-30.593,-35.506999999999998,-48.040999999999997,-47.988,-41.008000000000003,-35.664000000000001,-25.751999999999999,-4.3999999999999997E-2,-5.6959999999999997,-1.752,-11.426,-2.4860000000000002,-35.871000000000002,-37.9,-46.164000000000001,-41.335000000000001,-42.015000000000001,-33.911000000000001,-24.538,-1.929,0,-0.443,-24.675000000000001,-5.1559999999999997,-24.780999999999999,-26.247,-44.947000000000003,-47.943088000000003,-46.444884999999999,-40.059267999999996,-29.258672999999998,-0.13090399999999999,-4.9377610000000001,-0.18826599999999999,-12.573242,-12.271846999999999,-24.801532999999999,-24.822877000000002,-40.061728000000002,-40.325165999999996,-34.601076999999997,-33.859594999999999,-10.673688,-7.7538549999999997,-11.941101,-5.4158519999999992,-11.956479999999999,-4.107977,-35.027349000000001,-32.879391000000005,-42.502050000000004,-41.349693000000002,{"$f":"GO80","v":-32.870361999999986},-35.244794999999996,-6.989844999999999,-0.39317000000000002,-0.24854499999999999,-6.9347700000000003,-11.681749999999999,-20.740749999999998,-13.78049,-18.414630000000002,-40.446600000000011,-40.084699999999998,-25.697890000000001,-30.61233,-20.154409999999999,-14.336020000000001,-19.760540000000002,-2.3366899999999999,-10.677610000000001,0,-41.779300000000006,-25.270869999999999,-30.664729999999999,-29.23151,-27.29907,-27.116229999999998,-28.741240000000001,-18.062990000000003,-18.021060000000002,-1.7769000000000001,-15.90728,-11.34923,-24.115320000000001,-32.968360000000004,-43.745139999999999,-41.612990000000011,-31.10868,-29.175080000000001,-35.880350000000014,-3.7408600000000001,-1.75108,-1.58945,-38.827199999999998,-31.1983,-13.676830000000001,-31.959060000000001,-38.866699999999994,-27.817540000000001,-30.321840000000002,-30.487080000000002,-8.9221699999999995,-8.7687799999999996,-20.513830000000002,-9.6140799999999995,-26.056450000000002,-20.429590000000001,-13.702729999999999,-35.710449999999994,-32.149569999999997,-41.220759999999999,-47.659579999999998,-46.158699999999996,-8.6163100000000021,-12.870649999999999,{"$f":"JA80","v":-16.53622},-10.914159999999999,-1.4E-3,-20.867900000000002,-29.20421,-30.15579,-41.507059999999996,-40.833239999999996,-39.463920000000002,-25.28576,-19.437249999999999,-11.2265,-9.8375599999999999,-6.4819999999999989E-2,-14.833030000000001,-17.134150000000002,-35.067759999999986,-36.472660000000005,-36.560629999999996,-29.166790000000002,-30.37407,-30.355630000000001,-26.206499999999998,-17.802379999999999,-11.65175,-2.0917800000000004,-32.90943,-32.02364,-32.544580000000003,-15.202639999999999,-27.068729999999999,-27.072900000000001,-31.339770000000001,-35.327910000000003,-9.3496300000000012,-10.631549999999999,-13.83934,-11.607239999999999,-16.060980000000001,-8.2814099999999993,-12.266950000000001,-30.66226,-28.065900000000003,-28.376909999999999,-27.214040000000001,-36.408370000000005,-6.9836200000000002,-1.03932,-3.82118,-2.0000000000000002E-5,-32.261499999999998,-28.063320000000001,-39.641220000000011,-30.954879999999999,-29.287050000000001,-25.987180000000002,-23.582050000000002,-38.291379999999997,-10.009509999999999,-9.5126500000000007,-6.6693199999999999,-12.62679,-37.630279999999999,-26.648620000000001,{"$f":"LM80","v":-32.136040000000001},-34.367469999999997,-20.819140000000001,-31.225639999999999,-24.869720000000001,-17.672840000000001,-12.570630000000001,-14.197149999999999,-11.778829999999999,-0.41759000000000002,-36.588260000000005,-9.7231200000000015,"-","-","-"]
[null,"Francia","Arkale-Argia",-111.423,-53.988999999999997,-69.947999999999993,-34.195999999999998,-12.574999999999999,-58.283000000000001,-59.52,-33.258000000000003,-43.893000000000001,-37.316000000000003,-61.954000000000001,-101.30800000000001,-89.356999999999999,-96.625,-80.492999999999995,-68.34,-55.552999999999997,-25.423999999999999,-51.633000000000003,-28.975000000000001,-42.161000000000001,-34.133000000000003,-41.442999999999998,-53.363999999999997,-79.793999999999997,-91.228999999999999,-66.953999999999994,-24.474,9.1549999999999994,-21.096,0.93899999999999995,8.0410000000000004,-30.326000000000001,-21.469000000000001,-46.499000000000002,-67.206000000000003,-66.221000000000004,-70.771000000000001,-60.735999999999997,-31.45,-16.712,-22.831,-38.814999999999998,-52.194000000000003,-31.079000000000001,-31.870999999999999,-61.93,-67.994,-82.022999999999996,-82.298000000000002,-45.319000000000003,-69.843000000000004,-30.471,-35.119,-50.445999999999998,-22.417000000000002,-20.271000000000001,-3.6379999999999999,1.762,-31.300999999999998,-31.263999999999999,-7.9470000000000001,-8.2739999999999991,2.1110000000000002,5.6189999999999998,-4.9870000000000001,-45.241,-26.09,-18.402999999999999,-14.369,-18.195,-40.286000000000001,-65.096000000000004,-102.07899999999999,-38.957999999999998,-2.008,-2.6190000000000002,-15.375,-56.075000000000003,-31.414999999999999,-20.152999999999999,-2.5539999999999998,-29.858000000000001,-54.06,-134.30000000000001,-88.853999999999999,-50.152000000000001,-38.603999999999999,-35.655000000000001,-50.863999999999997,-71.965999999999994,-61.945,-61.142000000000003,-39.558,-74.882000000000005,-113.33799999999999,-77.77,-61.593000000000004,-52.796999999999997,-40.4,-16.77,-28.725999999999999,-48.98,-47.609000000000002,-68.218999999999994,-63.280999999999999,-72.393000000000001,-61.619,-60,-44.372999999999998,-45.683,-65.057000000000002,-27.76,-30.25,-54.344000000000001,-17.617999999999999,-46.119,-37.380000000000003,-42.85,-55.439,-123.887,-57.332000000000001,-34.813000000000002,-32.377000000000002,14.997,13.954000000000001,-36.398000000000003,-51.86,-49.113999999999997,-48.518000000000001,-53.603960085399947,-50.143000000000001,-106.91355376509438,-110.572,-106.46599999999999,-51.481355844737124,-12.382,-32.61,-41.466000000000001,-54.723999999999997,-45.268999999999998,-55.779000000000003,-69.869,-85.045000000000002,-71.899091591895299,-37.221436859697938,-29.401071306398034,4.2739232105958065,30.415805119604261,50.814479273695611,43.846592900966478,76.288125748568419,58.963999999999999,66.817999999999998,66.613,30.862965472100143,-39.084188110630734,-19.583001871826902,33.826288946386853,21.498531962522307,87.437418298174521,55.119839040352701,24.446011182590656,34.669560786878961,23.998999999999999,-3.1680000000000001,12.481,-13.66,-25.873011999999999,-17.321656999999998,-14.619024999999999,6.7390250000000007,40.833804999999991,27.044651999999999,18.016472,14.562391999999999,24.048188,20.936255000000003,23.437795999999999,23.267504000000002,56.111940000000004,20.346152999999997,32.974851999999998,8.4730450000000026,58.806673000000004,9.1178800000000013,-38.244897999999999,-8.4272770000000001,-15.198278,-23.113482999999999,-37.991110999999997,-65.309324000000004,-26.706814999999999,-52.409910000000004,-66.009725000000003,-10.219073,60.475327,24.896250999999999,-47.667859,30.051238000000001,17.611009999999997,7.033197999999997,-34.972300999999995,-67.796358999999995,11.941735000000001,-8.8522590000000019,-4.5546890000000024,21.316572000000001,4.0435490000000032,15.090781000000002,-12.167868,-0.59561300000000117,-12.619483000000001,-13.496953,-54.478495000000002,-26.499690999999999,33.422214999999994,41.080124000000005,6.6454660000000043,-5.136903000000002,63.606139000000006,-5.0596219999999992,-7.1565570000000003,16.495544000000002,-16.260570000000001,-30.114142999999999,-62.925334999999997,-52.865135000000009,-81.431370000000001,-79.875350999999995,-25.301220000000001,11.683224000000001,38.886922000000013,-29.180959999999999,-50.829613999999999,-5.5972799999999987,-18.853905999999998,-37.288567,-34.491208,-80.965543000000011,-122.20754600000001,-94.691204999999997,-124.860125,-67.790020999999996,-40.660274000000001,-7.5385830000000027,-8.7182499999999994,24.249834,-32.063732999999999,-56.977591999999994,-40.160496000000002,-115.30409399999999,-95.501259999999988,-71.259192999999996,-103.89222100000001,-38.017462000000002,4.3959180000000009,51.557392,48.464014000000006,44.405862999999997,1.961603999999999,-9.3584500000000013,-64.38490800000001,-35.343667000000003,18.401615000000003,-140.11431099999999,-16.432882000000003,-46.348970999999999,-2.0569019999999951,-11.266259,-25.819595,-25.335008000000002,-28.558574,-98.560278000000011,-100.902135,-65.772948999999997,-40.870744999999999,-81.403772000000004,-125.092309,-118.145612,1.6028669999999978,61.45187,43.942190000000004,48.141019999999997,32.388964000000001,2.172177,-100.19891899999999,-38.679233000000004,-100.199978,-146.74020999999999,-67.773538000000002,-38.900393999999999,58.708178999999994,56.700349000000003,62.310627999999994,43.289474999999996,-4.3847410000000018,38.743175000000001,0.90685399999999938,-17.201097000000001,17.797964,-126.083246,-44.789543999999985,30.727080000000001,52.630468,55.135795999999985,9.987527,33.230916999999998,22.328168999999992,3.3697589999999984,69.674306999999999,128.38217,-23.778914999999991,-27.982063999999998,-31.40112100000001,-85.468928000000005,21.765039999999988,88.483448999999993,67.216132000000016,91.198594,73.766474000000002,-0.37086500000000516,4.2458689999999928,46.776716,-95.660447000000005,3.085652999999998,147.48568900000001,129.96416499999998,176.295817,93.868051000000008,66.066054999999992,84.327740000000006,35.717296000000005,"-","-","-"]
[null,null,"Benós-Lac D'oo",0,0,0,0,-5.97,-8.1690000000000005,0,0,0.13700000000000001,-2.4E-2,0,0,0,0,0,0,0,0,0,0,-4.6100000000000003,-10.053000000000001,0,3.0000000000000001E-3,0,0,0,0,0,0,0.41899999999999998,-0.16700000000000001,0,0,0,0,0,0,0.432,0,0,0,1.9019999999999999,1.5760000000000001,0,0,0,0.54700000000000004,0.19500000000000001,4.2939999999999996,0.14299999999999999,0,0,-0.55000000000000004,0,0,0,0,0,-3.5999999999999997E-2,0,0,0,0,0,0,-0.23899999999999999,0.95699999999999996,0.29399999999999998,1.5620000000000001,0,0,-2.4E-2,0.23200000000000001,0,0,-2.911,0,0,0,0,0,0,0,2.907,3.7719999999999998,0,0,0,0,0,0,0,0,0,0,0,0,0,4.1000000000000002E-2,5.72,0.10199999999999999,-0.85499999999999998,0,0,0,0.44900000000000001,0,5.6000000000000001E-2,0,0,-0.122,0,0,0,0,0,0,0,-0.85,0,0,0.03,0,-7.0000000000000007E-2,0,0,0,0,0,0,0,0.63249199158977765,0,0,0,0,0,0,0,0,-0.12,0,0,0,0,0,0,0,0,31.949436101551417,0,3.4209999999999998,0,0,0,0,0,0,0,0,0,0,0,0,2.5999999999999999E-2,1.7999999999999999E-2,2.3E-2,2.2155999999999999E-2,2.6547000000000001E-2,2.0930000000000001E-2,2.0225E-2,1.1169E-2,1.1634E-2,1.4247999999999999E-2,1.9867950000000001,-8.8620000000000001E-3,-1.0688000000000001E-2,-1.1266E-2,-6.9230000000000003E-3,-7.9620000000000003E-3,0.28033199999999997,7.7010000000000012E-3,2.2330000000000002E-3,-9.1940000000000008E-3,-5.2729999999999999E-3,-7.4790000000000004E-3,-9.972E-3,-1.6792000000000001E-2,-8.2030000000000002E-3,-9.0330000000000011E-3,-7.6429999999999996E-3,-5.9990000000000017E-3,-7.6149999999999994E-3,-9.3489999999999997E-3,-1.0313000000000001E-2,-1.0884E-2,-6.5019999999999991E-3,0.15171500000000002,-0.37467299999999998,-2.5576000000000002E-2,-2.7495000000000002E-2,-1.9380000000000001E-3,-1.9300000000000008E-4,-2.0350000000000004E-3,-8.3119999999999999E-3,-7.6869999999999994E-3,-1.0387E-2,-2.1794000000000001E-2,-8.4789999999999987E-3,-8.1359999999999991E-3,-6.8449999999999995E-3,-7.2809999999999993E-3,-2.0510000000000003E-3,6.4320000000000002E-3,9.6620000000000004E-3,0.01,7.9349999999999993E-3,1.1685000000000001E-2,1.703295,-2.7751000000000001E-2,0.04,-2.2040000000000002E-3,0,-4.6740000000000002E-3,-4.202E-3,-7.1700000000000051E-4,-8.7749999999999981E-3,-8.6099999999999996E-3,-8.3989999999999985E-3,-6.4729999999999996E-3,0,0,0,0,0,0,0,1.2362E-2,0,0,0,0,0,-1.562E-3,-5.0000000000000004E-6,0.20973700000000001,-5.0000000000000004E-6,0,0,0,0,0,0,-1.7999999999999997E-5,-2.1419999999999998E-3,0,0,0,0,1.1397010000000001,2.7592600000000003,0,8.9370000000000005E-3,0,0,0,0,-7.9999999999999996E-6,-7.9999999999999996E-6,0,-2.0000000000000002E-5,1.012389,1.9279110000000002,5.1523000000000006E-2,0,5.2500000000000008E-4,3.0600000000000001E-4,0,0.42263600000000001,-4.4784999999999998E-2,0.18277299999999999,-3.9999999999999998E-6,-8.3269999999999993E-3,1.0750840000000002,1.0343209999999998,1.7000000000000001E-4,-2.5000000000000001E-5,0,1.9999999999999999E-6,9.3330999999999997E-2,0.43584200000000001,-2.0000000000000002E-5,-2.8E-5,0,-1.2E-5,-7.9999999999999996E-6,0.94861700000000004,-0.26145400000000002,2.9E-4,0,0,0,0.301398,-1.5999999999999999E-5,0,-2.0000000000000002E-5,-7.9999999999999996E-6,0,0,0,1.75E-4,2.2600000000000002E-4,0,0,0,7.707E-2,-1.2E-5,1.071299,0,2.228863,0,0,0,1.9999999999999999E-6,0,4.5988999999999995E-2,-2.8399999999999996E-4,-1.2999999999999999E-5,-7.9999999999999996E-6,0,6.6584000000000004E-2,3.9999999999999998E-6,"-","-","-"]
[null,null,"Biescas-Pragneres",-34.069000000000003,5.8630000000000004,2.3239999999999998,-27.29,26.588999999999999,-5.9279999999999999,-14.505000000000001,-30.056999999999999,-10.76,-12.484999999999999,-22.937000000000001,13.214,1.018,23.334,-10.865,-29.282,-25.074000000000002,-16.760000000000002,-9.4990000000000006,0.189,1.0720000000000001,-8.2420000000000009,2.3130000000000002,-0.58799999999999997,1.1419999999999999,0.39800000000000002,-13.956,11.478,52.715000000000003,79.674999999999997,51.518999999999998,4.4640000000000004,-2.1110000000000002,1.361,-3.0659999999999998,-4.9850000000000003,10.863,49.045000000000002,23.187999999999999,4.6820000000000004,30.166,5.835,26.661000000000001,-25.434999999999999,-24.148,-13.269,-2.976,1.177,11.500999999999999,24.526,45.381999999999998,46.064,30.809000000000001,29.623000000000001,39.722000000000001,14.419,42.298999999999999,48.238999999999997,38.540999999999997,71.619,91.661000000000001,74.760999999999996,71.525000000000006,47.26,74.305000000000007,61.79,69.087000000000003,57.831000000000003,59.441000000000003,41.192999999999998,40.46,37.722000000000001,5.0789999999999997,-5.3780000000000001,17.553999999999998,42.542000000000002,11.573,17.765000000000001,29.715,32.207000000000001,-19.652999999999999,12.917,20.108000000000001,31.314,-38.625999999999998,-8.8620000000000001,4.3719999999999999,-24.88,-56.488,-4.484,2.504,-15.628,12.007999999999999,0,-6.6280000000000001,-5.407,48.613,54.883000000000003,73.046000000000006,30.364000000000001,33.018999999999998,48.543999999999997,42.027000000000001,2.5950000000000002,11.276,56.375,29.725000000000001,45.756999999999998,36.857999999999997,58.430999999999997,66.757999999999996,75.793999999999997,76.03,62.103999999999999,65.204999999999998,50.573,55.539000000000001,54.137,69.323999999999998,72.114000000000004,24.713999999999999,68.260999999999996,85.878,81.778000000000006,67.548000000000002,49.018000000000001,51.813000000000002,67.522999999999996,83.608000000000004,78.953999999999994,69.23895635557642,37.216000000000001,24.471256930431561,38.188000000000002,-16.265999999999998,-34.140054285014344,50.384,76.222999999999999,79.388000000000005,59.331000000000003,53.692,45.506,43.877000000000002,-13.093999999999999,31.814568765674899,91.205048780397604,119.9308947553079,99.49703870698346,112.45163422585654,97.770563680071518,84.00155416497158,59.161103324063895,58.101999999999997,98.295000000000002,139.48599999999999,117.49664885108109,61.108317280581211,0,0,5.0003614055629409E-3,44.352533370385537,72.908202875993766,11.176160757055619,56.2976371133214,56.066000000000003,49.988999999999997,23.149000000000001,10.938000000000001,79.293768,58.028936999999999,13.222683999999999,17.667079000000001,25.563504999999999,38.615004999999996,29.893425999999998,13.444642,36.34169,88.276414000000003,40.794103,71.572800000000001,87.673537999999994,92.536409000000006,62.473254000000004,84.328221999999997,48.200705999999997,52.575980000000001,56.867754999999995,43.467821000000001,-8.1000409999999992,-24.579834999999999,-7.5651990000000016,25.901255000000003,53.895451999999999,-12.135467,-35.074974000000005,47.837688999999997,71.356261000000018,36.99765399999999,20.709616,38.013085000000004,66.741817000000012,45.875959000000002,-8.4884439999999994,-4.2644429999999991,49.875968999999998,31.608636999999998,52.554898999999999,81.929811999999984,38.455219,82.060498999999993,44.571677999999999,58.329263000000012,12.238599000000001,-32.124166000000002,-37.271906000000001,-26.326147000000002,42.962089999999996,22.336976999999997,-56.571542000000001,-27.642599999999998,43.277567000000005,-3.4170700000000003,20.013312999999997,6.9668590000000021,-26.252731000000001,-40.847526999999999,6.8990439999999982,-30.121426,-40.839612000000002,-51.883545999999988,5.8715420000000016,22.909998999999999,39.604058999999999,27.406024000000002,-6.5871039999999992,-11.535774,-13.158714,-29.723749000000002,-40.722777999999998,-94.460601999999994,-84.669971000000004,-68.978572999999997,-47.978898999999998,-44.038522999999998,-41.487404000000005,-59.753129000000001,-45.231474999999996,12.606437,-11.653469999999999,-62.278862999999994,-78.583528999999999,-101.643756,-51.749334000000005,-44.288587,-32.683844000000001,-31.298582,-53.497259000000014,-42.573071000000006,-30.810295,19.247328000000003,-5.2719389999999979,-0.19818699999999811,-41.342449999999999,-9.653553000000004,33.952120000000001,-79.537834000000004,3.4367359999999971,-45.914029999999997,-42.023925000000006,-18.225289,12.183396,33.81657400000001,-15.51999,-45.396551000000002,-43.872962000000001,-50.882897,-41.632220000000004,-68.060720000000003,-75.233367999999999,-76.288361999999992,-17.289726999999999,9.951470999999998,28.640370999999998,2.5645410000000011,-1.9632190000000009,-6.2858929999999997,-62.834459000000003,15.853118,-50.125582999999999,-68.813347000000007,-27.777715000000001,-43.308019000000002,29.725959,10.981456,-23.400300999999999,38.588410000000003,33.878851000000004,-8.8894090000000023,-4.5769359999999981,-38.604118,9.2846609999999998,-76.685428999999999,-17.226016999999999,13.806511,3.219554,9.2395250000000022,-10.676272999999998,24.094766,-23.640417000000003,9.7778379999999991,5.2912079999999948,82.698109000000002,2.7952149999999971,-5.3438629999999971,5.4496109999999973,-16.057859000000001,-6.4992359999999971,32.762330999999996,29.578959999999999,48.489789999999999,25.599669000000002,-9.5607379999999971,-9.5840659999999982,27.308735000000002,-51.584298000000004,-17.876096,26.150808000000001,32.334023999999999,34.255755000000001,5.5227139999999997,31.595454,91.182842999999991,40.997913999999994,"-","-","-"]
[null,null,"Hernani-Argia",-102.72,-16.097000000000001,-43.896999999999998,64.677999999999997,43.194000000000003,-5.6539999999999999,28.739000000000001,133.67699999999999,79.680999999999997,82.013000000000005,-13.952999999999999,-9.5399999999999991,-8.2110000000000003,-38.514000000000003,-102.111,-50.088000000000001,-24.928999999999998,60.170999999999999,61.636000000000003,153.45699999999999,19.091999999999999,49.8,109.86199999999999,101.943,84.513000000000005,16.623000000000001,68.573999999999998,148.79499999999999,312.49700000000001,346.90699999999998,238.119,293.43099999999998,163.63300000000001,124.021,47.539000000000001,13.416,67.385999999999996,50.061999999999998,74.763000000000005,107.15300000000001,83.043999999999997,73.588999999999999,123.044,81.697999999999993,128.78,75.066000000000003,29.928000000000001,34.758000000000003,-23.452000000000002,-48.183,-16.315999999999999,-3.1459999999999999,20.802,8.3469999999999995,125.32899999999999,242.54400000000001,210.68,260.53100000000001,265.46100000000001,260.96699999999998,237.762,206.44399999999999,220.80099999999999,200.02,229.93600000000001,209.79400000000001,186.30199999999999,261.15199999999999,219.34899999999999,219.21299999999999,251.74199999999999,175.41499999999999,50.244999999999997,-36.557000000000002,191.49199999999999,217.095,193.42,213.547,163.82,176.602,170.93600000000001,254.01499999999999,225.97200000000001,149.93700000000001,-105.54600000000001,5.9390000000000001,133.49,131.69800000000001,156.19,116.23,131.94,146.4,135.57,150.76,132.83000000000001,-40.293999999999997,138.33199999999999,150.71,195.36,222.06,236.85,221.66,241.23,311.74,183.72,208.32,224.39,258.3,287.07,283.74599999999998,250.77,192.04,237.01,215.98,298.27,318.26,223.12,263.94,275.05,234.88,104.73,234.29,328.15,340.96,393.21,363.85,374.67,364.56,292.27999999999997,292.05900000000003,300.86272254024755,231.6,40.13587617696858,-2.3439999999999999,-14.36,195.70746947674652,329.5,300.52999999999997,335.43,364.58,313.66199999999998,232.37,312.17,293.72000000000003,334.51494067694995,347.65765859516699,370.99181733920312,407.38380256315486,282.01616307617002,148.14353307504041,313.97537474848536,372.91748725657868,310.59199999999998,378.26,385.37,263.05518787246439,-15.721073910555248,74.944834259270607,184.51427658240749,164.78434328493282,340.31680863440232,302.65767734522512,261.39623577257203,261.11822782390277,242.315,184.79400000000001,154.81399999999999,84.04,100.411269,90.903110000000012,114.88975000000001,197.819087,275.232101,207.39961199999999,232.63690199999999,160.056454,166.63650899999999,160.509109,198.14510000000001,315.25298800000002,402.93802399999998,291.40986099999998,263.62821700000001,201.82093700000001,295.59009700000001,161.79968,68.79025200000001,112.21778999999999,97.616891999999993,58.856493999999998,36.652208999999999,13.917768000000001,111.623299,36.35438400000001,-75.657530999999992,77.180920999999998,287.76268099999999,210.420782,44.66914899999999,220.433843,184.33329900000001,158.85025300000001,3.0854820000000043,-69.410349000000011,189.22758300000001,119.11386900000001,152.82007899999999,219.62798100000001,123.631046,145.024711,124.303798,189.530676,124.505009,70.256423999999996,1.4244259999999991,131.12958699999999,252.24020899999999,264.72223100000002,187.20072099999999,61.560179999999995,260.17931400000003,63.915442999999996,90.199035000000009,202.11431299999998,98.523108999999991,57.016376999999991,-10.938796,45.870717999999997,-49.424883000000008,-71.830125999999993,90.91440900000002,167.91228400000003,255.930183,-4.0161999999999969,-51.005336999999997,100.117549,69.852944000000008,28.918680000000002,37.814028999999991,-84.287085000000005,-227.122939,-119.99127899999999,-204.95170199999998,-134.94100299999999,18.329898000000007,73.950814999999992,92.874838000000011,210.81913299999999,139.396199,62.882605999999996,46.39156100000001,-140.91439499999998,-111.67310400000001,-43.937643000000008,-188.74838800000001,-23.319380000000002,128.119924,263.29736500000001,268.34623100000005,288.73341700000003,125.844508,122.840912,-37.759044999999993,100.951779,269.02021500000001,-146.16131300000001,145.63474199999999,23.975628999999991,115.122963,118.603219,82.699611999999988,80.877635999999995,24.795749000000001,-95.172346999999988,-135.50411499999998,-57.009898,42.11674499999998,-101.14163600000001,-258.72712300000001,-302.37091800000002,176.260493,275.827988,171.57747800000001,245.48590900000002,171.98567399999999,95.030134999999987,-187.90312599999999,24.723877000000012,-176.47225,-357.707809,-135.34223600000001,-50.922769999999993,222.09210999999999,236.326852,250.849313,221.884297,261.76184999999998,163.650949,96.489845999999986,93.933958000000004,210.662736,-240.64691399999998,-27.209627000000012,193.34379999999999,209.69226699999999,195.034097,111.366342,197.18444200000002,132.381912,105.97045200000001,299.51300900000001,481.88640199999998,59.44411599999998,-19.06587800000003,-13.799633999999989,-234.923134,160.14257900000001,362.91147100000001,346.90872200000001,418.679146,325.12832700000001,-24.128090999999991,63.357194999999976,243.179619,-217.658187,71.360796999999991,568.13245400000005,589.4723590000001,666.76883700000008,405.15014000000002,502.41465399999998,634.14896400000009,619.71004299999993,"-","-","-"]
[null,null,"Irún-Errondenia",0,0,0,0,-7.032,-4.1000000000000002E-2,0,-1.101,-0.16300000000000001,-4.3390000000000004,-0.246,-0.29199999999999998,-5.1999999999999998E-2,-0.47299999999999998,-0.82399999999999995,-3.569,-5.4749999999999996,-10.023,-10.587,-7.351,-7.2190000000000003,-2.3719999999999999,-0.14399999999999999,-3.7280000000000002,-2.7519999999999998,-1.772,-4.3769999999999998,-4.6399999999999997,-2.1680000000000001,-7.4859999999999998,-0.441,-0.82299999999999995,-2.169,-3.653,0,-6.0000000000000001E-3,-0.67500000000000004,-2.8000000000000001E-2,-1.131,-17.001000000000001,-3.1429999999999998,-2.996,-0.64900000000000002,-0.90100000000000002,-1.1439999999999999,-1.839,-1.0389999999999999,-1.1399999999999999,-0.66200000000000003,-7.4999999999999997E-2,-0.25800000000000001,-9.6000000000000002E-2,-0.437,-0.48699999999999999,-0.30099999999999999,-0.67400000000000004,-0.72899999999999998,-0.16300000000000001,-0.106,-9.2999999999999999E-2,-8.5999999999999993E-2,-7.6999999999999999E-2,-7.0000000000000007E-2,-1.1499999999999999,-1.2549999999999999,-8.8999999999999996E-2,-0.46300000000000002,-0.92900000000000005,-4.5579999999999998,-0.28299999999999997,-0.113,-0.13600000000000001,-0.39,-0.106,-9.1999999999999998E-2,-0.21299999999999999,-1.0620000000000001,-1.802,-0.77600000000000002,-0.64100000000000001,-0.66700000000000004,-1.2529999999999999,-2.6160000000000001,-9.6000000000000002E-2,-0.106,-7.9000000000000001E-2,-0.121,-2.2330000000000001,-8.7999999999999995E-2,-7.0999999999999994E-2,-0.183,-0.10100000000000001,-0.83199999999999996,-0.248,-8.7999999999999995E-2,-0.106,-0.31,-1.242,-9.0999999999999998E-2,-0.14499999999999999,-0.81200000000000006,-0.41499999999999998,-0.14099999999999999,-1.4E-2,-1.1639999999999999,-0.11700000000000001,-0.11700000000000001,-0.125,-0.105,-7.0999999999999994E-2,-7.9000000000000001E-2,-6.4000000000000001E-2,-3.173,-7.5999999999999998E-2,-0.17699999999999999,-0.16,-2.0150000000000001,-8.2000000000000003E-2,-1.7290000000000001,-0.11600000000000001,-7.3999999999999996E-2,-0.71099999999999997,-0.38600000000000001,-3.6999999999999998E-2,-0.34100000000000003,-0.71499999999999997,-7.9000000000000001E-2,-7.9000000000000001E-2,-8.2000000000000003E-2,-0.219,-0.16988233204979628,-0.14099999999999999,0,-8.3000000000000004E-2,-8.4000000000000005E-2,-4.6682114319966024,-7.5999999999999998E-2,-0.13300000000000001,-0.13,-0.14499999999999999,-0.10100000000000001,-8.1000000000000003E-2,-0.158,-8.2000000000000003E-2,0,0,0,-15.72746248836488,-0.22397301464919045,0,0,0,-7.0999999999999994E-2,0,-0.10299999999999999,-7.0261011419249605E-2,-4.0093525833106332E-2,0,-6.8151469194312794E-2,-0.63432967674174356,-6.4136752136752129E-2,0,0,0,-2.2909999999999999,-1.024,-9.0999999999999998E-2,-0.82499999999999996,-8.0236999999999989E-2,-7.2531000000000012E-2,-7.5426000000000007E-2,-0.16395599999999999,-7.0233000000000004E-2,-3.5199999999999999E-4,-0.32211399999999996,-7.5462999999999988E-2,-0.26658399999999988,-1.264432,-0.15982499999999999,-7.8079999999999997E-2,-7.0796999999999999E-2,-0.83209600000000006,-5.0985999999999997E-2,-5.6226999999999999E-2,-9.363500000000001E-2,-7.5749999999999998E-2,-7.7986E-2,-7.8252000000000002E-2,-7.5714000000000004E-2,-7.7742999999999993E-2,-7.5724E-2,-6.7833000000000004E-2,-0.145561,-7.0906000000000011E-2,-4.9177999999999999E-2,-0.19950000000000001,-0.12631900000000001,-7.5109999999999996E-2,-7.7661000000000008E-2,-7.7205999999999997E-2,-7.6248999999999997E-2,-9.2549999999999993E-2,-7.5011999999999995E-2,-7.8090999999999994E-2,-7.8325000000000006E-2,-7.011400000000001E-2,-6.9161E-2,-6.6280000000000006E-2,-8.7410000000000002E-2,-7.3905999999999999E-2,-7.3156000000000013E-2,-6.9459999999999994E-2,-7.352800000000001E-2,-6.8236000000000005E-2,-6.4908000000000007E-2,-7.7051000000000008E-2,-7.8033000000000005E-2,-6.1613000000000001E-2,-0.101456,-0.20869900000000002,-0.101622,-0.12998099999999999,-7.7998999999999999E-2,-7.8690999999999997E-2,-7.6183000000000001E-2,-0.15048300000000001,-0.113745,-0.29794199999999998,-0.121751,-8.3888999999999991E-2,-9.7697000000000006E-2,-0.43845699999999999,-0.30040600000000001,-0.34246899999999997,-0.10048799999999999,-0.135963,-0.19354299999999999,-8.0013000000000001E-2,-0.203794,-0.22527,-0.27636700000000003,-7.7787000000000009E-2,-5.5793999999999996E-2,-0.28700599999999998,-0.26943,-0.14162899999999998,-7.8798000000000007E-2,-0.12352100000000001,-0.149566,-7.8773999999999997E-2,-0.15491199999999999,-9.4633999999999996E-2,-7.9263E-2,-7.1906999999999999E-2,-6.7638000000000004E-2,-0.371064,-0.47333999999999998,-0.244703,-9.5385000000000011E-2,-7.9861999999999989E-2,-0.12012,-0.16638499999999998,-0.133908,-7.896800000000001E-2,-7.9325999999999994E-2,-6.7016999999999993E-2,-6.4620999999999998E-2,-0.105605,-0.17707400000000001,-0.15916999999999998,-7.6683000000000001E-2,-8.6059999999999998E-2,-0.25949099999999997,-0.35040499999999997,-9.7977000000000009E-2,-0.14384899999999998,-7.2986000000000009E-2,-0.20652799999999999,-7.4349999999999999E-2,-0.16861600000000002,-0.21151200000000001,-0.106654,-7.9546999999999993E-2,-0.11679200000000001,-8.6902000000000007E-2,-0.23258199999999998,-7.7258999999999994E-2,-0.15451300000000001,-7.9416E-2,-8.9760000000000006E-2,-7.4024000000000006E-2,-0.17180899999999999,-0.16686000000000001,-0.111719,-9.9240999999999996E-2,-9.4182000000000002E-2,-0.16336699999999998,-0.14188700000000001,-7.3811000000000002E-2,-8.0140000000000003E-2,-0.123722,-2.5178000000000002E-2,-0.18330199999999999,-0.247359,-0.26027400000000001,-0.14288200000000001,-8.0156999999999992E-2,-8.0012E-2,-0.22448699999999999,-0.10448099999999999,-6.4185000000000006E-2,-6.9197999999999996E-2,-0.111141,-6.9381999999999999E-2,-8.2098000000000004E-2,-0.137486,-9.9537E-2,-0.27637200000000001,-7.9023999999999997E-2,-7.9819000000000001E-2,-0.12063800000000001,-0.18573500000000001,-0.14657200000000001,-5.7621000000000006E-2,-0.38220599999999999,-7.1494000000000002E-2,-0.14715600000000001,-0.17357300000000001,-0.192022,-0.25015899999999996,-4.9817E-2,-0.18132799999999999,-0.176706,"-","-","-"]
[null,null,"Santa Llogaia-Baixas",0,0,0,0,0,0,0,0,0,0,0,0,0,0,0,0,0,0,0,0,0,0,0,0,0,0,0,0,0,0,0,0,0,0,0,0,0,0,0,0,0,0,0,0,0,0,0,0,0,0,0,0,0,0,0,0,0,0,0,0,0,0,0,0,0,0,0,0,0,0,0,0,0,0,0,0,0,0,0,0,0,0,0,0,0,0,0,0,0,0,0,0,0,0,0,0,0,0,0,0,0,0,0,0,0,0,0,0,0,0,0,0,0,0,0,0,0,0,0,0,0,0,0,0,0,0,0,0,0,0,0,0,0,0,0,0,0,0,0,0,0,0,0,0,0,0,0,0,0,0,0,0,0,0,0,0,0,0,0,0,0,0,0,0,0,0,0,0,0,0,0,0,0,0,0,0,0,0,0,0,0,0,0,0,0,0,0,0,0,0,0,0,0,0,0,0,0,0,0,0,0,0,0,0,0,0,0,0,0,0,0,0,0,0,0,0,0,0,0,0,0,0,0,0,0,0,0,0,0,0,0,0,0,0,0,0,0,0,0,0,0,0,0,0,0,0,0,0,0,0,0,0,0,0,0,0,0,0,0,0,0,0,0,0,0,0,0,0,0,0,0,0,0,0,0,0,0,0,0,0,0,0,0,0,0,0,0,0,0,0,0,0,0,0,0,0,0,0,0,0,0,0,0,-0.16213999999999998,1.6695959999999999,4.1279999999999747E-2,7.3877560000000013,10.442424000000004,153.15763700000002,191.25812999999999,414.149631,602.40405399999986,225.10328500000003,289.15349800000001,230.39487599999998,-23.48305299999998,339.63177900000005,497.20416799999998,605.86272000000008,619.31322799999998,553.14320900000007,59.281688999999972,219.33512300000001,431.57685500000002,11.018531000000003,241.96998500000001,652.63005199999998,504.12983400000002,678.71138800000006,638.6481970000001,550.22542800000008,658.44792100000006,648.28605600000003,"-","-","-"]
[null,null,"Vic-Baixas",-55.7,58.25,106.974,-18.736999999999998,122.499,78.45,34.338999999999999,-79.673000000000002,-8.3360000000000003,-42.798000000000002,-45.192,60.920999999999999,87.328999999999994,102.081,55.317,-89.611000000000004,-105.2,-82.941999999999993,0.76600000000000001,-46.308,43.354999999999997,15.435,-29.841000000000001,-11.891,-8.2279999999999998,52.322000000000003,77.656000000000006,55.48,66.759,117.361,103.048,-48.316000000000003,26.004000000000001,-81.722999999999999,18.89,55.780999999999999,106.973,211.863,207.63300000000001,114.372,141.62,171.167,185.81200000000001,32.802999999999997,-57.698,-14.815,36.746000000000002,13.013999999999999,64.885999999999996,101.17400000000001,75.876999999999995,77.435000000000002,45.6,53.6,231.23,118.06,223.57,209.3,186.02,189.56,203.3,195.44,203.67,207.25,181.06,210.27,299.49,225.55,247.4,196.86,127.5,84.23,-10.98,-76.652000000000001,-62.54,-16.36,-27.57,78.45,203.17,119.48,147.37,44.49,109.3,56,-177.57,-68.22,8.41,10.25,-4.6900000000000004,-56.16,-1.41,-17.73,76.209999999999994,125.91,29.41,1.02,237.86,198.2,209.85,194.73,105.05,91.45,138.59100000000001,133.56,208.02,189.27,188,195.13,201.37,211.07,284.23,340.53,205.95,224.51,341.82,305.83999999999997,375.62,343.07,392.12,371.73,381.35,389.66,417.32,349,339.21,214.02799999999999,255.94,292.83,348.85,369.75,453.85816352162584,219.92,139.39092866610446,259.81400000000002,191.41900000000001,243.58315208500153,294.76,297.05,288.23,292.01,303.19,162.63,325.24,423.44,324.16358214927038,387.30572948413339,407.94135921188706,343.13869800763069,145.92137059301837,111.62642397119245,271.35904208402508,243.113283670789,313.51,233.05,348.13,371.4374588157736,304.25503826643791,240.00116761255626,304.55458594039999,163.94445406788111,154.0573764491744,250.09928073842835,342.38359228778165,316.63157427589692,319.45100000000002,291.47899999999998,125.884,133.19900000000001,145.33906099999999,157.125642,301.11518199999995,73.132867000000005,92.527074999999996,152.653009,265.997772,111.00559600000001,263.71295500000002,159.58462400000002,236.82073,389.53259000000003,390.51708000000002,304.56037300000003,232.07341399999999,314.20700900000003,404.18836700000003,462.08698800000002,506.78579999999999,408.86831000000001,271.483136,300.547304,176.72286700000001,257.43182000000002,320.51172600000001,199.07471900000002,75.541103000000007,326.00832299999996,264.39224000000002,242.148943,244.860287,353.36768800000004,367.02994200000001,303.735412,158.70052699999999,210.309923,406.13363900000002,335.822518,413.533051,327.648842,338.91530299999999,398.42191800000001,476.07713000000001,446.28630400000003,218.76248699999999,13.865969,51.764130999999985,194.80886600000002,193.010942,167.91917800000002,24.723045999999989,-8.8151770000000038,0.1017339999999967,49.017490000000009,192.43610000000001,92.397415000000009,112.082474,39.773437000000001,263.591881,250.80616500000002,73.83569700000001,101.293806,207.74113,209.82279300000002,236.998852,282.04366700000003,298.98042800000002,70.187124000000011,44.889921000000001,69.422470999999987,10.85110000000001,82.008760999999993,87.433515000000014,-40.954190999999994,28.407824999999999,-80.264136999999991,-68.41554099999999,10.017702,-5.873960999999996,134.734915,-17.757414999999991,-96.705385000000007,53.245254000000003,-29.519432999999999,33.563932999999999,-24.560033999999998,-59.382091000000003,-61.425666,62.928056999999995,76.093475999999995,191.33039099999999,250.681476,228.574243,232.51395499999998,44.01584600000001,246.54639,392.60624099999995,60.377634,203.03180799999998,61.712658000000012,177.564233,387.71191800000003,428.07543099999998,245.27775099999999,88.07983999999999,-36.050747000000001,101.563762,145.38588300000001,134.786655,-55.769219,-180.665672,32.746704999999999,338.84949499999999,205.250856,276.44604100000004,376.043409,194.17885699999999,192.122536,75.062189000000004,372.14454499999999,65.171300000000002,-62.427107000000007,42.998194999999996,-26.718288000000001,356.33798100000001,362.57682599999998,404.88648999999998,509.01876600000003,466.03497700000003,313.38435499999997,363.94321399999995,212.73655499999998,382.73821500000003,62.327774999999988,138.933851,172.08559899999997,550.18334100000004,490.53924999999998,551.61288100000002,421.03632500000003,184.31712299999998,172.083664,295.24019599999997,373.315111,122.342294,146.33095699999998,102.538251,-19.997140999999999,129.07107099999999,212.60086100000001,257.96787999999998,214.83937800000001,240.88927600000002,20.34404000000001,92.955368000000007,195.95372,3.8019879999999979,107.147458,305.73028999999997,225.72903299999999,300.20688900000005,287.93273700000003,250.77658400000001,237.118247,289.32946999999996,"-","-","-"]
[null,null,"Total",{"$f":"SUM(D82:D88)","v":-303.91200000000003},{"$f":"SUM(E82:E88)","v":-5.972999999999999},-4.5469999999999828,-15.544999999999998,166.70499999999998,0.37500000000001421,-10.947000000000003,-10.412000000000006,16.665999999999997,-14.948999999999998,-144.28200000000001,-37.005000000000017,-9.2730000000000103,-10.197000000000003,-138.976,-240.89,-216.23099999999999,-74.977999999999994,-9.3170000000000019,71.012,9.5289999999999964,10.434999999999986,40.746999999999993,32.375,-5.1189999999999953,-23.658000000000001,60.943000000000012,186.63899999999998,438.95800000000003,515.36099999999999,393.60300000000001,256.63,155.03100000000001,18.536999999999992,16.863999999999997,-3.0000000000000071,118.32599999999999,240.17099999999999,244.149,177.756,234.97499999999999,224.76400000000001,297.95500000000004,37.546999999999997,14.710999999999991,13.272000000000004,0.7289999999999921,-19.637999999999995,-29.555000000000007,-0.56199999999999761,59.508999999999993,50.414000000000001,66.302999999999997,55.414000000000001,345.53399999999999,351.93200000000002,455.54899999999998,514.26900000000001,491.678,490.71599999999995,501.37299999999999,468.62099999999998,487.65200000000004,455.49099999999999,489.66500000000002,{"$f":"SUM(BQ82:BQ88)","v":476.77800000000002},508.93600000000004,518.471,503.52300000000002,444.17600000000004,401.39400000000001,256.94499999999999,-21.166000000000007,-220.53999999999996,107.45599999999999,241.05599999999998,170.83099999999999,292.58500000000004,339.85399999999993,296.233,277.83299999999997,307.61500000000001,322.90600000000001,183.095,-453.24099999999999,-156.30399999999997,95.999000000000009,76.231000000000009,59.268999999999998,4.6510000000000105,60.885000000000012,50.995999999999995,161.81399999999999,236.86399999999998,80.64200000000001,-158.12499999999997,346.72500000000002,340.95799999999997,425.36800000000005,406.65,363.05700000000002,332.61500000000001,371.87200000000001,400.27199999999999,333.63300000000004,390.56700000000001,370.05399999999997,437.44299999999998,465.24899999999997,508.80299999999994,555.99600000000009,543.12099999999998,488.05699999999996,472.26800000000003,650.77399999999989,656.89499999999998,606.14499999999998,623.68499999999995,691.91499999999996,622.31899999999996,386.83300000000003,634.16800000000001,796.17899999999997,739.32400000000007,814.55399999999986,640.13499999999999,645.94600000000003,672.97399999999993,675.54200000000003,{"$f":"SUM(EC82:EC88)","v":692.02600000000007},770.18600000000015,438.452,97.716999999999999,185.00300000000004,54.243000000000023,349.00099999999998,662.18599999999992,641.05999999999995,661.452,661.05200000000002,625.17399999999998,384.52600000000001,611.26,618.93900000000008,618.59399999999994,788.94700000000012,869.46300000000008,838.56599999999992,570.58100000000002,408.35500000000002,745.13199999999995,751.48,744.51799999999992,776.423,939.49600000000009,782.78199999999993,310.51800000000003,295.36299999999994,522.827,349.59800000000007,626.1,680.78499999999997,639.40199999999993,668.7170000000001,639.54,522.096,316.255,213.71500000000003,299.11300499999999,288.69004800000005,414.55409499999996,295.21432700000003,434.09742200000005,425.72355999999996,546.23670599999991,300.98041599999999,490.46389599999998,428.03128200000003,499.02663799999993,799.54087900000002,937.16182299999991,708.30103200000008,591.10645199999999,608.77521900000011,806.68301400000007,685.499505,594.11344399999996,556.03841999999997,345.709203,311.62453399999998,167.73400900000001,231.86604300000002,459.172102,{"$f":"SUM(GO82:GO88)","v":170.80520500000003},-101.259654,440.59804699999995,683.84930600000007,514.38201800000002,262.64524699999998,641.41397500000005,635.61424299999999,515.37477699999999,118.24831399999999,68.760488000000009,657.09856600000001,477.61433900000003,614.27649199999996,650.44653999999991,504.93591300000003,640.51552400000003,632.70344599999999,693.47432500000002,342.80580299999997,38.430986999999995,-38.620320000000028,273.04522600000001,521.56742299999996,496.00483200000008,161.90791999999996,21.460095999999993,367.03538100000003,104.36626000000001,295.41168800000003,317.89544000000001,168.01142499999997,25.673459000000001,196.51233200000001,213.38360500000002,-97.990528999999981,-102.38750499999999,279.12169100000006,411.88984300000004,571.11960999999997,275.91006200000004,190.45788500000003,153.03565600000002,82.53670200000002,31.24882199999999,-26.740288999999997,-177.92973900000004,-346.84330799999998,-324.69303500000001,-349.43869499999994,-327.32068999999996,-132.504313,16.535170999999984,33.182091000000021,382.28679299999999,77.77201500000001,-153.158008,-19.262121999999977,-387.47631199999995,-225.43902800000004,-184.11736400000001,-384.77420000000001,-154.43429599999999,141.47329999999999,{"$f":"SUM(JA82:JA88)","v":348.13045900000003},477.23495600000001,602.98822200000006,352.12799699999999,348.39110499999998,-99.604464999999976,302.43091800000002,713.90086500000007,-305.50284099999999,335.60578299999997,-6.6803189999999901,248.42928699999999,476.66441100000003,497.06216099999995,334.55087300000002,69.549922999999993,-273.60241700000006,-178.76190399999996,-28.423709999999971,94.327973999999969,-306.581569,-639.792822,-463.80416699999995,499.166831,552.55830400000002,520.5265290000001,672.10976000000005,397.57845799999996,283.84069399999998,-275.95140400000003,373.88776899999999,-261.70592699999997,-635.77823099999989,-187.87598700000001,-159.58543799999998,666.69734900000003,666.47373599999992,694.54688899999996,812.68675400000006,757.12756200000001,507.69579999999996,456.42771299999993,250.78544799999997,620.35985400000004,-381.11299199999996,49.525361000000004,409.85488899999996,817.13493600000004,749.84706599999993,669.59805600000004,685.90885400000002,468.31993699999998,482.35536200000001,1083.8041659999999,1668.6168229999998,385.79507999999998,383.02326799999997,293.09988499999997,-380.06760100000002,644.08876599999996,1193.685896,1308.526689,1392.4403170000001,1220.6351800000002,{"$f":"SUM(LM82:LM88)","v":45.380299999999991},370.16291699999999,944.738024,-350.46461700000003,405.61630300000002,1700.0281260000002,1481.4555580000001,1856.0466510000001,1430.8716720000002,1401.028358,1705.1109709999998,1633.864077,"-","-","-"]
[null,"Portugal","Aldeadávila-Pocinho 1",12.74,-3.2509999999999999,-51.593000000000004,-49.49,-50.17,-64.959000000000003,-71.283000000000001,-60.515999999999998,-71.363,-66.793999999999997,-48.618000000000002,-77.338999999999999,-69.558000000000007,-61.186999999999998,-3.927,-6.3959999999999999,-50.140999999999998,-47.585000000000001,-74.861999999999995,-58.884,-87.350999999999999,-69.763999999999996,-63.228999999999999,-65.659000000000006,-90.644000000000005,-130.691,-126.46899999999999,-61.463999999999999,-92.56,-95.784999999999997,-138.642,-65.344999999999999,-79.085999999999999,-79.784000000000006,-78.638000000000005,-73.352000000000004,-90.99,-81.468999999999994,-98.414000000000001,-99.334999999999994,-70.814999999999998,-56.962000000000003,-82.402000000000001,-82.58,-95.647999999999996,-31.698,48.595999999999997,-58.325000000000003,-50.307000000000002,-51.869,-54.828000000000003,-35.069000000000003,-19.527999999999999,-36.771000000000001,-112.776,-121.04900000000001,-115.29600000000001,-92.024000000000001,-78.02,-89.984999999999999,-79.054000000000002,-56.063000000000002,-103.38800000000001,-92.772000000000006,-91.412999999999997,-101.81100000000001,-85.727999999999994,-116.108,-134.41200000000001,-90.503,-60.448999999999998,-43.72,52.459000000000003,46.017000000000003,11.438000000000001,19.478999999999999,8.1669999999999998,-37.369999999999997,-48.381999999999998,-54.792000000000002,-83.575000000000003,-101.235,-88.156999999999996,-16.315000000000001,37.503,-15.831,-60.488,-98.834000000000003,-116.419,-57.921999999999997,-91.358999999999995,-93.171999999999997,-22.928999999999998,-37.436999999999998,40.481999999999999,48.113999999999997,53.366,33.290999999999997,2.637,21.513000000000002,-1.024,13.089,-34.408999999999999,-41.447000000000003,-44.436,-22.783000000000001,-19.937999999999999,-43.061,-46.140999999999998,-28.946000000000002,-25.361000000000001,16.946000000000002,40.085000000000001,19.478999999999999,-20.077999999999999,37.988,-7.3159999999999998,13.135999999999999,29.001000000000001,4.8890000000000002,1.883,-1.923,-43.87,8.8710000000000004,45.454999999999998,-39.590000000000003,-45.587000000000003,-86.698999999999998,-66.759,-25.579000000000001,0.43176960416380794,81.518000000000001,68.14281579140561,34.960999999999999,27.373000000000001,94.58,20.087,1.786,-18.048999999999999,7.9180000000000001,-25.65,33.988,21.736999999999998,-21.047999999999998,-18.56193181166244,0,-1.9378276688642773,6.1119878023334033,-27.231485210571204,-28.758443915796121,-40.539305286486403,-71.321901965471966,-57.542999999999999,-53.238,-19.189,-4.4252036972095325,-1.0975504595788246,-12.544400427479555,-10.91073861231013,-17.716054028806425,-33.809228359439807,-24.58077399258395,-43.781960822317139,-57.656554092680807,-12.557,-7.74,40.643000000000001,1.631,-27.70252,-23.834060000000001,-51.198680000000003,-57.090199999999996,-65.411619999999999,-72.978020000000001,-85.99736,-70.152179999999987,-75.002800000000008,-68.0929,-61.24436,-71.874660000000006,-97.864580000000004,-71.223280000000003,-84.201440000000005,-81.313199999999995,-81.240439999999992,-88.796540000000007,-96.589799999999997,-178.34948,-140.39814000000001,-116.41796000000001,-108.41732,-86.093580000000003,-105.87166000000001,-87.915139999999994,-34.373019999999997,-50.766980000000004,-85.851380000000006,-114.44355999999999,-98.425060000000016,-90.051839999999999,-117.32635999999999,-69.445999999999998,17.128740000000001,69.692099999999996,-34.735900000000001,-6.781200000000001,-40.258300000000006,-62.952300000000001,-60.006599999999999,-44.943100000000015,-82.061800000000005,-96.414000000000001,-101.6437,-98.425900000000013,-84.854400000000012,-107.9325,-92.239400000000003,-98.981200000000015,-122.84089999999999,-73.661600000000007,-83.657099999999986,-79.127200000000016,-74.69489999999999,-71.279600000000002,-85.4846,-100.58319999999999,-108.0201,-93.034800000000004,-43.1462,-12.552100000000001,-50.959699999999998,-96.362200000000001,-101.66889999999999,-74.4602,-46.890900000000002,-73.147000000000006,-38.121400000000001,-53.764300000000006,-33.546500000000002,57.234500000000004,136.779,103.8103,116.27889999999999,104.8389,69.776699999999991,-0.33570000000000072,-11.344799999999999,-45.724599999999995,-32.667000000000002,-36.321899999999999,13.9002,84.923199999999994,-19.0852,-8.8419000000000008,-23.556000000000001,-50.823080000000004,-22.0213,-37.957000000000001,-35.705400000000004,-44.339700000000001,-47.352800000000002,-45.220500000000001,-25.262700000000002,-39.020000000000003,-60.723399999999984,-56.198300000000003,-60.0989,-43.629300000000001,-47.499300000000005,-45.5274,-47.403199999999998,-38.6509,-44.712399999999988,-55.348199999999999,-17.914300000000001,-35.1081,2.541999999999998,-1.0984,39.607300000000002,14.8407,-32.473199999999999,-35.4908,-56.298499999999997,-43.7883,-45.748800000000003,-37.226300000000002,-19.8628,-17.549199999999999,43.580400000000004,22.5289,-5.0714000000000006,-42.821899999999999,-31.607800000000001,-46.856699999999996,-36.29495,-39.387,-51.828800000000001,-34.659300000000002,7.7024999999999997,-26.4114,-41.192800000000005,1.0986999999999989,-30.0291,-45.5443,-31.895900000000001,-43.033799999999999,-39.757600000000011,-41.569499999999998,-31.4148,-2.3401999999999989,-30.9739,-32.659999999999997,31.404599999999999,38.804400000000001,2.0524,16.3507,12.4762,-0.26510000000000045,-12.232899999999999,-13.626100000000001,1.1005,-22.662800000000001,8.1064000000000007,-0.47019999999999706,-10.197100000000001,26.174799999999998,4.0235000000000003,-13.9049,-13.713299999999998,3.7408999999999999,15.0238,26.5261,-2.0575999999999999,"-","-","-"]
[null,null,"Aldeadávila-Pocinho 2",159.94499999999999,150.28700000000001,80.108999999999995,14.641,-4.7850000000000001,-11.141,-5.1959999999999997,0.01,-1.611,1.792,37.616999999999997,14.375999999999999,60.618000000000002,47.231000000000002,147.10499999999999,99.56,85.272999999999996,44.258000000000003,-27.55,-28.03,-40.488999999999997,8.8559999999999999,17.277999999999999,1.226,-27.170999999999999,-73.076999999999998,-72.844999999999999,5.0819999999999999,-56.451999999999998,-36.423000000000002,-60.405000000000001,-20.344000000000001,-6.2960000000000003,-1.611,11.943,53.402000000000001,9.8420000000000005,-7.0259999999999998,-33.503999999999998,-55.448999999999998,-6.18,25.774999999999999,6.694,-39.045999999999999,-6.5430000000000001,96.430999999999997,144.374,70.298000000000002,130.922,106.64100000000001,74.117999999999995,44.305999999999997,44.433,28.698,-47.661000000000001,-67.751000000000005,-26.731000000000002,-33.316000000000003,5.9279999999999999,-28.055,29.059000000000001,68.923000000000002,41.73,-3.9769999999999999,-23.952999999999999,-42.79,-55.661999999999999,-68.022999999999996,-54.295000000000002,-44.045000000000002,-15.582000000000001,32.457999999999998,166.06399999999999,173.11,143.03899999999999,142.84399999999999,122.642,65.305000000000007,23.492000000000001,-1.4319999999999999,-22.699000000000002,-57.32,23.878,126.77,180.34700000000001,153.85400000000001,80.137,-1.6220000000000001,-12.993,83.777000000000001,-1.9319999999999999,-18.231000000000002,52.896000000000001,39.439,146.44999999999999,175.87100000000001,185.22900000000001,161.06399999999999,107.023,128.15299999999999,146.03800000000001,123.59099999999999,53.828000000000003,25.413,50.244999999999997,18.143999999999998,52.914000000000001,15.759,27.686,29.192,56.889000000000003,97.935000000000002,91.563999999999993,76.349000000000004,39.052999999999997,59.091999999999999,0.20200000000000001,70.177999999999997,114.623,133.77500000000001,106.256,80.459999999999994,42.271999999999998,108.807,159.18600000000001,31.846,20.899000000000001,-18.324000000000002,28.369,54.860999999999997,90.903901449677576,174.572,164.8954262593162,137.24600000000001,124.819,153.678,101.777,67.831999999999994,48.975000000000001,28.417000000000002,0,0,0,0,7.3526142505863037,32.529322604067424,72.944722132239363,81.358418185209715,28.37578948028828,28.176540696586329,-11.613673436336356,-48.050949884732077,-13.986000000000001,-5.8319999999999999,47.375,186.09145400283933,258.26946347546567,194.82436596137367,209.20688286959725,162.73998515315688,128.34938104475825,60.866427426487036,13.604795356345917,-8.9562466270344085,12.09,25.481999999999999,47.929000000000002,204.488,129.41602,146.57074,98.955659999999995,84.850400000000008,81.547280000000001,12.584100000000001,-16.854320000000001,5.7735999999999992,23.379159999999999,35.501440000000002,67.86066000000001,-5.4425800000000013,-18.387540000000001,4.0869200000000019,8.2526000000000028,20.26886,-0.2065200000000004,-9.7780799999999974,-37.621339999999996,-91.996799999999993,-37.63062,-30.129339999999999,3.6678800000000011,15.1797,-21.10378,-19.269220000000001,93.111080000000001,77.453419999999994,19.857200000000002,-26.23122,-20.615919999999999,-37.039480000000005,-50.473980000000005,52.107440000000004,149.91398000000001,179.34639999999999,72.382900000000006,136.45650000000001,157.1439,58.514800000000001,108.5462,79.527899999999988,-5.6693999999999978,-21.5869,-34.375699999999995,-4.7509000000000006,-7.3731999999999989,-33.912800000000004,-34.461399999999983,-51.108699999999999,-69.265899999999988,32.856999999999999,65.016599999999997,63.342300000000002,-17.512700000000002,-24.6371,5.5395000000000003,-22.071000000000002,-57.319699999999997,8.544100000000002,63.935600000000001,149.29300000000001,84.471000000000004,-9.7276000000000025,-15.354700000000001,-11.170399999999999,2.1045999999999991,-20.507099999999998,11.5153,7.8150000000000004,19.043400000000002,85.532200000000003,125.1983,96.521699999999996,106.1437,98.546999999999997,52.993600000000001,-0.89479999999999926,-10.678700000000001,-32.899800000000006,-15.1751,-36.380699999999997,-8.4130000000000003,54.966200000000001,-18.9376,-8.7710999999999988,-23.390099999999997,-50.583440000000003,-21.8432,-37.689600000000013,-35.3949,-44.0548,-46.983899999999998,-44.849499999999999,-25.055400000000002,-38.749199999999995,-60.363599999999998,-51.317999999999998,-59.751899999999999,-43.359400000000001,-47.164099999999998,-45.276499999999999,-47.171399999999998,-38.448999999999998,-44.510599999999997,-54.4953,-17.795300000000001,-34.939300000000003,2.5680000000000001,-1.026,39.4754,14.8367,-32.259599999999999,-35.244800000000005,-56.348300000000002,-43.498699999999999,-45.426600000000001,-36.947600000000001,-19.658300000000001,-17.4587,43.484099999999998,21.255200000000002,-4.9662000000000006,-42.358499999999999,-31.297799999999999,-16.660869999999999,-53.747800000000005,-39.135300000000001,-51.627499999999998,-34.413899999999998,7.6891000000000007,-26.200400000000002,-40.919899999999998,1.2170000000000001,-29.784400000000002,-45.2042,-31.633800000000001,-42.342199999999998,-39.488599999999998,-41.272500000000001,-32.332000000000001,-2.3104,-30.7409,-32.4953,31.3246,38.663199999999996,2.1675,16.367100000000001,12.822100000000001,2.5143599999999999,-2.5516999999999999,-13.456,-3.9744699999999988,3.5403000000000002,8.6867999999999999,-0.40529999999999927,-10.034600000000001,26.133800000000001,4.2610000000000001,-13.5427,-13.468,3.7518000000000002,14.3352,26.378299999999999,-1.93,"-","-","-"]
[null,null,"Aldeadávila-Lagoaça",0,0,0,0,0,0,0,0,0,0,0,0,0,0,0,0,0,0,0,0,0,0,0,0,0,0,0,0,0,0,0,0,0,0,0,0,0,0,0,0,0,0,0,0,0,0,0,0,0,0,0,0,0,0,0,0,0,0,0,0,0,0,0,0,0,0,0,0,0,0,0,0,0,0,0,0,0,0,0,0,0,0,0,0,0,0,0,0,0,0,0,0,0,0,0,0,0,0,0,0,0,0,0,0,0,0,0,0,0,0,0,0,0,0,0,0,0,0,0,0,0,0,0,0,0,0,0,0,0,0,0,0,0,0,0,0,0,0,0,0,0,0,0,0,0,0,0,0,0,0,0,0,0,0,0,0,0,0,0,0,0,0,0,0,0,0,0,0,0,0,0,0,0,0,0,0,0,0,0,0,0,0,0,0,0,0,0,0,0,0,0,0,0,0,0,0,0,0,0,0,0,0,0,0,0,0,0,0,0,0,0,0,0,0,0,0,0,0,0,0,0,0,0,0,0,0,0,0,0,0,0,0,0,0,0,0,0,0,0,0,0,0,0,0,0,0,0,0,0,0,0,54.690336000000002,332.41449599999999,200.95624799999999,255.015614,122.152852,133.54135200000002,-46.668527999999995,-57.980663999999997,-29.115936000000001,-4.5118080000000056,-4.305527999999998,99.411192,29.5002,-121.49784,-108.151416,-100.03996799999999,-102.718368,-35.918640000000003,-34.729991999999996,-78.67367999999999,-26.037936000000002,-56.731319999999997,-101.33856,89.510615999999999,34.946856000000004,195.26076,229.910616,442.169712,474.17918400000002,144.76622399999999,24.957503999999989,-135.492696,-70.413839999999993,-44.712648000000002,80.933040000000005,114.964704,142.69975200000002,584.25105599999995,502.66202399999997,459.32378399999999,291.31596000000002,-4.2078960000000007,-2.5675919999999968,-72.032544000000001,-33.811343999999998,-22.283424,17.497945000000001,217.22039999999998,135.62877600000002,32.83048800000001,314.055792,232.44645600000001,60.283656000000001,101.303352,-28.774223999999997,-58.097519999999996,-62.163072,-3.7983600000000011,172.31659200000001,35.41104,67.387679999999989,513.98042399999997,520.96672799999999,279.22384799999998,476.341992,356.78966400000002,132.78535200000002,74.90318400000001,59.955552000000004,92.767464000000004,88.244855999999999,188.45892000000001,108.54345600000001,119.69726399999999,225.62992800000001,107.332128,-10.625256000000011,69.229079999999996,170.52854399999998,213.795288,195.48021599999998,37.82376,"-","-","-"]
[null,null,"Badajoz-Alcaçovas",0,0,0,0,0,0,0,0,0,0,0,0,0,0,0,0,0,0,0,0,0,0,0,0,0,0,0,0,0,0,0,0,0,0,0,0,0,0,0,0,0,0,0,0,0,0,0,0,0,0,0,0,0,0,0,0,0,0,0,0,0,0,0,0,0,0,0,0,0,0,0,0,0,0,0,0,0,0,0,0,0,0,0,0,0,0,0,0,0,0,0,0,0,0,0,0,0,0,0,0,0,0,0,0,0,0,0,0,0,0,0,0,0,0,0,0,0,0,0,0,0,0,0,0,0,0,0,0,0,0,0,0,0,0,0,0,0,0,0,0,0,0,0,0,0,0,0,0,0,0,0,0,0,0,0,0,0,0,0,0,0,0,0,0,0,0,0,0,0,0,0,0,0,0,0,0,0,0,0,0,-16.806815,-13.660258000000001,-12.082063,-10.076793,-10.298776,-14.999411,-13.877753,-17.840923,-15.423859,-10.356705,-10.742659999999999,-13.914944999999999,-14.837774,-13.228404000000001,-13.180449000000001,-8.7490389999999998,-12.665214000000001,-11.587422,-13.609805,-12.717709000000001,-12.718986000000001,-11.613796000000001,-12.132577,-16.393618,-17.609760999999999,-14.325076999999999,-13.704503000000001,-12.436572,-11.913058000000001,-12.125244,-15.039391,-14.887669000000001,-11.773160000000001,-11.590432,-13.438245,-17.452247,-16.675391000000001,-14.554555000000001,-14.129727999999998,-12.535705999999999,-4.3213269999999993,-8.3558769999999996,-16.349028000000001,-14.969220999999999,-12.770391999999999,-12.169111000000001,-14.304791,-17.883717000000001,-17.295966,-14.808325,-12.589478,-12.397746,-12.820968000000001,-14.098872999999999,-15.228323,-16.139589000000001,-13.760968999999999,-12.268291999999999,-12.834524999999999,-17.240556999999999,-18.684728,-16.460308000000001,-4.2235510000000005,-11.945206000000001,-10.137135000000001,-2.6908049999999997,-15.641038,-17.893608,-14.113331000000001,-12.482718999999999,-14.638779000000001,-17.848796,-18.136011999999997,-15.386274,-3.3073619999999999,0,-3.9893649999999998,-13.272777,-4.4186930000000002,2.9E-5,-3.4E-5,-3.8099999999999999E-4,-8.3499999999999991E-4,-9.5999999999999992E-4,-5.7599999999999991E-4,-1.35E-4,-0.65558900000000009,-0.323407,-2.05E-4,-3.2499999999999999E-4,-1.06E-4,-9.5999999999999975E-5,-1.06E-4,-4.9700000000000015E-4,-5.7799999999999995E-4,-9.5500000000000001E-4,-8.3099999999999992E-4,-5.8599999999999993E-4,-5.4199999999999995E-4,-3.6099999999999999E-4,-1.8699999999999999E-4,-9.7000000000000027E-5,-1.18E-4,1.01E-4,-7.3000000000000013E-5,-8.12E-4,-6.6299999999999996E-4,-6.6299999999999996E-4,-1.108E-3,-8.4999999999999995E-4,-6.6199999999999994E-4,-4.37E-4,-3.6099999999999999E-4,-1.8900000000000001E-4,2.9E-5,-9.600000000000003E-5,-3.3600000000000004E-4,-7.1999999999999994E-4,-8.8400000000000002E-4,-5.3800000000000007E-4,-5.8500000000000002E-4,-5.71E-4,-3.8900000000000002E-4,-2.1699999999999999E-4,-4.9700000000000015E-4,7.9999999999999979E-5,8.1999999999999987E-5,1.8999999999999987E-5,-2.4600000000000002E-4,-7.1599999999999995E-4,-5.5199999999999997E-4,-7.1499999999999992E-4,-9.1300000000000007E-4,-5.3699999999999993E-4,-6.6299999999999996E-4,-2.4899999999999998E-4,-2.31E-4,-3.9400000000000004E-4,8.5999999999999976E-5,1.64E-4,6.0000000000000052E-6,-6.020000000000001E-4,-6.7699999999999998E-4,-5.2800000000000004E-4,-5.1400000000000003E-4,-7.2199999999999999E-4,-3.7800000000000003E-4,-1.9900000000000001E-4,3.5599999999999998E-4,2.3E-5,3.4E-5,1.2899999999999999E-4,6.3E-5,"-","-","-"]
[null,null,"Balboa-Alqueva",0,0,0,0,0,0,0,0,0,0,0,0,0,0,0,0,0,0,0,0,0,0,0,0,0,0,0,0,0,0,0,0,0,0,0,0,0,0,0,0,0,0,0,0,0,0,0,0,0,0,0,0,0,0,0,0,0,0,0,0,0,0,0,0,0,0,0,0,0,0,0,0,0,0,0,0,0,0,0,0,0,0,0,0,0,0,0,0,0,0,0,0,0,0,0,0,0,0,0,0,0,0,0,0,0,0,0,0,0,0,0,0,0,0,0,0,0,0,0,0,0,0,0,0,0,0,0,0,0,0,0,0,0,0,0,0,0,0,0,0,0,0,0,0,0,0,0,0,0,0,0,0,0,0,0,0,0,0,0,0,0,0,0,0,0,0,0,0,0,0,0,0,0,0,0,0,0,0,0,54.660302000000001,244.24540400000001,179.58258499999999,137.10042199999998,78.718278999999995,77.953586999999999,101.989221,137.846925,90.847105999999997,98.592414000000005,121.75276600000001,93.490026999999998,187.46391299999999,112.28189500000001,134.49346,89.293059000000014,101.16203299999999,64.977174000000005,61.703848000000001,96.962263000000007,181.067454,-1.520212999999996,74.084089000000006,42.370618999999998,0,0,0,0,0,0,0,0,0,0,0,0,0,0,0,0,0,0,0,0,0,0,0,0,0,0,0,0,0,0,0,0,0,0,0,0,0,0,0,0,0,0,0,0,0,0,0,0,0,0,0,0,0,0,0,0,0,0,0,0,0,0,0,0,0,0,0,0,0,0,0,0,0,0,0,0,0,0,0,0,0,0,0,0,0,0,0,0,0,0,0,0,0,0,0,0,0,0,0,0,0,0,0,0,0,0,0,0,0,0,0,0,0,0,0,0,0,0,0,0,0,0,0,0,0,0,0,0,0,0,"-","-","-"]
[null,null,"Brovales-Alqueva",0,0,0,0,0,0,0,0,0,0,0,0,0,0,0,0,0,0,0,0,0,0,0,0,0,0,0,0,0,0,0,0,0,0,0,0,0,0,0,0,0,0,0,0,0,0,0,0,0,0,0,0,0,0,0,0,0,0,0,0,0,0,0,0,0,0,0,0,0,0,0,0,0,0,0,0,0,0,0,0,0,0,0,0,0,0,0,0,0,0,0,0,0,0,0,0,0,0,0,0,0,0,0,0,0,0,0,0,0,0,0,0,0,0,0,0,0,0,0,0,0,0,0,0,0,0,0,0,0,0,0,0,0,0,0,0,0,0,0,0,0,0,0,0,0,0,0,0,0,0,0,0,0,0,0,0,0,0,0,0,0,0,0,0,0,0,0,0,0,0,0,0,0,0,0,0,0,0,0,0,0,0,0,0,0,0,0,0,0,0,0,0,0,0,0,0,0,0,0,0,0,0,0,69.987117999999995,247.57315800000001,160.97694300000001,150.37488500000001,-13.10650399999999,13.409329,-22.011324999999999,40.312881000000012,145.495857,76.158755999999997,-39.941542999999996,-1.079935000000005,42.010551,111.13971600000001,34.327553999999999,4.3466269999999971,-113.846402,-110.165842,-118.48960700000001,-18.661698000000001,33.139813000000004,35.047582999999996,11.325839,126.926269,141.47126500000002,51.281440000000003,104.13845699999999,106.797803,84.466252000000011,113.178226,90.20453599999999,66.18871,97.304493000000008,88.530301000000009,66.190207000000015,59.496269999999996,123.785433,125.76933,27.519029999999997,34.807580000000002,-13.082936,-70.471231000000003,-43.513786999999994,-45.028739999999999,3.6840080000000022,-12.634846,-68.884830000000008,37.450777000000002,78.040047999999999,-2.8628009999999988,71.345681000000013,47.128189000000013,-48.447542999999996,82.165863000000016,100.01317900000001,131.10849100000001,143.581174,76.997266999999994,113.243132,108.803765,131.48534799999999,70.54845499999999,109.413991,82.860463999999993,8.1482619999999955,92.938376999999988,110.106414,82.789889000000002,126.31783999999999,93.188469000000012,8.1551810000000042,153.73999499999999,178.312433,206.75217600000002,167.40923100000001,179.951424,161.64404300000001,115.60011900000001,89.746289000000004,47.438733999999997,126.298467,66.996214999999992,54.321567000000002,177.095484,150.00706400000001,230.137508,185.30450300000001,137.557672,27.462289000000002,78.78106600000001,90.881816999999998,85.712532999999993,94.399607000000003,63.243284999999986,44.241151000000009,120.54333500000001,90.537999000000013,59.455525999999992,76.151956000000013,103.51678200000001,61.716512000000002,79.228421999999995,104.475095,127.84281799999999,85.179048999999992,94.509747000000004,170.32552799999999,95.877464000000003,127.90550500000001,192.987808,136.785867,131.744181,56.959859999999992,58.559072000000008,153.50108600000002,147.76548,151.008938,191.31704000000002,145.45951300000002,228.13070199999999,215.13435899999999,190.99137200000001,195.51879399999999,190.10885500000001,103.65481800000001,132.76458199999999,220.09420600000001,282.28728100000001,221.70735300000001,107.27591700000001,"-","-","-"]
[null,null,"Cartelle-Lindoso",0,0,0,0,0,0,0,0,0,0,0,0,0,0,0,0,0,0,0,0,0,0,0,0,0,0,0,0,0,0,0,0,0,0,0,0,0,0,0,0,0,0,0,0,0,0,0,0,0,0,0,0,0,0,0,0,0,0,0,0,0,0,0,0,0,0,0,0,0,0,0,-16.739999999999998,15.52,-37.64,-177.88,-135.13999999999999,-81.739999999999995,-204.4,-272.76,-255.2,-240.26900000000001,-266.3,-304.58,-163.34,-31.72,-126.66,-344.62,-396.22,-346.02,-324.2,-411.2,-412.32,-337.25599999999997,-307.33999999999997,-122.36,-116.5,-80.260000000000005,-85.56,-207.24,-248.3,-296.39999999999998,-235.38,-274.04000000000002,-196.88,-310.89999999999998,-286.33999999999997,-308.33999999999997,-364.5,-364.82,-300.52,-322.32,-218.86799999999999,-130.58000000000001,-177.36,-327.45999999999998,-116,-345.82,-238.18,-204.357,-277.84300000000002,-278.60599999999999,-209.19200000000001,-275.245,-294.39100000000002,-308.32900000000001,-359.18299999999999,-371.86700000000002,-389.899,-337.267,-325.84199999999998,-397.4666636825234,-246.97399999999999,-135.70966002943837,-133.97900000000001,-83.164000000000001,-155.357,-213.64699999999999,-284.13499999999999,-362.50200000000001,0,-395.81599999999997,-330.66800000000001,-286.21300000000002,-265.18299999999999,-313.70640421810731,-330.43979673881023,-323.52928046124134,-338.07527958214416,-409.7727565199736,-302.36641460666203,-321.53858299097686,-347.17320293938974,-309.51,-350.815,-459.661,-467.74137291346881,-377.73166590699878,-352.43703682690477,-293.24595925635145,-339.17767513202676,-491.92239774477639,-410.70458981902738,-481.15814447478101,-427.64410796015591,-427.02800000000002,-431.96600000000001,-383.20299999999997,-389.72500000000002,-607.60850000000005,-500.54820000000001,-553.47539399999994,-626.42930000000001,-590.56209999999999,-552.29730000000006,-602.45669999999996,-563.11449300000004,-435.42030000000005,-558.84139999999991,-449.13009999999997,-492.17740000000003,-706.75530000000003,-508.47519999999997,-532.35480000000007,-488.77909999999997,-537.42610000000002,-461.43459999999999,-543.80180000000007,-189.95750000000001,-540.43550000000005,-638.18830000000003,-660.00750000000005,-711.14880000000005,-645.88519999999994,-594.43110000000001,-686.15919999999994,-402.61540000000002,-507.21120000000002,-504.36340000000001,-524.32359999999994,-431.9563,-466.8426,-603.67469999999992,-438.86200000000002,-300.05149999999998,-542.67539999999997,-620.54039999999998,-629.99699999999996,-467.8184,-565.99469999999997,-438.96080000000001,-518.54669999999999,-627.77230000000009,-594.08030000000008,-466.36359999999996,-560.56050000000005,-536.34550000000002,-590.14069999999992,-492.08819999999997,-570.87189999999987,-503.23740000000004,-365.95729999999998,-431.0899,-504.12729999999999,-420.51150000000001,-464.41359999999997,-487.08590000000004,-708.24689999999998,-801.57240000000002,-636.25619999999992,-353.11720000000003,-335.36279999999999,-416.71537999999998,-490.99290000000002,-552.92919999999992,-563.11119999999994,-269.06809999999996,-306.65940000000001,-351.10290000000003,-503.87090000000001,-361.14240000000001,-277.94029999999998,-243.3005,-198.26920000000001,-130.6686,34.628199999999993,-161.6431,-389.9169,-418.80849999999998,-237.60849999999999,-229.7107,-210.68350000000001,-85.756699999999981,-221.71889999999999,-149.91589999999999,-288.42059999999998,-326.8596,-160.80530000000002,-214.42400000000001,-416.72809999999998,-365.15609999999998,-393.93040000000002,-342.49490000000003,-294.37779999999998,-437.67909999999995,-640.19939999999997,-641.18709999999999,-563.39649999999995,-484.4742,-681.16219999999998,-699.90660000000014,-552.0313000000001,-529.38900000000001,-566.13569999999993,-470.4599,-441.6318,-764.2876,-516.13630000000001,-382.54059999999998,-163.66829999999999,-147.715,-319.05690000000004,-396.5376,-735.95219999999995,-605.68419999999992,-553.32010000000002,-530.73119999999994,-430.88809999999995,-672.62480000000005,-360.60240000000005,-79.706000000000003,-78.856399999999994,-116.28360000000001,-361.04419999999999,-518.02170000000001,-647.68909999999994,-586.95249999999999,-531.10719999999992,-415.84059999999999,-374.87549999999999,-464.59790000000004,-597.3057,-395.80599999999998,-397.48349999999999,-282.20400000000001,-332.56530000000004,-487.80119999999999,-589.75300000000004,-443.3141,-359.27290000000005,-298.59109999999998,-425.61030000000005,-680.43439999999987,-318.59140000000002,-132.9461,-291.41769999999997,-1.3119000000000014,114.40430000000001,-78.72229999999999,-354.71350000000001,-229.6885,-274.34320000000002,-366.96050000000002,-355.73900000000003,-396.02330000000006,-393.88260000000002,-183.5667,-140.5779,-77.484300000000005,-246.6277,-316.47380000000004,-272.04700000000003,-5.0326000000000004,-200.25179999999997,"-","-","-"]
[null,null,"Cedillo-Falagueira",-135.613,-107.247,22.597999999999999,79.433000000000007,96.058999999999997,138.72,137.80799999999999,96.900999999999996,143.471,125.026,54.003999999999998,80.942999999999998,57.268999999999998,105.878,-96.912000000000006,-51.884999999999998,39.171999999999997,78.347999999999999,105.105,112.435,88.403999999999996,100.84,120.893,126.042,107.68,28.579000000000001,32.390999999999998,106.892,55.430999999999997,53.348999999999997,0.68,97.373000000000005,111.14700000000001,99.629000000000005,128.55099999999999,80.807000000000002,137.90199999999999,154.08000000000001,161.815,122.629,124.601,81.972999999999999,140.89500000000001,157.63399999999999,111.285,-23.42,-214.13900000000001,53.256,-9.6989999999999998,31.033000000000001,38.228999999999999,36.395000000000003,7.9569999999999999,53.847999999999999,56.534999999999997,92.564999999999998,83.548000000000002,92.468999999999994,36.798000000000002,103.303,34.238,-35.905000000000001,47.338999999999999,92.853999999999999,92.484999999999999,107.81100000000001,155.572,173.95599999999999,202.22,218.79400000000001,142.77000000000001,88.68,-242.14400000000001,-193.77099999999999,28.98,-25.263999999999999,-36.578000000000003,232.12100000000001,360.87299999999999,376.28899999999999,226.82900000000001,113.755,139.203,-111.593,-204.25399999999999,-13.978,95.073999999999998,127.80800000000001,84.933000000000007,97.221000000000004,144.53100000000001,87.168999999999997,124.65600000000001,283.17500000000001,-82.123999999999995,-128.05600000000001,-177.554,-109.375,125.254,103.18899999999999,196.113,108.18600000000001,311.19200000000001,285.29399999999998,204.626,338.738,317.584,319.49400000000003,296.77699999999999,286.68599999999998,330.108,346.22500000000002,322.83199999999999,366.887,403.35599999999999,56.307000000000002,230.29599999999999,192.73,213.708,216.94399999999999,240.85400000000001,188.72900000000001,223.376,216.16200000000001,174.04300000000001,159.81700000000001,219.28800000000001,229.30500000000001,218.173,266.20999999999998,246.60418885954408,-8.5869999999999997,-54.798442388764599,-0.26,-27.004999999999999,102.83799999999999,135.77199999999999,219.58600000000001,281.59699999999998,60.356000000000002,249.53399999999999,231.46600000000001,235.25899999999999,316.92200000000003,315.43578709967863,293.69259142870783,302.67945748205057,307.5242876663176,255.39851809839902,245.38986412413115,305.93962804703551,168.69939359396051,208.84399999999999,158.94900000000001,159.096,-67.560965578835948,-14.065665911553893,91.47888846900554,18.064382641295403,61.463504509359687,180.92392977015302,224.58630619928192,225.87713453720426,122.45344485712536,169.13499999999999,118.85299999999999,92.983999999999995,24.545999999999999,126.247392,17.035271999999999,55.720080000000003,-53.113211999999997,37.914120000000004,74.409052000000003,127.117836,74.532206000000002,102.4074,127.52024400000001,131.29250399999998,168.87225599999999,132.54181199999999,120.52526399999999,86.029164000000009,56.186855999999999,53.283996000000002,74.914056000000016,107.908992,-16.660544000000002,14.688396000000001,-21.766248000000001,50.699052000000002,115.39547999999999,61.582031999999991,87.862463999999989,82.522367999999986,56.228480000000005,59.098611999999989,22.696704,115.28618399999999,111.56763599999999,40.320936000000003,80.130348000000012,76.520471999999998,80.715959999999995,67.223300000000009,-78.115700000000018,-67.848100000000002,-37.049399999999999,-23.355,-22.769299999999998,59.418699999999994,0,-79.033799999999999,-173.77270000000001,-7.5452000000000048,-24.658999999999999,-4.7076000000000056,-66.522899999999993,-161.4717,-151.2183,-187.4778,-131.376,-28.448499999999999,-44.918999999999997,-37.421199999999999,-69.707300000000004,-20.488,30.265400000000003,33.980499999999999,16.2361,-3.7941999999999969,-53.951699999999995,-22.678099999999997,1.7181999999999971,6.6295000000000002,-31.680500000000009,-5.2214000000000009,-40.257999999999996,62.648899999999983,191.41970000000001,99.075500000000005,-75.830699999999993,-102.3817,-89.561600000000013,-141.97229999999999,-170.24110000000002,-60.8705,-52.097000000000008,-154.3389,-192.05689999999998,-23.411999999999999,167.69139999999999,-55.5244,94.549799999999991,34.6813,-114.74889999999999,74.920600000000007,-34.334800000000001,24.990200000000002,73.688779999999994,24.129200000000001,41.210899999999988,-4.0539000000000014,-15.3903,19.851599999999998,106.4312,-31.752200000000002,-90.8934,26.898900000000008,95.105500000000006,36.135899999999985,91.647300000000001,48.7928,-82.903100000000009,108.9618,75.801700000000011,164.6525,103.5658,49.940900000000006,0.82080000000000286,19.0318,-40.956699999999998,-85.236999999999995,38.9587,-27.303799999999999,-5.7276999999999969,50.215800000000002,130.1968,212.41929999999999,17.334799999999998,17.6678,-84.250400000000013,-42.279600000000002,6.8653000000000031,-14.3736,25.75889999999999,46.391300000000001,-19.077300000000001,109.19919999999999,88.114000000000004,39.672499999999999,115.09050000000001,70.616600000000005,-3.2841999999999971,43.224900000000005,71.957499999999996,155.39020000000002,85.75,48.811,172.95760000000001,117.9194,113.81739999999999,253.6309,249.28200000000001,102.986,97.964099999999988,-2.292600000000006,68.37639999999999,152.0609,189.40460000000002,92.257199999999997,21.938700000000001,32.073,137.28899999999999,210.191,251.02260000000001,100.02380000000001,30.28540000000001,143.21870000000001,1.9769100000000002,0,10.9566,196.11770000000001,"-","-","-"]
[null,null,"Conchas-Lindoso",-4.3499999999999996,0,0,0,0,-1.1000000000000001,0,0,0,0,0,0,0,0,-8.25,0,0,0,-1.74,-0.88,0,0,0,0,0,0,0,0,0,0,0,0,0,0,0,0,0,0,0,0,0,0,0,0,0,0,0,0,0,0,0,0,0,0,0,0,0,0,0,0,0,0,0,0,0,0,0,0,0,0,-2.1,0,0,0,0,0,0,0,0,0,0,0,0,0,0,0,0,0,0,0,0,-1.6,-3.78,0,0,-1.5,-0.04,-0.2,-2.4700000000000002,-0.01,0,0,0,0,0,0,-0.04,0,0,0,0,0,-2E-3,-1E-3,0,0,-1.2E-2,0,0,0,0,0,0,0,0,6.0000000000000001E-3,0,0,0,0,0,0,0,0,0,0,0,0,0,-303.38600000000002,0,0,0,0,0,0,0,0,0,0,0,0,0,0,0,1.0041512266995337E-3,0,0,0,-1.0028611665297501E-2,0,0,0,0,0,0,0,0,0,0,0,0,0,0,0,0,0,0,0,0,0,0,0,0,0,0,0,0,0,0,0,0,0,0,0,0,0,0,0,0,0,0,0,0,0,0,0,0,0,0,0,0,0,0,0,0,0,0,0,0,0,0,0,0,0,0,0,0,0,0,3.0000000000000001E-6,0,0,0,0,0,0,0,0,0,0,0,0,0,0,0,0,0,0,0,0,0,0,0,0,0,0,0,0,0,0,0,0,0,0,0,0,0,0,0,0,0,0,0,0,0,0,0,0,0,0,0,0,0,0,0,0,0,0,0,0,0,0,0,0,0,0,0,0,0,0,0,0,0,0,0,0,0,0,0,0,0,0,0,0,0,0,0,0,0,0,0,0,0,0,0,0,0,0,0,0,0,0,"-","-","-"]
[null,null,"Encinasola-Barrancos",0,0,0,0,0,0,0,0,0,0,0,0,0,0,0,0,0,0,0,0,0,0,0,0,0,0,0,0,0,0,0,0,0,0,0,0,0,0,0,0,0,0,0,0,0,0,0,0,0,0,0,0,0,0,0,0,0,0,0,0,0,0,0,0,0,0,0,0,0,0,0,0,0,0,0,0,0,0,0,0,0,0,0,0,0,0,0,0,0,0,0,-0.14499999999999999,-0.14199999999999999,-0.161,-0.14199999999999999,-0.20499999999999999,-0.20599999999999999,-0.18099999999999999,-0.153,-0.151,-0.13700000000000001,-6.8000000000000005E-2,-0.19400000000000001,-0.16,-3.7999999999999999E-2,-0.189,-0.20300000000000001,-0.23499999999999999,-0.215,-0.21299999999999999,-0.21199999999999999,-0.19700000000000001,-0.20399999999999999,-0.216,-0.221,-0.189,-0.19900000000000001,-0.216,-0.24299999999999999,-0.26600000000000001,-0.28299999999999997,-0.19700000000000001,-0.01,-5.3999999999999999E-2,-4.9000000000000002E-2,-0.15,-0.151,0,-0.216,-0.23699999999999999,-0.2225932585195998,-0.156,0,-0.153,-1.2E-2,-0.16400000000000001,-0.23300000000000001,-0.251,-0.20499999999999999,-8.4000000000000005E-2,-0.19700000000000001,-0.183,-0.254,-0.16200000000000001,0,0,0,0,0,0,0,0,-0.111,0,0,0,-1.0194966529926447E-3,0,0,0,-8.0091241244272197E-3,0,0,0,-0.19800000000000001,-9.9000000000000005E-2,0,0,0,-1.3269E-2,0,0,0,0,-2.16E-3,0,0,0,0,0,0,0,0,0,0,0,0,0,0,0,0,0,0,-4.9899999999999999E-4,-4.6310000000000006E-3,0,0,0,0,0,-9.9999999999999995E-7,0,0,-1.5580999999999999E-2,0,-1.5893999999999998E-2,0,0,0,0,0,0,-5.8370000000000002E-3,0,0,0,-3.4200000000000002E-4,0,-1.1339E-2,0,0,0,0,0,-9.9999999999999995E-7,0,0,0,0,0,-1.2980000000000001E-3,-9.9860000000000001E-3,0,-3.48E-4,0,0,-1.9999999999999999E-6,-1.7561E-2,0,0,0,0,0,0,0,0,0,0,0,0,0,0,0,0,0,0,0,0,0,0,0,0,0,0,0,0,0,0,0,0,0,0,0,0,0,0,0,0,0,0,0,0,0,0,0,0,0,0,0,0,0,0,0,0,0,0,0,0,0,0,0,0,0,0,0,0,0,0,0,0,0,0,0,0,0,0,0,0,0,0,0,0,0,0,0,0,0,0,0,0,0,0,0,"-","-","-"]
[null,null,"Puebla de Guzmán-Tavira",0,0,0,0,0,0,0,0,0,0,0,0,0,0,0,0,0,0,0,0,0,0,0,0,0,0,0,0,0,0,0,0,0,0,0,0,0,0,0,0,0,0,0,0,0,0,0,0,0,0,0,0,0,0,0,0,0,0,0,0,0,0,0,0,0,0,0,0,0,0,0,0,0,0,0,0,0,0,0,0,0,0,0,0,0,0,0,0,0,0,0,0,0,0,0,0,0,0,0,0,0,0,0,0,0,0,0,0,0,0,0,0,0,0,0,0,0,0,0,0,0,0,0,0,0,0,0,0,0,0,0,0,0,0,0,0,0,0,0,0,0,0,0,0,0,0,0,0,0,0,0,0,0,0,0,0,0,0,0,0,0,0,0,0,0,0,0,0,0,0,0,0,0,0,0,0,0,0,0,0,0,0,0,0,0,0,0,0,0,0,0,0,0,0,0,0,0,0,0,0,0,0,0,0,0,0,0,0,0,0,0,0,0,0,0,0,0,0,0,0,0,0,0,0,0,0,0,0,0,0,0,0,0,0,0,0,0,0,0,0,0,0,0,0,0,0,0,0,0,0,0,0,0,0,0,0,0,0,0,0,0,0,0,0,0,0,0,0,0,0,0,0,0,0,0,0,0,0,0,0,0,0,0,0,0,0,0,0,0,0,0,0,47.741108999999994,100.471125,92.93836499999999,110.92158900000001,110.645383,81.273453000000003,174.25605300000001,143.75851800000001,104.26987,120.15530899999999,96.937180999999995,51.093843999999997,99.934297000000001,88.156418000000002,116.231754,86.344588999999999,84.483310000000003,142.423676,93.106274999999997,128.28351700000002,183.36434599999998,152.41709700000001,152.06437,92.263196000000008,90.175144000000003,136.28953200000001,133.967693,126.94982300000001,120.360922,139.379875,183.620923,177.08230300000002,178.41453700000002,84.972504000000001,74.235675000000001,114.513493,122.84898099999999,163.39675800000001,200.93232500000002,248.85323300000002,116.93542500000001,"-","-","-"]
[null,null,"Rosal Frontera-V. Ficalho",0,0,0,0,0,0,0,0,0,0,0,0,0,0,0,0,0,0,0,0,0,0,0,0,0,0,0,0,0,0,0,0,0,0,0,0,0,0,0,0,0,0,0,0,0,0,0,0,0,0,0,0,0,0,0,0,0,0,0,0,0,0,0,0,0,0,0,0,0,0,0,0,0,0,0,0,0,0,0,0,0,0,0,0,0,0,0,0,0,0,0,0,0,0,0,-1E-3,0,-3.0000000000000001E-3,-2E-3,0,-2E-3,-8.0000000000000002E-3,-4.0000000000000001E-3,-2E-3,-6.0000000000000001E-3,0,0,-1E-3,0,-1E-3,-1E-3,-1E-3,-1E-3,-1E-3,-4.0000000000000001E-3,-3.0000000000000001E-3,-2E-3,0,0,0,0,0,0,0,0,0,0,-1E-3,0,0,0,0,0,0,0,0,-2E-3,0,0,0,0,0,0,-1E-3,0,0,0,0,0,0,0,0,0,0,0,0,0,0,0,0,0,0,0,0,-1E-3,0,0,0,0,0,0,0,0,0,0,0,0,0,0,0,0,0,0,0,0,0,0,0,0,0,0,0,0,0,0,0,0,0,0,0,0,0,0,0,0,0,0,0,0,0,0,0,0,0,0,0,0,0,0,0,0,0,0,0,0,0,0,0,0,0,0,0,0,0,0,0,0,0,0,0,0,0,0,0,0,0,0,0,0,0,0,0,0,0,0,0,0,0,0,0,0,9.9999999999999995E-7,0,0,0,0,0,0,0,0,0,0,0,0,0,0,0,0,0,0,0,0,0,0,0,0,0,0,0,0,0,0,0,0,0,0,0,0,0,0,0,0,0,0,0,0,0,0,0,0,0,0,0,0,0,0,0,0,0,0,0,0,0,0,0,0,0,0,0,0,0,0,0,"-","-","-"]
[null,null,"Saucelle-Pocinho",1.893,-17.265000000000001,-58.554000000000002,-50.036000000000001,-48.411000000000001,-59.63,-69.673000000000002,-55.313000000000002,-68.403999999999996,-65.465999999999994,-38.191000000000003,-68.126999999999995,-63.588999999999999,-56.292000000000002,-21.123999999999999,-26.994,-49.529000000000003,-44.526000000000003,-69.542000000000002,-46.759,-62.83,-64.638999999999996,-57.334000000000003,-60.32,-80.129000000000005,-111.619,-107.236,-48.176000000000002,-72.513000000000005,-64.786000000000001,-98.915000000000006,-46.668999999999997,-48.143999999999998,-53.01,-60.661000000000001,-52.085000000000001,-63.912999999999997,-59.311999999999998,-77.828999999999994,-76.739999999999995,-47.478999999999999,-46.683,-55.531999999999996,-25.952000000000002,-0.94799999999999995,-35.396999999999998,36.264000000000003,-55.109000000000002,-53.866,-58.808,-50.46,-35.820999999999998,-23.42,-38.081000000000003,-104.983,-114.797,-98.733000000000004,-74.457999999999998,-64.680999999999997,-89.081999999999994,-73.986000000000004,-52.122,-86.143000000000001,-91.396000000000001,-79.894999999999996,-63.667000000000002,-114.343,-97.161000000000001,-103.401,-78.024000000000001,-58.408999999999999,-43.786999999999999,40.49,24.221,1.645,3.1509999999999998,2.0270000000000001,-43.930999999999997,-53.923999999999999,-53.268999999999998,-79.77,-99.820999999999998,-88.688999999999993,-28.091000000000001,18.919,-27.626000000000001,-70.647999999999996,-101.907,-96.183000000000007,-57.182000000000002,-82.887,-57.883000000000003,-64.582999999999998,-47.018999999999998,22.724,19.812000000000001,22.719000000000001,14.798999999999999,-16.329000000000001,2.9860000000000002,-28.265999999999998,-9.6259999999999994,-46.197000000000003,-52.081000000000003,-57.905000000000001,-41.232999999999997,-37.082000000000001,-35.454999999999998,-33.963000000000001,-22.707999999999998,-26.388000000000002,19.140999999999998,32.045999999999999,0.59099999999999997,-31.952000000000002,19.628,-52.56,-4.7779999999999996,11.461,-13.089,-14.29,-12.792999999999999,-48.597999999999999,-4.9459999999999997,24.016999999999999,-39.212000000000003,-41.838000000000001,-9.8940000000000001,0,0,0,39.142000000000003,33.285599130741012,1.4339999999999999,-14.904,62.298999999999999,2.1779999999999999,-10.535,-23.555,-9.9060000000000006,-38.81,10.907999999999999,-6.9180000000000001,-32.496000000000002,-23.643065320495161,-19.659117293964986,-27.345071484184281,-9.019018496516825,-24.933439779480285,-26.080546298259264,-28.500066333235939,-41.539338804366672,-49.591000000000001,-41.935000000000002,-15.696999999999999,-10.852849368145309,42.579867985352593,-23.203817175994828,-28.815010857842811,-37.748180130834939,-54.464027057129144,-23.83136981415764,-43.162824596451998,-52.577536177254203,-81.665999999999997,-56.807000000000002,9.9719999999999995,-15.042,-41.635435999999999,-42.568920000000013,-62.176559999999995,-62.852651999999999,-74.637876000000006,-76.340891999999997,-80.779752000000002,-69.635267999999996,-63.827435999999985,-73.407540000000012,-67.125059999999991,-69.440490000000011,-86.557839999999999,-68.750500000000002,-76.323961999999995,-80.068108000000009,-69.837575999999999,-77.890560000000008,-81.385959999999997,-156.17839999999998,-105.2405,-94.577995999999999,-93.264300000000006,-78.219800000000006,-91.650130000000004,-75.609888000000012,-38.679611999999999,-52.186464000000001,-81.631811999999996,-100.27275599999999,-89.144207999999992,-78.514560000000003,-102.02448,-58.6541,8.2294000000000018,37.971299999999999,-42.138400000000004,-18.602499999999999,-55.403599999999997,-68.042299999999997,-65.798400000000015,-47.539199999999994,-80.440699999999993,-97.159000000000006,-99.231200000000001,-92.654700000000005,-86.009500000000003,-104.1465,-86.880899999999997,-88.014499999999998,-107.79430000000001,-77.917899999999989,-87.029399999999995,-79.441500000000005,-70.109800000000007,-63.97910000000001,-81.671199999999999,-90.1648,-96.698599999999999,-89.210999999999999,-46.897300000000001,-26.0534,-51.630699999999997,-90.314700000000002,-7.1245000000000003,-38.8887,-48.380400000000002,-67.874400000000009,-40.298600000000015,-47.551400000000001,-43.884300000000003,25.739699999999999,72.564400000000006,25.2882,16.191099999999999,-5.4086000000000025,1.1187999999999991,-35.642400000000002,-52.977599999999995,-64.989699999999999,-63.650100000000002,-55.280800000000006,-33.065199999999997,21.812200000000001,-47.924600000000012,-27.950700000000001,-11.442549999999999,-31.424499999999998,-35.5809,-46.7639,-43.646500000000003,-13.25525,-54.279400000000003,-59.020699999999998,-47.622599999999998,-57.704999999999998,-68.153600000000012,-59.093599999999995,-62.603199999999994,-42.703800000000001,-55.331099999999999,-62.299099999999996,-50.036999999999999,-42.331300000000006,-47.604599999999998,-64.609700000000004,-39.201500000000003,-49.6081,-9.8795000000000002,-17.5169,31.372,6.7035999999999998,-45.472499999999997,-45.773800000000001,-69.720300000000009,-59.638400000000004,-59.319600000000001,-54.664699999999996,-42.578800000000001,-32.409999999999997,18.200500000000002,-3.972900000000001,-29.846700000000002,-54.41272,-41.531300000000002,-58.196199999999997,-60.0548,-49.064300000000003,-68.402500000000003,-47.836199999999998,-5.0953999999999997,-45.367800000000003,-55.768500000000003,-17.826400000000003,-49.622900000000001,-54.477699999999999,-48.417999999999999,-58.424500000000002,-57.512,-53.161999999999999,-42.188699999999997,-12.4099,-43.103300000000004,-39.4621,14.8055,16.878799999999998,-21.532019999999999,-3.8827999999999987,-6.0194999999999981,-13.494399999999999,-26.388300000000001,-32.743099999999998,-26.584299999999999,-39.601500000000001,-10.373100000000001,-20.871599999999997,-35.336800000000004,14.3101,-31.850200000000001,-23.4132,-21.738099999999999,-4.2477999999999998,14.056700000000001,24.6052,-1.5972999999999999,"-","-","-"]
[null,null,"Santa María-Elvás",0,0,0,0,0,0,0,0,0,0,0,0,0,0,0,0,0,0,0,0,0,0,0,0,0,0,0,0,0,0,0,0,0,0,0,-3.052,-7.5519999999999996,-5.8780000000000001,-6.15,-5.5670000000000002,-5.3230000000000004,-6.13,-8.1920000000000002,-7.9550000000000001,-7.71,-6.1390000000000002,-6.4630000000000001,-7.6020000000000003,-7.95,-7.3680000000000003,-5.8680000000000003,-6.3129999999999997,-4.407,-6.585,-7.0119999999999996,-6.694,-6.3840000000000003,-5.6390000000000002,-5.69,-6.758,-7.84,-7.3890000000000002,-8.0649999999999995,-6.2939999999999996,-6.8150000000000004,-6.6859999999999999,-2.2959999999999998,-5.7839999999999998,-8.3960000000000008,-7.8879999999999999,-6.9770000000000003,-7.734,-7.7709999999999999,-7.2969999999999997,-7.0410000000000004,-6.4459999999999997,-6.3129999999999997,-6.8239999999999998,-8.7769999999999992,-10.159000000000001,-8.4659999999999993,-7.4009999999999998,-7.1529999999999996,-9.7319999999999993,-8.2729999999999997,-6.6360000000000001,-7.4020000000000001,-7.26,-6.91,-7.8470000000000004,-9.6880000000000006,-9.1430000000000007,-8.1940000000000008,-7.1310000000000002,-7.1820000000000004,-8.6809999999999992,-9.3800000000000008,-7.4470000000000001,-5.4109999999999996,-6.5119999999999996,-7.2089999999999996,-7.3929999999999998,-10.228,-10.164,-8.3510000000000009,-7.3849999999999998,-7.7220000000000004,-9.9350000000000005,-10.442,-8.8219999999999992,-8.2780000000000005,-7.8339999999999996,-7.7009999999999996,-8.9849999999999994,-11.121,-9.6370000000000005,-7.5339999999999998,-7.62,-8.6080000000000005,-10.119,-9.1950000000000003,-8.6609999999999996,-8.4700000000000006,-8.1310000000000002,-7.8049999999999997,-8.9770000000000003,-10.105,-10.11,-8.782,-8.1029999999999998,-9.5156029723425206,-10.682,-9.7857387632598485,-4.6719999999999997,-7.41,-8.0950000000000006,-8.9190000000000005,-8.9480000000000004,-10.83,-11.999000000000001,-9.7319999999999993,-9.2460000000000004,-9.7880000000000003,-11.952999999999999,0,0,0,-8.7793955751997341,-0.59362606866222278,0,0,0,-9.2579999999999991,-8.8379999999999992,-10.022,-10.258066596406463,-2.5324296860337294,0,-8.777556784388274,-7.2035517591831955,-7.59164852944145,0,0,0,-10.36,-9.2449999999999992,-10.025,-12.015000000000001,-13.596868000000001,-11.777882,-10.978412000000001,-7.3377250000000007,-4.048737,-6.4785810000000001,-5.2511289999999997,-5.0134270000000001,-5.046937999999999,-4.8411010000000001,-5.2452810000000003,-0.80470000000000008,0,0,0,0,0,0,0,0,0,0,0,0,0,0,0,0,0,0,0,0,0,0,0,0,0,0,0,0,0,0,0,0,0,0,0,0,0,0,0,0,0,0,0,0,0,0,0,0,0,0,0,0,0,0,0,0,0,0,0,0,0,0,0,0,0,0,0,0,0,0,0,0,0,0,0,0,0,0,0,0,0,0,0,0,0,0,0,0,0,0,0,0,0,0,0,0,0,0,0,0,0,0,0,0,0,0,0,0,0,0,0,0,0,0,0,0,0,0,0,0,0,0,0,0,0,0,0,0,0,0,0,0,0,0,0,0,0,0,0,0,0,0,0,0,0,0,0,0,0,0,0,0,0,"-","-","-"]
[null,null,"Total",{"$f":"SUM(D90:D103)","v":34.615000000000002},{"$f":"SUM(E90:E103)","v":22.524000000000001},-7.4400000000000119,-5.4519999999999982,-7.3070000000000022,1.8899999999999864,-8.3440000000000083,-18.918000000000006,2.0930000000000035,-5.4419999999999931,4.8119999999999905,-50.146999999999998,-15.260000000000005,35.629999999999995,16.891999999999992,14.285000000000004,24.774999999999999,30.494999999999997,-68.588999999999984,-22.117999999999999,-102.26600000000001,-24.706999999999987,17.608000000000004,1.2889999999999944,-90.263999999999996,-286.80799999999999,-274.15899999999999,2.3339999999999961,-166.09399999999999,-143.64500000000001,-297.28199999999998,-34.984999999999985,-22.378999999999998,-34.776000000000003,1.194999999999979,5.7199999999999989,-14.711000000000006,0.39500000000002444,-54.082000000000001,-114.46199999999999,-5.1960000000000051,-2.0270000000000055,1.4630000000000152,2.1009999999999796,0.43599999999999373,-0.22299999999999631,8.6319999999999908,2.5179999999999971,9.0999999999999979,19.629000000000005,1.1909999999999901,3.4980000000000002,5.0350000000000001,1.1089999999999955,-215.89700000000002,-217.726,-163.596,-112.968,-105.66499999999999,-110.57699999999998,-97.583000000000013,-82.555999999999997,-108.52700000000002,-101.58500000000001,-109.59099999999999,{"$f":"SUM(BQ90:BQ103)","v":-107.143},-102.45699999999999,-113.12000000000002,-98.283999999999992,-1.6659999999999915,-0.74699999999998923,9.1570000000000125,24.618000000000002,4.640000000000037,0.18099999999997962,-1.3760000000000066,8.2050000000000018,4.9010000000000087,0.52200000000001445,1.43700000000001,-207.95,-418.32200000000006,-325.49799999999999,-202.30100000000002,-7.477999999999966,-36.876999999999974,-307.94699999999995,-478.03500000000003,-493.59200000000004,-266.15299999999996,-452.53499999999997,-505.32499999999993,-259.33199999999999,-76.473999999999961,-2.1520000000000064,-11.145999999999995,-6.1259999999999639,6.3879999999999866,3.3089999999999957,0.8679999999999799,9.1130000000000315,-7.6089999999999796,-5.2000000000004931E-2,9.9730000000000008,-166.76499999999999,-1.0479999999999823,-2.826999999999976,-117.934,-131.11799999999999,-45.332000000000022,4.4370000000000278,253.34700000000004,348.03899999999993,276.74300000000005,51.573000000000029,47.186,-182.94499999999996,25.249999999999975,155.58500000000001,54.290999999999983,46.619000000000028,36.422999999999981,-110.54500000000002,26.317999999999984,86.518000000000001,-255.44300000000001,-229.36099999999999,-285.62200000000001,-166.482,{"$f":"SUM(EC90:EC103)","v":-38.690000000000019},-69.265000000000043,28.833000000000041,66.03,34.576999999999984,19.69700000000001,249.77899999999997,37.013000000000005,-14.664999999999985,-84.569000000000031,-228.68400000000003,-220.67099999999996,-63.735000000000007,-46.177000000000021,-13.920999999999971,-33.122999999999983,-23.876999999999956,22.812000000000033,39.121000000000016,-178.75700000000003,-83.638999999999925,-96.252000000000038,-339.38599999999991,-231.155,-301.709,-298.09800000000001,-374.74600000000009,-94.578999999999937,-101.88199999999995,-114.47800000000001,-177.65200000000004,-278.52199999999993,-173.66400000000004,-328.62099999999998,-424.38099999999997,-350.58499999999998,-361.52199999999999,-201.7,-186.11700000000002,-434.87991199999999,-415.1363189999999,-523.15330600000004,-721.97268899999995,-615.1989329999999,-621.10164100000009,-664.22358499999996,-627.60956199999998,-453.51091400000007,-542.16125699999986,-383.59163699999988,-416.20727200000005,-549.58485900000005,-357.91446899999994,-473.58007900000013,-505.06320599999998,-567.77182900000003,-475.99591399999997,-527.52073600000006,-560.13654099999997,-725.84780899999998,-789.68378300000006,-724.57482100000004,-571.338032,-705.48461699999996,{"$f":"SUM(GO90:GO103)","v":-568.09832700000004},-507.47040499999997,-279.47395000000006,-543.42661999999996,-672.49780599999997,-533.87014599999998,-357.64479900000003,-710.58568400000013,-537.06671899999981,-156.831366,121.25217900000003,-249.98010299999993,-440.94732799999997,-499.69271799999996,-602.89067599999998,-605.11222899999996,-508.82106900000002,-602.02641000000006,-712.32401200000004,-843.98494100000016,-887.499775,-760.86098000000004,-782.43799600000011,-713.96601699999985,-776.94250099999999,-1042.0391399999999,-899.56030800000008,-773.59216900000001,-784.53778399999999,-729.90392599999996,-607.155708,-641.17390999999998,-770.4554720000001,-878.15182199999981,-821.42115200000001,-594.39812599999993,-136.86346800000004,-263.06936999999999,-595.01306,-537.46184200000005,-599.62498499999992,-598.68801299999996,-381.11219599999993,-304.01617000000005,-430.957246,-452.94765500000005,105.328576,262.76150200000006,-82.452278000000007,-31.453171000000005,-47.281042000000021,-64.063366000000016,-414.96169200000003,-586.45827800000006,-628.72919999999999,-530.18777699999998,-631.11854900000003,-238.86150200000003,358.51788800000003,{"$f":"SUM(IV90:IV103)","v":-51.77501700000002},155.98585499999999,-13.291508999999971,-500.73421100000002,46.387750000000025,{"$f":"SUM(JA90:JA103)","v":-331.09742599999998},-437.77556599999991,-278.65180299999997,-445.93187500000005,-341.437476,-188.158278,-427.559012,-860.53836100000001,-700.10336000000007,-795.43779299999994,-799.95361300000002,-747.23826799999995,-682.52800300000013,-656.39089700000011,-456.89309199999997,-617.71345699999995,-821.00007600000004,-164.33106699999999,-594.88306599999999,45.758805000000031,98.703161000000023,618.84789400000011,525.30966599999999,-149.86424400000004,-439.300004,-1091.6103799999999,-657.76617199999998,-708.83540600000003,-530.04370499999993,-170.71267499999996,-317.13974700000006,771.46935599999995,665.40567699999997,495.80789400000009,-21.349308000000001,-385.44678199999998,-444.08500900000001,-705.54186700000002,-517.27044399999988,-504.96979199999998,-408.81547099999995,256.63880399999999,-104.53874500000002,-498.95910100000003,214.13628600000001,-3.4032699999999636,-257.62060500000001,-120.82252600000004,-395.78683100000006,-385.14386600000006,-384.20751499999994,-241.20294900000005,342.37108000000006,-188.11477300000007,-347.65841299999988,902.90586499999995,1020.851455,357.28791600000005,751.05199900000002,636.91414900000007,400.98453599999999,112.81094299999999,237.80537700000005,192.901162,{"$f":"SUM(LM90:LM103)","v":-30.662157999999991},282.96396799999991,220.27818999999994,249.84255899999997,640.19510400000001,307.55647999999997,109.48315599999999,172.514599,242.76754099999997,468.38362799999993,749.47453099999996,252.31616500000001,"-","-","-"]
[null,"Marruecos","Puerto de la Cruz-Mellousa",0,0,0,0,0,0,0,0,0,0,0,0,0,0,0,0,0,0,0,0,0,0,0,0,0,0,0,0,0,0,0,0,0,0,0,0,0,0,0,0,0,0,0,0,0,0,0,0,0,0,0,0,0,0,0,0,0,0,0,0,0,0,0,0,0,0,0,0,0,0,0,0,0,0,0,0,0,0,0,0,0,0,0,0,0,0,0,0,0,0,0,-0.65700000000000003,0,-125.977,-4.0090000000000003,0,0,0,0,0,-14.435,-75.959999999999994,-67.055000000000007,-64.811999999999998,-171.77799999999999,-164.81800000000001,-80.716999999999999,-66.007000000000005,-67.33,-60.401000000000003,-65.194999999999993,-64.668999999999997,-204.428,-175.71100000000001,-186.43,-199.24100000000001,-211.6,-186.423,-191.97800000000001,-197.31899999999999,-195.54300000000001,-218.55600000000001,-227.923,-218.846,-215.08699999999999,-202.18700000000001,-153.74700000000001,-163.18299999999999,-163.81,-184.547,-154.477,-165.16200000000001,-160.131,-158.11099999999999,-132.048,-132.37899999999999,-120.435,-121.89100000000001,-145.846,-150.16300000000001,-114.337,-150.49600000000001,-126.724,-67.408000000000001,-5.4669999999999987,-75.275999999999996,-135.00700000000001,-146.58600000000001,-132.74199999999999,-132.01,-71.191999999999993,-164.55,-82.813999999999993,-140.70400000000001,-112.78400000000001,-115.877,-148.18799999999999,-100.47800000000001,-127.42,-184.33500000000001,-211.59200000000001,-97.77600000000001,-72.989999999999995,-96.174000000000007,-123.62,-80.677000000000007,-112.366,-101.718,-134.61530400000001,-126.89807,-85.373609999999985,-165.20219800000001,-122.43114200000001,-121.02149800000001,-123.284778,-115.487444,-78.635100000000008,-192.05773199999999,-136.271288,-145.17289199999999,-51.702755999999987,-16.128304,-32.441975999999997,-24.254968000000002,-55.115480000000005,-21.274632,-29.593872000000001,-158.58094399999999,-111.11924,-149.49990400000002,-99.885176000000001,-38.344720000000002,-77.509327999999996,-153.61389600000001,-155.08569200000002,-112.253424,-121.20090399999999,-103.746472,-99.718196000000006,-208.842321,-214.82070400000001,-201.46105600000001,-228.29751199999998,-325.27269999999999,-272.47250000000003,-246.46220000000002,-327.33519999999999,-288.4529,-380.28050000000002,-335.39570000000003,-318.11609999999996,-284.48669999999998,-345.39519999999999,-262.92680999999999,-228.17829999999998,-189.74250000000001,-235.17270000000002,-347.34709999999995,-292.10050000000001,-384.77320000000003,-336.65540000000004,-354.1497,-471.54349999999999,-490.90340000000003,-451.29970000000003,-333.11829999999998,-233.83970000000002,-280.67290000000003,-163.62700000000001,-203.917,-179.82629999999997,-329.9314,-467.29300000000001,-443.69459999999998,-535.09029999999996,-550.51149999999996,-458.4896,-527.97940000000006,-385.56349999999998,-342.5489,-192.8141,-68.729599999999991,-148.73510000000002,-345.57120000000015,-337.47856999999988,-402.28540000000004,-437.76330000000002,-486.10220000000004,-491.4101,-497.53059999999999,-299.37650000000002,-195.18039999999999,-292.90100000000001,-283.05127000000005,-318.41159999999996,-411.0265,-408.61420000000004,-405.26400000000001,-499.47980000000001,-521.43590000000006,-434.08508,-359.33368000000002,-261.59809999999999,-299.58149999999989,-337.8202,-330.72309999999999,-384.85129999999998,-385.84859999999998,-429.80490000000003,-409.62820000000011,-470.13190000000003,-509.03449999999998,-482.00491999999997,-327.53865000000002,-411.84129999999999,-420.28980000000001,-475.37220000000002,-404.14149999999989,-379.11670000000004,-446.4812,-463.55579999999998,-460.30170000000004,-487.25599999999997,-499.10867999999988,-478.59249999999986,-400.3716,-431.0446,-450.60559999999998,-454.59070000000003,-488.82830000000001,-498.55070000000001,-461.9479,-527.03049999999996,-494.13049999999998,-459.11803000000003,-516.04809999999998,-580.13119999999992,-390.16314,-487.03159999999997,-478.84840000000003,-352.1268,-364.66429999999997,-406.4704999999999,-440.8014,-514.50030000000004,-349.34990000000005,-468.62959999999998,-521.23320000000001,-368.99540000000002,-348.55728999999997,-411.6266,-379.95420000000001,-415.12349999999998,-419.71690000000001,-437.16980000000001,-467.65899999999999,-508.98790000000002,-504.7319,-490.97969999999998,-557.95929999999998,-256.29707999999999,-416.35996,-261.54820000000001,-205.47489999999999,-399.70159999999998,-479.80799999999999,-532.83100000000002,-537.40859999999998,-569.37850000000003,-533.00149999999996,-595.55100000000004,-590.08630000000005,-483.14869999999996,"-","-","-"]
[null,null,"Total",{"$f":"D105","v":0},{"$f":"E105","v":0},0,0,0,0,0,0,0,0,0,0,0,0,0,0,0,0,0,0,0,0,0,0,0,0,0,0,0,0,0,0,0,0,0,0,0,0,0,0,0,0,0,0,0,0,0,0,0,0,0,0,0,0,0,0,0,0,0,0,0,0,0,0,0,{"$f":"BQ105","v":0},0,0,0,0,0,0,0,0,0,0,0,0,0,0,0,0,0,0,0,0,0,0,0,0,0,-0.65700000000000003,0,-125.977,-4.0090000000000003,0,0,0,0,0,-14.435,-75.959999999999994,-67.055000000000007,-64.811999999999998,-171.77799999999999,-164.81800000000001,-80.716999999999999,-66.007000000000005,-67.33,-60.401000000000003,-65.194999999999993,-64.668999999999997,-204.428,-175.71100000000001,-186.43,-199.24100000000001,-211.6,-186.423,-191.97800000000001,-197.31899999999999,-195.54300000000001,-218.55600000000001,-227.923,-218.846,-215.08699999999999,-202.18700000000001,-153.74700000000001,-163.18299999999999,-163.81,{"$f":"EC105","v":-184.547},-154.477,-165.16200000000001,-160.131,-158.11099999999999,-132.048,-132.37899999999999,-120.435,-121.89100000000001,-145.846,-150.16300000000001,-114.337,-150.49600000000001,-126.724,-67.408000000000001,-5.4669999999999987,-75.275999999999996,-135.00700000000001,-146.58600000000001,-132.74199999999999,-132.01,-71.191999999999993,-164.55,-82.813999999999993,-140.70400000000001,-112.78400000000001,-115.877,-148.18799999999999,-100.47800000000001,-127.42,-184.33500000000001,-211.59200000000001,-97.77600000000001,-72.989999999999995,-96.174000000000007,-123.62,-80.677000000000007,-112.366,-101.718,-134.61530400000001,-126.89807,-85.373609999999985,-165.20219800000001,-122.43114200000001,-121.02149800000001,-123.284778,-115.487444,-78.635100000000008,-192.05773199999999,-136.271288,-145.17289199999999,-51.702755999999987,-16.128304,-32.441975999999997,-24.254968000000002,-55.115480000000005,-21.274632,-29.593872000000001,-158.58094399999999,-111.11924,-149.49990400000002,-99.885176000000001,-38.344720000000002,-77.509327999999996,{"$f":"GO105","v":-153.61389600000001},-155.08569200000002,-112.253424,-121.20090399999999,-103.746472,-99.718196000000006,-208.842321,-214.82070400000001,-201.46105600000001,-228.29751199999998,-325.27269999999999,-272.47250000000003,-246.46220000000002,-327.33519999999999,-288.4529,-380.28050000000002,-335.39570000000003,-318.11609999999996,-284.48669999999998,-345.39519999999999,-262.92680999999999,-228.17829999999998,-189.74250000000001,-235.17270000000002,-347.34709999999995,-292.10050000000001,-384.77320000000003,-336.65540000000004,-354.1497,-471.54349999999999,-490.90340000000003,-451.29970000000003,-333.11829999999998,-233.83970000000002,-280.67290000000003,-163.62700000000001,-203.917,-179.82629999999997,-329.9314,-467.29300000000001,-443.69459999999998,-535.09029999999996,-550.51149999999996,-458.4896,-527.97940000000006,-385.56349999999998,-342.5489,-192.8141,-68.729599999999991,-148.73510000000002,-345.57120000000015,-337.47856999999988,-402.28540000000004,-437.76330000000002,-486.10220000000004,-491.4101,-497.53059999999999,-299.37650000000002,-195.18039999999999,-292.90100000000001,-283.05127000000005,-318.41159999999996,-411.0265,-408.61420000000004,{"$f":"JA105","v":-405.26400000000001},-499.47980000000001,-521.43590000000006,-434.08508,-359.33368000000002,-261.59809999999999,-299.58149999999989,-337.8202,-330.72309999999999,-384.85129999999998,-385.84859999999998,-429.80490000000003,-409.62820000000011,-470.13190000000003,-509.03449999999998,-482.00491999999997,-327.53865000000002,-411.84129999999999,-420.28980000000001,-475.37220000000002,-404.14149999999989,-379.11670000000004,-446.4812,-463.55579999999998,-460.30170000000004,-487.25599999999997,-499.10867999999988,-478.59249999999986,-400.3716,-431.0446,-450.60559999999998,-454.59070000000003,-488.82830000000001,-498.55070000000001,-461.9479,-527.03049999999996,-494.13049999999998,-459.11803000000003,-516.04809999999998,-580.13119999999992,-390.16314,-487.03159999999997,-478.84840000000003,-352.1268,-364.66429999999997,-406.4704999999999,-440.8014,-514.50030000000004,-349.34990000000005,-468.62959999999998,-521.23320000000001,-368.99540000000002,-348.55728999999997,-411.6266,-379.95420000000001,-415.12349999999998,-419.71690000000001,-437.16980000000001,-467.65899999999999,-508.98790000000002,-504.7319,-490.97969999999998,-557.95929999999998,-256.29707999999999,{"$f":"LM105","v":-416.35996},-261.54820000000001,-205.47489999999999,-399.70159999999998,-479.80799999999999,-532.83100000000002,-537.40859999999998,-569.37850000000003,-533.00149999999996,-595.55100000000004,-590.08630000000005,-483.14870000000002,"-","-","-"]
[null,"Saldo",null,{"$f":"SUM(D81,D89,D104,D106)","v":-269.29700000000003},{"$f":"SUM(E81,E89,E104,E106)","v":16.551000000000002},-11.986999999999995,-20.996999999999996,159.39799999999997,0.44200000000000061,-28.161000000000008,-32.036000000000016,14.863,-21.73299999999999,-139.47000000000003,-87.152000000000015,-24.533000000000015,22.888999999999992,-122.07,-226.91899999999998,-191.566,-45.838999999999992,-92.111999999999995,27.849,-99.836000000000013,-14.272,56.173999999999999,33.648999999999994,-96.051999999999992,-312.209,-213.21599999999998,188.66299999999998,271.98,371.25900000000001,87.992000000000019,216.89600000000002,131.30700000000002,-16.239000000000011,8.0229999999999766,2.7199999999999918,95.905000000000001,222.43800000000005,184.267,48.240000000000009,224.11500000000001,217.79499999999999,282.58000000000004,18.097999999999978,-4.7850000000000135,-0.85399999999999299,-0.36500000000001798,-20.361999999999998,-20.455000000000009,19.067000000000007,44.10299999999998,42.116,71.337999999999994,56.382999999999996,128.05099999999996,134.20600000000002,271.50099999999998,383.18399999999997,371.48199999999997,354.12899999999996,382.27799999999996,376.39499999999998,379.125,353.88599999999997,378.61599999999999,{"$f":"SUM(BQ81,BQ89,BQ104,BQ106)","v":369.63499999999999},406.47900000000004,389.68700000000001,389.56900000000002,434.89600000000007,380.024,248.45500000000001,-23.150000000000006,-228.83899999999991,95.808999999999969,234.45,175.22300000000001,297.35900000000004,337.6049999999999,288.54200000000003,53.531000000000006,-123.29700000000003,-16.168999999999983,-31.698000000000008,-483.95899999999995,-204.56499999999997,-220.01099999999994,-410.142,-439.19400000000007,-268.20999999999998,-397.76099999999997,-455.00499999999994,-103.38900000000001,13.219000000000023,65.416000000000011,-169.27099999999996,339.84100000000007,345.96099999999996,404.92,388.81899999999996,355.11400000000009,244.86200000000002,284.57,320.09499999999997,-25.489999999999924,206.148,283.52199999999999,253.50200000000001,244.11699999999996,366.79399999999993,462.85600000000017,712.678,628.45799999999997,570.85800000000006,515.62199999999984,504.84000000000003,210.99500000000003,438.75,625.31500000000005,437.96199999999999,196.38600000000002,415.9,422.24900000000002,519.17000000000007,683.5379999999999,173.875,258.82700000000006,208.52799999999996,340.72800000000001,{"$f":"SUM(EC81,EC89,EC104,EC106)","v":443.80600000000004},516.19800000000021,261.39,-38.209000000000003,21.673000000000059,-83.96399999999997,447.0619999999999,578.60300000000007,504.50399999999996,431.03699999999992,282.04500000000002,283.08600000000001,139.70199999999997,402.85200000000003,489.56900000000019,532.01600000000008,648.78600000000017,721.60400000000004,705.34899999999993,259.03800000000001,187.0100000000001,575.93599999999992,236.11800000000005,428.06299999999999,298.13900000000001,490.71400000000006,245.99499999999983,26.416000000000111,50.988,247.01799999999997,-36.926999999999992,134.0570000000001,409.34499999999991,237.34799999999996,123.48700000000017,160.17900000000003,55.116,-24.058000000000007,-119.06699999999999,-318.32529899999997,-299.78922599999987,-234.03208900000004,-621.21923299999992,-303.66355699999986,-321.33734000000015,-241.45992300000006,-454.68983199999997,-53.953965000000082,-330.98923999999982,-45.659163999999947,198.09898699999997,295.54904199999993,299.65718200000009,51.224801999999855,68.783357000000152,176.04185000000001,176.28785800000003,31.582983999999929,-174.63554499999992,-495.36582299999998,-662.58650200000011,-689.60537900000008,-420.31875899999994,-365.17153599999995,{"$f":"SUM(GO81,GO89,GO104,GO106)","v":-583.77737999999999},-799.06054599999993,41.880827999999894,18.828612000000064,-262.11080499999997,-377.87786500000004,63.245105000000052,-310.53289500000017,-236.93348799999981,-285.29519399999998,-175.70663299999995,94.561263000000054,-235.49307899999994,-243.36375600000002,-261.05144600000006,-494.79283599999997,-223.46178500000002,-289.77575400000001,-314.01399699999996,-846.57433800000013,-1153.7748979999999,-1052.93047,-729.80000000000018,-456.80280399999992,-655.5838389999999,-1199.3479499999999,-1291.6146520000002,-761.2751780000001,-1052.3422840000001,-907.81263799999988,-796.07094800000004,-935.81141500000001,-1102.015633,-948.44754999999986,-932.45558700000004,-897.62864500000001,-474.27665300000001,-192.94905899999992,-548.93496699999992,-437.37609200000009,-769.16060299999981,-944.90987799999994,-817.41523999999981,-711.16736800000001,-941.36465400000009,-897.21050400000001,-454.01676300000003,-304.71344599999992,-506.19675300000006,-560.11404599999992,-729.09510200000011,-542.81502899999987,-821.22575100000006,-1000.6535670000001,-758.60105700000008,-964.25545199999999,-1295.5098869999999,-593.21057399999995,-256.28839399999993,-611.33580500000016,-358.8423590000001,-762.63600899999994,-1074.8113169999999,-233.62380000000002,{"$f":"SUM(JA81,JA89,JA104,JA106)","v":-404.76718699999998},-470.93456999999989,-197.10088099999996,-548.75685800000008,-381.58426100000003,-579.51663299999996,-466.21665399999989,-525.29093599999999,-1375.7932210000001,-869.96906999999987,-1211.9197819999999,-939.84038099999998,-625.3293520000002,-629.52545600000019,-646.20974899999987,-1047.302604,-1457.208903,-791.40693099999999,-1080.1572059999999,-364.45221100000003,-642.39397799999983,-430.41725799999995,-411.18220099999996,-132.05559299999999,-358.69515000000001,-1060.4316309999997,-517.6745219999998,-821.87308799999994,-679.119191,-892.91131900000005,-420.92630800000006,28.099828999999943,-490.54062399999998,-225.94670299999996,-652.23227599999996,-256.41148299999986,-285.58111300000007,-481.72024800000014,-236.69276999999977,-336.25483999999994,-303.54976099999999,195.37265699999995,-360.66759700000006,-259.10295699999995,-558.8550459999999,-396.75677899999988,-295.55073600000003,180.77278999999999,0.8891549999997892,-184.17542999999995,-251.79336099999989,-169.94173200000006,436.52793200000008,453.10791299999988,911.71716000000004,847.59026500000004,960.57577299999991,174.92662099999995,-106.68411199999997,762.50236499999983,1083.2692119999999,917.73114199999998,1034.6561140000001,1130.5906420000003,{"$f":"SUM(LM81,LM89,LM104,LM106)","v":-433.77785799999998},357.21121499999987,938.722174,-531.54929800000002,541.13368700000001,1457.080766,1040.9594840000002,1444.9856000000002,1128.8588830000003,1273.4433960000001,1827.910942,1393.3084220000001,"-","-","-"]
[]
[null,"Intercambios internacionales físicos anuales por frontera (GWh)","País",1990,1991,1992,1993,1994,1995,1996,1997,1998,1999,2000,2001,2002,2003,2004,2005,2006,2007,2008,2009,2010,2011,2012,2013,2014,2015,2016,2017,2018,2019]
[null,"Entradas","ANDORRA",{"$f":"SUM('II fisicos'!D3:O3)","v":0.25600000000000001},{"$f":"SUM('II fisicos'!P3:AA3)","v":1.7000000000000001E-2},{"$f":"SUM('II fisicos'!AB3:AM3)","v":1.7000000000000001E-2},{"$f":"SUM('II fisicos'!AN3:AY3)","v":1.4999999999999999E-2},{"$f":"SUM('II fisicos'!AZ3:BK3)","v":2E-3},{"$f":"SUM('II fisicos'!BL3:BW3)","v":1E-3},{"$f":"SUM('II fisicos'!BX3:CI3)","v":0},{"$f":"SUM('II fisicos'!CJ3:CU3)","v":5.800000000000001E-2},{"$f":"SUM('II fisicos'!CV3:DG3)","v":6.0000000000000001E-3},{"$f":"SUM('II fisicos'!DH3:DS3)","v":7.7839999999999998},{"$f":"SUM('II fisicos'!DT3:EE3)","v":0},{"$f":"SUM('II fisicos'!EF3:EQ3)","v":0},{"$f":"SUM('II fisicos'!ER3:FC3)","v":0},{"$f":"SUM('II fisicos'!FD3:FO3)","v":0},{"$f":"SUM('II fisicos'!FP3:GA3)","v":3.0000000000000001E-3},{"$f":"SUM('II fisicos'!GB3:GM3)","v":1.4999999999999999E-2},{"$f":"SUM('II fisicos'!GN3:GY3)","v":3.0000000000000001E-3},{"$f":"SUM('II fisicos'!GZ3:HK3)","v":0.26700000000000002},{"$f":"SUM('II fisicos'!HL3:HW3)","v":0},{"$f":"SUM('II fisicos'!HX3:II3)","v":9.0000000000000011E-3},{"$f":"SUM('II fisicos'!IJ3:IU3)","v":3.6999999999999999E-4},{"$f":"SUM('II fisicos'!IV3:JG3)","v":5.6000000000000006E-4},{"$f":"SUM('II fisicos'!JH3:JS3)","v":1.58E-3},{"$f":"SUM('II fisicos'!JT3:KE3)","v":1.1000000000000001E-3},{"$f":"SUM('II fisicos'!KF3:KQ3)","v":5.6000000000000008E-3},{"$f":"SUM('II fisicos'!KR3:LC3)","v":6.2299999999999994E-3},{"$f":"SUM('II fisicos'!LD3:LO3)","v":3.9799999999999992E-3},{"$f":"SUM('II fisicos'!LP3:MA3)","v":1.6480000000000002E-2},"-","-"]
[null,null,"FRANCIA",{"$f":"SUM('II fisicos'!D4:O4)","v":1511.6790000000001},{"$f":"SUM('II fisicos'!P4:AA4)","v":1465.3009999999999},{"$f":"SUM('II fisicos'!AB4:AM4)","v":3154.2429999999999},{"$f":"SUM('II fisicos'!AN4:AY4)","v":2703.4759999999997},{"$f":"SUM('II fisicos'!AZ4:BK4)","v":3737.0050000000001},{"$f":"SUM('II fisicos'!BL4:BW4)","v":5888.612000000001},{"$f":"SUM('II fisicos'!BX4:CI4)","v":3745.4669999999996},{"$f":"SUM('II fisicos'!CJ4:CU4)","v":2114.3389999999999},{"$f":"SUM('II fisicos'!CV4:DG4)","v":5265.6130000000012},{"$f":"SUM('II fisicos'!DH4:DS4)","v":7465.831000000001},{"$f":"SUM('II fisicos'!DT4:EE4)","v":8500.8309999999983},{"$f":"SUM('II fisicos'!EF4:EQ4)","v":6724.6980000000003},{"$f":"SUM('II fisicos'!ER4:FC4)","v":9061.7360000000008},{"$f":"SUM('II fisicos'!FD4:FO4)","v":6386.9699999999984},{"$f":"SUM('II fisicos'!FP4:GA4)","v":5978.3140000000003},{"$f":"SUM('II fisicos'!GB4:GM4)","v":7300.4179999999997},{"$f":"SUM('II fisicos'!GN4:GY4)","v":5890.110999999999},{"$f":"SUM('II fisicos'!GZ4:HK4)","v":6598.072000000001},{"$f":"SUM('II fisicos'!HL4:HW4)","v":4551.6109999999999},{"$f":"SUM('II fisicos'!HX4:II4)","v":3942.3499999999995},{"$f":"SUM('II fisicos'!IJ4:IU4)","v":1983.2732699999999},{"$f":"SUM('II fisicos'!IV4:JG4)","v":3986.9997699999994},{"$f":"SUM('II fisicos'!JH4:JS4)","v":4910.520954999999},{"$f":"SUM('II fisicos'!JT4:KE4)","v":4879.0747929999998},{"$f":"SUM('II fisicos'!KF4:KQ4)","v":5962.7610559999994},{"$f":"SUM('II fisicos'!KR4:LC4)","v":9130.8875770000013},{"$f":"SUM('II fisicos'!LD4:LO4)","v":12135.331055000001},{"$f":"SUM('II fisicos'!LP4:MA4)","v":14221.360032000001},"-","-"]
[null,null,"PORTUGAL",{"$f":"SUM('II fisicos'!D5:O5)","v":1696.1549999999997},{"$f":"SUM('II fisicos'!P5:AA5)","v":1620.327},{"$f":"SUM('II fisicos'!AB5:AM5)","v":1197.4259999999999},{"$f":"SUM('II fisicos'!AN5:AY5)","v":1902.3710000000001},{"$f":"SUM('II fisicos'!AZ5:BK5)","v":1368.9},{"$f":"SUM('II fisicos'!BL5:BW5)","v":1741.057},{"$f":"SUM('II fisicos'!BX5:CI5)","v":3004.8329999999996},{"$f":"SUM('II fisicos'!CJ5:CU5)","v":2480.5950000000003},{"$f":"SUM('II fisicos'!CV5:DG5)","v":3698.1229999999996},{"$f":"SUM('II fisicos'!DH5:DS5)","v":4485.1509999999998},{"$f":"SUM('II fisicos'!DT5:EE5)","v":3766.837},{"$f":"SUM('II fisicos'!EF5:EQ5)","v":3477.4619999999995},{"$f":"SUM('II fisicos'!ER5:FC5)","v":3429.826},{"$f":"SUM('II fisicos'!FD5:FO5)","v":3104.4639999999999},{"$f":"SUM('II fisicos'!FP5:GA5)","v":2112.1039999999998},{"$f":"SUM('II fisicos'!GB5:GM5)","v":2800.6730000000002},{"$f":"SUM('II fisicos'!GN5:GY5)","v":3182.1390000000001},{"$f":"SUM('II fisicos'!GZ5:HK5)","v":2152.9349999999999},{"$f":"SUM('II fisicos'!HL5:HW5)","v":1313.7350000000001},{"$f":"SUM('II fisicos'!HX5:II5)","v":2820.3469999999998},{"$f":"SUM('II fisicos'!IJ5:IU5)","v":3189.0590740000002},{"$f":"SUM('II fisicos'!IV5:JG5)","v":3929.8308789999992},{"$f":"SUM('II fisicos'!JH5:JS5)","v":2870.6081570000001},{"$f":"SUM('II fisicos'!JT5:KE5)","v":5323.4664100000009},{"$f":"SUM('II fisicos'!KF5:KQ5)","v":6344.7284030000001},{"$f":"SUM('II fisicos'!KR5:LC5)","v":5810.6983619999992},{"$f":"SUM('II fisicos'!LD5:LO5)","v":9701.608037},{"$f":"SUM('II fisicos'!LP5:MA5)","v":6691.6015049999996},"-","-"]
[null,null,"MARRUECOS",{"$f":"SUM('II fisicos'!D6:O6)","v":0},{"$f":"SUM('II fisicos'!P6:AA6)","v":0},{"$f":"SUM('II fisicos'!AB6:AM6)","v":0},{"$f":"SUM('II fisicos'!AN6:AY6)","v":0},{"$f":"SUM('II fisicos'!AZ6:BK6)","v":0},{"$f":"SUM('II fisicos'!BL6:BW6)","v":0},{"$f":"SUM('II fisicos'!BX6:CI6)","v":0},{"$f":"SUM('II fisicos'!CJ6:CU6)","v":1.9730000000000001},{"$f":"SUM('II fisicos'!CV6:DG6)","v":0},{"$f":"SUM('II fisicos'!DH6:DS6)","v":0},{"$f":"SUM('II fisicos'!DT6:EE6)","v":0},{"$f":"SUM('II fisicos'!EF6:EQ6)","v":0},{"$f":"SUM('II fisicos'!ER6:FC6)","v":12.481},{"$f":"SUM('II fisicos'!FD6:FO6)","v":29.053000000000001},{"$f":"SUM('II fisicos'!FP6:GA6)","v":21.190999999999995},{"$f":"SUM('II fisicos'!GB6:GM6)","v":110.40599999999999},{"$f":"SUM('II fisicos'!GN6:GY6)","v":28.18},{"$f":"SUM('II fisicos'!GZ6:HK6)","v":21.504000000000001},{"$f":"SUM('II fisicos'!HL6:HW6)","v":14.924999999999999},{"$f":"SUM('II fisicos'!HX6:II6)","v":7.9750000000000005},{"$f":"SUM('II fisicos'!IJ6:IU6)","v":33.919319999999999},{"$f":"SUM('II fisicos'!IV6:JG6)","v":15.614409999999999},{"$f":"SUM('II fisicos'!JH6:JS6)","v":4.6427499999999995},{"$f":"SUM('II fisicos'!JT6:KE6)","v":1.1239300000000001},{"$f":"SUM('II fisicos'!KF6:KQ6)","v":2.5326},{"$f":"SUM('II fisicos'!KR6:LC6)","v":14.139290000000001},{"$f":"SUM('II fisicos'!LD6:LO6)","v":7.91737},{"$f":"SUM('II fisicos'!LP6:MA6)","v":2.7966000000000002},"-","-"]
[null,null,"Total",{"$f":"SUM('II fisicos'!D7:O7)","v":3208.0900000000006},{"$f":"SUM('II fisicos'!P7:AA7)","v":3085.645},{"$f":"SUM('II fisicos'!AB7:AM7)","v":4351.6859999999997},{"$f":"SUM('II fisicos'!AN7:AY7)","v":4605.8619999999992},{"$f":"SUM('II fisicos'!AZ7:BK7)","v":5105.9070000000002},{"$f":"SUM('II fisicos'!BL7:BW7)","v":7629.67},{"$f":"SUM('II fisicos'!BX7:CI7)","v":6750.3},{"$f":"SUM('II fisicos'!CJ7:CU7)","v":4596.9650000000001},{"$f":"SUM('II fisicos'!CV7:DG7)","v":8963.7420000000002},{"$f":"SUM('II fisicos'!DH7:DS7)","v":11958.765999999998},{"$f":"SUM('II fisicos'!DT7:EE7)","v":12267.668000000001},{"$f":"SUM('II fisicos'!EF7:EQ7)","v":10202.160000000002},{"$f":"SUM('II fisicos'!ER7:FC7)","v":12504.043000000001},{"$f":"SUM('II fisicos'!FD7:FO7)","v":9520.487000000001},{"$f":"SUM('II fisicos'!FP7:GA7)","v":8111.6120000000001},{"$f":"SUM('II fisicos'!GB7:GM7)","v":10211.512000000001},{"$f":"SUM('II fisicos'!GN7:GY7)","v":9100.4330000000009},{"$f":"SUM('II fisicos'!GZ7:HK7)","v":8772.7780000000002},{"$f":"SUM('II fisicos'!HL7:HW7)","v":5880.2710000000006},{"$f":"SUM('II fisicos'!HX7:II7)","v":6770.6809999999996},{"$f":"SUM('II fisicos'!IJ7:IU7)","v":5206.2520339999992},{"$f":"SUM('II fisicos'!IV7:JG7)","v":7932.4456190000001},{"$f":"SUM('II fisicos'!JH7:JS7)","v":7785.7734419999997},{"$f":"SUM('II fisicos'!JT7:KE7)","v":10203.666233000002},{"$f":"SUM('II fisicos'!KF7:KQ7)","v":12310.027658999999},{"$f":"SUM('II fisicos'!KR7:LC7)","v":14955.731458999999},{"$f":"SUM('II fisicos'!LD7:LO7)","v":21844.860441999997},{"$f":"SUM('II fisicos'!LP7:MA7)","v":20915.774616999999},"-","-"]
[null,"Salidas","ANDORRA",{"$f":"SUM('II fisicos'!D8:O8)","v":18.892999999999997},{"$f":"SUM('II fisicos'!P8:AA8)","v":48.873000000000005},{"$f":"SUM('II fisicos'!AB8:AM8)","v":28.538999999999998},{"$f":"SUM('II fisicos'!AN8:AY8)","v":142.50399999999999},{"$f":"SUM('II fisicos'!AZ8:BK8)","v":109.23100000000001},{"$f":"SUM('II fisicos'!BL8:BW8)","v":109.87900000000002},{"$f":"SUM('II fisicos'!BX8:CI8)","v":127.44900000000003},{"$f":"SUM('II fisicos'!CJ8:CU8)","v":104.92200000000001},{"$f":"SUM('II fisicos'!CV8:DG8)","v":139.06400000000002},{"$f":"SUM('II fisicos'!DH8:DS8)","v":220.09700000000001},{"$f":"SUM('II fisicos'!DT8:EE8)","v":271.959},{"$f":"SUM('II fisicos'!EF8:EQ8)","v":248.358},{"$f":"SUM('II fisicos'!ER8:FC8)","v":291.75100000000003},{"$f":"SUM('II fisicos'!FD8:FO8)","v":269.97700000000003},{"$f":"SUM('II fisicos'!FP8:GA8)","v":283.49700000000001},{"$f":"SUM('II fisicos'!GB8:GM8)","v":271.05799999999999},{"$f":"SUM('II fisicos'!GN8:GY8)","v":229.101},{"$f":"SUM('II fisicos'!GZ8:HK8)","v":261.642},{"$f":"SUM('II fisicos'!HL8:HW8)","v":278.33399999999995},{"$f":"SUM('II fisicos'!HX8:II8)","v":299.39400000000006},{"$f":"SUM('II fisicos'!IJ8:IU8)","v":264.49448000000001},{"$f":"SUM('II fisicos'!IV8:JG8)","v":305.7133},{"$f":"SUM('II fisicos'!JH8:JS8)","v":286.21885999999995},{"$f":"SUM('II fisicos'!JT8:KE8)","v":287.39902000000001},{"$f":"SUM('II fisicos'!KF8:KQ8)","v":234.51143999999999},{"$f":"SUM('II fisicos'!KR8:LC8)","v":264.05766},{"$f":"SUM('II fisicos'!LD8:LO8)","v":278.28440999999998},{"$f":"SUM('II fisicos'!LP8:MA8)","v":190.52426},"-","-"]
[null,null,"FRANCIA",{"$f":"SUM('II fisicos'!D9:O9)","v":1875.5049999999999},{"$f":"SUM('II fisicos'!P9:AA9)","v":2001.0650000000001},{"$f":"SUM('II fisicos'!AB9:AM9)","v":1143.454},{"$f":"SUM('II fisicos'!AN9:AY9)","v":1118.759},{"$f":"SUM('II fisicos'!AZ9:BK9)","v":885.80399999999997},{"$f":"SUM('II fisicos'!BL9:BW9)","v":375.58699999999999},{"$f":"SUM('II fisicos'!BX9:CI9)","v":1447.7090000000001},{"$f":"SUM('II fisicos'!CJ9:CU9)","v":2054.6580000000004},{"$f":"SUM('II fisicos'!CV9:DG9)","v":746.39899999999989},{"$f":"SUM('II fisicos'!DH9:DS9)","v":580.60399999999993},{"$f":"SUM('II fisicos'!DT9:EE9)","v":594.51200000000006},{"$f":"SUM('II fisicos'!EF9:EQ9)","v":1173.085},{"$f":"SUM('II fisicos'!ER9:FC9)","v":227.399},{"$f":"SUM('II fisicos'!FD9:FO9)","v":602.05400000000009},{"$f":"SUM('II fisicos'!FP9:GA9)","v":756.64199999999994},{"$f":"SUM('II fisicos'!GB9:GM9)","v":755.80799999999999},{"$f":"SUM('II fisicos'!GN9:GY9)","v":1480.5049999999999},{"$f":"SUM('II fisicos'!GZ9:HK9)","v":1111.346},{"$f":"SUM('II fisicos'!HL9:HW9)","v":1662.3820000000001},{"$f":"SUM('II fisicos'!HX9:II9)","v":2352.0750000000003},{"$f":"SUM('II fisicos'!IJ9:IU9)","v":3514.1936829999995},{"$f":"SUM('II fisicos'!IV9:JG9)","v":2462.5921659999999},{"$f":"SUM('II fisicos'!JH9:JS9)","v":3027.7288430000003},{"$f":"SUM('II fisicos'!JT9:KE9)","v":3171.2084360000003},{"$f":"SUM('II fisicos'!KF9:KQ9)","v":2395.2653880000007},{"$f":"SUM('II fisicos'!KR9:LC9)","v":1806.6752649999996},{"$f":"SUM('II fisicos'!LD9:LO9)","v":4333.8223339999995},{"$f":"SUM('II fisicos'!LP9:MA9)","v":1890.3029329999999},"-","-"]
[null,null,"PORTUGAL",{"$f":"SUM('II fisicos'!D10:O10)","v":1733.2710000000002},{"$f":"SUM('II fisicos'!P10:AA10)","v":1712.2929999999997},{"$f":"SUM('II fisicos'!AB10:AM10)","v":2538.569},{"$f":"SUM('II fisicos'!AN10:AY10)","v":2077.527},{"$f":"SUM('II fisicos'!AZ10:BK10)","v":2255.7669999999998},{"$f":"SUM('II fisicos'!BL10:BW10)","v":2655.1590000000001},{"$f":"SUM('II fisicos'!BX10:CI10)","v":4115.7759999999998},{"$f":"SUM('II fisicos'!CJ10:CU10)","v":5377.6409999999996},{"$f":"SUM('II fisicos'!CV10:DG10)","v":3970.8330000000005},{"$f":"SUM('II fisicos'!DH10:DS10)","v":3628.0949999999998},{"$f":"SUM('II fisicos'!DT10:EE10)","v":4697.5339999999987},{"$f":"SUM('II fisicos'!EF10:EQ10)","v":3742.788},{"$f":"SUM('II fisicos'!ER10:FC10)","v":5328.6350000000002},{"$f":"SUM('II fisicos'!FD10:FO10)","v":5898.1669999999995},{"$f":"SUM('II fisicos'!FP10:GA10)","v":8530.8509999999987},{"$f":"SUM('II fisicos'!GB10:GM10)","v":9629.6840000000011},{"$f":"SUM('II fisicos'!GN10:GY10)","v":8633.3360000000011},{"$f":"SUM('II fisicos'!GZ10:HK10)","v":9649.5149999999994},{"$f":"SUM('II fisicos'!HL10:HW10)","v":10752.635000000002},{"$f":"SUM('II fisicos'!HX10:II10)","v":7609.17},{"$f":"SUM('II fisicos'!IJ10:IU10)","v":5823.346539000001},{"$f":"SUM('II fisicos'!IV10:JG10)","v":6743.8694469999991},{"$f":"SUM('II fisicos'!JH10:JS10)","v":10767.619209999999},{"$f":"SUM('II fisicos'!JT10:KE10)","v":8100.1192170000013},{"$f":"SUM('II fisicos'!KF10:KQ10)","v":7247.4240899999995},{"$f":"SUM('II fisicos'!KR10:LC10)","v":8077.1108450000002},{"$f":"SUM('II fisicos'!LD10:LO10)","v":4615.5146349999995},{"$f":"SUM('II fisicos'!LP10:MA10)","v":3843.876542},"-","-"]
[null,null,"MARRUECOS",{"$f":"SUM('II fisicos'!D11:O11)","v":0},{"$f":"SUM('II fisicos'!P11:AA11)","v":0},{"$f":"SUM('II fisicos'!AB11:AM11)","v":0},{"$f":"SUM('II fisicos'!AN11:AY11)","v":0},{"$f":"SUM('II fisicos'!AZ11:BK11)","v":0},{"$f":"SUM('II fisicos'!BL11:BW11)","v":0},{"$f":"SUM('II fisicos'!BX11:CI11)","v":0},{"$f":"SUM('II fisicos'!CJ11:CU11)","v":132.61600000000001},{"$f":"SUM('II fisicos'!CV11:DG11)","v":705.58199999999988},{"$f":"SUM('II fisicos'!DH11:DS11)","v":1810.7249999999999},{"$f":"SUM('II fisicos'!DT11:EE11)","v":2263.0679999999998},{"$f":"SUM('II fisicos'!EF11:EQ11)","v":1579.9689999999998},{"$f":"SUM('II fisicos'!ER11:FC11)","v":1327.49},{"$f":"SUM('II fisicos'!FD11:FO11)","v":1486.3869999999999},{"$f":"SUM('II fisicos'!FP11:GA11)","v":1567.6420000000001},{"$f":"SUM('II fisicos'!GB11:GM11)","v":898.34700000000009},{"$f":"SUM('II fisicos'!GN11:GY11)","v":2030.0020000000002},{"$f":"SUM('II fisicos'!GZ11:HK11)","v":3500.7499999999995},{"$f":"SUM('II fisicos'!HL11:HW11)","v":4226.5010000000002},{"$f":"SUM('II fisicos'!HX11:II11)","v":4596.4480000000003},{"$f":"SUM('II fisicos'!IJ11:IU11)","v":3936.8963900000003},{"$f":"SUM('II fisicos'!IV11:JG11)","v":4510.3970399999998},{"$f":"SUM('II fisicos'!JH11:JS11)","v":4904.1601200000005},{"$f":"SUM('II fisicos'!JT11:KE11)","v":5377.072009999999},{"$f":"SUM('II fisicos'!KF11:KQ11)","v":5838.9516699999995},{"$f":"SUM('II fisicos'!KR11:LC11)","v":4941.0487800000001},{"$f":"SUM('II fisicos'!LD11:LO11)","v":4949.92551},{"$f":"SUM('II fisicos'!LP11:MA11)","v":5141.8976000000002},"-","-"]
[null,null,"Total",{"$f":"SUM('II fisicos'!D12:O12)","v":3627.6689999999999},{"$f":"SUM('II fisicos'!P12:AA12)","v":3762.2310000000007},{"$f":"SUM('II fisicos'!AB12:AM12)","v":3710.5620000000004},{"$f":"SUM('II fisicos'!AN12:AY12)","v":3338.7900000000004},{"$f":"SUM('II fisicos'!AZ12:BK12)","v":3250.8020000000001},{"$f":"SUM('II fisicos'!BL12:BW12)","v":3140.625},{"$f":"SUM('II fisicos'!BX12:CI12)","v":5690.9340000000011},{"$f":"SUM('II fisicos'!CJ12:CU12)","v":7669.8369999999995},{"$f":"SUM('II fisicos'!CV12:DG12)","v":5561.8779999999997},{"$f":"SUM('II fisicos'!DH12:DS12)","v":6239.5209999999997},{"$f":"SUM('II fisicos'!DT12:EE12)","v":7827.0730000000012},{"$f":"SUM('II fisicos'!EF12:EQ12)","v":6744.2000000000007},{"$f":"SUM('II fisicos'!ER12:FC12)","v":7175.2749999999996},{"$f":"SUM('II fisicos'!FD12:FO12)","v":8256.5849999999991},{"$f":"SUM('II fisicos'!FP12:GA12)","v":11138.632},{"$f":"SUM('II fisicos'!GB12:GM12)","v":11554.896999999999},{"$f":"SUM('II fisicos'!GN12:GY12)","v":12372.944000000001},{"$f":"SUM('II fisicos'!GZ12:HK12)","v":14523.253000000001},{"$f":"SUM('II fisicos'!HL12:HW12)","v":16919.851999999995},{"$f":"SUM('II fisicos'!HX12:II12)","v":14857.087000000001},{"$f":"SUM('II fisicos'!IJ12:IU12)","v":13538.931091999999},{"$f":"SUM('II fisicos'!IV12:JG12)","v":14022.571952999999},{"$f":"SUM('II fisicos'!JH12:JS12)","v":18985.727032999999},{"$f":"SUM('II fisicos'!JT12:KE12)","v":16935.798683000001},{"$f":"SUM('II fisicos'!KF12:KQ12)","v":15716.152588000001},{"$f":"SUM('II fisicos'!KR12:LC12)","v":15088.89255},{"$f":"SUM('II fisicos'!LD12:LO12)","v":14177.546889000001},{"$f":"SUM('II fisicos'!LP12:MA12)","v":11066.601334999999},"-","-"]
[null,"Saldo","ANDORRA",{"$f":"SUM('II fisicos'!D13:O13)","v":-18.636999999999997},{"$f":"SUM('II fisicos'!P13:AA13)","v":-48.855999999999995},{"$f":"SUM('II fisicos'!AB13:AM13)","v":-28.521999999999998},{"$f":"SUM('II fisicos'!AN13:AY13)","v":-142.48899999999998},{"$f":"SUM('II fisicos'!AZ13:BK13)","v":-109.22900000000001},{"$f":"SUM('II fisicos'!BL13:BW13)","v":-109.87800000000001},{"$f":"SUM('II fisicos'!BX13:CI13)","v":-127.44900000000003},{"$f":"SUM('II fisicos'!CJ13:CU13)","v":-104.864},{"$f":"SUM('II fisicos'!CV13:DG13)","v":-139.05800000000002},{"$f":"SUM('II fisicos'!DH13:DS13)","v":-212.31300000000002},{"$f":"SUM('II fisicos'!DT13:EE13)","v":-271.959},{"$f":"SUM('II fisicos'!EF13:EQ13)","v":-248.358},{"$f":"SUM('II fisicos'!ER13:FC13)","v":-291.75100000000003},{"$f":"SUM('II fisicos'!FD13:FO13)","v":-269.97700000000003},{"$f":"SUM('II fisicos'!FP13:GA13)","v":-283.49399999999997},{"$f":"SUM('II fisicos'!GB13:GM13)","v":-271.04300000000001},{"$f":"SUM('II fisicos'!GN13:GY13)","v":-229.09799999999998},{"$f":"SUM('II fisicos'!GZ13:HK13)","v":-261.375},{"$f":"SUM('II fisicos'!HL13:HW13)","v":-278.33399999999995},{"$f":"SUM('II fisicos'!HX13:II13)","v":-299.38499999999999},{"$f":"SUM('II fisicos'!IJ13:IU13)","v":-264.49410999999998},{"$f":"SUM('II fisicos'!IV13:JG13)","v":-305.71274000000005},{"$f":"SUM('II fisicos'!JH13:JS13)","v":-286.21727999999996},{"$f":"SUM('II fisicos'!JT13:KE13)","v":-287.39792},{"$f":"SUM('II fisicos'!KF13:KQ13)","v":-234.50584000000001},{"$f":"SUM('II fisicos'!KR13:LC13)","v":-264.05143000000004},{"$f":"SUM('II fisicos'!LD13:LO13)","v":-278.28042999999997},{"$f":"SUM('II fisicos'!LP13:MA13)","v":-190.50778},"-","-"]
[null,null,"FRANCIA",{"$f":"SUM('II fisicos'!D14:O14)","v":-363.82599999999991},{"$f":"SUM('II fisicos'!P14:AA14)","v":-535.76400000000001},{"$f":"SUM('II fisicos'!AB14:AM14)","v":2010.789},{"$f":"SUM('II fisicos'!AN14:AY14)","v":1584.7170000000001},{"$f":"SUM('II fisicos'!AZ14:BK14)","v":2851.201},{"$f":"SUM('II fisicos'!BL14:BW14)","v":5513.0250000000005},{"$f":"SUM('II fisicos'!BX14:CI14)","v":2297.7579999999998},{"$f":"SUM('II fisicos'!CJ14:CU14)","v":59.681000000000125},{"$f":"SUM('II fisicos'!CV14:DG14)","v":4519.2139999999999},{"$f":"SUM('II fisicos'!DH14:DS14)","v":6885.2269999999999},{"$f":"SUM('II fisicos'!DT14:EE14)","v":7906.3190000000004},{"$f":"SUM('II fisicos'!EF14:EQ14)","v":5551.6130000000012},{"$f":"SUM('II fisicos'!ER14:FC14)","v":8834.3369999999995},{"$f":"SUM('II fisicos'!FD14:FO14)","v":5784.9160000000002},{"$f":"SUM('II fisicos'!FP14:GA14)","v":5221.6719999999996},{"$f":"SUM('II fisicos'!GB14:GM14)","v":6544.61},{"$f":"SUM('II fisicos'!GN14:GY14)","v":4409.6059999999998},{"$f":"SUM('II fisicos'!GZ14:HK14)","v":5486.7259999999997},{"$f":"SUM('II fisicos'!HL14:HW14)","v":2889.2290000000007},{"$f":"SUM('II fisicos'!HX14:II14)","v":1590.2750000000003},{"$f":"SUM('II fisicos'!IJ14:IU14)","v":-1530.9204130000001},{"$f":"SUM('II fisicos'!IV14:JG14)","v":1524.4076040000004},{"$f":"SUM('II fisicos'!JH14:JS14)","v":1882.7921120000001},{"$f":"SUM('II fisicos'!JT14:KE14)","v":1707.8663569999999},{"$f":"SUM('II fisicos'!KF14:KQ14)","v":3567.495668},{"$f":"SUM('II fisicos'!KR14:LC14)","v":7324.2123120000006},{"$f":"SUM('II fisicos'!LD14:LO14)","v":7801.5087210000002},{"$f":"SUM('II fisicos'!LP14:MA14)","v":12331.057099000001},"-","-"]
[null,null,"PORTUGAL",{"$f":"SUM('II fisicos'!D15:O15)","v":-37.116000000000042},{"$f":"SUM('II fisicos'!P15:AA15)","v":-91.966000000000008},{"$f":"SUM('II fisicos'!AB15:AM15)","v":-1341.1429999999998},{"$f":"SUM('II fisicos'!AN15:AY15)","v":-175.15600000000003},{"$f":"SUM('II fisicos'!AZ15:BK15)","v":-886.86699999999996},{"$f":"SUM('II fisicos'!BL15:BW15)","v":-914.10199999999998},{"$f":"SUM('II fisicos'!BX15:CI15)","v":-1110.9429999999998},{"$f":"SUM('II fisicos'!CJ15:CU15)","v":-2897.0460000000003},{"$f":"SUM('II fisicos'!CV15:DG15)","v":-272.71000000000004},{"$f":"SUM('II fisicos'!DH15:DS15)","v":857.05600000000004},{"$f":"SUM('II fisicos'!DT15:EE15)","v":-930.69700000000012},{"$f":"SUM('II fisicos'!EF15:EQ15)","v":-265.32599999999991},{"$f":"SUM('II fisicos'!ER15:FC15)","v":-1898.809},{"$f":"SUM('II fisicos'!FD15:FO15)","v":-2793.7029999999995},{"$f":"SUM('II fisicos'!FP15:GA15)","v":-6418.7470000000003},{"$f":"SUM('II fisicos'!GB15:GM15)","v":-6829.0109999999995},{"$f":"SUM('II fisicos'!GN15:GY15)","v":-5451.197000000001},{"$f":"SUM('II fisicos'!GZ15:HK15)","v":-7496.58},{"$f":"SUM('II fisicos'!HL15:HW15)","v":-9438.9000000000015},{"$f":"SUM('II fisicos'!HX15:II15)","v":-4788.8230000000003},{"$f":"SUM('II fisicos'!IJ15:IU15)","v":-2634.2874649999999},{"$f":"SUM('II fisicos'!IV15:JG15)","v":-2814.0385680000004},{"$f":"SUM('II fisicos'!JH15:JS15)","v":-7897.0110530000011},{"$f":"SUM('II fisicos'!JT15:KE15)","v":-2776.6528070000004},{"$f":"SUM('II fisicos'!KF15:KQ15)","v":-902.69568699999968},{"$f":"SUM('II fisicos'!KR15:LC15)","v":-2266.4124830000005},{"$f":"SUM('II fisicos'!LD15:LO15)","v":5086.0934020000004},{"$f":"SUM('II fisicos'!LP15:MA15)","v":2847.7249630000006},"-","-"]
[null,null,"MARRUECOS",{"$f":"SUM('II fisicos'!D16:O16)","v":0},{"$f":"SUM('II fisicos'!P16:AA16)","v":0},{"$f":"SUM('II fisicos'!AB16:AM16)","v":0},{"$f":"SUM('II fisicos'!AN16:AY16)","v":0},{"$f":"SUM('II fisicos'!AZ16:BK16)","v":0},{"$f":"SUM('II fisicos'!BL16:BW16)","v":0},{"$f":"SUM('II fisicos'!BX16:CI16)","v":0},{"$f":"SUM('II fisicos'!CJ16:CU16)","v":-130.643},{"$f":"SUM('II fisicos'!CV16:DG16)","v":-705.58199999999988},{"$f":"SUM('II fisicos'!DH16:DS16)","v":-1810.7249999999999},{"$f":"SUM('II fisicos'!DT16:EE16)","v":-2263.0679999999998},{"$f":"SUM('II fisicos'!EF16:EQ16)","v":-1579.9689999999998},{"$f":"SUM('II fisicos'!ER16:FC16)","v":-1315.009},{"$f":"SUM('II fisicos'!FD16:FO16)","v":-1457.3339999999998},{"$f":"SUM('II fisicos'!FP16:GA16)","v":-1546.451},{"$f":"SUM('II fisicos'!GB16:GM16)","v":-787.94100000000003},{"$f":"SUM('II fisicos'!GN16:GY16)","v":-2001.8219999999997},{"$f":"SUM('II fisicos'!GZ16:HK16)","v":-3479.2460000000001},{"$f":"SUM('II fisicos'!HL16:HW16)","v":-4211.576},{"$f":"SUM('II fisicos'!HX16:II16)","v":-4588.472999999999},{"$f":"SUM('II fisicos'!IJ16:IU16)","v":-3902.9770700000004},{"$f":"SUM('II fisicos'!IV16:JG16)","v":-4494.7826299999997},{"$f":"SUM('II fisicos'!JH16:JS16)","v":-4899.5173699999996},{"$f":"SUM('II fisicos'!JT16:KE16)","v":-5375.9480800000001},{"$f":"SUM('II fisicos'!KF16:KQ16)","v":-5836.4190699999999},{"$f":"SUM('II fisicos'!KR16:LC16)","v":-4926.90949},{"$f":"SUM('II fisicos'!LD16:LO16)","v":-4942.0081399999999},{"$f":"SUM('II fisicos'!LP16:MA16)","v":-5139.1009999999997},"-","-"]
[null,null,"Total",{"$f":"SUM('II fisicos'!D17:O17)","v":-419.57900000000001},{"$f":"SUM('II fisicos'!P17:AA17)","v":-676.5859999999999},{"$f":"SUM('II fisicos'!AB17:AM17)","v":641.12399999999991},{"$f":"SUM('II fisicos'!AN17:AY17)","v":1267.0719999999997},{"$f":"SUM('II fisicos'!AZ17:BK17)","v":1855.105},{"$f":"SUM('II fisicos'!BL17:BW17)","v":4489.0450000000001},{"$f":"SUM('II fisicos'!BX17:CI17)","v":1059.3660000000002},{"$f":"SUM('II fisicos'!CJ17:CU17)","v":-3072.8719999999994},{"$f":"SUM('II fisicos'!CV17:DG17)","v":3401.8639999999996},{"$f":"SUM('II fisicos'!DH17:DS17)","v":5719.2450000000017},{"$f":"SUM('II fisicos'!DT17:EE17)","v":4440.5950000000003},{"$f":"SUM('II fisicos'!EF17:EQ17)","v":3457.9599999999996},{"$f":"SUM('II fisicos'!ER17:FC17)","v":5328.7679999999991},{"$f":"SUM('II fisicos'!FD17:FO17)","v":1263.9020000000003},{"$f":"SUM('II fisicos'!FP17:GA17)","v":-3027.02},{"$f":"SUM('II fisicos'!GB17:GM17)","v":-1343.3850000000002},{"$f":"SUM('II fisicos'!GN17:GY17)","v":-3272.5110000000004},{"$f":"SUM('II fisicos'!GZ17:HK17)","v":-5750.4750000000004},{"$f":"SUM('II fisicos'!HL17:HW17)","v":-11039.581},{"$f":"SUM('II fisicos'!HX17:II17)","v":-8086.4059999999981},{"$f":"SUM('II fisicos'!IJ17:IU17)","v":-8332.6790579999997},{"$f":"SUM('II fisicos'!IV17:JG17)","v":-6090.1263339999987},{"$f":"SUM('II fisicos'!JH17:JS17)","v":-11199.953591},{"$f":"SUM('II fisicos'!JT17:KE17)","v":-6732.1324500000001},{"$f":"SUM('II fisicos'!KF17:KQ17)","v":-3406.1249290000001},{"$f":"SUM('II fisicos'!KR17:LC17)","v":-133.1610910000004},{"$f":"SUM('II fisicos'!LD17:LO17)","v":7667.313553},{"$f":"SUM('II fisicos'!LP17:MA17)","v":9849.1732820000016},"-","-"]
[]
[null,"Entradas internacionales físicas anuales por líneas (GWh)","Líneas",1990,1991,1992,1993,1994,1995,1996,1997,1998,1999,2000,2001,2002,2003,2004,2005,2006,2007,2008,2009,2010,2011,2012,2013,2014,2015,2016,2017,2018,2019]
[null,"Andorra","Adrall-Margineda",{"$f":"SUM('II fisicos'!D20:O20)","v":0.25600000000000001},{"$f":"SUM('II fisicos'!P20:AA20)","v":1.7000000000000001E-2},{"$f":"SUM('II fisicos'!AB20:AM20)","v":1.7000000000000001E-2},{"$f":"SUM('II fisicos'!AN20:AY20)","v":1.4999999999999999E-2},{"$f":"SUM('II fisicos'!AZ20:BK20)","v":2E-3},{"$f":"SUM('II fisicos'!BL20:BW20)","v":1E-3},{"$f":"SUM('II fisicos'!BX20:CI20)","v":0},{"$f":"SUM('II fisicos'!CJ20:CU20)","v":5.800000000000001E-2},{"$f":"SUM('II fisicos'!CV20:DG20)","v":6.0000000000000001E-3},{"$f":"SUM('II fisicos'!DH20:DS20)","v":7.7839999999999998},{"$f":"SUM('II fisicos'!DT20:EE20)","v":0},{"$f":"SUM('II fisicos'!EF20:EQ20)","v":0},{"$f":"SUM('II fisicos'!ER20:FC20)","v":0},{"$f":"SUM('II fisicos'!FD20:FO20)","v":0},{"$f":"SUM('II fisicos'!FP20:GA20)","v":3.4569999999999996E-3},{"$f":"SUM('II fisicos'!GB20:GM20)","v":1.4071999999999999E-2},{"$f":"SUM('II fisicos'!GN20:GY20)","v":3.8900000000000002E-3},{"$f":"SUM('II fisicos'!GZ20:HK20)","v":0.26794000000000001},{"$f":"SUM('II fisicos'!HL20:HW20)","v":7.1999999999999994E-4},{"$f":"SUM('II fisicos'!HX20:II20)","v":8.660000000000001E-3},{"$f":"SUM('II fisicos'!IJ20:IU20)","v":3.6999999999999999E-4},{"$f":"SUM('II fisicos'!IV20:JG20)","v":5.6000000000000006E-4},{"$f":"SUM('II fisicos'!JH20:JS20)","v":1.58E-3},{"$f":"SUM('II fisicos'!JT20:KE20)","v":1.1000000000000001E-3},{"$f":"SUM('II fisicos'!KF20:KQ20)","v":5.6000000000000008E-3},{"$f":"SUM('II fisicos'!KR20:LC20)","v":6.2299999999999994E-3},{"$f":"SUM('II fisicos'!LD20:LO20)","v":3.9799999999999992E-3},{"$f":"SUM('II fisicos'!LP20:MA20)","v":1.6480000000000002E-2},"-","-"]
[null,null,"Total",{"$f":"SUM('II fisicos'!D21:O21)","v":0.25600000000000001},{"$f":"SUM('II fisicos'!P21:AA21)","v":1.7000000000000001E-2},{"$f":"SUM('II fisicos'!AB21:AM21)","v":1.7000000000000001E-2},{"$f":"SUM('II fisicos'!AN21:AY21)","v":1.4999999999999999E-2},{"$f":"SUM('II fisicos'!AZ21:BK21)","v":2E-3},{"$f":"SUM('II fisicos'!BL21:BW21)","v":1E-3},{"$f":"SUM('II fisicos'!BX21:CI21)","v":0},{"$f":"SUM('II fisicos'!CJ21:CU21)","v":5.800000000000001E-2},{"$f":"SUM('II fisicos'!CV21:DG21)","v":6.0000000000000001E-3},{"$f":"SUM('II fisicos'!DH21:DS21)","v":7.7839999999999998},{"$f":"SUM('II fisicos'!DT21:EE21)","v":0},{"$f":"SUM('II fisicos'!EF21:EQ21)","v":0},{"$f":"SUM('II fisicos'!ER21:FC21)","v":0},{"$f":"SUM('II fisicos'!FD21:FO21)","v":0},{"$f":"SUM('II fisicos'!FP21:GA21)","v":3.4569999999999996E-3},{"$f":"SUM('II fisicos'!GB21:GM21)","v":1.4071999999999999E-2},{"$f":"SUM('II fisicos'!GN21:GY21)","v":3.8900000000000002E-3},{"$f":"SUM('II fisicos'!GZ21:HK21)","v":0.26794000000000001},{"$f":"SUM('II fisicos'!HL21:HW21)","v":7.1999999999999994E-4},{"$f":"SUM('II fisicos'!HX21:II21)","v":8.660000000000001E-3},{"$f":"SUM('II fisicos'!IJ21:IU21)","v":3.6999999999999999E-4},{"$f":"SUM('II fisicos'!IV21:JG21)","v":5.6000000000000006E-4},{"$f":"SUM('II fisicos'!JH21:JS21)","v":1.58E-3},{"$f":"SUM('II fisicos'!JT21:KE21)","v":1.1000000000000001E-3},{"$f":"SUM('II fisicos'!KF21:KQ21)","v":5.6000000000000008E-3},{"$f":"SUM('II fisicos'!KR21:LC21)","v":6.2299999999999994E-3},{"$f":"SUM('II fisicos'!LD21:LO21)","v":3.9799999999999992E-3},{"$f":"SUM('II fisicos'!LP21:MA21)","v":1.6480000000000002E-2},"-","-"]
[null,"Francia","Arkale-Argia",{"$f":"SUM('II fisicos'!D22:O22)","v":18.786000000000005},{"$f":"SUM('II fisicos'!P22:AA22)","v":20.768000000000001},{"$f":"SUM('II fisicos'!AB22:AM22)","v":100.31099999999999},{"$f":"SUM('II fisicos'!AN22:AY22)","v":19.523},{"$f":"SUM('II fisicos'!AZ22:BK22)","v":44.683999999999997},{"$f":"SUM('II fisicos'!BL22:BW22)","v":96.937000000000012},{"$f":"SUM('II fisicos'!BX22:CI22)","v":56.887000000000008},{"$f":"SUM('II fisicos'!CJ22:CU22)","v":5.9690000000000003},{"$f":"SUM('II fisicos'!CV22:DG22)","v":20.712000000000003},{"$f":"SUM('II fisicos'!DH22:DS22)","v":29.01},{"$f":"SUM('II fisicos'!DT22:EE22)","v":63.775157582550257},{"$f":"SUM('II fisicos'!EF22:EQ22)","v":32.6277886777116},{"$f":"SUM('II fisicos'!ER22:FC22)","v":458.50484592345924},{"$f":"SUM('II fisicos'!FD22:FO22)","v":454.92702647831931},{"$f":"SUM('II fisicos'!FP22:GA22)","v":401.155057},{"$f":"SUM('II fisicos'!GB22:GM22)","v":319.44529799999998},{"$f":"SUM('II fisicos'!GN22:GY22)","v":336.47407800000002},{"$f":"SUM('II fisicos'!GZ22:HK22)","v":303.9649},{"$f":"SUM('II fisicos'!HL22:HW22)","v":403.6925700000001},{"$f":"SUM('II fisicos'!HX22:II22)","v":254.38690200000002},{"$f":"SUM('II fisicos'!IJ22:IU22)","v":142.58195800000001},{"$f":"SUM('II fisicos'!IV22:JG22)","v":340.07224199999996},{"$f":"SUM('II fisicos'!JH22:JS22)","v":247.27064999999999},{"$f":"SUM('II fisicos'!JT22:KE22)","v":349.27388000000008},{"$f":"SUM('II fisicos'!KF22:KQ22)","v":395.04532199999994},{"$f":"SUM('II fisicos'!KR22:LC22)","v":611.13965199999996},{"$f":"SUM('II fisicos'!LD22:LO22)","v":851.56727599999999},{"$f":"SUM('II fisicos'!LP22:MA22)","v":857.79415399999993},"-","-"]
[null,null,"Benós-Lac D'oo",{"$f":"SUM('II fisicos'!D23:O23)","v":0.29300000000000004},{"$f":"SUM('II fisicos'!P23:AA23)","v":3.0000000000000001E-3},{"$f":"SUM('II fisicos'!AB23:AM23)","v":0.83399999999999996},{"$f":"SUM('II fisicos'!AN23:AY23)","v":7.31},{"$f":"SUM('II fisicos'!AZ23:BK23)","v":4.6319999999999997},{"$f":"SUM('II fisicos'!BL23:BW23)","v":3.54},{"$f":"SUM('II fisicos'!BX23:CI23)","v":0.47300000000000003},{"$f":"SUM('II fisicos'!CJ23:CU23)","v":6.7850000000000001},{"$f":"SUM('II fisicos'!CV23:DG23)","v":7.0540000000000003},{"$f":"SUM('II fisicos'!DH23:DS23)","v":0.82199999999999995},{"$f":"SUM('II fisicos'!DT23:EE23)","v":0.03},{"$f":"SUM('II fisicos'!EF23:EQ23)","v":0.68243274759467176},{"$f":"SUM('II fisicos'!ER23:FC23)","v":35.571436101551413},{"$f":"SUM('II fisicos'!FD23:FO23)","v":6.7000000000000004E-2},{"$f":"SUM('II fisicos'!FP23:GA23)","v":2.2425189999999997},{"$f":"SUM('II fisicos'!GB23:GM23)","v":0.37273400000000007},{"$f":"SUM('II fisicos'!GN23:GY23)","v":0.21936600000000001},{"$f":"SUM('II fisicos'!GZ23:HK23)","v":2.5845E-2},{"$f":"SUM('II fisicos'!HL23:HW23)","v":1.812549},{"$f":"SUM('II fisicos'!HX23:II23)","v":1.5785999999999998E-2},{"$f":"SUM('II fisicos'!IJ23:IU23)","v":0.2127},{"$f":"SUM('II fisicos'!IV23:JG23)","v":4.9693510000000005},{"$f":"SUM('II fisicos'!JH23:JS23)","v":3.206826},{"$f":"SUM('II fisicos'!JT23:KE23)","v":5.8512989999999991},{"$f":"SUM('II fisicos'!KF23:KQ23)","v":2.3075540000000001},{"$f":"SUM('II fisicos'!KR23:LC23)","v":0.30538699999999996},{"$f":"SUM('II fisicos'!LD23:LO23)","v":3.4315850000000001},{"$f":"SUM('II fisicos'!LP23:MA23)","v":0.12681100000000001},"-","-"]
[null,null,"Biescas-Pragneres",{"$f":"SUM('II fisicos'!D24:O24)","v":115.393},{"$f":"SUM('II fisicos'!P24:AA24)","v":84.796999999999997},{"$f":"SUM('II fisicos'!AB24:AM24)","v":289.47500000000008},{"$f":"SUM('II fisicos'!AN24:AY24)","v":235.95700000000002},{"$f":"SUM('II fisicos'!AZ24:BK24)","v":464.14700000000005},{"$f":"SUM('II fisicos'!BL24:BW24)","v":729.82600000000002},{"$f":"SUM('II fisicos'!BX24:CI24)","v":312.33499999999998},{"$f":"SUM('II fisicos'!CJ24:CU24)","v":109.76899999999998},{"$f":"SUM('II fisicos'!CV24:DG24)","v":487.428},{"$f":"SUM('II fisicos'!DH24:DS24)","v":744.31799999999998},{"$f":"SUM('II fisicos'!DT24:EE24)","v":768.4129563555764},{"$f":"SUM('II fisicos'!EF24:EQ24)","v":560.85034628660264},{"$f":"SUM('II fisicos'!ER24:FC24)","v":1128.696098048023},{"$f":"SUM('II fisicos'!FD24:FO24)","v":435.40304896421139},{"$f":"SUM('II fisicos'!FP24:GA24)","v":627.89466600000003},{"$f":"SUM('II fisicos'!GB24:GM24)","v":640.7099179999999},{"$f":"SUM('II fisicos'!GN24:GY24)","v":510.05756699999995},{"$f":"SUM('II fisicos'!GZ24:HK24)","v":556.30801099999985},{"$f":"SUM('II fisicos'!HL24:HW24)","v":310.34280099999995},{"$f":"SUM('II fisicos'!HX24:II24)","v":260.38291099999998},{"$f":"SUM('II fisicos'!IJ24:IU24)","v":87.241910000000004},{"$f":"SUM('II fisicos'!IV24:JG24)","v":173.001259},{"$f":"SUM('II fisicos'!JH24:JS24)","v":259.65247700000003},{"$f":"SUM('II fisicos'!JT24:KE24)","v":224.78003699999999},{"$f":"SUM('II fisicos'!KF24:KQ24)","v":252.93208200000001},{"$f":"SUM('II fisicos'!KR24:LC24)","v":351.18129499999998},{"$f":"SUM('II fisicos'!LD24:LO24)","v":456.68851000000001},{"$f":"SUM('II fisicos'!LP24:MA24)","v":371.80750699999999},"-","-"]
[null,null,"Hernani-Argia",{"$f":"SUM('II fisicos'!D25:O25)","v":659.00099999999998},{"$f":"SUM('II fisicos'!P25:AA25)","v":770.63499999999999},{"$f":"SUM('II fisicos'!AB25:AM25)","v":1950.5080000000003},{"$f":"SUM('II fisicos'!AN25:AY25)","v":1039.164},{"$f":"SUM('II fisicos'!AZ25:BK25)","v":1566.877},{"$f":"SUM('II fisicos'!BL25:BW25)","v":2636.3989999999999},{"$f":"SUM('II fisicos'!BX25:CI25)","v":2105.6820000000002},{"$f":"SUM('II fisicos'!CJ25:CU25)","v":1350.4060000000004},{"$f":"SUM('II fisicos'!CV25:DG25)","v":2595.0710000000004},{"$f":"SUM('II fisicos'!DH25:DS25)","v":3084.5259999999998},{"$f":"SUM('II fisicos'!DT25:EE25)","v":3631.0527225402475},{"$f":"SUM('II fisicos'!EF25:EQ25)","v":2860.0802671589536},{"$f":"SUM('II fisicos'!ER25:FC25)","v":3916.7103988411186},{"$f":"SUM('II fisicos'!FD25:FO25)","v":2487.5225121586745},{"$f":"SUM('II fisicos'!FP25:GA25)","v":2469.1616250000002},{"$f":"SUM('II fisicos'!GB25:GM25)","v":2292.5804840000001},{"$f":"SUM('II fisicos'!GN25:GY25)","v":1902.5689649999999},{"$f":"SUM('II fisicos'!GZ25:HK25)","v":2014.3227419999998},{"$f":"SUM('II fisicos'!HL25:HW25)","v":2118.1787609999997},{"$f":"SUM('II fisicos'!HX25:II25)","v":1439.4699970000001},{"$f":"SUM('II fisicos'!IJ25:IU25)","v":971.20769700000005},{"$f":"SUM('II fisicos'!IV25:JG25)","v":1784.6865579999999},{"$f":"SUM('II fisicos'!JH25:JS25)","v":1686.9510560000001},{"$f":"SUM('II fisicos'!JT25:KE25)","v":1690.5545269999998},{"$f":"SUM('II fisicos'!KF25:KQ25)","v":1883.472497},{"$f":"SUM('II fisicos'!KR25:LC25)","v":2590.6453080000006},{"$f":"SUM('II fisicos'!LD25:LO25)","v":3481.3946070000002},{"$f":"SUM('II fisicos'!LP25:MA25)","v":4449.6174759999994},"-","-"]
[null,null,"Irún-Errondenia",{"$f":"SUM('II fisicos'!D26:O26)","v":0},{"$f":"SUM('II fisicos'!P26:AA26)","v":0},{"$f":"SUM('II fisicos'!AB26:AM26)","v":0},{"$f":"SUM('II fisicos'!AN26:AY26)","v":0},{"$f":"SUM('II fisicos'!AZ26:BK26)","v":0},{"$f":"SUM('II fisicos'!BL26:BW26)","v":0},{"$f":"SUM('II fisicos'!BX26:CI26)","v":0},{"$f":"SUM('II fisicos'!CJ26:CU26)","v":0},{"$f":"SUM('II fisicos'!CV26:DG26)","v":0},{"$f":"SUM('II fisicos'!DH26:DS26)","v":0},{"$f":"SUM('II fisicos'!DT26:EE26)","v":0},{"$f":"SUM('II fisicos'!EF26:EQ26)","v":0},{"$f":"SUM('II fisicos'!ER26:FC26)","v":0},{"$f":"SUM('II fisicos'!FD26:FO26)","v":4.0000000000000001E-3},{"$f":"SUM('II fisicos'!FP26:GA26)","v":7.0290000000000005E-3},{"$f":"SUM('II fisicos'!GB26:GM26)","v":0},{"$f":"SUM('II fisicos'!GN26:GY26)","v":0},{"$f":"SUM('II fisicos'!GZ26:HK26)","v":0},{"$f":"SUM('II fisicos'!HL26:HW26)","v":0},{"$f":"SUM('II fisicos'!HX26:II26)","v":0},{"$f":"SUM('II fisicos'!IJ26:IU26)","v":0},{"$f":"SUM('II fisicos'!IV26:JG26)","v":0},{"$f":"SUM('II fisicos'!JH26:JS26)","v":0},{"$f":"SUM('II fisicos'!JT26:KE26)","v":0},{"$f":"SUM('II fisicos'!KF26:KQ26)","v":0},{"$f":"SUM('II fisicos'!KR26:LC26)","v":0},{"$f":"SUM('II fisicos'!LD26:LO26)","v":0},{"$f":"SUM('II fisicos'!LP26:MA26)","v":0},"-","-"]
[null,null,"Santa Llogaia-Baixas",{"$f":"SUM('II fisicos'!D27:O27)","v":0},{"$f":"SUM('II fisicos'!P27:AA27)","v":0},{"$f":"SUM('II fisicos'!AB27:AM27)","v":0},{"$f":"SUM('II fisicos'!AN27:AY27)","v":0},{"$f":"SUM('II fisicos'!AZ27:BK27)","v":0},{"$f":"SUM('II fisicos'!BL27:BW27)","v":0},{"$f":"SUM('II fisicos'!BX27:CI27)","v":0},{"$f":"SUM('II fisicos'!CJ27:CU27)","v":0},{"$f":"SUM('II fisicos'!CV27:DG27)","v":0},{"$f":"SUM('II fisicos'!DH27:DS27)","v":0},{"$f":"SUM('II fisicos'!DT27:EE27)","v":0},{"$f":"SUM('II fisicos'!EF27:EQ27)","v":0},{"$f":"SUM('II fisicos'!ER27:FC27)","v":0},{"$f":"SUM('II fisicos'!FD27:FO27)","v":0},{"$f":"SUM('II fisicos'!FP27:GA27)","v":0},{"$f":"SUM('II fisicos'!GB27:GM27)","v":0},{"$f":"SUM('II fisicos'!GN27:GY27)","v":0},{"$f":"SUM('II fisicos'!GZ27:HK27)","v":0},{"$f":"SUM('II fisicos'!HL27:HW27)","v":0},{"$f":"SUM('II fisicos'!HX27:II27)","v":0},{"$f":"SUM('II fisicos'!IJ27:IU27)","v":0},{"$f":"SUM('II fisicos'!IV27:JG27)","v":0},{"$f":"SUM('II fisicos'!JH27:JS27)","v":0},{"$f":"SUM('II fisicos'!JT27:KE27)","v":0},{"$f":"SUM('II fisicos'!KF27:KQ27)","v":0},{"$f":"SUM('II fisicos'!KR27:LC27)","v":1500.6944090000002},{"$f":"SUM('II fisicos'!LD27:LO27)","v":5111.2749160000003},{"$f":"SUM('II fisicos'!LP27:MA27)","v":4951.3195580000001},"-","-"]
[null,null,"Vic-Baixas",{"$f":"SUM('II fisicos'!D28:O28)","v":718.20600000000002},{"$f":"SUM('II fisicos'!P28:AA28)","v":589.09800000000007},{"$f":"SUM('II fisicos'!AB28:AM28)","v":813.11500000000001},{"$f":"SUM('II fisicos'!AN28:AY28)","v":1401.5220000000002},{"$f":"SUM('II fisicos'!AZ28:BK28)","v":1656.6650000000002},{"$f":"SUM('II fisicos'!BL28:BW28)","v":2421.9100000000003},{"$f":"SUM('II fisicos'!BX28:CI28)","v":1270.0900000000001},{"$f":"SUM('II fisicos'!CJ28:CU28)","v":641.41000000000008},{"$f":"SUM('II fisicos'!CV28:DG28)","v":2155.3480000000004},{"$f":"SUM('II fisicos'!DH28:DS28)","v":3607.1549999999997},{"$f":"SUM('II fisicos'!DT28:EE28)","v":4037.6611635216259},{"$f":"SUM('II fisicos'!EF28:EQ28)","v":3270.4571651291385},{"$f":"SUM('II fisicos'!ER28:FC28)","v":3522.0122210858472},{"$f":"SUM('II fisicos'!FD28:FO28)","v":3009.0464123987949},{"$f":"SUM('II fisicos'!FP28:GA28)","v":2477.8521389999996},{"$f":"SUM('II fisicos'!GB28:GM28)","v":4047.3115859999994},{"$f":"SUM('II fisicos'!GN28:GY28)","v":3140.7910960000004},{"$f":"SUM('II fisicos'!GZ28:HK28)","v":3723.4503569999997},{"$f":"SUM('II fisicos'!HL28:HW28)","v":1717.5848119999998},{"$f":"SUM('II fisicos'!HX28:II28)","v":1988.091956},{"$f":"SUM('II fisicos'!IJ28:IU28)","v":782.0290050000001},{"$f":"SUM('II fisicos'!IV28:JG28)","v":1684.2703599999998},{"$f":"SUM('II fisicos'!JH28:JS28)","v":2713.439946},{"$f":"SUM('II fisicos'!JT28:KE28)","v":2608.6150499999994},{"$f":"SUM('II fisicos'!KF28:KQ28)","v":3429.0036010000008},{"$f":"SUM('II fisicos'!KR28:LC28)","v":4076.9215260000005},{"$f":"SUM('II fisicos'!LD28:LO28)","v":2230.9741610000001},{"$f":"SUM('II fisicos'!LP28:MA28)","v":2179.230826},"-","-"]
[null,null,"Total",{"$f":"SUM('II fisicos'!D29:O29)","v":1511.6789999999999},{"$f":"SUM('II fisicos'!P29:AA29)","v":1465.3009999999999},{"$f":"SUM('II fisicos'!AB29:AM29)","v":3154.2429999999999},{"$f":"SUM('II fisicos'!AN29:AY29)","v":2703.4759999999997},{"$f":"SUM('II fisicos'!AZ29:BK29)","v":3737.0049999999992},{"$f":"SUM('II fisicos'!BL29:BW29)","v":5888.612000000001},{"$f":"SUM('II fisicos'!BX29:CI29)","v":3745.4669999999996},{"$f":"SUM('II fisicos'!CJ29:CU29)","v":2114.3389999999999},{"$f":"SUM('II fisicos'!CV29:DG29)","v":5265.6130000000003},{"$f":"SUM('II fisicos'!DH29:DS29)","v":7465.8310000000001},{"$f":"SUM('II fisicos'!DT29:EE29)","v":8500.9319999999989},{"$f":"SUM('II fisicos'!EF29:EQ29)","v":6724.6980000000003},{"$f":"SUM('II fisicos'!ER29:FC29)","v":9061.4950000000008},{"$f":"SUM('II fisicos'!FD29:FO29)","v":6386.97},{"$f":"SUM('II fisicos'!FP29:GA29)","v":5978.3130350000001},{"$f":"SUM('II fisicos'!GB29:GM29)","v":7300.4200200000005},{"$f":"SUM('II fisicos'!GN29:GY29)","v":5890.1110720000006},{"$f":"SUM('II fisicos'!GZ29:HK29)","v":6598.0718550000001},{"$f":"SUM('II fisicos'!HL29:HW29)","v":4551.6114929999994},{"$f":"SUM('II fisicos'!HX29:II29)","v":3942.3475520000002},{"$f":"SUM('II fisicos'!IJ29:IU29)","v":1983.2732700000001},{"$f":"SUM('II fisicos'!IV29:JG29)","v":3986.9997699999994},{"$f":"SUM('II fisicos'!JH29:JS29)","v":4910.520954999999},{"$f":"SUM('II fisicos'!JT29:KE29)","v":4879.0747929999998},{"$f":"SUM('II fisicos'!KF29:KQ29)","v":5962.7610559999994},{"$f":"SUM('II fisicos'!KR29:LC29)","v":9130.8875770000013},{"$f":"SUM('II fisicos'!LD29:LO29)","v":12135.331054999999},{"$f":"SUM('II fisicos'!LP29:MA29)","v":12809.896332},"-","-"]
[null,"Portugal","Aldeadávila-Pocinho 1",{"$f":"SUM('II fisicos'!D30:O30)","v":41.097999999999999},{"$f":"SUM('II fisicos'!P30:AA30)","v":29.364999999999998},{"$f":"SUM('II fisicos'!AB30:AM30)","v":12.816000000000001},{"$f":"SUM('II fisicos'!AN30:AY30)","v":75.545000000000002},{"$f":"SUM('II fisicos'!AZ30:BK30)","v":27.525000000000002},{"$f":"SUM('II fisicos'!BL30:BW30)","v":13.616},{"$f":"SUM('II fisicos'!BX30:CI30)","v":184.11700000000002},{"$f":"SUM('II fisicos'!CJ30:CU30)","v":146.34899999999999},{"$f":"SUM('II fisicos'!CV30:DG30)","v":160.19400000000002},{"$f":"SUM('II fisicos'!DH30:DS30)","v":194.55100000000002},{"$f":"SUM('II fisicos'!DT30:EE30)","v":226.14981479550624},{"$f":"SUM('II fisicos'!EF30:EQ30)","v":424.53881494862321},{"$f":"SUM('II fisicos'!ER30:FC30)","v":41.864222428964368},{"$f":"SUM('II fisicos'!FD30:FO30)","v":94.992569866692691},{"$f":"SUM('II fisicos'!FP30:GA30)","v":15.005460000000001},{"$f":"SUM('II fisicos'!GB30:GM30)","v":1.50552},{"$f":"SUM('II fisicos'!GN30:GY30)","v":137.68655999999999},{"$f":"SUM('II fisicos'!GZ30:HK30)","v":44.162799999999997},{"$f":"SUM('II fisicos'!HL30:HW30)","v":5.9234999999999998},{"$f":"SUM('II fisicos'!HX30:II30)","v":126.41849999999999},{"$f":"SUM('II fisicos'!IJ30:IU30)","v":709.82159999999999},{"$f":"SUM('II fisicos'!IV30:JG30)","v":48.343999999999994},{"$f":"SUM('II fisicos'!JH30:JS30)","v":23.582899999999999},{"$f":"SUM('II fisicos'!JT30:KE30)","v":128.38349999999997},{"$f":"SUM('II fisicos'!KF30:KQ30)","v":132.56240000000003},{"$f":"SUM('II fisicos'!KR30:LC30)","v":67.931799999999996},{"$f":"SUM('II fisicos'!LD30:LO30)","v":254.0361},{"$f":"SUM('II fisicos'!LP30:MA30)","v":179.2193},"-","-"]
[null,null,"Aldeadávila-Pocinho 2",{"$f":"SUM('II fisicos'!D31:O31)","v":607.79600000000005},{"$f":"SUM('II fisicos'!P31:AA31)","v":593.96199999999999},{"$f":"SUM('II fisicos'!AB31:AM31)","v":172.89000000000001},{"$f":"SUM('II fisicos'!AN31:AY31)","v":454.202},{"$f":"SUM('II fisicos'!AZ31:BK31)","v":503.36199999999997},{"$f":"SUM('II fisicos'!BL31:BW31)","v":277.00099999999998},{"$f":"SUM('II fisicos'!BX31:CI31)","v":1056.2480000000003},{"$f":"SUM('II fisicos'!CJ31:CU31)","v":1039.4000000000001},{"$f":"SUM('II fisicos'!CV31:DG31)","v":1121.7059999999999},{"$f":"SUM('II fisicos'!DH31:DS31)","v":857.5440000000001},{"$f":"SUM('II fisicos'!DT31:EE31)","v":1002.0399963449497},{"$f":"SUM('II fisicos'!EF31:EQ31)","v":849.72942625931614},{"$f":"SUM('II fisicos'!ER31:FC31)","v":556.91824690763872},{"$f":"SUM('II fisicos'!FD31:FO31)","v":1414.3599187211244},{"$f":"SUM('II fisicos'!FP31:GA31)","v":856.1513799999999},{"$f":"SUM('II fisicos'!GB31:GM31)","v":263.49275999999998},{"$f":"SUM('II fisicos'!GN31:GY31)","v":750.01758000000007},{"$f":"SUM('II fisicos'!GZ31:HK31)","v":713.12589999999989},{"$f":"SUM('II fisicos'!HL31:HW31)","v":315.05939999999998},{"$f":"SUM('II fisicos'!HX31:II31)","v":601.46690000000001},{"$f":"SUM('II fisicos'!IJ31:IU31)","v":605.29449999999997},{"$f":"SUM('II fisicos'!IV31:JG31)","v":47.992800000000003},{"$f":"SUM('II fisicos'!JH31:JS31)","v":23.567800000000002},{"$f":"SUM('II fisicos'!JT31:KE31)","v":127.8103},{"$f":"SUM('II fisicos'!KF31:KQ31)","v":128.88176000000001},{"$f":"SUM('II fisicos'!KR31:LC31)","v":67.847099999999998},{"$f":"SUM('II fisicos'!LD31:LO31)","v":222.58861999999999},{"$f":"SUM('II fisicos'!LP31:MA31)","v":178.06270000000004},"-","-"]
[null,null,"Aldeadávila-Lagoaça",{"$f":"SUM('II fisicos'!D32:O32)","v":0},{"$f":"SUM('II fisicos'!P32:AA32)","v":0},{"$f":"SUM('II fisicos'!AB32:AM32)","v":0},{"$f":"SUM('II fisicos'!AN32:AY32)","v":0},{"$f":"SUM('II fisicos'!AZ32:BK32)","v":0},{"$f":"SUM('II fisicos'!BL32:BW32)","v":0},{"$f":"SUM('II fisicos'!BX32:CI32)","v":0},{"$f":"SUM('II fisicos'!CJ32:CU32)","v":0},{"$f":"SUM('II fisicos'!CV32:DG32)","v":0},{"$f":"SUM('II fisicos'!DH32:DS32)","v":0},{"$f":"SUM('II fisicos'!DT32:EE32)","v":0},{"$f":"SUM('II fisicos'!EF32:EQ32)","v":0},{"$f":"SUM('II fisicos'!ER32:FC32)","v":0},{"$f":"SUM('II fisicos'!FD32:FO32)","v":0},{"$f":"SUM('II fisicos'!FP32:GA32)","v":0},{"$f":"SUM('II fisicos'!GB32:GM32)","v":0},{"$f":"SUM('II fisicos'!GN32:GY32)","v":0},{"$f":"SUM('II fisicos'!GZ32:HK32)","v":0},{"$f":"SUM('II fisicos'!HL32:HW32)","v":0},{"$f":"SUM('II fisicos'!HX32:II32)","v":0},{"$f":"SUM('II fisicos'!IJ32:IU32)","v":54.690336000000002},{"$f":"SUM('II fisicos'!IV32:JG32)","v":1477.83186},{"$f":"SUM('II fisicos'!JH32:JS32)","v":423.891144},{"$f":"SUM('II fisicos'!JT32:KE32)","v":2072.28024},{"$f":"SUM('II fisicos'!KF32:KQ32)","v":2481.9145209999997},{"$f":"SUM('II fisicos'!KR32:LC32)","v":1414.211184},{"$f":"SUM('II fisicos'!LD32:LO32)","v":3174.6785760000002},{"$f":"SUM('II fisicos'!LP32:MA32)","v":1478.6701199999998},"-","-"]
[null,null,"Badajoz-Alcaçovas",{"$f":"SUM('II fisicos'!D33:O33)","v":0},{"$f":"SUM('II fisicos'!P33:AA33)","v":0},{"$f":"SUM('II fisicos'!AB33:AM33)","v":0},{"$f":"SUM('II fisicos'!AN33:AY33)","v":0},{"$f":"SUM('II fisicos'!AZ33:BK33)","v":0},{"$f":"SUM('II fisicos'!BL33:BW33)","v":0},{"$f":"SUM('II fisicos'!BX33:CI33)","v":0},{"$f":"SUM('II fisicos'!CJ33:CU33)","v":0},{"$f":"SUM('II fisicos'!CV33:DG33)","v":0},{"$f":"SUM('II fisicos'!DH33:DS33)","v":0},{"$f":"SUM('II fisicos'!DT33:EE33)","v":0},{"$f":"SUM('II fisicos'!EF33:EQ33)","v":0},{"$f":"SUM('II fisicos'!ER33:FC33)","v":0},{"$f":"SUM('II fisicos'!FD33:FO33)","v":0},{"$f":"SUM('II fisicos'!FP33:GA33)","v":0},{"$f":"SUM('II fisicos'!GB33:GM33)","v":3.0000000000000001E-5},{"$f":"SUM('II fisicos'!GN33:GY33)","v":1E-4},{"$f":"SUM('II fisicos'!GZ33:HK33)","v":1.9329999999999998E-3},{"$f":"SUM('II fisicos'!HL33:HW33)","v":9.3000000000000011E-5},{"$f":"SUM('II fisicos'!HX33:II33)","v":7.94E-4},{"$f":"SUM('II fisicos'!IJ33:IU33)","v":4.55E-4},{"$f":"SUM('II fisicos'!IV33:JG33)","v":4.3149999999999994E-3},{"$f":"SUM('II fisicos'!JH33:JS33)","v":1.8910000000000001E-3},{"$f":"SUM('II fisicos'!JT33:KE33)","v":1.2290000000000001E-3},{"$f":"SUM('II fisicos'!KF33:KQ33)","v":9.6900000000000003E-4},{"$f":"SUM('II fisicos'!KR33:LC33)","v":1.2480000000000002E-3},{"$f":"SUM('II fisicos'!LD33:LO33)","v":1.23E-3},{"$f":"SUM('II fisicos'!LP33:MA33)","v":1.8E-3},"-","-"]
[null,null,"Balboa-Alqueva",{"$f":"SUM('II fisicos'!D34:O34)","v":0},{"$f":"SUM('II fisicos'!P34:AA34)","v":0},{"$f":"SUM('II fisicos'!AB34:AM34)","v":0},{"$f":"SUM('II fisicos'!AN34:AY34)","v":0},{"$f":"SUM('II fisicos'!AZ34:BK34)","v":0},{"$f":"SUM('II fisicos'!BL34:BW34)","v":0},{"$f":"SUM('II fisicos'!BX34:CI34)","v":0},{"$f":"SUM('II fisicos'!CJ34:CU34)","v":0},{"$f":"SUM('II fisicos'!CV34:DG34)","v":0},{"$f":"SUM('II fisicos'!DH34:DS34)","v":0},{"$f":"SUM('II fisicos'!DT34:EE34)","v":0},{"$f":"SUM('II fisicos'!EF34:EQ34)","v":0},{"$f":"SUM('II fisicos'!ER34:FC34)","v":0},{"$f":"SUM('II fisicos'!FD34:FO34)","v":0},{"$f":"SUM('II fisicos'!FP34:GA34)","v":54.660302000000001},{"$f":"SUM('II fisicos'!GB34:GM34)","v":1583.3907780000002},{"$f":"SUM('II fisicos'!GN34:GY34)","v":1059.1305980000002},{"$f":"SUM('II fisicos'!GZ34:HK34)","v":0},{"$f":"SUM('II fisicos'!HL34:HW34)","v":0},{"$f":"SUM('II fisicos'!HX34:II34)","v":0},{"$f":"SUM('II fisicos'!IJ34:IU34)","v":0},{"$f":"SUM('II fisicos'!IV34:JG34)","v":0},{"$f":"SUM('II fisicos'!JH34:JS34)","v":0},{"$f":"SUM('II fisicos'!JT34:KE34)","v":0},{"$f":"SUM('II fisicos'!KF34:KQ34)","v":0},{"$f":"SUM('II fisicos'!KR34:LC34)","v":0},{"$f":"SUM('II fisicos'!LD34:LO34)","v":0},{"$f":"SUM('II fisicos'!LP34:MA34)","v":0},"-","-"]
[null,null,"Brovales-Alqueva",{"$f":"SUM('II fisicos'!D35:O35)","v":0},{"$f":"SUM('II fisicos'!P35:AA35)","v":0},{"$f":"SUM('II fisicos'!AB35:AM35)","v":0},{"$f":"SUM('II fisicos'!AN35:AY35)","v":0},{"$f":"SUM('II fisicos'!AZ35:BK35)","v":0},{"$f":"SUM('II fisicos'!BL35:BW35)","v":0},{"$f":"SUM('II fisicos'!BX35:CI35)","v":0},{"$f":"SUM('II fisicos'!CJ35:CU35)","v":0},{"$f":"SUM('II fisicos'!CV35:DG35)","v":0},{"$f":"SUM('II fisicos'!DH35:DS35)","v":0},{"$f":"SUM('II fisicos'!DT35:EE35)","v":0},{"$f":"SUM('II fisicos'!EF35:EQ35)","v":0},{"$f":"SUM('II fisicos'!ER35:FC35)","v":0},{"$f":"SUM('II fisicos'!FD35:FO35)","v":0},{"$f":"SUM('II fisicos'!FP35:GA35)","v":0},{"$f":"SUM('II fisicos'!GB35:GM35)","v":0},{"$f":"SUM('II fisicos'!GN35:GY35)","v":69.987117999999995},{"$f":"SUM('II fisicos'!GZ35:HK35)","v":1073.1206650000001},{"$f":"SUM('II fisicos'!HL35:HW35)","v":737.48215399999992},{"$f":"SUM('II fisicos'!HX35:II35)","v":1213.721049},{"$f":"SUM('II fisicos'!IJ35:IU35)","v":680.89948299999992},{"$f":"SUM('II fisicos'!IV35:JG35)","v":1300.307333},{"$f":"SUM('II fisicos'!JH35:JS35)","v":1382.492422},{"$f":"SUM('II fisicos'!JT35:KE35)","v":1813.865141},{"$f":"SUM('II fisicos'!KF35:KQ35)","v":1549.5101550000002},{"$f":"SUM('II fisicos'!KR35:LC35)","v":1519.4400130000001},{"$f":"SUM('II fisicos'!LD35:LO35)","v":2055.6589860000004},{"$f":"SUM('II fisicos'!LP35:MA35)","v":1773.8227669999999},"-","-"]
[null,null,"Cartelle-Lindoso",{"$f":"SUM('II fisicos'!D36:O36)","v":0},{"$f":"SUM('II fisicos'!P36:AA36)","v":0},{"$f":"SUM('II fisicos'!AB36:AM36)","v":0},{"$f":"SUM('II fisicos'!AN36:AY36)","v":0},{"$f":"SUM('II fisicos'!AZ36:BK36)","v":0},{"$f":"SUM('II fisicos'!BL36:BW36)","v":1.7},{"$f":"SUM('II fisicos'!BX36:CI36)","v":67.400000000000006},{"$f":"SUM('II fisicos'!CJ36:CU36)","v":46.61999999999999},{"$f":"SUM('II fisicos'!CV36:DG36)","v":21.939999999999998},{"$f":"SUM('II fisicos'!DH36:DS36)","v":22.879000000000001},{"$f":"SUM('II fisicos'!DT36:EE36)","v":0.374},{"$f":"SUM('II fisicos'!EF36:EQ36)","v":34.436676541727309},{"$f":"SUM('II fisicos'!ER36:FC36)","v":4.0041512266995333E-3},{"$f":"SUM('II fisicos'!FD36:FO36)","v":0.29620077734980849},{"$f":"SUM('II fisicos'!FP36:GA36)","v":3.2306000000000001E-2},{"$f":"SUM('II fisicos'!GB36:GM36)","v":0},{"$f":"SUM('II fisicos'!GN36:GY36)","v":14.2555},{"$f":"SUM('II fisicos'!GZ36:HK36)","v":3.7999999999999999E-2},{"$f":"SUM('II fisicos'!HL36:HW36)","v":0.45970000000000005},{"$f":"SUM('II fisicos'!HX36:II36)","v":41.769100000000002},{"$f":"SUM('II fisicos'!IJ36:IU36)","v":322.767},{"$f":"SUM('II fisicos'!IV36:JG36)","v":159.36029999999997},{"$f":"SUM('II fisicos'!JH36:JS36)","v":10.831900000000001},{"$f":"SUM('II fisicos'!JT36:KE36)","v":62.730599999999995},{"$f":"SUM('II fisicos'!KF36:KQ36)","v":154.9425},{"$f":"SUM('II fisicos'!KR36:LC36)","v":60.101999999999997},{"$f":"SUM('II fisicos'!LD36:LO36)","v":535.45619999999997},{"$f":"SUM('II fisicos'!LP36:MA36)","v":417.26609999999999},"-","-"]
[null,null,"Cedillo-Falagueira",{"$f":"SUM('II fisicos'!D37:O37)","v":1017.6950000000001},{"$f":"SUM('II fisicos'!P37:AA37)","v":975.02300000000002},{"$f":"SUM('II fisicos'!AB37:AM37)","v":994.29100000000017},{"$f":"SUM('II fisicos'!AN37:AY37)","v":1314.7520000000002},{"$f":"SUM('II fisicos'!AZ37:BK37)","v":815.1640000000001},{"$f":"SUM('II fisicos'!BL37:BW37)","v":1436.9350000000002},{"$f":"SUM('II fisicos'!BX37:CI37)","v":1576.3500000000001},{"$f":"SUM('II fisicos'!CJ37:CU37)","v":1164.076},{"$f":"SUM('II fisicos'!CV37:DG37)","v":2325.9059999999999},{"$f":"SUM('II fisicos'!DH37:DS37)","v":3273.2179999999989},{"$f":"SUM('II fisicos'!DT37:EE37)","v":2424.025188859544},{"$f":"SUM('II fisicos'!EF37:EQ37)","v":1953.1440675547776},{"$f":"SUM('II fisicos'!ER37:FC37)","v":2780.6623099975022},{"$f":"SUM('II fisicos'!FD37:FO37)","v":1492.9777657191319},{"$f":"SUM('II fisicos'!FP37:GA37)","v":1180.670046},{"$f":"SUM('II fisicos'!GB37:GM37)","v":951.30835600000012},{"$f":"SUM('II fisicos'!GN37:GY37)","v":1056.9440960000002},{"$f":"SUM('II fisicos'!GZ37:HK37)","v":301.02510000000001},{"$f":"SUM('II fisicos'!HL37:HW37)","v":252.3623},{"$f":"SUM('II fisicos'!HX37:II37)","v":754.18679999999995},{"$f":"SUM('II fisicos'!IJ37:IU37)","v":581.08429999999998},{"$f":"SUM('II fisicos'!IV37:JG37)","v":877.20997999999986},{"$f":"SUM('II fisicos'!JH37:JS37)","v":984.28610000000003},{"$f":"SUM('II fisicos'!JT37:KE37)","v":1020.2621},{"$f":"SUM('II fisicos'!KF37:KQ37)","v":935.78719999999998},{"$f":"SUM('II fisicos'!KR37:LC37)","v":1350.1971000000001},{"$f":"SUM('II fisicos'!LD37:LO37)","v":1595.5244},{"$f":"SUM('II fisicos'!LP37:MA37)","v":1089.66661},"-","-"]
[null,null,"Conchas-Lindoso",{"$f":"SUM('II fisicos'!D38:O38)","v":0},{"$f":"SUM('II fisicos'!P38:AA38)","v":0},{"$f":"SUM('II fisicos'!AB38:AM38)","v":0},{"$f":"SUM('II fisicos'!AN38:AY38)","v":0},{"$f":"SUM('II fisicos'!AZ38:BK38)","v":0},{"$f":"SUM('II fisicos'!BL38:BW38)","v":0},{"$f":"SUM('II fisicos'!BX38:CI38)","v":0},{"$f":"SUM('II fisicos'!CJ38:CU38)","v":0},{"$f":"SUM('II fisicos'!CV38:DG38)","v":0},{"$f":"SUM('II fisicos'!DH38:DS38)","v":0},{"$f":"SUM('II fisicos'!DT38:EE38)","v":2.4E-2},{"$f":"SUM('II fisicos'!EF38:EQ38)","v":0},{"$f":"SUM('II fisicos'!ER38:FC38)","v":1.0041512266995337E-3},{"$f":"SUM('II fisicos'!FD38:FO38)","v":0},{"$f":"SUM('II fisicos'!FP38:GA38)","v":0},{"$f":"SUM('II fisicos'!GB38:GM38)","v":0},{"$f":"SUM('II fisicos'!GN38:GY38)","v":0},{"$f":"SUM('II fisicos'!GZ38:HK38)","v":0},{"$f":"SUM('II fisicos'!HL38:HW38)","v":0},{"$f":"SUM('II fisicos'!HX38:II38)","v":3.0000000000000001E-6},{"$f":"SUM('II fisicos'!IJ38:IU38)","v":0},{"$f":"SUM('II fisicos'!IV38:JG38)","v":0},{"$f":"SUM('II fisicos'!JH38:JS38)","v":0},{"$f":"SUM('II fisicos'!JT38:KE38)","v":0},{"$f":"SUM('II fisicos'!KF38:KQ38)","v":0},{"$f":"SUM('II fisicos'!KR38:LC38)","v":0},{"$f":"SUM('II fisicos'!LD38:LO38)","v":0},{"$f":"SUM('II fisicos'!LP38:MA38)","v":0},"-","-"]
[null,null,"Encinasola-Barrancos",{"$f":"SUM('II fisicos'!D39:O39)","v":0},{"$f":"SUM('II fisicos'!P39:AA39)","v":0},{"$f":"SUM('II fisicos'!AB39:AM39)","v":0},{"$f":"SUM('II fisicos'!AN39:AY39)","v":0},{"$f":"SUM('II fisicos'!AZ39:BK39)","v":0},{"$f":"SUM('II fisicos'!BL39:BW39)","v":0},{"$f":"SUM('II fisicos'!BX39:CI39)","v":0},{"$f":"SUM('II fisicos'!CJ39:CU39)","v":0},{"$f":"SUM('II fisicos'!CV39:DG39)","v":0},{"$f":"SUM('II fisicos'!DH39:DS39)","v":0},{"$f":"SUM('II fisicos'!DT39:EE39)","v":0},{"$f":"SUM('II fisicos'!EF39:EQ39)","v":0},{"$f":"SUM('II fisicos'!ER39:FC39)","v":0},{"$f":"SUM('II fisicos'!FD39:FO39)","v":0},{"$f":"SUM('II fisicos'!FP39:GA39)","v":0},{"$f":"SUM('II fisicos'!GB39:GM39)","v":0},{"$f":"SUM('II fisicos'!GN39:GY39)","v":0},{"$f":"SUM('II fisicos'!GZ39:HK39)","v":0},{"$f":"SUM('II fisicos'!HL39:HW39)","v":0},{"$f":"SUM('II fisicos'!HX39:II39)","v":0},{"$f":"SUM('II fisicos'!IJ39:IU39)","v":0},{"$f":"SUM('II fisicos'!IV39:JG39)","v":0},{"$f":"SUM('II fisicos'!JH39:JS39)","v":0},{"$f":"SUM('II fisicos'!JT39:KE39)","v":0},{"$f":"SUM('II fisicos'!KF39:KQ39)","v":0},{"$f":"SUM('II fisicos'!KR39:LC39)","v":0},{"$f":"SUM('II fisicos'!LD39:LO39)","v":0},{"$f":"SUM('II fisicos'!LP39:MA39)","v":0},"-","-"]
[null,null,"Puebla de Guzmán-Tavira",{"$f":"SUM('II fisicos'!D40:O40)","v":0},{"$f":"SUM('II fisicos'!P40:AA40)","v":0},{"$f":"SUM('II fisicos'!AB40:AM40)","v":0},{"$f":"SUM('II fisicos'!AN40:AY40)","v":0},{"$f":"SUM('II fisicos'!AZ40:BK40)","v":0},{"$f":"SUM('II fisicos'!BL40:BW40)","v":0},{"$f":"SUM('II fisicos'!BX40:CI40)","v":0},{"$f":"SUM('II fisicos'!CJ40:CU40)","v":0},{"$f":"SUM('II fisicos'!CV40:DG40)","v":0},{"$f":"SUM('II fisicos'!DH40:DS40)","v":0},{"$f":"SUM('II fisicos'!DT40:EE40)","v":0},{"$f":"SUM('II fisicos'!EF40:EQ40)","v":0},{"$f":"SUM('II fisicos'!ER40:FC40)","v":0},{"$f":"SUM('II fisicos'!FD40:FO40)","v":0},{"$f":"SUM('II fisicos'!FP40:GA40)","v":0},{"$f":"SUM('II fisicos'!GB40:GM40)","v":0},{"$f":"SUM('II fisicos'!GN40:GY40)","v":0},{"$f":"SUM('II fisicos'!GZ40:HK40)","v":0},{"$f":"SUM('II fisicos'!HL40:HW40)","v":0},{"$f":"SUM('II fisicos'!HX40:II40)","v":0},{"$f":"SUM('II fisicos'!IJ40:IU40)","v":0},{"$f":"SUM('II fisicos'!IV40:JG40)","v":0},{"$f":"SUM('II fisicos'!JH40:JS40)","v":0},{"$f":"SUM('II fisicos'!JT40:KE40)","v":0},{"$f":"SUM('II fisicos'!KF40:KQ40)","v":876.95859799999994},{"$f":"SUM('II fisicos'!KR40:LC40)","v":1278.1297170000003},{"$f":"SUM('II fisicos'!LD40:LO40)","v":1716.0585449999999},{"$f":"SUM('II fisicos'!LP40:MA40)","v":1327.6953080000001},"-","-"]
[null,null,"Rosal Frontera-V. Ficalho",{"$f":"SUM('II fisicos'!D41:O41)","v":0},{"$f":"SUM('II fisicos'!P41:AA41)","v":0},{"$f":"SUM('II fisicos'!AB41:AM41)","v":0},{"$f":"SUM('II fisicos'!AN41:AY41)","v":0},{"$f":"SUM('II fisicos'!AZ41:BK41)","v":0},{"$f":"SUM('II fisicos'!BL41:BW41)","v":0},{"$f":"SUM('II fisicos'!BX41:CI41)","v":0},{"$f":"SUM('II fisicos'!CJ41:CU41)","v":0},{"$f":"SUM('II fisicos'!CV41:DG41)","v":0},{"$f":"SUM('II fisicos'!DH41:DS41)","v":0},{"$f":"SUM('II fisicos'!DT41:EE41)","v":0},{"$f":"SUM('II fisicos'!EF41:EQ41)","v":0},{"$f":"SUM('II fisicos'!ER41:FC41)","v":0},{"$f":"SUM('II fisicos'!FD41:FO41)","v":0},{"$f":"SUM('II fisicos'!FP41:GA41)","v":0},{"$f":"SUM('II fisicos'!GB41:GM41)","v":0},{"$f":"SUM('II fisicos'!GN41:GY41)","v":0},{"$f":"SUM('II fisicos'!GZ41:HK41)","v":0},{"$f":"SUM('II fisicos'!HL41:HW41)","v":0},{"$f":"SUM('II fisicos'!HX41:II41)","v":0},{"$f":"SUM('II fisicos'!IJ41:IU41)","v":0},{"$f":"SUM('II fisicos'!IV41:JG41)","v":9.9999999999999995E-7},{"$f":"SUM('II fisicos'!JH41:JS41)","v":0},{"$f":"SUM('II fisicos'!JT41:KE41)","v":0},{"$f":"SUM('II fisicos'!KF41:KQ41)","v":0},{"$f":"SUM('II fisicos'!KR41:LC41)","v":0},{"$f":"SUM('II fisicos'!LD41:LO41)","v":0},{"$f":"SUM('II fisicos'!LP41:MA41)","v":0},"-","-"]
[null,null,"Saucelle-Pocinho",{"$f":"SUM('II fisicos'!D42:O42)","v":29.565999999999999},{"$f":"SUM('II fisicos'!P42:AA42)","v":21.977},{"$f":"SUM('II fisicos'!AB42:AM42)","v":17.429000000000002},{"$f":"SUM('II fisicos'!AN42:AY42)","v":57.872},{"$f":"SUM('II fisicos'!AZ42:BK42)","v":22.848999999999997},{"$f":"SUM('II fisicos'!BL42:BW42)","v":11.805},{"$f":"SUM('II fisicos'!BX42:CI42)","v":120.38999999999999},{"$f":"SUM('II fisicos'!CJ42:CU42)","v":84.15},{"$f":"SUM('II fisicos'!CV42:DG42)","v":68.37700000000001},{"$f":"SUM('II fisicos'!DH42:DS42)","v":136.95899999999997},{"$f":"SUM('II fisicos'!DT42:EE42)","v":114.223},{"$f":"SUM('II fisicos'!EF42:EQ42)","v":215.61001469555572},{"$f":"SUM('II fisicos'!ER42:FC42)","v":50.297212363441723},{"$f":"SUM('II fisicos'!FD42:FO42)","v":101.83754491570097},{"$f":"SUM('II fisicos'!FP42:GA42)","v":5.5842340000000013},{"$f":"SUM('II fisicos'!GB42:GM42)","v":0.97534399999999988},{"$f":"SUM('II fisicos'!GN42:GY42)","v":94.116152},{"$f":"SUM('II fisicos'!GZ42:HK42)","v":21.461699999999997},{"$f":"SUM('II fisicos'!HL42:HW42)","v":2.4484999999999997},{"$f":"SUM('II fisicos'!HX42:II42)","v":82.782800000000009},{"$f":"SUM('II fisicos'!IJ42:IU42)","v":234.50139999999996},{"$f":"SUM('II fisicos'!IV42:JG42)","v":18.780290000000001},{"$f":"SUM('II fisicos'!JH42:JS42)","v":21.953999999999997},{"$f":"SUM('II fisicos'!JT42:KE42)","v":98.133299999999991},{"$f":"SUM('II fisicos'!KF42:KQ42)","v":84.170299999999997},{"$f":"SUM('II fisicos'!KR42:LC42)","v":52.838200000000001},{"$f":"SUM('II fisicos'!LD42:LO42)","v":147.60538000000003},{"$f":"SUM('II fisicos'!LP42:MA42)","v":136.0856},"-","-"]
[null,null,"Santa María-Elvás",{"$f":"SUM('II fisicos'!D43:O43)","v":0},{"$f":"SUM('II fisicos'!P43:AA43)","v":0},{"$f":"SUM('II fisicos'!AB43:AM43)","v":0},{"$f":"SUM('II fisicos'!AN43:AY43)","v":0},{"$f":"SUM('II fisicos'!AZ43:BK43)","v":0},{"$f":"SUM('II fisicos'!BL43:BW43)","v":0},{"$f":"SUM('II fisicos'!BX43:CI43)","v":0.32800000000000001},{"$f":"SUM('II fisicos'!CJ43:CU43)","v":0},{"$f":"SUM('II fisicos'!CV43:DG43)","v":0},{"$f":"SUM('II fisicos'!DH43:DS43)","v":0},{"$f":"SUM('II fisicos'!DT43:EE43)","v":1E-3},{"$f":"SUM('II fisicos'!EF43:EQ43)","v":3.0000000000000001E-3},{"$f":"SUM('II fisicos'!ER43:FC43)","v":4.0000000000000001E-3},{"$f":"SUM('II fisicos'!FD43:FO43)","v":0},{"$f":"SUM('II fisicos'!FP43:GA43)","v":6.2600000000000004E-4},{"$f":"SUM('II fisicos'!GB43:GM43)","v":0},{"$f":"SUM('II fisicos'!GN43:GY43)","v":0},{"$f":"SUM('II fisicos'!GZ43:HK43)","v":0},{"$f":"SUM('II fisicos'!HL43:HW43)","v":0},{"$f":"SUM('II fisicos'!HX43:II43)","v":0},{"$f":"SUM('II fisicos'!IJ43:IU43)","v":0},{"$f":"SUM('II fisicos'!IV43:JG43)","v":0},{"$f":"SUM('II fisicos'!JH43:JS43)","v":0},{"$f":"SUM('II fisicos'!JT43:KE43)","v":0},{"$f":"SUM('II fisicos'!KF43:KQ43)","v":0},{"$f":"SUM('II fisicos'!KR43:LC43)","v":0},{"$f":"SUM('II fisicos'!LD43:LO43)","v":0},{"$f":"SUM('II fisicos'!LP43:MA43)","v":0},"-","-"]
[null,null,"Total",{"$f":"SUM('II fisicos'!D44:O44)","v":1696.155},{"$f":"SUM('II fisicos'!P44:AA44)","v":1620.3269999999998},{"$f":"SUM('II fisicos'!AB44:AM44)","v":1197.4259999999999},{"$f":"SUM('II fisicos'!AN44:AY44)","v":1902.3710000000003},{"$f":"SUM('II fisicos'!AZ44:BK44)","v":1368.9},{"$f":"SUM('II fisicos'!BL44:BW44)","v":1741.0570000000002},{"$f":"SUM('II fisicos'!BX44:CI44)","v":3004.8329999999996},{"$f":"SUM('II fisicos'!CJ44:CU44)","v":2480.5950000000003},{"$f":"SUM('II fisicos'!CV44:DG44)","v":3698.1229999999996},{"$f":"SUM('II fisicos'!DH44:DS44)","v":4485.1509999999998},{"$f":"SUM('II fisicos'!DT44:EE44)","v":3766.8370000000004},{"$f":"SUM('II fisicos'!EF44:EQ44)","v":3477.4619999999995},{"$f":"SUM('II fisicos'!ER44:FC44)","v":3429.7509999999997},{"$f":"SUM('II fisicos'!FD44:FO44)","v":3104.4639999999999},{"$f":"SUM('II fisicos'!FP44:GA44)","v":2112.1043540000001},{"$f":"SUM('II fisicos'!GB44:GM44)","v":2800.6727879999999},{"$f":"SUM('II fisicos'!GN44:GY44)","v":3182.1377040000002},{"$f":"SUM('II fisicos'!GZ44:HK44)","v":2152.9360980000001},{"$f":"SUM('II fisicos'!HL44:HW44)","v":1313.735647},{"$f":"SUM('II fisicos'!HX44:II44)","v":2820.3459460000004},{"$f":"SUM('II fisicos'!IJ44:IU44)","v":3189.0590740000002},{"$f":"SUM('II fisicos'!IV44:JG44)","v":3929.8308789999992},{"$f":"SUM('II fisicos'!JH44:JS44)","v":2870.6081570000006},{"$f":"SUM('II fisicos'!JT44:KE44)","v":5323.4664100000009},{"$f":"SUM('II fisicos'!KF44:KQ44)","v":6344.7284030000001},{"$f":"SUM('II fisicos'!KR44:LC44)","v":5810.6983619999992},{"$f":"SUM('II fisicos'!LD44:LO44)","v":9701.608037},{"$f":"SUM('II fisicos'!LP44:MA44)","v":6580.4903049999994},"-","-"]
[null,"Marruecos","Puerto de la Cruz-Mellousa",{"$f":"SUM('II fisicos'!D45:O45)","v":0},{"$f":"SUM('II fisicos'!P45:AA45)","v":0},{"$f":"SUM('II fisicos'!AB45:AM45)","v":0},{"$f":"SUM('II fisicos'!AN45:AY45)","v":0},{"$f":"SUM('II fisicos'!AZ45:BK45)","v":0},{"$f":"SUM('II fisicos'!BL45:BW45)","v":0},{"$f":"SUM('II fisicos'!BX45:CI45)","v":0},{"$f":"SUM('II fisicos'!CJ45:CU45)","v":1.9730000000000001},{"$f":"SUM('II fisicos'!CV45:DG45)","v":0},{"$f":"SUM('II fisicos'!DH45:DS45)","v":0},{"$f":"SUM('II fisicos'!DT45:EE45)","v":0},{"$f":"SUM('II fisicos'!EF45:EQ45)","v":0},{"$f":"SUM('II fisicos'!ER45:FC45)","v":12.481000000000002},{"$f":"SUM('II fisicos'!FD45:FO45)","v":29.053000000000001},{"$f":"SUM('II fisicos'!FP45:GA45)","v":21.189680000000003},{"$f":"SUM('II fisicos'!GB45:GM45)","v":110.4051},{"$f":"SUM('II fisicos'!GN45:GY45)","v":28.17886},{"$f":"SUM('II fisicos'!GZ45:HK45)","v":21.50329},{"$f":"SUM('II fisicos'!HL45:HW45)","v":14.925199999999998},{"$f":"SUM('II fisicos'!HX45:II45)","v":7.9758499999999994},{"$f":"SUM('II fisicos'!IJ45:IU45)","v":33.919319999999999},{"$f":"SUM('II fisicos'!IV45:JG45)","v":15.614409999999999},{"$f":"SUM('II fisicos'!JH45:JS45)","v":4.6427499999999995},{"$f":"SUM('II fisicos'!JT45:KE45)","v":1.1239300000000001},{"$f":"SUM('II fisicos'!KF45:KQ45)","v":2.5326},{"$f":"SUM('II fisicos'!KR45:LC45)","v":14.139290000000001},{"$f":"SUM('II fisicos'!LD45:LO45)","v":7.91737},{"$f":"SUM('II fisicos'!LP45:MA45)","v":2.7965999999999998},"-","-"]
[null,null,"Total",{"$f":"SUM('II fisicos'!D46:O46)","v":0},{"$f":"SUM('II fisicos'!P46:AA46)","v":0},{"$f":"SUM('II fisicos'!AB46:AM46)","v":0},{"$f":"SUM('II fisicos'!AN46:AY46)","v":0},{"$f":"SUM('II fisicos'!AZ46:BK46)","v":0},{"$f":"SUM('II fisicos'!BL46:BW46)","v":0},{"$f":"SUM('II fisicos'!BX46:CI46)","v":0},{"$f":"SUM('II fisicos'!CJ46:CU46)","v":1.9730000000000001},{"$f":"SUM('II fisicos'!CV46:DG46)","v":0},{"$f":"SUM('II fisicos'!DH46:DS46)","v":0},{"$f":"SUM('II fisicos'!DT46:EE46)","v":0},{"$f":"SUM('II fisicos'!EF46:EQ46)","v":0},{"$f":"SUM('II fisicos'!ER46:FC46)","v":12.481000000000002},{"$f":"SUM('II fisicos'!FD46:FO46)","v":29.053000000000001},{"$f":"SUM('II fisicos'!FP46:GA46)","v":21.189680000000003},{"$f":"SUM('II fisicos'!GB46:GM46)","v":110.4051},{"$f":"SUM('II fisicos'!GN46:GY46)","v":28.17886},{"$f":"SUM('II fisicos'!GZ46:HK46)","v":21.50329},{"$f":"SUM('II fisicos'!HL46:HW46)","v":14.925199999999998},{"$f":"SUM('II fisicos'!HX46:II46)","v":7.9758499999999994},{"$f":"SUM('II fisicos'!IJ46:IU46)","v":33.919319999999999},{"$f":"SUM('II fisicos'!IV46:JG46)","v":15.614409999999999},{"$f":"SUM('II fisicos'!JH46:JS46)","v":4.6427499999999995},{"$f":"SUM('II fisicos'!JT46:KE46)","v":1.1239300000000001},{"$f":"SUM('II fisicos'!KF46:KQ46)","v":2.5326},{"$f":"SUM('II fisicos'!KR46:LC46)","v":14.139290000000001},{"$f":"SUM('II fisicos'!LD46:LO46)","v":7.91737},{"$f":"SUM('II fisicos'!LP46:MA46)","v":2.7966000000000002},"-","-"]
[null,"Entradas",null,{"$f":"SUM('II fisicos'!D47:O47)","v":3208.0900000000006},{"$f":"SUM('II fisicos'!P47:AA47)","v":3085.645},{"$f":"SUM('II fisicos'!AB47:AM47)","v":4351.6859999999997},{"$f":"SUM('II fisicos'!AN47:AY47)","v":4605.8619999999992},{"$f":"SUM('II fisicos'!AZ47:BK47)","v":5105.9069999999992},{"$f":"SUM('II fisicos'!BL47:BW47)","v":7629.67},{"$f":"SUM('II fisicos'!BX47:CI47)","v":6750.3},{"$f":"SUM('II fisicos'!CJ47:CU47)","v":4596.9650000000001},{"$f":"SUM('II fisicos'!CV47:DG47)","v":8963.7420000000002},{"$f":"SUM('II fisicos'!DH47:DS47)","v":11958.765999999998},{"$f":"SUM('II fisicos'!DT47:EE47)","v":12267.769000000002},{"$f":"SUM('II fisicos'!EF47:EQ47)","v":10202.160000000002},{"$f":"SUM('II fisicos'!ER47:FC47)","v":12503.727000000003},{"$f":"SUM('II fisicos'!FD47:FO47)","v":9520.487000000001},{"$f":"SUM('II fisicos'!FP47:GA47)","v":8111.6105259999995},{"$f":"SUM('II fisicos'!GB47:GM47)","v":10211.511980000001},{"$f":"SUM('II fisicos'!GN47:GY47)","v":9100.4315260000003},{"$f":"SUM('II fisicos'!GZ47:HK47)","v":8772.7791830000006},{"$f":"SUM('II fisicos'!HL47:HW47)","v":5880.2730600000014},{"$f":"SUM('II fisicos'!HX47:II47)","v":6770.6780080000008},{"$f":"SUM('II fisicos'!IJ47:IU47)","v":5206.2520339999992},{"$f":"SUM('II fisicos'!IV47:JG47)","v":7932.4456190000001},{"$f":"SUM('II fisicos'!JH47:JS47)","v":7785.7734420000006},{"$f":"SUM('II fisicos'!JT47:KE47)","v":10203.666233000002},{"$f":"SUM('II fisicos'!KF47:KQ47)","v":12310.027658999999},{"$f":"SUM('II fisicos'!KR47:LC47)","v":14955.731458999999},{"$f":"SUM('II fisicos'!LD47:LO47)","v":21844.860441999997},{"$f":"SUM('II fisicos'!LP47:MA47)","v":19393.199717},"-","-"]
[]
[null,"Salidas internacionales físicas anuales por líneas (GWh)","Líneas",1990,1991,1992,1993,1994,1995,1996,1997,1998,1999,2000,2001,2002,2003,2004,2005,2006,2007,2008,2009,2010,2011,2012,2013,2014,2015,2016,2017,2018,2019]
[null,"Andorra","Adrall-Margineda",{"$f":"SUM('II fisicos'!D50:O50)","v":18.892999999999997},{"$f":"SUM('II fisicos'!P50:AA50)","v":48.873000000000005},{"$f":"SUM('II fisicos'!AB50:AM50)","v":28.538999999999998},{"$f":"SUM('II fisicos'!AN50:AY50)","v":142.50399999999999},{"$f":"SUM('II fisicos'!AZ50:BK50)","v":109.23100000000001},{"$f":"SUM('II fisicos'!BL50:BW50)","v":109.87900000000002},{"$f":"SUM('II fisicos'!BX50:CI50)","v":127.44900000000003},{"$f":"SUM('II fisicos'!CJ50:CU50)","v":104.92200000000001},{"$f":"SUM('II fisicos'!CV50:DG50)","v":139.06400000000002},{"$f":"SUM('II fisicos'!DH50:DS50)","v":220.09700000000001},{"$f":"SUM('II fisicos'!DT50:EE50)","v":271.959},{"$f":"SUM('II fisicos'!EF50:EQ50)","v":248.358},{"$f":"SUM('II fisicos'!ER50:FC50)","v":291.75100000000003},{"$f":"SUM('II fisicos'!FD50:FO50)","v":269.97700000000003},{"$f":"SUM('II fisicos'!FP50:GA50)","v":283.49752900000004},{"$f":"SUM('II fisicos'!GB50:GM50)","v":271.05765299999996},{"$f":"SUM('II fisicos'!GN50:GY50)","v":229.09929000000002},{"$f":"SUM('II fisicos'!GZ50:HK50)","v":261.64303000000001},{"$f":"SUM('II fisicos'!HL50:HW50)","v":278.33505000000002},{"$f":"SUM('II fisicos'!HX50:II50)","v":299.39524000000006},{"$f":"SUM('II fisicos'!IJ50:IU50)","v":264.49448000000001},{"$f":"SUM('II fisicos'!IV50:JG50)","v":305.7133},{"$f":"SUM('II fisicos'!JH50:JS50)","v":286.21885999999995},{"$f":"SUM('II fisicos'!JT50:KE50)","v":287.39902000000001},{"$f":"SUM('II fisicos'!KF50:KQ50)","v":234.51143999999999},{"$f":"SUM('II fisicos'!KR50:LC50)","v":264.05766},{"$f":"SUM('II fisicos'!LD50:LO50)","v":278.28440999999998},{"$f":"SUM('II fisicos'!LP50:MA50)","v":159.06026},"-","-"]
[null,null,"Total",{"$f":"SUM('II fisicos'!D51:O51)","v":18.892999999999997},{"$f":"SUM('II fisicos'!P51:AA51)","v":48.873000000000005},{"$f":"SUM('II fisicos'!AB51:AM51)","v":28.538999999999998},{"$f":"SUM('II fisicos'!AN51:AY51)","v":142.50399999999999},{"$f":"SUM('II fisicos'!AZ51:BK51)","v":109.23100000000001},{"$f":"SUM('II fisicos'!BL51:BW51)","v":109.87900000000002},{"$f":"SUM('II fisicos'!BX51:CI51)","v":127.44900000000003},{"$f":"SUM('II fisicos'!CJ51:CU51)","v":104.92200000000001},{"$f":"SUM('II fisicos'!CV51:DG51)","v":139.06400000000002},{"$f":"SUM('II fisicos'!DH51:DS51)","v":220.09700000000001},{"$f":"SUM('II fisicos'!DT51:EE51)","v":271.959},{"$f":"SUM('II fisicos'!EF51:EQ51)","v":248.358},{"$f":"SUM('II fisicos'!ER51:FC51)","v":291.75100000000003},{"$f":"SUM('II fisicos'!FD51:FO51)","v":269.97700000000003},{"$f":"SUM('II fisicos'!FP51:GA51)","v":283.49752900000004},{"$f":"SUM('II fisicos'!GB51:GM51)","v":271.05765299999996},{"$f":"SUM('II fisicos'!GN51:GY51)","v":229.09929000000002},{"$f":"SUM('II fisicos'!GZ51:HK51)","v":261.64303000000001},{"$f":"SUM('II fisicos'!HL51:HW51)","v":278.33505000000002},{"$f":"SUM('II fisicos'!HX51:II51)","v":299.39524000000006},{"$f":"SUM('II fisicos'!IJ51:IU51)","v":264.49448000000001},{"$f":"SUM('II fisicos'!IV51:JG51)","v":305.7133},{"$f":"SUM('II fisicos'!JH51:JS51)","v":286.21885999999995},{"$f":"SUM('II fisicos'!JT51:KE51)","v":287.39902000000001},{"$f":"SUM('II fisicos'!KF51:KQ51)","v":234.51143999999999},{"$f":"SUM('II fisicos'!KR51:LC51)","v":264.05766},{"$f":"SUM('II fisicos'!LD51:LO51)","v":278.28440999999998},{"$f":"SUM('II fisicos'!LP51:MA51)","v":159.06026},"-","-"]
[null,"Francia","Arkale-Argia",{"$f":"SUM('II fisicos'!D52:O52)","v":696.44899999999996},{"$f":"SUM('II fisicos'!P52:AA52)","v":688.26900000000001},{"$f":"SUM('II fisicos'!AB52:AM52)","v":531.22299999999996},{"$f":"SUM('II fisicos'!AN52:AY52)","v":572.12699999999995},{"$f":"SUM('II fisicos'!AZ52:BK52)","v":516.0680000000001},{"$f":"SUM('II fisicos'!BL52:BW52)","v":304.26300000000003},{"$f":"SUM('II fisicos'!BX52:CI52)","v":477.137},{"$f":"SUM('II fisicos'!CJ52:CU52)","v":827.22899999999993},{"$f":"SUM('II fisicos'!CV52:DG52)","v":660.86899999999991},{"$f":"SUM('II fisicos'!DH52:DS52)","v":555.88300000000004},{"$f":"SUM('II fisicos'!DT52:EE52)","v":572.87011766795013},{"$f":"SUM('II fisicos'!EF52:EQ52)","v":805.20469828754324},{"$f":"SUM('II fisicos'!ER52:FC52)","v":168.13101467815079},{"$f":"SUM('II fisicos'!FD52:FO52)","v":236.94456624387095},{"$f":"SUM('II fisicos'!FP52:GA52)","v":260.08266200000003},{"$f":"SUM('II fisicos'!GB52:GM52)","v":321.89912600000002},{"$f":"SUM('II fisicos'!GN52:GY52)","v":502.18909600000001},{"$f":"SUM('II fisicos'!GZ52:HK52)","v":384.83731399999999},{"$f":"SUM('II fisicos'!HL52:HW52)","v":421.96134699999999},{"$f":"SUM('II fisicos'!HX52:II52)","v":647.63177499999995},{"$f":"SUM('II fisicos'!IJ52:IU52)","v":829.30404299999975},{"$f":"SUM('II fisicos'!IV52:JG52)","v":607.04461199999992},{"$f":"SUM('II fisicos'!JH52:JS52)","v":790.03689899999995},{"$f":"SUM('II fisicos'!JT52:KE52)","v":663.96538199999998},{"$f":"SUM('II fisicos'!KF52:KQ52)","v":509.58662000000004},{"$f":"SUM('II fisicos'!KR52:LC52)","v":358.74828500000001},{"$f":"SUM('II fisicos'!LD52:LO52)","v":627.116895},{"$f":"SUM('II fisicos'!LP52:MA52)","v":216.64413500000001},"-","-"]
[null,null,"Benós-Lac D'oo",{"$f":"SUM('II fisicos'!D53:O53)","v":14.318999999999999},{"$f":"SUM('II fisicos'!P53:AA53)","v":14.663},{"$f":"SUM('II fisicos'!AB53:AM53)","v":0.58199999999999996},{"$f":"SUM('II fisicos'!AN53:AY53)","v":2.8530000000000002},{"$f":"SUM('II fisicos'!AZ53:BK53)","v":0.58600000000000008},{"$f":"SUM('II fisicos'!BL53:BW53)","v":0.96599999999999997},{"$f":"SUM('II fisicos'!BX53:CI53)","v":3.1760000000000002},{"$f":"SUM('II fisicos'!CJ53:CU53)","v":0.106},{"$f":"SUM('II fisicos'!CV53:DG53)","v":1.597},{"$f":"SUM('II fisicos'!DH53:DS53)","v":1.738},{"$f":"SUM('II fisicos'!DT53:EE53)","v":7.0000000000000007E-2},{"$f":"SUM('II fisicos'!EF53:EQ53)","v":0.16994075600489406},{"$f":"SUM('II fisicos'!ER53:FC53)","v":0.20100000000000001},{"$f":"SUM('II fisicos'!FD53:FO53)","v":0},{"$f":"SUM('II fisicos'!FP53:GA53)","v":0.16655400000000001},{"$f":"SUM('II fisicos'!GB53:GM53)","v":0.164019},{"$f":"SUM('II fisicos'!GN53:GY53)","v":0.54818800000000001},{"$f":"SUM('II fisicos'!GZ53:HK53)","v":9.2757999999999993E-2},{"$f":"SUM('II fisicos'!HL53:HW53)","v":8.7957000000000007E-2},{"$f":"SUM('II fisicos'!HX53:II53)","v":2.6905999999999999E-2},{"$f":"SUM('II fisicos'!IJ53:IU53)","v":4.535E-3},{"$f":"SUM('II fisicos'!IV53:JG53)","v":1.0636129999999999},{"$f":"SUM('II fisicos'!JH53:JS53)","v":0.21503900000000001},{"$f":"SUM('II fisicos'!JT53:KE53)","v":3.188625},{"$f":"SUM('II fisicos'!KF53:KQ53)","v":1.0909940000000002},{"$f":"SUM('II fisicos'!KR53:LC53)","v":3.8580000000000003E-3},{"$f":"SUM('II fisicos'!LD53:LO53)","v":5.4139E-2},{"$f":"SUM('II fisicos'!LP53:MA53)","v":1.4537E-2},"-","-"]
[null,null,"Biescas-Pragneres",{"$f":"SUM('II fisicos'!D54:O54)","v":225.43400000000003},{"$f":"SUM('II fisicos'!P54:AA54)","v":157.18099999999998},{"$f":"SUM('II fisicos'!AB54:AM54)","v":110.84099999999999},{"$f":"SUM('II fisicos'!AN54:AY54)","v":150.16800000000001},{"$f":"SUM('II fisicos'!AZ54:BK54)","v":21.402999999999999},{"$f":"SUM('II fisicos'!BL54:BW54)","v":2.79},{"$f":"SUM('II fisicos'!BX54:CI54)","v":116.592},{"$f":"SUM('II fisicos'!CJ54:CU54)","v":251.88799999999998},{"$f":"SUM('II fisicos'!CV54:DG54)","v":11.204000000000001},{"$f":"SUM('II fisicos'!DH54:DS54)","v":1.4510000000000001},{"$f":"SUM('II fisicos'!DT54:EE54)","v":2.863},{"$f":"SUM('II fisicos'!EF54:EQ54)","v":153.29014364118535},{"$f":"SUM('II fisicos'!ER54:FC54)","v":19.512081500598082},{"$f":"SUM('II fisicos'!FD54:FO54)","v":49.413197205468251},{"$f":"SUM('II fisicos'!FP54:GA54)","v":115.18061299999999},{"$f":"SUM('II fisicos'!GB54:GM54)","v":126.93005300000002},{"$f":"SUM('II fisicos'!GN54:GY54)","v":188.59336199999998},{"$f":"SUM('II fisicos'!GZ54:HK54)","v":200.40565500000002},{"$f":"SUM('II fisicos'!HL54:HW54)","v":352.739847},{"$f":"SUM('II fisicos'!HX54:II54)","v":453.50316600000002},{"$f":"SUM('II fisicos'!IJ54:IU54)","v":720.93306500000006},{"$f":"SUM('II fisicos'!IV54:JG54)","v":497.12103200000001},{"$f":"SUM('II fisicos'!JH54:JS54)","v":517.63712899999996},{"$f":"SUM('II fisicos'!JT54:KE54)","v":517.35850400000004},{"$f":"SUM('II fisicos'!KF54:KQ54)","v":405.25283399999995},{"$f":"SUM('II fisicos'!KR54:LC54)","v":321.99725899999999},{"$f":"SUM('II fisicos'!LD54:LO54)","v":331.74996099999993},{"$f":"SUM('II fisicos'!LP54:MA54)","v":179.22838899999999},"-","-"]
[null,null,"Hernani-Argia",{"$f":"SUM('II fisicos'!D55:O55)","v":418.88000000000011},{"$f":"SUM('II fisicos'!P55:AA55)","v":438.52699999999999},{"$f":"SUM('II fisicos'!AB55:AM55)","v":92.44},{"$f":"SUM('II fisicos'!AN55:AY55)","v":109.893},{"$f":"SUM('II fisicos'!AZ55:BK55)","v":263.31299999999999},{"$f":"SUM('II fisicos'!BL55:BW55)","v":18.469000000000001},{"$f":"SUM('II fisicos'!BX55:CI55)","v":135.15799999999999},{"$f":"SUM('II fisicos'!CJ55:CU55)","v":255.19900000000001},{"$f":"SUM('II fisicos'!CV55:DG55)","v":2.399},{"$f":"SUM('II fisicos'!DH55:DS55)","v":4.3899999999999997},{"$f":"SUM('II fisicos'!DT55:EE55)","v":9.8309999999999995},{"$f":"SUM('II fisicos'!EF55:EQ55)","v":158.97892150523825},{"$f":"SUM('II fisicos'!ER55:FC55)","v":1.9472362010599622},{"$f":"SUM('II fisicos'!FD55:FO55)","v":247.54818236651676},{"$f":"SUM('II fisicos'!FP55:GA55)","v":249.269634},{"$f":"SUM('II fisicos'!GB55:GM55)","v":287.342263},{"$f":"SUM('II fisicos'!GN55:GY55)","v":712.92275199999995},{"$f":"SUM('II fisicos'!GZ55:HK55)","v":423.72755299999994},{"$f":"SUM('II fisicos'!HL55:HW55)","v":545.57590700000003},{"$f":"SUM('II fisicos'!HX55:II55)","v":948.57354999999995},{"$f":"SUM('II fisicos'!IJ55:IU55)","v":1154.4839649999999},{"$f":"SUM('II fisicos'!IV55:JG55)","v":891.98998200000005},{"$f":"SUM('II fisicos'!JH55:JS55)","v":1260.0689640000001},{"$f":"SUM('II fisicos'!JT55:KE55)","v":1337.6890310000001},{"$f":"SUM('II fisicos'!KF55:KQ55)","v":1056.9283869999999},{"$f":"SUM('II fisicos'!KR55:LC55)","v":721.46638999999982},{"$f":"SUM('II fisicos'!LD55:LO55)","v":1793.5601690000001},{"$f":"SUM('II fisicos'!LP55:MA55)","v":610.11741499999994},"-","-"]
[null,null,"Irún-Errondenia",{"$f":"SUM('II fisicos'!D56:O56)","v":13.214},{"$f":"SUM('II fisicos'!P56:AA56)","v":51.817},{"$f":"SUM('II fisicos'!AB56:AM56)","v":30.286999999999999},{"$f":"SUM('II fisicos'!AN56:AY56)","v":31.686},{"$f":"SUM('II fisicos'!AZ56:BK56)","v":4.0810000000000004},{"$f":"SUM('II fisicos'!BL56:BW56)","v":9.2089999999999979},{"$f":"SUM('II fisicos'!BX56:CI56)","v":9.7140000000000004},{"$f":"SUM('II fisicos'!CJ56:CU56)","v":4.2560000000000002},{"$f":"SUM('II fisicos'!CV56:DG56)","v":4.6929999999999996},{"$f":"SUM('II fisicos'!DH56:DS56)","v":7.8469999999999995},{"$f":"SUM('II fisicos'!DT56:EE56)","v":3.0338823320497963},{"$f":"SUM('II fisicos'!EF56:EQ56)","v":5.7412114319966019},{"$f":"SUM('II fisicos'!ER56:FC56)","v":16.195696514433322},{"$f":"SUM('II fisicos'!FD56:FO56)","v":5.0417114239059151},{"$f":"SUM('II fisicos'!FP56:GA56)","v":2.6362619999999994},{"$f":"SUM('II fisicos'!GB56:GM56)","v":1.6327429999999996},{"$f":"SUM('II fisicos'!GN56:GY56)","v":1.143343},{"$f":"SUM('II fisicos'!GZ56:HK56)","v":0.87153499999999995},{"$f":"SUM('II fisicos'!HL56:HW56)","v":1.4764469999999998},{"$f":"SUM('II fisicos'!HX56:II56)","v":2.3237399999999999},{"$f":"SUM('II fisicos'!IJ56:IU56)","v":1.7882180000000001},{"$f":"SUM('II fisicos'!IV56:JG56)","v":1.9825429999999999},{"$f":"SUM('II fisicos'!JH56:JS56)","v":1.6672779999999998},{"$f":"SUM('II fisicos'!JT56:KE56)","v":1.588241},{"$f":"SUM('II fisicos'!KF56:KQ56)","v":1.3462160000000003},{"$f":"SUM('II fisicos'!KR56:LC56)","v":1.6052370000000002},{"$f":"SUM('II fisicos'!LD56:LO56)","v":1.4454249999999997},{"$f":"SUM('II fisicos'!LP56:MA56)","v":1.6244609999999999},"-","-"]
[null,null,"Santa Llogaia-Baixas",{"$f":"SUM('II fisicos'!D57:O57)","v":0},{"$f":"SUM('II fisicos'!P57:AA57)","v":0},{"$f":"SUM('II fisicos'!AB57:AM57)","v":0},{"$f":"SUM('II fisicos'!AN57:AY57)","v":0},{"$f":"SUM('II fisicos'!AZ57:BK57)","v":0},{"$f":"SUM('II fisicos'!BL57:BW57)","v":0},{"$f":"SUM('II fisicos'!BX57:CI57)","v":0},{"$f":"SUM('II fisicos'!CJ57:CU57)","v":0},{"$f":"SUM('II fisicos'!CV57:DG57)","v":0},{"$f":"SUM('II fisicos'!DH57:DS57)","v":0},{"$f":"SUM('II fisicos'!DT57:EE57)","v":0},{"$f":"SUM('II fisicos'!EF57:EQ57)","v":0},{"$f":"SUM('II fisicos'!ER57:FC57)","v":0},{"$f":"SUM('II fisicos'!FD57:FO57)","v":0},{"$f":"SUM('II fisicos'!FP57:GA57)","v":0},{"$f":"SUM('II fisicos'!GB57:GM57)","v":0},{"$f":"SUM('II fisicos'!GN57:GY57)","v":0},{"$f":"SUM('II fisicos'!GZ57:HK57)","v":0},{"$f":"SUM('II fisicos'!HL57:HW57)","v":0},{"$f":"SUM('II fisicos'!HX57:II57)","v":0},{"$f":"SUM('II fisicos'!IJ57:IU57)","v":0},{"$f":"SUM('II fisicos'!IV57:JG57)","v":0},{"$f":"SUM('II fisicos'!JH57:JS57)","v":0},{"$f":"SUM('II fisicos'!JT57:KE57)","v":0},{"$f":"SUM('II fisicos'!KF57:KQ57)","v":0},{"$f":"SUM('II fisicos'!KR57:LC57)","v":120.346041},{"$f":"SUM('II fisicos'!LD57:LO57)","v":1064.7575390000002},{"$f":"SUM('II fisicos'!LP57:MA57)","v":367.25216599999999},"-","-"]
[null,null,"Vic-Baixas",{"$f":"SUM('II fisicos'!D58:O58)","v":507.20899999999995},{"$f":"SUM('II fisicos'!P58:AA58)","v":650.60799999999995},{"$f":"SUM('II fisicos'!AB58:AM58)","v":378.08100000000002},{"$f":"SUM('II fisicos'!AN58:AY58)","v":252.03199999999998},{"$f":"SUM('II fisicos'!AZ58:BK58)","v":80.353000000000009},{"$f":"SUM('II fisicos'!BL58:BW58)","v":39.89},{"$f":"SUM('II fisicos'!BX58:CI58)","v":705.93200000000013},{"$f":"SUM('II fisicos'!CJ58:CU58)","v":715.98},{"$f":"SUM('II fisicos'!CV58:DG58)","v":65.636999999999986},{"$f":"SUM('II fisicos'!DH58:DS58)","v":9.2949999999999982},{"$f":"SUM('II fisicos'!DT58:EE58)","v":5.9450000000000003},{"$f":"SUM('II fisicos'!EF58:EQ58)","v":49.700084378031711},{"$f":"SUM('II fisicos'!ER58:FC58)","v":21.411971105757875},{"$f":"SUM('II fisicos'!FD58:FO58)","v":63.106342760238157},{"$f":"SUM('II fisicos'!FP58:GA58)","v":129.305036},{"$f":"SUM('II fisicos'!GB58:GM58)","v":17.839118000000003},{"$f":"SUM('II fisicos'!GN58:GY58)","v":75.110263000000003},{"$f":"SUM('II fisicos'!GZ58:HK58)","v":101.41019899999999},{"$f":"SUM('II fisicos'!HL58:HW58)","v":340.54012699999998},{"$f":"SUM('II fisicos'!HX58:II58)","v":300.01620600000001},{"$f":"SUM('II fisicos'!IJ58:IU58)","v":807.67985699999997},{"$f":"SUM('II fisicos'!IV58:JG58)","v":463.39038400000004},{"$f":"SUM('II fisicos'!JH58:JS58)","v":458.10353400000002},{"$f":"SUM('II fisicos'!JT58:KE58)","v":647.41865299999995},{"$f":"SUM('II fisicos'!KF58:KQ58)","v":421.060337},{"$f":"SUM('II fisicos'!KR58:LC58)","v":282.50819500000006},{"$f":"SUM('II fisicos'!LD58:LO58)","v":515.13820599999997},{"$f":"SUM('II fisicos'!LP58:MA58)","v":171.45813000000001},"-","-"]
[null,null,"Total",{"$f":"SUM('II fisicos'!D59:O59)","v":1875.5049999999999},{"$f":"SUM('II fisicos'!P59:AA59)","v":2001.0650000000001},{"$f":"SUM('II fisicos'!AB59:AM59)","v":1143.454},{"$f":"SUM('II fisicos'!AN59:AY59)","v":1118.759},{"$f":"SUM('II fisicos'!AZ59:BK59)","v":885.80399999999986},{"$f":"SUM('II fisicos'!BL59:BW59)","v":375.58699999999999},{"$f":"SUM('II fisicos'!BX59:CI59)","v":1447.7090000000001},{"$f":"SUM('II fisicos'!CJ59:CU59)","v":2054.6579999999999},{"$f":"SUM('II fisicos'!CV59:DG59)","v":746.39899999999989},{"$f":"SUM('II fisicos'!DH59:DS59)","v":580.60399999999993},{"$f":"SUM('II fisicos'!DT59:EE59)","v":594.61300000000006},{"$f":"SUM('II fisicos'!EF59:EQ59)","v":1173.085},{"$f":"SUM('II fisicos'!ER59:FC59)","v":227.399},{"$f":"SUM('II fisicos'!FD59:FO59)","v":602.05399999999986},{"$f":"SUM('II fisicos'!FP59:GA59)","v":756.64076099999977},{"$f":"SUM('II fisicos'!GB59:GM59)","v":755.80732200000011},{"$f":"SUM('II fisicos'!GN59:GY59)","v":1480.5070040000001},{"$f":"SUM('II fisicos'!GZ59:HK59)","v":1111.345014},{"$f":"SUM('II fisicos'!HL59:HW59)","v":1662.3816320000003},{"$f":"SUM('II fisicos'!HX59:II59)","v":2352.075343},{"$f":"SUM('II fisicos'!IJ59:IU59)","v":3514.1936829999995},{"$f":"SUM('II fisicos'!IV59:JG59)","v":2462.5921659999999},{"$f":"SUM('II fisicos'!JH59:JS59)","v":3027.7288430000003},{"$f":"SUM('II fisicos'!JT59:KE59)","v":3171.2084360000003},{"$f":"SUM('II fisicos'!KF59:KQ59)","v":2395.2653880000003},{"$f":"SUM('II fisicos'!KR59:LC59)","v":1806.6752649999996},{"$f":"SUM('II fisicos'!LD59:LO59)","v":4333.8223339999995},{"$f":"SUM('II fisicos'!LP59:MA59)","v":1546.3392330000001},"-","-"]
[null,"Portugal","Aldeadávila-Pocinho 1",{"$f":"SUM('II fisicos'!D60:O60)","v":643.73399999999992},{"$f":"SUM('II fisicos'!P60:AA60)","v":687.90800000000013},{"$f":"SUM('II fisicos'!AB60:AM60)","v":1125.2760000000001},{"$f":"SUM('II fisicos'!AN60:AY60)","v":875.58699999999988},{"$f":"SUM('II fisicos'!AZ60:BK60)","v":885.04700000000003},{"$f":"SUM('II fisicos'!BL60:BW60)","v":1069.037},{"$f":"SUM('II fisicos'!BX60:CI60)","v":476.38299999999998},{"$f":"SUM('II fisicos'!CJ60:CU60)","v":614.64099999999996},{"$f":"SUM('II fisicos'!CV60:DG60)","v":243.39599999999999},{"$f":"SUM('II fisicos'!DH60:DS60)","v":160.869},{"$f":"SUM('II fisicos'!DT60:EE60)","v":397.99804519134238},{"$f":"SUM('II fisicos'!EF60:EQ60)","v":178.71299915721761},{"$f":"SUM('II fisicos'!ER60:FC60)","v":358.50083910723214},{"$f":"SUM('II fisicos'!FD60:FO60)","v":275.11283066188935},{"$f":"SUM('II fisicos'!FP60:GA60)","v":745.58481999999992},{"$f":"SUM('II fisicos'!GB60:GM60)","v":1232.41128},{"$f":"SUM('II fisicos'!GN60:GY60)","v":905.33672000000001},{"$f":"SUM('II fisicos'!GZ60:HK60)","v":865.17250000000013},{"$f":"SUM('II fisicos'!HL60:HW60)","v":1089.5281},{"$f":"SUM('II fisicos'!HX60:II60)","v":693.8033999999999},{"$f":"SUM('II fisicos'!IJ60:IU60)","v":205.90839999999997},{"$f":"SUM('II fisicos'!IV60:JG60)","v":447.52957999999995},{"$f":"SUM('II fisicos'!JH60:JS60)","v":576.39660000000003},{"$f":"SUM('II fisicos'!JT60:KE60)","v":360.9298},{"$f":"SUM('II fisicos'!KF60:KQ60)","v":373.68984999999992},{"$f":"SUM('II fisicos'!KR60:LC60)","v":437.245},{"$f":"SUM('II fisicos'!LD60:LO60)","v":192.99800000000002},{"$f":"SUM('II fisicos'!LP60:MA60)","v":143.60309999999998},"-","-"]
[null,null,"Aldeadávila-Pocinho 2",{"$f":"SUM('II fisicos'!D61:O61)","v":171.75200000000001},{"$f":"SUM('II fisicos'!P61:AA61)","v":178.626},{"$f":"SUM('II fisicos'!AB61:AM61)","v":457.08699999999993},{"$f":"SUM('II fisicos'!AN61:AY61)","v":248.53599999999994},{"$f":"SUM('II fisicos'!AZ61:BK61)","v":271.83},{"$f":"SUM('II fisicos'!BL61:BW61)","v":413.15800000000007},{"$f":"SUM('II fisicos'!BX61:CI61)","v":150.55499999999998},{"$f":"SUM('II fisicos'!CJ61:CU61)","v":161.40700000000004},{"$f":"SUM('II fisicos'!CV61:DG61)","v":54.305},{"$f":"SUM('II fisicos'!DH61:DS61)","v":61.006000000000007},{"$f":"SUM('II fisicos'!DT61:EE61)","v":121.93209489527207},{"$f":"SUM('II fisicos'!EF61:EQ61)","v":22.09},{"$f":"SUM('II fisicos'!ER61:FC61)","v":152.21205911085175},{"$f":"SUM('II fisicos'!FD61:FO61)","v":105.46586406097406},{"$f":"SUM('II fisicos'!FP61:GA61)","v":192.00922000000003},{"$f":"SUM('II fisicos'!GB61:GM61)","v":437.78703999999999},{"$f":"SUM('II fisicos'!GN61:GY61)","v":352.96165999999999},{"$f":"SUM('II fisicos'!GZ61:HK61)","v":208.2226},{"$f":"SUM('II fisicos'!HL61:HW61)","v":416.13640000000004},{"$f":"SUM('II fisicos'!HX61:II61)","v":234.51659999999998},{"$f":"SUM('II fisicos'!IJ61:IU61)","v":175.36610000000002},{"$f":"SUM('II fisicos'!IV61:JG61)","v":444.29554000000002},{"$f":"SUM('II fisicos'!JH61:JS61)","v":568.16219999999998},{"$f":"SUM('II fisicos'!JT61:KE61)","v":358.79880000000003},{"$f":"SUM('II fisicos'!KF61:KQ61)","v":356.86163000000005},{"$f":"SUM('II fisicos'!KR61:LC61)","v":435.15430000000003},{"$f":"SUM('II fisicos'!LD61:LO61)","v":126.89013},{"$f":"SUM('II fisicos'!LP61:MA61)","v":142.17789999999999},"-","-"]
[null,null,"Aldeadávila-Lagoaça",{"$f":"SUM('II fisicos'!D62:O62)","v":0},{"$f":"SUM('II fisicos'!P62:AA62)","v":0},{"$f":"SUM('II fisicos'!AB62:AM62)","v":0},{"$f":"SUM('II fisicos'!AN62:AY62)","v":0},{"$f":"SUM('II fisicos'!AZ62:BK62)","v":0},{"$f":"SUM('II fisicos'!BL62:BW62)","v":0},{"$f":"SUM('II fisicos'!BX62:CI62)","v":0},{"$f":"SUM('II fisicos'!CJ62:CU62)","v":0},{"$f":"SUM('II fisicos'!CV62:DG62)","v":0},{"$f":"SUM('II fisicos'!DH62:DS62)","v":0},{"$f":"SUM('II fisicos'!DT62:EE62)","v":0},{"$f":"SUM('II fisicos'!EF62:EQ62)","v":0},{"$f":"SUM('II fisicos'!ER62:FC62)","v":0},{"$f":"SUM('II fisicos'!FD62:FO62)","v":0},{"$f":"SUM('II fisicos'!FP62:GA62)","v":0},{"$f":"SUM('II fisicos'!GB62:GM62)","v":0},{"$f":"SUM('II fisicos'!GN62:GY62)","v":0},{"$f":"SUM('II fisicos'!GZ62:HK62)","v":0},{"$f":"SUM('II fisicos'!HL62:HW62)","v":0},{"$f":"SUM('II fisicos'!HX62:II62)","v":0},{"$f":"SUM('II fisicos'!IJ62:IU62)","v":0},{"$f":"SUM('II fisicos'!IV62:JG62)","v":447.42237000000006},{"$f":"SUM('II fisicos'!JH62:JS62)","v":1065.2713920000001},{"$f":"SUM('II fisicos'!JT62:KE62)","v":473.057928},{"$f":"SUM('II fisicos'!KF62:KQ62)","v":408.91737599999999},{"$f":"SUM('II fisicos'!KR62:LC62)","v":551.00930400000004},{"$f":"SUM('II fisicos'!LD62:LO62)","v":281.71713599999998},{"$f":"SUM('II fisicos'!LP62:MA62)","v":349.77916799999997},"-","-"]
[null,null,"Badajoz-Alcaçovas",{"$f":"SUM('II fisicos'!D63:O63)","v":0},{"$f":"SUM('II fisicos'!P63:AA63)","v":0},{"$f":"SUM('II fisicos'!AB63:AM63)","v":0},{"$f":"SUM('II fisicos'!AN63:AY63)","v":0},{"$f":"SUM('II fisicos'!AZ63:BK63)","v":0},{"$f":"SUM('II fisicos'!BL63:BW63)","v":0},{"$f":"SUM('II fisicos'!BX63:CI63)","v":0},{"$f":"SUM('II fisicos'!CJ63:CU63)","v":0},{"$f":"SUM('II fisicos'!CV63:DG63)","v":0},{"$f":"SUM('II fisicos'!DH63:DS63)","v":0},{"$f":"SUM('II fisicos'!DT63:EE63)","v":0},{"$f":"SUM('II fisicos'!EF63:EQ63)","v":0},{"$f":"SUM('II fisicos'!ER63:FC63)","v":0},{"$f":"SUM('II fisicos'!FD63:FO63)","v":0},{"$f":"SUM('II fisicos'!FP63:GA63)","v":0},{"$f":"SUM('II fisicos'!GB63:GM63)","v":160.08099099999998},{"$f":"SUM('II fisicos'!GN63:GY63)","v":153.43489299999999},{"$f":"SUM('II fisicos'!GZ63:HK63)","v":166.297292},{"$f":"SUM('II fisicos'!HL63:HW63)","v":159.01893699999999},{"$f":"SUM('II fisicos'!HX63:II63)","v":171.48440499999998},{"$f":"SUM('II fisicos'!IJ63:IU63)","v":156.760459},{"$f":"SUM('II fisicos'!IV63:JG63)","v":58.516978999999992},{"$f":"SUM('II fisicos'!JH63:JS63)","v":0.98446599999999984},{"$f":"SUM('II fisicos'!JT63:KE63)","v":6.0610000000000004E-3},{"$f":"SUM('II fisicos'!KF63:KQ63)","v":7.1210000000000006E-3},{"$f":"SUM('II fisicos'!KR63:LC63)","v":5.555E-3},{"$f":"SUM('II fisicos'!LD63:LO63)","v":5.7680000000000006E-3},{"$f":"SUM('II fisicos'!LP63:MA63)","v":3.0079999999999998E-3},"-","-"]
[null,null,"Balboa-Alqueva",{"$f":"SUM('II fisicos'!D64:O64)","v":0},{"$f":"SUM('II fisicos'!P64:AA64)","v":0},{"$f":"SUM('II fisicos'!AB64:AM64)","v":0},{"$f":"SUM('II fisicos'!AN64:AY64)","v":0},{"$f":"SUM('II fisicos'!AZ64:BK64)","v":0},{"$f":"SUM('II fisicos'!BL64:BW64)","v":0},{"$f":"SUM('II fisicos'!BX64:CI64)","v":0},{"$f":"SUM('II fisicos'!CJ64:CU64)","v":0},{"$f":"SUM('II fisicos'!CV64:DG64)","v":0},{"$f":"SUM('II fisicos'!DH64:DS64)","v":0},{"$f":"SUM('II fisicos'!DT64:EE64)","v":0},{"$f":"SUM('II fisicos'!EF64:EQ64)","v":0},{"$f":"SUM('II fisicos'!ER64:FC64)","v":0},{"$f":"SUM('II fisicos'!FD64:FO64)","v":0},{"$f":"SUM('II fisicos'!FP64:GA64)","v":0},{"$f":"SUM('II fisicos'!GB64:GM64)","v":33.808129000000001},{"$f":"SUM('II fisicos'!GN64:GY64)","v":102.25491700000001},{"$f":"SUM('II fisicos'!GZ64:HK64)","v":0},{"$f":"SUM('II fisicos'!HL64:HW64)","v":0},{"$f":"SUM('II fisicos'!HX64:II64)","v":0},{"$f":"SUM('II fisicos'!IJ64:IU64)","v":0},{"$f":"SUM('II fisicos'!IV64:JG64)","v":0},{"$f":"SUM('II fisicos'!JH64:JS64)","v":0},{"$f":"SUM('II fisicos'!JT64:KE64)","v":0},{"$f":"SUM('II fisicos'!KF64:KQ64)","v":0},{"$f":"SUM('II fisicos'!KR64:LC64)","v":0},{"$f":"SUM('II fisicos'!LD64:LO64)","v":0},{"$f":"SUM('II fisicos'!LP64:MA64)","v":0},"-","-"]
[null,null,"Brovales-Alqueva",{"$f":"SUM('II fisicos'!D65:O65)","v":0},{"$f":"SUM('II fisicos'!P65:AA65)","v":0},{"$f":"SUM('II fisicos'!AB65:AM65)","v":0},{"$f":"SUM('II fisicos'!AN65:AY65)","v":0},{"$f":"SUM('II fisicos'!AZ65:BK65)","v":0},{"$f":"SUM('II fisicos'!BL65:BW65)","v":0},{"$f":"SUM('II fisicos'!BX65:CI65)","v":0},{"$f":"SUM('II fisicos'!CJ65:CU65)","v":0},{"$f":"SUM('II fisicos'!CV65:DG65)","v":0},{"$f":"SUM('II fisicos'!DH65:DS65)","v":0},{"$f":"SUM('II fisicos'!DT65:EE65)","v":0},{"$f":"SUM('II fisicos'!EF65:EQ65)","v":0},{"$f":"SUM('II fisicos'!ER65:FC65)","v":0},{"$f":"SUM('II fisicos'!FD65:FO65)","v":0},{"$f":"SUM('II fisicos'!FP65:GA65)","v":0},{"$f":"SUM('II fisicos'!GB65:GM65)","v":0},{"$f":"SUM('II fisicos'!GN65:GY65)","v":0},{"$f":"SUM('II fisicos'!GZ65:HK65)","v":272.94761200000005},{"$f":"SUM('II fisicos'!HL65:HW65)","v":600.92103699999996},{"$f":"SUM('II fisicos'!HX65:II65)","v":162.15892100000002},{"$f":"SUM('II fisicos'!IJ65:IU65)","v":627.24507999999992},{"$f":"SUM('II fisicos'!IV65:JG65)","v":345.74558799999994},{"$f":"SUM('II fisicos'!JH65:JS65)","v":265.97265199999998},{"$f":"SUM('II fisicos'!JT65:KE65)","v":270.60432800000001},{"$f":"SUM('II fisicos'!KF65:KQ65)","v":300.70739000000003},{"$f":"SUM('II fisicos'!KR65:LC65)","v":333.25560899999994},{"$f":"SUM('II fisicos'!LD65:LO65)","v":246.30507999999998},{"$f":"SUM('II fisicos'!LP65:MA65)","v":129.419589},"-","-"]
[null,null,"Cartelle-Lindoso",{"$f":"SUM('II fisicos'!D66:O66)","v":0},{"$f":"SUM('II fisicos'!P66:AA66)","v":0},{"$f":"SUM('II fisicos'!AB66:AM66)","v":0},{"$f":"SUM('II fisicos'!AN66:AY66)","v":0},{"$f":"SUM('II fisicos'!AZ66:BK66)","v":0},{"$f":"SUM('II fisicos'!BL66:BW66)","v":18.440000000000001},{"$f":"SUM('II fisicos'!BX66:CI66)","v":2191.1289999999999},{"$f":"SUM('II fisicos'!CJ66:CU66)","v":3323.0360000000001},{"$f":"SUM('II fisicos'!CV66:DG66)","v":2916.0800000000004},{"$f":"SUM('II fisicos'!DH66:DS66)","v":3047.0070000000001},{"$f":"SUM('II fisicos'!DT66:EE66)","v":3794.635663682523},{"$f":"SUM('II fisicos'!EF66:EQ66)","v":2680.8103365711659},{"$f":"SUM('II fisicos'!ER66:FC66)","v":4274.3330951220014},{"$f":"SUM('II fisicos'!FD66:FO66)","v":4806.2397778983714},{"$f":"SUM('II fisicos'!FP66:GA66)","v":6532.0934930000003},{"$f":"SUM('II fisicos'!GB66:GM66)","v":6518.7645000000002},{"$f":"SUM('II fisicos'!GN66:GY66)","v":6120.631699999999},{"$f":"SUM('II fisicos'!GZ66:HK66)","v":6569.6935999999996},{"$f":"SUM('II fisicos'!HL66:HW66)","v":6339.8027000000002},{"$f":"SUM('II fisicos'!HX66:II66)","v":5182.0976799999999},{"$f":"SUM('II fisicos'!IJ66:IU66)","v":2872.4453000000003},{"$f":"SUM('II fisicos'!IV66:JG66)","v":3771.8710000000001},{"$f":"SUM('II fisicos'!JH66:JS66)","v":7045.0932000000003},{"$f":"SUM('II fisicos'!JT66:KE66)","v":5517.5859},{"$f":"SUM('II fisicos'!KF66:KQ66)","v":4690.5196000000005},{"$f":"SUM('II fisicos'!KR66:LC66)","v":5350.2435000000005},{"$f":"SUM('II fisicos'!LD66:LO66)","v":3221.5092999999997},{"$f":"SUM('II fisicos'!LP66:MA66)","v":2253.2105000000001},"-","-"]
[null,null,"Cedillo-Falagueira",{"$f":"SUM('II fisicos'!D67:O67)","v":285.59199999999998},{"$f":"SUM('II fisicos'!P67:AA67)","v":189.43399999999997},{"$f":"SUM('II fisicos'!AB67:AM67)","v":91.782000000000011},{"$f":"SUM('II fisicos'!AN67:AY67)","v":306.24099999999999},{"$f":"SUM('II fisicos'!AZ67:BK67)","v":192.18299999999999},{"$f":"SUM('II fisicos'!BL67:BW67)","v":116.12100000000001},{"$f":"SUM('II fisicos'!BX67:CI67)","v":707.64999999999986},{"$f":"SUM('II fisicos'!CJ67:CU67)","v":547.92100000000005},{"$f":"SUM('II fisicos'!CV67:DG67)","v":303.16500000000002},{"$f":"SUM('II fisicos'!DH67:DS67)","v":10.361999999999998},{"$f":"SUM('II fisicos'!DT67:EE67)","v":50.051000000000002},{"$f":"SUM('II fisicos'!EF67:EQ67)","v":201.87750994354218},{"$f":"SUM('II fisicos'!ER67:FC67)","v":126.63103570237462},{"$f":"SUM('II fisicos'!FD67:FO67)","v":176.67784064726095},{"$f":"SUM('II fisicos'!FP67:GA67)","v":190.71489600000004},{"$f":"SUM('II fisicos'!GB67:GM67)","v":177.56208000000001},{"$f":"SUM('II fisicos'!GN67:GY67)","v":182.41189999999997},{"$f":"SUM('II fisicos'!GZ67:HK67)","v":688.53129999999987},{"$f":"SUM('II fisicos'!HL67:HW67)","v":1125.8552000000002},{"$f":"SUM('II fisicos'!HX67:II67)","v":599.13779999999997},{"$f":"SUM('II fisicos'!IJ67:IU67)","v":1377.0800999999999},{"$f":"SUM('II fisicos'!IV67:JG67)","v":733.0915},{"$f":"SUM('II fisicos'!JH67:JS67)","v":580.20809999999994},{"$f":"SUM('II fisicos'!JT67:KE67)","v":622.10419999999999},{"$f":"SUM('II fisicos'!KF67:KQ67)","v":572.01749999999993},{"$f":"SUM('II fisicos'!KR67:LC67)","v":318.27370000000002},{"$f":"SUM('II fisicos'!LD67:LO67)","v":200.55419999999998},{"$f":"SUM('II fisicos'!LP67:MA67)","v":145.87389999999999},"-","-"]
[null,null,"Conchas-Lindoso",{"$f":"SUM('II fisicos'!D68:O68)","v":5.4499999999999993},{"$f":"SUM('II fisicos'!P68:AA68)","v":10.870000000000001},{"$f":"SUM('II fisicos'!AB68:AM68)","v":0},{"$f":"SUM('II fisicos'!AN68:AY68)","v":0},{"$f":"SUM('II fisicos'!AZ68:BK68)","v":0},{"$f":"SUM('II fisicos'!BL68:BW68)","v":2.1},{"$f":"SUM('II fisicos'!BX68:CI68)","v":0},{"$f":"SUM('II fisicos'!CJ68:CU68)","v":6.88},{"$f":"SUM('II fisicos'!CV68:DG68)","v":2.7600000000000002},{"$f":"SUM('II fisicos'!DH68:DS68)","v":1.4999999999999999E-2},{"$f":"SUM('II fisicos'!DT68:EE68)","v":1.7999999999999999E-2},{"$f":"SUM('II fisicos'!EF68:EQ68)","v":303.38600000000002},{"$f":"SUM('II fisicos'!ER68:FC68)","v":0},{"$f":"SUM('II fisicos'!FD68:FO68)","v":1.0028611665297501E-2},{"$f":"SUM('II fisicos'!FP68:GA68)","v":0},{"$f":"SUM('II fisicos'!GB68:GM68)","v":0},{"$f":"SUM('II fisicos'!GN68:GY68)","v":0},{"$f":"SUM('II fisicos'!GZ68:HK68)","v":0},{"$f":"SUM('II fisicos'!HL68:HW68)","v":0},{"$f":"SUM('II fisicos'!HX68:II68)","v":0},{"$f":"SUM('II fisicos'!IJ68:IU68)","v":0},{"$f":"SUM('II fisicos'!IV68:JG68)","v":0},{"$f":"SUM('II fisicos'!JH68:JS68)","v":0},{"$f":"SUM('II fisicos'!JT68:KE68)","v":0},{"$f":"SUM('II fisicos'!KF68:KQ68)","v":0},{"$f":"SUM('II fisicos'!KR68:LC68)","v":0},{"$f":"SUM('II fisicos'!LD68:LO68)","v":0},{"$f":"SUM('II fisicos'!LP68:MA68)","v":0},"-","-"]
[null,null,"Encinasola-Barrancos",{"$f":"SUM('II fisicos'!D69:O69)","v":0},{"$f":"SUM('II fisicos'!P69:AA69)","v":0},{"$f":"SUM('II fisicos'!AB69:AM69)","v":0},{"$f":"SUM('II fisicos'!AN69:AY69)","v":0},{"$f":"SUM('II fisicos'!AZ69:BK69)","v":0},{"$f":"SUM('II fisicos'!BL69:BW69)","v":0},{"$f":"SUM('II fisicos'!BX69:CI69)","v":0},{"$f":"SUM('II fisicos'!CJ69:CU69)","v":0.79499999999999993},{"$f":"SUM('II fisicos'!CV69:DG69)","v":1.915},{"$f":"SUM('II fisicos'!DH69:DS69)","v":2.5910000000000002},{"$f":"SUM('II fisicos'!DT69:EE69)","v":1.7255932585195997},{"$f":"SUM('II fisicos'!EF69:EQ69)","v":1.8980000000000001},{"$f":"SUM('II fisicos'!ER69:FC69)","v":0.111},{"$f":"SUM('II fisicos'!FD69:FO69)","v":0.30602862077741988},{"$f":"SUM('II fisicos'!FP69:GA69)","v":1.5429E-2},{"$f":"SUM('II fisicos'!GB69:GM69)","v":0},{"$f":"SUM('II fisicos'!GN69:GY69)","v":2.0712000000000001E-2},{"$f":"SUM('II fisicos'!GZ69:HK69)","v":2.1731E-2},{"$f":"SUM('II fisicos'!HL69:HW69)","v":1.1682E-2},{"$f":"SUM('II fisicos'!HX69:II69)","v":2.9194999999999999E-2},{"$f":"SUM('II fisicos'!IJ69:IU69)","v":0},{"$f":"SUM('II fisicos'!IV69:JG69)","v":0},{"$f":"SUM('II fisicos'!JH69:JS69)","v":0},{"$f":"SUM('II fisicos'!JT69:KE69)","v":0},{"$f":"SUM('II fisicos'!KF69:KQ69)","v":0},{"$f":"SUM('II fisicos'!KR69:LC69)","v":0},{"$f":"SUM('II fisicos'!LD69:LO69)","v":0},{"$f":"SUM('II fisicos'!LP69:MA69)","v":0},"-","-"]
[null,null,"Puebla de Guzmán-Tavira",{"$f":"SUM('II fisicos'!D70:O70)","v":0},{"$f":"SUM('II fisicos'!P70:AA70)","v":0},{"$f":"SUM('II fisicos'!AB70:AM70)","v":0},{"$f":"SUM('II fisicos'!AN70:AY70)","v":0},{"$f":"SUM('II fisicos'!AZ70:BK70)","v":0},{"$f":"SUM('II fisicos'!BL70:BW70)","v":0},{"$f":"SUM('II fisicos'!BX70:CI70)","v":0},{"$f":"SUM('II fisicos'!CJ70:CU70)","v":0},{"$f":"SUM('II fisicos'!CV70:DG70)","v":0},{"$f":"SUM('II fisicos'!DH70:DS70)","v":0},{"$f":"SUM('II fisicos'!DT70:EE70)","v":0},{"$f":"SUM('II fisicos'!EF70:EQ70)","v":0},{"$f":"SUM('II fisicos'!ER70:FC70)","v":0},{"$f":"SUM('II fisicos'!FD70:FO70)","v":0},{"$f":"SUM('II fisicos'!FP70:GA70)","v":0},{"$f":"SUM('II fisicos'!GB70:GM70)","v":0},{"$f":"SUM('II fisicos'!GN70:GY70)","v":0},{"$f":"SUM('II fisicos'!GZ70:HK70)","v":0},{"$f":"SUM('II fisicos'!HL70:HW70)","v":0},{"$f":"SUM('II fisicos'!HX70:II70)","v":0},{"$f":"SUM('II fisicos'!IJ70:IU70)","v":0},{"$f":"SUM('II fisicos'!IV70:JG70)","v":0},{"$f":"SUM('II fisicos'!JH70:JS70)","v":0},{"$f":"SUM('II fisicos'!JT70:KE70)","v":0},{"$f":"SUM('II fisicos'!KF70:KQ70)","v":14.953003000000001},{"$f":"SUM('II fisicos'!KR70:LC70)","v":66.709676999999999},{"$f":"SUM('II fisicos'!LD70:LO70)","v":28.123321000000001},{"$f":"SUM('II fisicos'!LP70:MA70)","v":22.592376999999999},"-","-"]
[null,null,"Rosal Frontera-V. Ficalho",{"$f":"SUM('II fisicos'!D71:O71)","v":0},{"$f":"SUM('II fisicos'!P71:AA71)","v":0},{"$f":"SUM('II fisicos'!AB71:AM71)","v":0},{"$f":"SUM('II fisicos'!AN71:AY71)","v":0},{"$f":"SUM('II fisicos'!AZ71:BK71)","v":0},{"$f":"SUM('II fisicos'!BL71:BW71)","v":0},{"$f":"SUM('II fisicos'!BX71:CI71)","v":0},{"$f":"SUM('II fisicos'!CJ71:CU71)","v":1E-3},{"$f":"SUM('II fisicos'!CV71:DG71)","v":2.7999999999999997E-2},{"$f":"SUM('II fisicos'!DH71:DS71)","v":1.4E-2},{"$f":"SUM('II fisicos'!DT71:EE71)","v":1E-3},{"$f":"SUM('II fisicos'!EF71:EQ71)","v":3.0000000000000001E-3},{"$f":"SUM('II fisicos'!ER71:FC71)","v":0},{"$f":"SUM('II fisicos'!FD71:FO71)","v":1E-3},{"$f":"SUM('II fisicos'!FP71:GA71)","v":0},{"$f":"SUM('II fisicos'!GB71:GM71)","v":0},{"$f":"SUM('II fisicos'!GN71:GY71)","v":0},{"$f":"SUM('II fisicos'!GZ71:HK71)","v":0},{"$f":"SUM('II fisicos'!HL71:HW71)","v":0},{"$f":"SUM('II fisicos'!HX71:II71)","v":0},{"$f":"SUM('II fisicos'!IJ71:IU71)","v":0},{"$f":"SUM('II fisicos'!IV71:JG71)","v":0},{"$f":"SUM('II fisicos'!JH71:JS71)","v":0},{"$f":"SUM('II fisicos'!JT71:KE71)","v":0},{"$f":"SUM('II fisicos'!KF71:KQ71)","v":0},{"$f":"SUM('II fisicos'!KR71:LC71)","v":0},{"$f":"SUM('II fisicos'!LD71:LO71)","v":0},{"$f":"SUM('II fisicos'!LP71:MA71)","v":0},"-","-"]
[null,null,"Saucelle-Pocinho",{"$f":"SUM('II fisicos'!D72:O72)","v":626.74300000000005},{"$f":"SUM('II fisicos'!P72:AA72)","v":645.45499999999993},{"$f":"SUM('II fisicos'!AB72:AM72)","v":861.37200000000007},{"$f":"SUM('II fisicos'!AN72:AY72)","v":566.50199999999995},{"$f":"SUM('II fisicos'!AZ72:BK72)","v":830.0390000000001},{"$f":"SUM('II fisicos'!BL72:BW72)","v":954.1389999999999},{"$f":"SUM('II fisicos'!BX72:CI72)","v":496.35099999999994},{"$f":"SUM('II fisicos'!CJ72:CU72)","v":628.61300000000006},{"$f":"SUM('II fisicos'!CV72:DG72)","v":352.04700000000003},{"$f":"SUM('II fisicos'!DH72:DS72)","v":239.53},{"$f":"SUM('II fisicos'!DT72:EE72)","v":222.63500000000002},{"$f":"SUM('II fisicos'!EF72:EQ72)","v":242.62941556481471},{"$f":"SUM('II fisicos'!ER72:FC72)","v":369.09388271727221},{"$f":"SUM('II fisicos'!FD72:FO72)","v":466.60344274001392},{"$f":"SUM('II fisicos'!FP72:GA72)","v":790.01211600000022},{"$f":"SUM('II fisicos'!GB72:GM72)","v":1069.2708459999999},{"$f":"SUM('II fisicos'!GN72:GY72)","v":816.28346199999999},{"$f":"SUM('II fisicos'!GZ72:HK72)","v":878.6277},{"$f":"SUM('II fisicos'!HL72:HW72)","v":1021.3615000000001},{"$f":"SUM('II fisicos'!HX72:II72)","v":565.94150000000002},{"$f":"SUM('II fisicos'!IJ72:IU72)","v":408.54109999999997},{"$f":"SUM('II fisicos'!IV72:JG72)","v":495.39688999999998},{"$f":"SUM('II fisicos'!JH72:JS72)","v":665.53060000000005},{"$f":"SUM('II fisicos'!JT72:KE72)","v":497.03219999999999},{"$f":"SUM('II fisicos'!KF72:KQ72)","v":529.75062000000003},{"$f":"SUM('II fisicos'!KR72:LC72)","v":585.21420000000001},{"$f":"SUM('II fisicos'!LD72:LO72)","v":317.4117},{"$f":"SUM('II fisicos'!LP72:MA72)","v":201.29699999999997},"-","-"]
[null,null,"Santa María-Elvás",{"$f":"SUM('II fisicos'!D73:O73)","v":0},{"$f":"SUM('II fisicos'!P73:AA73)","v":0},{"$f":"SUM('II fisicos'!AB73:AM73)","v":3.052},{"$f":"SUM('II fisicos'!AN73:AY73)","v":80.661000000000001},{"$f":"SUM('II fisicos'!AZ73:BK73)","v":76.667999999999992},{"$f":"SUM('II fisicos'!BL73:BW73)","v":82.164000000000001},{"$f":"SUM('II fisicos'!BX73:CI73)","v":93.707999999999998},{"$f":"SUM('II fisicos'!CJ73:CU73)","v":94.346999999999994},{"$f":"SUM('II fisicos'!CV73:DG73)","v":97.137000000000015},{"$f":"SUM('II fisicos'!DH73:DS73)","v":106.70100000000002},{"$f":"SUM('II fisicos'!DT73:EE73)","v":108.53760297234253},{"$f":"SUM('II fisicos'!EF73:EQ73)","v":111.38073876325984},{"$f":"SUM('II fisicos'!ER73:FC73)","v":47.753088240268426},{"$f":"SUM('II fisicos'!FD73:FO73)","v":67.750186759046642},{"$f":"SUM('II fisicos'!FP73:GA73)","v":80.421407000000002},{"$f":"SUM('II fisicos'!GB73:GM73)","v":0},{"$f":"SUM('II fisicos'!GN73:GY73)","v":0},{"$f":"SUM('II fisicos'!GZ73:HK73)","v":0},{"$f":"SUM('II fisicos'!HL73:HW73)","v":0},{"$f":"SUM('II fisicos'!HX73:II73)","v":0},{"$f":"SUM('II fisicos'!IJ73:IU73)","v":0},{"$f":"SUM('II fisicos'!IV73:JG73)","v":0},{"$f":"SUM('II fisicos'!JH73:JS73)","v":0},{"$f":"SUM('II fisicos'!JT73:KE73)","v":0},{"$f":"SUM('II fisicos'!KF73:KQ73)","v":0},{"$f":"SUM('II fisicos'!KR73:LC73)","v":0},{"$f":"SUM('II fisicos'!LD73:LO73)","v":0},{"$f":"SUM('II fisicos'!LP73:MA73)","v":0},"-","-"]
[null,null,"Total",{"$f":"SUM('II fisicos'!D74:O74)","v":1733.2710000000002},{"$f":"SUM('II fisicos'!P74:AA74)","v":1712.2929999999997},{"$f":"SUM('II fisicos'!AB74:AM74)","v":2538.569},{"$f":"SUM('II fisicos'!AN74:AY74)","v":2077.527},{"$f":"SUM('II fisicos'!AZ74:BK74)","v":2255.7670000000003},{"$f":"SUM('II fisicos'!BL74:BW74)","v":2655.1590000000001},{"$f":"SUM('II fisicos'!BX74:CI74)","v":4115.7759999999998},{"$f":"SUM('II fisicos'!CJ74:CU74)","v":5377.6409999999996},{"$f":"SUM('II fisicos'!CV74:DG74)","v":3970.8329999999996},{"$f":"SUM('II fisicos'!DH74:DS74)","v":3628.0950000000003},{"$f":"SUM('II fisicos'!DT74:EE74)","v":4697.5339999999997},{"$f":"SUM('II fisicos'!EF74:EQ74)","v":3742.7879999999996},{"$f":"SUM('II fisicos'!ER74:FC74)","v":5328.6350000000002},{"$f":"SUM('II fisicos'!FD74:FO74)","v":5898.1669999999995},{"$f":"SUM('II fisicos'!FP74:GA74)","v":8530.8513809999986},{"$f":"SUM('II fisicos'!GB74:GM74)","v":9629.6848660000014},{"$f":"SUM('II fisicos'!GN74:GY74)","v":8633.3359639999999},{"$f":"SUM('II fisicos'!GZ74:HK74)","v":9649.5143350000017},{"$f":"SUM('II fisicos'!HL74:HW74)","v":10752.635555999997},{"$f":"SUM('II fisicos'!HX74:II74)","v":7609.1695010000003},{"$f":"SUM('II fisicos'!IJ74:IU74)","v":5823.3465390000001},{"$f":"SUM('II fisicos'!IV74:JG74)","v":6743.8694469999991},{"$f":"SUM('II fisicos'!JH74:JS74)","v":10767.619210000001},{"$f":"SUM('II fisicos'!JT74:KE74)","v":8100.1192169999995},{"$f":"SUM('II fisicos'!KF74:KQ74)","v":7247.4240900000004},{"$f":"SUM('II fisicos'!KR74:LC74)","v":8077.1108449999992},{"$f":"SUM('II fisicos'!LD74:LO74)","v":4615.5146349999995},{"$f":"SUM('II fisicos'!LP74:MA74)","v":3387.9565420000004},"-","-"]
[null,"Marruecos","Puerto de la Cruz-Mellousa",{"$f":"SUM('II fisicos'!D75:O75)","v":0},{"$f":"SUM('II fisicos'!P75:AA75)","v":0},{"$f":"SUM('II fisicos'!AB75:AM75)","v":0},{"$f":"SUM('II fisicos'!AN75:AY75)","v":0},{"$f":"SUM('II fisicos'!AZ75:BK75)","v":0},{"$f":"SUM('II fisicos'!BL75:BW75)","v":0},{"$f":"SUM('II fisicos'!BX75:CI75)","v":0},{"$f":"SUM('II fisicos'!CJ75:CU75)","v":132.61600000000001},{"$f":"SUM('II fisicos'!CV75:DG75)","v":705.58199999999988},{"$f":"SUM('II fisicos'!DH75:DS75)","v":1810.7249999999999},{"$f":"SUM('II fisicos'!DT75:EE75)","v":2263.0679999999998},{"$f":"SUM('II fisicos'!EF75:EQ75)","v":1579.9689999999998},{"$f":"SUM('II fisicos'!ER75:FC75)","v":1327.49},{"$f":"SUM('II fisicos'!FD75:FO75)","v":1486.3869999999999},{"$f":"SUM('II fisicos'!FP75:GA75)","v":1567.6407360000001},{"$f":"SUM('II fisicos'!GB75:GM75)","v":898.34707200000003},{"$f":"SUM('II fisicos'!GN75:GY75)","v":2030.0010650000002},{"$f":"SUM('II fisicos'!GZ75:HK75)","v":3500.7479000000008},{"$f":"SUM('II fisicos'!HL75:HW75)","v":4226.5012999999999},{"$f":"SUM('II fisicos'!HX75:II75)","v":4596.4483500000006},{"$f":"SUM('II fisicos'!IJ75:IU75)","v":3936.8963900000003},{"$f":"SUM('II fisicos'!IV75:JG75)","v":4510.3970399999998},{"$f":"SUM('II fisicos'!JH75:JS75)","v":4904.1601200000005},{"$f":"SUM('II fisicos'!JT75:KE75)","v":5377.072009999999},{"$f":"SUM('II fisicos'!KF75:KQ75)","v":5838.9516699999995},{"$f":"SUM('II fisicos'!KR75:LC75)","v":4941.0487800000001},{"$f":"SUM('II fisicos'!LD75:LO75)","v":4949.92551},{"$f":"SUM('II fisicos'!LP75:MA75)","v":4723.7118},"-","-"]
[null,null,"Total",{"$f":"SUM('II fisicos'!D76:O76)","v":0},{"$f":"SUM('II fisicos'!P76:AA76)","v":0},{"$f":"SUM('II fisicos'!AB76:AM76)","v":0},{"$f":"SUM('II fisicos'!AN76:AY76)","v":0},{"$f":"SUM('II fisicos'!AZ76:BK76)","v":0},{"$f":"SUM('II fisicos'!BL76:BW76)","v":0},{"$f":"SUM('II fisicos'!BX76:CI76)","v":0},{"$f":"SUM('II fisicos'!CJ76:CU76)","v":132.61600000000001},{"$f":"SUM('II fisicos'!CV76:DG76)","v":705.58199999999988},{"$f":"SUM('II fisicos'!DH76:DS76)","v":1810.7249999999999},{"$f":"SUM('II fisicos'!DT76:EE76)","v":2263.0679999999998},{"$f":"SUM('II fisicos'!EF76:EQ76)","v":1579.9689999999998},{"$f":"SUM('II fisicos'!ER76:FC76)","v":1327.49},{"$f":"SUM('II fisicos'!FD76:FO76)","v":1486.3869999999999},{"$f":"SUM('II fisicos'!FP76:GA76)","v":1567.6407360000001},{"$f":"SUM('II fisicos'!GB76:GM76)","v":898.34707200000003},{"$f":"SUM('II fisicos'!GN76:GY76)","v":2030.0010650000002},{"$f":"SUM('II fisicos'!GZ76:HK76)","v":3500.7479000000008},{"$f":"SUM('II fisicos'!HL76:HW76)","v":4226.5012999999999},{"$f":"SUM('II fisicos'!HX76:II76)","v":4596.4483500000006},{"$f":"SUM('II fisicos'!IJ76:IU76)","v":3936.8963900000003},{"$f":"SUM('II fisicos'!IV76:JG76)","v":4510.3970399999998},{"$f":"SUM('II fisicos'!JH76:JS76)","v":4904.1601200000005},{"$f":"SUM('II fisicos'!JT76:KE76)","v":5377.072009999999},{"$f":"SUM('II fisicos'!KF76:KQ76)","v":5838.9516699999995},{"$f":"SUM('II fisicos'!KR76:LC76)","v":4941.0487800000001},{"$f":"SUM('II fisicos'!LD76:LO76)","v":4949.92551},{"$f":"SUM('II fisicos'!LP76:MA76)","v":4723.7118},"-","-"]
[null,"Salidas",null,{"$f":"SUM('II fisicos'!D77:O77)","v":3627.6689999999999},{"$f":"SUM('II fisicos'!P77:AA77)","v":3762.2310000000002},{"$f":"SUM('II fisicos'!AB77:AM77)","v":3710.5619999999999},{"$f":"SUM('II fisicos'!AN77:AY77)","v":3338.7900000000004},{"$f":"SUM('II fisicos'!AZ77:BK77)","v":3250.8020000000001},{"$f":"SUM('II fisicos'!BL77:BW77)","v":3140.625},{"$f":"SUM('II fisicos'!BX77:CI77)","v":5690.9340000000011},{"$f":"SUM('II fisicos'!CJ77:CU77)","v":7669.8369999999995},{"$f":"SUM('II fisicos'!CV77:DG77)","v":5561.8779999999997},{"$f":"SUM('II fisicos'!DH77:DS77)","v":6239.5210000000006},{"$f":"SUM('II fisicos'!DT77:EE77)","v":7827.1740000000009},{"$f":"SUM('II fisicos'!EF77:EQ77)","v":6744.2000000000007},{"$f":"SUM('II fisicos'!ER77:FC77)","v":7175.2749999999996},{"$f":"SUM('II fisicos'!FD77:FO77)","v":8256.5849999999991},{"$f":"SUM('II fisicos'!FP77:GA77)","v":11138.630407000001},{"$f":"SUM('II fisicos'!GB77:GM77)","v":11554.896912999999},{"$f":"SUM('II fisicos'!GN77:GY77)","v":12372.943322999998},{"$f":"SUM('II fisicos'!GZ77:HK77)","v":14523.250278999998},{"$f":"SUM('II fisicos'!HL77:HW77)","v":16919.853537999999},{"$f":"SUM('II fisicos'!HX77:II77)","v":14857.088433999999},{"$f":"SUM('II fisicos'!IJ77:IU77)","v":13538.931091999999},{"$f":"SUM('II fisicos'!IV77:JG77)","v":14022.571953000002},{"$f":"SUM('II fisicos'!JH77:JS77)","v":18985.727032999999},{"$f":"SUM('II fisicos'!JT77:KE77)","v":16935.798683000001},{"$f":"SUM('II fisicos'!KF77:KQ77)","v":15716.152588000001},{"$f":"SUM('II fisicos'!KR77:LC77)","v":15088.89255},{"$f":"SUM('II fisicos'!LD77:LO77)","v":14177.546889000001},{"$f":"SUM('II fisicos'!LP77:MA77)","v":9817.0678349999998},"-","-"]
[]
[null,"Saldo intercambios internacionales físicos anuales por líneas (GWh)","Líneas",1990,1991,1992,1993,1994,1995,1996,1997,1998,1999,2000,2001,2002,2003,2004,2005,2006,2007,2008,2009,2010,2011,2012,2013,2014,2015,2016,2017,2018,2019]
[null,"Andorra","Adrall-Margineda",{"$f":"SUM('II fisicos'!D80:O80)","v":-18.636999999999997},{"$f":"SUM('II fisicos'!P80:AA80)","v":-48.855999999999995},{"$f":"SUM('II fisicos'!AB80:AM80)","v":-28.521999999999998},{"$f":"SUM('II fisicos'!AN80:AY80)","v":-142.48899999999998},{"$f":"SUM('II fisicos'!AZ80:BK80)","v":-109.22900000000001},{"$f":"SUM('II fisicos'!BL80:BW80)","v":-109.87800000000001},{"$f":"SUM('II fisicos'!BX80:CI80)","v":-127.44900000000003},{"$f":"SUM('II fisicos'!CJ80:CU80)","v":-104.864},{"$f":"SUM('II fisicos'!CV80:DG80)","v":-139.05800000000002},{"$f":"SUM('II fisicos'!DH80:DS80)","v":-212.31300000000002},{"$f":"SUM('II fisicos'!DT80:EE80)","v":-271.959},{"$f":"SUM('II fisicos'!EF80:EQ80)","v":-248.358},{"$f":"SUM('II fisicos'!ER80:FC80)","v":-291.75100000000003},{"$f":"SUM('II fisicos'!FD80:FO80)","v":-269.97700000000003},{"$f":"SUM('II fisicos'!FP80:GA80)","v":-283.49407199999996},{"$f":"SUM('II fisicos'!GB80:GM80)","v":-271.04358100000002},{"$f":"SUM('II fisicos'!GN80:GY80)","v":-229.09539999999996},{"$f":"SUM('II fisicos'!GZ80:HK80)","v":-261.37509},{"$f":"SUM('II fisicos'!HL80:HW80)","v":-278.33433000000002},{"$f":"SUM('II fisicos'!HX80:II80)","v":-299.38658000000004},{"$f":"SUM('II fisicos'!IJ80:IU80)","v":-264.49410999999998},{"$f":"SUM('II fisicos'!IV80:JG80)","v":-305.71274000000005},{"$f":"SUM('II fisicos'!JH80:JS80)","v":-286.21727999999996},{"$f":"SUM('II fisicos'!JT80:KE80)","v":-287.39792},{"$f":"SUM('II fisicos'!KF80:KQ80)","v":-234.50584000000001},{"$f":"SUM('II fisicos'!KR80:LC80)","v":-264.05143000000004},{"$f":"SUM('II fisicos'!LD80:LO80)","v":-278.28043000000002},{"$f":"SUM('II fisicos'!LP80:MA80)","v":-159.04378},"-","-"]
[null,null,"Total",{"$f":"SUM('II fisicos'!D81:O81)","v":-18.636999999999997},{"$f":"SUM('II fisicos'!P81:AA81)","v":-48.855999999999995},{"$f":"SUM('II fisicos'!AB81:AM81)","v":-28.521999999999998},{"$f":"SUM('II fisicos'!AN81:AY81)","v":-142.48899999999998},{"$f":"SUM('II fisicos'!AZ81:BK81)","v":-109.22900000000001},{"$f":"SUM('II fisicos'!BL81:BW81)","v":-109.87800000000001},{"$f":"SUM('II fisicos'!BX81:CI81)","v":-127.44900000000003},{"$f":"SUM('II fisicos'!CJ81:CU81)","v":-104.864},{"$f":"SUM('II fisicos'!CV81:DG81)","v":-139.05800000000002},{"$f":"SUM('II fisicos'!DH81:DS81)","v":-212.31300000000002},{"$f":"SUM('II fisicos'!DT81:EE81)","v":-271.959},{"$f":"SUM('II fisicos'!EF81:EQ81)","v":-248.358},{"$f":"SUM('II fisicos'!ER81:FC81)","v":-291.75100000000003},{"$f":"SUM('II fisicos'!FD81:FO81)","v":-269.97700000000003},{"$f":"SUM('II fisicos'!FP81:GA81)","v":-283.49407199999996},{"$f":"SUM('II fisicos'!GB81:GM81)","v":-271.04358100000002},{"$f":"SUM('II fisicos'!GN81:GY81)","v":-229.09539999999996},{"$f":"SUM('II fisicos'!GZ81:HK81)","v":-261.37509},{"$f":"SUM('II fisicos'!HL81:HW81)","v":-278.33433000000002},{"$f":"SUM('II fisicos'!HX81:II81)","v":-299.38658000000004},{"$f":"SUM('II fisicos'!IJ81:IU81)","v":-264.49410999999998},{"$f":"SUM('II fisicos'!IV81:JG81)","v":-305.71274000000005},{"$f":"SUM('II fisicos'!JH81:JS81)","v":-286.21727999999996},{"$f":"SUM('II fisicos'!JT81:KE81)","v":-287.39792},{"$f":"SUM('II fisicos'!KF81:KQ81)","v":-234.50584000000001},{"$f":"SUM('II fisicos'!KR81:LC81)","v":-264.05143000000004},{"$f":"SUM('II fisicos'!LD81:LO81)","v":-278.28043000000002},{"$f":"SUM('II fisicos'!LP81:MA81)","v":-159.04378},"-","-"]
[null,"Francia","Arkale-Argia",{"$f":"SUM('II fisicos'!D82:O82)","v":-677.66300000000001},{"$f":"SUM('II fisicos'!P82:AA82)","v":-667.50100000000009},{"$f":"SUM('II fisicos'!AB82:AM82)","v":-430.91199999999998},{"$f":"SUM('II fisicos'!AN82:AY82)","v":-552.60400000000004},{"$f":"SUM('II fisicos'!AZ82:BK82)","v":-471.38400000000001},{"$f":"SUM('II fisicos'!BL82:BW82)","v":-207.32599999999999},{"$f":"SUM('II fisicos'!BX82:CI82)","v":-420.25000000000006},{"$f":"SUM('II fisicos'!CJ82:CU82)","v":-821.26},{"$f":"SUM('II fisicos'!CV82:DG82)","v":-640.15700000000004},{"$f":"SUM('II fisicos'!DH82:DS82)","v":-526.87299999999993},{"$f":"SUM('II fisicos'!DT82:EE82)","v":-509.09496008539986},{"$f":"SUM('II fisicos'!EF82:EQ82)","v":-772.57690960983155},{"$f":"SUM('II fisicos'!ER82:FC82)","v":290.37529196753945},{"$f":"SUM('II fisicos'!FD82:FO82)","v":217.98246023444835},{"$f":"SUM('II fisicos'!FP82:GA82)","v":141.072395},{"$f":"SUM('II fisicos'!GB82:GM82)","v":-2.4538279999999801},{"$f":"SUM('II fisicos'!GN82:GY82)","v":-165.71501800000001},{"$f":"SUM('II fisicos'!GZ82:HK82)","v":-80.872413999999992},{"$f":"SUM('II fisicos'!HL82:HW82)","v":-18.268776999999993},{"$f":"SUM('II fisicos'!HX82:II82)","v":-393.24487299999998},{"$f":"SUM('II fisicos'!IJ82:IU82)","v":-686.72208499999999},{"$f":"SUM('II fisicos'!IV82:JG82)","v":-266.97237000000001},{"$f":"SUM('II fisicos'!JH82:JS82)","v":-542.76624900000002},{"$f":"SUM('II fisicos'!JT82:KE82)","v":-314.69150199999996},{"$f":"SUM('II fisicos'!KF82:KQ82)","v":-114.54129799999997},{"$f":"SUM('II fisicos'!KR82:LC82)","v":252.391367},{"$f":"SUM('II fisicos'!LD82:LO82)","v":224.45038099999996},{"$f":"SUM('II fisicos'!LP82:MA82)","v":641.15001899999993},"-","-"]
[null,null,"Benós-Lac D'oo",{"$f":"SUM('II fisicos'!D83:O83)","v":-14.025999999999998},{"$f":"SUM('II fisicos'!P83:AA83)","v":-14.66},{"$f":"SUM('II fisicos'!AB83:AM83)","v":0.252},{"$f":"SUM('II fisicos'!AN83:AY83)","v":4.4569999999999999},{"$f":"SUM('II fisicos'!AZ83:BK83)","v":4.0460000000000003},{"$f":"SUM('II fisicos'!BL83:BW83)","v":2.5739999999999998},{"$f":"SUM('II fisicos'!BX83:CI83)","v":-2.7029999999999998},{"$f":"SUM('II fisicos'!CJ83:CU83)","v":6.6790000000000003},{"$f":"SUM('II fisicos'!CV83:DG83)","v":5.4570000000000007},{"$f":"SUM('II fisicos'!DH83:DS83)","v":-0.91599999999999993},{"$f":"SUM('II fisicos'!DT83:EE83)","v":-4.0000000000000008E-2},{"$f":"SUM('II fisicos'!EF83:EQ83)","v":0.51249199158977765},{"$f":"SUM('II fisicos'!ER83:FC83)","v":35.370436101551419},{"$f":"SUM('II fisicos'!FD83:FO83)","v":6.7000000000000004E-2},{"$f":"SUM('II fisicos'!FP83:GA83)","v":2.0759650000000001},{"$f":"SUM('II fisicos'!GB83:GM83)","v":0.20871499999999998},{"$f":"SUM('II fisicos'!GN83:GY83)","v":-0.32882199999999995},{"$f":"SUM('II fisicos'!GZ83:HK83)","v":-6.6913E-2},{"$f":"SUM('II fisicos'!HL83:HW83)","v":1.7245919999999997},{"$f":"SUM('II fisicos'!HX83:II83)","v":-1.1119999999999996E-2},{"$f":"SUM('II fisicos'!IJ83:IU83)","v":0.20816499999999999},{"$f":"SUM('II fisicos'!IV83:JG83)","v":3.9057380000000004},{"$f":"SUM('II fisicos'!JH83:JS83)","v":2.991787},{"$f":"SUM('II fisicos'!JT83:KE83)","v":2.662674},{"$f":"SUM('II fisicos'!KF83:KQ83)","v":1.2165599999999996},{"$f":"SUM('II fisicos'!KR83:LC83)","v":0.30152899999999994},{"$f":"SUM('II fisicos'!LD83:LO83)","v":3.3774459999999999},{"$f":"SUM('II fisicos'!LP83:MA83)","v":0.11227400000000001},"-","-"]
[null,null,"Biescas-Pragneres",{"$f":"SUM('II fisicos'!D84:O84)","v":-110.04100000000001},{"$f":"SUM('II fisicos'!P84:AA84)","v":-72.384},{"$f":"SUM('II fisicos'!AB84:AM84)","v":178.63399999999999},{"$f":"SUM('II fisicos'!AN84:AY84)","v":85.789000000000001},{"$f":"SUM('II fisicos'!AZ84:BK84)","v":442.74399999999991},{"$f":"SUM('II fisicos'!BL84:BW84)","v":727.03600000000006},{"$f":"SUM('II fisicos'!BX84:CI84)","v":195.74300000000002},{"$f":"SUM('II fisicos'!CJ84:CU84)","v":-142.119},{"$f":"SUM('II fisicos'!CV84:DG84)","v":476.2240000000001},{"$f":"SUM('II fisicos'!DH84:DS84)","v":742.86699999999985},{"$f":"SUM('II fisicos'!DT84:EE84)","v":765.54995635557646},{"$f":"SUM('II fisicos'!EF84:EQ84)","v":407.56020264541723},{"$f":"SUM('II fisicos'!ER84:FC84)","v":1109.2120552544084},{"$f":"SUM('II fisicos'!FD84:FO84)","v":385.98985175874304},{"$f":"SUM('II fisicos'!FP84:GA84)","v":512.71405299999992},{"$f":"SUM('II fisicos'!GB84:GM84)","v":513.77986499999997},{"$f":"SUM('II fisicos'!GN84:GY84)","v":321.46420500000005},{"$f":"SUM('II fisicos'!GZ84:HK84)","v":355.90235600000005},{"$f":"SUM('II fisicos'!HL84:HW84)","v":-42.397046000000003},{"$f":"SUM('II fisicos'!HX84:II84)","v":-193.12025499999999},{"$f":"SUM('II fisicos'!IJ84:IU84)","v":-633.69115499999998},{"$f":"SUM('II fisicos'!IV84:JG84)","v":-324.11977300000001},{"$f":"SUM('II fisicos'!JH84:JS84)","v":-257.98465199999998},{"$f":"SUM('II fisicos'!JT84:KE84)","v":-292.5784670000001},{"$f":"SUM('II fisicos'!KF84:KQ84)","v":-152.32075200000003},{"$f":"SUM('II fisicos'!KR84:LC84)","v":29.184036000000006},{"$f":"SUM('II fisicos'!LD84:LO84)","v":124.93854900000001},{"$f":"SUM('II fisicos'!LP84:MA84)","v":192.57911799999999},"-","-"]
[null,null,"Hernani-Argia",{"$f":"SUM('II fisicos'!D85:O85)","v":240.12100000000004},{"$f":"SUM('II fisicos'!P85:AA85)","v":332.10799999999995},{"$f":"SUM('II fisicos'!AB85:AM85)","v":1858.0679999999998},{"$f":"SUM('II fisicos'!AN85:AY85)","v":929.27100000000007},{"$f":"SUM('II fisicos'!AZ85:BK85)","v":1303.5639999999999},{"$f":"SUM('II fisicos'!BL85:BW85)","v":2617.9300000000003},{"$f":"SUM('II fisicos'!BX85:CI85)","v":1970.5239999999999},{"$f":"SUM('II fisicos'!CJ85:CU85)","v":1095.2069999999999},{"$f":"SUM('II fisicos'!CV85:DG85)","v":2592.672},{"$f":"SUM('II fisicos'!DH85:DS85)","v":3080.136},{"$f":"SUM('II fisicos'!DT85:EE85)","v":3621.2217225402474},{"$f":"SUM('II fisicos'!EF85:EQ85)","v":2701.1013456537148},{"$f":"SUM('II fisicos'!ER85:FC85)","v":3914.8779652032144},{"$f":"SUM('II fisicos'!FD85:FO85)","v":2239.9743297921582},{"$f":"SUM('II fisicos'!FP85:GA85)","v":2219.891991},{"$f":"SUM('II fisicos'!GB85:GM85)","v":2005.2382210000001},{"$f":"SUM('II fisicos'!GN85:GY85)","v":1189.646213},{"$f":"SUM('II fisicos'!GZ85:HK85)","v":1590.5951889999999},{"$f":"SUM('II fisicos'!HL85:HW85)","v":1572.602854},{"$f":"SUM('II fisicos'!HX85:II85)","v":490.89644700000014},{"$f":"SUM('II fisicos'!IJ85:IU85)","v":-183.27626799999999},{"$f":"SUM('II fisicos'!IV85:JG85)","v":892.69657600000005},{"$f":"SUM('II fisicos'!JH85:JS85)","v":426.88209199999994},{"$f":"SUM('II fisicos'!JT85:KE85)","v":352.86549600000006},{"$f":"SUM('II fisicos'!KF85:KQ85)","v":826.54410999999982},{"$f":"SUM('II fisicos'!KR85:LC85)","v":1869.1789180000001},{"$f":"SUM('II fisicos'!LD85:LO85)","v":1687.8344379999999},{"$f":"SUM('II fisicos'!LP85:MA85)","v":3839.5000610000006},"-","-"]
[null,null,"Irún-Errondenia",{"$f":"SUM('II fisicos'!D86:O86)","v":-13.214},{"$f":"SUM('II fisicos'!P86:AA86)","v":-51.817},{"$f":"SUM('II fisicos'!AB86:AM86)","v":-30.286999999999999},{"$f":"SUM('II fisicos'!AN86:AY86)","v":-31.686},{"$f":"SUM('II fisicos'!AZ86:BK86)","v":-4.0810000000000004},{"$f":"SUM('II fisicos'!BL86:BW86)","v":-9.2089999999999979},{"$f":"SUM('II fisicos'!BX86:CI86)","v":-9.7140000000000004},{"$f":"SUM('II fisicos'!CJ86:CU86)","v":-4.2560000000000002},{"$f":"SUM('II fisicos'!CV86:DG86)","v":-4.6929999999999996},{"$f":"SUM('II fisicos'!DH86:DS86)","v":-7.8469999999999995},{"$f":"SUM('II fisicos'!DT86:EE86)","v":-3.0338823320497963},{"$f":"SUM('II fisicos'!EF86:EQ86)","v":-5.7412114319966019},{"$f":"SUM('II fisicos'!ER86:FC86)","v":-16.195696514433322},{"$f":"SUM('II fisicos'!FD86:FO86)","v":-5.0377114239059146},{"$f":"SUM('II fisicos'!FP86:GA86)","v":-2.6292329999999997},{"$f":"SUM('II fisicos'!GB86:GM86)","v":-1.6327429999999996},{"$f":"SUM('II fisicos'!GN86:GY86)","v":-1.143343},{"$f":"SUM('II fisicos'!GZ86:HK86)","v":-0.87153499999999995},{"$f":"SUM('II fisicos'!HL86:HW86)","v":-1.4764469999999998},{"$f":"SUM('II fisicos'!HX86:II86)","v":-2.3237399999999999},{"$f":"SUM('II fisicos'!IJ86:IU86)","v":-1.7882180000000001},{"$f":"SUM('II fisicos'!IV86:JG86)","v":-1.9825429999999999},{"$f":"SUM('II fisicos'!JH86:JS86)","v":-1.6672779999999998},{"$f":"SUM('II fisicos'!JT86:KE86)","v":-1.588241},{"$f":"SUM('II fisicos'!KF86:KQ86)","v":-1.3462160000000003},{"$f":"SUM('II fisicos'!KR86:LC86)","v":-1.6052370000000002},{"$f":"SUM('II fisicos'!LD86:LO86)","v":-1.4454249999999997},{"$f":"SUM('II fisicos'!LP86:MA86)","v":-1.6244609999999999},"-","-"]
[null,null,"Santa Llogaia-Baixas",{"$f":"SUM('II fisicos'!D87:O87)","v":0},{"$f":"SUM('II fisicos'!P87:AA87)","v":0},{"$f":"SUM('II fisicos'!AB87:AM87)","v":0},{"$f":"SUM('II fisicos'!AN87:AY87)","v":0},{"$f":"SUM('II fisicos'!AZ87:BK87)","v":0},{"$f":"SUM('II fisicos'!BL87:BW87)","v":0},{"$f":"SUM('II fisicos'!BX87:CI87)","v":0},{"$f":"SUM('II fisicos'!CJ87:CU87)","v":0},{"$f":"SUM('II fisicos'!CV87:DG87)","v":0},{"$f":"SUM('II fisicos'!DH87:DS87)","v":0},{"$f":"SUM('II fisicos'!DT87:EE87)","v":0},{"$f":"SUM('II fisicos'!EF87:EQ87)","v":0},{"$f":"SUM('II fisicos'!ER87:FC87)","v":0},{"$f":"SUM('II fisicos'!FD87:FO87)","v":0},{"$f":"SUM('II fisicos'!FP87:GA87)","v":0},{"$f":"SUM('II fisicos'!GB87:GM87)","v":0},{"$f":"SUM('II fisicos'!GN87:GY87)","v":0},{"$f":"SUM('II fisicos'!GZ87:HK87)","v":0},{"$f":"SUM('II fisicos'!HL87:HW87)","v":0},{"$f":"SUM('II fisicos'!HX87:II87)","v":0},{"$f":"SUM('II fisicos'!IJ87:IU87)","v":0},{"$f":"SUM('II fisicos'!IV87:JG87)","v":0},{"$f":"SUM('II fisicos'!JH87:JS87)","v":0},{"$f":"SUM('II fisicos'!JT87:KE87)","v":0},{"$f":"SUM('II fisicos'!KF87:KQ87)","v":0},{"$f":"SUM('II fisicos'!KR87:LC87)","v":1380.3483679999999},{"$f":"SUM('II fisicos'!LD87:LO87)","v":4046.5173769999992},{"$f":"SUM('II fisicos'!LP87:MA87)","v":4584.0673919999999},"-","-"]
[null,null,"Vic-Baixas",{"$f":"SUM('II fisicos'!D88:O88)","v":210.99699999999996},{"$f":"SUM('II fisicos'!P88:AA88)","v":-61.510000000000012},{"$f":"SUM('II fisicos'!AB88:AM88)","v":435.03399999999999},{"$f":"SUM('II fisicos'!AN88:AY88)","v":1149.4899999999998},{"$f":"SUM('II fisicos'!AZ88:BK88)","v":1576.3119999999999},{"$f":"SUM('II fisicos'!BL88:BW88)","v":2382.02},{"$f":"SUM('II fisicos'!BX88:CI88)","v":564.15800000000013},{"$f":"SUM('II fisicos'!CJ88:CU88)","v":-74.570000000000093},{"$f":"SUM('II fisicos'!CV88:DG88)","v":2089.7109999999998},{"$f":"SUM('II fisicos'!DH88:DS88)","v":3597.86},{"$f":"SUM('II fisicos'!DT88:EE88)","v":4031.7161635216257},{"$f":"SUM('II fisicos'!EF88:EQ88)","v":3220.7570807511061},{"$f":"SUM('II fisicos'!ER88:FC88)","v":3500.6969479877198},{"$f":"SUM('II fisicos'!FD88:FO88)","v":2945.9400696385569},{"$f":"SUM('II fisicos'!FP88:GA88)","v":2348.5471029999999},{"$f":"SUM('II fisicos'!GB88:GM88)","v":4029.4724679999999},{"$f":"SUM('II fisicos'!GN88:GY88)","v":3065.6808329999999},{"$f":"SUM('II fisicos'!GZ88:HK88)","v":3622.0401580000002},{"$f":"SUM('II fisicos'!HL88:HW88)","v":1377.0446850000001},{"$f":"SUM('II fisicos'!HX88:II88)","v":1688.0757500000002},{"$f":"SUM('II fisicos'!IJ88:IU88)","v":-25.650851999999951},{"$f":"SUM('II fisicos'!IV88:JG88)","v":1220.8799760000002},{"$f":"SUM('II fisicos'!JH88:JS88)","v":2255.3364120000001},{"$f":"SUM('II fisicos'!JT88:KE88)","v":1961.1963970000002},{"$f":"SUM('II fisicos'!KF88:KQ88)","v":3007.943264},{"$f":"SUM('II fisicos'!KR88:LC88)","v":3794.4133309999997},{"$f":"SUM('II fisicos'!LD88:LO88)","v":1715.8359549999998},{"$f":"SUM('II fisicos'!LP88:MA88)","v":2007.7726959999998},"-","-"]
[null,null,"Total",{"$f":"SUM('II fisicos'!D89:O89)","v":-363.82600000000002},{"$f":"SUM('II fisicos'!P89:AA89)","v":-535.76400000000001},{"$f":"SUM('II fisicos'!AB89:AM89)","v":2010.789},{"$f":"SUM('II fisicos'!AN89:AY89)","v":1584.7170000000001},{"$f":"SUM('II fisicos'!AZ89:BK89)","v":2851.201},{"$f":"SUM('II fisicos'!BL89:BW89)","v":5513.0250000000005},{"$f":"SUM('II fisicos'!BX89:CI89)","v":2297.7579999999998},{"$f":"SUM('II fisicos'!CJ89:CU89)","v":59.681000000000068},{"$f":"SUM('II fisicos'!CV89:DG89)","v":4519.2139999999999},{"$f":"SUM('II fisicos'!DH89:DS89)","v":6885.226999999999},{"$f":"SUM('II fisicos'!DT89:EE89)","v":7906.3190000000004},{"$f":"SUM('II fisicos'!EF89:EQ89)","v":5551.6130000000012},{"$f":"SUM('II fisicos'!ER89:FC89)","v":8834.3369999999995},{"$f":"SUM('II fisicos'!FD89:FO89)","v":5784.9160000000002},{"$f":"SUM('II fisicos'!FP89:GA89)","v":5221.6722740000005},{"$f":"SUM('II fisicos'!GB89:GM89)","v":6544.612697999999},{"$f":"SUM('II fisicos'!GN89:GY89)","v":4409.6040680000006},{"$f":"SUM('II fisicos'!GZ89:HK89)","v":5486.7268410000006},{"$f":"SUM('II fisicos'!HL89:HW89)","v":2889.2298610000007},{"$f":"SUM('II fisicos'!HX89:II89)","v":1590.2722090000002},{"$f":"SUM('II fisicos'!IJ89:IU89)","v":-1530.9204129999996},{"$f":"SUM('II fisicos'!IV89:JG89)","v":1524.4076040000002},{"$f":"SUM('II fisicos'!JH89:JS89)","v":1882.7921120000001},{"$f":"SUM('II fisicos'!JT89:KE89)","v":1707.8663569999999},{"$f":"SUM('II fisicos'!KF89:KQ89)","v":3567.495668},{"$f":"SUM('II fisicos'!KR89:LC89)","v":7324.2123119999997},{"$f":"SUM('II fisicos'!LD89:LO89)","v":7801.5087210000002},{"$f":"SUM('II fisicos'!LP89:MA89)","v":11263.557099000001},"-","-"]
[null,"Portugal","Aldeadávila-Pocinho 1",{"$f":"SUM('II fisicos'!D90:O90)","v":-602.63599999999997},{"$f":"SUM('II fisicos'!P90:AA90)","v":-658.54300000000001},{"$f":"SUM('II fisicos'!AB90:AM90)","v":-1112.46},{"$f":"SUM('II fisicos'!AN90:AY90)","v":-800.04200000000003},{"$f":"SUM('II fisicos'!AZ90:BK90)","v":-857.52200000000005},{"$f":"SUM('II fisicos'!BL90:BW90)","v":-1055.421},{"$f":"SUM('II fisicos'!BX90:CI90)","v":-292.26599999999996},{"$f":"SUM('II fisicos'!CJ90:CU90)","v":-468.29199999999997},{"$f":"SUM('II fisicos'!CV90:DG90)","v":-83.201999999999998},{"$f":"SUM('II fisicos'!DH90:DS90)","v":33.681999999999995},{"$f":"SUM('II fisicos'!DT90:EE90)","v":-171.8482303958362},{"$f":"SUM('II fisicos'!EF90:EQ90)","v":245.8258157914056},{"$f":"SUM('II fisicos'!ER90:FC90)","v":-316.63411175372863},{"$f":"SUM('II fisicos'!FD90:FO90)","v":-180.12026079519663},{"$f":"SUM('II fisicos'!FP90:GA90)","v":-730.57935999999995},{"$f":"SUM('II fisicos'!GB90:GM90)","v":-1230.9057600000001},{"$f":"SUM('II fisicos'!GN90:GY90)","v":-767.65016000000003},{"$f":"SUM('II fisicos'!GZ90:HK90)","v":-821.00970000000007},{"$f":"SUM('II fisicos'!HL90:HW90)","v":-1083.6045999999999},{"$f":"SUM('II fisicos'!HX90:II90)","v":-567.38490000000002},{"$f":"SUM('II fisicos'!IJ90:IU90)","v":503.91319999999996},{"$f":"SUM('II fisicos'!IV90:JG90)","v":-399.18557999999996},{"$f":"SUM('II fisicos'!JH90:JS90)","v":-552.81370000000004},{"$f":"SUM('II fisicos'!JT90:KE90)","v":-232.54630000000003},{"$f":"SUM('II fisicos'!KF90:KQ90)","v":-241.12745000000001},{"$f":"SUM('II fisicos'!KR90:LC90)","v":-369.31320000000005},{"$f":"SUM('II fisicos'!LD90:LO90)","v":61.0381},{"$f":"SUM('II fisicos'!LP90:MA90)","v":35.616199999999999},"-","-"]
[null,null,"Aldeadávila-Pocinho 2",{"$f":"SUM('II fisicos'!D91:O91)","v":436.04399999999987},{"$f":"SUM('II fisicos'!P91:AA91)","v":415.33600000000007},{"$f":"SUM('II fisicos'!AB91:AM91)","v":-284.19699999999995},{"$f":"SUM('II fisicos'!AN91:AY91)","v":205.666},{"$f":"SUM('II fisicos'!AZ91:BK91)","v":231.53199999999993},{"$f":"SUM('II fisicos'!BL91:BW91)","v":-136.15700000000001},{"$f":"SUM('II fisicos'!BX91:CI91)","v":905.6930000000001},{"$f":"SUM('II fisicos'!CJ91:CU91)","v":877.99299999999982},{"$f":"SUM('II fisicos'!CV91:DG91)","v":1067.4010000000001},{"$f":"SUM('II fisicos'!DH91:DS91)","v":796.5379999999999},{"$f":"SUM('II fisicos'!DT91:EE91)","v":880.10790144967768},{"$f":"SUM('II fisicos'!EF91:EQ91)","v":827.63942625931634},{"$f":"SUM('II fisicos'!ER91:FC91)","v":404.72123803074834},{"$f":"SUM('II fisicos'!FD91:FO91)","v":1308.8940546601505},{"$f":"SUM('II fisicos'!FP91:GA91)","v":664.14215999999999},{"$f":"SUM('II fisicos'!GB91:GM91)","v":-174.29428000000001},{"$f":"SUM('II fisicos'!GN91:GY91)","v":397.05592000000001},{"$f":"SUM('II fisicos'!GZ91:HK91)","v":504.9033},{"$f":"SUM('II fisicos'!HL91:HW91)","v":-101.07699999999996},{"$f":"SUM('II fisicos'!HX91:II91)","v":366.95030000000008},{"$f":"SUM('II fisicos'!IJ91:IU91)","v":429.92840000000007},{"$f":"SUM('II fisicos'!IV91:JG91)","v":-396.30273999999997},{"$f":"SUM('II fisicos'!JH91:JS91)","v":-544.59439999999995},{"$f":"SUM('II fisicos'!JT91:KE91)","v":-230.98849999999999},{"$f":"SUM('II fisicos'!KF91:KQ91)","v":-227.97987000000001},{"$f":"SUM('II fisicos'!KR91:LC91)","v":-367.30719999999997},{"$f":"SUM('II fisicos'!LD91:LO91)","v":95.698490000000021},{"$f":"SUM('II fisicos'!LP91:MA91)","v":35.884799999999998},"-","-"]
[null,null,"Aldeadávila-Lagoaça",{"$f":"SUM('II fisicos'!D92:O92)","v":0},{"$f":"SUM('II fisicos'!P92:AA92)","v":0},{"$f":"SUM('II fisicos'!AB92:AM92)","v":0},{"$f":"SUM('II fisicos'!AN92:AY92)","v":0},{"$f":"SUM('II fisicos'!AZ92:BK92)","v":0},{"$f":"SUM('II fisicos'!BL92:BW92)","v":0},{"$f":"SUM('II fisicos'!BX92:CI92)","v":0},{"$f":"SUM('II fisicos'!CJ92:CU92)","v":0},{"$f":"SUM('II fisicos'!CV92:DG92)","v":0},{"$f":"SUM('II fisicos'!DH92:DS92)","v":0},{"$f":"SUM('II fisicos'!DT92:EE92)","v":0},{"$f":"SUM('II fisicos'!EF92:EQ92)","v":0},{"$f":"SUM('II fisicos'!ER92:FC92)","v":0},{"$f":"SUM('II fisicos'!FD92:FO92)","v":0},{"$f":"SUM('II fisicos'!FP92:GA92)","v":0},{"$f":"SUM('II fisicos'!GB92:GM92)","v":0},{"$f":"SUM('II fisicos'!GN92:GY92)","v":0},{"$f":"SUM('II fisicos'!GZ92:HK92)","v":0},{"$f":"SUM('II fisicos'!HL92:HW92)","v":0},{"$f":"SUM('II fisicos'!HX92:II92)","v":0},{"$f":"SUM('II fisicos'!IJ92:IU92)","v":54.690336000000002},{"$f":"SUM('II fisicos'!IV92:JG92)","v":1030.4094899999998},{"$f":"SUM('II fisicos'!JH92:JS92)","v":-641.38024799999994},{"$f":"SUM('II fisicos'!JT92:KE92)","v":1599.2223119999999},{"$f":"SUM('II fisicos'!KF92:KQ92)","v":2072.9971450000003},{"$f":"SUM('II fisicos'!KR92:LC92)","v":863.20187999999985},{"$f":"SUM('II fisicos'!LD92:LO92)","v":2892.9614399999991},{"$f":"SUM('II fisicos'!LP92:MA92)","v":1128.890952},"-","-"]
[null,null,"Badajoz-Alcaçovas",{"$f":"SUM('II fisicos'!D93:O93)","v":0},{"$f":"SUM('II fisicos'!P93:AA93)","v":0},{"$f":"SUM('II fisicos'!AB93:AM93)","v":0},{"$f":"SUM('II fisicos'!AN93:AY93)","v":0},{"$f":"SUM('II fisicos'!AZ93:BK93)","v":0},{"$f":"SUM('II fisicos'!BL93:BW93)","v":0},{"$f":"SUM('II fisicos'!BX93:CI93)","v":0},{"$f":"SUM('II fisicos'!CJ93:CU93)","v":0},{"$f":"SUM('II fisicos'!CV93:DG93)","v":0},{"$f":"SUM('II fisicos'!DH93:DS93)","v":0},{"$f":"SUM('II fisicos'!DT93:EE93)","v":0},{"$f":"SUM('II fisicos'!EF93:EQ93)","v":0},{"$f":"SUM('II fisicos'!ER93:FC93)","v":0},{"$f":"SUM('II fisicos'!FD93:FO93)","v":0},{"$f":"SUM('II fisicos'!FP93:GA93)","v":0},{"$f":"SUM('II fisicos'!GB93:GM93)","v":-160.080961},{"$f":"SUM('II fisicos'!GN93:GY93)","v":-153.43479299999998},{"$f":"SUM('II fisicos'!GZ93:HK93)","v":-166.29535899999999},{"$f":"SUM('II fisicos'!HL93:HW93)","v":-159.018844},{"$f":"SUM('II fisicos'!HX93:II93)","v":-171.48361100000002},{"$f":"SUM('II fisicos'!IJ93:IU93)","v":-156.76000400000001},{"$f":"SUM('II fisicos'!IV93:JG93)","v":-58.512663999999987},{"$f":"SUM('II fisicos'!JH93:JS93)","v":-0.9825750000000002},{"$f":"SUM('II fisicos'!JT93:KE93)","v":-4.8320000000000012E-3},{"$f":"SUM('II fisicos'!KF93:KQ93)","v":-6.1520000000000012E-3},{"$f":"SUM('II fisicos'!KR93:LC93)","v":-4.3070000000000001E-3},{"$f":"SUM('II fisicos'!LD93:LO93)","v":-4.5379999999999995E-3},{"$f":"SUM('II fisicos'!LP93:MA93)","v":-1.2080000000000003E-3},"-","-"]
[null,null,"Balboa-Alqueva",{"$f":"SUM('II fisicos'!D94:O94)","v":0},{"$f":"SUM('II fisicos'!P94:AA94)","v":0},{"$f":"SUM('II fisicos'!AB94:AM94)","v":0},{"$f":"SUM('II fisicos'!AN94:AY94)","v":0},{"$f":"SUM('II fisicos'!AZ94:BK94)","v":0},{"$f":"SUM('II fisicos'!BL94:BW94)","v":0},{"$f":"SUM('II fisicos'!BX94:CI94)","v":0},{"$f":"SUM('II fisicos'!CJ94:CU94)","v":0},{"$f":"SUM('II fisicos'!CV94:DG94)","v":0},{"$f":"SUM('II fisicos'!DH94:DS94)","v":0},{"$f":"SUM('II fisicos'!DT94:EE94)","v":0},{"$f":"SUM('II fisicos'!EF94:EQ94)","v":0},{"$f":"SUM('II fisicos'!ER94:FC94)","v":0},{"$f":"SUM('II fisicos'!FD94:FO94)","v":0},{"$f":"SUM('II fisicos'!FP94:GA94)","v":54.660302000000001},{"$f":"SUM('II fisicos'!GB94:GM94)","v":1549.5826490000002},{"$f":"SUM('II fisicos'!GN94:GY94)","v":956.87568099999999},{"$f":"SUM('II fisicos'!GZ94:HK94)","v":0},{"$f":"SUM('II fisicos'!HL94:HW94)","v":0},{"$f":"SUM('II fisicos'!HX94:II94)","v":0},{"$f":"SUM('II fisicos'!IJ94:IU94)","v":0},{"$f":"SUM('II fisicos'!IV94:JG94)","v":0},{"$f":"SUM('II fisicos'!JH94:JS94)","v":0},{"$f":"SUM('II fisicos'!JT94:KE94)","v":0},{"$f":"SUM('II fisicos'!KF94:KQ94)","v":0},{"$f":"SUM('II fisicos'!KR94:LC94)","v":0},{"$f":"SUM('II fisicos'!LD94:LO94)","v":0},{"$f":"SUM('II fisicos'!LP94:MA94)","v":0},"-","-"]
[null,null,"Brovales-Alqueva",{"$f":"SUM('II fisicos'!D95:O95)","v":0},{"$f":"SUM('II fisicos'!P95:AA95)","v":0},{"$f":"SUM('II fisicos'!AB95:AM95)","v":0},{"$f":"SUM('II fisicos'!AN95:AY95)","v":0},{"$f":"SUM('II fisicos'!AZ95:BK95)","v":0},{"$f":"SUM('II fisicos'!BL95:BW95)","v":0},{"$f":"SUM('II fisicos'!BX95:CI95)","v":0},{"$f":"SUM('II fisicos'!CJ95:CU95)","v":0},{"$f":"SUM('II fisicos'!CV95:DG95)","v":0},{"$f":"SUM('II fisicos'!DH95:DS95)","v":0},{"$f":"SUM('II fisicos'!DT95:EE95)","v":0},{"$f":"SUM('II fisicos'!EF95:EQ95)","v":0},{"$f":"SUM('II fisicos'!ER95:FC95)","v":0},{"$f":"SUM('II fisicos'!FD95:FO95)","v":0},{"$f":"SUM('II fisicos'!FP95:GA95)","v":0},{"$f":"SUM('II fisicos'!GB95:GM95)","v":0},{"$f":"SUM('II fisicos'!GN95:GY95)","v":69.987117999999995},{"$f":"SUM('II fisicos'!GZ95:HK95)","v":800.1730530000001},{"$f":"SUM('II fisicos'!HL95:HW95)","v":136.56111700000002},{"$f":"SUM('II fisicos'!HX95:II95)","v":1051.5621279999998},{"$f":"SUM('II fisicos'!IJ95:IU95)","v":53.654402999999995},{"$f":"SUM('II fisicos'!IV95:JG95)","v":954.5617450000002},{"$f":"SUM('II fisicos'!JH95:JS95)","v":1116.5197699999999},{"$f":"SUM('II fisicos'!JT95:KE95)","v":1543.2608129999999},{"$f":"SUM('II fisicos'!KF95:KQ95)","v":1248.8027649999999},{"$f":"SUM('II fisicos'!KR95:LC95)","v":1186.1844039999999},{"$f":"SUM('II fisicos'!LD95:LO95)","v":1809.3539059999998},{"$f":"SUM('II fisicos'!LP95:MA95)","v":1644.4031779999998},"-","-"]
[null,null,"Cartelle-Lindoso",{"$f":"SUM('II fisicos'!D96:O96)","v":0},{"$f":"SUM('II fisicos'!P96:AA96)","v":0},{"$f":"SUM('II fisicos'!AB96:AM96)","v":0},{"$f":"SUM('II fisicos'!AN96:AY96)","v":0},{"$f":"SUM('II fisicos'!AZ96:BK96)","v":0},{"$f":"SUM('II fisicos'!BL96:BW96)","v":-16.739999999999998},{"$f":"SUM('II fisicos'!BX96:CI96)","v":-2123.7289999999998},{"$f":"SUM('II fisicos'!CJ96:CU96)","v":-3276.4160000000002},{"$f":"SUM('II fisicos'!CV96:DG96)","v":-2894.1400000000003},{"$f":"SUM('II fisicos'!DH96:DS96)","v":-3024.1279999999997},{"$f":"SUM('II fisicos'!DT96:EE96)","v":-3794.2616636825232},{"$f":"SUM('II fisicos'!EF96:EQ96)","v":-2646.3736600294387},{"$f":"SUM('II fisicos'!ER96:FC96)","v":-4274.3290909707748},{"$f":"SUM('II fisicos'!FD96:FO96)","v":-4805.9435771210219},{"$f":"SUM('II fisicos'!FP96:GA96)","v":-6532.0611870000012},{"$f":"SUM('II fisicos'!GB96:GM96)","v":-6518.7645000000002},{"$f":"SUM('II fisicos'!GN96:GY96)","v":-6106.3761999999997},{"$f":"SUM('II fisicos'!GZ96:HK96)","v":-6569.6555999999991},{"$f":"SUM('II fisicos'!HL96:HW96)","v":-6339.3429999999998},{"$f":"SUM('II fisicos'!HX96:II96)","v":-5140.3285799999994},{"$f":"SUM('II fisicos'!IJ96:IU96)","v":-2549.6783},{"$f":"SUM('II fisicos'!IV96:JG96)","v":-3612.5107000000003},{"$f":"SUM('II fisicos'!JH96:JS96)","v":-7034.2612999999992},{"$f":"SUM('II fisicos'!JT96:KE96)","v":-5454.8552999999993},{"$f":"SUM('II fisicos'!KF96:KQ96)","v":-4535.5770999999995},{"$f":"SUM('II fisicos'!KR96:LC96)","v":-5290.1415000000006},{"$f":"SUM('II fisicos'!LD96:LO96)","v":-2686.0531000000001},{"$f":"SUM('II fisicos'!LP96:MA96)","v":-1835.9444000000001},"-","-"]
[null,null,"Cedillo-Falagueira",{"$f":"SUM('II fisicos'!D97:O97)","v":732.10299999999995},{"$f":"SUM('II fisicos'!P97:AA97)","v":785.58900000000006},{"$f":"SUM('II fisicos'!AB97:AM97)","v":902.50900000000001},{"$f":"SUM('II fisicos'!AN97:AY97)","v":1008.5109999999997},{"$f":"SUM('II fisicos'!AZ97:BK97)","v":622.98099999999988},{"$f":"SUM('II fisicos'!BL97:BW97)","v":1320.8140000000001},{"$f":"SUM('II fisicos'!BX97:CI97)","v":868.7},{"$f":"SUM('II fisicos'!CJ97:CU97)","v":616.15499999999997},{"$f":"SUM('II fisicos'!CV97:DG97)","v":2022.7410000000004},{"$f":"SUM('II fisicos'!DH97:DS97)","v":3262.8559999999993},{"$f":"SUM('II fisicos'!DT97:EE97)","v":2373.9741888595445},{"$f":"SUM('II fisicos'!EF97:EQ97)","v":1751.2665576112354},{"$f":"SUM('II fisicos'!ER97:FC97)","v":2654.0875619614453},{"$f":"SUM('II fisicos'!FD97:FO97)","v":1316.2999250718713},{"$f":"SUM('II fisicos'!FP97:GA97)","v":989.95515000000012},{"$f":"SUM('II fisicos'!GB97:GM97)","v":773.74627600000008},{"$f":"SUM('II fisicos'!GN97:GY97)","v":874.532196},{"$f":"SUM('II fisicos'!GZ97:HK97)","v":-387.50620000000004},{"$f":"SUM('II fisicos'!HL97:HW97)","v":-873.49289999999996},{"$f":"SUM('II fisicos'!HX97:II97)","v":155.04899999999998},{"$f":"SUM('II fisicos'!IJ97:IU97)","v":-795.99580000000014},{"$f":"SUM('II fisicos'!IV97:JG97)","v":144.11847999999998},{"$f":"SUM('II fisicos'!JH97:JS97)","v":404.07799999999997},{"$f":"SUM('II fisicos'!JT97:KE97)","v":398.15789999999998},{"$f":"SUM('II fisicos'!KF97:KQ97)","v":363.76969999999994},{"$f":"SUM('II fisicos'!KR97:LC97)","v":1031.9233999999999},{"$f":"SUM('II fisicos'!LD97:LO97)","v":1394.9702000000002},{"$f":"SUM('II fisicos'!LP97:MA97)","v":943.79271000000006},"-","-"]
[null,null,"Conchas-Lindoso",{"$f":"SUM('II fisicos'!D98:O98)","v":-5.4499999999999993},{"$f":"SUM('II fisicos'!P98:AA98)","v":-10.870000000000001},{"$f":"SUM('II fisicos'!AB98:AM98)","v":0},{"$f":"SUM('II fisicos'!AN98:AY98)","v":0},{"$f":"SUM('II fisicos'!AZ98:BK98)","v":0},{"$f":"SUM('II fisicos'!BL98:BW98)","v":-2.1},{"$f":"SUM('II fisicos'!BX98:CI98)","v":0},{"$f":"SUM('II fisicos'!CJ98:CU98)","v":-6.88},{"$f":"SUM('II fisicos'!CV98:DG98)","v":-2.7600000000000002},{"$f":"SUM('II fisicos'!DH98:DS98)","v":-1.4999999999999999E-2},{"$f":"SUM('II fisicos'!DT98:EE98)","v":6.0000000000000001E-3},{"$f":"SUM('II fisicos'!EF98:EQ98)","v":-303.38600000000002},{"$f":"SUM('II fisicos'!ER98:FC98)","v":1.0041512266995337E-3},{"$f":"SUM('II fisicos'!FD98:FO98)","v":-1.0028611665297501E-2},{"$f":"SUM('II fisicos'!FP98:GA98)","v":0},{"$f":"SUM('II fisicos'!GB98:GM98)","v":0},{"$f":"SUM('II fisicos'!GN98:GY98)","v":0},{"$f":"SUM('II fisicos'!GZ98:HK98)","v":0},{"$f":"SUM('II fisicos'!HL98:HW98)","v":0},{"$f":"SUM('II fisicos'!HX98:II98)","v":3.0000000000000001E-6},{"$f":"SUM('II fisicos'!IJ98:IU98)","v":0},{"$f":"SUM('II fisicos'!IV98:JG98)","v":0},{"$f":"SUM('II fisicos'!JH98:JS98)","v":0},{"$f":"SUM('II fisicos'!JT98:KE98)","v":0},{"$f":"SUM('II fisicos'!KF98:KQ98)","v":0},{"$f":"SUM('II fisicos'!KR98:LC98)","v":0},{"$f":"SUM('II fisicos'!LD98:LO98)","v":0},{"$f":"SUM('II fisicos'!LP98:MA98)","v":0},"-","-"]
[null,null,"Encinasola-Barrancos",{"$f":"SUM('II fisicos'!D99:O99)","v":0},{"$f":"SUM('II fisicos'!P99:AA99)","v":0},{"$f":"SUM('II fisicos'!AB99:AM99)","v":0},{"$f":"SUM('II fisicos'!AN99:AY99)","v":0},{"$f":"SUM('II fisicos'!AZ99:BK99)","v":0},{"$f":"SUM('II fisicos'!BL99:BW99)","v":0},{"$f":"SUM('II fisicos'!BX99:CI99)","v":0},{"$f":"SUM('II fisicos'!CJ99:CU99)","v":-0.79499999999999993},{"$f":"SUM('II fisicos'!CV99:DG99)","v":-1.915},{"$f":"SUM('II fisicos'!DH99:DS99)","v":-2.5910000000000002},{"$f":"SUM('II fisicos'!DT99:EE99)","v":-1.7255932585195997},{"$f":"SUM('II fisicos'!EF99:EQ99)","v":-1.8980000000000001},{"$f":"SUM('II fisicos'!ER99:FC99)","v":-0.111},{"$f":"SUM('II fisicos'!FD99:FO99)","v":-0.30602862077741988},{"$f":"SUM('II fisicos'!FP99:GA99)","v":-1.5429E-2},{"$f":"SUM('II fisicos'!GB99:GM99)","v":0},{"$f":"SUM('II fisicos'!GN99:GY99)","v":-2.0712000000000001E-2},{"$f":"SUM('II fisicos'!GZ99:HK99)","v":-2.1731E-2},{"$f":"SUM('II fisicos'!HL99:HW99)","v":-1.1682E-2},{"$f":"SUM('II fisicos'!HX99:II99)","v":-2.9194999999999999E-2},{"$f":"SUM('II fisicos'!IJ99:IU99)","v":0},{"$f":"SUM('II fisicos'!IV99:JG99)","v":0},{"$f":"SUM('II fisicos'!JH99:JS99)","v":0},{"$f":"SUM('II fisicos'!JT99:KE99)","v":0},{"$f":"SUM('II fisicos'!KF99:KQ99)","v":0},{"$f":"SUM('II fisicos'!KR99:LC99)","v":0},{"$f":"SUM('II fisicos'!LD99:LO99)","v":0},{"$f":"SUM('II fisicos'!LP99:MA99)","v":0},"-","-"]
[null,null,"Puebla de Guzmán-Tavira",{"$f":"SUM('II fisicos'!D100:O100)","v":0},{"$f":"SUM('II fisicos'!P100:AA100)","v":0},{"$f":"SUM('II fisicos'!AB100:AM100)","v":0},{"$f":"SUM('II fisicos'!AN100:AY100)","v":0},{"$f":"SUM('II fisicos'!AZ100:BK100)","v":0},{"$f":"SUM('II fisicos'!BL100:BW100)","v":0},{"$f":"SUM('II fisicos'!BX100:CI100)","v":0},{"$f":"SUM('II fisicos'!CJ100:CU100)","v":0},{"$f":"SUM('II fisicos'!CV100:DG100)","v":0},{"$f":"SUM('II fisicos'!DH100:DS100)","v":0},{"$f":"SUM('II fisicos'!DT100:EE100)","v":0},{"$f":"SUM('II fisicos'!EF100:EQ100)","v":0},{"$f":"SUM('II fisicos'!ER100:FC100)","v":0},{"$f":"SUM('II fisicos'!FD100:FO100)","v":0},{"$f":"SUM('II fisicos'!FP100:GA100)","v":0},{"$f":"SUM('II fisicos'!GB100:GM100)","v":0},{"$f":"SUM('II fisicos'!GN100:GY100)","v":0},{"$f":"SUM('II fisicos'!GZ100:HK100)","v":0},{"$f":"SUM('II fisicos'!HL100:HW100)","v":0},{"$f":"SUM('II fisicos'!HX100:II100)","v":0},{"$f":"SUM('II fisicos'!IJ100:IU100)","v":0},{"$f":"SUM('II fisicos'!IV100:JG100)","v":0},{"$f":"SUM('II fisicos'!JH100:JS100)","v":0},{"$f":"SUM('II fisicos'!JT100:KE100)","v":0},{"$f":"SUM('II fisicos'!KF100:KQ100)","v":862.00559499999997},{"$f":"SUM('II fisicos'!KR100:LC100)","v":1211.4200400000002},{"$f":"SUM('II fisicos'!LD100:LO100)","v":1687.9352240000003},{"$f":"SUM('II fisicos'!LP100:MA100)","v":1305.1029309999999},"-","-"]
[null,null,"Rosal Frontera-V. Ficalho",{"$f":"SUM('II fisicos'!D101:O101)","v":0},{"$f":"SUM('II fisicos'!P101:AA101)","v":0},{"$f":"SUM('II fisicos'!AB101:AM101)","v":0},{"$f":"SUM('II fisicos'!AN101:AY101)","v":0},{"$f":"SUM('II fisicos'!AZ101:BK101)","v":0},{"$f":"SUM('II fisicos'!BL101:BW101)","v":0},{"$f":"SUM('II fisicos'!BX101:CI101)","v":0},{"$f":"SUM('II fisicos'!CJ101:CU101)","v":-1E-3},{"$f":"SUM('II fisicos'!CV101:DG101)","v":-2.7999999999999997E-2},{"$f":"SUM('II fisicos'!DH101:DS101)","v":-1.4E-2},{"$f":"SUM('II fisicos'!DT101:EE101)","v":-1E-3},{"$f":"SUM('II fisicos'!EF101:EQ101)","v":-3.0000000000000001E-3},{"$f":"SUM('II fisicos'!ER101:FC101)","v":0},{"$f":"SUM('II fisicos'!FD101:FO101)","v":-1E-3},{"$f":"SUM('II fisicos'!FP101:GA101)","v":0},{"$f":"SUM('II fisicos'!GB101:GM101)","v":0},{"$f":"SUM('II fisicos'!GN101:GY101)","v":0},{"$f":"SUM('II fisicos'!GZ101:HK101)","v":0},{"$f":"SUM('II fisicos'!HL101:HW101)","v":0},{"$f":"SUM('II fisicos'!HX101:II101)","v":0},{"$f":"SUM('II fisicos'!IJ101:IU101)","v":0},{"$f":"SUM('II fisicos'!IV101:JG101)","v":9.9999999999999995E-7},{"$f":"SUM('II fisicos'!JH101:JS101)","v":0},{"$f":"SUM('II fisicos'!JT101:KE101)","v":0},{"$f":"SUM('II fisicos'!KF101:KQ101)","v":0},{"$f":"SUM('II fisicos'!KR101:LC101)","v":0},{"$f":"SUM('II fisicos'!LD101:LO101)","v":0},{"$f":"SUM('II fisicos'!LP101:MA101)","v":0},"-","-"]
[null,null,"Saucelle-Pocinho",{"$f":"SUM('II fisicos'!D102:O102)","v":-597.17699999999991},{"$f":"SUM('II fisicos'!P102:AA102)","v":-623.47800000000007},{"$f":"SUM('II fisicos'!AB102:AM102)","v":-843.94299999999998},{"$f":"SUM('II fisicos'!AN102:AY102)","v":-508.62999999999988},{"$f":"SUM('II fisicos'!AZ102:BK102)","v":-807.19},{"$f":"SUM('II fisicos'!BL102:BW102)","v":-942.33399999999995},{"$f":"SUM('II fisicos'!BX102:CI102)","v":-375.96100000000001},{"$f":"SUM('II fisicos'!CJ102:CU102)","v":-544.46299999999997},{"$f":"SUM('II fisicos'!CV102:DG102)","v":-283.67},{"$f":"SUM('II fisicos'!DH102:DS102)","v":-102.57100000000001},{"$f":"SUM('II fisicos'!DT102:EE102)","v":-108.41200000000001},{"$f":"SUM('II fisicos'!EF102:EQ102)","v":-27.019400869258991},{"$f":"SUM('II fisicos'!ER102:FC102)","v":-318.79551317864872},{"$f":"SUM('II fisicos'!FD102:FO102)","v":-364.76589782431296},{"$f":"SUM('II fisicos'!FP102:GA102)","v":-784.42788199999995},{"$f":"SUM('II fisicos'!GB102:GM102)","v":-1068.2955019999999},{"$f":"SUM('II fisicos'!GN102:GY102)","v":-722.1673099999997},{"$f":"SUM('II fisicos'!GZ102:HK102)","v":-857.16599999999994},{"$f":"SUM('II fisicos'!HL102:HW102)","v":-1018.913},{"$f":"SUM('II fisicos'!HX102:II102)","v":-483.15870000000007},{"$f":"SUM('II fisicos'!IJ102:IU102)","v":-174.03970000000004},{"$f":"SUM('II fisicos'!IV102:JG102)","v":-476.61659999999995},{"$f":"SUM('II fisicos'!JH102:JS102)","v":-643.5766000000001},{"$f":"SUM('II fisicos'!JT102:KE102)","v":-398.89889999999991},{"$f":"SUM('II fisicos'!KF102:KQ102)","v":-445.58032000000003},{"$f":"SUM('II fisicos'!KR102:LC102)","v":-532.37599999999998},{"$f":"SUM('II fisicos'!LD102:LO102)","v":-169.80632},{"$f":"SUM('II fisicos'!LP102:MA102)","v":-65.211400000000012},"-","-"]
[null,null,"Santa María-Elvás",{"$f":"SUM('II fisicos'!D103:O103)","v":0},{"$f":"SUM('II fisicos'!P103:AA103)","v":0},{"$f":"SUM('II fisicos'!AB103:AM103)","v":-3.052},{"$f":"SUM('II fisicos'!AN103:AY103)","v":-80.661000000000001},{"$f":"SUM('II fisicos'!AZ103:BK103)","v":-76.667999999999992},{"$f":"SUM('II fisicos'!BL103:BW103)","v":-82.164000000000001},{"$f":"SUM('II fisicos'!BX103:CI103)","v":-93.38},{"$f":"SUM('II fisicos'!CJ103:CU103)","v":-94.346999999999994},{"$f":"SUM('II fisicos'!CV103:DG103)","v":-97.137000000000015},{"$f":"SUM('II fisicos'!DH103:DS103)","v":-106.70100000000002},{"$f":"SUM('II fisicos'!DT103:EE103)","v":-108.53660297234252},{"$f":"SUM('II fisicos'!EF103:EQ103)","v":-111.37773876325984},{"$f":"SUM('II fisicos'!ER103:FC103)","v":-47.749088240268421},{"$f":"SUM('II fisicos'!FD103:FO103)","v":-67.750186759046642},{"$f":"SUM('II fisicos'!FP103:GA103)","v":-80.420780999999991},{"$f":"SUM('II fisicos'!GB103:GM103)","v":0},{"$f":"SUM('II fisicos'!GN103:GY103)","v":0},{"$f":"SUM('II fisicos'!GZ103:HK103)","v":0},{"$f":"SUM('II fisicos'!HL103:HW103)","v":0},{"$f":"SUM('II fisicos'!HX103:II103)","v":0},{"$f":"SUM('II fisicos'!IJ103:IU103)","v":0},{"$f":"SUM('II fisicos'!IV103:JG103)","v":0},{"$f":"SUM('II fisicos'!JH103:JS103)","v":0},{"$f":"SUM('II fisicos'!JT103:KE103)","v":0},{"$f":"SUM('II fisicos'!KF103:KQ103)","v":0},{"$f":"SUM('II fisicos'!KR103:LC103)","v":0},{"$f":"SUM('II fisicos'!LD103:LO103)","v":0},{"$f":"SUM('II fisicos'!LP103:MA103)","v":0},"-","-"]
[null,null,"Total",{"$f":"SUM('II fisicos'!D104:O104)","v":-37.116000000000035},{"$f":"SUM('II fisicos'!P104:AA104)","v":-91.966000000000008},{"$f":"SUM('II fisicos'!AB104:AM104)","v":-1341.1429999999998},{"$f":"SUM('II fisicos'!AN104:AY104)","v":-175.15599999999998},{"$f":"SUM('II fisicos'!AZ104:BK104)","v":-886.86699999999996},{"$f":"SUM('II fisicos'!BL104:BW104)","v":-914.10199999999998},{"$f":"SUM('II fisicos'!BX104:CI104)","v":-1110.943},{"$f":"SUM('II fisicos'!CJ104:CU104)","v":-2897.0460000000003},{"$f":"SUM('II fisicos'!CV104:DG104)","v":-272.70999999999992},{"$f":"SUM('II fisicos'!DH104:DS104)","v":857.05600000000004},{"$f":"SUM('II fisicos'!DT104:EE104)","v":-930.69700000000012},{"$f":"SUM('II fisicos'!EF104:EQ104)","v":-265.32599999999996},{"$f":"SUM('II fisicos'!ER104:FC104)","v":-1898.809},{"$f":"SUM('II fisicos'!FD104:FO104)","v":-2793.7029999999995},{"$f":"SUM('II fisicos'!FP104:GA104)","v":-6418.7470269999985},{"$f":"SUM('II fisicos'!GB104:GM104)","v":-6829.0120780000007},{"$f":"SUM('II fisicos'!GN104:GY104)","v":-5451.1982599999992},{"$f":"SUM('II fisicos'!GZ104:HK104)","v":-7496.5782369999997},{"$f":"SUM('II fisicos'!HL104:HW104)","v":-9438.8999089999998},{"$f":"SUM('II fisicos'!HX104:II104)","v":-4788.8235549999999},{"$f":"SUM('II fisicos'!IJ104:IU104)","v":-2634.2874650000003},{"$f":"SUM('II fisicos'!IV104:JG104)","v":-2814.0385679999999},{"$f":"SUM('II fisicos'!JH104:JS104)","v":-7897.0110530000011},{"$f":"SUM('II fisicos'!JT104:KE104)","v":-2776.6528069999999},{"$f":"SUM('II fisicos'!KF104:KQ104)","v":-902.69568700000036},{"$f":"SUM('II fisicos'!KR104:LC104)","v":-2266.4124830000001},{"$f":"SUM('II fisicos'!LD104:LO104)","v":5086.0934020000004},{"$f":"SUM('II fisicos'!LP104:MA104)","v":3192.5337629999999},"-","-"]
[null,"Marruecos","Puerto de la Cruz-Mellousa",{"$f":"SUM('II fisicos'!D105:O105)","v":0},{"$f":"SUM('II fisicos'!P105:AA105)","v":0},{"$f":"SUM('II fisicos'!AB105:AM105)","v":0},{"$f":"SUM('II fisicos'!AN105:AY105)","v":0},{"$f":"SUM('II fisicos'!AZ105:BK105)","v":0},{"$f":"SUM('II fisicos'!BL105:BW105)","v":0},{"$f":"SUM('II fisicos'!BX105:CI105)","v":0},{"$f":"SUM('II fisicos'!CJ105:CU105)","v":-130.643},{"$f":"SUM('II fisicos'!CV105:DG105)","v":-705.58199999999988},{"$f":"SUM('II fisicos'!DH105:DS105)","v":-1810.7249999999999},{"$f":"SUM('II fisicos'!DT105:EE105)","v":-2263.0679999999998},{"$f":"SUM('II fisicos'!EF105:EQ105)","v":-1579.9689999999998},{"$f":"SUM('II fisicos'!ER105:FC105)","v":-1315.009},{"$f":"SUM('II fisicos'!FD105:FO105)","v":-1457.3339999999998},{"$f":"SUM('II fisicos'!FP105:GA105)","v":-1546.4510559999999},{"$f":"SUM('II fisicos'!GB105:GM105)","v":-787.94197200000008},{"$f":"SUM('II fisicos'!GN105:GY105)","v":-2001.8222050000004},{"$f":"SUM('II fisicos'!GZ105:HK105)","v":-3479.2446099999997},{"$f":"SUM('II fisicos'!HL105:HW105)","v":-4211.5761000000002},{"$f":"SUM('II fisicos'!HX105:II105)","v":-4588.4724999999999},{"$f":"SUM('II fisicos'!IJ105:IU105)","v":-3902.9770700000004},{"$f":"SUM('II fisicos'!IV105:JG105)","v":-4494.7826299999997},{"$f":"SUM('II fisicos'!JH105:JS105)","v":-4899.5173699999996},{"$f":"SUM('II fisicos'!JT105:KE105)","v":-5375.9480799999992},{"$f":"SUM('II fisicos'!KF105:KQ105)","v":-5836.4190699999999},{"$f":"SUM('II fisicos'!KR105:LC105)","v":-4926.90949},{"$f":"SUM('II fisicos'!LD105:LO105)","v":-4942.0081399999999},{"$f":"SUM('II fisicos'!LP105:MA105)","v":-4720.9151999999995},"-","-"]
[null,null,"Total",{"$f":"SUM('II fisicos'!D106:O106)","v":0},{"$f":"SUM('II fisicos'!P106:AA106)","v":0},{"$f":"SUM('II fisicos'!AB106:AM106)","v":0},{"$f":"SUM('II fisicos'!AN106:AY106)","v":0},{"$f":"SUM('II fisicos'!AZ106:BK106)","v":0},{"$f":"SUM('II fisicos'!BL106:BW106)","v":0},{"$f":"SUM('II fisicos'!BX106:CI106)","v":0},{"$f":"SUM('II fisicos'!CJ106:CU106)","v":-130.643},{"$f":"SUM('II fisicos'!CV106:DG106)","v":-705.58199999999988},{"$f":"SUM('II fisicos'!DH106:DS106)","v":-1810.7249999999999},{"$f":"SUM('II fisicos'!DT106:EE106)","v":-2263.0679999999998},{"$f":"SUM('II fisicos'!EF106:EQ106)","v":-1579.9689999999998},{"$f":"SUM('II fisicos'!ER106:FC106)","v":-1315.009},{"$f":"SUM('II fisicos'!FD106:FO106)","v":-1457.3339999999998},{"$f":"SUM('II fisicos'!FP106:GA106)","v":-1546.4510559999999},{"$f":"SUM('II fisicos'!GB106:GM106)","v":-787.94197200000008},{"$f":"SUM('II fisicos'!GN106:GY106)","v":-2001.8222050000004},{"$f":"SUM('II fisicos'!GZ106:HK106)","v":-3479.2446099999997},{"$f":"SUM('II fisicos'!HL106:HW106)","v":-4211.5761000000002},{"$f":"SUM('II fisicos'!HX106:II106)","v":-4588.4724999999999},{"$f":"SUM('II fisicos'!IJ106:IU106)","v":-3902.9770700000004},{"$f":"SUM('II fisicos'!IV106:JG106)","v":-4494.7826299999997},{"$f":"SUM('II fisicos'!JH106:JS106)","v":-4899.5173699999996},{"$f":"SUM('II fisicos'!JT106:KE106)","v":-5375.9480799999992},{"$f":"SUM('II fisicos'!KF106:KQ106)","v":-5836.4190699999999},{"$f":"SUM('II fisicos'!KR106:LC106)","v":-4926.90949},{"$f":"SUM('II fisicos'!LD106:LO106)","v":-4942.0081399999999},{"$f":"SUM('II fisicos'!LP106:MA106)","v":-4720.9151999999995},"-","-"]
[null,"Saldo",null,{"$f":"SUM('II fisicos'!D107:O107)","v":-419.57900000000018},{"$f":"SUM('II fisicos'!P107:AA107)","v":-676.5859999999999},{"$f":"SUM('II fisicos'!AB107:AM107)","v":641.12400000000014},{"$f":"SUM('II fisicos'!AN107:AY107)","v":1267.0719999999999},{"$f":"SUM('II fisicos'!AZ107:BK107)","v":1855.1049999999998},{"$f":"SUM('II fisicos'!BL107:BW107)","v":4489.0450000000001},{"$f":"SUM('II fisicos'!BX107:CI107)","v":1059.3659999999998},{"$f":"SUM('II fisicos'!CJ107:CU107)","v":-3072.8720000000003},{"$f":"SUM('II fisicos'!CV107:DG107)","v":3401.864},{"$f":"SUM('II fisicos'!DH107:DS107)","v":5719.2450000000008},{"$f":"SUM('II fisicos'!DT107:EE107)","v":4440.5950000000003},{"$f":"SUM('II fisicos'!EF107:EQ107)","v":3457.96},{"$f":"SUM('II fisicos'!ER107:FC107)","v":5328.768},{"$f":"SUM('II fisicos'!FD107:FO107)","v":1263.9020000000003},{"$f":"SUM('II fisicos'!FP107:GA107)","v":-3027.0198810000002},{"$f":"SUM('II fisicos'!GB107:GM107)","v":-1343.3849329999998},{"$f":"SUM('II fisicos'!GN107:GY107)","v":-3272.5117969999997},{"$f":"SUM('II fisicos'!GZ107:HK107)","v":-5750.4710960000002},{"$f":"SUM('II fisicos'!HL107:HW107)","v":-11039.580478000003},{"$f":"SUM('II fisicos'!HX107:II107)","v":-8086.4104260000004},{"$f":"SUM('II fisicos'!IJ107:IU107)","v":-8332.6790579999997},{"$f":"SUM('II fisicos'!IV107:JG107)","v":-6090.1263339999996},{"$f":"SUM('II fisicos'!JH107:JS107)","v":-11199.953591},{"$f":"SUM('II fisicos'!JT107:KE107)","v":-6732.1324499999992},{"$f":"SUM('II fisicos'!KF107:KQ107)","v":-3406.1249290000001},{"$f":"SUM('II fisicos'!KR107:LC107)","v":-133.1610909999996},{"$f":"SUM('II fisicos'!LD107:LO107)","v":7667.313553},{"$f":"SUM('II fisicos'!LP107:MA107)","v":9576.1318820000015},"-","-"]

{"sheet":"Año","index":10,"n_rows":29,"n_cols":26,"rows_kept":29,"cut":false,"hidden":true,"merged":[]}
[null,null,null,null,null,null,null,null,null,null,null,null,null,null,null,null,null,null,null,null,null,null,null,1,null,1]
["Importador",1990,"1990-1999",null,null,null,null,null,null,null,null,null,null,"Intercambios por frontera",null,"Mensual"]
["Exportador",1991,"2000-2009",null,null,null,null,null,null,null,null,null,null,"Entradas por línea",null,"Anual"]
["Saldo",1992,"2010-2019",null,null,null,null,null,null,null,null,null,null,"Salidas por línea"]
[null,1993,null,null,null,null,null,null,null,null,null,null,null,"Saldos por línea"]
[null,1994]
[null,1995]
[null,1996]
[null,1997]
[null,1998]
[null,1999]
[null,2000]
[null,2001]
[null,2002]
[null,2003]
[null,2004]
[null,2005]
[null,2006]
[null,2007]
[null,2008]
[null,2009]
[null,2010]
[null,2011]
[null,2012]
[null,2013]
[null,2014]
[null,2015]
[null,2016]
[null,2017]