{"text_format":"1","workbook":"xlsx","n_sheets":13,"sheets":["AVISO LEGAL","Maximos mensuales peninsular","Maximos anuales peninsular","Maximos mensuales Baleares","Maximos anuales Baleares","Maximos mensuales Canarias","Maximos anuales Canarias","Maximos mensuales Ceuta","Maximos anuales Ceuta","Maximos mensuales Melilla","Maximos anuales Melilla","Maximos","Año"],"not_rendered":{"charts":0,"images":1,"macros":1,"external_links":0,"defined_names":10,"comments":0,"pivot_tables":0},"unopened":[],"bounds":{"document_bytes":16777216,"sheet_cells":100000,"rows_first":2000,"rows_last":500,"rows_between":2000,"halvings":0,"cell_chars":16384,"cell_head_chars":4096},"cells_cut":0,"cells_raw":0,"read":"whole","date_system":"1900"}

{"sheet":"AVISO LEGAL","index":0,"n_rows":23,"n_cols":10,"rows_kept":23,"cut":false,"hidden":false,"merged":[[26,0,26,2]]}
[]
[null,null,null,null,null,null,null,"Fecha de actualización:",null,"2017-04-19"]
[]
[]
[]
[]
[]
[]
[]
[]
[]
[]
[]
[]
[]
[]
[]
[]
[]
[]
[]
[]
[null,null,null,null,null,null,null,null,null,"www.ree.es"]

{"sheet":"Maximos mensuales peninsular","index":1,"n_rows":28,"n_cols":15,"rows_kept":28,"cut":false,"hidden":false,"merged":[]}
[null,null,null,null,null,null,null,null,null,null,null,null,null,null,28]
[]
[]
[null,null,null,null,null,null,null,null,null,null,null,null,"Sistema eléctrico"]
[null,null,null,null,null,null,null,null,null,null,null,null,"Horizonte temporal"]
[null,null,null,null,null,null,null,null,null,null,null,null,"Periodo"]
[]
[null,null,"Ene.","Feb.","Mar.","Abr.","May.","Jun.","Jul.","Ago.","Sep.","Oct.","Nov.","Dic.",{"$f":"OFFSET(Año!$B$2,($O$1-1),0)","v":2017}]
[]
[null,"Potencia instantánea (MW)",{"$f":"OFFSET(Maximos!C3,0,($O$1-1)*12)","v":41381},{"$f":"OFFSET(Maximos!D3,0,($O$1-1)*12)","v":36974},{"$f":"OFFSET(Maximos!E3,0,($O$1-1)*12)","v":35935},{"$f":"OFFSET(Maximos!F3,0,($O$1-1)*12)","v":"-"},{"$f":"OFFSET(Maximos!G3,0,($O$1-1)*12)","v":"-"},{"$f":"OFFSET(Maximos!H3,0,($O$1-1)*12)","v":"-"},{"$f":"OFFSET(Maximos!I3,0,($O$1-1)*12)","v":"-"},{"$f":"OFFSET(Maximos!J3,0,($O$1-1)*12)","v":"-"},{"$f":"OFFSET(Maximos!K3,0,($O$1-1)*12)","v":"-"},{"$f":"OFFSET(Maximos!L3,0,($O$1-1)*12)","v":"-"},{"$f":"OFFSET(Maximos!M3,0,($O$1-1)*12)","v":"-"},{"$f":"OFFSET(Maximos!N3,0,($O$1-1)*12)","v":"-"},{"$f":"IF(SUM(C10:N10)=0,\"-\",MAX(C10:N10))","v":41381}]
[null,"Día",{"$f":"OFFSET(Maximos!C4,0,($O$1-1)*12)","v":18},{"$f":"OFFSET(Maximos!D4,0,($O$1-1)*12)","v":9},{"$f":"OFFSET(Maximos!E4,0,($O$1-1)*12)","v":23},{"$f":"OFFSET(Maximos!F4,0,($O$1-1)*12)","v":"-"},{"$f":"OFFSET(Maximos!G4,0,($O$1-1)*12)","v":"-"},{"$f":"OFFSET(Maximos!H4,0,($O$1-1)*12)","v":"-"},{"$f":"OFFSET(Maximos!I4,0,($O$1-1)*12)","v":"-"},{"$f":"OFFSET(Maximos!J4,0,($O$1-1)*12)","v":"-"},{"$f":"OFFSET(Maximos!K4,0,($O$1-1)*12)","v":"-"},{"$f":"OFFSET(Maximos!L4,0,($O$1-1)*12)","v":"-"},{"$f":"OFFSET(Maximos!M4,0,($O$1-1)*12)","v":"-"},{"$f":"OFFSET(Maximos!N4,0,($O$1-1)*12)","v":"-"},{"$f":"IF(SUM(C10:N10)=0,\"-\",HLOOKUP($O$10,C10:N13,2,0)&\" de \"&HLOOKUP($O$10,C10:N13,4,0))","v":"18 de enero"}]
[null,"Hora",{"$f":"OFFSET(Maximos!C5,0,($O$1-1)*12)","v":"19:50"},{"$f":"OFFSET(Maximos!D5,0,($O$1-1)*12)","v":"20:26"},{"$f":"OFFSET(Maximos!E5,0,($O$1-1)*12)","v":"20:33"},{"$f":"OFFSET(Maximos!F5,0,($O$1-1)*12)","v":"-"},{"$f":"OFFSET(Maximos!G5,0,($O$1-1)*12)","v":"-"},{"$f":"OFFSET(Maximos!H5,0,($O$1-1)*12)","v":"-"},{"$f":"OFFSET(Maximos!I5,0,($O$1-1)*12)","v":"-"},{"$f":"OFFSET(Maximos!J5,0,($O$1-1)*12)","v":"-"},{"$f":"OFFSET(Maximos!K5,0,($O$1-1)*12)","v":"-"},{"$f":"OFFSET(Maximos!L5,0,($O$1-1)*12)","v":"-"},{"$f":"OFFSET(Maximos!M5,0,($O$1-1)*12)","v":"-"},{"$f":"OFFSET(Maximos!N5,0,($O$1-1)*12)","v":"-"},{"$f":"HLOOKUP($O$10,C10:N12,3,0)","v":"19:50"}]
[null,null,"enero","febrero","marzo","abril","mayo","junio","julio","agosto","septiembre","octubre","noviembre","diciembre"]
[]
[]
[null,null,"Ene.","Feb.","Mar.","Abr.","May.","Jun.","Jul.","Ago.","Sep.","Oct.","Nov.","Dic.",{"$f":"OFFSET(Año!$B$2,($O$1-1),0)","v":2017}]
[]
[null,"Demanda horaria (MWh)",{"$f":"OFFSET(Maximos!C7,0,($O$1-1)*12)","v":41015},{"$f":"OFFSET(Maximos!D7,0,($O$1-1)*12)","v":36732},{"$f":"OFFSET(Maximos!E7,0,($O$1-1)*12)","v":35575},{"$f":"OFFSET(Maximos!F7,0,($O$1-1)*12)","v":"-"},{"$f":"OFFSET(Maximos!G7,0,($O$1-1)*12)","v":"-"},{"$f":"OFFSET(Maximos!H7,0,($O$1-1)*12)","v":"-"},{"$f":"OFFSET(Maximos!I7,0,($O$1-1)*12)","v":"-"},{"$f":"OFFSET(Maximos!J7,0,($O$1-1)*12)","v":"-"},{"$f":"OFFSET(Maximos!K7,0,($O$1-1)*12)","v":"-"},{"$f":"OFFSET(Maximos!L7,0,($O$1-1)*12)","v":"-"},{"$f":"OFFSET(Maximos!M7,0,($O$1-1)*12)","v":"-"},{"$f":"OFFSET(Maximos!N7,0,($O$1-1)*12)","v":"-"},{"$f":"MAX(C18:N18)","v":41015}]
[null,"Día",{"$f":"OFFSET(Maximos!C8,0,($O$1-1)*12)","v":18},{"$f":"OFFSET(Maximos!D8,0,($O$1-1)*12)","v":9},{"$f":"OFFSET(Maximos!E8,0,($O$1-1)*12)","v":23},{"$f":"OFFSET(Maximos!F8,0,($O$1-1)*12)","v":"-"},{"$f":"OFFSET(Maximos!G8,0,($O$1-1)*12)","v":"-"},{"$f":"OFFSET(Maximos!H8,0,($O$1-1)*12)","v":"-"},{"$f":"OFFSET(Maximos!I8,0,($O$1-1)*12)","v":"-"},{"$f":"OFFSET(Maximos!J8,0,($O$1-1)*12)","v":"-"},{"$f":"OFFSET(Maximos!K8,0,($O$1-1)*12)","v":"-"},{"$f":"OFFSET(Maximos!L8,0,($O$1-1)*12)","v":"-"},{"$f":"OFFSET(Maximos!M8,0,($O$1-1)*12)","v":"-"},{"$f":"OFFSET(Maximos!N8,0,($O$1-1)*12)","v":"-"},{"$f":"HLOOKUP($O$18,C18:N21,2,0)&\" de \"&HLOOKUP($O$18,C18:N21,4,0)","v":"18 de enero"}]
[null,"Hora",{"$f":"OFFSET(Maximos!C9,0,($O$1-1)*12)","v":21},{"$f":"OFFSET(Maximos!D9,0,($O$1-1)*12)","v":21},{"$f":"OFFSET(Maximos!E9,0,($O$1-1)*12)","v":21},{"$f":"OFFSET(Maximos!F9,0,($O$1-1)*12)","v":"-"},{"$f":"OFFSET(Maximos!G9,0,($O$1-1)*12)","v":"-"},{"$f":"OFFSET(Maximos!H9,0,($O$1-1)*12)","v":"-"},{"$f":"OFFSET(Maximos!I9,0,($O$1-1)*12)","v":"-"},{"$f":"OFFSET(Maximos!J9,0,($O$1-1)*12)","v":"-"},{"$f":"OFFSET(Maximos!K9,0,($O$1-1)*12)","v":"-"},{"$f":"OFFSET(Maximos!L9,0,($O$1-1)*12)","v":"-"},{"$f":"OFFSET(Maximos!M9,0,($O$1-1)*12)","v":"-"},{"$f":"OFFSET(Maximos!N9,0,($O$1-1)*12)","v":"-"},{"$f":"HLOOKUP($O$18,C18:N20,3,0)","v":21}]
[null,null,"enero","febrero","marzo","abril","mayo","junio","julio","agosto","septiembre","octubre","noviembre","diciembre"]
[]
[]
[null,null,"Ene.","Feb.","Mar.","Abr.","May.","Jun.","Jul.","Ago.","Sep.","Oct.","Nov.","Dic.",{"$f":"OFFSET(Año!$B$2,($O$1-1),0)","v":2017}]
[]
[null,"Demanda diaria (GWh)",{"$f":"OFFSET(Maximos!C11,0,($O$1-1)*12)","v":834.72963300000004},{"$f":"OFFSET(Maximos!D11,0,($O$1-1)*12)","v":767.35300100000006},{"$f":"OFFSET(Maximos!E11,0,($O$1-1)*12)","v":734.58140000000003},{"$f":"OFFSET(Maximos!F11,0,($O$1-1)*12)","v":"-"},{"$f":"OFFSET(Maximos!G11,0,($O$1-1)*12)","v":"-"},{"$f":"OFFSET(Maximos!H11,0,($O$1-1)*12)","v":"-"},{"$f":"OFFSET(Maximos!I11,0,($O$1-1)*12)","v":"-"},{"$f":"OFFSET(Maximos!J11,0,($O$1-1)*12)","v":"-"},{"$f":"OFFSET(Maximos!K11,0,($O$1-1)*12)","v":"-"},{"$f":"OFFSET(Maximos!L11,0,($O$1-1)*12)","v":"-"},{"$f":"OFFSET(Maximos!M11,0,($O$1-1)*12)","v":"-"},{"$f":"OFFSET(Maximos!N11,0,($O$1-1)*12)","v":"-"},{"$f":"MAX(C26:N26)","v":834.72963300000004}]
[null,"Día",{"$f":"OFFSET(Maximos!C12,0,($O$1-1)*12)","v":18},{"$f":"OFFSET(Maximos!D12,0,($O$1-1)*12)","v":10},{"$f":"OFFSET(Maximos!E12,0,($O$1-1)*12)","v":24},{"$f":"OFFSET(Maximos!F12,0,($O$1-1)*12)","v":"-"},{"$f":"OFFSET(Maximos!G12,0,($O$1-1)*12)","v":"-"},{"$f":"OFFSET(Maximos!H12,0,($O$1-1)*12)","v":"-"},{"$f":"OFFSET(Maximos!I12,0,($O$1-1)*12)","v":"-"},{"$f":"OFFSET(Maximos!J12,0,($O$1-1)*12)","v":"-"},{"$f":"OFFSET(Maximos!K12,0,($O$1-1)*12)","v":"-"},{"$f":"OFFSET(Maximos!L12,0,($O$1-1)*12)","v":"-"},{"$f":"OFFSET(Maximos!M12,0,($O$1-1)*12)","v":"-"},{"$f":"OFFSET(Maximos!N12,0,($O$1-1)*12)","v":"-"},{"$f":"HLOOKUP($O$26,C26:N28,2,0)&\" de \"&HLOOKUP($O$26,C26:N28,3,0)","v":"18 de enero"}]
[null,null,"enero","febrero","marzo","abril","mayo","junio","julio","agosto","septiembre","octubre","noviembre","diciembre"]

{"sheet":"Maximos anuales peninsular","index":2,"n_rows":33,"n_cols":12,"rows_kept":33,"cut":false,"hidden":false,"merged":[[32,1,32,11],[33,1,33,11],[16,2,16,3],[16,4,16,5],[16,6,16,7],[16,8,16,9],[16,10,16,11],[26,2,26,3],[26,4,26,5],[26,6,26,7],[26,8,26,9],[26,10,26,11],[7,10,7,11],[7,2,7,3],[7,4,7,5],[7,6,7,7],[7,8,7,9]]}
[null,null,null,null,null,null,null,null,null,null,null,6]
[]
[]
[null,null,null,null,null,null,null,null,null,null,"Sistema eléctrico"]
[null,null,null,null,null,null,null,null,null,null,"Horizonte temporal"]
[null,null,null,null,null,null,null,null,null,null,"Periodo"]
[]
[null,null,{"$f":"OFFSET(Maximos!C46,0,($L$1-1)*10)","v":"2015"},{"$f":"OFFSET(#REF!,0,($L$1-1)*12)","v":{"$error":"#REF!"}},{"$f":"OFFSET(Maximos!E46,0,($L$1-1)*10)","v":"2016"},{"$f":"OFFSET(#REF!,0,($L$1-1)*12)","v":{"$error":"#REF!"}},{"$f":"OFFSET(Maximos!G46,0,($L$1-1)*10)","v":"2017"},{"$f":"OFFSET(#REF!,0,($L$1-1)*12)","v":{"$error":"#REF!"}},{"$f":"OFFSET(Maximos!I46,0,($L$1-1)*10)","v":"2018"},{"$f":"OFFSET(#REF!,0,($L$1-1)*12)","v":{"$error":"#REF!"}},{"$f":"OFFSET(Maximos!K46,0,($L$1-1)*10)","v":"2019"}]
[]
[null,null,"Invierno","Verano","Invierno","Verano","Invierno","Verano","Invierno","Verano","Invierno","Verano"]
[null,"Potencia instantánea (MW)",{"$f":"OFFSET(Maximos!C48,0,($L$1-1)*10)","v":40726},{"$f":"OFFSET(Maximos!D48,0,($L$1-1)*10)","v":40192},{"$f":"OFFSET(Maximos!E48,0,($L$1-1)*10)","v":38464},{"$f":"OFFSET(Maximos!F48,0,($L$1-1)*10)","v":40489},{"$f":"OFFSET(Maximos!G48,0,($L$1-1)*10)","v":41381},{"$f":"OFFSET(Maximos!H48,0,($L$1-1)*10)","v":"-"},{"$f":"OFFSET(Maximos!I48,0,($L$1-1)*10)","v":"-"},{"$f":"OFFSET(Maximos!J48,0,($L$1-1)*10)","v":"-"},{"$f":"OFFSET(Maximos!K48,0,($L$1-1)*10)","v":"-"},{"$f":"OFFSET(Maximos!L48,0,($L$1-1)*10)","v":"-"}]
[null,"Día",{"$f":"OFFSET(Maximos!C49,0,($L$1-1)*10)","v":"4 de febrero"},{"$f":"OFFSET(Maximos!D49,0,($L$1-1)*10)","v":"21 de julio"},{"$f":"OFFSET(Maximos!E49,0,($L$1-1)*10)","v":"17 de febrero"},{"$f":"OFFSET(Maximos!F49,0,($L$1-1)*10)","v":"6 de septiembre"},{"$f":"OFFSET(Maximos!G49,0,($L$1-1)*10)","v":"18 de enero"},{"$f":"OFFSET(Maximos!H49,0,($L$1-1)*10)","v":"-"},{"$f":"OFFSET(Maximos!I49,0,($L$1-1)*10)","v":"-"},{"$f":"OFFSET(Maximos!J49,0,($L$1-1)*10)","v":"-"},{"$f":"OFFSET(Maximos!K49,0,($L$1-1)*10)","v":"-"},{"$f":"OFFSET(Maximos!L49,0,($L$1-1)*10)","v":"-"}]
[null,"Hora",{"$f":"OFFSET(Maximos!C50,0,($L$1-1)*10)","v":"19:56:00"},{"$f":"OFFSET(Maximos!D50,0,($L$1-1)*10)","v":"13:33:00"},{"$f":"OFFSET(Maximos!E50,0,($L$1-1)*10)","v":"20:37:00"},{"$f":"OFFSET(Maximos!F50,0,($L$1-1)*10)","v":"13:32"},{"$f":"OFFSET(Maximos!G50,0,($L$1-1)*10)","v":"19:50"},{"$f":"OFFSET(Maximos!H50,0,($L$1-1)*10)","v":"-"},{"$f":"OFFSET(Maximos!I50,0,($L$1-1)*10)","v":"-"},{"$f":"OFFSET(Maximos!J50,0,($L$1-1)*10)","v":"-"},{"$f":"OFFSET(Maximos!K50,0,($L$1-1)*10)","v":"-"},{"$f":"OFFSET(Maximos!L50,0,($L$1-1)*10)","v":"-"}]
[]
[]
[]
[null,null,{"$f":"OFFSET(Maximos!C51,0,($L$1-1)*10)","v":"2015"},{"$f":"OFFSET(Maximos!D48,0,($L$1-1)*12)","v":0},{"$f":"OFFSET(Maximos!E51,0,($L$1-1)*10)","v":"2016"},{"$f":"OFFSET(Maximos!F48,0,($L$1-1)*12)","v":0},{"$f":"OFFSET(Maximos!G51,0,($L$1-1)*10)","v":"2017"},{"$f":"OFFSET(Maximos!H48,0,($L$1-1)*12)","v":0},{"$f":"OFFSET(Maximos!I51,0,($L$1-1)*10)","v":"2018"},{"$f":"OFFSET(Maximos!J48,0,($L$1-1)*12)","v":0},{"$f":"OFFSET(Maximos!K51,0,($L$1-1)*10)","v":"2019"},{"$f":"OFFSET(Maximos!L48,0,($L$1-1)*12)","v":0}]
[]
[null,null,"Invierno","Verano","Invierno","Verano","Invierno","Verano","Invierno","Verano","Invierno","Verano"]
[]
[null,"Demanda horaria (MWh)",{"$f":"OFFSET(Maximos!C53,0,($L$1-1)*10)","v":40323.769999999997},{"$f":"OFFSET(Maximos!D53,0,($L$1-1)*10)","v":39927.599999999999},{"$f":"OFFSET(Maximos!E53,0,($L$1-1)*10)","v":38239},{"$f":"OFFSET(Maximos!F53,0,($L$1-1)*10)","v":40144},{"$f":"OFFSET(Maximos!G53,0,($L$1-1)*10)","v":41015},{"$f":"OFFSET(Maximos!H53,0,($L$1-1)*10)","v":"-"},{"$f":"OFFSET(Maximos!I53,0,($L$1-1)*10)","v":"-"},{"$f":"OFFSET(Maximos!J53,0,($L$1-1)*10)","v":"-"},{"$f":"OFFSET(Maximos!K53,0,($L$1-1)*10)","v":"-"},{"$f":"OFFSET(Maximos!L53,0,($L$1-1)*10)","v":"-"}]
[null,"Día",{"$f":"OFFSET(Maximos!C54,0,($L$1-1)*10)","v":"4 de febrero"},{"$f":"OFFSET(Maximos!D54,0,($L$1-1)*10)","v":"21 de julio"},{"$f":"OFFSET(Maximos!E54,0,($L$1-1)*10)","v":"17 de febrero"},{"$f":"OFFSET(Maximos!F54,0,($L$1-1)*10)","v":"6 de septiembre"},{"$f":"OFFSET(Maximos!G54,0,($L$1-1)*10)","v":"18 de enero"},{"$f":"OFFSET(Maximos!H54,0,($L$1-1)*10)","v":"-"},{"$f":"OFFSET(Maximos!I54,0,($L$1-1)*10)","v":"-"},{"$f":"OFFSET(Maximos!J54,0,($L$1-1)*10)","v":"-"},{"$f":"OFFSET(Maximos!K54,0,($L$1-1)*10)","v":"-"},{"$f":"OFFSET(Maximos!L54,0,($L$1-1)*10)","v":"-"}]
[null,"Hora",{"$f":"OFFSET(Maximos!C55,0,($L$1-1)*10)","v":21},{"$f":"OFFSET(Maximos!D55,0,($L$1-1)*10)","v":14},{"$f":"OFFSET(Maximos!E55,0,($L$1-1)*10)","v":21},{"$f":"OFFSET(Maximos!F55,0,($L$1-1)*10)","v":14},{"$f":"OFFSET(Maximos!G55,0,($L$1-1)*10)","v":21},{"$f":"OFFSET(Maximos!H55,0,($L$1-1)*10)","v":"-"},{"$f":"OFFSET(Maximos!I55,0,($L$1-1)*10)","v":"-"},{"$f":"OFFSET(Maximos!J55,0,($L$1-1)*10)","v":"-"},{"$f":"OFFSET(Maximos!K55,0,($L$1-1)*10)","v":"-"},{"$f":"OFFSET(Maximos!L55,0,($L$1-1)*10)","v":"-"}]
[]
[]
[]
[null,null,{"$f":"OFFSET(Maximos!C56,0,($L$1-1)*10)","v":"2015"},{"$f":"OFFSET(#REF!,0,($L$1-1)*12)","v":{"$error":"#REF!"}},{"$f":"OFFSET(Maximos!E56,0,($L$1-1)*10)","v":"2016"},{"$f":"OFFSET(#REF!,0,($L$1-1)*12)","v":{"$error":"#REF!"}},{"$f":"OFFSET(Maximos!G56,0,($L$1-1)*10)","v":"2017"},{"$f":"OFFSET(#REF!,0,($L$1-1)*12)","v":{"$error":"#REF!"}},{"$f":"OFFSET(Maximos!I56,0,($L$1-1)*10)","v":"2018"},{"$f":"OFFSET(#REF!,0,($L$1-1)*12)","v":{"$error":"#REF!"}},{"$f":"OFFSET(Maximos!K56,0,($L$1-1)*10)","v":"2019"},{"$f":"OFFSET(#REF!,0,($L$1-1)*12)","v":{"$error":"#REF!"}}]
[]
[null,null,"Invierno","Verano","Invierno","Verano","Invierno","Verano","Invierno","Verano","Invierno","Verano"]
[null,"Demanda diaria (GWh)",{"$f":"OFFSET(Maximos!C58,0,($L$1-1)*10)","v":824.01817599999993},{"$f":"OFFSET(Maximos!D58,0,($L$1-1)*10)","v":813.98779100000002},{"$f":"OFFSET(Maximos!E58,0,($L$1-1)*10)","v":782.06322999999998},{"$f":"OFFSET(Maximos!F58,0,($L$1-1)*10)","v":816.26051500000005},{"$f":"OFFSET(Maximos!G58,0,($L$1-1)*10)","v":834.72963300000004},{"$f":"OFFSET(Maximos!H58,0,($L$1-1)*10)","v":"-"},{"$f":"OFFSET(Maximos!I58,0,($L$1-1)*10)","v":"-"},{"$f":"OFFSET(Maximos!J58,0,($L$1-1)*10)","v":"-"},{"$f":"OFFSET(Maximos!K58,0,($L$1-1)*10)","v":"-"},{"$f":"OFFSET(Maximos!L58,0,($L$1-1)*10)","v":"-"}]
[null,"Día",{"$f":"OFFSET(Maximos!C59,0,($L$1-1)*10)","v":"4 de febrero"},{"$f":"OFFSET(Maximos!D59,0,($L$1-1)*10)","v":"21 de julio"},{"$f":"OFFSET(Maximos!E59,0,($L$1-1)*10)","v":"18 de febrero"},{"$f":"OFFSET(Maximos!F59,0,($L$1-1)*10)","v":"6 de septiembre"},{"$f":"OFFSET(Maximos!G59,0,($L$1-1)*10)","v":"18 de enero"},{"$f":"OFFSET(Maximos!H59,0,($L$1-1)*10)","v":"-"},{"$f":"OFFSET(Maximos!I59,0,($L$1-1)*10)","v":"-"},{"$f":"OFFSET(Maximos!J59,0,($L$1-1)*10)","v":"-"},{"$f":"OFFSET(Maximos!K59,0,($L$1-1)*10)","v":"-"},{"$f":"OFFSET(Maximos!L59,0,($L$1-1)*10)","v":"-"}]
[]
[null,"El periodo de invierno comprende los meses de enero a mayo y de octubre a diciembre. El periodo de verano comprende los meses de junio a septiembre.","Verano (junio - septiembre)"]

{"sheet":"Maximos mensuales Baleares","index":3,"n_rows":20,"n_cols":15,"rows_kept":20,"cut":false,"hidden":false,"merged":[]}
[null,null,null,null,null,null,null,null,null,null,null,null,null,null,12]
[]
[]
[null,null,null,null,null,null,null,null,null,null,null,null,"Sistema eléctrico"]
[null,null,null,null,null,null,null,null,null,null,null,null,"Horizonte temporal"]
[null,null,null,null,null,null,null,null,null,null,null,null,"Periodo"]
[]
[null,null,"Ene.","Feb.","Mar.","Abr.","May.","Jun.","Jul.","Ago.","Sep.","Oct.","Nov.","Dic.",{"$f":"OFFSET(Año!$B$18,($O$1-1),0)","v":2017}]
[]
[null,"Demanda horaria (MWh)",{"$f":"OFFSET(Maximos!C15,0,($O$1-1)*12)","v":973},{"$f":"OFFSET(Maximos!D15,0,($O$1-1)*12)","v":839},{"$f":"OFFSET(Maximos!E15,0,($O$1-1)*12)","v":799},{"$f":"OFFSET(Maximos!F15,0,($O$1-1)*12)","v":"-"},{"$f":"OFFSET(Maximos!G15,0,($O$1-1)*12)","v":"-"},{"$f":"OFFSET(Maximos!H15,0,($O$1-1)*12)","v":"-"},{"$f":"OFFSET(Maximos!I15,0,($O$1-1)*12)","v":"-"},{"$f":"OFFSET(Maximos!J15,0,($O$1-1)*12)","v":"-"},{"$f":"OFFSET(Maximos!K15,0,($O$1-1)*12)","v":"-"},{"$f":"OFFSET(Maximos!L15,0,($O$1-1)*12)","v":"-"},{"$f":"OFFSET(Maximos!M15,0,($O$1-1)*12)","v":"-"},{"$f":"OFFSET(Maximos!N15,0,($O$1-1)*12)","v":"-"},{"$f":"MAX(C10:N10)","v":973}]
[null,"Día",{"$f":"OFFSET(Maximos!C16,0,($O$1-1)*12)","v":17},{"$f":"OFFSET(Maximos!D16,0,($O$1-1)*12)","v":9},{"$f":"OFFSET(Maximos!E16,0,($O$1-1)*12)","v":24},{"$f":"OFFSET(Maximos!F16,0,($O$1-1)*12)","v":"-"},{"$f":"OFFSET(Maximos!G16,0,($O$1-1)*12)","v":"-"},{"$f":"OFFSET(Maximos!H16,0,($O$1-1)*12)","v":"-"},{"$f":"OFFSET(Maximos!I16,0,($O$1-1)*12)","v":"-"},{"$f":"OFFSET(Maximos!J16,0,($O$1-1)*12)","v":"-"},{"$f":"OFFSET(Maximos!K16,0,($O$1-1)*12)","v":"-"},{"$f":"OFFSET(Maximos!L16,0,($O$1-1)*12)","v":"-"},{"$f":"OFFSET(Maximos!M16,0,($O$1-1)*12)","v":"-"},{"$f":"OFFSET(Maximos!N16,0,($O$1-1)*12)","v":"-"},{"$f":"HLOOKUP($O$10,C10:N13,2,0)&\" de \"&HLOOKUP($O$10,C10:N13,4,0)","v":"17 de enero"}]
[null,"Hora",{"$f":"OFFSET(Maximos!C17,0,($O$1-1)*12)","v":21},{"$f":"OFFSET(Maximos!D17,0,($O$1-1)*12)","v":21},{"$f":"OFFSET(Maximos!E17,0,($O$1-1)*12)","v":21},{"$f":"OFFSET(Maximos!F17,0,($O$1-1)*12)","v":"-"},{"$f":"OFFSET(Maximos!G17,0,($O$1-1)*12)","v":"-"},{"$f":"OFFSET(Maximos!H17,0,($O$1-1)*12)","v":"-"},{"$f":"OFFSET(Maximos!I17,0,($O$1-1)*12)","v":"-"},{"$f":"OFFSET(Maximos!J17,0,($O$1-1)*12)","v":"-"},{"$f":"OFFSET(Maximos!K17,0,($O$1-1)*12)","v":"-"},{"$f":"OFFSET(Maximos!L17,0,($O$1-1)*12)","v":"-"},{"$f":"OFFSET(Maximos!M17,0,($O$1-1)*12)","v":"-"},{"$f":"OFFSET(Maximos!N17,0,($O$1-1)*12)","v":"-"},{"$f":"HLOOKUP($O$10,C10:N12,3,0)","v":21}]
[null,null,"enero","febrero","marzo","abril","mayo","junio","julio","agosto","septiembre","octubre","noviembre","diciembre"]
[]
[]
[null,null,"Ene.","Feb.","Mar.","Abr.","May.","Jun.","Jul.","Ago.","Sep.","Oct.","Nov.","Dic.",{"$f":"OFFSET(Año!$B$18,($O$1-1),0)","v":2017}]
[]
[null,"Demanda diaria (MWh)",{"$f":"OFFSET(Maximos!C19,0,($O$1-1)*12)","v":17758.977999999999},{"$f":"OFFSET(Maximos!D19,0,($O$1-1)*12)","v":15209.186},{"$f":"OFFSET(Maximos!E19,0,($O$1-1)*12)","v":14738.481},{"$f":"OFFSET(Maximos!F19,0,($O$1-1)*12)","v":"-"},{"$f":"OFFSET(Maximos!G19,0,($O$1-1)*12)","v":"-"},{"$f":"OFFSET(Maximos!H19,0,($O$1-1)*12)","v":"-"},{"$f":"OFFSET(Maximos!I19,0,($O$1-1)*12)","v":"-"},{"$f":"OFFSET(Maximos!J19,0,($O$1-1)*12)","v":"-"},{"$f":"OFFSET(Maximos!K19,0,($O$1-1)*12)","v":"-"},{"$f":"OFFSET(Maximos!L19,0,($O$1-1)*12)","v":"-"},{"$f":"OFFSET(Maximos!M19,0,($O$1-1)*12)","v":"-"},{"$f":"OFFSET(Maximos!N19,0,($O$1-1)*12)","v":"-"},{"$f":"MAX(C18:N18)","v":17758.977999999999}]
[null,"Día",{"$f":"OFFSET(Maximos!C20,0,($O$1-1)*12)","v":18},{"$f":"OFFSET(Maximos!D20,0,($O$1-1)*12)","v":10},{"$f":"OFFSET(Maximos!E20,0,($O$1-1)*12)","v":24},{"$f":"OFFSET(Maximos!F20,0,($O$1-1)*12)","v":"-"},{"$f":"OFFSET(Maximos!G20,0,($O$1-1)*12)","v":"-"},{"$f":"OFFSET(Maximos!H20,0,($O$1-1)*12)","v":"-"},{"$f":"OFFSET(Maximos!I20,0,($O$1-1)*12)","v":"-"},{"$f":"OFFSET(Maximos!J20,0,($O$1-1)*12)","v":"-"},{"$f":"OFFSET(Maximos!K20,0,($O$1-1)*12)","v":"-"},{"$f":"OFFSET(Maximos!L20,0,($O$1-1)*12)","v":"-"},{"$f":"OFFSET(Maximos!M20,0,($O$1-1)*12)","v":"-"},{"$f":"OFFSET(Maximos!N20,0,($O$1-1)*12)","v":"-"},{"$f":"HLOOKUP($O$18,C18:N20,2,0)&\" de \"&HLOOKUP($O$18,C18:N20,3,0)","v":"18 de enero"}]
[null,null,"enero","febrero","marzo","abril","mayo","junio","julio","agosto","septiembre","octubre","noviembre","diciembre"]

{"sheet":"Maximos anuales Baleares","index":4,"n_rows":24,"n_cols":12,"rows_kept":24,"cut":false,"hidden":false,"merged":[[23,1,23,11],[7,2,7,3],[7,4,7,5],[7,6,7,7],[7,8,7,9],[7,10,7,11],[17,2,17,3],[17,4,17,5],[17,6,17,7],[17,8,17,9],[17,10,17,11]]}
[null,null,null,null,null,null,null,null,null,null,null,3]
[]
[]
[null,null,null,null,null,null,null,null,null,null,"Sistema eléctrico"]
[null,null,null,null,null,null,null,null,null,null,"Horizonte temporal"]
[null,null,null,null,null,null,null,null,null,null,"Periodo"]
[]
[null,null,{"$f":"OFFSET(Maximos!C61,0,($L$1-1)*10)","v":"2016"},{"$f":"OFFSET(Maximos!D48,0,($L$1-1)*12)","v":"-"},{"$f":"OFFSET(Maximos!E61,0,($L$1-1)*10)","v":"2017"},{"$f":"OFFSET(Maximos!F48,0,($L$1-1)*12)","v":"-"},{"$f":"OFFSET(Maximos!G61,0,($L$1-1)*10)","v":"2018"},{"$f":"OFFSET(Maximos!H48,0,($L$1-1)*12)","v":"-"},{"$f":"OFFSET(Maximos!I61,0,($L$1-1)*10)","v":"2019"},{"$f":"OFFSET(Maximos!J48,0,($L$1-1)*12)","v":"-"},{"$f":"OFFSET(Maximos!K61,0,($L$1-1)*10)","v":"2020"},{"$f":"OFFSET(Maximos!L48,0,($L$1-1)*12)","v":40778.867200000001}]
[]
[null,null,"Invierno","Verano","Invierno","Verano","Invierno","Verano","Invierno","Verano","Invierno","Verano"]
[]
[null,"Demanda horaria (MWh)",{"$f":"OFFSET(Maximos!C63,0,($L$1-1)*10)","v":931},{"$f":"OFFSET(Maximos!D63,0,($L$1-1)*10)","v":1148},{"$f":"OFFSET(Maximos!E63,0,($L$1-1)*10)","v":973},{"$f":"OFFSET(Maximos!F63,0,($L$1-1)*10)","v":"-"},{"$f":"OFFSET(Maximos!G63,0,($L$1-1)*10)","v":"-"},{"$f":"OFFSET(Maximos!H63,0,($L$1-1)*10)","v":"-"},{"$f":"OFFSET(Maximos!I63,0,($L$1-1)*10)","v":"-"},{"$f":"OFFSET(Maximos!J63,0,($L$1-1)*10)","v":"-"},{"$f":"OFFSET(Maximos!K63,0,($L$1-1)*10)","v":"-"},{"$f":"OFFSET(Maximos!L63,0,($L$1-1)*10)","v":"-"}]
[null,"Día",{"$f":"OFFSET(Maximos!C64,0,($L$1-1)*10)","v":"4 de octubre"},{"$f":"OFFSET(Maximos!D64,0,($L$1-1)*10)","v":"4 de agosto"},{"$f":"OFFSET(Maximos!E64,0,($L$1-1)*10)","v":"17 de enero"},{"$f":"OFFSET(Maximos!F64,0,($L$1-1)*10)","v":"-"},{"$f":"OFFSET(Maximos!G64,0,($L$1-1)*10)","v":"-"},{"$f":"OFFSET(Maximos!H64,0,($L$1-1)*10)","v":"-"},{"$f":"OFFSET(Maximos!I64,0,($L$1-1)*10)","v":"-"},{"$f":"OFFSET(Maximos!J64,0,($L$1-1)*10)","v":"-"},{"$f":"OFFSET(Maximos!K64,0,($L$1-1)*10)","v":"-"},{"$f":"OFFSET(Maximos!L64,0,($L$1-1)*10)","v":"-"}]
[null,"Hora",{"$f":"OFFSET(Maximos!C65,0,($L$1-1)*10)","v":21},{"$f":"OFFSET(Maximos!D65,0,($L$1-1)*10)","v":22},{"$f":"OFFSET(Maximos!E65,0,($L$1-1)*10)","v":21},{"$f":"OFFSET(Maximos!F65,0,($L$1-1)*10)","v":"-"},{"$f":"OFFSET(Maximos!G65,0,($L$1-1)*10)","v":"-"},{"$f":"OFFSET(Maximos!H65,0,($L$1-1)*10)","v":"-"},{"$f":"OFFSET(Maximos!I65,0,($L$1-1)*10)","v":"-"},{"$f":"OFFSET(Maximos!J65,0,($L$1-1)*10)","v":"-"},{"$f":"OFFSET(Maximos!K65,0,($L$1-1)*10)","v":"-"},{"$f":"OFFSET(Maximos!L65,0,($L$1-1)*10)","v":"-"}]
[]
[]
[]
[null,null,{"$f":"OFFSET(Maximos!C66,0,($L$1-1)*10)","v":"2016"},{"$f":"OFFSET(#REF!,0,($L$1-1)*12)","v":{"$error":"#REF!"}},{"$f":"OFFSET(Maximos!E66,0,($L$1-1)*10)","v":"2017"},{"$f":"OFFSET(#REF!,0,($L$1-1)*12)","v":{"$error":"#REF!"}},{"$f":"OFFSET(Maximos!G66,0,($L$1-1)*10)","v":"2018"},{"$f":"OFFSET(#REF!,0,($L$1-1)*12)","v":{"$error":"#REF!"}},{"$f":"OFFSET(Maximos!I66,0,($L$1-1)*10)","v":"2019"},{"$f":"OFFSET(#REF!,0,($L$1-1)*12)","v":{"$error":"#REF!"}},{"$f":"OFFSET(Maximos!K66,0,($L$1-1)*10)","v":"2020"},{"$f":"OFFSET(#REF!,0,($L$1-1)*12)","v":{"$error":"#REF!"}}]
[]
[null,null,"Invierno","Verano","Invierno","Verano","Invierno","Verano","Invierno","Verano","Invierno","Verano"]
[null,"Demanda diaria (MWh)",{"$f":"OFFSET(Maximos!C68,0,($L$1-1)*10)","v":17452.96},{"$f":"OFFSET(Maximos!D68,0,($L$1-1)*10)","v":23168.428},{"$f":"OFFSET(Maximos!E68,0,($L$1-1)*10)","v":17758.977999999999},{"$f":"OFFSET(Maximos!F68,0,($L$1-1)*10)","v":"-"},{"$f":"OFFSET(Maximos!G68,0,($L$1-1)*10)","v":"-"},{"$f":"OFFSET(Maximos!H68,0,($L$1-1)*10)","v":"-"},{"$f":"OFFSET(Maximos!I68,0,($L$1-1)*10)","v":"-"},{"$f":"OFFSET(Maximos!J68,0,($L$1-1)*10)","v":"-"},{"$f":"OFFSET(Maximos!K68,0,($L$1-1)*10)","v":"-"},{"$f":"OFFSET(Maximos!L68,0,($L$1-1)*10)","v":"-"}]
[null,"Día",{"$f":"OFFSET(Maximos!C69,0,($L$1-1)*10)","v":"5 de octubre"},{"$f":"OFFSET(Maximos!D69,0,($L$1-1)*10)","v":"4 de agosto"},{"$f":"OFFSET(Maximos!E69,0,($L$1-1)*10)","v":"18 de enero"},{"$f":"OFFSET(Maximos!F69,0,($L$1-1)*10)","v":"-"},{"$f":"OFFSET(Maximos!G69,0,($L$1-1)*10)","v":"-"},{"$f":"OFFSET(Maximos!H69,0,($L$1-1)*10)","v":"-"},{"$f":"OFFSET(Maximos!I69,0,($L$1-1)*10)","v":"-"},{"$f":"OFFSET(Maximos!J69,0,($L$1-1)*10)","v":"-"},{"$f":"OFFSET(Maximos!K69,0,($L$1-1)*10)","v":"-"},{"$f":"OFFSET(Maximos!L69,0,($L$1-1)*10)","v":"-"}]
[]
[null,"El periodo de invierno comprende los meses de enero a mayo y de octubre a diciembre. El periodo de verano comprende los meses de junio a septiembre.","Verano (junio - septiembre)"]

{"sheet":"Maximos mensuales Canarias","index":5,"n_rows":20,"n_cols":15,"rows_kept":20,"cut":false,"hidden":false,"merged":[]}
[null,null,null,null,null,null,null,null,null,null,null,null,null,null,12]
[]
[]
[null,null,null,null,null,null,null,null,null,null,null,null,"Sistema eléctrico"]
[null,null,null,null,null,null,null,null,null,null,null,null,"Horizonte temporal"]
[null,null,null,null,null,null,null,null,null,null,null,null,"Periodo"]
[]
[null,null,"Ene.","Feb.","Mar.","Abr.","May.","Jun.","Jul.","Ago.","Sep.","Oct.","Nov.","Dic.",{"$f":"OFFSET(Año!$B$18,($O$1-1),0)","v":2017}]
[]
[null,"Demanda horaria (MWh)",{"$f":"OFFSET(Maximos!C23,0,($O$1-1)*12)","v":1341},{"$f":"OFFSET(Maximos!D23,0,($O$1-1)*12)","v":1332},{"$f":"OFFSET(Maximos!E23,0,($O$1-1)*12)","v":1313},{"$f":"OFFSET(Maximos!F23,0,($O$1-1)*12)","v":"-"},{"$f":"OFFSET(Maximos!G23,0,($O$1-1)*12)","v":"-"},{"$f":"OFFSET(Maximos!H23,0,($O$1-1)*12)","v":"-"},{"$f":"OFFSET(Maximos!I23,0,($O$1-1)*12)","v":"-"},{"$f":"OFFSET(Maximos!J23,0,($O$1-1)*12)","v":"-"},{"$f":"OFFSET(Maximos!K23,0,($O$1-1)*12)","v":"-"},{"$f":"OFFSET(Maximos!L23,0,($O$1-1)*12)","v":"-"},{"$f":"OFFSET(Maximos!M23,0,($O$1-1)*12)","v":"-"},{"$f":"OFFSET(Maximos!N23,0,($O$1-1)*12)","v":"-"},{"$f":"MAX(C10:N10)","v":1341}]
[null,"Día",{"$f":"OFFSET(Maximos!C24,0,($O$1-1)*12)","v":17},{"$f":"OFFSET(Maximos!D24,0,($O$1-1)*12)","v":21},{"$f":"OFFSET(Maximos!E24,0,($O$1-1)*12)","v":9},{"$f":"OFFSET(Maximos!F24,0,($O$1-1)*12)","v":"-"},{"$f":"OFFSET(Maximos!G24,0,($O$1-1)*12)","v":"-"},{"$f":"OFFSET(Maximos!H24,0,($O$1-1)*12)","v":"-"},{"$f":"OFFSET(Maximos!I24,0,($O$1-1)*12)","v":"-"},{"$f":"OFFSET(Maximos!J24,0,($O$1-1)*12)","v":"-"},{"$f":"OFFSET(Maximos!K24,0,($O$1-1)*12)","v":"-"},{"$f":"OFFSET(Maximos!L24,0,($O$1-1)*12)","v":"-"},{"$f":"OFFSET(Maximos!M24,0,($O$1-1)*12)","v":"-"},{"$f":"OFFSET(Maximos!N24,0,($O$1-1)*12)","v":"-"},{"$f":"HLOOKUP($O$10,C10:N13,2,0)&\" de \"&HLOOKUP($O$10,C10:N13,4,0)","v":"17 de enero"}]
[null,"Hora",{"$f":"OFFSET(Maximos!C25,0,($O$1-1)*12)","v":21},{"$f":"OFFSET(Maximos!D25,0,($O$1-1)*12)","v":21},{"$f":"OFFSET(Maximos!E25,0,($O$1-1)*12)","v":21},{"$f":"OFFSET(Maximos!F25,0,($O$1-1)*12)","v":"-"},{"$f":"OFFSET(Maximos!G25,0,($O$1-1)*12)","v":"-"},{"$f":"OFFSET(Maximos!H25,0,($O$1-1)*12)","v":"-"},{"$f":"OFFSET(Maximos!I25,0,($O$1-1)*12)","v":"-"},{"$f":"OFFSET(Maximos!J25,0,($O$1-1)*12)","v":"-"},{"$f":"OFFSET(Maximos!K25,0,($O$1-1)*12)","v":"-"},{"$f":"OFFSET(Maximos!L25,0,($O$1-1)*12)","v":"-"},{"$f":"OFFSET(Maximos!M25,0,($O$1-1)*12)","v":"-"},{"$f":"OFFSET(Maximos!N25,0,($O$1-1)*12)","v":"-"},{"$f":"HLOOKUP($O$10,C10:N12,3,0)","v":21}]
[null,null,"enero","febrero","marzo","abril","mayo","junio","julio","agosto","septiembre","octubre","noviembre","diciembre"]
[]
[]
[null,null,"Ene.","Feb.","Mar.","Abr.","May.","Jun.","Jul.","Ago.","Sep.","Oct.","Nov.","Dic.",{"$f":"OFFSET(Año!$B$18,($O$1-1),0)","v":2017}]
[]
[null,"Demanda diaria (MWh)",{"$f":"OFFSET(Maximos!C27,0,($O$1-1)*12)","v":25131.681},{"$f":"OFFSET(Maximos!D27,0,($O$1-1)*12)","v":24936.843000000001},{"$f":"OFFSET(Maximos!E27,0,($O$1-1)*12)","v":25273.013999999999},{"$f":"OFFSET(Maximos!F27,0,($O$1-1)*12)","v":"-"},{"$f":"OFFSET(Maximos!G27,0,($O$1-1)*12)","v":"-"},{"$f":"OFFSET(Maximos!H27,0,($O$1-1)*12)","v":"-"},{"$f":"OFFSET(Maximos!I27,0,($O$1-1)*12)","v":"-"},{"$f":"OFFSET(Maximos!J27,0,($O$1-1)*12)","v":"-"},{"$f":"OFFSET(Maximos!K27,0,($O$1-1)*12)","v":"-"},{"$f":"OFFSET(Maximos!L27,0,($O$1-1)*12)","v":"-"},{"$f":"OFFSET(Maximos!M27,0,($O$1-1)*12)","v":"-"},{"$f":"OFFSET(Maximos!N27,0,($O$1-1)*12)","v":"-"},{"$f":"MAX(C18:N18)","v":25273.013999999999}]
[null,"Día",{"$f":"OFFSET(Maximos!C28,0,($O$1-1)*12)","v":5},{"$f":"OFFSET(Maximos!D28,0,($O$1-1)*12)","v":22},{"$f":"OFFSET(Maximos!E28,0,($O$1-1)*12)","v":4},{"$f":"OFFSET(Maximos!F28,0,($O$1-1)*12)","v":"-"},{"$f":"OFFSET(Maximos!G28,0,($O$1-1)*12)","v":"-"},{"$f":"OFFSET(Maximos!H28,0,($O$1-1)*12)","v":"-"},{"$f":"OFFSET(Maximos!I28,0,($O$1-1)*12)","v":"-"},{"$f":"OFFSET(Maximos!J28,0,($O$1-1)*12)","v":"-"},{"$f":"OFFSET(Maximos!K28,0,($O$1-1)*12)","v":"-"},{"$f":"OFFSET(Maximos!L28,0,($O$1-1)*12)","v":"-"},{"$f":"OFFSET(Maximos!M28,0,($O$1-1)*12)","v":"-"},{"$f":"OFFSET(Maximos!N28,0,($O$1-1)*12)","v":"-"},{"$f":"HLOOKUP($O$18,C18:N20,2,0)&\" de \"&HLOOKUP($O$18,C18:N20,3,0)","v":"4 de marzo"}]
[null,null,"enero","febrero","marzo","abril","mayo","junio","julio","agosto","septiembre","octubre","noviembre","diciembre"]

{"sheet":"Maximos anuales Canarias","index":6,"n_rows":24,"n_cols":12,"rows_kept":24,"cut":false,"hidden":false,"merged":[[23,1,23,11],[7,2,7,3],[7,4,7,5],[7,6,7,7],[7,8,7,9],[7,10,7,11],[17,2,17,3],[17,4,17,5],[17,6,17,7],[17,8,17,9],[17,10,17,11]]}
[null,null,null,null,null,null,null,null,null,null,null,3]
[]
[]
[null,null,null,null,null,null,null,null,null,null,"Sistema eléctrico"]
[null,null,null,null,null,null,null,null,null,null,"Horizonte temporal"]
[null,null,null,null,null,null,null,null,null,null,"Periodo"]
[]
[null,null,{"$f":"OFFSET(Maximos!C71,0,($L$1-1)*10)","v":"2016"},{"$f":"OFFSET(Maximos!D48,0,($L$1-1)*12)","v":"-"},{"$f":"OFFSET(Maximos!E71,0,($L$1-1)*10)","v":"2017"},{"$f":"OFFSET(Maximos!F48,0,($L$1-1)*12)","v":"-"},{"$f":"OFFSET(Maximos!G71,0,($L$1-1)*10)","v":"2018"},{"$f":"OFFSET(Maximos!H48,0,($L$1-1)*12)","v":"-"},{"$f":"OFFSET(Maximos!I71,0,($L$1-1)*10)","v":"2019"},{"$f":"OFFSET(Maximos!J48,0,($L$1-1)*12)","v":"-"},{"$f":"OFFSET(Maximos!K71,0,($L$1-1)*10)","v":"2020"},{"$f":"OFFSET(Maximos!L48,0,($L$1-1)*12)","v":40778.867200000001}]
[]
[null,null,"Invierno","Verano","Invierno","Verano","Invierno","Verano","Invierno","Verano","Invierno","Verano"]
[]
[null,"Demanda horaria (MWh)",{"$f":"OFFSET(Maximos!C73,0,($L$1-1)*10)","v":1389},{"$f":"OFFSET(Maximos!D73,0,($L$1-1)*10)","v":1384},{"$f":"OFFSET(Maximos!E73,0,($L$1-1)*10)","v":1341},{"$f":"OFFSET(Maximos!F73,0,($L$1-1)*10)","v":"-"},{"$f":"OFFSET(Maximos!G73,0,($L$1-1)*10)","v":"-"},{"$f":"OFFSET(Maximos!H73,0,($L$1-1)*10)","v":"-"},{"$f":"OFFSET(Maximos!I73,0,($L$1-1)*10)","v":"-"},{"$f":"OFFSET(Maximos!J73,0,($L$1-1)*10)","v":"-"},{"$f":"OFFSET(Maximos!K73,0,($L$1-1)*10)","v":"-"},{"$f":"OFFSET(Maximos!L73,0,($L$1-1)*10)","v":"-"}]
[null,"Día",{"$f":"OFFSET(Maximos!C74,0,($L$1-1)*10)","v":"31 de diciembre"},{"$f":"OFFSET(Maximos!D74,0,($L$1-1)*10)","v":"10 de agosto"},{"$f":"OFFSET(Maximos!E74,0,($L$1-1)*10)","v":"17 de enero"},{"$f":"OFFSET(Maximos!F74,0,($L$1-1)*10)","v":"-"},{"$f":"OFFSET(Maximos!G74,0,($L$1-1)*10)","v":"-"},{"$f":"OFFSET(Maximos!H74,0,($L$1-1)*10)","v":"-"},{"$f":"OFFSET(Maximos!I74,0,($L$1-1)*10)","v":"-"},{"$f":"OFFSET(Maximos!J74,0,($L$1-1)*10)","v":"-"},{"$f":"OFFSET(Maximos!K74,0,($L$1-1)*10)","v":"-"},{"$f":"OFFSET(Maximos!L74,0,($L$1-1)*10)","v":"-"}]
[null,"Hora",{"$f":"OFFSET(Maximos!C75,0,($L$1-1)*10)","v":20},{"$f":"OFFSET(Maximos!D75,0,($L$1-1)*10)","v":14},{"$f":"OFFSET(Maximos!E75,0,($L$1-1)*10)","v":21},{"$f":"OFFSET(Maximos!F75,0,($L$1-1)*10)","v":"-"},{"$f":"OFFSET(Maximos!G75,0,($L$1-1)*10)","v":"-"},{"$f":"OFFSET(Maximos!H75,0,($L$1-1)*10)","v":"-"},{"$f":"OFFSET(Maximos!I75,0,($L$1-1)*10)","v":"-"},{"$f":"OFFSET(Maximos!J75,0,($L$1-1)*10)","v":"-"},{"$f":"OFFSET(Maximos!K75,0,($L$1-1)*10)","v":"-"},{"$f":"OFFSET(Maximos!L75,0,($L$1-1)*10)","v":"-"}]
[]
[]
[]
[null,null,{"$f":"OFFSET(Maximos!C76,0,($L$1-1)*10)","v":"2016"},{"$f":"OFFSET(#REF!,0,($L$1-1)*12)","v":{"$error":"#REF!"}},{"$f":"OFFSET(Maximos!E76,0,($L$1-1)*10)","v":"2017"},{"$f":"OFFSET(#REF!,0,($L$1-1)*12)","v":{"$error":"#REF!"}},{"$f":"OFFSET(Maximos!G76,0,($L$1-1)*10)","v":"2018"},{"$f":"OFFSET(#REF!,0,($L$1-1)*12)","v":{"$error":"#REF!"}},{"$f":"OFFSET(Maximos!I76,0,($L$1-1)*10)","v":"2019"},{"$f":"OFFSET(#REF!,0,($L$1-1)*12)","v":{"$error":"#REF!"}},{"$f":"OFFSET(Maximos!K76,0,($L$1-1)*10)","v":"2020"},{"$f":"OFFSET(#REF!,0,($L$1-1)*12)","v":{"$error":"#REF!"}}]
[]
[null,null,"Invierno","Verano","Invierno","Verano","Invierno","Verano","Invierno","Verano","Invierno","Verano"]
[null,"Demanda diaria (MWh)",{"$f":"OFFSET(Maximos!C78,0,($L$1-1)*10)","v":26243.809000000001},{"$f":"OFFSET(Maximos!D78,0,($L$1-1)*10)","v":28015.146000000001},{"$f":"OFFSET(Maximos!E78,0,($L$1-1)*10)","v":25273.013999999999},{"$f":"OFFSET(Maximos!F78,0,($L$1-1)*10)","v":"-"},{"$f":"OFFSET(Maximos!G78,0,($L$1-1)*10)","v":"-"},{"$f":"OFFSET(Maximos!H78,0,($L$1-1)*10)","v":"-"},{"$f":"OFFSET(Maximos!I78,0,($L$1-1)*10)","v":"-"},{"$f":"OFFSET(Maximos!J78,0,($L$1-1)*10)","v":"-"},{"$f":"OFFSET(Maximos!K78,0,($L$1-1)*10)","v":"-"},{"$f":"OFFSET(Maximos!L78,0,($L$1-1)*10)","v":"-"}]
[null,"Día",{"$f":"OFFSET(Maximos!C79,0,($L$1-1)*10)","v":"18 de octubre"},{"$f":"OFFSET(Maximos!D79,0,($L$1-1)*10)","v":"10 de agosto"},{"$f":"OFFSET(Maximos!E79,0,($L$1-1)*10)","v":"4 de marzo"},{"$f":"OFFSET(Maximos!F79,0,($L$1-1)*10)","v":"-"},{"$f":"OFFSET(Maximos!G79,0,($L$1-1)*10)","v":"-"},{"$f":"OFFSET(Maximos!H79,0,($L$1-1)*10)","v":"-"},{"$f":"OFFSET(Maximos!I79,0,($L$1-1)*10)","v":"-"},{"$f":"OFFSET(Maximos!J79,0,($L$1-1)*10)","v":"-"},{"$f":"OFFSET(Maximos!K79,0,($L$1-1)*10)","v":"-"},{"$f":"OFFSET(Maximos!L79,0,($L$1-1)*10)","v":"-"}]
[]
[null,"El periodo de invierno comprende los meses de enero a mayo y de octubre a diciembre. El periodo de verano comprende los meses de junio a septiembre.","Verano (junio - septiembre)"]

{"sheet":"Maximos mensuales Ceuta","index":7,"n_rows":20,"n_cols":15,"rows_kept":20,"cut":false,"hidden":false,"merged":[]}
[null,null,null,null,null,null,null,null,null,null,null,null,null,null,11]
[]
[]
[null,null,null,null,null,null,null,null,null,null,null,null,"Sistema eléctrico"]
[null,null,null,null,null,null,null,null,null,null,null,null,"Horizonte temporal"]
[null,null,null,null,null,null,null,null,null,null,null,null,"Periodo"]
[]
[null,null,"Ene.","Feb.","Mar.","Abr.","May.","Jun.","Jul.","Ago.","Sep.","Oct.","Nov.","Dic.",{"$f":"OFFSET(Año!$B$19,($O$1-1),0)","v":2017}]
[]
[null,"Demanda horaria (MWh)",{"$f":"OFFSET(Maximos!C31,0,($O$1-1)*12)","v":39},{"$f":"OFFSET(Maximos!D31,0,($O$1-1)*12)","v":33},{"$f":"OFFSET(Maximos!E31,0,($O$1-1)*12)","v":31},{"$f":"OFFSET(Maximos!F31,0,($O$1-1)*12)","v":"-"},{"$f":"OFFSET(Maximos!G31,0,($O$1-1)*12)","v":"-"},{"$f":"OFFSET(Maximos!H31,0,($O$1-1)*12)","v":"-"},{"$f":"OFFSET(Maximos!I31,0,($O$1-1)*12)","v":"-"},{"$f":"OFFSET(Maximos!J31,0,($O$1-1)*12)","v":"-"},{"$f":"OFFSET(Maximos!K31,0,($O$1-1)*12)","v":"-"},{"$f":"OFFSET(Maximos!L31,0,($O$1-1)*12)","v":"-"},{"$f":"OFFSET(Maximos!M31,0,($O$1-1)*12)","v":"-"},{"$f":"OFFSET(Maximos!N31,0,($O$1-1)*12)","v":"-"},{"$f":"MAX(C10:N10)","v":39}]
[null,"Día",{"$f":"OFFSET(Maximos!C32,0,($O$1-1)*12)","v":18},{"$f":"OFFSET(Maximos!D32,0,($O$1-1)*12)","v":2},{"$f":"OFFSET(Maximos!E32,0,($O$1-1)*12)","v":2},{"$f":"OFFSET(Maximos!F32,0,($O$1-1)*12)","v":"-"},{"$f":"OFFSET(Maximos!G32,0,($O$1-1)*12)","v":"-"},{"$f":"OFFSET(Maximos!H32,0,($O$1-1)*12)","v":"-"},{"$f":"OFFSET(Maximos!I32,0,($O$1-1)*12)","v":"-"},{"$f":"OFFSET(Maximos!J32,0,($O$1-1)*12)","v":"-"},{"$f":"OFFSET(Maximos!K32,0,($O$1-1)*12)","v":"-"},{"$f":"OFFSET(Maximos!L32,0,($O$1-1)*12)","v":"-"},{"$f":"OFFSET(Maximos!M32,0,($O$1-1)*12)","v":"-"},{"$f":"OFFSET(Maximos!N32,0,($O$1-1)*12)","v":"-"},{"$f":"HLOOKUP($O$10,C10:N13,2,0)&\" de \"&HLOOKUP($O$10,C10:N13,4,0)","v":"18 de enero"}]
[null,"Hora",{"$f":"OFFSET(Maximos!C33,0,($O$1-1)*12)","v":21},{"$f":"OFFSET(Maximos!D33,0,($O$1-1)*12)","v":21},{"$f":"OFFSET(Maximos!E33,0,($O$1-1)*12)","v":21},{"$f":"OFFSET(Maximos!F33,0,($O$1-1)*12)","v":"-"},{"$f":"OFFSET(Maximos!G33,0,($O$1-1)*12)","v":"-"},{"$f":"OFFSET(Maximos!H33,0,($O$1-1)*12)","v":"-"},{"$f":"OFFSET(Maximos!I33,0,($O$1-1)*12)","v":"-"},{"$f":"OFFSET(Maximos!J33,0,($O$1-1)*12)","v":"-"},{"$f":"OFFSET(Maximos!K33,0,($O$1-1)*12)","v":"-"},{"$f":"OFFSET(Maximos!L33,0,($O$1-1)*12)","v":"-"},{"$f":"OFFSET(Maximos!M33,0,($O$1-1)*12)","v":"-"},{"$f":"OFFSET(Maximos!N33,0,($O$1-1)*12)","v":"-"},{"$f":"HLOOKUP($O$10,C10:N12,3,0)","v":21}]
[null,null,"enero","febrero","marzo","abril","mayo","junio","julio","agosto","septiembre","octubre","noviembre","diciembre"]
[]
[]
[null,null,"Ene.","Feb.","Mar.","Abr.","May.","Jun.","Jul.","Ago.","Sep.","Oct.","Nov.","Dic.",{"$f":"OFFSET(Año!$B$19,($O$1-1),0)","v":2017}]
[]
[null,"Demanda diaria (MWh)",{"$f":"OFFSET(Maximos!C35,0,($O$1-1)*12)","v":703.15899999999999},{"$f":"OFFSET(Maximos!D35,0,($O$1-1)*12)","v":599.75199999999995},{"$f":"OFFSET(Maximos!E35,0,($O$1-1)*12)","v":603.94100000000003},{"$f":"OFFSET(Maximos!F35,0,($O$1-1)*12)","v":"-"},{"$f":"OFFSET(Maximos!G35,0,($O$1-1)*12)","v":"-"},{"$f":"OFFSET(Maximos!H35,0,($O$1-1)*12)","v":"-"},{"$f":"OFFSET(Maximos!I35,0,($O$1-1)*12)","v":"-"},{"$f":"OFFSET(Maximos!J35,0,($O$1-1)*12)","v":"-"},{"$f":"OFFSET(Maximos!K35,0,($O$1-1)*12)","v":"-"},{"$f":"OFFSET(Maximos!L35,0,($O$1-1)*12)","v":"-"},{"$f":"OFFSET(Maximos!M35,0,($O$1-1)*12)","v":"-"},{"$f":"OFFSET(Maximos!N35,0,($O$1-1)*12)","v":"-"},{"$f":"MAX(C18:N18)","v":703.15899999999999}]
[null,"Día",{"$f":"OFFSET(Maximos!C36,0,($O$1-1)*12)","v":18},{"$f":"OFFSET(Maximos!D36,0,($O$1-1)*12)","v":10},{"$f":"OFFSET(Maximos!E36,0,($O$1-1)*12)","v":1},{"$f":"OFFSET(Maximos!F36,0,($O$1-1)*12)","v":"-"},{"$f":"OFFSET(Maximos!G36,0,($O$1-1)*12)","v":"-"},{"$f":"OFFSET(Maximos!H36,0,($O$1-1)*12)","v":"-"},{"$f":"OFFSET(Maximos!I36,0,($O$1-1)*12)","v":"-"},{"$f":"OFFSET(Maximos!J36,0,($O$1-1)*12)","v":"-"},{"$f":"OFFSET(Maximos!K36,0,($O$1-1)*12)","v":"-"},{"$f":"OFFSET(Maximos!L36,0,($O$1-1)*12)","v":"-"},{"$f":"OFFSET(Maximos!M36,0,($O$1-1)*12)","v":"-"},{"$f":"OFFSET(Maximos!N36,0,($O$1-1)*12)","v":"-"},{"$f":"HLOOKUP($O$18,C18:N20,2,0)&\" de \"&HLOOKUP($O$18,C18:N20,3,0)","v":"18 de enero"}]
[null,null,"enero","febrero","marzo","abril","mayo","junio","julio","agosto","septiembre","octubre","noviembre","diciembre"]

{"sheet":"Maximos anuales Ceuta","index":8,"n_rows":24,"n_cols":12,"rows_kept":24,"cut":false,"hidden":false,"merged":[[23,1,23,11],[7,2,7,3],[7,4,7,5],[7,6,7,7],[7,8,7,9],[7,10,7,11],[17,2,17,3],[17,4,17,5],[17,6,17,7],[17,8,17,9],[17,10,17,11]]}
[null,null,null,null,null,null,null,null,null,null,null,3]
[]
[]
[null,null,null,null,null,null,null,null,null,null,"Sistema eléctrico"]
[null,null,null,null,null,null,null,null,null,null,"Horizonte temporal"]
[null,null,null,null,null,null,null,null,null,null,"Periodo"]
[]
[null,null,{"$f":"OFFSET(Maximos!C81,0,($L$1-1)*10)","v":"2017"},{"$f":"OFFSET(Maximos!D48,0,($L$1-1)*12)","v":"-"},{"$f":"OFFSET(Maximos!E81,0,($L$1-1)*10)","v":"2018"},{"$f":"OFFSET(Maximos!F48,0,($L$1-1)*12)","v":"-"},{"$f":"OFFSET(Maximos!G81,0,($L$1-1)*10)","v":"2019"},{"$f":"OFFSET(Maximos!H48,0,($L$1-1)*12)","v":"-"},{"$f":"OFFSET(Maximos!I81,0,($L$1-1)*10)","v":"2020"},{"$f":"OFFSET(Maximos!J48,0,($L$1-1)*12)","v":"-"},{"$f":"OFFSET(Maximos!K81,0,($L$1-1)*10)","v":"2021"},{"$f":"OFFSET(Maximos!L48,0,($L$1-1)*12)","v":40778.867200000001}]
[]
[null,null,"Invierno","Verano","Invierno","Verano","Invierno","Verano","Invierno","Verano","Invierno","Verano"]
[]
[null,"Demanda horaria (MWh)",{"$f":"OFFSET(Maximos!C83,0,($L$1-1)*10)","v":39},{"$f":"OFFSET(Maximos!D83,0,($L$1-1)*10)","v":"-"},{"$f":"OFFSET(Maximos!E83,0,($L$1-1)*10)","v":"-"},{"$f":"OFFSET(Maximos!F83,0,($L$1-1)*10)","v":"-"},{"$f":"OFFSET(Maximos!G83,0,($L$1-1)*10)","v":"-"},{"$f":"OFFSET(Maximos!H83,0,($L$1-1)*10)","v":"-"},{"$f":"OFFSET(Maximos!I83,0,($L$1-1)*10)","v":"-"},{"$f":"OFFSET(Maximos!J83,0,($L$1-1)*10)","v":"-"},{"$f":"OFFSET(Maximos!K83,0,($L$1-1)*10)","v":"-"},{"$f":"OFFSET(Maximos!L83,0,($L$1-1)*10)","v":"-"}]
[null,"Día",{"$f":"OFFSET(Maximos!C84,0,($L$1-1)*10)","v":"18 de enero"},{"$f":"OFFSET(Maximos!D84,0,($L$1-1)*10)","v":"-"},{"$f":"OFFSET(Maximos!E84,0,($L$1-1)*10)","v":"-"},{"$f":"OFFSET(Maximos!F84,0,($L$1-1)*10)","v":"-"},{"$f":"OFFSET(Maximos!G84,0,($L$1-1)*10)","v":"-"},{"$f":"OFFSET(Maximos!H84,0,($L$1-1)*10)","v":"-"},{"$f":"OFFSET(Maximos!I84,0,($L$1-1)*10)","v":"-"},{"$f":"OFFSET(Maximos!J84,0,($L$1-1)*10)","v":"-"},{"$f":"OFFSET(Maximos!K84,0,($L$1-1)*10)","v":"-"},{"$f":"OFFSET(Maximos!L84,0,($L$1-1)*10)","v":"-"}]
[null,"Hora",{"$f":"OFFSET(Maximos!C85,0,($L$1-1)*10)","v":21},{"$f":"OFFSET(Maximos!D85,0,($L$1-1)*10)","v":"-"},{"$f":"OFFSET(Maximos!E85,0,($L$1-1)*10)","v":"-"},{"$f":"OFFSET(Maximos!F85,0,($L$1-1)*10)","v":"-"},{"$f":"OFFSET(Maximos!G85,0,($L$1-1)*10)","v":"-"},{"$f":"OFFSET(Maximos!H85,0,($L$1-1)*10)","v":"-"},{"$f":"OFFSET(Maximos!I85,0,($L$1-1)*10)","v":"-"},{"$f":"OFFSET(Maximos!J85,0,($L$1-1)*10)","v":"-"},{"$f":"OFFSET(Maximos!K85,0,($L$1-1)*10)","v":"-"},{"$f":"OFFSET(Maximos!L85,0,($L$1-1)*10)","v":"-"}]
[]
[]
[]
[null,null,{"$f":"OFFSET(Maximos!C86,0,($L$1-1)*10)","v":"2017"},{"$f":"OFFSET(#REF!,0,($L$1-1)*12)","v":{"$error":"#REF!"}},{"$f":"OFFSET(Maximos!E86,0,($L$1-1)*10)","v":"2018"},{"$f":"OFFSET(#REF!,0,($L$1-1)*12)","v":{"$error":"#REF!"}},{"$f":"OFFSET(Maximos!G86,0,($L$1-1)*10)","v":"2019"},{"$f":"OFFSET(#REF!,0,($L$1-1)*12)","v":{"$error":"#REF!"}},{"$f":"OFFSET(Maximos!I86,0,($L$1-1)*10)","v":"2020"},{"$f":"OFFSET(#REF!,0,($L$1-1)*12)","v":{"$error":"#REF!"}},{"$f":"OFFSET(Maximos!K86,0,($L$1-1)*10)","v":"2021"},{"$f":"OFFSET(#REF!,0,($L$1-1)*12)","v":{"$error":"#REF!"}}]
[]
[null,null,"Invierno","Verano","Invierno","Verano","Invierno","Verano","Invierno","Verano","Invierno","Verano"]
[null,"Demanda diaria (MWh)",{"$f":"OFFSET(Maximos!C88,0,($L$1-1)*10)","v":703.15899999999999},{"$f":"OFFSET(Maximos!D88,0,($L$1-1)*10)","v":"-"},{"$f":"OFFSET(Maximos!E88,0,($L$1-1)*10)","v":"-"},{"$f":"OFFSET(Maximos!F88,0,($L$1-1)*10)","v":"-"},{"$f":"OFFSET(Maximos!G88,0,($L$1-1)*10)","v":"-"},{"$f":"OFFSET(Maximos!H88,0,($L$1-1)*10)","v":"-"},{"$f":"OFFSET(Maximos!I88,0,($L$1-1)*10)","v":"-"},{"$f":"OFFSET(Maximos!J88,0,($L$1-1)*10)","v":"-"},{"$f":"OFFSET(Maximos!K88,0,($L$1-1)*10)","v":"-"},{"$f":"OFFSET(Maximos!L88,0,($L$1-1)*10)","v":"-"}]
[null,"Día",{"$f":"OFFSET(Maximos!C89,0,($L$1-1)*10)","v":"18 de enero"},{"$f":"OFFSET(Maximos!D89,0,($L$1-1)*10)","v":"-"},{"$f":"OFFSET(Maximos!E89,0,($L$1-1)*10)","v":"-"},{"$f":"OFFSET(Maximos!F89,0,($L$1-1)*10)","v":"-"},{"$f":"OFFSET(Maximos!G89,0,($L$1-1)*10)","v":"-"},{"$f":"OFFSET(Maximos!H89,0,($L$1-1)*10)","v":"-"},{"$f":"OFFSET(Maximos!I89,0,($L$1-1)*10)","v":"-"},{"$f":"OFFSET(Maximos!J89,0,($L$1-1)*10)","v":"-"},{"$f":"OFFSET(Maximos!K89,0,($L$1-1)*10)","v":"-"},{"$f":"OFFSET(Maximos!L89,0,($L$1-1)*10)","v":"-"}]
[]
[null,"El periodo de invierno comprende los meses de enero a mayo y de octubre a diciembre. El periodo de verano comprende los meses de junio a septiembre.","Verano (junio - septiembre)"]

{"sheet":"Maximos mensuales Melilla","index":9,"n_rows":20,"n_cols":15,"rows_kept":20,"cut":false,"hidden":false,"merged":[]}
[null,null,null,null,null,null,null,null,null,null,null,null,null,null,11]
[]
[]
[null,null,null,null,null,null,null,null,null,null,null,null,"Sistema eléctrico"]
[null,null,null,null,null,null,null,null,null,null,null,null,"Horizonte temporal"]
[null,null,null,null,null,null,null,null,null,null,null,null,"Periodo"]
[]
[null,null,"Ene.","Feb.","Mar.","Abr.","May.","Jun.","Jul.","Ago.","Sep.","Oct.","Nov.","Dic.",{"$f":"OFFSET(Año!$B$19,($O$1-1),0)","v":2017}]
[]
[null,"Demanda horaria (MWh)",{"$f":"OFFSET(Maximos!C39,0,($O$1-1)*12)","v":40},{"$f":"OFFSET(Maximos!D39,0,($O$1-1)*12)","v":35},{"$f":"OFFSET(Maximos!E39,0,($O$1-1)*12)","v":32},{"$f":"OFFSET(Maximos!F39,0,($O$1-1)*12)","v":"-"},{"$f":"OFFSET(Maximos!G39,0,($O$1-1)*12)","v":"-"},{"$f":"OFFSET(Maximos!H39,0,($O$1-1)*12)","v":"-"},{"$f":"OFFSET(Maximos!I39,0,($O$1-1)*12)","v":"-"},{"$f":"OFFSET(Maximos!J39,0,($O$1-1)*12)","v":"-"},{"$f":"OFFSET(Maximos!K39,0,($O$1-1)*12)","v":"-"},{"$f":"OFFSET(Maximos!L39,0,($O$1-1)*12)","v":"-"},{"$f":"OFFSET(Maximos!M39,0,($O$1-1)*12)","v":"-"},{"$f":"OFFSET(Maximos!N39,0,($O$1-1)*12)","v":"-"},{"$f":"MAX(C10:N10)","v":40}]
[null,"Día",{"$f":"OFFSET(Maximos!C40,0,($O$1-1)*12)","v":19},{"$f":"OFFSET(Maximos!D40,0,($O$1-1)*12)","v":2},{"$f":"OFFSET(Maximos!E40,0,($O$1-1)*12)","v":23},{"$f":"OFFSET(Maximos!F40,0,($O$1-1)*12)","v":"-"},{"$f":"OFFSET(Maximos!G40,0,($O$1-1)*12)","v":"-"},{"$f":"OFFSET(Maximos!H40,0,($O$1-1)*12)","v":"-"},{"$f":"OFFSET(Maximos!I40,0,($O$1-1)*12)","v":"-"},{"$f":"OFFSET(Maximos!J40,0,($O$1-1)*12)","v":"-"},{"$f":"OFFSET(Maximos!K40,0,($O$1-1)*12)","v":"-"},{"$f":"OFFSET(Maximos!L40,0,($O$1-1)*12)","v":"-"},{"$f":"OFFSET(Maximos!M40,0,($O$1-1)*12)","v":"-"},{"$f":"OFFSET(Maximos!N40,0,($O$1-1)*12)","v":"-"},{"$f":"HLOOKUP($O$10,C10:N13,2,0)&\" de \"&HLOOKUP($O$10,C10:N13,4,0)","v":"19 de enero"}]
[null,"Hora",{"$f":"OFFSET(Maximos!C41,0,($O$1-1)*12)","v":21},{"$f":"OFFSET(Maximos!D41,0,($O$1-1)*12)","v":21},{"$f":"OFFSET(Maximos!E41,0,($O$1-1)*12)","v":20},{"$f":"OFFSET(Maximos!F41,0,($O$1-1)*12)","v":"-"},{"$f":"OFFSET(Maximos!G41,0,($O$1-1)*12)","v":"-"},{"$f":"OFFSET(Maximos!H41,0,($O$1-1)*12)","v":"-"},{"$f":"OFFSET(Maximos!I41,0,($O$1-1)*12)","v":"-"},{"$f":"OFFSET(Maximos!J41,0,($O$1-1)*12)","v":"-"},{"$f":"OFFSET(Maximos!K41,0,($O$1-1)*12)","v":"-"},{"$f":"OFFSET(Maximos!L41,0,($O$1-1)*12)","v":"-"},{"$f":"OFFSET(Maximos!M41,0,($O$1-1)*12)","v":"-"},{"$f":"OFFSET(Maximos!N41,0,($O$1-1)*12)","v":"-"},{"$f":"HLOOKUP($O$10,C10:N12,3,0)","v":21}]
[null,null,"enero","febrero","marzo","abril","mayo","junio","julio","agosto","septiembre","octubre","noviembre","diciembre"]
[]
[]
[null,null,"Ene.","Feb.","Mar.","Abr.","May.","Jun.","Jul.","Ago.","Sep.","Oct.","Nov.","Dic.",{"$f":"OFFSET(Año!$B$19,($O$1-1),0)","v":2017}]
[]
[null,"Demanda diaria (MWh)",{"$f":"OFFSET(Maximos!C43,0,($O$1-1)*12)","v":712.86599999999999},{"$f":"OFFSET(Maximos!D43,0,($O$1-1)*12)","v":602.14599999999996},{"$f":"OFFSET(Maximos!E43,0,($O$1-1)*12)","v":614.27700000000004},{"$f":"OFFSET(Maximos!F43,0,($O$1-1)*12)","v":"-"},{"$f":"OFFSET(Maximos!G43,0,($O$1-1)*12)","v":"-"},{"$f":"OFFSET(Maximos!H43,0,($O$1-1)*12)","v":"-"},{"$f":"OFFSET(Maximos!I43,0,($O$1-1)*12)","v":"-"},{"$f":"OFFSET(Maximos!J43,0,($O$1-1)*12)","v":"-"},{"$f":"OFFSET(Maximos!K43,0,($O$1-1)*12)","v":"-"},{"$f":"OFFSET(Maximos!L43,0,($O$1-1)*12)","v":"-"},{"$f":"OFFSET(Maximos!M43,0,($O$1-1)*12)","v":"-"},{"$f":"OFFSET(Maximos!N43,0,($O$1-1)*12)","v":"-"},{"$f":"MAX(C18:N18)","v":712.86599999999999}]
[null,"Día",{"$f":"OFFSET(Maximos!C44,0,($O$1-1)*12)","v":20},{"$f":"OFFSET(Maximos!D44,0,($O$1-1)*12)","v":1},{"$f":"OFFSET(Maximos!E44,0,($O$1-1)*12)","v":23},{"$f":"OFFSET(Maximos!F44,0,($O$1-1)*12)","v":"-"},{"$f":"OFFSET(Maximos!G44,0,($O$1-1)*12)","v":"-"},{"$f":"OFFSET(Maximos!H44,0,($O$1-1)*12)","v":"-"},{"$f":"OFFSET(Maximos!I44,0,($O$1-1)*12)","v":"-"},{"$f":"OFFSET(Maximos!J44,0,($O$1-1)*12)","v":"-"},{"$f":"OFFSET(Maximos!K44,0,($O$1-1)*12)","v":"-"},{"$f":"OFFSET(Maximos!L44,0,($O$1-1)*12)","v":"-"},{"$f":"OFFSET(Maximos!M44,0,($O$1-1)*12)","v":"-"},{"$f":"OFFSET(Maximos!N44,0,($O$1-1)*12)","v":"-"},{"$f":"HLOOKUP($O$18,C18:N20,2,0)&\" de \"&HLOOKUP($O$18,C18:N20,3,0)","v":"20 de enero"}]
[null,null,"enero","febrero","marzo","abril","mayo","junio","julio","agosto","septiembre","octubre","noviembre","diciembre"]

{"sheet":"Maximos anuales Melilla","index":10,"n_rows":24,"n_cols":12,"rows_kept":24,"cut":false,"hidden":false,"merged":[[23,1,23,11],[7,2,7,3],[7,4,7,5],[7,6,7,7],[7,8,7,9],[7,10,7,11],[17,2,17,3],[17,4,17,5],[17,6,17,7],[17,8,17,9],[17,10,17,11]]}
[null,null,null,null,null,null,null,null,null,null,null,3]
[]
[]
[null,null,null,null,null,null,null,null,null,null,"Sistema eléctrico"]
[null,null,null,null,null,null,null,null,null,null,"Horizonte temporal"]
[null,null,null,null,null,null,null,null,null,null,"Periodo"]
[]
[null,null,{"$f":"OFFSET(Maximos!C91,0,($L$1-1)*10)","v":"2017"},{"$f":"OFFSET(Maximos!D48,0,($L$1-1)*12)","v":"-"},{"$f":"OFFSET(Maximos!E91,0,($L$1-1)*10)","v":"2018"},{"$f":"OFFSET(Maximos!F48,0,($L$1-1)*12)","v":"-"},{"$f":"OFFSET(Maximos!G91,0,($L$1-1)*10)","v":"2019"},{"$f":"OFFSET(Maximos!H48,0,($L$1-1)*12)","v":"-"},{"$f":"OFFSET(Maximos!I91,0,($L$1-1)*10)","v":"2020"},{"$f":"OFFSET(Maximos!J48,0,($L$1-1)*12)","v":"-"},{"$f":"OFFSET(Maximos!K91,0,($L$1-1)*10)","v":"2021"}]
[]
[null,null,"Invierno","Verano","Invierno","Verano","Invierno","Verano","Invierno","Verano","Invierno","Verano"]
[]
[null,"Demanda horaria (MWh)",{"$f":"OFFSET(Maximos!C93,0,($L$1-1)*10)","v":40},{"$f":"OFFSET(Maximos!D93,0,($L$1-1)*10)","v":"-"},{"$f":"OFFSET(Maximos!E93,0,($L$1-1)*10)","v":"-"},{"$f":"OFFSET(Maximos!F93,0,($L$1-1)*10)","v":"-"},{"$f":"OFFSET(Maximos!G93,0,($L$1-1)*10)","v":"-"},{"$f":"OFFSET(Maximos!H93,0,($L$1-1)*10)","v":"-"},{"$f":"OFFSET(Maximos!I93,0,($L$1-1)*10)","v":"-"},{"$f":"OFFSET(Maximos!J93,0,($L$1-1)*10)","v":"-"},{"$f":"OFFSET(Maximos!K93,0,($L$1-1)*10)","v":"-"},{"$f":"OFFSET(Maximos!L93,0,($L$1-1)*10)","v":"-"}]
[null,"Día",{"$f":"OFFSET(Maximos!C94,0,($L$1-1)*10)","v":"19 de enero"},{"$f":"OFFSET(Maximos!D94,0,($L$1-1)*10)","v":"-"},{"$f":"OFFSET(Maximos!E94,0,($L$1-1)*10)","v":"-"},{"$f":"OFFSET(Maximos!F94,0,($L$1-1)*10)","v":"-"},{"$f":"OFFSET(Maximos!G94,0,($L$1-1)*10)","v":"-"},{"$f":"OFFSET(Maximos!H94,0,($L$1-1)*10)","v":"-"},{"$f":"OFFSET(Maximos!I94,0,($L$1-1)*10)","v":"-"},{"$f":"OFFSET(Maximos!J94,0,($L$1-1)*10)","v":"-"},{"$f":"OFFSET(Maximos!K94,0,($L$1-1)*10)","v":"-"},{"$f":"OFFSET(Maximos!L94,0,($L$1-1)*10)","v":"-"}]
[null,"Hora",{"$f":"OFFSET(Maximos!C95,0,($L$1-1)*10)","v":21},{"$f":"OFFSET(Maximos!D95,0,($L$1-1)*10)","v":"-"},{"$f":"OFFSET(Maximos!E95,0,($L$1-1)*10)","v":"-"},{"$f":"OFFSET(Maximos!F95,0,($L$1-1)*10)","v":"-"},{"$f":"OFFSET(Maximos!G95,0,($L$1-1)*10)","v":"-"},{"$f":"OFFSET(Maximos!H95,0,($L$1-1)*10)","v":"-"},{"$f":"OFFSET(Maximos!I95,0,($L$1-1)*10)","v":"-"},{"$f":"OFFSET(Maximos!J95,0,($L$1-1)*10)","v":"-"},{"$f":"OFFSET(Maximos!K95,0,($L$1-1)*10)","v":"-"},{"$f":"OFFSET(Maximos!L95,0,($L$1-1)*10)","v":"-"}]
[]
[]
[]
[null,null,{"$f":"OFFSET(Maximos!C96,0,($L$1-1)*10)","v":"2017"},{"$f":"OFFSET(#REF!,0,($L$1-1)*12)","v":{"$error":"#REF!"}},{"$f":"OFFSET(Maximos!E96,0,($L$1-1)*10)","v":"2018"},{"$f":"OFFSET(#REF!,0,($L$1-1)*12)","v":{"$error":"#REF!"}},{"$f":"OFFSET(Maximos!G96,0,($L$1-1)*10)","v":"2019"},{"$f":"OFFSET(#REF!,0,($L$1-1)*12)","v":{"$error":"#REF!"}},{"$f":"OFFSET(Maximos!I96,0,($L$1-1)*10)","v":"2020"},{"$f":"OFFSET(#REF!,0,($L$1-1)*12)","v":{"$error":"#REF!"}},{"$f":"OFFSET(Maximos!K96,0,($L$1-1)*10)","v":"2021"},{"$f":"OFFSET(#REF!,0,($L$1-1)*12)","v":{"$error":"#REF!"}}]
[]
[null,null,"Invierno","Verano","Invierno","Verano","Invierno","Verano","Invierno","Verano","Invierno","Verano"]
[null,"Demanda diaria (MWh)",{"$f":"OFFSET(Maximos!C98,0,($L$1-1)*10)","v":712.86599999999999},{"$f":"OFFSET(Maximos!D98,0,($L$1-1)*10)","v":"-"},{"$f":"OFFSET(Maximos!E98,0,($L$1-1)*10)","v":"-"},{"$f":"OFFSET(Maximos!F98,0,($L$1-1)*10)","v":"-"},{"$f":"OFFSET(Maximos!G98,0,($L$1-1)*10)","v":"-"},{"$f":"OFFSET(Maximos!H98,0,($L$1-1)*10)","v":"-"},{"$f":"OFFSET(Maximos!I98,0,($L$1-1)*10)","v":"-"},{"$f":"OFFSET(Maximos!J98,0,($L$1-1)*10)","v":"-"},{"$f":"OFFSET(Maximos!K98,0,($L$1-1)*10)","v":"-"},{"$f":"OFFSET(Maximos!L98,0,($L$1-1)*10)","v":"-"}]
[null,"Día",{"$f":"OFFSET(Maximos!C99,0,($L$1-1)*10)","v":"20 de enero"},{"$f":"OFFSET(Maximos!D99,0,($L$1-1)*10)","v":"-"},{"$f":"OFFSET(Maximos!E99,0,($L$1-1)*10)","v":"-"},{"$f":"OFFSET(Maximos!F99,0,($L$1-1)*10)","v":"-"},{"$f":"OFFSET(Maximos!G99,0,($L$1-1)*10)","v":"-"},{"$f":"OFFSET(Maximos!H99,0,($L$1-1)*10)","v":"-"},{"$f":"OFFSET(Maximos!I99,0,($L$1-1)*10)","v":"-"},{"$f":"OFFSET(Maximos!J99,0,($L$1-1)*10)","v":"-"},{"$f":"OFFSET(Maximos!K99,0,($L$1-1)*10)","v":"-"},{"$f":"OFFSET(Maximos!L99,0,($L$1-1)*10)","v":"-"}]
[]
[null,"El periodo de invierno comprende los meses de enero a mayo y de octubre a diciembre. El periodo de verano comprende los meses de junio a septiembre.","Verano (junio - septiembre)"]

{"sheet":"Maximos","index":11,"n_rows":99,"n_cols":362,"rows_kept":99,"cut":false,"hidden":true,"merged":[]}
[]
[null,"Potencia máxima instantánea peninsular ","1990-01-01","1990-02-01","1990-03-01","1990-04-01","1990-05-01","1990-06-01","1990-07-01","1990-08-01","1990-09-01","1990-10-01","1990-11-01","1990-12-01","1991-01-01","1991-02-01","1991-03-01","1991-04-01","1991-05-01","1991-06-01","1991-07-01","1991-08-01","1991-09-01","1991-10-01","1991-11-01","1991-12-01","1992-01-01","1992-02-01","1992-03-01","1992-04-01","1992-05-01","1992-06-01","1992-07-01","1992-08-01","1992-09-01","1992-10-01","1992-11-01","1992-12-01","1993-01-01","1993-02-01","1993-03-01","1993-04-01","1993-05-01","1993-06-01","1993-07-01","1993-08-01","1993-09-01","1993-10-01","1993-11-01","1993-12-01","1994-01-01","1994-02-01","1994-03-01","1994-04-01","1994-05-01","1994-06-01","1994-07-01","1994-08-01","1994-09-01","1994-10-01","1994-11-01","1994-12-01","1995-01-01","1995-02-01","1995-03-01","1995-04-01","1995-05-01","1995-06-01","1995-07-01","1995-08-01","1995-09-01","1995-10-01","1995-11-01","1995-12-01","1996-01-01","1996-02-01","1996-03-01","1996-04-01","1996-05-01","1996-06-01","1996-07-01","1996-08-01","1996-09-01","1996-10-01","1996-11-01","1996-12-01","1997-01-01","1997-02-01","1997-03-01","1997-04-01","1997-05-01","1997-06-01","1997-07-01","1997-08-01","1997-09-01","1997-10-01","1997-11-01","1997-12-01","1998-01-01","1998-02-01","1998-03-01","1998-04-01","1998-05-01","1998-06-01","1998-07-01","1998-08-01","1998-09-01","1998-10-01","1998-11-01","1998-12-01","1999-01-01","1999-02-01","1999-03-01","1999-04-01","1999-05-01","1999-06-01","1999-07-01","1999-08-01","1999-09-01","1999-10-01","1999-11-01","1999-12-01","2000-01-01","2000-02-01","2000-03-01","2000-04-01","2000-05-01","2000-06-01","2000-07-01","2000-08-01","2000-09-01","2000-10-01","2000-11-01","2000-12-01","2001-01-01","2001-02-01","2001-03-01","2001-04-01","2001-05-01","2001-06-01","2001-07-01","2001-08-01","2001-09-01","2001-10-01","2001-11-01","2001-12-01","2002-01-01","2002-02-01","2002-03-01","2002-04-01","2002-05-01","2002-06-01","2002-07-01","2002-08-01","2002-09-01","2002-10-01","2002-11-01","2002-12-01","2003-01-01","2003-02-01","2003-03-01","2003-04-01","2003-05-01","2003-06-01","2003-07-01","2003-08-01","2003-09-01","2003-10-01","2003-11-01","2003-12-01","2004-01-01","2004-02-01","2004-03-01","2004-04-01","2004-05-01","2004-06-01","2004-07-01","2004-08-01","2004-09-01","2004-10-01","2004-11-01","2004-12-01","2005-01-01","2005-02-01","2005-03-01","2005-04-01","2005-05-01","2005-06-01","2005-07-01","2005-08-01","2005-09-01","2005-10-01","2005-11-01","2005-12-01","2006-01-01","2006-02-01","2006-03-01","2006-04-01","2006-05-01","2006-06-01","2006-07-01","2006-08-01","2006-09-01","2006-10-01","2006-11-01","2006-12-01","2007-01-01","2007-02-01","2007-03-01","2007-04-01","2007-05-01","2007-06-01","2007-07-01","2007-08-01","2007-09-01","2007-10-01","2007-11-01","2007-12-01","2008-01-01","2008-02-01","2008-03-01","2008-04-01","2008-05-01","2008-06-01","2008-07-01","2008-08-01","2008-09-01","2008-10-01","2008-11-01","2008-12-01","2009-01-01","2009-02-01","2009-03-01","2009-04-01","2009-05-01","2009-06-01","2009-07-01","2009-08-01","2009-09-01","2009-10-01","2009-11-01","2009-12-01","2010-01-01","2010-02-01","2010-03-01","2010-04-01","2010-05-01","2010-06-01","2010-07-01","2010-08-01","2010-09-01","2010-10-01","2010-11-01","2010-12-01","2011-01-01","2011-02-01","2011-03-01","2011-04-01","2011-05-01","2011-06-01","2011-07-01","2011-08-01","2011-09-01","2011-10-01","2011-11-01","2011-12-01","2012-01-01","2012-02-01","2012-03-01","2012-04-01","2012-05-01","2012-06-01","2012-07-01","2012-08-01","2012-09-01","2012-10-01","2012-11-01","2012-12-01","2013-01-01","2013-02-01","2013-03-01","2013-04-01","2013-05-01","2013-06-01","2013-07-01","2013-08-01","2013-09-01","2013-10-01","2013-11-01","2013-12-01","2014-01-01","2014-02-01","2014-03-01","2014-04-01","2014-05-01","2014-06-01","2014-07-01","2014-08-01","2014-09-01","2014-10-01","2014-11-01","2014-12-01","2015-01-01","2015-02-01","2015-03-01","2015-04-01","2015-05-01","2015-06-01","2015-07-01","2015-08-01","2015-09-01","2015-10-01","2015-11-01","2015-12-01","2016-01-01","2016-02-01","2016-03-01","2016-04-01","2016-05-01","2016-06-01","2016-07-01","2016-08-01","2016-09-01","2016-10-01","2016-11-01","2016-12-01","2017-01-01","2017-02-01","2017-03-01","2017-04-01","2017-05-01","2017-06-01","2017-07-01","2017-08-01","2017-09-01","2017-10-01","2017-11-01","2017-12-01","2018-01-01","2018-02-01","2018-03-01","2018-04-01","2018-05-01","2018-06-01","2018-07-01","2018-08-01","2018-09-01","2018-10-01","2018-11-01","2018-12-01","2019-01-01","2019-02-01","2019-03-01","2019-04-01","2019-05-01","2019-06-01","2019-07-01","2019-08-01","2019-09-01","2019-10-01","2019-11-01","2019-12-01"]
[null,"Potencia instantánea (MW)","-","-","-","-","-","-","-","-","-","-","-","-","-","-","-","-","-","-","-","-","-","-","-","-","-","-","-","-","-","-","-","-","-","-","-","-","-","-","-","-","-","-","-","-","-","-","-","-","-","-","-","-","-","-","-","-","-","-","-","-","-","-","-","-","-","-","-","-","-","-","-","-","-","-","-","-","-","-","-","-","-","-","-","-","-","-","-","-","-","-","-","-","-","-","-","-","-","-","-","-","-","-","-","-","-","-","-","-","-","-","-","-","-","-","-","-","-","-","-","-","-","-","-","-","-","-","-","-","-","-","-","-","-","-","-","-","-","-","-","-","-","-","-","-","-","-","-","-","-","-","-","-","-","-","-","-","-","-","-","-","-","-","-","-","-","-","-","-","-","-","-","-","-","-","-","-","-","-","-","-","-","-","-","-","-","-","-","-","-","-","-","-",42281.789100000002,40177.675799999997,39582.410199999998,34199.757799999999,35721.195299999999,38380.238299999997,40778.867200000001,38617.871099999997,39513.531300000002,35949.371099999997,37580.902300000002,42429.859400000001,43471.675799999997,41083.640599999999,39904.449200000003,37339.324200000003,36262.277300000002,37471.636700000003,39504.972699999998,39365.210899999998,38329.996099999997,37139.734400000001,41748.148399999998,45450,41912.519500000002,40964.714800000002,40997.441400000003,"37535",35721.050799999997,40315.289100000002,40407.058599999997,39408.781300000002,38937.269500000002,38276.574200000003,42586.382799999999,43252.167999999998,44495.910199999998,40052.042999999998,39219.644500000002,36086.218800000002,34450.027300000002,38710.785199999998,40267.753900000003,39030.695299999999,40487,36019.246099999997,39238.582000000002,43567.125,44486,43866,42257,38602,36164,38200,41318,39297,38394,36805,43849,43199,43969,42139,41719,34623,37041,40139,38860,37810,37932,35939,38101,39725,40802,43527,38492,36089,34624,39124,37829,38479,35849,35623,38147,40131,40019,40277,38799,35200,32885,34861,37570,36438,34870,34595,39748,39309,38674,38948,37286,34503,32312,35176,37299,36625,37192,34078,36097,38268,40613,40726,37058,33563,34629,37639,40192,36939,35873,33523,37538,37002,38391,38464,38274,34947,32830,35973,38556,37147,40489,34293,36881,38011,41381,36974,35935,"-","-","-","-","-","-","-","-","-","-","-","-","-","-","-","-","-","-","-","-","-","-","-","-","-","-","-","-","-","-","-","-","-"]
[null,"Día","-","-","-","-","-","-","-","-","-","-","-","-","-","-","-","-","-","-","-","-","-","-","-","-","-","-","-","-","-","-","-","-","-","-","-","-","-","-","-","-","-","-","-","-","-","-","-","-","-","-","-","-","-","-","-","-","-","-","-","-","-","-","-","-","-","-","-","-","-","-","-","-","-","-","-","-","-","-","-","-","-","-","-","-","-","-","-","-","-","-","-","-","-","-","-","-","-","-","-","-","-","-","-","-","-","-","-","-","-","-","-","-","-","-","-","-","-","-","-","-","-","-","-","-","-","-","-","-","-","-","-","-","-","-","-","-","-","-","-","-","-","-","-","-","-","-","-","-","-","-","-","-","-","-","-","-","-","-","-","-","-","-","-","-","-","-","-","-","-","-","-","-","-","-","-","-","-","-","-","-","-","-","-","-","-","-","-","-","-","-","-","-",30,23,1,5,29,22,13,1,5,2,30,20,25,1,21,2,18,29,27,1,5,25,29,17,15,13,6,8,8,30,1,5,2,30,27,15,13,3,3,1,22,18,3,31,1,27,30,16,12,15,10,14,31,30,19,27,1,27,29,16,24,1,3,6,26,28,6,31,14,6,30,19,16,13,8,18,31,28,19,22,7,10,29,12,22,27,1,29,29,14,10,2,4,3,28,2,21,4,4,3,21,13,17,27,2,21,18,9,20,4,23,9,14,30,21,31,1,28,24,1,19,17,9,5,10,28,11,3,6,4,29,19,18,9,23,"-","-","-","-","-","-","-","-","-","-","-","-","-","-","-","-","-","-","-","-","-","-","-","-","-","-","-","-","-","-","-","-","-"]
[null,"Hora","-","-","-","-","-","-","-","-","-","-","-","-","-","-","-","-","-","-","-","-","-","-","-","-","-","-","-","-","-","-","-","-","-","-","-","-","-","-","-","-","-","-","-","-","-","-","-","-","-","-","-","-","-","-","-","-","-","-","-","-","-","-","-","-","-","-","-","-","-","-","-","-","-","-","-","-","-","-","-","-","-","-","-","-","-","-","-","-","-","-","-","-","-","-","-","-","-","-","-","-","-","-","-","-","-","-","-","-","-","-","-","-","-","-","-","-","-","-","-","-","-","-","-","-","-","-","-","-","-","-","-","-","-","-","-","-","-","-","-","-","-","-","-","-","-","-","-","-","-","-","-","-","-","-","-","-","-","-","-","-","-","-","-","-","-","-","-","-","-","-","-","-","-","-","-","-","-","-","-","-","-","-","-","-","-","-","-","-","-","-","-","-","19:40:26","19:53:58","20:22:30","21:12:29","12:53:28","17:33:59","13:27:29","13:31:27","13:24:04","20:38:57","18:46:52","18:58:16","19:36:56","19:35:20","20:22:49","21:25:14","12:33:43","13:25:45","13:25:42","13:16:57","21:03:31","20:20:54","18:50:14","18:53:00","18:54:25","20:01:29","20:21:35","21:12:18","12:57:34","13:24:39","13:22:27","13:25:59","13:24:29","19:47:45","18:45:59","18:59:07","18:41:03","19:58:30","11:01:04","21:10:35","12:51:18","12:31:46","13:26:47","13:22:04","12:55:00","19:45:43","19:24:04","18:33:28","18:56:00","19:32:00","20:18:00","11:03:00","12:52:00","13:20:00","13:26:00","13:27:00","13:10:00","20:50:00","18:31:00","19:53:00","20:06:00","19:57:00","20:21:00","21:10:00","12:53:00","13:24:00","13:26:00","13:21:00","13:27:00","20:26:00","18:37:00","19:51:00","19:48:00","20:21:00","20:24:00","21:18:00","13:17:00","13:23:00","13:25:00","13:40:00","13:25:00","11:45:00","19:48:00","19:35:00","19:54:00","20:42:00","10:44:00","12:43:00","12:48:00","12:56:00","13:32:00","13:35:00","13:41:00","13:16:00","19:50:00","20:17:00","19:54:00","20:18:00","20:18:00","21:15:00","13:20:00","13:24:00","13:21:00","13:46:00","13:27:00","20:23:00","19:52:00","19:56:00","19:55:00","19:56:00","20:42:00","21:16:00","13:32:00","13:37:00","13:33:00","13:56:00","13:21:00","19:58:00","19:55:00","20:19:00","19:47:00","20:37:00","20:18:00","21:17:00","13:29:00","13:38","13:24","13:23","13:32","20:49","20:20","19:54","19:50","20:26","20:33","-","-","-","-","-","-","-","-","-","-","-","-","-","-","-","-","-","-","-","-","-","-","-","-","-","-","-","-","-","-","-","-","-"]
[null,"Demanda máxima horaria peninsular","1990-01-01","1990-02-01","1990-03-01","1990-04-01","1990-05-01","1990-06-01","1990-07-01","1990-08-01","1990-09-01","1990-10-01","1990-11-01","1990-12-01","1991-01-01","1991-02-01","1991-03-01","1991-04-01","1991-05-01","1991-06-01","1991-07-01","1991-08-01","1991-09-01","1991-10-01","1991-11-01","1991-12-01","1992-01-01","1992-02-01","1992-03-01","1992-04-01","1992-05-01","1992-06-01","1992-07-01","1992-08-01","1992-09-01","1992-10-01","1992-11-01","1992-12-01","1993-01-01","1993-02-01","1993-03-01","1993-04-01","1993-05-01","1993-06-01","1993-07-01","1993-08-01","1993-09-01","1993-10-01","1993-11-01","1993-12-01","1994-01-01","1994-02-01","1994-03-01","1994-04-01","1994-05-01","1994-06-01","1994-07-01","1994-08-01","1994-09-01","1994-10-01","1994-11-01","1994-12-01","1995-01-01","1995-02-01","1995-03-01","1995-04-01","1995-05-01","1995-06-01","1995-07-01","1995-08-01","1995-09-01","1995-10-01","1995-11-01","1995-12-01","1996-01-01","1996-02-01","1996-03-01","1996-04-01","1996-05-01","1996-06-01","1996-07-01","1996-08-01","1996-09-01","1996-10-01","1996-11-01","1996-12-01","1997-01-01","1997-02-01","1997-03-01","1997-04-01","1997-05-01","1997-06-01","1997-07-01","1997-08-01","1997-09-01","1997-10-01","1997-11-01","1997-12-01","1998-01-01","1998-02-01","1998-03-01","1998-04-01","1998-05-01","1998-06-01","1998-07-01","1998-08-01","1998-09-01","1998-10-01","1998-11-01","1998-12-01","1999-01-01","1999-02-01","1999-03-01","1999-04-01","1999-05-01","1999-06-01","1999-07-01","1999-08-01","1999-09-01","1999-10-01","1999-11-01","1999-12-01","2000-01-01","2000-02-01","2000-03-01","2000-04-01","2000-05-01","2000-06-01","2000-07-01","2000-08-01","2000-09-01","2000-10-01","2000-11-01","2000-12-01","2001-01-01","2001-02-01","2001-03-01","2001-04-01","2001-05-01","2001-06-01","2001-07-01","2001-08-01","2001-09-01","2001-10-01","2001-11-01","2001-12-01","2002-01-01","2002-02-01","2002-03-01","2002-04-01","2002-05-01","2002-06-01","2002-07-01","2002-08-01","2002-09-01","2002-10-01","2002-11-01","2002-12-01","2003-01-01","2003-02-01","2003-03-01","2003-04-01","2003-05-01","2003-06-01","2003-07-01","2003-08-01","2003-09-01","2003-10-01","2003-11-01","2003-12-01","2004-01-01","2004-02-01","2004-03-01","2004-04-01","2004-05-01","2004-06-01","2004-07-01","2004-08-01","2004-09-01","2004-10-01","2004-11-01","2004-12-01","2005-01-01","2005-02-01","2005-03-01","2005-04-01","2005-05-01","2005-06-01","2005-07-01","2005-08-01","2005-09-01","2005-10-01","2005-11-01","2005-12-01","2006-01-01","2006-02-01","2006-03-01","2006-04-01","2006-05-01","2006-06-01","2006-07-01","2006-08-01","2006-09-01","2006-10-01","2006-11-01","2006-12-01","2007-01-01","2007-02-01","2007-03-01","2007-04-01","2007-05-01","2007-06-01","2007-07-01","2007-08-01","2007-09-01","2007-10-01","2007-11-01","2007-12-01","2008-01-01","2008-02-01","2008-03-01","2008-04-01","2008-05-01","2008-06-01","2008-07-01","2008-08-01","2008-09-01","2008-10-01","2008-11-01","2008-12-01","2009-01-01","2009-02-01","2009-03-01","2009-04-01","2009-05-01","2009-06-01","2009-07-01","2009-08-01","2009-09-01","2009-10-01","2009-11-01","2009-12-01","2010-01-01","2010-02-01","2010-03-01","2010-04-01","2010-05-01","2010-06-01","2010-07-01","2010-08-01","2010-09-01","2010-10-01","2010-11-01","2010-12-01","2011-01-01","2011-02-01","2011-03-01","2011-04-01","2011-05-01","2011-06-01","2011-07-01","2011-08-01","2011-09-01","2011-10-01","2011-11-01","2011-12-01","2012-01-01","2012-02-01","2012-03-01","2012-04-01","2012-05-01","2012-06-01","2012-07-01","2012-08-01","2012-09-01","2012-10-01","2012-11-01","2012-12-01","2013-01-01","2013-02-01","2013-03-01","2013-04-01","2013-05-01","2013-06-01","2013-07-01","2013-08-01","2013-09-01","2013-10-01","2013-11-01","2013-12-01","2014-01-01","2014-02-01","2014-03-01","2014-04-01","2014-05-01","2014-06-01","2014-07-01","2014-08-01","2014-09-01","2014-10-01","2014-11-01","2014-12-01","2015-01-01","2015-02-01","2015-03-01","2015-04-01","2015-05-01","2015-06-01","2015-07-01","2015-08-01","2015-09-01","2015-10-01","2015-11-01","2015-12-01","2016-01-01","2016-02-01","2016-03-01","2016-04-01","2016-05-01","2016-06-01","2016-07-01","2016-08-01","2016-09-01","2016-10-01","2016-11-01","2016-12-01","2017-01-01","2017-02-01","2017-03-01","2017-04-01","2017-05-01","2017-06-01","2017-07-01","2017-08-01","2017-09-01","2017-10-01","2017-11-01","2017-12-01","2018-01-01","2018-02-01","2018-03-01","2018-04-01","2018-05-01","2018-06-01","2018-07-01","2018-08-01","2018-09-01","2018-10-01","2018-11-01","2018-12-01","2019-01-01","2019-02-01","2019-03-01","2019-04-01","2019-05-01","2019-06-01","2019-07-01","2019-08-01","2019-09-01","2019-10-01","2019-11-01","2019-12-01"]
[null,"Demanda horaria (MWh)",23011,21835,20777,19333,18113,19800,20185,17940,19388,19519,23378,25160,24395,23924,20865,19341,19479,20331,20792,18159,20112,21017,22287,23022,25336,23612,21403,21001,19120,18739,20347,18381,20068,20788,20542,22427,23459,22884,23990,19094,18593,19775,20355,18388,19392,21727,23010,23404,24764,23460,20964,21194,19954,21405,21879,20836,21259,20995,22147,24135,25067,22679,22963,21656,20914,22594,23334,20798,21203,21377,23426,25813,23852,24913,23579,20288,21243,22810,23025,21376,21273,21826,25132,25357,27301,24074,22280,21726,21832,22893,23292,22946,23788,23434,24422,27369,27893,26068,24627,24363,22865,25363,25710,24166,25064,24850,28180,29796,29769,28915,26234,24631,25021,26824,27792,26665,27317,30564.5,31127.5,31318,33236,29586,28014,27216,27370,29388,28875,27933,28926,28420,30382,32430,32002,31323,32136,27644,29925,31238,31226,29459,29690,30068,33267,35186,34336,32077,32633,30052,29075,32304,31281,28191,30016,30072,32475,33970,37163,37212,31742,30257,30784,34661,34219,33239,31257,33372,33990,37459,36755,35981,37724,32846,31554,36619,36525,33320,34511.699999999997,33619.9,36854.400000000001,37668.5,43377.599999999999,41776.6,40574.5,33144.800000000003,33248.300000000003,38405.4,38542.1,36429.9,36298.800000000003,33800.300000000003,40223.5,41619.599999999999,42152.9,39962.699999999997,39346.400000000001,33965.5,35164.6,37841.199999999997,40524.300000000003,38829,38991.300000000003,35506.800000000003,37192.6,41890.1,43368.5,40686.199999999997,39761,36576.300000000003,35938.199999999997,36926,39038,38900.699999999997,37360.199999999997,37042.5,41512.199999999997,44876.1,41796.9,40705.9,41322.400000000001,37739.9,35494.9,39848.699999999997,40156,39399.5,38489.199999999997,38048.300000000003,42207,42961.1,44440.3,39899.4,38885,35668.5,34045.199999999997,38522.400000000001,40065.599999999999,39054.9,40225.699999999997,35866.800000000003,39021.9,43877.5,44122.400000000001,43847.8,41555.4,36236.300000000003,36032.9,37696,40934.300000000003,39140.300000000003,38037.599999999999,36773,44104.1,43185.4,44106.7,42095,40979.199999999997,34182.199999999997,36509.300000000003,39537.1,38481,37640.300000000003,37751.699999999997,35361.800000000003,37711.699999999997,39687.5,40539.199999999997,43010.2,37704,35617.199999999997,34681.599999999999,39273.4,37832,38292.800000000003,35655.199999999997,35248.800000000003,38180,39609.199999999997,39786.800000000003,39963.300000000003,38321.599999999999,34838.199999999997,32650.5,34826,37399.4,36446.1,34848.1,34281.300000000003,39741.699999999997,39423.599999999999,38291.449999999997,38666.29,36957.870000000003,33921.17,31830.21,34774.51,37019.730000000003,36278.76,36866.68,33609.53,35734.39,37844.76,40231.69,40323.769999999997,36679.410000000003,32994.78,34142.589999999997,37259.25,39927.599999999999,36645.17,35524.199999999997,33176.07,37201,36704,38071,38239,37925,34481,32485,35697,38213,36910,40144,33708,36572,37749,41015,36732,35575,"-","-","-","-","-","-","-","-","-","-","-","-","-","-","-","-","-","-","-","-","-","-","-","-","-","-","-","-","-","-","-","-","-"]
[null,"Día",23,1,5,10,31,28,19,30,6,25,29,10,16,14,6,5,9,27,18,29,19,22,21,12,23,19,26,1,19,30,28,27,17,22,30,15,11,25,2,14,19,18,29,5,30,26,22,14,19,7,2,15,31,29,15,31,7,25,29,21,16,1,8,25,29,22,21,1,28,26,29,14,23,22,6,2,29,14,24,1,30,17,19,11,7,4,12,8,29,13,30,1,10,27,25,16,26,4,12,15,4,30,23,31,2,28,23,2,12,15,8,16,26,16,2,31,2,31,25,21,25,1,22,4,31,30,21,1,15,30,20,20,16,27,1,4,29,25,2,1,4,30,26,19,9,19,5,11,8,18,29,5,19,30,21,17,15,18,27,2,29,27,11,1,25,27,27,4,20,20,2,1,11,30,23,25,10,5,30,9,27,1,1,12,27,22,21,31,2,27,28,12,30,23,1,6,29,23,13,1,5,2,28,20,25,1,21,3,18,25,31,1,7,25,29,17,15,14,6,1,8,27,1,5,2,29,26,15,13,2,4,1,22,18,22,31,1,29,30,16,11,15,11,13,31,30,19,26,1,26,29,16,24,1,3,6,26,27,5,31,14,5,29,19,16,13,20,18,31,27,19,22,12,30,29,12,22,27,4,9,29,14,10,2,4,3,28,2,21,4,4,2,28,13,17,27,2,21,18,9,20,4,23,9,14,30,21,31,1,28,24,1,19,17,9,4,10,28,11,3,6,4,29,19,18,9,23,"-","-","-","-","-","-","-","-","-","-","-","-","-","-","-","-","-","-","-","-","-","-","-","-","-","-","-","-","-","-","-","-","-"]
[null,"Hora",20,20,21,12,13,13,13,13,13,20,20,19,20,20,21,12,12,13,13,13,13,20,19,19,20,20,21,22,13,13,13,13,13,20,20,19,20,21,21,12,12,13,13,13,20,20,20,20,20,20,21,12,13,13,13,13,13,20,20,20,20,20,21,22,13,13,13,13,21,20,19,20,20,21,21,22,13,13,13,13,21,21,20,19,20,20,21,22,13,13,13,13,13,20,19,19,20,20,21,12,22,13,11,14,13,20,20,19,20,20,21,22,13,13,13,14,13,3,20,20,20,20,21,22,11,11,13,13,13,20,20,19,20,21,21,22,18,18,13,13,12,20,20,19,20,21,21,22,13,13,11,14,13,20,20,19,20,20,21,22,13,13,14,14,22,20,20,19,20,20,21,22,13,14,13,14,13,21,19,20,20,20,13,22,13,18,14,14,14,21,19,19,20,20,21,22,13,13,14,14,14,21,19,20,20,21,21,22,13,14,18,14,14,21,20,20,20,20,21,22,13,14,14,14,13,20,19,20,20,20,12,22,13,14,14,14,14,20,20,19,20,20,21,22,14,13,14,14,14,21,19,20,20,20,21,13,14,14,14,14,14,21,20,20,20,21,21,22,14,14,14,14,13,20,20,20,21,21,21,13,13,14,14,14,14,14,21,21,20,21,21,13,13,14,14,14,14,21,21,20,20,21,21,22,14,14,14,14,14,20,20,21,21,21,21,13,13,14,14,14,14,21,21,20,21,21,21,"-","-","-","-","-","-","-","-","-","-","-","-","-","-","-","-","-","-","-","-","-","-","-","-","-","-","-","-","-","-","-","-","-"]
[null,"Demanda máxima diaria peninsular","1990-01-01","1990-02-01","1990-03-01","1990-04-01","1990-05-01","1990-06-01","1990-07-01","1990-08-01","1990-09-01","1990-10-01","1990-11-01","1990-12-01","1991-01-01","1991-02-01","1991-03-01","1991-04-01","1991-05-01","1991-06-01","1991-07-01","1991-08-01","1991-09-01","1991-10-01","1991-11-01","1991-12-01","1992-01-01","1992-02-01","1992-03-01","1992-04-01","1992-05-01","1992-06-01","1992-07-01","1992-08-01","1992-09-01","1992-10-01","1992-11-01","1992-12-01","1993-01-01","1993-02-01","1993-03-01","1993-04-01","1993-05-01","1993-06-01","1993-07-01","1993-08-01","1993-09-01","1993-10-01","1993-11-01","1993-12-01","1994-01-01","1994-02-01","1994-03-01","1994-04-01","1994-05-01","1994-06-01","1994-07-01","1994-08-01","1994-09-01","1994-10-01","1994-11-01","1994-12-01","1995-01-01","1995-02-01","1995-03-01","1995-04-01","1995-05-01","1995-06-01","1995-07-01","1995-08-01","1995-09-01","1995-10-01","1995-11-01","1995-12-01","1996-01-01","1996-02-01","1996-03-01","1996-04-01","1996-05-01","1996-06-01","1996-07-01","1996-08-01","1996-09-01","1996-10-01","1996-11-01","1996-12-01","1997-01-01","1997-02-01","1997-03-01","1997-04-01","1997-05-01","1997-06-01","1997-07-01","1997-08-01","1997-09-01","1997-10-01","1997-11-01","1997-12-01","1998-01-01","1998-02-01","1998-03-01","1998-04-01","1998-05-01","1998-06-01","1998-07-01","1998-08-01","1998-09-01","1998-10-01","1998-11-01","1998-12-01","1999-01-01","1999-02-01","1999-03-01","1999-04-01","1999-05-01","1999-06-01","1999-07-01","1999-08-01","1999-09-01","1999-10-01","1999-11-01","1999-12-01","2000-01-01","2000-02-01","2000-03-01","2000-04-01","2000-05-01","2000-06-01","2000-07-01","2000-08-01","2000-09-01","2000-10-01","2000-11-01","2000-12-01","2001-01-01","2001-02-01","2001-03-01","2001-04-01","2001-05-01","2001-06-01","2001-07-01","2001-08-01","2001-09-01","2001-10-01","2001-11-01","2001-12-01","2002-01-01","2002-02-01","2002-03-01","2002-04-01","2002-05-01","2002-06-01","2002-07-01","2002-08-01","2002-09-01","2002-10-01","2002-11-01","2002-12-01","2003-01-01","2003-02-01","2003-03-01","2003-04-01","2003-05-01","2003-06-01","2003-07-01","2003-08-01","2003-09-01","2003-10-01","2003-11-01","2003-12-01","2004-01-01","2004-02-01","2004-03-01","2004-04-01","2004-05-01","2004-06-01","2004-07-01","2004-08-01","2004-09-01","2004-10-01","2004-11-01","2004-12-01","2005-01-01","2005-02-01","2005-03-01","2005-04-01","2005-05-01","2005-06-01","2005-07-01","2005-08-01","2005-09-01","2005-10-01","2005-11-01","2005-12-01","2006-01-01","2006-02-01","2006-03-01","2006-04-01","2006-05-01","2006-06-01","2006-07-01","2006-08-01","2006-09-01","2006-10-01","2006-11-01","2006-12-01","2007-01-01","2007-02-01","2007-03-01","2007-04-01","2007-05-01","2007-06-01","2007-07-01","2007-08-01","2007-09-01","2007-10-01","2007-11-01","2007-12-01","2008-01-01","2008-02-01","2008-03-01","2008-04-01","2008-05-01","2008-06-01","2008-07-01","2008-08-01","2008-09-01","2008-10-01","2008-11-01","2008-12-01","2009-01-01","2009-02-01","2009-03-01","2009-04-01","2009-05-01","2009-06-01","2009-07-01","2009-08-01","2009-09-01","2009-10-01","2009-11-01","2009-12-01","2010-01-01","2010-02-01","2010-03-01","2010-04-01","2010-05-01","2010-06-01","2010-07-01","2010-08-01","2010-09-01","2010-10-01","2010-11-01","2010-12-01","2011-01-01","2011-02-01","2011-03-01","2011-04-01","2011-05-01","2011-06-01","2011-07-01","2011-08-01","2011-09-01","2011-10-01","2011-11-01","2011-12-01","2012-01-01","2012-02-01","2012-03-01","2012-04-01","2012-05-01","2012-06-01","2012-07-01","2012-08-01","2012-09-01","2012-10-01","2012-11-01","2012-12-01","2013-01-01","2013-02-01","2013-03-01","2013-04-01","2013-05-01","2013-06-01","2013-07-01","2013-08-01","2013-09-01","2013-10-01","2013-11-01","2013-12-01","2014-01-01","2014-02-01","2014-03-01","2014-04-01","2014-05-01","2014-06-01","2014-07-01","2014-08-01","2014-09-01","2014-10-01","2014-11-01","2014-12-01","2015-01-01","2015-02-01","2015-03-01","2015-04-01","2015-05-01","2015-06-01","2015-07-01","2015-08-01","2015-09-01","2015-10-01","2015-11-01","2015-12-01","2016-01-01","2016-02-01","2016-03-01","2016-04-01","2016-05-01","2016-06-01","2016-07-01","2016-08-01","2016-09-01","2016-10-01","2016-11-01","2016-12-01","2017-01-01","2017-02-01","2017-03-01","2017-04-01","2017-05-01","2017-06-01","2017-07-01","2017-08-01","2017-09-01","2017-10-01","2017-11-01","2017-12-01","2018-01-01","2018-02-01","2018-03-01","2018-04-01","2018-05-01","2018-06-01","2018-07-01","2018-08-01","2018-09-01","2018-10-01","2018-11-01","2018-12-01","2019-01-01","2019-02-01","2019-03-01","2019-04-01","2019-05-01","2019-06-01","2019-07-01","2019-08-01","2019-09-01","2019-10-01","2019-11-01","2019-12-01"]
[null,"Demanda diaria (GWh)",454.303,434.59,415.33699999999999,406.50900000000001,748.03300000000002,410.91199999999998,415.59199999999998,371.07600000000002,403.27699999999999,387.923,460.89600000000002,481.93599999999998,487.52499999999998,479.36700000000002,436.58,408.58600000000001,415.291,431.68400000000003,434.53,377.49200000000002,426.46600000000001,423.21800000000002,451.673,464.01900000000001,505.553,478.76,446.35399999999998,448.18200000000002,408.21699999999998,394.185,427.72300000000001,386.17399999999998,422.74299999999999,418.411,419.69099999999997,456.51299999999998,470.875,466.51600000000002,489.56200000000001,407.09100000000001,395.47699999999998,412.19,422.608,385.11,406.29599999999999,441.553,466.76100000000002,471.33699999999999,499.65100000000001,479.28800000000001,432.04300000000001,442.18799999999999,411.62799999999999,447.661,452.59800000000001,428.38099999999997,441.85399999999998,425.69099999999997,449.07799999999997,488.74200000000002,503.83,462.83300000000003,471.84100000000001,455.286,435.37900000000002,466.279,483.25299999999999,438.572,441.13299999999998,433.91500000000002,473.98700000000002,519.21100000000001,491.63400000000001,512.63199999999995,493.36799999999999,435.67200000000003,451.303,480.37299999999999,484.15,448.29500000000002,449.87099999999998,444.69200000000001,504.52,515.56100000000004,541.10599999999999,492.69799999999998,459.90100000000001,460.839,465.72699999999998,481.71199999999999,490.38600000000002,478.45299999999997,501.38600000000002,476.51900000000001,518.76599999999996,561.45299999999997,572.84500000000003,527.22299999999996,511.786,513.81600000000003,484.78399999999999,524.03599999999994,538.245,501.55099999999999,531.46900000000005,500.69900000000001,562.23800000000006,593.59400000000005,594.18299999999999,584.13599999999997,546.81399999999996,522.24199999999996,519.85799999999995,555.49199999999996,570.86500000000001,539.94000000000005,563.97400000000005,527.89,626.84799999999996,624.35599999999999,654.197,599.54600000000005,583.80999999999995,543.87900000000002,573.83600000000001,610.56299999999999,588.17899999999997,565.03599999999994,593.81500000000005,566.81799999999998,628.92600000000004,647.90099999999995,661.44399999999996,642.83500000000004,658.65099999999995,584.28700000000003,615.11199999999997,671.53200000000004,636.26300000000003,599.75900000000001,612.05499999999995,589.15,675.11500000000001,697.85699999999997,694.75,667.00099999999998,661.05,632.71699999999998,626.41499999999996,674.66399999999999,651.59100000000001,592.33900000000006,627.702,631.18399999999997,665.154,699.61699999999996,763.93,759.32799999999997,657.11900000000003,640.12199999999996,654.06100000000004,731.42499999999995,706.375,701.58,703.59699999999998,676.93,701.31299999999999,739.05499999999995,743.71199999999999,744.96100000000001,754.65499999999997,715.94899999999996,661.58500000000004,757.322,746.14200000000005,694.66300000000001,700.38699999999994,686.78300000000002,745.06299999999999,773.23400000000004,835.19,826.30499999999995,831.72699999999998,690.64300000000003,684.50099999999998,765.82100000000003,776.94100000000003,724.27099999999996,745.24599999999998,677.34699999999998,801.21699999999998,839.923,853.101,887.26599999999996,894.76,742.85299999999995,737.90599999999995,792.20899999999995,821.81899999999996,790.51199999999994,803.649,726.15300000000002,766.46199999999999,862.74199999999996,876.80700000000002,847.34699999999998,812.99300000000005,767.12199999999996,740.899,763.78099999999995,801.101,796.68,775.47799999999995,742.93,847.57299999999998,905.94899999999996,859.49599999999998,848.89700000000005,823.26,779.78499999999997,738.74,814.89400000000001,821.63699999999994,794.91800000000001,786.68,768.02200000000005,836.45299999999997,852.654,891.40599999999995,816.98800000000006,794.26700000000005,732.46299999999997,694.54,767.82799999999997,782.072,758.41600000000005,789.55399999999997,723.00300000000004,762.83199999999999,879.16,898.36462300000005,872.72824000000003,845.78537500000004,737.63311399999998,712.77456599999994,760.87776800000006,812.49490200000002,781.52551300000005,768.98625600000003,730.36559999999997,862.13637600000004,856.48494600000004,884.98057700000004,852.50556499999993,833.54718000000003,713.47030200000006,731.96144600000002,790.99148700000001,781.25780299999997,758.57557400000007,773.61344999999994,722.59452599999997,762.28432499999997,800.24625500000002,821.96568100000002,870.55558600000006,765.77367099999992,729.71183099999996,705.68766400000004,792.68335999999999,769.89232100000004,764.68720799999994,721.74014699999998,704.30167799999992,767.525398,797.70442299999991,809.86843700000009,799.34470599999997,786.28295800000001,722.56284199999993,664.70438300000001,697.933943,760.67546499999992,732.18140000000005,709.74853500000006,707.815967,799.07715500000006,784.86933099999999,783.33252000000005,797.35862299999997,746.69891599999994,706.93549800000005,677.84627599999999,715.76873499999999,755.25547900000004,737.003646,753.91493200000002,675.47153300000002,720.29055299999993,764.92629099999999,819.02527800000007,824.01817599999993,754.1687290000001,684.81711300000006,712.266167,781.40335199999993,813.98779100000002,774.98898499999996,727.837717,680.04983600000003,748.93820999999991,743.95373400000005,767.747524,782.06322999999998,773.93088699999998,719.30255099999999,682.21993099999997,737.89456700000005,770.43996200000004,750.91001599999993,816.26051500000005,693.49551500000007,749.38074300000005,769.37749199999996,834.72963300000004,767.35300100000006,734.58140000000003,"-","-","-","-","-","-","-","-","-","-","-","-","-","-","-","-","-","-","-","-","-","-","-","-","-","-","-","-","-","-","-","-","-"]
[null,"Día",23,1,8,5,31,28,19,29,6,26,29,19,16,15,1,25,9,27,18,29,19,24,22,12,23,19,4,1,19,30,23,27,17,22,25,15,28,25,2,15,4,17,29,5,3,27,23,14,19,4,2,19,4,30,5,31,7,27,29,21,17,8,8,11,30,22,20,31,7,4,29,15,24,22,7,17,30,13,24,1,5,30,19,11,8,5,12,9,29,13,30,1,10,2,25,16,27,3,13,15,5,30,17,26,2,30,25,2,13,3,4,16,28,30,2,31,2,14,25,21,13,1,30,5,31,30,21,30,13,26,15,20,16,27,1,4,29,25,3,29,4,30,27,19,9,19,5,11,8,18,18,30,19,1,26,10,15,18,6,3,23,26,11,1,1,28,28,4,20,20,2,1,11,30,23,26,9,7,17,15,28,1,1,12,25,21,21,31,2,27,30,14,31,1,1,7,16,22,20,1,6,3,30,20,26,2,21,3,18,28,31,1,4,30,29,18,15,1,7,1,8,27,1,5,2,30,28,3,13,5,4,1,20,18,22,31,1,7,30,16,12,15,12,14,5,30,7,27,1,28,30,16,25,1,3,6,26,28,1,31,15,6,30,20,12,8,21,19,31,28,19,21,7,30,30,12,23,27,1,9,7,13,10,1,4,3,28,10,21,11,4,3,13,13,17,27,2,16,18,10,21,4,24,9,14,30,21,31,1,6,25,15,18,18,9,5,10,30,27,3,6,5,25,20,18,10,24,"-","-","-","-","-","-","-","-","-","-","-","-","-","-","-","-","-","-","-","-","-","-","-","-","-","-","-","-","-","-","-","-","-"]
[null,null,"enero","febrero","marzo","abril","mayo","junio","julio","agosto","septiembre","octubre","noviembre","diciembre","enero","febrero","marzo","abril","mayo","junio","julio","agosto","septiembre","octubre","noviembre","diciembre","enero","febrero","marzo","abril","mayo","junio","julio","agosto","septiembre","octubre","noviembre","diciembre","enero","febrero","marzo","abril","mayo","junio","julio","agosto","septiembre","octubre","noviembre","diciembre","enero","febrero","marzo","abril","mayo","junio","julio","agosto","septiembre","octubre","noviembre","diciembre","enero","febrero","marzo","abril","mayo","junio","julio","agosto","septiembre","octubre","noviembre","diciembre","enero","febrero","marzo","abril","mayo","junio","julio","agosto","septiembre","octubre","noviembre","diciembre","enero","febrero","marzo","abril","mayo","junio","julio","agosto","septiembre","octubre","noviembre","diciembre","enero","febrero","marzo","abril","mayo","junio","julio","agosto","septiembre","octubre","noviembre","diciembre","enero","febrero","marzo","abril","mayo","junio","julio","agosto","septiembre","octubre","noviembre","diciembre","enero","febrero","marzo","abril","mayo","junio","julio","agosto","septiembre","octubre","noviembre","diciembre","enero","febrero","marzo","abril","mayo","junio","julio","agosto","septiembre","octubre","noviembre","diciembre","enero","febrero","marzo","abril","mayo","junio","julio","agosto","septiembre","octubre","noviembre","diciembre","enero","febrero","marzo","abril","mayo","junio","julio","agosto","septiembre","octubre","noviembre","diciembre","enero","febrero","marzo","abril","mayo","junio","julio","agosto","septiembre","octubre","noviembre","diciembre","enero","febrero","marzo","abril","mayo","junio","julio","agosto","septiembre","octubre","noviembre","diciembre","enero","febrero","marzo","abril","mayo","junio","julio","agosto","septiembre","octubre","noviembre","diciembre","enero","febrero","marzo","abril","mayo","junio","julio","agosto","septiembre","octubre","noviembre","diciembre","enero","febrero","marzo","abril","mayo","junio","julio","agosto","septiembre","octubre","noviembre","diciembre","enero","febrero","marzo","abril","mayo","junio","julio","agosto","septiembre","octubre","noviembre","diciembre","enero","febrero","marzo","abril","mayo","junio","julio","agosto","septiembre","octubre","noviembre","diciembre","enero","febrero","marzo","abril","mayo","junio","julio","agosto","septiembre","octubre","noviembre","diciembre","enero","febrero","marzo","abril","mayo","junio","julio","agosto","septiembre","octubre","noviembre","diciembre","enero","febrero","marzo","abril","mayo","junio","julio","agosto","septiembre","octubre","noviembre","diciembre","enero","febrero","marzo","abril","mayo","junio","julio","agosto","septiembre","octubre","noviembre","diciembre","enero","febrero","marzo","abril","mayo","junio","julio","agosto","septiembre","octubre","noviembre","diciembre","enero","febrero","marzo","abril","mayo","junio","julio","agosto","septiembre","octubre","noviembre","diciembre","enero","febrero","marzo","abril","mayo","junio","julio","agosto","septiembre","octubre","noviembre","diciembre","enero","febrero","marzo","abril","mayo","junio","julio","agosto","septiembre","octubre","noviembre","diciembre","enero","febrero","marzo","abril","mayo","junio","julio","agosto","septiembre","octubre","noviembre","diciembre"]
[null,"Demanda máxima horaria Islas Baleares","2006-01-01","2006-02-01","2006-03-01","2006-04-01","2006-05-01","2006-06-01","2006-07-01","2006-08-01","2006-09-01","2006-10-01","2006-11-01","2006-12-01","2007-01-01","2007-02-01","2007-03-01","2007-04-01","2007-05-01","2007-06-01","2007-07-01","2007-08-01","2007-09-01","2007-10-01","2007-11-01","2007-12-01","2008-01-01","2008-02-01","2008-03-01","2008-04-01","2008-05-01","2008-06-01","2008-07-01","2008-08-01","2008-09-01","2008-10-01","2008-11-01","2008-12-01","2009-01-01","2009-02-01","2009-03-01","2009-04-01","2009-05-01","2009-06-01","2009-07-01","2009-08-01","2009-09-01","2009-10-01","2009-11-01","2009-12-01","2010-01-01","2010-02-01","2010-03-01","2010-04-01","2010-05-01","2010-06-01","2010-07-01","2010-08-01","2010-09-01","2010-10-01","2010-11-01","2010-12-01","2011-01-01","2011-02-01","2011-03-01","2011-04-01","2011-05-01","2011-06-01","2011-07-01","2011-08-01","2011-09-01","2011-10-01","2011-11-01","2011-12-01","2012-01-01","2012-02-01","2012-03-01","2012-04-01","2012-05-01","2012-06-01","2012-07-01","2012-08-01","2012-09-01","2012-10-01","2012-11-01","2012-12-01","2013-01-01","2013-02-01","2013-03-01","2013-04-01","2013-05-01","2013-06-01","2013-07-01","2013-08-01","2013-09-01","2013-10-01","2013-11-01","2013-12-01","2014-01-01","2014-02-01","2014-03-01","2014-04-01","2014-05-01","2014-06-01","2014-07-01","2014-08-01","2014-09-01","2014-10-01","2014-11-01","2014-12-01","2015-01-01","2015-02-01","2015-03-01","2015-04-01","2015-05-01","2015-06-01","2015-07-01","2015-08-01","2015-09-01","2015-10-01","2015-11-01","2015-12-01","2016-01-01","2016-02-01","2016-03-01","2016-04-01","2016-05-01","2016-06-01","2016-07-01","2016-08-01","2016-09-01","2016-10-01","2016-11-01","2016-12-01","2017-01-01","2017-02-01","2017-03-01","2017-04-01","2017-05-01","2017-06-01","2017-07-01","2017-08-01","2017-09-01","2017-10-01","2017-11-01","2017-12-01","2018-01-01","2018-02-01","2018-03-01","2018-04-01","2018-05-01","2018-06-01","2018-07-01","2018-08-01","2018-09-01","2018-10-01","2018-11-01","2018-12-01","2019-01-01","2019-02-01","2019-03-01","2019-04-01","2019-05-01","2019-06-01","2019-07-01","2019-08-01","2019-09-01","2019-10-01","2019-11-01","2019-12-01","2020-01-01","2020-02-01","2020-03-01","2020-04-01","2020-05-01","2020-06-01","2020-07-01","2020-08-01","2020-09-01","2020-10-01","2020-11-01","2020-12-01"]
[null,"Demanda horaria (MWh)",968.99,1046,954.39,752.3,849.76,1024,1202.3,1182.2,1031.4000000000001,951.4,757,938.2,972.8,921.4,969.8,875.7,870.6,1023,1105.8,1145,1068.5,941.5,925.8,1046.5999999999999,964.5,992.6,1016.8,842,833.2,1043.8,1183.5,1225.7,1186.2,910.7,961.8,1060.2,1110.8,999.4,987.9,932.5,843.2,994.1,1207.4000000000001,1186.3,1143.3,901.6,796.6,958.3,1028.8,1065.5,1104.4000000000001,818.2,810.6,913,1114.0999999999999,1157.3,1015,904.6,920.9,992.7,1025.5999999999999,968,959.8,746.7,820.3,980,1112.3,1159.4000000000001,1091.5,892.8,726.6,856.9,950,1100.0999999999999,905.3,807.3,810,1065,1074.8,1205.8,997.3,875.7,790.7,884.3,893.1,975.9,869.3,796.7,775.9,904.3,1123.9000000000001,1187.4000000000001,956.6,967.1,912.4,874.1,836.2,840.1,811.6,741.2,759.7,926.1,1056.8,1150.2,1088,877.1,695.5,906.1,913.4,968.9,887,766.6,801.3,1032.0999999999999,1204.8,1201.9000000000001,1106.8,889.6,812.2,785.8,816,840,928,796,815,968,1127,1148,1138,931,750,860,973,839,799,"-","-","-","-","-","-","-","-","-","-","-","-","-","-","-","-","-","-","-","-","-","-","-","-","-","-","-","-","-","-","-","-","-","-","-","-","-","-","-","-","-","-","-","-","-"]
[null,"Día",31,2,1,24,29,30,28,1,7,2,30,20,26,5,28,10,24,25,31,2,17,2,16,17,31,12,5,1,28,26,31,12,10,2,27,15,8,16,5,1,21,16,24,20,3,7,30,21,11,15,10,13,31,30,22,27,7,7,29,16,25,1,3,19,26,28,12,22,1,5,28,31,30,14,8,16,31,29,27,23,12,4,30,12,23,26,14,29,21,17,26,7,6,2,27,2,22,3,26,3,28,27,28,11,11,2,11,31,22,6,16,8,14,30,29,7,1,5,24,2,21,17,10,8,26,30,29,4,5,4,30,31,17,9,24,"-","-","-","-","-","-","-","-","-","-","-","-","-","-","-","-","-","-","-","-","-","-","-","-","-","-","-","-","-","-","-","-","-","-","-","-","-","-","-","-","-","-","-","-","-"]
[null,"Hora",20,20,21,22,22,13,19,22,21,21,20,20,20,21,21,22,22,19,22,22,21,21,20,21,21,21,21,22,22,20,22,22,21,21,20,20,20,21,21,21,22,20,20,22,22,21,21,20,21,21,21,22,22,22,22,22,21,21,20,21,21,21,21,22,22,20,22,22,22,21,20,20,21,21,21,22,22,14,14,22,21,21,21,21,21,21,21,22,22,22,20,22,21,21,21,21,21,21,21,22,22,14,14,22,21,21,20,20,21,21,21,22,22,14,14,22,14,21,21,21,21,21,21,22,22,20,14,22,21,21,21,20,21,21,21,"-","-","-","-","-","-","-","-","-","-","-","-","-","-","-","-","-","-","-","-","-","-","-","-","-","-","-","-","-","-","-","-","-","-","-","-","-","-","-","-","-","-","-","-","-"]
[null,"Demanda máxima diaria Islas Baleares"]
[null,"Demanda diaria (MWh)",18042,18052,18972,13960,16603,20307,23966,23779,19789,17450,13323,17087,17512,16634,17639,16179,17097,19939,21925,22774,19939,17567,16476,18497,17215,17493,18387,15498,16622,20715,24452,23895,22692,16310,17253,18907,20030,17415,17127,17522,16669,20070,24270,22834,22140,16567,13960,18028,18705.932000000001,19479.773000000001,19663.082999999999,15100.522000000001,15325.415000000001,17961.365000000002,22555.181,22416.985000000001,19773.492999999999,16747.555,16391.777999999998,17625.646000000001,18574.422999999999,17562.536,17161.186000000002,14112.746999999999,16419.050999999999,19818.412,22222.9,22781.759999999998,21568.856,16312.784,13456.58,15037.617,16884.931,20014.073,16151.096,15039.414000000001,16123.44,21582.748,21740.692999999999,23528.983,19198.361000000001,16250.585999999999,14319.52,15955.927,16063.029,17389.991000000002,15308.441999999999,15503.749,15182.387000000001,18142.800999999999,22341.287,23304.775000000001,18587.188999999998,18275.118999999999,16196.739,15973.217000000001,15483.486999999999,15204.481,14502.263000000001,14449.442999999999,15125.411,18476.345000000001,21483.233,23152.337,21289.874,16520.982,13146.26,15368.208000000001,16180.674000000001,18316.425999999999,16390.466,14123.84,15605.751,20414.963,24551.732,24163.928,21227.05,16689.951000000001,14030.129000000001,14198,14936.621999999999,15146.066999999999,16869.564999999999,15036.718000000001,16541.957999999999,19522.914000000001,22705.040000000001,23168.428,22232.591,17452.96,13771.888000000001,15111.696,17758.977999999999,15209.186,14738.481,"-","-","-","-","-","-","-","-","-","-","-","-","-","-","-","-","-","-","-","-","-","-","-","-","-","-","-","-","-","-","-","-","-","-","-","-","-","-","-","-","-","-","-","-","-"]
[null,"Día",30,24,7,27,29,30,28,1,7,3,29,20,26,1,28,10,24,25,20,2,14,3,28,18,3,13,7,1,28,30,31,7,10,2,27,16,8,16,5,2,22,16,24,20,4,1,30,21,"12","15","10","13","31","30","22","27","07","08","29","16","27","01","03","20","27","29","12","23","02","05","28","29","31","08","09","16","31","29","27","24","12","11","30","12","23","28","14","29","27","17","26","07","06","04","29","02","22","03","27","03","30","23","28","11","11","01","04","30",26,6,20,16,29,30,29,7,1,6,24,2,18,29,10,8,31,30,29,4,5,5,14,21,18,10,24,"-","-","-","-","-","-","-","-","-","-","-","-","-","-","-","-","-","-","-","-","-","-","-","-","-","-","-","-","-","-","-","-","-","-","-","-","-","-","-","-","-","-","-","-","-"]
[null,null,"enero","febrero","marzo","abril","mayo","junio","julio","agosto","septiembre","octubre","noviembre","diciembre","enero","febrero","marzo","abril","mayo","junio","julio","agosto","septiembre","octubre","noviembre","diciembre","enero","febrero","marzo","abril","mayo","junio","julio","agosto","septiembre","octubre","noviembre","diciembre","enero","febrero","marzo","abril","mayo","junio","julio","agosto","septiembre","octubre","noviembre","diciembre","enero","febrero","marzo","abril","mayo","junio","julio","agosto","septiembre","octubre","noviembre","diciembre","enero","febrero","marzo","abril","mayo","junio","julio","agosto","septiembre","octubre","noviembre","diciembre","enero","febrero","marzo","abril","mayo","junio","julio","agosto","septiembre","octubre","noviembre","diciembre","enero","febrero","marzo","abril","mayo","junio","julio","agosto","septiembre","octubre","noviembre","diciembre","enero","febrero","marzo","abril","mayo","junio","julio","agosto","septiembre","octubre","noviembre","diciembre","enero","febrero","marzo","abril","mayo","junio","julio","agosto","septiembre","octubre","noviembre","diciembre","enero","febrero","marzo","abril","mayo","junio","julio","agosto","septiembre","octubre","noviembre","diciembre","enero","febrero","marzo","abril","mayo","junio","julio","agosto","septiembre","octubre","noviembre","diciembre","enero","febrero","marzo","abril","mayo","junio","julio","agosto","septiembre","octubre","noviembre","diciembre","enero","febrero","marzo","abril","mayo","junio","julio","agosto","septiembre","octubre","noviembre","diciembre","enero","febrero","marzo","abril","mayo","junio","julio","agosto","septiembre","octubre","noviembre","diciembre"]
[null,"Demanda máxima horaria Islas Canarias","2006-01-01","2006-02-01","2006-03-01","2006-04-01","2006-05-01","2006-06-01","2006-07-01","2006-08-01","2006-09-01","2006-10-01","2006-11-01","2006-12-01","2007-01-01","2007-02-01","2007-03-01","2007-04-01","2007-05-01","2007-06-01","2007-07-01","2007-08-01","2007-09-01","2007-10-01","2007-11-01","2007-12-01","2008-01-01","2008-02-01","2008-03-01","2008-04-01","2008-05-01","2008-06-01","2008-07-01","2008-08-01","2008-09-01","2008-10-01","2008-11-01","2008-12-01","2009-01-01","2009-02-01","2009-03-01","2009-04-01","2009-05-01","2009-06-01","2009-07-01","2009-08-01","2009-09-01","2009-10-01","2009-11-01","2009-12-01","2010-01-01","2010-02-01","2010-03-01","2010-04-01","2010-05-01","2010-06-01","2010-07-01","2010-08-01","2010-09-01","2010-10-01","2010-11-01","2010-12-01","2011-01-01","2011-02-01","2011-03-01","2011-04-01","2011-05-01","2011-06-01","2011-07-01","2011-08-01","2011-09-01","2011-10-01","2011-11-01","2011-12-01","2012-01-01","2012-02-01","2012-03-01","2012-04-01","2012-05-01","2012-06-01","2012-07-01","2012-08-01","2012-09-01","2012-10-01","2012-11-01","2012-12-01","2013-01-01","2013-02-01","2013-03-01","2013-04-01","2013-05-01","2013-06-01","2013-07-01","2013-08-01","2013-09-01","2013-10-01","2013-11-01","2013-12-01","2014-01-01","2014-02-01","2014-03-01","2014-04-01","2014-05-01","2014-06-01","2014-07-01","2014-08-01","2014-09-01","2014-10-01","2014-11-01","2014-12-01","2015-01-01","2015-02-01","2015-03-01","2015-04-01","2015-05-01","2015-06-01","2015-07-01","2015-08-01","2015-09-01","2015-10-01","2015-11-01","2015-12-01","2016-01-01","2016-02-01","2016-03-01","2016-04-01","2016-05-01","2016-06-01","2016-07-01","2016-08-01","2016-09-01","2016-10-01","2016-11-01","2016-12-01","2017-01-01","2017-02-01","2017-03-01","2017-04-01","2017-05-01","2017-06-01","2017-07-01","2017-08-01","2017-09-01","2017-10-01","2017-11-01","2017-12-01","2018-01-01","2018-02-01","2018-03-01","2018-04-01","2018-05-01","2018-06-01","2018-07-01","2018-08-01","2018-09-01","2018-10-01","2018-11-01","2018-12-01","2019-01-01","2019-02-01","2019-03-01","2019-04-01","2019-05-01","2019-06-01","2019-07-01","2019-08-01","2019-09-01","2019-10-01","2019-11-01","2019-12-01","2020-01-01","2020-02-01","2020-03-01","2020-04-01","2020-05-01","2020-06-01","2020-07-01","2020-08-01","2020-09-01","2020-10-01","2020-11-01","2020-12-01"]
[null,"Demanda horaria (MWh)",1367.54,1341.42,1328.37,1332.35,1423.86,1257.7,1354.8,1364.2,1432.4,1418.1,1426.6,1414.3,1414.6,1404.5,1391,1328.6,1334.5,1306,1486,1424.3,1427.7,1475.1,1495.5,1485.6,1445.4,1453.2,1430.8,1398,1350.4,1350.2,1366.8,1399.3,1426.6,1435.1,1438.7,1461.7,1443,1418.7,1405,1378.2,1295.8,1314.6,1460.1,1383.7,1373.6,1447.1,1434.7,1413.2,1399.4,1372.8,1374.1,1309.4000000000001,1281.8,1325.9,1320.6,1435.7,1395.6,1385.3,1386,1410.6,1370.6,1389.8,1399.5,1301.3,1278.5999999999999,1430.2,1312.6,1351.1,1393.5,1427.7,1410.7,1450.4,1404.4,1439.3,1380.2,1289.5999999999999,1337.5,1362.7,1334.3,1395,1402.1,1399.2,1387.5,1396.1,1337.3,1332.4,1306.7,1264.4000000000001,1249.5999999999999,1226.9000000000001,1269,1332.1,1336,1352.3,1331.5,1377.5,1329.8,1341.3,1300,1240.5999999999999,1222.0999999999999,1225.5999999999999,1237.8,1291.9000000000001,1322,1364.7,1331.1,1377.3,1333.5,1355,1305.2,1239.4000000000001,1266,1207.2,1328.8,1372.5,1361,1399.6,1331.5,1379,1299,1322,1325,1266,1227,1268,1353,1384,1349,1387,1335,1389,1341,1332,1313,"-","-","-","-","-","-","-","-","-","-","-","-","-","-","-","-","-","-","-","-","-","-","-","-","-","-","-","-","-","-","-","-","-","-","-","-","-","-","-","-","-","-","-","-","-"]
[null,"Día",9,6,1,6,23,6,24,9,5,24,14,28,11,6,20,10,10,21,30,1,27,23,8,31,3,12,26,28,8,30,29,7,24,28,18,31,15,18,3,2,7,30,31,20,30,28,5,31,28,3,9,5,4,3,12,12,27,28,3,31,31,9,16,7,12,23,28,16,29,4,3,31,25,15,1,9,15,27,18,21,25,10,6,31,29,18,5,22,8,28,12,22,30,2,5,31,30,17,11,3,21,30,23,29,16,23,3,31,29,10,24,7,14,30,24,12,24,5,12,31,21,18,1,7,5,23,27,10,29,18,2,31,17,21,9,"-","-","-","-","-","-","-","-","-","-","-","-","-","-","-","-","-","-","-","-","-","-","-","-","-","-","-","-","-","-","-","-","-","-","-","-","-","-","-","-","-","-","-","-","-"]
[null,"Hora",21,21,21,22,22,22,13,11,13,21,20,20,21,21,21,22,22,13,13,14,21,21,20,20,20,21,21,22,22,13,22,22,21,20,21,20,21,21,21,22,22,22,13,22,21,20,20,20,21,21,21,22,22,22,14,22,22,21,20,20,21,21,21,22,22,14,22,22,21,21,20,20,21,21,21,22,22,14,14,22,21,21,20,20,21,21,21,22,22,14,14,22,21,21,20,20,21,21,21,22,22,14,14,14,21,21,20,20,21,21,21,22,14,22,14,14,21,21,20,20,21,21,21,22,22,14,14,14,21,21,20,20,21,21,21,"-","-","-","-","-","-","-","-","-","-","-","-","-","-","-","-","-","-","-","-","-","-","-","-","-","-","-","-","-","-","-","-","-","-","-","-","-","-","-","-","-","-","-","-","-"]
[null,"Demanda máxima diaria Islas Canarias"]
[null,"Demanda diaria (MWh)",26375,24922,25461,25309,25938,33490,25092,25961,27193,26251,25776,25652,26411,26524,26693,26176,27378,26724,29918,31549,28254,27974,27696,27523,26948,26944,27287,27944,27068,27949,27449,27757,28320,27382,26599,27113,26234,26435,25396,25397,25224,26398,30250,28351,27372,27355,26849,26052,25702.626,25422.52,26729.811000000002,25062.511999999999,24675.822,26678.152999999998,26269.755000000001,28363.362000000001,27450.645,26111.636999999999,25860.174999999999,25391.769,25121.776000000002,25089.012999999999,25572.839,24529.187000000002,24399.151999999998,27628.316999999999,26128.572,26262.97,27259.915000000001,26758.316999999999,25963.307000000001,25506.352999999999,25365.637999999999,25545.647000000001,24984.3,24179.722000000002,26068.661,27076.761999999999,27038.440999999999,27768.04,27013.995999999999,26257.205000000002,25769.753000000001,25354.688999999998,24601.531999999999,24589.05,24346.384999999998,24722.35,24248.933000000001,24513.295999999998,25588.448,26810.411,25405.999,25684.02,24721.81,24389.047999999999,24699.017,24568.088,24445.68,23740.118999999999,23844.967000000001,24241.42,24959.583999999999,25693.126,26091.274000000001,26418.67,24961.050999999999,24606.127,25144.050999999999,25443.112000000001,24471.626,23903.955999999998,25128.07,24057.117999999999,27084.735000000001,27854.117999999999,26687.685000000001,26954.633999999998,25484.49,24706.348999999998,24669.97,25391.402999999998,24631.516,24276.071,24223.066999999999,25437.452000000001,26960.028999999999,28015.146000000001,26198.724999999999,26243.809000000001,25693.146000000001,25432.332999999999,25131.681,24936.843000000001,25273.013999999999,"-","-","-","-","-","-","-","-","-","-","-","-","-","-","-","-","-","-","-","-","-","-","-","-","-","-","-","-","-","-","-","-","-","-","-","-","-","-","-","-","-","-","-","-","-"]
[null,"Día",3,23,23,11,29,10,17,10,7,20,15,19,3,14,19,10,11,7,30,1,6,24,9,13,3,21,24,4,7,30,18,21,9,1,20,30,9,19,16,14,7,30,31,1,10,8,4,16,28,8,9,21,11,3,12,12,16,13,11,15,17,1,3,19,23,22,1,8,9,7,11,28,3,16,1,4,16,27,18,22,20,10,6,28,4,8,1,22,9,28,12,23,4,1,28,11,9,10,6,3,19,30,23,29,16,28,4,11,29,6,20,6,15,30,21,13,24,5,13,23,15,19,1,5,5,23,26,10,1,18,3,23,5,22,4,"-","-","-","-","-","-","-","-","-","-","-","-","-","-","-","-","-","-","-","-","-","-","-","-","-","-","-","-","-","-","-","-","-","-","-","-","-","-","-","-","-","-","-","-","-"]
[null,null,"enero","febrero","marzo","abril","mayo","junio","julio","agosto","septiembre","octubre","noviembre","diciembre","enero","febrero","marzo","abril","mayo","junio","julio","agosto","septiembre","octubre","noviembre","diciembre","enero","febrero","marzo","abril","mayo","junio","julio","agosto","septiembre","octubre","noviembre","diciembre","enero","febrero","marzo","abril","mayo","junio","julio","agosto","septiembre","octubre","noviembre","diciembre","enero","febrero","marzo","abril","mayo","junio","julio","agosto","septiembre","octubre","noviembre","diciembre","enero","febrero","marzo","abril","mayo","junio","julio","agosto","septiembre","octubre","noviembre","diciembre","enero","febrero","marzo","abril","mayo","junio","julio","agosto","septiembre","octubre","noviembre","diciembre","enero","febrero","marzo","abril","mayo","junio","julio","agosto","septiembre","octubre","noviembre","diciembre","enero","febrero","marzo","abril","mayo","junio","julio","agosto","septiembre","octubre","noviembre","diciembre","enero","febrero","marzo","abril","mayo","junio","julio","agosto","septiembre","octubre","noviembre","diciembre","enero","febrero","marzo","abril","mayo","junio","julio","agosto","septiembre","octubre","noviembre","diciembre","enero","febrero","marzo","abril","mayo","junio","julio","agosto","septiembre","octubre","noviembre","diciembre","enero","febrero","marzo","abril","mayo","junio","julio","agosto","septiembre","octubre","noviembre","diciembre","enero","febrero","marzo","abril","mayo","junio","julio","agosto","septiembre","octubre","noviembre","diciembre","enero","febrero","marzo","abril","mayo","junio","julio","agosto","septiembre","octubre","noviembre","diciembre"]
[null,"Demanda máxima horaria Ceuta","2007-01-01","2007-02-01","2007-03-01","2007-04-01","2007-05-01","2007-06-01","2007-07-01","2007-08-01","2007-09-01","2007-10-01","2007-11-01","2007-12-01","2008-01-01","2008-02-01","2008-03-01","2008-04-01","2008-05-01","2008-06-01","2008-07-01","2008-08-01","2008-09-01","2008-10-01","2008-11-01","2008-12-01","2009-01-01","2009-02-01","2009-03-01","2009-04-01","2009-05-01","2009-06-01","2009-07-01","2009-08-01","2009-09-01","2009-10-01","2009-11-01","2009-12-01","2010-01-01","2010-02-01","2010-03-01","2010-04-01","2010-05-01","2010-06-01","2010-07-01","2010-08-01","2010-09-01","2010-10-01","2010-11-01","2010-12-01","2011-01-01","2011-02-01","2011-03-01","2011-04-01","2011-05-01","2011-06-01","2011-07-01","2011-08-01","2011-09-01","2011-10-01","2011-11-01","2011-12-01","2012-01-01","2012-02-01","2012-03-01","2012-04-01","2012-05-01","2012-06-01","2012-07-01","2012-08-01","2012-09-01","2012-10-01","2012-11-01","2012-12-01","2013-01-01","2013-02-01","2013-03-01","2013-04-01","2013-05-01","2013-06-01","2013-07-01","2013-08-01","2013-09-01","2013-10-01","2013-11-01","2013-12-01","2014-01-01","2014-02-01","2014-03-01","2014-04-01","2014-05-01","2014-06-01","2014-07-01","2014-08-01","2014-09-01","2014-10-01","2014-11-01","2014-12-01","2015-01-01","2015-02-01","2015-03-01","2015-04-01","2015-05-01","2015-06-01","2015-07-01","2015-08-01","2015-09-01","2015-10-01","2015-11-01","2015-12-01","2016-01-01","2016-02-01","2016-03-01","2016-04-01","2016-05-01","2016-06-01","2016-07-01","2016-08-01","2016-09-01","2016-10-01","2016-11-01","2016-12-01","2017-01-01","2017-02-01","2017-03-01","2017-04-01","2017-05-01","2017-06-01","2017-07-01","2017-08-01","2017-09-01","2017-10-01","2017-11-01","2017-12-01"]
[null,"Demanda horaria (MWh)",35.200000000000003,34.4,31.9,31,31.3,31.5,33.9,33.799999999999997,32.299999999999997,32.4,33.700000000000003,35.1,35.9,35.4,33,32.1,31.1,32.700000000000003,33.700000000000003,34.5,33.5,32.299999999999997,36.6,41.3,40.5,36.799999999999997,35.4,30.7,30.2,35.200000000000003,36.6,35.5,34.1,33.6,33.299999999999997,38.200000000000003,39.700000000000003,38.200000000000003,34.700000000000003,34.299999999999997,32.799999999999997,34.6,36.9,37.5,36.6,34,37.700000000000003,36.9,35.6,35.6,33.4,30.1,31.8,36.1,35.6,35.299999999999997,33.9,34,33.200000000000003,34.5,37.700000000000003,39.200000000000003,34.6,32.6,33.1,34.5,33.1,34.4,34.1,33.6,34.299999999999997,36.6,35.6,36.200000000000003,34.4,30,29.8,31.4,33.299999999999997,34.799999999999997,34.9,32.6,34.299999999999997,35.9,37.299999999999997,36.6,34.6,32.1,31.7,33.4,32.799999999999997,34.200000000000003,36.5,33.5,32.799999999999997,35.1,39.5,37.1,31.4,30.3,30.4,31.9,35.799999999999997,34.700000000000003,33,31.4,30.8,31.9,33,35,34,33,31,33,34,36,37,33,33,35,39,33,31,"-","-","-","-","-","-","-","-","-"]
[null,"Día",24,8,28,16,21,18,31,3,10,2,27,17,3,19,5,9,7,30,29,6,11,21,30,15,13,5,4,1,27,23,30,20,8,29,24,16,10,3,15,14,31,30,29,12,1,6,29,1,31,2,10,11,31,30,12,8,13,4,30,19,16,13,1,19,15,27,4,2,20,10,6,3,22,28,4,15,21,25,31,21,5,1,27,2,21,11,4,1,14,17,16,27,1,2,12,15,21,5,24,14,29,10,23,10,1,20,5,10,20,18,9,4,19,14,25,1,5,4,29,19,18,2,2,"-","-","-","-","-","-","-","-","-"]
[null,"Hora",21,21,21,21,21,13,22,22,21,20,19,20,21,20,20,21,21,13,13,22,13,20,21,21,21,21,20,13,13,13,13,13,13,19,20,19,21,20,21,21,13,13,13,13,13,20,19,19,21,21,20,21,13,13,13,13,13,20,20,21,20,21,20,21,13,13,13,21,13,20,20,21,21,21,21,22,14,14,14,14,14,14,21,22,22,22,22,22,14,14,14,14,14,22,21,22,22,22,22,22,13,13,13,13,13,20,20,20,21,21,21,21,13,13,13,13,13,13,21,21,21,21,21,"-","-","-","-","-","-","-","-","-"]
[null,"Demanda máxima diaria diaria Ceuta"]
[null,"Demanda diaria (MWh)",647,664,589,578,573,580,620,624,606,611,607,631,634,636,587,575,575,606,630,639,631,595,649,723,713,656,614,570,558,653,672,670,655,623,616,676,710.79100000000005,698.45699999999999,622.726,612.98800000000006,601.68299999999999,640.60500000000002,677.44299999999998,708.654,699.37800000000004,636.75699999999995,689.154,650.38599999999997,624.36699999999996,608.09699999999998,590.19100000000003,538.69500000000005,587.91700000000003,648.09400000000005,656.43600000000004,643.61599999999999,617.32000000000005,623.47199999999998,598.09299999999996,618.94600000000003,666.62699999999995,698.38699999999994,612.46900000000005,590.81799999999998,607.91899999999998,630.53899999999999,612.95699999999999,663.21500000000003,626.64599999999996,617.98699999999997,629.36800000000005,642.71199999999999,642.28300000000002,625.61400000000003,624.09299999999996,535.84699999999998,544.21799999999996,575.06399999999996,638.596,655.83500000000004,647.06700000000001,599.76,640.68600000000004,649.45399999999995,671.77,671.16899999999998,633.16,575.63300000000004,595.81799999999998,622.70899999999995,628.31500000000005,654.00199999999995,670.60500000000002,629.22299999999996,618.28099999999995,645.19399999999996,713,654,573.85,573.04999999999995,584.44000000000005,605,668,663.31299999999999,621.37800000000004,587.22799999999995,599.20100000000002,597.95699999999999,608.82100000000003,629.41300000000001,595.98800000000006,621.428,593,628,643,749,686.32399999999996,633.20000000000005,625.29300000000001,653.90099999999995,703.15899999999999,599.75199999999995,603.94100000000003,"-","-","-","-","-","-","-","-","-"]
[null,"Día",26,2,28,11,30,29,31,2,7,9,29,17,16,19,4,17,8,30,29,4,11,23,27,2,21,5,4,1,20,30,30,20,8,14,26,16,11,3,2,14,31,30,29,31,1,7,29,1,26,3,9,13,31,30,28,1,13,4,30,20,16,9,1,19,15,27,30,3,13,10,6,4,24,28,4,30,10,25,31,21,5,1,28,2,21,12,5,1,14,17,16,27,1,1,20,16,21,10,24,28,18,30,28,3,8,27,6,15,20,18,7,26,24,14,25,3,7,6,24,19,18,10,1,"-","-","-","-","-","-","-","-","-"]
[null,null,"enero","febrero","marzo","abril","mayo","junio","julio","agosto","septiembre","octubre","noviembre","diciembre","enero","febrero","marzo","abril","mayo","junio","julio","agosto","septiembre","octubre","noviembre","diciembre","enero","febrero","marzo","abril","mayo","junio","julio","agosto","septiembre","octubre","noviembre","diciembre","enero","febrero","marzo","abril","mayo","junio","julio","agosto","septiembre","octubre","noviembre","diciembre","enero","febrero","marzo","abril","mayo","junio","julio","agosto","septiembre","octubre","noviembre","diciembre","enero","febrero","marzo","abril","mayo","junio","julio","agosto","septiembre","octubre","noviembre","diciembre","enero","febrero","marzo","abril","mayo","junio","julio","agosto","septiembre","octubre","noviembre","diciembre","enero","febrero","marzo","abril","mayo","junio","julio","agosto","septiembre","octubre","noviembre","diciembre","enero","febrero","marzo","abril","mayo","junio","julio","agosto","septiembre","octubre","noviembre","diciembre","enero","febrero","marzo","abril","mayo","junio","julio","agosto","septiembre","octubre","noviembre","diciembre","enero","febrero","marzo","abril","mayo","junio","julio","agosto","septiembre","octubre","noviembre","diciembre"]
[null,"Demanda máxima horaria Melilla","2007-01-01","2007-02-01","2007-03-01","2007-04-01","2007-05-01","2007-06-01","2007-07-01","2007-08-01","2007-09-01","2007-10-01","2007-11-01","2007-12-01","2008-01-01","2008-02-01","2008-03-01","2008-04-01","2008-05-01","2008-06-01","2008-07-01","2008-08-01","2008-09-01","2008-10-01","2008-11-01","2008-12-01","2009-01-01","2009-02-01","2009-03-01","2009-04-01","2009-05-01","2009-06-01","2009-07-01","2009-08-01","2009-09-01","2009-10-01","2009-11-01","2009-12-01","2010-01-01","2010-02-01","2010-03-01","2010-04-01","2010-05-01","2010-06-01","2010-07-01","2010-08-01","2010-09-01","2010-10-01","2010-11-01","2010-12-01","2011-01-01","2011-02-01","2011-03-01","2011-04-01","2011-05-01","2011-06-01","2011-07-01","2011-08-01","2011-09-01","2011-10-01","2011-11-01","2011-12-01","2012-01-01","2012-02-01","2012-03-01","2012-04-01","2012-05-01","2012-06-01","2012-07-01","2012-08-01","2012-09-01","2012-10-01","2012-11-01","2012-12-01","2013-01-01","2013-02-01","2013-03-01","2013-04-01","2013-05-01","2013-06-01","2013-07-01","2013-08-01","2013-09-01","2013-10-01","2013-11-01","2013-12-01","2014-01-01","2014-02-01","2014-03-01","2014-04-01","2014-05-01","2014-06-01","2014-07-01","2014-08-01","2014-09-01","2014-10-01","2014-11-01","2014-12-01","2015-01-01","2015-02-01","2015-03-01","2015-04-01","2015-05-01","2015-06-01","2015-07-01","2015-08-01","2015-09-01","2015-10-01","2015-11-01","2015-12-01","2016-01-01","2016-02-01","2016-03-01","2016-04-01","2016-05-01","2016-06-01","2016-07-01","2016-08-01","2016-09-01","2016-10-01","2016-11-01","2016-12-01","2017-01-01","2017-02-01","2017-03-01","2017-04-01","2017-05-01","2017-06-01","2017-07-01","2017-08-01","2017-09-01","2017-10-01","2017-11-01","2017-12-01"]
[null,"Demanda horaria (MWh)",32.700000000000003,31.4,28.3,29.3,27.9,31.2,34,34.6,32,31.2,31.4,34.000000999999997,34.1,33,30.1,29.8,29.5,34.9,35.6,37.799999999999997,34.299999999999997,31.6,35.1,39.299999999999997,37.9,33.9,34.700000000000003,31.6,29.6,32.9,37.799999999999997,37.200000000000003,36.4,33,32.700000000000003,36.200000000000003,36.9,34.299999999999997,32.9,31,30,33.799999999999997,35.1,39.200000000000003,34.799999999999997,32.700000000000003,32.5,33.6,35.6,37.4,33.799999999999997,30.1,31.5,36,36.1,38.5,36.299999999999997,33.200000000000003,32.5,35.9,38.5,39.9,34,30.8,29.9,35.9,36.5,37.299999999999997,35,32.299999999999997,32.1,34.799999999999997,34.6,36.4,33.9,30.6,31.2,31.9,35.9,37.200000000000003,35.200000000000003,34.200000000000003,34.4,34.9,35.1,34.1,32.9,32.200000000000003,30.1,33,33.6,38,37.9,33.5,31.4,34.700000000000003,38.299999999999997,37.5,32.200000000000003,31.3,28.8,33,40.5,41.7,36.6,34,32.200000000000003,32.9,33,34,34.000000000001002,31,30,35,37,40.000000999999997,40,34,32,34,40,35,32,"-","-","-","-","-","-","-","-","-"]
[null,"Día",24,1,14,23,3,25,31,3,20,2,19,31,3,5,6,16,6,30,31,27,1,27,27,16,21,17,16,22,5,24,30,5,1,5,17,14,27,2,11,26,31,2,26,12,1,18,29,2,31,1,2,12,10,23,1,8,14,3,30,20,17,14,1,19,29,27,23,23,21,10,12,12,23,12,5,24,10,17,25,26,4,3,5,31,29,3,12,2,6,18,15,29,2,1,19,31,21,5,25,8,5,29,30,7,1,5,25,17,20,17,7,4,12,14,12,29,6,5,30,19,19,2,23,"-","-","-","-","-","-","-","-","-"]
[null,"Hora",21,21,20,21,21,12,13,12,20,20,19,20,18,21,20,21,21,13,13,13,13,19,19,21,20,20,20,21,21,13,13,13,13,20,19,21,19,21,20,21,13,13,13,13,13,20,19,20,21,21,20,21,21,13,13,13,13,20,19,21,21,21,20,22,13,13,13,13,13,20,20,20,22,21,21,22,14,14,14,14,14,21,20,21,21,22,21,22,22,14,14,14,14,21,21,21,22,22,21,22,21,13,13,13,13,20,20,20,20,21,20,21,21,12,13,13,13,20,20,21,21,21,20,"-","-","-","-","-","-","-","-","-"]
[null,"Demanda máxima diaria diaria Melilla"]
[null,"Demanda diaria (MWh)",587,551,530,548,548,603,673,679,589,602,568,615,617,592,550,542,555,623,641,688,625,569,589,640,663,604,583,547,555,637,719,726,701,597,568,627,655.50699999999995,615.36800000000005,603.81200000000001,571.06299999999999,587.31299999999999,651.44600000000003,707.31,765.99400000000003,716.90599999999995,606.47400000000005,613.51499999999999,628.74699999999996,644.31299999999999,666.77,604.58600000000001,565.16399999999999,585.87400000000002,683.74599999999998,691.78399999999999,750.24900000000002,696.98699999999997,640.09299999999996,596.06899999999996,638.67200000000003,677.03499999999997,687.13900000000001,612.41899999999998,573.005,590.851,696.79,704.65099999999995,741.60299999999995,670.29600000000005,615.76,580.35500000000002,612.971,614.90300000000002,641.70100000000002,598.14099999999996,561.72,588.31700000000001,596.86699999999996,696.798,709.44600000000003,657.58699999999999,638.80999999999995,619.79,612.755,626.476,616.87400000000002,586.06500000000005,567.97299999999996,566.89300000000003,617.846,654.60299999999995,724.6,709.79600000000005,627.36199999999997,581.83900000000006,626.04200000000003,673.26199999999994,663,572.85,562,571.14,653,781,782.09699999999998,686.83600000000001,621.178,579.13900000000001,595.47900000000004,597.23500000000001,585.447,566.46600000000001,596.84100000000001,560.50300000000004,672.17499999999995,688.17,723.928,792.88400000000001,627.53599999999994,583.87699999999995,599.00599999999997,712.86599999999999,602.14599999999996,614.27700000000004,"-","-","-","-","-","-","-","-","-"]
[null,"Día",26,1,28,23,11,25,31,1,7,2,27,19,3,5,10,28,7,26,31,27,19,7,27,2,12,16,4,24,20,24,30,5,1,13,25,16,27,1,2,27,31,2,26,31,1,21,29,2,31,1,18,29,27,30,1,16,14,3,29,20,17,14,1,12,31,28,13,10,20,11,20,12,24,12,1,4,10,17,25,6,11,7,28,3,29,18,5,1,12,19,24,29,1,1,26,15,21,6,25,9,13,30,23,7,1,6,25,17,20,18,7,26,25,14,13,5,5,6,30,22,20,1,23,"-","-","-","-","-","-","-","-","-"]
[null,null,"enero","febrero","marzo","abril","mayo","junio","julio","agosto","septiembre","octubre","noviembre","diciembre","enero","febrero","marzo","abril","mayo","junio","julio","agosto","septiembre","octubre","noviembre","diciembre","enero","febrero","marzo","abril","mayo","junio","julio","agosto","septiembre","octubre","noviembre","diciembre","enero","febrero","marzo","abril","mayo","junio","julio","agosto","septiembre","octubre","noviembre","diciembre","enero","febrero","marzo","abril","mayo","junio","julio","agosto","septiembre","octubre","noviembre","diciembre","enero","febrero","marzo","abril","mayo","junio","julio","agosto","septiembre","octubre","noviembre","diciembre","enero","febrero","marzo","abril","mayo","junio","julio","agosto","septiembre","octubre","noviembre","diciembre","enero","febrero","marzo","abril","mayo","junio","julio","agosto","septiembre","octubre","noviembre","diciembre","enero","febrero","marzo","abril","mayo","junio","julio","agosto","septiembre","octubre","noviembre","diciembre","enero","febrero","marzo","abril","mayo","junio","julio","agosto","septiembre","octubre","noviembre","diciembre","enero","febrero","marzo","abril","mayo","junio","julio","agosto","septiembre","octubre","noviembre","diciembre"]
[null,"Potencia máxima instantánea peninsular ","1990","1990",1991,1991,"1992","1992","1993","1993","1994","1994","1995","1995","1996","1996","1997","1997","1998","1998","1999","1999","2000","2000","2001","2001","2002","2002","2003","2003","2004","2004","2005","2005","2006","2006","2007","2007","2008","2008","2009","2009","2010","2010","2011","2011","2012","2012","2013","2013","2014","2014","2015","2015","2016","2016","2017","2017","2018","2018","2019","2019"]
[null,null,"Invierno","Verano","Invierno","Verano","Invierno","Verano","Invierno","Verano","Invierno","Verano","Invierno","Verano","Invierno","Verano","Invierno","Verano","Invierno","Verano","Invierno","Verano","Invierno","Verano","Invierno","Verano","Invierno","Verano","Invierno","Verano","Invierno","Verano","Invierno","Verano","Invierno","Verano","Invierno","Verano","Invierno","Verano","Invierno","Verano","Invierno","Verano","Invierno","Verano","Invierno","Verano","Invierno","Verano","Invierno","Verano","Invierno","Verano","Invierno","Verano","Invierno","Verano","Invierno","Verano","Invierno","Verano"]
[null,"Potencia instantánea (MW)","-","-","-","-","-","-","-","-","-","-","-","-","-","-","-","-","-","-","-","-","-","-","-","-","-","-","-","-","-","-","-","-",{"$f":"MAX(Maximos!GM3:GQ3,Maximos!GV3:GX3)","v":42429.859400000001},{"$f":"MAX(Maximos!GR3:GU3)","v":40778.867200000001},{"$f":"MAX(Maximos!GY3:HC3,Maximos!HH3:HJ3)","v":45450},{"$f":"MAX(Maximos!HD3:HG3)","v":39504.972699999998},{"$f":"MAX(Maximos!HK3:HO3,Maximos!HT3:HV3)","v":43252.167999999998},{"$f":"MAX(Maximos!HP3:HS3)","v":40407.058599999997},{"$f":"MAX(Maximos!HW3:IA3,Maximos!IF3:IH3)","v":44495.910199999998},{"$f":"MAX(Maximos!IB3:IE3)","v":40487},{"$f":"MAX(Maximos!II3:IM3,Maximos!IR3:IT3)","v":44486},{"$f":"MAX(Maximos!IN3:IQ3)","v":41318},{"$f":"MAX(Maximos!IU3:IY3,Maximos!JD3:JF3)","v":43969},{"$f":"MAX(Maximos!IZ3:JC3)","v":40139},{"$f":"MAX(Maximos!JG3:JK3,Maximos!JP3:JR3)","v":43527},{"$f":"MAX(Maximos!JL3:JO3)","v":39124},{"$f":"MAX(Maximos!JS3:JW3,Maximos!KB3:KD3)","v":40277},{"$f":"MAX(Maximos!JX3:KA3)","v":37570},{"$f":"MAX(Maximos!KE3:KI3,Maximos!KN3:KP3)","v":38948},{"$f":"MAX(Maximos!KJ3:KM3)","v":37299},{"$f":"MAX(Maximos!KQ3:KU3,Maximos!KZ3:LB3)","v":40726},{"$f":"MAX(Maximos!KV3:KY3)","v":40192},{"$f":"MAX(Maximos!LC3:LG3,Maximos!LL3:LN3)","v":38464},{"$f":"MAX(Maximos!LH3:LK3)","v":40489},{"$f":"MAX(Maximos!LO3:LS3,Maximos!LX3:LZ3)","v":41381},"-","-","-","-","-"]
[null,"Día","-","-","-","-","-","-","-","-","-","-","-","-","-","-","-","-","-","-","-","-","-","-","-","-","-","-","-","-","-","-","-","-",{"$f":"HLOOKUP($AI$48,Maximos!$GM$3:$GX$13,2,0)&\" de \"&HLOOKUP($AI$48,Maximos!$GM$3:$GX$13,11,0)","v":"20 de diciembre"},{"$f":"HLOOKUP($AJ$48,Maximos!$GM$3:$GX$13,2,0)&\" de \"&HLOOKUP($AJ$48,Maximos!$GM$3:$GX$13,11,0)","v":"13 de julio"},{"$f":"HLOOKUP($AK$48,Maximos!$GY$3:$HJ$13,2,0)&\" de \"&HLOOKUP($AK$48,Maximos!$GY$3:$HJ$13,11,0)","v":"17 de diciembre"},{"$f":"HLOOKUP($AL$48,Maximos!$GY$3:$HJ$13,2,0)&\" de \"&HLOOKUP($AL$48,Maximos!$GY$3:$HJ$13,11,0)","v":"27 de julio"},{"$f":"HLOOKUP($AM$48,Maximos!$HK$3:$HV$13,2,0)&\" de \"&HLOOKUP($AM$48,Maximos!$HK$3:$HV$13,11,0)","v":"15 de diciembre"},{"$f":"HLOOKUP($AN$48,Maximos!$HK$3:$HV$13,2,0)&\" de \"&HLOOKUP($AN$48,Maximos!$HK$3:$HV$13,11,0)","v":"1 de julio"},{"$f":"HLOOKUP($AO$48,Maximos!$HW$3:$IH$13,2,0)&\" de \"&HLOOKUP($AO$48,Maximos!$HW$3:$IH$13,11,0)","v":"13 de enero"},{"$f":"HLOOKUP($AP$48,Maximos!$HW$3:$IH$13,2,0)&\" de \"&HLOOKUP($AP$48,Maximos!$HW$3:$IH$13,11,0)","v":"1 de septiembre"},{"$f":"HLOOKUP($AQ$48,Maximos!$II$3:$IT$13,2,0)&\" de \"&HLOOKUP($AQ$48,Maximos!$II$3:$IT$13,11,0)","v":"12 de enero"},{"$f":"HLOOKUP($AR$48,Maximos!$II$3:$IT$13,2,0)&\" de \"&HLOOKUP($AR$48,Maximos!$II$3:$IT$13,11,0)","v":"19 de julio"},{"$f":"HLOOKUP($AS$48,Maximos!$IU$3:$JF$13,2,0)&\" de \"&HLOOKUP($AS$48,Maximos!$IU$3:$JF$13,11,0)","v":"24 de enero"},{"$f":"HLOOKUP($AT$48,Maximos!$IU$3:$JF$13,2,0)&\" de \"&HLOOKUP($AT$48,Maximos!$IU$3:$JF$13,11,0)","v":"28 de junio"},{"$f":"HLOOKUP($AU$48,Maximos!$JG$3:$JR$13,2,0)&\" de \"&HLOOKUP($AU$48,Maximos!$JG$3:$JR$13,11,0)","v":"13 de febrero"},{"$f":"HLOOKUP($AV$48,Maximos!$JG$3:$JR$13,2,0)&\" de \"&HLOOKUP($AV$48,Maximos!$JG$3:$JR$13,11,0)","v":"28 de junio"},{"$f":"HLOOKUP($AW$48,Maximos!$JS$3:$KD$13,2,0)&\" de \"&HLOOKUP($AW$48,Maximos!$JS$3:$KD$13,11,0)","v":"27 de febrero"},{"$f":"HLOOKUP($AX$48,Maximos!$JS$3:$KD$13,2,0)&\" de \"&HLOOKUP($AX$48,Maximos!$JS$3:$KD$13,11,0)","v":"10 de julio"},{"$f":"HLOOKUP(AY48,Maximos!KE3:KP13,2,0)&\" de \"&HLOOKUP(AY48,Maximos!KE3:KP13,11,0)","v":"4 de febrero"},{"$f":"HLOOKUP(AZ48,Maximos!KJ3:KM13,2,0)&\" de \"&HLOOKUP(AZ48,Maximos!KJ3:KM13,11,0)","v":"17 de julio"},{"$f":"HLOOKUP(BA48,Maximos!KQ3:LB13,2,0)&\" de \"&HLOOKUP(BA48,Maximos!KQ3:LB13,11,0)","v":"4 de febrero"},{"$f":"HLOOKUP(BB48,Maximos!KV3:KY13,2,0)&\" de \"&HLOOKUP(BB48,Maximos!KV3:KY13,11,0)","v":"21 de julio"},{"$f":"HLOOKUP(BC48,Maximos!LC3:LN13,2,0)&\" de \"&HLOOKUP(BC48,Maximos!LC3:LN13,11,0)","v":"17 de febrero"},{"$f":"HLOOKUP(BD48,Maximos!LH3:LK13,2,0)&\" de \"&HLOOKUP(BD48,Maximos!LH3:LK13,11,0)","v":"6 de septiembre"},{"$f":"HLOOKUP(BE48,Maximos!LO3:LZ13,2,0)&\" de \"&HLOOKUP(BE48,Maximos!LO3:LZ13,11,0)","v":"18 de enero"},"-","-","-","-","-"]
[null,"Hora","-","-","-","-","-","-","-","-","-","-","-","-","-","-","-","-","-","-","-","-","-","-","-","-","-","-","-","-","-","-","-","-",{"$f":"HLOOKUP($AI$48,Maximos!$GM$3:$GX$13,3,0)","v":"18:58:16"},{"$f":"HLOOKUP($AJ$48,Maximos!$GM$3:$GX$13,3,0)","v":"13:27:29"},{"$f":"HLOOKUP($AK$48,Maximos!$GY$3:$HJ$13,3,0)","v":"18:53:00"},{"$f":"HLOOKUP($AL$48,Maximos!$GY$3:$HJ$13,3,0)","v":"13:25:42"},{"$f":"HLOOKUP($AM$48,Maximos!$HK$3:$HV$13,3,0)","v":"18:59:07"},{"$f":"HLOOKUP($AN$48,Maximos!$HK$3:$HV$13,3,0)","v":"13:22:27"},{"$f":"HLOOKUP($AO$48,Maximos!$HW$3:$IH$13,3,0)","v":"18:41:03"},{"$f":"HLOOKUP($AP$48,Maximos!$HW$3:$IH$13,3,0)","v":"12:55:00"},{"$f":"HLOOKUP($AQ$48,Maximos!$II$3:$IT$13,3,0)","v":"18:56:00"},{"$f":"HLOOKUP($AR$48,Maximos!$II$3:$IT$13,3,0)","v":"13:26:00"},{"$f":"HLOOKUP($AS$48,Maximos!$IU$3:$JF$13,3,0)","v":"20:06:00"},{"$f":"HLOOKUP($AT$48,Maximos!$IU$3:$JF$13,3,0)","v":"13:24:00"},{"$f":"HLOOKUP($AU$48,Maximos!$JG$3:$JR$13,3,0)","v":"20:21:00"},{"$f":"HLOOKUP($AV$48,Maximos!$JG$3:$JR$13,3,0)","v":"13:23:00"},{"$f":"HLOOKUP($AW$48,Maximos!$JS$3:$KD$13,3,0)","v":"20:42:00"},{"$f":"HLOOKUP($AX$48,Maximos!$JS$3:$KD$13,3,0)","v":"13:32:00"},{"$f":"HLOOKUP(AY48,Maximos!KE3:KP13,3,0)","v":"20:18:00"},{"$f":"HLOOKUP(AZ48,Maximos!KJ3:KM13,3,0)","v":"13:21:00"},{"$f":"HLOOKUP(BA48,Maximos!KQ3:LB13,3,0)","v":"19:56:00"},{"$f":"HLOOKUP(BB48,Maximos!KV3:KY13,3,0)","v":"13:33:00"},{"$f":"HLOOKUP(BC48,Maximos!LC3:LN13,3,0)","v":"20:37:00"},{"$f":"HLOOKUP(BD48,Maximos!LH3:LK13,3,0)","v":"13:32"},{"$f":"HLOOKUP(BE48,Maximos!LO3:LZ13,3,0)","v":"19:50"},"-","-","-","-","-"]
[null,"Demanda máxima horaria  peninsular","1990","1990",1991,1991,"1992","1992","1993","1993","1994","1994","1995","1995","1996","1996","1997","1997","1998","1998","1999","1999","2000","2000","2001","2001","2002","2002","2003","2003","2004","2004","2005","2005","2006","2006","2007","2007","2008","2008","2009","2009","2010","2010","2011","2011","2012","2012","2013","2013","2014","2014","2015","2015","2016","2016","2017","2017","2018","2018","2019","2019"]
[null,null,"Invierno","Verano","Invierno","Verano","Invierno","Verano","Invierno","Verano","Invierno","Verano","Invierno","Verano","Invierno","Verano","Invierno","Verano","Invierno","Verano","Invierno","Verano","Invierno","Verano","Invierno","Verano","Invierno","Verano","Invierno","Verano","Invierno","Verano","Invierno","Verano","Invierno","Verano","Invierno","Verano","Invierno","Verano","Invierno","Verano","Invierno","Verano","Invierno","Verano","Invierno","Verano","Invierno","Verano","Invierno","Verano","Invierno","Verano","Invierno","Verano","Invierno","Verano","Invierno","Verano","Invierno","Verano"]
[null,"Demanda horaria (MWh)",{"$f":"MAX(Maximos!C7:G7,Maximos!L7:N7)","v":25160},{"$f":"MAX(Maximos!H7:K7)","v":20185},{"$f":"MAX(Maximos!O7:S7,Maximos!X7:Z7)","v":24395},{"$f":"MAX(Maximos!T7:W7)","v":20792},{"$f":"MAX(Maximos!AA7:AE7,Maximos!AJ7:AL7)","v":25336},{"$f":"MAX(Maximos!AF7:AI7)","v":20347},{"$f":"MAX(Maximos!AM7:AQ7,Maximos!AV7:AX7)","v":23990},{"$f":"MAX(Maximos!AR7:AU7)","v":20355},{"$f":"MAX(Maximos!AY7:BC7,Maximos!BH7:BJ7)","v":24764},{"$f":"MAX(Maximos!BD7:BG7)","v":21879},{"$f":"MAX(Maximos!BK7:BO7,Maximos!BT7:BV7)","v":25813},{"$f":"MAX(Maximos!BP7:BS7)","v":23334},{"$f":"MAX(Maximos!BW7:CA7,Maximos!CF7:CH7)","v":25357},{"$f":"MAX(Maximos!CB7:CE7)","v":23025},{"$f":"MAX(Maximos!CI7:CM7,Maximos!CR7:CT7)","v":27369},{"$f":"MAX(Maximos!CN7:CQ7)","v":23788},{"$f":"MAX(Maximos!CU7:CY7,Maximos!DD7:DF7)","v":29796},{"$f":"MAX(Maximos!CZ7:DC7)","v":25710},{"$f":"MAX(Maximos!DG7:DK7,Maximos!DP7:DR7)","v":31318},{"$f":"MAX(Maximos!DL7:DO7)","v":27792},{"$f":"MAX(Maximos!DS7:DW7,Maximos!EB7:ED7)","v":33236},{"$f":"MAX(Maximos!DX7:EA7)","v":29388},{"$f":"MAX(Maximos!EE7:EI7,Maximos!EN7:EP7)","v":35186},{"$f":"MAX(Maximos!EJ7:EM7)","v":31238},{"$f":"MAX(Maximos!EQ7:EU7,Maximos!EZ7:FB7)","v":34336},{"$f":"MAX(Maximos!EV7:EY7)","v":32304},{"$f":"MAX(Maximos!FC7:FG7,Maximos!FL7:FN7)","v":37459},{"$f":"MAX(Maximos!FH7:FK7)","v":34661},{"$f":"MAX(Maximos!FO7:FS7,Maximos!FX7:FZ7)","v":37724},{"$f":"MAX(Maximos!FT7:FW7)","v":36619},{"$f":"MAX(Maximos!GA7:GE7,Maximos!GJ7:GL7)","v":43377.599999999999},{"$f":"MAX(Maximos!GF7:GI7)","v":38542.1},{"$f":"MAX(Maximos!GM7:GQ7,Maximos!GV7:GX7)","v":42152.9},{"$f":"MAX(Maximos!GR7:GU7)","v":40524.300000000003},{"$f":"MAX(Maximos!GY7:HC7,Maximos!HH7:HJ7)","v":44876.1},{"$f":"MAX(Maximos!HD7:HG7)","v":39038},{"$f":"MAX(Maximos!HK7:HO7,Maximos!HT7:HV7)","v":42961.1},{"$f":"MAX(Maximos!HP7:HS7)","v":40156},{"$f":"MAX(Maximos!HW7:IA7,Maximos!IF7:IH7)","v":44440.3},{"$f":"MAX(Maximos!IB7:IE7)","v":40225.699999999997},{"$f":"MAX(Maximos!II7:IM7,Maximos!IR7:IT7)","v":44122.400000000001},{"$f":"MAX(Maximos!IN7:IQ7)","v":40934.300000000003},{"$f":"MAX(Maximos!IU7:IY7,Maximos!JD7:JF7)","v":44106.7},{"$f":"MAX(Maximos!IZ7:JC7)","v":39537.1},{"$f":"MAX(Maximos!JG7:JK7,Maximos!JP7:JR7)","v":43010.2},{"$f":"MAX(Maximos!JL7:JO7)","v":39273.4},{"$f":"MAX(Maximos!JS7:JW7,Maximos!KB7:KD7)","v":39963.300000000003},{"$f":"MAX(Maximos!JX7:KA7)","v":37399.4},{"$f":"MAX(Maximos!KE7:KI7,Maximos!KN7:KP7)","v":38666.29},{"$f":"MAX(Maximos!KJ7:KM7)","v":37019.730000000003},{"$f":"MAX(Maximos!KQ7:KU7,Maximos!KZ7:LB7)","v":40323.769999999997},{"$f":"MAX(Maximos!KV7:KY7)","v":39927.599999999999},{"$f":"MAX(Maximos!LC7:LG7,Maximos!LL7:LN7)","v":38239},{"$f":"MAX(Maximos!LH7:LK7)","v":40144},{"$f":"MAX(Maximos!LO7:LS7,Maximos!LX7:LZ7)","v":41015},"-","-","-","-","-"]
[null,"Día",{"$f":"HLOOKUP($C$53,Maximos!$C$7:$N$13,2,0)&\" de \"&HLOOKUP($C$53,Maximos!$C$7:$N$13,7,0)","v":"10 de diciembre"},{"$f":"HLOOKUP($D$53,Maximos!$C$7:$N$13,2,0)&\" de \"&HLOOKUP($D$53,Maximos!$C$7:$N$13,7,0)","v":"19 de julio"},{"$f":"HLOOKUP($E$53,Maximos!$O$7:$Z$13,2,0)&\" de \"&HLOOKUP($E$53,Maximos!$O$7:$Z$13,7,0)","v":"16 de enero"},{"$f":"HLOOKUP($F$53,Maximos!$O$7:$Z$13,2,0)&\" de \"&HLOOKUP($F$53,Maximos!$O$7:$Z$13,7,0)","v":"18 de julio"},{"$f":"HLOOKUP($G$53,Maximos!$AA$7:$AL$13,2,0)&\" de \"&HLOOKUP($G$53,Maximos!$AA$7:$AL$13,7,0)","v":"23 de enero"},{"$f":"HLOOKUP($H$53,Maximos!$AA$7:$AL$13,2,0)&\" de \"&HLOOKUP($H$53,Maximos!$AA$7:$AL$13,7,0)","v":"28 de julio"},{"$f":"HLOOKUP($I$53,Maximos!$AM$7:$AX$13,2,0)&\" de \"&HLOOKUP($I$53,Maximos!$AM$7:$AX$13,7,0)","v":"2 de marzo"},{"$f":"HLOOKUP($J$53,Maximos!$AM$7:$AX$13,2,0)&\" de \"&HLOOKUP($J$53,Maximos!$AM$7:$AX$13,7,0)","v":"29 de julio"},{"$f":"HLOOKUP($K$53,Maximos!$AY$7:$BJ$13,2,0)&\" de \"&HLOOKUP($K$53,Maximos!$AY$7:$BJ$13,7,0)","v":"19 de enero"},{"$f":"HLOOKUP($L$53,Maximos!$AY$7:$BJ$13,2,0)&\" de \"&HLOOKUP($L$53,Maximos!$AY$7:$BJ$13,7,0)","v":"15 de julio"},{"$f":"HLOOKUP($M$53,Maximos!$BK$7:$BV$13,2,0)&\" de \"&HLOOKUP($M$53,Maximos!$BK$7:$BV$13,7,0)","v":"14 de diciembre"},{"$f":"HLOOKUP($N$53,Maximos!$BK$7:$BV$13,2,0)&\" de \"&HLOOKUP($N$53,Maximos!$BK$7:$BV$13,7,0)","v":"21 de julio"},{"$f":"HLOOKUP($O$53,Maximos!$BW$7:$CH$13,2,0)&\" de \"&HLOOKUP($O$53,Maximos!$BW$7:$CH$13,7,0)","v":"11 de diciembre"},{"$f":"HLOOKUP($P$53,Maximos!$BW$7:$CH$13,2,0)&\" de \"&HLOOKUP($P$53,Maximos!$BW$7:$CH$13,7,0)","v":"24 de julio"},{"$f":"HLOOKUP($Q$53,Maximos!$CI$7:$CT$13,2,0)&\" de \"&HLOOKUP($Q$53,Maximos!$CI$7:$CT$13,7,0)","v":"16 de diciembre"},{"$f":"HLOOKUP($R$53,Maximos!$CI$7:$CT$13,2,0)&\" de \"&HLOOKUP($R$53,Maximos!$CI$7:$CT$13,7,0)","v":"10 de septiembre"},{"$f":"HLOOKUP($S$53,Maximos!$CU$7:$DF$13,2,0)&\" de \"&HLOOKUP($S$53,Maximos!$CU$7:$DF$13,7,0)","v":"2 de diciembre"},{"$f":"HLOOKUP($T$53,Maximos!$CU$7:$DF$13,2,0)&\" de \"&HLOOKUP($T$53,Maximos!$CU$7:$DF$13,7,0)","v":"23 de julio"},{"$f":"HLOOKUP($U$53,Maximos!$DG$7:$DR$13,2,0)&\" de \"&HLOOKUP($U$53,Maximos!$DG$7:$DR$13,7,0)","v":"21 de diciembre"},{"$f":"HLOOKUP($V$53,Maximos!$DG$7:$DR$13,2,0)&\" de \"&HLOOKUP($V$53,Maximos!$DG$7:$DR$13,7,0)","v":"2 de julio"},{"$f":"HLOOKUP($W$53,Maximos!$DS$7:$ED$13,2,0)&\" de \"&HLOOKUP($W$53,Maximos!$DS$7:$ED$13,7,0)","v":"25 de enero"},{"$f":"HLOOKUP($X$53,Maximos!$DS$7:$ED$13,2,0)&\" de \"&HLOOKUP($X$53,Maximos!$DS$7:$ED$13,7,0)","v":"30 de junio"},{"$f":"HLOOKUP($Y$53,Maximos!$EE$7:$EP$13,2,0)&\" de \"&HLOOKUP($Y$53,Maximos!$EE$7:$EP$13,7,0)","v":"19 de diciembre"},{"$f":"HLOOKUP($Z$53,Maximos!$EE$7:$EP$13,2,0)&\" de \"&HLOOKUP($Z$53,Maximos!$EE$7:$EP$13,7,0)","v":"25 de junio"},{"$f":"HLOOKUP($AA$53,Maximos!$EQ$7:$FB$13,2,0)&\" de \"&HLOOKUP($AA$53,Maximos!$EQ$7:$FB$13,7,0)","v":"9 de enero"},{"$f":"HLOOKUP($AB$53,Maximos!$EQ$7:$FB$13,2,0)&\" de \"&HLOOKUP($AB$53,Maximos!$EQ$7:$FB$13,7,0)","v":"18 de junio"},{"$f":"HLOOKUP($AC$53,Maximos!$FC$7:$FN$13,2,0)&\" de \"&HLOOKUP($AC$53,Maximos!$FC$7:$FN$13,7,0)","v":"4 de diciembre"},{"$f":"HLOOKUP($AD$53,Maximos!$FC$7:$FN$13,2,0)&\" de \"&HLOOKUP($AD$53,Maximos!$FC$7:$FN$13,7,0)","v":"27 de junio"},{"$f":"HLOOKUP($AE$53,Maximos!$FO$7:$FZ$13,2,0)&\" de \"&HLOOKUP($AE$53,Maximos!$FO$7:$FZ$13,7,0)","v":"2 de marzo"},{"$f":"HLOOKUP($AF$53,Maximos!$FO$7:$FZ$13,2,0)&\" de \"&HLOOKUP($AF$53,Maximos!$FO$7:$FZ$13,7,0)","v":"30 de junio"},{"$f":"HLOOKUP($AG$53,Maximos!$GA$7:$GL$13,2,0)&\" de \"&HLOOKUP($AG$53,Maximos!$GA$7:$GL$13,7,0)","v":"27 de enero"},{"$f":"HLOOKUP($AH$53,Maximos!$GA$7:$GL$13,2,0)&\" de \"&HLOOKUP($AH$53,Maximos!$GA$7:$GL$13,7,0)","v":"21 de julio"},{"$f":"HLOOKUP($AI$53,Maximos!$GM$7:$GX$13,2,0)&\" de \"&HLOOKUP($AI$53,Maximos!$GM$7:$GX$13,7,0)","v":"30 de enero"},{"$f":"HLOOKUP($AJ$53,Maximos!$GM$7:$GX$13,2,0)&\" de \"&HLOOKUP($AJ$53,Maximos!$GM$7:$GX$13,7,0)","v":"13 de julio"},{"$f":"HLOOKUP($AK$53,Maximos!$GY$7:$HJ$13,2,0)&\" de \"&HLOOKUP($AK$53,Maximos!$GY$7:$HJ$13,7,0)","v":"17 de diciembre"},{"$f":"HLOOKUP($AL$53,Maximos!$GY$7:$HJ$13,2,0)&\" de \"&HLOOKUP($AL$53,Maximos!$GY$7:$HJ$13,7,0)","v":"31 de julio"},{"$f":"HLOOKUP($AM$53,Maximos!$HK$7:$HV$13,2,0)&\" de \"&HLOOKUP($AM$53,Maximos!$HK$7:$HV$13,7,0)","v":"15 de diciembre"},{"$f":"HLOOKUP($AN$53,Maximos!$HK$7:$HV$13,2,0)&\" de \"&HLOOKUP($AN$53,Maximos!$HK$7:$HV$13,7,0)","v":"1 de julio"},{"$f":"HLOOKUP($AO$53,Maximos!$HW$7:$IH$13,2,0)&\" de \"&HLOOKUP($AO$53,Maximos!$HW$7:$IH$13,7,0)","v":"13 de enero"},{"$f":"HLOOKUP($AP$53,Maximos!$HW$7:$IH$13,2,0)&\" de \"&HLOOKUP($AP$53,Maximos!$HW$7:$IH$13,7,0)","v":"1 de septiembre"},{"$f":"HLOOKUP($AQ$53,Maximos!$II$7:$IT$13,2,0)&\" de \"&HLOOKUP($AQ$53,Maximos!$II$7:$IT$13,7,0)","v":"11 de enero"},{"$f":"HLOOKUP($AR$53,Maximos!$II$7:$IT$13,2,0)&\" de \"&HLOOKUP($AR$53,Maximos!$II$7:$IT$13,7,0)","v":"19 de julio"},{"$f":"HLOOKUP($AS$53,Maximos!$IU$7:$JF$13,2,0)&\" de \"&HLOOKUP($AS$53,Maximos!$IU$7:$JF$13,7,0)","v":"24 de enero"},{"$f":"HLOOKUP($AT$53,Maximos!$IU$7:$JF$13,2,0)&\" de \"&HLOOKUP($AT$53,Maximos!$IU$7:$JF$13,7,0)","v":"27 de junio"},{"$f":"HLOOKUP($AU$53,Maximos!$JG$7:$JR$13,2,0)&\" de \"&HLOOKUP($AU$53,Maximos!$JG$7:$JR$13,7,0)","v":"13 de febrero"},{"$f":"HLOOKUP($AV$53,Maximos!$JG$7:$JR$13,2,0)&\" de \"&HLOOKUP($AV$53,Maximos!$JG$7:$JR$13,7,0)","v":"27 de junio"},{"$f":"HLOOKUP($AW$53,Maximos!$JS$7:$KD$13,2,0)&\" de \"&HLOOKUP($AW$53,Maximos!$JS$7:$KD$13,7,0)","v":"27 de febrero"},{"$f":"HLOOKUP($AX$53,Maximos!$JS$7:$KD$13,2,0)&\" de \"&HLOOKUP($AX$53,Maximos!$JS$7:$KD$13,7,0)","v":"10 de julio"},{"$f":"HLOOKUP(AY53,Maximos!KE7:KP13,2,0)&\" de \"&HLOOKUP(AY53,Maximos!KE7:KP13,7,0)","v":"4 de febrero"},{"$f":"HLOOKUP(AZ53,Maximos!KJ7:KM13,2,0)&\" de \"&HLOOKUP(AZ53,Maximos!KJ7:KM13,7,0)","v":"17 de julio"},{"$f":"HLOOKUP(BA53,Maximos!KQ7:LB13,2,0)&\" de \"&HLOOKUP(BA53,Maximos!KQ7:LB13,7,0)","v":"4 de febrero"},{"$f":"HLOOKUP(BB53,Maximos!KV7:KY13,2,0)&\" de \"&HLOOKUP(BB53,Maximos!KV7:KY13,7,0)","v":"21 de julio"},{"$f":"HLOOKUP(BC53,Maximos!LC7:LN13,2,0)&\" de \"&HLOOKUP(BC53,Maximos!LC7:LN13,7,0)","v":"17 de febrero"},{"$f":"HLOOKUP(BD53,Maximos!LH7:LK13,2,0)&\" de \"&HLOOKUP(BD53,Maximos!LH7:LK13,7,0)","v":"6 de septiembre"},{"$f":"HLOOKUP(BE53,Maximos!LO7:LZ13,2,0)&\" de \"&HLOOKUP(BE53,Maximos!LO7:LZ13,7,0)","v":"18 de enero"},"-","-","-","-","-"]
[null,"Hora",{"$f":"HLOOKUP($C$53,Maximos!$C$7:$N$13,3,0)","v":19},{"$f":"HLOOKUP($D$53,Maximos!$C$7:$N$13,3,0)","v":13},{"$f":"HLOOKUP($E$53,Maximos!$O$7:$Z$13,3,0)","v":20},{"$f":"HLOOKUP($F$53,Maximos!$O$7:$Z$13,3,0)","v":13},{"$f":"HLOOKUP($G$53,Maximos!$AA$7:$AL$13,3,0)","v":20},{"$f":"HLOOKUP($H$53,Maximos!$AA$7:$AL$13,3,0)","v":13},{"$f":"HLOOKUP($I$53,Maximos!$AM$7:$AX$13,3,0)","v":21},{"$f":"HLOOKUP($J$53,Maximos!$AM$7:$AX$13,3,0)","v":13},{"$f":"HLOOKUP($K$53,Maximos!$AY$7:$BJ$13,3,0)","v":20},{"$f":"HLOOKUP($L$53,Maximos!$AY$7:$BJ$13,3,0)","v":13},{"$f":"HLOOKUP($M$53,Maximos!$BK$7:$BV$13,3,0)","v":20},{"$f":"HLOOKUP($N$53,Maximos!$BK$7:$BV$13,3,0)","v":13},{"$f":"HLOOKUP($O$53,Maximos!$BW$7:$CH$13,3,0)","v":19},{"$f":"HLOOKUP($P$53,Maximos!$BW$7:$CH$13,3,0)","v":13},{"$f":"HLOOKUP($Q$53,Maximos!$CI$7:$CT$13,3,0)","v":19},{"$f":"HLOOKUP($R$53,Maximos!$CI$7:$CT$13,3,0)","v":13},{"$f":"HLOOKUP($S$53,Maximos!$CU$7:$DF$13,3,0)","v":19},{"$f":"HLOOKUP($T$53,Maximos!$CU$7:$DF$13,3,0)","v":11},{"$f":"HLOOKUP($U$53,Maximos!$DG$7:$DR$13,3,0)","v":20},{"$f":"HLOOKUP($V$53,Maximos!$DG$7:$DR$13,3,0)","v":13},{"$f":"HLOOKUP($W$53,Maximos!$DS$7:$ED$13,3,0)","v":20},{"$f":"HLOOKUP($X$53,Maximos!$DS$7:$ED$13,3,0)","v":11},{"$f":"HLOOKUP($Y$53,Maximos!$EE$7:$EP$13,3,0)","v":19},{"$f":"HLOOKUP($Z$53,Maximos!$EE$7:$EP$13,3,0)","v":18},{"$f":"HLOOKUP($AA$53,Maximos!$EQ$7:$FB$13,3,0)","v":20},{"$f":"HLOOKUP($AB$53,Maximos!$EQ$7:$FB$13,3,0)","v":13},{"$f":"HLOOKUP($AC$53,Maximos!$FC$7:$FN$13,3,0)","v":19},{"$f":"HLOOKUP($AD$53,Maximos!$FC$7:$FN$13,3,0)","v":13},{"$f":"HLOOKUP($AE$53,Maximos!$FO$7:$FZ$13,3,0)","v":21},{"$f":"HLOOKUP($AF$53,Maximos!$FO$7:$FZ$13,3,0)","v":14},{"$f":"HLOOKUP($AG$53,Maximos!$GA$7:$GL$13,3,0)","v":20},{"$f":"HLOOKUP($AH$53,Maximos!$GA$7:$GL$13,3,0)","v":14},{"$f":"HLOOKUP($AI$53,Maximos!$GM$7:$GX$13,3,0)","v":20},{"$f":"HLOOKUP($AJ$53,Maximos!$GM$7:$GX$13,3,0)","v":14},{"$f":"HLOOKUP($AK$53,Maximos!$GY$7:$HJ$13,3,0)","v":20},{"$f":"HLOOKUP($AL$53,Maximos!$GY$7:$HJ$13,3,0)","v":18},{"$f":"HLOOKUP($AM$53,Maximos!$HK$7:$HV$13,3,0)","v":20},{"$f":"HLOOKUP($AN$53,Maximos!$HK$7:$HV$13,3,0)","v":14},{"$f":"HLOOKUP($AO$53,Maximos!$HW$7:$IH$13,3,0)","v":20},{"$f":"HLOOKUP($AP$53,Maximos!$HW$7:$IH$13,3,0)","v":14},{"$f":"HLOOKUP($AQ$53,Maximos!$II$7:$IT$13,3,0)","v":20},{"$f":"HLOOKUP($AR$53,Maximos!$II$7:$IT$13,3,0)","v":14},{"$f":"HLOOKUP($AS$53,Maximos!$IU$7:$JF$13,3,0)","v":20},{"$f":"HLOOKUP($AT$53,Maximos!$IU$7:$JF$13,3,0)","v":14},{"$f":"HLOOKUP($AU$53,Maximos!$JG$7:$JR$13,3,0)","v":21},{"$f":"HLOOKUP($AV$53,Maximos!$JG$7:$JR$13,3,0)","v":14},{"$f":"HLOOKUP($AW$53,Maximos!$JS$7:$KD$13,3,0)","v":21},{"$f":"HLOOKUP($AX$53,Maximos!$JS$7:$KD$13,3,0)","v":14},{"$f":"HLOOKUP(AY53,Maximos!KE7:KP13,3,0)","v":21},{"$f":"HLOOKUP(AZ53,Maximos!KJ7:KM13,3,0)","v":14},{"$f":"HLOOKUP(BA53,Maximos!KQ7:LB13,3,0)","v":21},{"$f":"HLOOKUP(BB53,Maximos!KV7:KY13,3,0)","v":14},{"$f":"HLOOKUP(BC53,Maximos!LC7:LN13,3,0)","v":21},{"$f":"HLOOKUP(BD53,Maximos!LH7:LK13,3,0)","v":14},{"$f":"HLOOKUP(BE53,Maximos!LO7:LZ13,3,0)","v":21},"-","-","-","-","-"]
[null,"Demanda máxima diaria peninsular","1990","1990",1991,1991,"1992","1992","1993","1993","1994","1994","1995","1995","1996","1996","1997","1997","1998","1998","1999","1999","2000","2000","2001","2001","2002","2002","2003","2003","2004","2004","2005","2005","2006","2006","2007","2007","2008","2008","2009","2009","2010","2010","2011","2011","2012","2012","2013","2013","2014","2014","2015","2015","2016","2016","2017","2017","2018","2018","2019","2019"]
[null,null,"Invierno","Verano","Invierno","Verano","Invierno","Verano","Invierno","Verano","Invierno","Verano","Invierno","Verano","Invierno","Verano","Invierno","Verano","Invierno","Verano","Invierno","Verano","Invierno","Verano","Invierno","Verano","Invierno","Verano","Invierno","Verano","Invierno","Verano","Invierno","Verano","Invierno","Verano","Invierno","Verano","Invierno","Verano","Invierno","Verano","Invierno","Verano","Invierno","Verano","Invierno","Verano","Invierno","Verano","Invierno","Verano","Invierno","Verano","Invierno","Verano","Invierno","Verano","Invierno","Verano","Invierno","Verano"]
[null,"Demanda diaria (GWh)",{"$f":"MAX(Maximos!C11:G11,Maximos!L11:N11)","v":748.03300000000002},{"$f":"MAX(Maximos!H11:K11)","v":415.59199999999998},{"$f":"MAX(Maximos!O11:S11,Maximos!X11:Z11)","v":487.52499999999998},{"$f":"MAX(Maximos!T11:W11)","v":434.53},{"$f":"MAX(Maximos!AA11:AE11,Maximos!AJ11:AL11)","v":505.553},{"$f":"MAX(Maximos!AF11:AI11)","v":427.72300000000001},{"$f":"MAX(Maximos!AM11:AQ11,Maximos!AV11:AX11)","v":489.56200000000001},{"$f":"MAX(Maximos!AR11:AU11)","v":422.608},{"$f":"MAX(Maximos!AY11:BC11,Maximos!BH11:BJ11)","v":499.65100000000001},{"$f":"MAX(Maximos!BD11:BG11)","v":452.59800000000001},{"$f":"MAX(Maximos!BK11:BO11,Maximos!BT11:BV11)","v":519.21100000000001},{"$f":"MAX(Maximos!BP11:BS11)","v":483.25299999999999},{"$f":"MAX(Maximos!BW11:CA11,Maximos!CF11:CH11)","v":515.56100000000004},{"$f":"MAX(Maximos!CB11:CE11)","v":484.15},{"$f":"MAX(Maximos!CI11:CM11,Maximos!CR11:CT11)","v":561.45299999999997},{"$f":"MAX(Maximos!CN11:CQ11)","v":501.38600000000002},{"$f":"MAX(Maximos!CU11:CY11,Maximos!DD11:DF11)","v":593.59400000000005},{"$f":"MAX(Maximos!CZ11:DC11)","v":538.245},{"$f":"MAX(Maximos!DG11:DK11,Maximos!DP11:DR11)","v":626.84799999999996},{"$f":"MAX(Maximos!DL11:DO11)","v":570.86500000000001},{"$f":"MAX(Maximos!DS11:DW11,Maximos!EB11:ED11)","v":654.197},{"$f":"MAX(Maximos!DX11:EA11)","v":610.56299999999999},{"$f":"MAX(Maximos!EE11:EI11,Maximos!EN11:EP11)","v":697.85699999999997},{"$f":"MAX(Maximos!EJ11:EM11)","v":671.53200000000004},{"$f":"MAX(Maximos!EQ11:EU11,Maximos!EZ11:FB11)","v":699.61699999999996},{"$f":"MAX(Maximos!EV11:EY11)","v":674.66399999999999},{"$f":"MAX(Maximos!FC11:FG11,Maximos!FL11:FN11)","v":763.93},{"$f":"MAX(Maximos!FH11:FK11)","v":731.42499999999995},{"$f":"MAX(Maximos!FO11:FS11,Maximos!FX11:FZ11)","v":773.23400000000004},{"$f":"MAX(Maximos!FT11:FW11)","v":757.322},{"$f":"MAX(Maximos!GA11:GE11,Maximos!GJ11:GL11)","v":839.923},{"$f":"MAX(Maximos!GF11:GI11)","v":776.94100000000003},{"$f":"MAX(Maximos!GM11:GQ11,Maximos!GV11:GX11)","v":894.76},{"$f":"MAX(Maximos!GR11:GU11)","v":821.81899999999996},{"$f":"MAX(Maximos!GY11:HC11,Maximos!HH11:HJ11)","v":905.94899999999996},{"$f":"MAX(Maximos!HD11:HG11)","v":801.101},{"$f":"MAX(Maximos!HK11:HO11,Maximos!HT11:HV11)","v":859.49599999999998},{"$f":"MAX(Maximos!HP11:HS11)","v":821.63699999999994},{"$f":"MAX(Maximos!HW11:IA11,Maximos!IF11:IH11)","v":891.40599999999995},{"$f":"MAX(Maximos!IB11:IE11)","v":789.55399999999997},{"$f":"MAX(Maximos!II11:IM11,Maximos!IR11:IT11)","v":898.36462300000005},{"$f":"MAX(Maximos!IN11:IQ11)","v":812.49490200000002},{"$f":"MAX(Maximos!IU11:IY11,Maximos!JD11:JF11)","v":884.98057700000004},{"$f":"MAX(Maximos!IZ11:JC11)","v":790.99148700000001},{"$f":"MAX(Maximos!JG11:JK11,Maximos!JP11:JR11)","v":870.55558600000006},{"$f":"MAX(Maximos!JL11:JO11)","v":792.68335999999999},{"$f":"MAX(Maximos!JS11:JW11,Maximos!KB11:KD11)","v":809.86843700000009},{"$f":"MAX(Maximos!JX11:KA11)","v":760.67546499999992},{"$f":"MAX(Maximos!KE11:KI11,Maximos!KN11:KP11)","v":797.35862299999997},{"$f":"MAX(Maximos!KJ11:KM11)","v":755.25547900000004},{"$f":"MAX(Maximos!KQ11:KU11,Maximos!KZ11:LB11)","v":824.01817599999993},{"$f":"MAX(Maximos!KV11:KY11)","v":813.98779100000002},{"$f":"MAX(Maximos!LC11:LG11,Maximos!LL11:LN11)","v":782.06322999999998},{"$f":"MAX(Maximos!LH11:LK11)","v":816.26051500000005},{"$f":"MAX(Maximos!LO11:LS11,Maximos!LX11:LZ11)","v":834.72963300000004},"-","-","-","-","-"]
[null,"Día",{"$f":"HLOOKUP($C$58,Maximos!$C$11:$N$13,2,0)&\" de \"&HLOOKUP($C$58,Maximos!$C$11:$N$13,3,0)","v":"31 de mayo"},{"$f":"HLOOKUP($D$58,Maximos!$C$11:$N$13,2,0)&\" de \"&HLOOKUP($D$58,Maximos!$C$11:$N$13,3,0)","v":"19 de julio"},{"$f":"HLOOKUP($E$58,Maximos!$O$11:$Z$13,2,0)&\" de \"&HLOOKUP($E$58,Maximos!$O$11:$Z$13,3,0)","v":"16 de enero"},{"$f":"HLOOKUP($F$58,Maximos!$O$11:$Z$13,2,0)&\" de \"&HLOOKUP($F$58,Maximos!$O$11:$Z$13,3,0)","v":"18 de julio"},{"$f":"HLOOKUP($G$58,Maximos!$AA$11:$AL$13,2,0)&\" de \"&HLOOKUP($G$58,Maximos!$AA$11:$AL$13,3,0)","v":"23 de enero"},{"$f":"HLOOKUP($H$58,Maximos!$AA$11:$AL$13,2,0)&\" de \"&HLOOKUP($H$58,Maximos!$AA$11:$AL$13,3,0)","v":"23 de julio"},{"$f":"HLOOKUP($I$58,Maximos!$AM$11:$AX$13,2,0)&\" de \"&HLOOKUP($I$58,Maximos!$AM$11:$AX$13,3,0)","v":"2 de marzo"},{"$f":"HLOOKUP($J$58,Maximos!$AM$11:$AX$13,2,0)&\" de \"&HLOOKUP($J$58,Maximos!$AM$11:$AX$13,3,0)","v":"29 de julio"},{"$f":"HLOOKUP($K$58,Maximos!$AY$11:$BJ$13,2,0)&\" de \"&HLOOKUP($K$58,Maximos!$AY$11:$BJ$13,3,0)","v":"19 de enero"},{"$f":"HLOOKUP($L$58,Maximos!$AY$11:$BJ$13,2,0)&\" de \"&HLOOKUP($L$58,Maximos!$AY$11:$BJ$13,3,0)","v":"5 de julio"},{"$f":"HLOOKUP($M$58,Maximos!$BK$11:$BV$13,2,0)&\" de \"&HLOOKUP($M$58,Maximos!$BK$11:$BV$13,3,0)","v":"15 de diciembre"},{"$f":"HLOOKUP($N$58,Maximos!$BK$11:$BV$13,2,0)&\" de \"&HLOOKUP($N$58,Maximos!$BK$11:$BV$13,3,0)","v":"20 de julio"},{"$f":"HLOOKUP($O$58,Maximos!$BW$11:$CH$13,2,0)&\" de \"&HLOOKUP($O$58,Maximos!$BW$11:$CH$13,3,0)","v":"11 de diciembre"},{"$f":"HLOOKUP($P$58,Maximos!$BW$11:$CH$13,2,0)&\" de \"&HLOOKUP($P$58,Maximos!$BW$11:$CH$13,3,0)","v":"24 de julio"},{"$f":"HLOOKUP($Q$58,Maximos!$CI$11:$CT$13,2,0)&\" de \"&HLOOKUP($Q$58,Maximos!$CI$11:$CT$13,3,0)","v":"16 de diciembre"},{"$f":"HLOOKUP($R$58,Maximos!$CI$11:$CT$13,2,0)&\" de \"&HLOOKUP($R$58,Maximos!$CI$11:$CT$13,3,0)","v":"10 de septiembre"},{"$f":"HLOOKUP($S$58,Maximos!$CU$11:$DF$13,2,0)&\" de \"&HLOOKUP($S$58,Maximos!$CU$11:$DF$13,3,0)","v":"2 de diciembre"},{"$f":"HLOOKUP($T$58,Maximos!$CU$11:$DF$13,2,0)&\" de \"&HLOOKUP($T$58,Maximos!$CU$11:$DF$13,3,0)","v":"17 de julio"},{"$f":"HLOOKUP($U$58,Maximos!$DG$11:$DR$13,2,0)&\" de \"&HLOOKUP($U$58,Maximos!$DG$11:$DR$13,3,0)","v":"25 de noviembre"},{"$f":"HLOOKUP($V$58,Maximos!$DG$11:$DR$13,2,0)&\" de \"&HLOOKUP($V$58,Maximos!$DG$11:$DR$13,3,0)","v":"2 de julio"},{"$f":"HLOOKUP($W$58,Maximos!$DS$11:$ED$13,2,0)&\" de \"&HLOOKUP($W$58,Maximos!$DS$11:$ED$13,3,0)","v":"13 de enero"},{"$f":"HLOOKUP($X$58,Maximos!$DS$11:$ED$13,2,0)&\" de \"&HLOOKUP($X$58,Maximos!$DS$11:$ED$13,3,0)","v":"30 de junio"},{"$f":"HLOOKUP($Y$58,Maximos!$EE$11:$EP$13,2,0)&\" de \"&HLOOKUP($Y$58,Maximos!$EE$11:$EP$13,3,0)","v":"19 de diciembre"},{"$f":"HLOOKUP($Z$58,Maximos!$EE$11:$EP$13,2,0)&\" de \"&HLOOKUP($Z$58,Maximos!$EE$11:$EP$13,3,0)","v":"25 de junio"},{"$f":"HLOOKUP($AA$58,Maximos!$EQ$11:$FB$13,2,0)&\" de \"&HLOOKUP($AA$58,Maximos!$EQ$11:$FB$13,3,0)","v":"10 de diciembre"},{"$f":"HLOOKUP($AB$58,Maximos!$EQ$11:$FB$13,2,0)&\" de \"&HLOOKUP($AB$58,Maximos!$EQ$11:$FB$13,3,0)","v":"18 de junio"},{"$f":"HLOOKUP($AC$58,Maximos!$FC$11:$FN$13,2,0)&\" de \"&HLOOKUP($AC$58,Maximos!$FC$11:$FN$13,3,0)","v":"15 de enero"},{"$f":"HLOOKUP($AD$58,Maximos!$FC$11:$FN$13,2,0)&\" de \"&HLOOKUP($AD$58,Maximos!$FC$11:$FN$13,3,0)","v":"26 de junio"},{"$f":"HLOOKUP($AE$58,Maximos!$FO$11:$FZ$13,2,0)&\" de \"&HLOOKUP($AE$58,Maximos!$FO$11:$FZ$13,3,0)","v":"15 de diciembre"},{"$f":"HLOOKUP($AF$58,Maximos!$FO$11:$FZ$13,2,0)&\" de \"&HLOOKUP($AF$58,Maximos!$FO$11:$FZ$13,3,0)","v":"30 de junio"},{"$f":"HLOOKUP($AG$58,Maximos!$GA$11:$GL$13,2,0)&\" de \"&HLOOKUP($AG$58,Maximos!$GA$11:$GL$13,3,0)","v":"14 de diciembre"},{"$f":"HLOOKUP($AH$58,Maximos!$GA$11:$GL$13,2,0)&\" de \"&HLOOKUP($AH$58,Maximos!$GA$11:$GL$13,3,0)","v":"21 de julio"},{"$f":"HLOOKUP($AI$58,Maximos!$GM$11:$GX$13,2,0)&\" de \"&HLOOKUP($AI$58,Maximos!$GM$11:$GX$13,3,0)","v":"1 de marzo"},{"$f":"HLOOKUP($AJ$58,Maximos!$GM$11:$GX$13,2,0)&\" de \"&HLOOKUP($AJ$58,Maximos!$GM$11:$GX$13,3,0)","v":"20 de julio"},{"$f":"HLOOKUP($AK$58,Maximos!$GY$11:$HJ$13,2,0)&\" de \"&HLOOKUP($AK$58,Maximos!$GY$11:$HJ$13,3,0)","v":"18 de diciembre"},{"$f":"HLOOKUP($AL$58,Maximos!$GY$11:$HJ$13,2,0)&\" de \"&HLOOKUP($AL$58,Maximos!$GY$11:$HJ$13,3,0)","v":"31 de julio"},{"$f":"HLOOKUP($AM$58,Maximos!$HK$11:$HV$13,2,0)&\" de \"&HLOOKUP($AM$58,Maximos!$HK$11:$HV$13,3,0)","v":"15 de enero"},{"$f":"HLOOKUP($AN$58,Maximos!$HK$11:$HV$13,2,0)&\" de \"&HLOOKUP($AN$58,Maximos!$HK$11:$HV$13,3,0)","v":"1 de julio"},{"$f":"HLOOKUP($AO$58,Maximos!$HW$11:$IH$13,2,0)&\" de \"&HLOOKUP($AO$58,Maximos!$HW$11:$IH$13,3,0)","v":"13 de enero"},{"$f":"HLOOKUP($AP$58,Maximos!$HW$11:$IH$13,2,0)&\" de \"&HLOOKUP($AP$58,Maximos!$HW$11:$IH$13,3,0)","v":"1 de septiembre"},{"$f":"HLOOKUP($AQ$58,Maximos!$II$11:$IT$13,2,0)&\" de \"&HLOOKUP($AQ$58,Maximos!$II$11:$IT$13,3,0)","v":"12 de enero"},{"$f":"HLOOKUP($AR$58,Maximos!$II$11:$IT$13,2,0)&\" de \"&HLOOKUP($AR$58,Maximos!$II$11:$IT$13,3,0)","v":"7 de julio"},{"$f":"HLOOKUP($AS$58,Maximos!$IU$11:$JF$13,2,0)&\" de \"&HLOOKUP($AS$58,Maximos!$IU$11:$JF$13,3,0)","v":"25 de enero"},{"$f":"HLOOKUP($AT$58,Maximos!$IU$11:$JF$13,2,0)&\" de \"&HLOOKUP($AT$58,Maximos!$IU$11:$JF$13,3,0)","v":"28 de junio"},{"$f":"HLOOKUP($AU$58,Maximos!$JG$11:$JR$13,2,0)&\" de \"&HLOOKUP($AU$58,Maximos!$JG$11:$JR$13,3,0)","v":"8 de febrero"},{"$f":"HLOOKUP($AV$58,Maximos!$JG$11:$JR$13,2,0)&\" de \"&HLOOKUP($AV$58,Maximos!$JG$11:$JR$13,3,0)","v":"28 de junio"},{"$f":"HLOOKUP($AW$58,Maximos!$JS$11:$KD$13,2,0)&\" de \"&HLOOKUP($AW$58,Maximos!$JS$11:$KD$13,3,0)","v":"23 de enero"},{"$f":"HLOOKUP($AX$58,Maximos!$JS$11:$KD$13,2,0)&\" de \"&HLOOKUP($AX$58,Maximos!$JS$11:$KD$13,3,0)","v":"10 de julio"},{"$f":"HLOOKUP(AY58,Maximos!KE11:KP13,2,0)&\" de \"&HLOOKUP(AY58,Maximos!KE11:KP13,3,0)","v":"11 de febrero"},{"$f":"HLOOKUP(AZ58,Maximos!KJ11:KM13,2,0)&\" de \"&HLOOKUP(AZ58,Maximos!KJ11:KM13,3,0)","v":"17 de julio"},{"$f":"HLOOKUP(BA58,Maximos!KQ11:LB13,2,0)&\" de \"&HLOOKUP(BA58,Maximos!KQ11:LB13,3,0)","v":"4 de febrero"},{"$f":"HLOOKUP(BB58,Maximos!KV11:KY13,2,0)&\" de \"&HLOOKUP(BB58,Maximos!KV11:KY13,3,0)","v":"21 de julio"},{"$f":"HLOOKUP(BC58,Maximos!LC11:LN13,2,0)&\" de \"&HLOOKUP(BC58,Maximos!LC11:LN13,3,0)","v":"18 de febrero"},{"$f":"HLOOKUP(BD58,Maximos!LH11:LK13,2,0)&\" de \"&HLOOKUP(BD58,Maximos!LH11:LK13,3,0)","v":"6 de septiembre"},{"$f":"HLOOKUP(BE58,Maximos!LO11:LZ13,2,0)&\" de \"&HLOOKUP(BE58,Maximos!LO11:LZ13,3,0)","v":"18 de enero"},"-","-","-","-","-"]
[]
[null,"Demanda máxima horaria Islas Baleares","2006","2006","2007","2007","2008","2008","2009","2009","2010","2010","2011","2011","2012","2012","2013","2013","2014","2014","2015","2015","2016","2016","2017","2017","2018","2018","2019","2019","2020","2020"]
[null,null,"Invierno","Verano","Invierno","Verano","Invierno","Verano","Invierno","Verano","Invierno","Verano","Invierno","Verano","Invierno","Verano","Invierno","Verano","Invierno","Verano","Invierno","Verano","Invierno","Verano","Invierno","Verano","Invierno","Verano","Invierno","Verano","Invierno","Verano"]
[null,"Demanda horaria (MWh)",{"$f":"MAX(Maximos!C15:G15,Maximos!L15:N15)","v":1046},{"$f":"MAX(Maximos!H15:K15)","v":1202.3},{"$f":"MAX(Maximos!O15:S15,Maximos!X15:Z15)","v":1046.5999999999999},{"$f":"MAX(Maximos!T15:W15)","v":1145},{"$f":"MAX(Maximos!AA15:AE15,Maximos!AJ15:AL15)","v":1060.2},{"$f":"MAX(Maximos!AF15:AI15)","v":1225.7},{"$f":"MAX(Maximos!AM15:AQ15,Maximos!AV15:AX15)","v":1110.8},{"$f":"MAX(Maximos!AR15:AU15)","v":1207.4000000000001},{"$f":"MAX(Maximos!AY15:BC15,Maximos!BH15:BJ15)","v":1104.4000000000001},{"$f":"MAX(Maximos!BD15:BG15)","v":1157.3},{"$f":"MAX(Maximos!BK15:BO15,Maximos!BT15:BV15)","v":1025.5999999999999},{"$f":"MAX(Maximos!BP15:BS15)","v":1159.4000000000001},{"$f":"MAX(Maximos!BW15:CA15,Maximos!CF15:CH15)","v":1100.0999999999999},{"$f":"MAX(Maximos!CB15:CE15)","v":1205.8},{"$f":"MAX(Maximos!CI15:CM15,Maximos!CR15:CT15)","v":975.9},{"$f":"MAX(Maximos!CN15:CQ15)","v":1187.4000000000001},{"$f":"MAX(Maximos!CU15:CY15,Maximos!DD15:DF15)","v":906.1},{"$f":"MAX(Maximos!CZ15:DC15)","v":1150.2},{"$f":"MAX(Maximos!DG15:DK15,Maximos!DP15:DR15)","v":968.9},{"$f":"MAX(Maximos!DL15:DO15)","v":1204.8},{"$f":"MAX(Maximos!DS15:DW15,Maximos!EB15:ED15)","v":931},{"$f":"MAX(Maximos!DX15:EA15)","v":1148},{"$f":"MAX(Maximos!EE15:EI15,Maximos!EN15:EP15)","v":973},"-","-","-","-","-","-","-"]
[null,"Día",{"$f":"HLOOKUP($C$63,Maximos!$C$15:$N$21,2,0)&\" de \"&HLOOKUP($C$63,Maximos!$C$15:$N$21,7,0)","v":"2 de febrero"},{"$f":"HLOOKUP($D$63,Maximos!$C$15:$N$21,2,0)&\" de \"&HLOOKUP($D$63,Maximos!$C$15:$N$21,7,0)","v":"28 de julio"},{"$f":"HLOOKUP($E$63,Maximos!$O$15:$Z$21,2,0)&\" de \"&HLOOKUP($E$63,Maximos!$O$15:$Z$21,7,0)","v":"17 de diciembre"},{"$f":"HLOOKUP($F$63,Maximos!$O$15:$Z$21,2,0)&\" de \"&HLOOKUP($F$63,Maximos!$O$15:$Z$21,7,0)","v":"2 de agosto"},{"$f":"HLOOKUP($G$63,Maximos!$AA$15:$AL$21,2,0)&\" de \"&HLOOKUP($G$63,Maximos!$AA$15:$AL$21,7,0)","v":"15 de diciembre"},{"$f":"HLOOKUP($H$63,Maximos!$AA$15:$AL$21,2,0)&\" de \"&HLOOKUP($H$63,Maximos!$AA$15:$AL$21,7,0)","v":"12 de agosto"},{"$f":"HLOOKUP($I$63,Maximos!$AM$15:$AX$21,2,0)&\" de \"&HLOOKUP($I$63,Maximos!$AM$15:$AX$21,7,0)","v":"8 de enero"},{"$f":"HLOOKUP($J$63,Maximos!$AM$15:$AX$21,2,0)&\" de \"&HLOOKUP($J$63,Maximos!$AM$15:$AX$21,7,0)","v":"24 de julio"},{"$f":"HLOOKUP($K$63,Maximos!$AY$15:$BJ$21,2,0)&\" de \"&HLOOKUP($K$63,Maximos!$AY$15:$BJ$21,7,0)","v":"10 de marzo"},{"$f":"HLOOKUP($L$63,Maximos!$AY$15:$BJ$21,2,0)&\" de \"&HLOOKUP($L$63,Maximos!$AY$15:$BJ$21,7,0)","v":"27 de agosto"},{"$f":"HLOOKUP($M$63,Maximos!$BK$15:$BV$21,2,0)&\" de \"&HLOOKUP($M$63,Maximos!$BK$15:$BV$21,7,0)","v":"25 de enero"},{"$f":"HLOOKUP($N$63,Maximos!$BK$15:$BV$21,2,0)&\" de \"&HLOOKUP($N$63,Maximos!$BK$15:$BV$21,7,0)","v":"22 de agosto"},{"$f":"HLOOKUP($O$63,Maximos!$BW$15:$CH$21,2,0)&\" de \"&HLOOKUP($O$63,Maximos!$BW$15:$CH$21,7,0)","v":"14 de febrero"},{"$f":"HLOOKUP($P$63,Maximos!$BW$15:$CH$21,2,0)&\" de \"&HLOOKUP($P$63,Maximos!$BW$15:$CH$21,7,0)","v":"23 de agosto"},{"$f":"HLOOKUP(Q63,Maximos!CI15:CT21,2,0)&\" de \"&HLOOKUP(Q63,Maximos!CI15:CT21,7,0)","v":"26 de febrero"},{"$f":"HLOOKUP(R63,Maximos!CI15:CT21,2,0)&\" de \"&HLOOKUP(R63,Maximos!CI15:CT21,7,0)","v":"7 de agosto"},{"$f":"HLOOKUP(S63,Maximos!CU15:DF21,2,0)&\" de \"&HLOOKUP(S63,Maximos!CU15:DF21,7,0)","v":"31 de diciembre"},{"$f":"HLOOKUP(T63,Maximos!CU15:DF21,2,0)&\" de \"&HLOOKUP(T63,Maximos!CU15:DF21,7,0)","v":"11 de agosto"},{"$f":"HLOOKUP(U63,Maximos!DG15:DR21,2,0)&\" de \"&HLOOKUP(U63,Maximos!DG15:DR21,7,0)","v":"6 de febrero"},{"$f":"HLOOKUP(V63,Maximos!DL15:DO21,2,0)&\" de \"&HLOOKUP(V63,Maximos!DL15:DO21,7,0)","v":"29 de julio"},{"$f":"HLOOKUP(W63,Maximos!DS15:ED21,2,0)&\" de \"&HLOOKUP(W63,Maximos!DS15:ED21,7,0)","v":"4 de octubre"},{"$f":"HLOOKUP(X63,Maximos!DX15:EA21,2,0)&\" de \"&HLOOKUP(X63,Maximos!DX15:EA21,7,0)","v":"4 de agosto"},{"$f":"HLOOKUP(Y63,Maximos!EE15:EP21,2,0)&\" de \"&HLOOKUP(Y63,Maximos!EE15:EP21,7,0)","v":"17 de enero"},"-","-","-","-","-","-","-"]
[null,"Hora",{"$f":"HLOOKUP($C$63,Maximos!$C$15:$N$21,3,0)","v":20},{"$f":"HLOOKUP($D$63,Maximos!$C$15:$N$21,3,0)","v":19},{"$f":"HLOOKUP($E$63,Maximos!$O$15:$Z$21,3,0)","v":21},{"$f":"HLOOKUP($F$63,Maximos!$O$15:$Z$21,3,0)","v":22},{"$f":"HLOOKUP($G$63,Maximos!$AA$15:$AL$21,3,0)","v":20},{"$f":"HLOOKUP($H$63,Maximos!$AA$15:$AL$21,3,0)","v":22},{"$f":"HLOOKUP($I$63,Maximos!$AM$15:$AX$21,3,0)","v":20},{"$f":"HLOOKUP($J$63,Maximos!$AM$15:$AX$21,3,0)","v":20},{"$f":"HLOOKUP($K$63,Maximos!$AY$15:$BJ$21,3,0)","v":21},{"$f":"HLOOKUP($L$63,Maximos!$AY$15:$BJ$21,3,0)","v":22},{"$f":"HLOOKUP($M$63,Maximos!$BK$15:$BV$21,3,0)","v":21},{"$f":"HLOOKUP($N$63,Maximos!$BK$15:$BV$21,3,0)","v":22},{"$f":"HLOOKUP($O$63,Maximos!$BW$15:$CH$21,3,0)","v":21},{"$f":"HLOOKUP($P$63,Maximos!$BW$15:$CH$21,3,0)","v":22},{"$f":"HLOOKUP(Q63,Maximos!CI15:CT21,3,0)","v":21},{"$f":"HLOOKUP(R63,Maximos!CI15:CT21,3,0)","v":22},{"$f":"HLOOKUP(S63,Maximos!CU15:DF21,3,0)","v":20},{"$f":"HLOOKUP(T63,Maximos!CU15:DF21,3,0)","v":22},{"$f":"HLOOKUP(U63,Maximos!DG15:DR21,3,0)","v":21},{"$f":"HLOOKUP(V63,Maximos!DL15:DO21,3,0)","v":14},{"$f":"HLOOKUP(W63,Maximos!DS15:ED21,3,0)","v":21},{"$f":"HLOOKUP(X63,Maximos!DX15:EA21,3,0)","v":22},{"$f":"HLOOKUP(Y63,Maximos!EE15:EP21,3,0)","v":21},"-","-","-","-","-","-","-"]
[null,"Demanda máxima diaria Islas Baleares","2006","2006","2007","2007","2008","2008","2009","2009","2010","2010","2011","2011","2012","2012","2013","2013","2014","2014","2015","2015","2016","2016","2017","2017","2018","2018","2019","2019","2020","2020"]
[null,null,"Invierno","Verano","Invierno","Verano","Invierno","Verano","Invierno","Verano","Invierno","Verano","Invierno","Verano","Invierno","Verano","Invierno","Verano","Invierno","Verano","Invierno","Verano","Invierno","Verano","Invierno","Verano","Invierno","Verano","Invierno","Verano","Invierno","Verano"]
[null,"Demanda diaria (MWh)",{"$f":"MAX(Maximos!C19:G19,Maximos!L19:N19)","v":18972},{"$f":"MAX(Maximos!H19:K19)","v":23966},{"$f":"MAX(Maximos!O19:S19,Maximos!X19:Z19)","v":18497},{"$f":"MAX(Maximos!T19:W19)","v":22774},{"$f":"MAX(Maximos!AA19:AE19,Maximos!AJ19:AL19)","v":18907},{"$f":"MAX(Maximos!AF19:AI19)","v":24452},{"$f":"MAX(Maximos!AM19:AQ19,Maximos!AV19:AX19)","v":20030},{"$f":"MAX(Maximos!AR19:AU19)","v":24270},{"$f":"MAX(Maximos!AY19:BC19,Maximos!BH19:BJ19)","v":19663.082999999999},{"$f":"MAX(Maximos!BD19:BG19)","v":22555.181},{"$f":"MAX(Maximos!BK19:BO19,Maximos!BT19:BV19)","v":18574.422999999999},{"$f":"MAX(Maximos!BP19:BS19)","v":22781.759999999998},{"$f":"MAX(Maximos!BW19:CA19,Maximos!CF19:CH19)","v":20014.073},{"$f":"MAX(Maximos!CB19:CE19)","v":23528.983},{"$f":"MAX(Maximos!CI19:CM19,Maximos!CR19:CT19)","v":18275.118999999999},{"$f":"MAX(Maximos!CN19:CQ19)","v":23304.775000000001},{"$f":"MAX(Maximos!CU19:CY19,Maximos!DD19:DF19)","v":16520.982},{"$f":"MAX(Maximos!CZ19:DC19)","v":23152.337},{"$f":"MAX(Maximos!DG19:DK19,Maximos!DP19:DR19)","v":18316.425999999999},{"$f":"MAX(Maximos!DL19:DO19)","v":24551.732},{"$f":"MAX(Maximos!DS19:DW19,Maximos!EB19:ED19)","v":17452.96},{"$f":"MAX(Maximos!DX19:EA19)","v":23168.428},{"$f":"MAX(Maximos!EE19:EI19,Maximos!EN19:EP19)","v":17758.977999999999},"-","-","-","-","-","-","-"]
[null,"Día",{"$f":"HLOOKUP($C$68,Maximos!$C$19:$N$21,2,0)&\" de \"&HLOOKUP($C$68,Maximos!$C$19:$N$21,3,0)","v":"7 de marzo"},{"$f":"HLOOKUP($D$68,Maximos!$C$19:$N$21,2,0)&\" de \"&HLOOKUP($D$68,Maximos!$C$19:$N$21,3,0)","v":"28 de julio"},{"$f":"HLOOKUP($E$68,Maximos!$O$19:$Z$21,2,0)&\" de \"&HLOOKUP($E$68,Maximos!$O$19:$Z$21,3,0)","v":"18 de diciembre"},{"$f":"HLOOKUP($F$68,Maximos!$O$19:$Z$21,2,0)&\" de \"&HLOOKUP($F$68,Maximos!$O$19:$Z$21,3,0)","v":"2 de agosto"},{"$f":"HLOOKUP($G$68,Maximos!$AA$19:$AL$21,2,0)&\" de \"&HLOOKUP($G$68,Maximos!$AA$19:$AL$21,3,0)","v":"16 de diciembre"},{"$f":"HLOOKUP($H$68,Maximos!$AA$19:$AL$21,2,0)&\" de \"&HLOOKUP($H$68,Maximos!$AA$19:$AL$21,3,0)","v":"31 de julio"},{"$f":"HLOOKUP($I$68,Maximos!$AM$19:$AX$21,2,0)&\" de \"&HLOOKUP($I$68,Maximos!$AM$19:$AX$21,3,0)","v":"8 de enero"},{"$f":"HLOOKUP($J$68,Maximos!$AM$19:$AX$21,2,0)&\" de \"&HLOOKUP($J$68,Maximos!$AM$19:$AX$21,3,0)","v":"24 de julio"},{"$f":"HLOOKUP($K$68,Maximos!$AY$19:$BJ$21,2,0)&\" de \"&HLOOKUP($K$68,Maximos!$AY$19:$BJ$21,3,0)","v":"10 de marzo"},{"$f":"HLOOKUP($L$68,Maximos!$AY$19:$BJ$21,2,0)&\" de \"&HLOOKUP($L$68,Maximos!$AY$19:$BJ$21,3,0)","v":"22 de julio"},{"$f":"HLOOKUP($M$68,Maximos!$BK$19:$BV$21,2,0)&\" de \"&HLOOKUP($M$68,Maximos!$BK$19:$BV$21,3,0)","v":"27 de enero"},{"$f":"HLOOKUP($N$68,Maximos!$BK$19:$BV$21,2,0)&\" de \"&HLOOKUP($N$68,Maximos!$BK$19:$BV$21,3,0)","v":"23 de agosto"},{"$f":"HLOOKUP($O$68,Maximos!$BW$19:$CH$21,2,0)&\" de \"&HLOOKUP($O$68,Maximos!$BW$19:$CH$21,3,0)","v":"08 de febrero"},{"$f":"HLOOKUP($P$68,Maximos!$BW$19:$CH$21,2,0)&\" de \"&HLOOKUP($P$68,Maximos!$BW$19:$CH$21,3,0)","v":"24 de agosto"},{"$f":"HLOOKUP(Q68,Maximos!CI19:CT21,2,0)&\" de \"&HLOOKUP(Q68,Maximos!CI19:CT21,3,0)","v":"04 de octubre"},{"$f":"HLOOKUP(R68,Maximos!CN19:CQ21,2,0)&\" de \"&HLOOKUP(R68,Maximos!CN19:CQ21,3,0)","v":"07 de agosto"},{"$f":"HLOOKUP(S68,Maximos!CU19:DF21,2,0)&\" de \"&HLOOKUP(S68,Maximos!CU19:DF21,3,0)","v":"01 de octubre"},{"$f":"HLOOKUP(T68,Maximos!CZ19:DC21,2,0)&\" de \"&HLOOKUP(T68,Maximos!CZ19:DC21,3,0)","v":"11 de agosto"},{"$f":"HLOOKUP(U68,Maximos!DG19:DR21,2,0)&\" de \"&HLOOKUP(U68,Maximos!DG19:DR21,3,0)","v":"6 de febrero"},{"$f":"HLOOKUP(V68,Maximos!DL19:DO21,2,0)&\" de \"&HLOOKUP(V68,Maximos!DL19:DO21,3,0)","v":"29 de julio"},{"$f":"HLOOKUP(W68,Maximos!DS19:ED21,2,0)&\" de \"&HLOOKUP(W68,Maximos!DS19:ED21,3,0)","v":"5 de octubre"},{"$f":"HLOOKUP(X68,Maximos!DX19:EA21,2,0)&\" de \"&HLOOKUP(X68,Maximos!DX19:EA21,3,0)","v":"4 de agosto"},{"$f":"HLOOKUP(Y68,Maximos!EE19:EP21,2,0)&\" de \"&HLOOKUP(Y68,Maximos!EE19:EP21,3,0)","v":"18 de enero"},"-","-","-","-","-","-","-"]
[]
[null,"Demanda máxima horaria Islas Canarias","2006","2006","2007","2007","2008","2008","2009","2009","2010","2010","2011","2011","2012","2012","2013","2013","2014","2014","2015","2015","2016","2016","2017","2017","2018","2018","2019","2019","2020","2020"]
[null,null,"Invierno","Verano","Invierno","Verano","Invierno","Verano","Invierno","Verano","Invierno","Verano","Invierno","Verano","Invierno","Verano","Invierno","Verano","Invierno","Verano","Invierno","Verano","Invierno","Verano","Invierno","Verano","Invierno","Verano","Invierno","Verano","Invierno","Verano"]
[null,"Demanda horaria (MWh)",{"$f":"MAX(Maximos!C23:G23,Maximos!L23:N23)","v":1426.6},{"$f":"MAX(Maximos!H23:K23)","v":1432.4},{"$f":"MAX(Maximos!O23:S23,Maximos!X23:Z23)","v":1495.5},{"$f":"MAX(Maximos!T23:W23)","v":1486},{"$f":"MAX(Maximos!AA23:AE23,Maximos!AJ23:AL23)","v":1461.7},{"$f":"MAX(Maximos!AF23:AI23)","v":1426.6},{"$f":"MAX(Maximos!AM23:AQ23,Maximos!AV23:AX23)","v":1447.1},{"$f":"MAX(Maximos!AR23:AU23)","v":1460.1},{"$f":"MAX(Maximos!AY23:BC23,Maximos!BH23:BJ23)","v":1410.6},{"$f":"MAX(Maximos!BD23:BG23)","v":1435.7},{"$f":"MAX(Maximos!BK23:BO23,Maximos!BT23:BV23)","v":1450.4},{"$f":"MAX(Maximos!BP23:BS23)","v":1430.2},{"$f":"MAX(Maximos!BW23:CA23,Maximos!CF23:CH23)","v":1439.3},{"$f":"MAX(Maximos!CB23:CE23)","v":1402.1},{"$f":"MAX(Maximos!CI23:CM23,Maximos!CR23:CT23)","v":1377.5},{"$f":"MAX(Maximos!CN23:CQ23)","v":1336},{"$f":"MAX(Maximos!CU23:CY23,Maximos!DD23:DF23)","v":1377.3},{"$f":"MAX(Maximos!CZ23:DC23)","v":1322},{"$f":"MAX(Maximos!DG23:DK23,Maximos!DP23:DR23)","v":1399.6},{"$f":"MAX(Maximos!DL23:DO23)","v":1372.5},{"$f":"MAX(Maximos!DS23:DW23,Maximos!EB23:ED23)","v":1389},{"$f":"MAX(Maximos!DX23:EA23)","v":1384},{"$f":"MAX(Maximos!EE23:EI23,Maximos!EN23:EP23)","v":1341},"-","-","-","-","-","-","-"]
[null,"Día",{"$f":"HLOOKUP($C$73,Maximos!$C$23:$N$29,2,0)&\" de \"&HLOOKUP($C$73,Maximos!$C$23:$N$29,7,0)","v":"14 de noviembre"},{"$f":"HLOOKUP($D$73,Maximos!$C$23:$N$29,2,0)&\" de \"&HLOOKUP($D$73,Maximos!$C$23:$N$29,7,0)","v":"5 de septiembre"},{"$f":"HLOOKUP($E$73,Maximos!$O$23:$Z$29,2,0)&\" de \"&HLOOKUP($E$73,Maximos!$O$23:$Z$29,7,0)","v":"8 de noviembre"},{"$f":"HLOOKUP($F$73,Maximos!$O$23:$Z$29,2,0)&\" de \"&HLOOKUP($F$73,Maximos!$O$23:$Z$29,7,0)","v":"30 de julio"},{"$f":"HLOOKUP($G$73,Maximos!$AA$23:$AL$29,2,0)&\" de \"&HLOOKUP($G$73,Maximos!$AA$23:$AL$29,7,0)","v":"31 de diciembre"},{"$f":"HLOOKUP($H$73,Maximos!$AA$23:$AL$29,2,0)&\" de \"&HLOOKUP($H$73,Maximos!$AA$23:$AL$29,7,0)","v":"24 de septiembre"},{"$f":"HLOOKUP($I$73,Maximos!$AM$23:$AX$29,2,0)&\" de \"&HLOOKUP($I$73,Maximos!$AM$23:$AX$29,7,0)","v":"28 de octubre"},{"$f":"HLOOKUP($J$73,Maximos!$AM$23:$AX$29,2,0)&\" de \"&HLOOKUP($J$73,Maximos!$AM$23:$AX$29,7,0)","v":"31 de julio"},{"$f":"HLOOKUP($K$73,Maximos!$AY$23:$BJ$29,2,0)&\" de \"&HLOOKUP($K$73,Maximos!$AY$23:$BJ$29,7,0)","v":"31 de diciembre"},{"$f":"HLOOKUP($L$73,Maximos!$AY$23:$BJ$29,2,0)&\" de \"&HLOOKUP($L$73,Maximos!$AY$23:$BJ$29,7,0)","v":"12 de agosto"},{"$f":"HLOOKUP($M$73,Maximos!$BK$23:$BV$29,2,0)&\" de \"&HLOOKUP($M$73,Maximos!$BK$23:$BV$29,7,0)","v":"31 de diciembre"},{"$f":"HLOOKUP($N$73,Maximos!$BK$23:$BV$29,2,0)&\" de \"&HLOOKUP($N$73,Maximos!$BK$23:$BV$29,7,0)","v":"23 de junio"},{"$f":"HLOOKUP($O$73,Maximos!$BW$23:$CH$29,2,0)&\" de \"&HLOOKUP($O$73,Maximos!$BW$23:$CH$29,7,0)","v":"15 de febrero"},{"$f":"HLOOKUP($P$73,Maximos!$BW$23:$CH$29,2,0)&\" de \"&HLOOKUP($P$73,Maximos!$BW$23:$CH$29,7,0)","v":"25 de septiembre"},{"$f":"HLOOKUP(Q73,Maximos!CI23:CT29,2,0)&\" de \"&HLOOKUP(Q73,Maximos!CI23:CT29,7,0)","v":"31 de diciembre"},{"$f":"HLOOKUP(R73,Maximos!CI23:CT29,2,0)&\" de \"&HLOOKUP(R73,Maximos!CI23:CT29,7,0)","v":"30 de septiembre"},{"$f":"HLOOKUP(S73,Maximos!CU23:DF29,2,0)&\" de \"&HLOOKUP(S73,Maximos!CU23:DF29,7,0)","v":"31 de diciembre"},{"$f":"HLOOKUP(T73,Maximos!CU23:DF29,2,0)&\" de \"&HLOOKUP(T73,Maximos!CU23:DF29,7,0)","v":"16 de septiembre"},{"$f":"HLOOKUP(U73,Maximos!DG23:DR29,2,0)&\" de \"&HLOOKUP(U73,Maximos!DG23:DR29,7,0)","v":"5 de octubre"},{"$f":"HLOOKUP(V73,Maximos!DL23:DO29,2,0)&\" de \"&HLOOKUP(V73,Maximos!DL23:DO29,7,0)","v":"12 de agosto"},{"$f":"HLOOKUP(W73,Maximos!DS23:ED29,2,0)&\" de \"&HLOOKUP(W73,Maximos!DS23:ED29,7,0)","v":"31 de diciembre"},{"$f":"HLOOKUP(X73,Maximos!DX23:EA29,2,0)&\" de \"&HLOOKUP(X73,Maximos!DX23:EA29,7,0)","v":"10 de agosto"},{"$f":"HLOOKUP(Y73,Maximos!EE23:EP29,2,0)&\" de \"&HLOOKUP(Y73,Maximos!EE23:EP29,7,0)","v":"17 de enero"},"-","-","-","-","-","-","-"]
[null,"Hora",{"$f":"HLOOKUP($C$73,Maximos!$C$23:$N$29,3,0)","v":20},{"$f":"HLOOKUP($D$73,Maximos!$C$23:$N$29,3,0)","v":13},{"$f":"HLOOKUP($E$73,Maximos!$O$23:$Z$29,3,0)","v":20},{"$f":"HLOOKUP($F$73,Maximos!$O$23:$Z$29,3,0)","v":13},{"$f":"HLOOKUP($G$73,Maximos!$AA$23:$AL$29,3,0)","v":20},{"$f":"HLOOKUP($H$73,Maximos!$AA$23:$AL$29,3,0)","v":21},{"$f":"HLOOKUP($I$73,Maximos!$AM$23:$AX$29,3,0)","v":20},{"$f":"HLOOKUP($J$73,Maximos!$AM$23:$AX$29,3,0)","v":13},{"$f":"HLOOKUP($K$73,Maximos!$AY$23:$BJ$29,3,0)","v":20},{"$f":"HLOOKUP($L$73,Maximos!$AY$23:$BJ$29,3,0)","v":22},{"$f":"HLOOKUP($M$73,Maximos!$BK$23:$BV$29,3,0)","v":20},{"$f":"HLOOKUP($N$73,Maximos!$BK$23:$BV$29,3,0)","v":14},{"$f":"HLOOKUP($O$73,Maximos!$BW$23:$CH$29,3,0)","v":21},{"$f":"HLOOKUP($P$73,Maximos!$BW$23:$CH$29,3,0)","v":21},{"$f":"HLOOKUP(Q73,Maximos!CI23:CT29,3,0)","v":20},{"$f":"HLOOKUP(R73,Maximos!CI23:CT29,3,0)","v":21},{"$f":"HLOOKUP(S73,Maximos!CU23:DF29,3,0)","v":20},{"$f":"HLOOKUP(T73,Maximos!CU23:DF29,3,0)","v":21},{"$f":"HLOOKUP(U73,Maximos!DG23:DR29,3,0)","v":21},{"$f":"HLOOKUP(V73,Maximos!DL23:DO29,3,0)","v":14},{"$f":"HLOOKUP(W73,Maximos!DS23:ED29,3,0)","v":20},{"$f":"HLOOKUP(X73,Maximos!DX23:EA29,3,0)","v":14},{"$f":"HLOOKUP(Y73,Maximos!EE23:EP29,3,0)","v":21},"-","-","-","-","-","-","-"]
[null,"Demanda máxima diaria Islas Canarias","2006","2006","2007","2007","2008","2008","2009","2009","2010","2010","2011","2011","2012","2012","2013","2013","2014","2014","2015","2015","2016","2016","2017","2017","2018","2018","2019","2019","2020","2020"]
[null,null,"Invierno","Verano","Invierno","Verano","Invierno","Verano","Invierno","Verano","Invierno","Verano","Invierno","Verano","Invierno","Verano","Invierno","Verano","Invierno","Verano","Invierno","Verano","Invierno","Verano","Invierno","Verano","Invierno","Verano","Invierno","Verano","Invierno","Verano"]
[null,"Demanda diaria (MWh)",{"$f":"MAX(Maximos!C27:G27,Maximos!L27:N27)","v":26375},{"$f":"MAX(Maximos!H27:K27)","v":33490},{"$f":"MAX(Maximos!O27:S27,Maximos!X27:Z27)","v":27974},{"$f":"MAX(Maximos!T27:W27)","v":31549},{"$f":"MAX(Maximos!AA27:AE27,Maximos!AJ27:AL27)","v":27944},{"$f":"MAX(Maximos!AF27:AI27)","v":28320},{"$f":"MAX(Maximos!AM27:AQ27,Maximos!AV27:AX27)","v":27355},{"$f":"MAX(Maximos!AR27:AU27)","v":30250},{"$f":"MAX(Maximos!AY27:BC27,Maximos!BH27:BJ27)","v":26729.811000000002},{"$f":"MAX(Maximos!BD27:BG27)","v":28363.362000000001},{"$f":"MAX(Maximos!BK27:BO27,Maximos!BT27:BV27)","v":26758.316999999999},{"$f":"MAX(Maximos!BP27:BS27)","v":27628.316999999999},{"$f":"MAX(Maximos!BW27:CA27,Maximos!CF27:CH27)","v":26257.205000000002},{"$f":"MAX(Maximos!CB27:CE27)","v":27768.04},{"$f":"MAX(Maximos!CI27:CM27,Maximos!CR27:CT27)","v":25684.02},{"$f":"MAX(Maximos!CN27:CQ27)","v":26810.411},{"$f":"MAX(Maximos!CU27:CY27,Maximos!DD27:DF27)","v":26418.67},{"$f":"MAX(Maximos!CZ27:DC27)","v":26091.274000000001},{"$f":"MAX(Maximos!DG27:DK27,Maximos!DP27:DR27)","v":26954.633999999998},{"$f":"MAX(Maximos!DL27:DO27)","v":27854.117999999999},{"$f":"MAX(Maximos!DS27:DW27,Maximos!EB27:ED27)","v":26243.809000000001},{"$f":"MAX(Maximos!DX27:EA27)","v":28015.146000000001},{"$f":"MAX(Maximos!EE27:EI27,Maximos!EN27:EP27)","v":25273.013999999999},"-","-","-","-","-","-","-"]
[null,"Día",{"$f":"HLOOKUP($C$78,Maximos!$C$27:$N$29,2,0)&\" de \"&HLOOKUP($C$78,Maximos!$C$27:$N$29,3,0)","v":"3 de enero"},{"$f":"HLOOKUP($D$78,Maximos!$C$27:$N$29,2,0)&\" de \"&HLOOKUP($D$78,Maximos!$C$27:$N$29,3,0)","v":"10 de junio"},{"$f":"HLOOKUP($E$78,Maximos!$O$27:$Z$29,2,0)&\" de \"&HLOOKUP($E$78,Maximos!$O$27:$Z$29,3,0)","v":"24 de octubre"},{"$f":"HLOOKUP($F$78,Maximos!$O$27:$Z$29,2,0)&\" de \"&HLOOKUP($F$78,Maximos!$O$27:$Z$29,3,0)","v":"1 de agosto"},{"$f":"HLOOKUP($G$78,Maximos!$AA$27:$AL$29,2,0)&\" de \"&HLOOKUP($G$78,Maximos!$AA$27:$AL$29,3,0)","v":"4 de abril"},{"$f":"HLOOKUP($H$78,Maximos!$AA$27:$AL$29,2,0)&\" de \"&HLOOKUP($H$78,Maximos!$AA$27:$AL$29,3,0)","v":"9 de septiembre"},{"$f":"HLOOKUP($I$78,Maximos!$AM$27:$AX$29,2,0)&\" de \"&HLOOKUP($I$78,Maximos!$AM$27:$AX$29,3,0)","v":"8 de octubre"},{"$f":"HLOOKUP($J$78,Maximos!$AM$27:$AX$29,2,0)&\" de \"&HLOOKUP($J$78,Maximos!$AM$27:$AX$29,3,0)","v":"31 de julio"},{"$f":"HLOOKUP($K$78,Maximos!$AY$27:$BJ$29,2,0)&\" de \"&HLOOKUP($K$78,Maximos!$AY$27:$BJ$29,3,0)","v":"9 de marzo"},{"$f":"HLOOKUP($L$78,Maximos!$AY$27:$BJ$29,2,0)&\" de \"&HLOOKUP($L$78,Maximos!$AY$27:$BJ$29,3,0)","v":"12 de agosto"},{"$f":"HLOOKUP($M$78,Maximos!$BK$27:$BV$29,2,0)&\" de \"&HLOOKUP($M$78,Maximos!$BK$27:$BV$29,3,0)","v":"7 de octubre"},{"$f":"HLOOKUP($N$78,Maximos!$BK$27:$BV$29,2,0)&\" de \"&HLOOKUP($N$78,Maximos!$BK$27:$BV$29,3,0)","v":"22 de junio"},{"$f":"HLOOKUP($O$78,Maximos!$BW$27:$CH$29,2,0)&\" de \"&HLOOKUP($O$78,Maximos!$BW$27:$CH$29,3,0)","v":"10 de octubre"},{"$f":"HLOOKUP($P$78,Maximos!$BW$27:$CH$29,2,0)&\" de \"&HLOOKUP($P$78,Maximos!$BW$27:$CH$29,3,0)","v":"22 de agosto"},{"$f":"HLOOKUP(Q78,Maximos!CI27:CT29,2,0)&\" de \"&HLOOKUP(Q78,Maximos!CI27:CT29,3,0)","v":"1 de octubre"},{"$f":"HLOOKUP(R78,Maximos!CN27:CQ29,2,0)&\" de \"&HLOOKUP(R78,Maximos!CN27:CQ29,3,0)","v":"23 de agosto"},{"$f":"HLOOKUP(S78,Maximos!CU27:DF29,2,0)&\" de \"&HLOOKUP(S78,Maximos!CU27:DF29,3,0)","v":"28 de octubre"},{"$f":"HLOOKUP(T78,Maximos!CZ27:DC29,2,0)&\" de \"&HLOOKUP(T78,Maximos!CZ27:DC29,3,0)","v":"16 de septiembre"},{"$f":"HLOOKUP(U78,Maximos!DG27:DR29,2,0)&\" de \"&HLOOKUP(U78,Maximos!DG27:DR29,3,0)","v":"5 de octubre"},{"$f":"HLOOKUP(V78,Maximos!DL27:DO29,2,0)&\" de \"&HLOOKUP(V78,Maximos!DL27:DO29,3,0)","v":"13 de agosto"},{"$f":"HLOOKUP(W78,Maximos!DS27:ED29,2,0)&\" de \"&HLOOKUP(W78,Maximos!DS27:ED29,3,0)","v":"18 de octubre"},{"$f":"HLOOKUP(X78,Maximos!DX27:EA29,2,0)&\" de \"&HLOOKUP(X78,Maximos!DX27:EA29,3,0)","v":"10 de agosto"},{"$f":"HLOOKUP(Y78,Maximos!EE27:EP29,2,0)&\" de \"&HLOOKUP(Y78,Maximos!EE27:EP29,3,0)","v":"4 de marzo"},"-","-","-","-","-","-","-"]
[]
[null,"Demanda máxima horaria Ceuta","2007","2007","2008","2008","2009","2009","2010","2010","2011","2011","2012","2012","2013","2013","2014","2014","2015","2015","2016","2016","2017","2017","2018","2018","2019","2019","2020","2020","2021","2021"]
[null,null,"Invierno","Verano","Invierno","Verano","Invierno","Verano","Invierno","Verano","Invierno","Verano","Invierno","Verano","Invierno","Verano","Invierno","Verano","Invierno","Verano","Invierno","Verano","Invierno","Verano","Invierno","Verano","Invierno","Verano","Invierno","Verano","Invierno","Verano"]
[null,"Demanda horaria (MWh)",{"$f":"MAX(Maximos!C31:G31,Maximos!L31:N31)","v":35.200000000000003},{"$f":"MAX(Maximos!H31:K31)","v":33.9},{"$f":"MAX(Maximos!O31:S31,Maximos!X31:Z31)","v":41.3},{"$f":"MAX(Maximos!T31:W31)","v":34.5},{"$f":"MAX(Maximos!AA31:AE31,Maximos!AJ31:AL31)","v":40.5},{"$f":"MAX(Maximos!AF31:AI31)","v":36.6},{"$f":"MAX(Maximos!AM31:AQ31,Maximos!AV31:AX31)","v":39.700000000000003},{"$f":"MAX(Maximos!AR31:AU31)","v":37.5},{"$f":"MAX(Maximos!AY31:BC31,Maximos!BH31:BJ31)","v":35.6},{"$f":"MAX(Maximos!BD31:BG31)","v":36.1},{"$f":"MAX(Maximos!BK31:BO31,Maximos!BT31:BV31)","v":39.200000000000003},{"$f":"MAX(Maximos!BP31:BS31)","v":34.5},{"$f":"MAX(Maximos!BW31:CA31,Maximos!CF31:CH31)","v":36.200000000000003},{"$f":"MAX(Maximos!CB31:CE31)","v":34.9},{"$f":"MAX(Maximos!CI31:CM31,Maximos!CR31:CT31)","v":37.299999999999997},{"$f":"MAX(Maximos!CN31:CQ31)","v":36.5},{"$f":"MAX(Maximos!CU31:CY31,Maximos!DD31:DF31)","v":39.5},{"$f":"MAX(Maximos!CZ31:DC31)","v":35.799999999999997},{"$f":"MAX(Maximos!DG31:DK31,Maximos!DP31:DR31)","v":35},{"$f":"MAX(Maximos!DL31:DO31)","v":37},{"$f":"MAX(Maximos!DS31:DW31,Maximos!EB31:ED31)","v":39},"-","-","-","-","-","-","-","-","-"]
[null,"Día",{"$f":"HLOOKUP($C$83,Maximos!$C$31:$N$37,2,0)&\" de \"&HLOOKUP($C$83,Maximos!$C$31:$N$37,7,0)","v":"24 de enero"},{"$f":"HLOOKUP($D$83,Maximos!$C$31:$N$37,2,0)&\" de \"&HLOOKUP($D$83,Maximos!$C$31:$N$37,7,0)","v":"31 de julio"},{"$f":"HLOOKUP($E$83,Maximos!$O$31:$Z$37,2,0)&\" de \"&HLOOKUP($E$83,Maximos!$O$31:$Z$37,7,0)","v":"15 de diciembre"},{"$f":"HLOOKUP($F$83,Maximos!$O$31:$Z$37,2,0)&\" de \"&HLOOKUP($F$83,Maximos!$O$31:$Z$37,7,0)","v":"6 de agosto"},{"$f":"HLOOKUP($G$83,Maximos!$AA$31:$AL$37,2,0)&\" de \"&HLOOKUP($G$83,Maximos!$AA$31:$AL$37,7,0)","v":"13 de enero"},{"$f":"HLOOKUP($H$83,Maximos!$AA$31:$AL$37,2,0)&\" de \"&HLOOKUP($H$83,Maximos!$AA$31:$AL$37,7,0)","v":"30 de julio"},{"$f":"HLOOKUP($I$83,Maximos!$AM$31:$AX$37,2,0)&\" de \"&HLOOKUP($I$83,Maximos!$AM$31:$AX$37,7,0)","v":"10 de enero"},{"$f":"HLOOKUP($J$83,Maximos!$AM$31:$AX$37,2,0)&\" de \"&HLOOKUP($J$83,Maximos!$AM$31:$AX$37,7,0)","v":"12 de agosto"},{"$f":"HLOOKUP($K$83,Maximos!$AY$31:$BJ$37,2,0)&\" de \"&HLOOKUP($K$83,Maximos!$AY$31:$BJ$37,7,0)","v":"31 de enero"},{"$f":"HLOOKUP($L$83,Maximos!$AY$31:$BJ$37,2,0)&\" de \"&HLOOKUP($L$83,Maximos!$AY$31:$BJ$37,7,0)","v":"30 de junio"},{"$f":"HLOOKUP($M$83,Maximos!$BK$31:$BV$37,2,0)&\" de \"&HLOOKUP($M$83,Maximos!$BK$31:$BV$37,7,0)","v":"13 de febrero"},{"$f":"HLOOKUP($N$83,Maximos!$BK$31:$BV$37,2,0)&\" de \"&HLOOKUP($N$83,Maximos!$BK$31:$BV$37,7,0)","v":"27 de junio"},{"$f":"HLOOKUP(O83,Maximos!BW31:CH37,2,0)&\" de \"&HLOOKUP(O83,Maximos!BW31:CH37,7,0)","v":"28 de febrero"},{"$f":"HLOOKUP(P83,Maximos!BW31:CH37,2,0)&\" de \"&HLOOKUP(P83,Maximos!BW31:CH37,7,0)","v":"5 de septiembre"},{"$f":"HLOOKUP(Q83,Maximos!CI31:CT37,2,0)&\" de \"&HLOOKUP(Q83,Maximos!CI31:CT37,7,0)","v":"21 de enero"},{"$f":"HLOOKUP(R83,Maximos!CI31:CT37,2,0)&\" de \"&HLOOKUP(R83,Maximos!CI31:CT37,7,0)","v":"1 de septiembre"},{"$f":"HLOOKUP(S83,Maximos!CU31:DF37,2,0)&\" de \"&HLOOKUP(S83,Maximos!CU31:DF37,7,0)","v":"21 de enero"},{"$f":"HLOOKUP(T83,Maximos!CZ31:DC37,2,0)&\" de \"&HLOOKUP(T83,Maximos!CZ31:DC37,7,0)","v":"23 de julio"},{"$f":"HLOOKUP(U83,Maximos!DG31:DR37,2,0)&\" de \"&HLOOKUP(U83,Maximos!DG31:DR37,7,0)","v":"18 de febrero"},{"$f":"HLOOKUP(V83,Maximos!DL31:DO37,2,0)&\" de \"&HLOOKUP(V83,Maximos!DL31:DO37,7,0)","v":"5 de septiembre"},{"$f":"HLOOKUP(W83,Maximos!DS31:ED37,2,0)&\" de \"&HLOOKUP(W83,Maximos!DS31:ED37,7,0)","v":"18 de enero"},"-","-","-","-","-","-","-","-","-"]
[null,"Hora",{"$f":"HLOOKUP($C$83,Maximos!$C$31:$N$37,3,0)","v":21},{"$f":"HLOOKUP($D$83,Maximos!$C$31:$N$37,3,0)","v":22},{"$f":"HLOOKUP($E$83,Maximos!$O$31:$Z$37,3,0)","v":21},{"$f":"HLOOKUP($F$83,Maximos!$O$31:$Z$37,3,0)","v":22},{"$f":"HLOOKUP($G$83,Maximos!$AA$31:$AL$37,3,0)","v":21},{"$f":"HLOOKUP($H$83,Maximos!$AA$31:$AL$37,3,0)","v":13},{"$f":"HLOOKUP($I$83,Maximos!$AM$31:$AX$37,3,0)","v":21},{"$f":"HLOOKUP($J$83,Maximos!$AM$31:$AX$37,3,0)","v":13},{"$f":"HLOOKUP($K$83,Maximos!$AY$31:$BJ$37,3,0)","v":21},{"$f":"HLOOKUP($L$83,Maximos!$AY$31:$BJ$37,3,0)","v":13},{"$f":"HLOOKUP($M$83,Maximos!$BK$31:$BV$37,3,0)","v":21},{"$f":"HLOOKUP($N$83,Maximos!$BK$31:$BV$37,3,0)","v":13},{"$f":"HLOOKUP(O83,Maximos!BW31:CH37,3,0)","v":21},{"$f":"HLOOKUP(P83,Maximos!BW31:CH37,3,0)","v":14},{"$f":"HLOOKUP(Q83,Maximos!CI31:CT37,3,0)","v":22},{"$f":"HLOOKUP(R83,Maximos!CI31:CT37,3,0)","v":14},{"$f":"HLOOKUP(S83,Maximos!CU31:DF37,3,0)","v":22},{"$f":"HLOOKUP(T83,Maximos!CZ31:DC37,3,0)","v":13},{"$f":"HLOOKUP(U83,Maximos!DG31:DR37,3,0)","v":21},{"$f":"HLOOKUP(V83,Maximos!DL31:DO37,3,0)","v":13},{"$f":"HLOOKUP(W83,Maximos!DS31:ED37,3,0)","v":21},"-","-","-","-","-","-","-","-","-"]
[null,"Demanda máxima diaria diaria Ceuta","2007","2007","2008","2008","2009","2009","2010","2010","2011","2011","2012","2012","2013","2013","2014","2014","2015","2015","2016","2016","2017","2017","2018","2018","2019","2019","2020","2020","2021","2021"]
[null,null,"Invierno","Verano","Invierno","Verano","Invierno","Verano","Invierno","Verano","Invierno","Verano","Invierno","Verano","Invierno","Verano","Invierno","Verano","Invierno","Verano","Invierno","Verano","Invierno","Verano","Invierno","Verano","Invierno","Verano","Invierno","Verano","Invierno","Verano"]
[null,"Demanda diaria (MWh)",{"$f":"MAX(Maximos!C35:G35,Maximos!L35:N35)","v":664},{"$f":"MAX(Maximos!H35:K35)","v":624},{"$f":"MAX(Maximos!O35:S35,Maximos!X35:Z35)","v":723},{"$f":"MAX(Maximos!T35:W35)","v":639},{"$f":"MAX(Maximos!AA35:AE35,Maximos!AJ35:AL35)","v":713},{"$f":"MAX(Maximos!AF35:AI35)","v":672},{"$f":"MAX(Maximos!AM35:AQ35,Maximos!AV35:AX35)","v":710.79100000000005},{"$f":"MAX(Maximos!AR35:AU35)","v":708.654},{"$f":"MAX(Maximos!AY35:BC35,Maximos!BH35:BJ35)","v":624.36699999999996},{"$f":"MAX(Maximos!BD35:BG35)","v":656.43600000000004},{"$f":"MAX(Maximos!BK35:BO35,Maximos!BT35:BV35)","v":698.38699999999994},{"$f":"MAX(Maximos!BP35:BS35)","v":663.21500000000003},{"$f":"MAX(Maximos!BW35:CA35,Maximos!CF35:CH35)","v":649.45399999999995},{"$f":"MAX(Maximos!CB35:CE35)","v":655.83500000000004},{"$f":"MAX(Maximos!CI35:CM35,Maximos!CR35:CT35)","v":671.77},{"$f":"MAX(Maximos!CN35:CQ35)","v":670.60500000000002},{"$f":"MAX(Maximos!CU35:CY35,Maximos!DD35:DF35)","v":713},{"$f":"MAX(Maximos!CZ35:DC35)","v":668},{"$f":"MAX(Maximos!DG35:DK35,Maximos!DP35:DR35)","v":653.90099999999995},{"$f":"MAX(Maximos!DL35:DO35)","v":749},{"$f":"MAX(Maximos!DS35:DW35,Maximos!EB35:ED35)","v":703.15899999999999},"-","-","-","-","-","-","-","-","-"]
[null,"Día",{"$f":"HLOOKUP($C$88,Maximos!$C$35:$N$37,2,0)&\" de \"&HLOOKUP($C$88,Maximos!$C$35:$N$37,3,0)","v":"2 de febrero"},{"$f":"HLOOKUP($D$88,Maximos!$C$35:$N$37,2,0)&\" de \"&HLOOKUP($D$88,Maximos!$C$35:$N$37,3,0)","v":"2 de agosto"},{"$f":"HLOOKUP($E$88,Maximos!$O$35:$Z$37,2,0)&\" de \"&HLOOKUP($E$88,Maximos!$O$35:$Z$37,3,0)","v":"2 de diciembre"},{"$f":"HLOOKUP($F$88,Maximos!$O$35:$Z$37,2,0)&\" de \"&HLOOKUP($F$88,Maximos!$O$35:$Z$37,3,0)","v":"4 de agosto"},{"$f":"HLOOKUP($G$88,Maximos!$AA$35:$AL$37,2,0)&\" de \"&HLOOKUP($G$88,Maximos!$AA$35:$AL$37,3,0)","v":"21 de enero"},{"$f":"HLOOKUP($H$88,Maximos!$AA$35:$AL$37,2,0)&\" de \"&HLOOKUP($H$88,Maximos!$AA$35:$AL$37,3,0)","v":"30 de julio"},{"$f":"HLOOKUP($I$88,Maximos!$AM$35:$AX$37,2,0)&\" de \"&HLOOKUP($I$88,Maximos!$AM$35:$AX$37,3,0)","v":"11 de enero"},{"$f":"HLOOKUP($J$88,Maximos!$AM$35:$AX$37,2,0)&\" de \"&HLOOKUP($J$88,Maximos!$AM$35:$AX$37,3,0)","v":"31 de agosto"},{"$f":"HLOOKUP($K$88,Maximos!$AY$35:$BJ$37,2,0)&\" de \"&HLOOKUP($K$88,Maximos!$AY$35:$BJ$37,3,0)","v":"26 de enero"},{"$f":"HLOOKUP($L$88,Maximos!$AY$35:$BJ$37,2,0)&\" de \"&HLOOKUP($L$88,Maximos!$AY$35:$BJ$37,3,0)","v":"28 de julio"},{"$f":"HLOOKUP($M$88,Maximos!$BK$35:$BV$37,2,0)&\" de \"&HLOOKUP($M$88,Maximos!$BK$35:$BV$37,3,0)","v":"9 de febrero"},{"$f":"HLOOKUP($N$88,Maximos!$BK$35:$BV$37,2,0)&\" de \"&HLOOKUP($N$88,Maximos!$BK$35:$BV$37,3,0)","v":"3 de agosto"},{"$f":"HLOOKUP(O88,Maximos!BW35:CH37,2,0)&\" de \"&HLOOKUP(O88,Maximos!BW35:CH37,3,0)","v":"2 de diciembre"},{"$f":"HLOOKUP(P88,Maximos!BW35:CH37,2,0)&\" de \"&HLOOKUP(P88,Maximos!BW35:CH37,3,0)","v":"21 de agosto"},{"$f":"HLOOKUP(Q88,Maximos!CI35:CT37,2,0)&\" de \"&HLOOKUP(Q88,Maximos!CI35:CT37,3,0)","v":"21 de enero"},{"$f":"HLOOKUP(R88,Maximos!CI35:CT37,2,0)&\" de \"&HLOOKUP(R88,Maximos!CI35:CT37,3,0)","v":"1 de septiembre"},{"$f":"HLOOKUP(S88,Maximos!CU35:DF37,2,0)&\" de \"&HLOOKUP(S88,Maximos!CU35:DF37,3,0)","v":"21 de enero"},{"$f":"HLOOKUP(T88,Maximos!CZ35:DC37,2,0)&\" de \"&HLOOKUP(T88,Maximos!CZ35:DC37,3,0)","v":"28 de julio"},{"$f":"HLOOKUP(U88,Maximos!DG35:DR37,2,0)&\" de \"&HLOOKUP(U88,Maximos!DG35:DR37,3,0)","v":"19 de diciembre"},{"$f":"HLOOKUP(V88,Maximos!DL35:DO37,2,0)&\" de \"&HLOOKUP(V88,Maximos!DL35:DO37,3,0)","v":"3 de agosto"},{"$f":"HLOOKUP(W88,Maximos!DS35:ED37,2,0)&\" de \"&HLOOKUP(W88,Maximos!DS35:ED37,3,0)","v":"18 de enero"},"-","-","-","-","-","-","-","-","-"]
[]
[null,"Demanda máxima horaria Melilla","2007","2007","2008","2008","2009","2009","2010","2010","2011","2011","2012","2012","2013","2013","2014","2014","2015","2015","2016","2016","2017","2017","2018","2018","2019","2019","2020","2020","2021","2021"]
[null,null,"Invierno","Verano","Invierno","Verano","Invierno","Verano","Invierno","Verano","Invierno","Verano","Invierno","Verano","Invierno","Verano","Invierno","Verano","Invierno","Verano","Invierno","Verano","Invierno","Verano","Invierno","Verano","Invierno","Verano","Invierno","Verano","Invierno","Verano"]
[null,"Demanda horaria (MWh)",{"$f":"MAX(Maximos!C39:G39,Maximos!L39:N39)","v":34.000000999999997},{"$f":"MAX(Maximos!H39:K39)","v":34.6},{"$f":"MAX(Maximos!O39:S39,Maximos!X39:Z39)","v":39.299999999999997},{"$f":"MAX(Maximos!T39:W39)","v":37.799999999999997},{"$f":"MAX(Maximos!AA39:AE39,Maximos!AJ39:AL39)","v":37.9},{"$f":"MAX(Maximos!AF39:AI39)","v":37.799999999999997},{"$f":"MAX(Maximos!AM39:AQ39,Maximos!AV39:AX39)","v":36.9},{"$f":"MAX(Maximos!AR39:AU39)","v":39.200000000000003},{"$f":"MAX(Maximos!AY39:BC39,Maximos!BH39:BJ39)","v":37.4},{"$f":"MAX(Maximos!BD39:BG39)","v":38.5},{"$f":"MAX(Maximos!BK39:BO39,Maximos!BT39:BV39)","v":39.9},{"$f":"MAX(Maximos!BP39:BS39)","v":37.299999999999997},{"$f":"MAX(Maximos!BW39:CA39,Maximos!CF39:CH39)","v":36.4},{"$f":"MAX(Maximos!CB39:CE39)","v":37.200000000000003},{"$f":"MAX(Maximos!CI39:CM39,Maximos!CR39:CT39)","v":35.1},{"$f":"MAX(Maximos!CN39:CQ39)","v":38},{"$f":"MAX(Maximos!CU39:CY39,Maximos!DD39:DF39)","v":38.299999999999997},{"$f":"MAX(Maximos!CZ39:DC39)","v":41.7},{"$f":"MAX(Maximos!DG39:DK39,Maximos!DP39:DR39)","v":34.000000000001002},{"$f":"MAX(Maximos!DL39:DO39)","v":40.000000999999997},{"$f":"MAX(Maximos!DS39:DW39,Maximos!EB39:ED39)","v":40},"-","-","-","-","-","-","-","-","-"]
[null,"Día",{"$f":"HLOOKUP($C$93,Maximos!$C$39:$N$45,2,0)&\" de \"&HLOOKUP($C$93,Maximos!$C$39:$N$45,7,0)","v":"31 de diciembre"},{"$f":"HLOOKUP($D$93,Maximos!$C$39:$N$45,2,0)&\" de \"&HLOOKUP($D$93,Maximos!$C$39:$N$45,7,0)","v":"3 de agosto"},{"$f":"HLOOKUP($E$93,Maximos!$O$39:$Z$45,2,0)&\" de \"&HLOOKUP($E$93,Maximos!$O$39:$Z$45,7,0)","v":"16 de diciembre"},{"$f":"HLOOKUP($F$93,Maximos!$O$39:$Z$45,2,0)&\" de \"&HLOOKUP($F$93,Maximos!$O$39:$Z$45,7,0)","v":"27 de agosto"},{"$f":"HLOOKUP($G$93,Maximos!$AA$39:$AL$45,2,0)&\" de \"&HLOOKUP($G$93,Maximos!$AA$39:$AL$45,7,0)","v":"21 de enero"},{"$f":"HLOOKUP($H$93,Maximos!$AA$39:$AL$45,2,0)&\" de \"&HLOOKUP($H$93,Maximos!$AA$39:$AL$45,7,0)","v":"30 de julio"},{"$f":"HLOOKUP($I$93,Maximos!$AM$39:$AX$45,2,0)&\" de \"&HLOOKUP($I$93,Maximos!$AM$39:$AX$45,7,0)","v":"27 de enero"},{"$f":"HLOOKUP($J$93,Maximos!$AM$39:$AX$45,2,0)&\" de \"&HLOOKUP($J$93,Maximos!$AM$39:$AX$45,7,0)","v":"12 de agosto"},{"$f":"HLOOKUP($K$93,Maximos!$AY$39:$BJ$45,2,0)&\" de \"&HLOOKUP($K$93,Maximos!$AY$39:$BJ$45,7,0)","v":"1 de febrero"},{"$f":"HLOOKUP($L$93,Maximos!$AY$39:$BJ$45,2,0)&\" de \"&HLOOKUP($L$93,Maximos!$AY$39:$BJ$45,7,0)","v":"8 de agosto"},{"$f":"HLOOKUP($M$93,Maximos!$BK$39:$BV$45,2,0)&\" de \"&HLOOKUP($M$93,Maximos!$BK$39:$BV$45,7,0)","v":"14 de febrero"},{"$f":"HLOOKUP($N$93,Maximos!$BK$39:$BV$45,2,0)&\" de \"&HLOOKUP($N$93,Maximos!$BK$39:$BV$45,7,0)","v":"23 de agosto"},{"$f":"HLOOKUP(O93,Maximos!BW39:CH45,2,0)&\" de \"&HLOOKUP(O93,Maximos!BW39:CH45,7,0)","v":"12 de febrero"},{"$f":"HLOOKUP(P93,Maximos!BW39:CH45,2,0)&\" de \"&HLOOKUP(P93,Maximos!BW39:CH45,7,0)","v":"26 de agosto"},{"$f":"HLOOKUP(Q93,Maximos!CI39:CT45,2,0)&\" de \"&HLOOKUP(Q93,Maximos!CI39:CT45,7,0)","v":"29 de enero"},{"$f":"HLOOKUP(R93,Maximos!CI39:CT45,2,0)&\" de \"&HLOOKUP(R93,Maximos!CI39:CT45,7,0)","v":"29 de agosto"},{"$f":"HLOOKUP(S93,Maximos!CU39:DF45,2,0)&\" de \"&HLOOKUP(S93,Maximos!CU39:DF45,7,0)","v":"21 de enero"},{"$f":"HLOOKUP(T93,Maximos!CZ39:DC45,2,0)&\" de \"&HLOOKUP(T93,Maximos!CZ39:DC45,7,0)","v":"7 de agosto"},{"$f":"HLOOKUP(U93,Maximos!DG39:DR45,2,0)&\" de \"&HLOOKUP(U93,Maximos!DG39:DR45,7,0)","v":"7 de marzo"},{"$f":"HLOOKUP(V93,Maximos!DL39:DO45,2,0)&\" de \"&HLOOKUP(V93,Maximos!DL39:DO45,7,0)","v":"29 de agosto"},{"$f":"HLOOKUP(W93,Maximos!DS39:ED45,2,0)&\" de \"&HLOOKUP(W93,Maximos!DS39:ED45,7,0)","v":"19 de enero"},"-","-","-","-","-","-","-","-","-"]
[null,"Hora",{"$f":"HLOOKUP($C$93,Maximos!$C$39:$N$45,3,0)","v":20},{"$f":"HLOOKUP($D$93,Maximos!$C$39:$N$45,3,0)","v":12},{"$f":"HLOOKUP($E$93,Maximos!$O$39:$Z$45,3,0)","v":21},{"$f":"HLOOKUP($F$93,Maximos!$O$39:$Z$45,3,0)","v":13},{"$f":"HLOOKUP($G$93,Maximos!$AA$39:$AL$45,3,0)","v":20},{"$f":"HLOOKUP($H$93,Maximos!$AA$39:$AL$45,3,0)","v":13},{"$f":"HLOOKUP($I$93,Maximos!$AM$39:$AX$45,3,0)","v":19},{"$f":"HLOOKUP($J$93,Maximos!$AM$39:$AX$45,3,0)","v":13},{"$f":"HLOOKUP($K$93,Maximos!$AY$39:$BJ$45,3,0)","v":21},{"$f":"HLOOKUP($L$93,Maximos!$AY$39:$BJ$45,3,0)","v":13},{"$f":"HLOOKUP($M$93,Maximos!$BK$39:$BV$45,3,0)","v":21},{"$f":"HLOOKUP($N$93,Maximos!$BK$39:$BV$45,3,0)","v":13},{"$f":"HLOOKUP(O93,Maximos!BW39:CH45,3,0)","v":21},{"$f":"HLOOKUP(P93,Maximos!BW39:CH45,3,0)","v":14},{"$f":"HLOOKUP(Q93,Maximos!CI39:CT45,3,0)","v":21},{"$f":"HLOOKUP(R93,Maximos!CI39:CT45,3,0)","v":14},{"$f":"HLOOKUP(S93,Maximos!CU39:DF45,3,0)","v":22},{"$f":"HLOOKUP(T93,Maximos!CZ39:DC45,3,0)","v":13},{"$f":"HLOOKUP(U93,Maximos!DG39:DR45,3,0)","v":20},{"$f":"HLOOKUP(V93,Maximos!DL39:DO45,3,0)","v":13},{"$f":"HLOOKUP(W93,Maximos!DS39:ED45,3,0)","v":21},"-","-","-","-","-","-","-","-","-"]
[null,"Demanda máxima diaria diaria Melilla","2007","2007","2008","2008","2009","2009","2010","2010","2011","2011","2012","2012","2013","2013","2014","2014","2015","2015","2016","2016","2017","2017","2018","2018","2019","2019","2020","2020","2021","2021"]
[null,null,"Invierno","Verano","Invierno","Verano","Invierno","Verano","Invierno","Verano","Invierno","Verano","Invierno","Verano","Invierno","Verano","Invierno","Verano","Invierno","Verano","Invierno","Verano","Invierno","Verano","Invierno","Verano","Invierno","Verano","Invierno","Verano","Invierno","Verano"]
[null,"Demanda diaria (MWh)",{"$f":"MAX(Maximos!C43:G43,Maximos!L43:N43)","v":615},{"$f":"MAX(Maximos!H43:K43)","v":679},{"$f":"MAX(Maximos!O43:S43,Maximos!X43:Z43)","v":640},{"$f":"MAX(Maximos!T43:W43)","v":688},{"$f":"MAX(Maximos!AA43:AE43,Maximos!AJ43:AL43)","v":663},{"$f":"MAX(Maximos!AF43:AI43)","v":726},{"$f":"MAX(Maximos!AM43:AQ43,Maximos!AV43:AX43)","v":655.50699999999995},{"$f":"MAX(Maximos!AR43:AU43)","v":765.99400000000003},{"$f":"MAX(Maximos!AY43:BC43,Maximos!BH43:BJ43)","v":666.77},{"$f":"MAX(Maximos!BD43:BG43)","v":750.24900000000002},{"$f":"MAX(Maximos!BK43:BO43,Maximos!BT43:BV43)","v":687.13900000000001},{"$f":"MAX(Maximos!BP43:BS43)","v":741.60299999999995},{"$f":"MAX(Maximos!BW43:CA43,Maximos!CF43:CH43)","v":641.70100000000002},{"$f":"MAX(Maximos!CB43:CE43)","v":709.44600000000003},{"$f":"MAX(Maximos!CI43:CM43,Maximos!CR43:CT43)","v":627.36199999999997},{"$f":"MAX(Maximos!CN43:CQ43)","v":724.6},{"$f":"MAX(Maximos!CU43:CY43,Maximos!DD43:DF43)","v":673.26199999999994},{"$f":"MAX(Maximos!CZ43:DC43)","v":782.09699999999998},{"$f":"MAX(Maximos!DG43:DK43,Maximos!DP43:DR43)","v":627.53599999999994},{"$f":"MAX(Maximos!DL43:DO43)","v":792.88400000000001},{"$f":"MAX(Maximos!DS43:DW43,Maximos!EB43:ED43)","v":712.86599999999999},"-","-","-","-","-","-","-","-","-"]
[null,"Día",{"$f":"HLOOKUP($C$98,Maximos!$C$43:$N$45,2,0)&\" de \"&HLOOKUP($C$98,Maximos!$C$43:$N$45,3,0)","v":"19 de diciembre"},{"$f":"HLOOKUP($D$98,Maximos!$C$43:$N$45,2,0)&\" de \"&HLOOKUP($D$98,Maximos!$C$43:$N$45,3,0)","v":"1 de agosto"},{"$f":"HLOOKUP($E$98,Maximos!$O$43:$Z$45,2,0)&\" de \"&HLOOKUP($E$98,Maximos!$O$43:$Z$45,3,0)","v":"2 de diciembre"},{"$f":"HLOOKUP($F$98,Maximos!$O$43:$Z$45,2,0)&\" de \"&HLOOKUP($F$98,Maximos!$O$43:$Z$45,3,0)","v":"27 de agosto"},{"$f":"HLOOKUP($G$98,Maximos!$AA$43:$AL$45,2,0)&\" de \"&HLOOKUP($G$98,Maximos!$AA$43:$AL$45,3,0)","v":"12 de enero"},{"$f":"HLOOKUP($H$98,Maximos!$AA$43:$AL$45,2,0)&\" de \"&HLOOKUP($H$98,Maximos!$AA$43:$AL$45,3,0)","v":"5 de agosto"},{"$f":"HLOOKUP($I$98,Maximos!$AM$43:$AX$45,2,0)&\" de \"&HLOOKUP($I$98,Maximos!$AM$43:$AX$45,3,0)","v":"27 de enero"},{"$f":"HLOOKUP($J$98,Maximos!$AM$43:$AX$45,2,0)&\" de \"&HLOOKUP($J$98,Maximos!$AM$43:$AX$45,3,0)","v":"31 de agosto"},{"$f":"HLOOKUP($K$98,Maximos!$AY$43:$BJ$45,2,0)&\" de \"&HLOOKUP($K$98,Maximos!$AY$43:$BJ$45,3,0)","v":"1 de febrero"},{"$f":"HLOOKUP($L$98,Maximos!$AY$43:$BJ$45,2,0)&\" de \"&HLOOKUP($L$98,Maximos!$AY$43:$BJ$45,3,0)","v":"16 de agosto"},{"$f":"HLOOKUP($M$98,Maximos!$BK$43:$BV$45,2,0)&\" de \"&HLOOKUP($M$98,Maximos!$BK$43:$BV$45,3,0)","v":"14 de febrero"},{"$f":"HLOOKUP($N$98,Maximos!$BK$43:$BV$45,2,0)&\" de \"&HLOOKUP($N$98,Maximos!$BK$43:$BV$45,3,0)","v":"10 de agosto"},{"$f":"HLOOKUP(O98,Maximos!BW43:CH45,2,0)&\" de \"&HLOOKUP(O98,Maximos!BW43:CH45,3,0)","v":"12 de febrero"},{"$f":"HLOOKUP(P98,Maximos!BW43:CH45,2,0)&\" de \"&HLOOKUP(P98,Maximos!BW43:CH45,3,0)","v":"6 de agosto"},{"$f":"HLOOKUP(Q98,Maximos!CI43:CT45,2,0)&\" de \"&HLOOKUP(Q98,Maximos!CI43:CT45,3,0)","v":"1 de octubre"},{"$f":"HLOOKUP(R98,Maximos!CI43:CT45,2,0)&\" de \"&HLOOKUP(R98,Maximos!CI43:CT45,3,0)","v":"29 de agosto"},{"$f":"HLOOKUP(S98,Maximos!CU43:DF45,2,0)&\" de \"&HLOOKUP(S98,Maximos!CU43:DF45,3,0)","v":"21 de enero"},{"$f":"HLOOKUP(T98,Maximos!CZ43:DC45,2,0)&\" de \"&HLOOKUP(T98,Maximos!CZ43:DC45,3,0)","v":"7 de agosto"},{"$f":"HLOOKUP(U98,Maximos!DG43:DR45,2,0)&\" de \"&HLOOKUP(U98,Maximos!DG43:DR45,3,0)","v":"6 de octubre"},{"$f":"HLOOKUP(V98,Maximos!DL43:DO45,2,0)&\" de \"&HLOOKUP(V98,Maximos!DL43:DO45,3,0)","v":"5 de septiembre"},{"$f":"HLOOKUP(W98,Maximos!DS43:ED45,2,0)&\" de \"&HLOOKUP(W98,Maximos!DS43:ED45,3,0)","v":"20 de enero"},"-","-","-","-","-","-","-","-","-"]

{"sheet":"Año","index":12,"n_rows":29,"n_cols":26,"rows_kept":29,"cut":false,"hidden":true,"merged":[]}
[null,null,null,null,null,null,null,null,null,null,null,null,null,null,null,null,null,null,null,null,null,null,null,null,1,1]
[null,1990,"1990-1994","2006-2015","2006-2010","2007-2011",null,null,null,null,null,null,null,null,"Peninsular","Mensual"]
[null,1991,"1995-1999",null,"2011-2015","2012-2016",null,null,null,null,null,null,null,null,"Canarias","Anual"]
[null,1992,"2000-2004",null,"2016-2020","2017-2021",null,null,null,null,null,null,null,null,"Baleares"]
[null,1993,"2005-2009",null,null,null,null,null,null,null,null,null,null,null,"Ceuta"]
[null,1994,"2010-2014",null,null,null,null,null,null,null,null,null,null,null,"Melilla"]
[null,1995,"2015-2019"]
[null,1996]
[null,1997]
[null,1998]
[null,1999]
[null,2000]
[null,2001]
[null,2002]
[null,2003]
[null,2004]
[null,2005]
[null,2006]
[null,2007]
[null,2008]
[null,2009]
[null,2010]
[null,2011]
[null,2012]
[null,2013]
[null,2014]
[null,2015]
[null,2016]
[null,2017]