{"text_format":"1","workbook":"xlsx","n_sheets":13,"sheets":["AVISO LEGAL","Maximos mensuales peninsular","Maximos anuales peninsular","Maximos mensuales Baleares","Maximos anuales Baleares","Maximos mensuales Canarias","Maximos anuales Canarias","Maximos mensuales Ceuta","Maximos anuales Ceuta","Maximos mensuales Melilla","Maximos anuales Melilla","Maximos","Año"],"not_rendered":{"charts":0,"images":1,"macros":1,"external_links":0,"defined_names":10,"comments":0,"pivot_tables":0},"unopened":[],"bounds":{"document_bytes":16777216,"sheet_cells":100000,"rows_first":2000,"rows_last":500,"rows_between":2000,"halvings":0,"cell_chars":16384,"cell_head_chars":4096},"cells_cut":0,"cells_raw":0,"read":"whole","date_system":"1900"}

{"sheet":"AVISO LEGAL","index":0,"n_rows":23,"n_cols":10,"rows_kept":23,"cut":false,"hidden":false,"merged":[[26,0,26,2]]}
[]
[null,null,null,null,null,null,null,"Fecha de actualización:",null,"2018-08-08"]
[]
[]
[]
[]
[]
[]
[]
[]
[]
[]
[]
[]
[]
[]
[]
[]
[]
[]
[]
[]
[null,null,null,null,null,null,null,null,null,"www.ree.es"]

{"sheet":"Maximos mensuales peninsular","index":1,"n_rows":28,"n_cols":15,"rows_kept":28,"cut":false,"hidden":false,"merged":[]}
[null,null,null,null,null,null,null,null,null,null,null,null,null,null,29]
[]
[]
[null,null,null,null,null,null,null,null,null,null,null,null,"Sistema eléctrico"]
[null,null,null,null,null,null,null,null,null,null,null,null,"Horizonte temporal"]
[null,null,null,null,null,null,null,null,null,null,null,null,"Periodo"]
[]
[null,null,"Ene.","Feb.","Mar.","Abr.","May.","Jun.","Jul.","Ago.","Sep.","Oct.","Nov.","Dic.",{"$f":"OFFSET(Año!$B$2,($O$1-1),0)","v":2018}]
[]
[null,"Potencia instantánea (MW)",{"$f":"OFFSET(Maximos!C3,0,($O$1-1)*12)","v":39770},{"$f":"OFFSET(Maximos!D3,0,($O$1-1)*12)","v":40947},{"$f":"OFFSET(Maximos!E3,0,($O$1-1)*12)","v":38946},{"$f":"OFFSET(Maximos!F3,0,($O$1-1)*12)","v":36137},{"$f":"OFFSET(Maximos!G3,0,($O$1-1)*12)","v":32975},{"$f":"OFFSET(Maximos!H3,0,($O$1-1)*12)","v":37045},{"$f":"OFFSET(Maximos!I3,0,($O$1-1)*12)","v":37967},{"$f":"OFFSET(Maximos!J3,0,($O$1-1)*12)","v":"-"},{"$f":"OFFSET(Maximos!K3,0,($O$1-1)*12)","v":"-"},{"$f":"OFFSET(Maximos!L3,0,($O$1-1)*12)","v":"-"},{"$f":"OFFSET(Maximos!M3,0,($O$1-1)*12)","v":"-"},{"$f":"OFFSET(Maximos!N3,0,($O$1-1)*12)","v":"-"},{"$f":"IF(SUM(C10:N10)=0,\"-\",MAX(C10:N10))","v":40947}]
[null,"Día",{"$f":"OFFSET(Maximos!C4,0,($O$1-1)*12)","v":9},{"$f":"OFFSET(Maximos!D4,0,($O$1-1)*12)","v":8},{"$f":"OFFSET(Maximos!E4,0,($O$1-1)*12)","v":20},{"$f":"OFFSET(Maximos!F4,0,($O$1-1)*12)","v":11},{"$f":"OFFSET(Maximos!G4,0,($O$1-1)*12)","v":23},{"$f":"OFFSET(Maximos!H4,0,($O$1-1)*12)","v":27},{"$f":"OFFSET(Maximos!I4,0,($O$1-1)*12)","v":9},{"$f":"OFFSET(Maximos!J4,0,($O$1-1)*12)","v":"-"},{"$f":"OFFSET(Maximos!K4,0,($O$1-1)*12)","v":"-"},{"$f":"OFFSET(Maximos!L4,0,($O$1-1)*12)","v":"-"},{"$f":"OFFSET(Maximos!M4,0,($O$1-1)*12)","v":"-"},{"$f":"OFFSET(Maximos!N4,0,($O$1-1)*12)","v":"-"},{"$f":"IF(SUM(C10:N10)=0,\"-\",HLOOKUP($O$10,C10:N13,2,0)&\" de \"&HLOOKUP($O$10,C10:N13,4,0))","v":"8 de febrero"}]
[null,"Hora",{"$f":"OFFSET(Maximos!C5,0,($O$1-1)*12)","v":"20:24"},{"$f":"OFFSET(Maximos!D5,0,($O$1-1)*12)","v":"20:24"},{"$f":"OFFSET(Maximos!E5,0,($O$1-1)*12)","v":"20:43"},{"$f":"OFFSET(Maximos!F5,0,($O$1-1)*12)","v":"10:11"},{"$f":"OFFSET(Maximos!G5,0,($O$1-1)*12)","v":"13:17"},{"$f":"OFFSET(Maximos!H5,0,($O$1-1)*12)","v":"13:43"},{"$f":"OFFSET(Maximos!I5,0,($O$1-1)*12)","v":"13:34"},{"$f":"OFFSET(Maximos!J5,0,($O$1-1)*12)","v":"-"},{"$f":"OFFSET(Maximos!K5,0,($O$1-1)*12)","v":"-"},{"$f":"OFFSET(Maximos!L5,0,($O$1-1)*12)","v":"-"},{"$f":"OFFSET(Maximos!M5,0,($O$1-1)*12)","v":"-"},{"$f":"OFFSET(Maximos!N5,0,($O$1-1)*12)","v":"-"},{"$f":"HLOOKUP($O$10,C10:N12,3,0)","v":"20:24"}]
[null,null,"enero","febrero","marzo","abril","mayo","junio","julio","agosto","septiembre","octubre","noviembre","diciembre"]
[]
[]
[null,null,"Ene.","Feb.","Mar.","Abr.","May.","Jun.","Jul.","Ago.","Sep.","Oct.","Nov.","Dic.",{"$f":"OFFSET(Año!$B$2,($O$1-1),0)","v":2018}]
[]
[null,"Demanda horaria (MWh)",{"$f":"OFFSET(Maximos!C7,0,($O$1-1)*12)","v":39478},{"$f":"OFFSET(Maximos!D7,0,($O$1-1)*12)","v":40693},{"$f":"OFFSET(Maximos!E7,0,($O$1-1)*12)","v":38575},{"$f":"OFFSET(Maximos!F7,0,($O$1-1)*12)","v":35849},{"$f":"OFFSET(Maximos!G7,0,($O$1-1)*12)","v":32598},{"$f":"OFFSET(Maximos!H7,0,($O$1-1)*12)","v":36815},{"$f":"OFFSET(Maximos!I7,0,($O$1-1)*12)","v":37839},{"$f":"OFFSET(Maximos!J7,0,($O$1-1)*12)","v":"-"},{"$f":"OFFSET(Maximos!K7,0,($O$1-1)*12)","v":"-"},{"$f":"OFFSET(Maximos!L7,0,($O$1-1)*12)","v":"-"},{"$f":"OFFSET(Maximos!M7,0,($O$1-1)*12)","v":"-"},{"$f":"OFFSET(Maximos!N7,0,($O$1-1)*12)","v":"-"},{"$f":"MAX(C18:N18)","v":40693}]
[null,"Día",{"$f":"OFFSET(Maximos!C8,0,($O$1-1)*12)","v":9},{"$f":"OFFSET(Maximos!D8,0,($O$1-1)*12)","v":8},{"$f":"OFFSET(Maximos!E8,0,($O$1-1)*12)","v":20},{"$f":"OFFSET(Maximos!F8,0,($O$1-1)*12)","v":11},{"$f":"OFFSET(Maximos!G8,0,($O$1-1)*12)","v":25},{"$f":"OFFSET(Maximos!H8,0,($O$1-1)*12)","v":27},{"$f":"OFFSET(Maximos!I8,0,($O$1-1)*12)","v":9},{"$f":"OFFSET(Maximos!J8,0,($O$1-1)*12)","v":"-"},{"$f":"OFFSET(Maximos!K8,0,($O$1-1)*12)","v":"-"},{"$f":"OFFSET(Maximos!L8,0,($O$1-1)*12)","v":"-"},{"$f":"OFFSET(Maximos!M8,0,($O$1-1)*12)","v":"-"},{"$f":"OFFSET(Maximos!N8,0,($O$1-1)*12)","v":"-"},{"$f":"HLOOKUP($O$18,C18:N21,2,0)&\" de \"&HLOOKUP($O$18,C18:N21,4,0)","v":"8 de febrero"}]
[null,"Hora",{"$f":"OFFSET(Maximos!C9,0,($O$1-1)*12)","v":21},{"$f":"OFFSET(Maximos!D9,0,($O$1-1)*12)","v":21},{"$f":"OFFSET(Maximos!E9,0,($O$1-1)*12)","v":21},{"$f":"OFFSET(Maximos!F9,0,($O$1-1)*12)","v":11},{"$f":"OFFSET(Maximos!G9,0,($O$1-1)*12)","v":13},{"$f":"OFFSET(Maximos!H9,0,($O$1-1)*12)","v":14},{"$f":"OFFSET(Maximos!I9,0,($O$1-1)*12)","v":14},{"$f":"OFFSET(Maximos!J9,0,($O$1-1)*12)","v":"-"},{"$f":"OFFSET(Maximos!K9,0,($O$1-1)*12)","v":"-"},{"$f":"OFFSET(Maximos!L9,0,($O$1-1)*12)","v":"-"},{"$f":"OFFSET(Maximos!M9,0,($O$1-1)*12)","v":"-"},{"$f":"OFFSET(Maximos!N9,0,($O$1-1)*12)","v":"-"},{"$f":"HLOOKUP($O$18,C18:N20,3,0)","v":21}]
[null,null,"enero","febrero","marzo","abril","mayo","junio","julio","agosto","septiembre","octubre","noviembre","diciembre"]
[]
[]
[null,null,"Ene.","Feb.","Mar.","Abr.","May.","Jun.","Jul.","Ago.","Sep.","Oct.","Nov.","Dic.",{"$f":"OFFSET(Año!$B$2,($O$1-1),0)","v":2018}]
[]
[null,"Demanda diaria (GWh)",{"$f":"OFFSET(Maximos!C11,0,($O$1-1)*12)","v":811.83923199999992},{"$f":"OFFSET(Maximos!D11,0,($O$1-1)*12)","v":831.51018199999999},{"$f":"OFFSET(Maximos!E11,0,($O$1-1)*12)","v":791.22666200000003},{"$f":"OFFSET(Maximos!F11,0,($O$1-1)*12)","v":755.05667000000005},{"$f":"OFFSET(Maximos!G11,0,($O$1-1)*12)","v":691.19181200000003},{"$f":"OFFSET(Maximos!H11,0,($O$1-1)*12)","v":754.19826},{"$f":"OFFSET(Maximos!I11,0,($O$1-1)*12)","v":770.9846},{"$f":"OFFSET(Maximos!J11,0,($O$1-1)*12)","v":"-"},{"$f":"OFFSET(Maximos!K11,0,($O$1-1)*12)","v":"-"},{"$f":"OFFSET(Maximos!L11,0,($O$1-1)*12)","v":"-"},{"$f":"OFFSET(Maximos!M11,0,($O$1-1)*12)","v":"-"},{"$f":"OFFSET(Maximos!N11,0,($O$1-1)*12)","v":"-"},{"$f":"MAX(C26:N26)","v":831.51018199999999}]
[null,"Día",{"$f":"OFFSET(Maximos!C12,0,($O$1-1)*12)","v":9},{"$f":"OFFSET(Maximos!D12,0,($O$1-1)*12)","v":8},{"$f":"OFFSET(Maximos!E12,0,($O$1-1)*12)","v":20},{"$f":"OFFSET(Maximos!F12,0,($O$1-1)*12)","v":11},{"$f":"OFFSET(Maximos!G12,0,($O$1-1)*12)","v":4},{"$f":"OFFSET(Maximos!H12,0,($O$1-1)*12)","v":26},{"$f":"OFFSET(Maximos!I12,0,($O$1-1)*12)","v":11},{"$f":"OFFSET(Maximos!J12,0,($O$1-1)*12)","v":"-"},{"$f":"OFFSET(Maximos!K12,0,($O$1-1)*12)","v":"-"},{"$f":"OFFSET(Maximos!L12,0,($O$1-1)*12)","v":"-"},{"$f":"OFFSET(Maximos!M12,0,($O$1-1)*12)","v":"-"},{"$f":"OFFSET(Maximos!N12,0,($O$1-1)*12)","v":"-"},{"$f":"HLOOKUP($O$26,C26:N28,2,0)&\" de \"&HLOOKUP($O$26,C26:N28,3,0)","v":"8 de febrero"}]
[null,null,"enero","febrero","marzo","abril","mayo","junio","julio","agosto","septiembre","octubre","noviembre","diciembre"]

{"sheet":"Maximos anuales peninsular","index":2,"n_rows":33,"n_cols":12,"rows_kept":33,"cut":false,"hidden":false,"merged":[[32,1,32,11],[33,1,33,11],[16,2,16,3],[16,4,16,5],[16,6,16,7],[16,8,16,9],[16,10,16,11],[26,2,26,3],[26,4,26,5],[26,6,26,7],[26,8,26,9],[26,10,26,11],[7,10,7,11],[7,2,7,3],[7,4,7,5],[7,6,7,7],[7,8,7,9]]}
[null,null,null,null,null,null,null,null,null,null,null,6]
[]
[]
[null,null,null,null,null,null,null,null,null,null,"Sistema eléctrico"]
[null,null,null,null,null,null,null,null,null,null,"Horizonte temporal"]
[null,null,null,null,null,null,null,null,null,null,"Periodo"]
[]
[null,null,{"$f":"OFFSET(Maximos!C46,0,($L$1-1)*10)","v":"2015"},{"$f":"OFFSET(#REF!,0,($L$1-1)*12)","v":{"$error":"#REF!"}},{"$f":"OFFSET(Maximos!E46,0,($L$1-1)*10)","v":"2016"},{"$f":"OFFSET(#REF!,0,($L$1-1)*12)","v":{"$error":"#REF!"}},{"$f":"OFFSET(Maximos!G46,0,($L$1-1)*10)","v":"2017"},{"$f":"OFFSET(#REF!,0,($L$1-1)*12)","v":{"$error":"#REF!"}},{"$f":"OFFSET(Maximos!I46,0,($L$1-1)*10)","v":"2018"},{"$f":"OFFSET(#REF!,0,($L$1-1)*12)","v":{"$error":"#REF!"}},{"$f":"OFFSET(Maximos!K46,0,($L$1-1)*10)","v":"2019"}]
[]
[null,null,"Invierno","Verano","Invierno","Verano","Invierno","Verano","Invierno","Verano","Invierno","Verano"]
[null,"Potencia instantánea (MW)",{"$f":"OFFSET(Maximos!C48,0,($L$1-1)*10)","v":40726},{"$f":"OFFSET(Maximos!D48,0,($L$1-1)*10)","v":40192},{"$f":"OFFSET(Maximos!E48,0,($L$1-1)*10)","v":38464},{"$f":"OFFSET(Maximos!F48,0,($L$1-1)*10)","v":40489},{"$f":"OFFSET(Maximos!G48,0,($L$1-1)*10)","v":41381},{"$f":"OFFSET(Maximos!H48,0,($L$1-1)*10)","v":39536},{"$f":"OFFSET(Maximos!I48,0,($L$1-1)*10)","v":40947},{"$f":"OFFSET(Maximos!J48,0,($L$1-1)*10)","v":37967},{"$f":"OFFSET(Maximos!K48,0,($L$1-1)*10)","v":"-"},{"$f":"OFFSET(Maximos!L48,0,($L$1-1)*10)","v":"-"}]
[null,"Día",{"$f":"OFFSET(Maximos!C49,0,($L$1-1)*10)","v":"4 de febrero"},{"$f":"OFFSET(Maximos!D49,0,($L$1-1)*10)","v":"21 de julio"},{"$f":"OFFSET(Maximos!E49,0,($L$1-1)*10)","v":"17 de febrero"},{"$f":"OFFSET(Maximos!F49,0,($L$1-1)*10)","v":"6 de septiembre"},{"$f":"OFFSET(Maximos!G49,0,($L$1-1)*10)","v":"18 de enero"},{"$f":"OFFSET(Maximos!H49,0,($L$1-1)*10)","v":"13 de julio"},{"$f":"OFFSET(Maximos!I49,0,($L$1-1)*10)","v":"8 de febrero"},{"$f":"OFFSET(Maximos!J49,0,($L$1-1)*10)","v":"9 de julio"},{"$f":"OFFSET(Maximos!K49,0,($L$1-1)*10)","v":"-"},{"$f":"OFFSET(Maximos!L49,0,($L$1-1)*10)","v":"-"}]
[null,"Hora",{"$f":"OFFSET(Maximos!C50,0,($L$1-1)*10)","v":"19:56:00"},{"$f":"OFFSET(Maximos!D50,0,($L$1-1)*10)","v":"13:33:00"},{"$f":"OFFSET(Maximos!E50,0,($L$1-1)*10)","v":"20:37:00"},{"$f":"OFFSET(Maximos!F50,0,($L$1-1)*10)","v":"13:32"},{"$f":"OFFSET(Maximos!G50,0,($L$1-1)*10)","v":"19:50"},{"$f":"OFFSET(Maximos!H50,0,($L$1-1)*10)","v":"13:36"},{"$f":"OFFSET(Maximos!I50,0,($L$1-1)*10)","v":"20:24"},{"$f":"OFFSET(Maximos!J50,0,($L$1-1)*10)","v":"13:34"},{"$f":"OFFSET(Maximos!K50,0,($L$1-1)*10)","v":"-"},{"$f":"OFFSET(Maximos!L50,0,($L$1-1)*10)","v":"-"}]
[]
[]
[]
[null,null,{"$f":"OFFSET(Maximos!C51,0,($L$1-1)*10)","v":"2015"},{"$f":"OFFSET(Maximos!D48,0,($L$1-1)*12)","v":0},{"$f":"OFFSET(Maximos!E51,0,($L$1-1)*10)","v":"2016"},{"$f":"OFFSET(Maximos!F48,0,($L$1-1)*12)","v":0},{"$f":"OFFSET(Maximos!G51,0,($L$1-1)*10)","v":"2017"},{"$f":"OFFSET(Maximos!H48,0,($L$1-1)*12)","v":0},{"$f":"OFFSET(Maximos!I51,0,($L$1-1)*10)","v":"2018"},{"$f":"OFFSET(Maximos!J48,0,($L$1-1)*12)","v":0},{"$f":"OFFSET(Maximos!K51,0,($L$1-1)*10)","v":"2019"},{"$f":"OFFSET(Maximos!L48,0,($L$1-1)*12)","v":0}]
[]
[null,null,"Invierno","Verano","Invierno","Verano","Invierno","Verano","Invierno","Verano","Invierno","Verano"]
[]
[null,"Demanda horaria (MWh)",{"$f":"OFFSET(Maximos!C53,0,($L$1-1)*10)","v":40323.769999999997},{"$f":"OFFSET(Maximos!D53,0,($L$1-1)*10)","v":39927.599999999999},{"$f":"OFFSET(Maximos!E53,0,($L$1-1)*10)","v":38239},{"$f":"OFFSET(Maximos!F53,0,($L$1-1)*10)","v":40144},{"$f":"OFFSET(Maximos!G53,0,($L$1-1)*10)","v":41015},{"$f":"OFFSET(Maximos!H53,0,($L$1-1)*10)","v":39286},{"$f":"OFFSET(Maximos!I53,0,($L$1-1)*10)","v":40693},{"$f":"OFFSET(Maximos!J53,0,($L$1-1)*10)","v":37839},{"$f":"OFFSET(Maximos!K53,0,($L$1-1)*10)","v":"-"},{"$f":"OFFSET(Maximos!L53,0,($L$1-1)*10)","v":"-"}]
[null,"Día",{"$f":"OFFSET(Maximos!C54,0,($L$1-1)*10)","v":"4 de febrero"},{"$f":"OFFSET(Maximos!D54,0,($L$1-1)*10)","v":"21 de julio"},{"$f":"OFFSET(Maximos!E54,0,($L$1-1)*10)","v":"17 de febrero"},{"$f":"OFFSET(Maximos!F54,0,($L$1-1)*10)","v":"6 de septiembre"},{"$f":"OFFSET(Maximos!G54,0,($L$1-1)*10)","v":"18 de enero"},{"$f":"OFFSET(Maximos!H54,0,($L$1-1)*10)","v":"13 de julio"},{"$f":"OFFSET(Maximos!I54,0,($L$1-1)*10)","v":"8 de febrero"},{"$f":"OFFSET(Maximos!J54,0,($L$1-1)*10)","v":"9 de julio"},{"$f":"OFFSET(Maximos!K54,0,($L$1-1)*10)","v":"-"},{"$f":"OFFSET(Maximos!L54,0,($L$1-1)*10)","v":"-"}]
[null,"Hora",{"$f":"OFFSET(Maximos!C55,0,($L$1-1)*10)","v":21},{"$f":"OFFSET(Maximos!D55,0,($L$1-1)*10)","v":14},{"$f":"OFFSET(Maximos!E55,0,($L$1-1)*10)","v":21},{"$f":"OFFSET(Maximos!F55,0,($L$1-1)*10)","v":14},{"$f":"OFFSET(Maximos!G55,0,($L$1-1)*10)","v":21},{"$f":"OFFSET(Maximos!H55,0,($L$1-1)*10)","v":14},{"$f":"OFFSET(Maximos!I55,0,($L$1-1)*10)","v":21},{"$f":"OFFSET(Maximos!J55,0,($L$1-1)*10)","v":14},{"$f":"OFFSET(Maximos!K55,0,($L$1-1)*10)","v":"-"},{"$f":"OFFSET(Maximos!L55,0,($L$1-1)*10)","v":"-"}]
[]
[]
[]
[null,null,{"$f":"OFFSET(Maximos!C56,0,($L$1-1)*10)","v":"2015"},{"$f":"OFFSET(#REF!,0,($L$1-1)*12)","v":{"$error":"#REF!"}},{"$f":"OFFSET(Maximos!E56,0,($L$1-1)*10)","v":"2016"},{"$f":"OFFSET(#REF!,0,($L$1-1)*12)","v":{"$error":"#REF!"}},{"$f":"OFFSET(Maximos!G56,0,($L$1-1)*10)","v":"2017"},{"$f":"OFFSET(#REF!,0,($L$1-1)*12)","v":{"$error":"#REF!"}},{"$f":"OFFSET(Maximos!I56,0,($L$1-1)*10)","v":"2018"},{"$f":"OFFSET(#REF!,0,($L$1-1)*12)","v":{"$error":"#REF!"}},{"$f":"OFFSET(Maximos!K56,0,($L$1-1)*10)","v":"2019"},{"$f":"OFFSET(#REF!,0,($L$1-1)*12)","v":{"$error":"#REF!"}}]
[]
[null,null,"Invierno","Verano","Invierno","Verano","Invierno","Verano","Invierno","Verano","Invierno","Verano"]
[null,"Demanda diaria (GWh)",{"$f":"OFFSET(Maximos!C58,0,($L$1-1)*10)","v":824.01817599999993},{"$f":"OFFSET(Maximos!D58,0,($L$1-1)*10)","v":813.98779100000002},{"$f":"OFFSET(Maximos!E58,0,($L$1-1)*10)","v":782.05723},{"$f":"OFFSET(Maximos!F58,0,($L$1-1)*10)","v":816.945515},{"$f":"OFFSET(Maximos!G58,0,($L$1-1)*10)","v":837.34863300000006},{"$f":"OFFSET(Maximos!H58,0,($L$1-1)*10)","v":799.86615099999995},{"$f":"OFFSET(Maximos!I58,0,($L$1-1)*10)","v":831.51018199999999},{"$f":"OFFSET(Maximos!J58,0,($L$1-1)*10)","v":770.9846},{"$f":"OFFSET(Maximos!K58,0,($L$1-1)*10)","v":"-"},{"$f":"OFFSET(Maximos!L58,0,($L$1-1)*10)","v":"-"}]
[null,"Día",{"$f":"OFFSET(Maximos!C59,0,($L$1-1)*10)","v":"4 de febrero"},{"$f":"OFFSET(Maximos!D59,0,($L$1-1)*10)","v":"21 de julio"},{"$f":"OFFSET(Maximos!E59,0,($L$1-1)*10)","v":"18 de febrero"},{"$f":"OFFSET(Maximos!F59,0,($L$1-1)*10)","v":"6 de septiembre"},{"$f":"OFFSET(Maximos!G59,0,($L$1-1)*10)","v":"18 de enero"},{"$f":"OFFSET(Maximos!H59,0,($L$1-1)*10)","v":"14 de julio"},{"$f":"OFFSET(Maximos!I59,0,($L$1-1)*10)","v":"8 de febrero"},{"$f":"OFFSET(Maximos!J59,0,($L$1-1)*10)","v":"11 de julio"},{"$f":"OFFSET(Maximos!K59,0,($L$1-1)*10)","v":"-"},{"$f":"OFFSET(Maximos!L59,0,($L$1-1)*10)","v":"-"}]
[]
[null,"El periodo de invierno comprende los meses de enero a mayo y de octubre a diciembre. El periodo de verano comprende los meses de junio a septiembre.","Verano (junio - septiembre)"]

{"sheet":"Maximos mensuales Baleares","index":3,"n_rows":20,"n_cols":15,"rows_kept":20,"cut":false,"hidden":false,"merged":[]}
[null,null,null,null,null,null,null,null,null,null,null,null,null,null,13]
[]
[]
[null,null,null,null,null,null,null,null,null,null,null,null,"Sistema eléctrico"]
[null,null,null,null,null,null,null,null,null,null,null,null,"Horizonte temporal"]
[null,null,null,null,null,null,null,null,null,null,null,null,"Periodo"]
[]
[null,null,"Ene.","Feb.","Mar.","Abr.","May.","Jun.","Jul.","Ago.","Sep.","Oct.","Nov.","Dic.",{"$f":"OFFSET(Año!$B$18,($O$1-1),0)","v":2018}]
[]
[null,"Demanda horaria (MWh)",{"$f":"OFFSET(Maximos!C15,0,($O$1-1)*12)","v":868},{"$f":"OFFSET(Maximos!D15,0,($O$1-1)*12)","v":1059},{"$f":"OFFSET(Maximos!E15,0,($O$1-1)*12)","v":967},{"$f":"OFFSET(Maximos!F15,0,($O$1-1)*12)","v":849},{"$f":"OFFSET(Maximos!G15,0,($O$1-1)*12)","v":837},{"$f":"OFFSET(Maximos!H15,0,($O$1-1)*12)","v":1023},{"$f":"OFFSET(Maximos!I15,0,($O$1-1)*12)","v":1208},{"$f":"OFFSET(Maximos!J15,0,($O$1-1)*12)","v":"-"},{"$f":"OFFSET(Maximos!K15,0,($O$1-1)*12)","v":"-"},{"$f":"OFFSET(Maximos!L15,0,($O$1-1)*12)","v":"-"},{"$f":"OFFSET(Maximos!M15,0,($O$1-1)*12)","v":"-"},{"$f":"OFFSET(Maximos!N15,0,($O$1-1)*12)","v":"-"},{"$f":"MAX(C10:N10)","v":1208}]
[null,"Día",{"$f":"OFFSET(Maximos!C16,0,($O$1-1)*12)","v":15},{"$f":"OFFSET(Maximos!D16,0,($O$1-1)*12)","v":27},{"$f":"OFFSET(Maximos!E16,0,($O$1-1)*12)","v":21},{"$f":"OFFSET(Maximos!F16,0,($O$1-1)*12)","v":11},{"$f":"OFFSET(Maximos!G16,0,($O$1-1)*12)","v":31},{"$f":"OFFSET(Maximos!H16,0,($O$1-1)*12)","v":29},{"$f":"OFFSET(Maximos!I16,0,($O$1-1)*12)","v":31},{"$f":"OFFSET(Maximos!J16,0,($O$1-1)*12)","v":"-"},{"$f":"OFFSET(Maximos!K16,0,($O$1-1)*12)","v":"-"},{"$f":"OFFSET(Maximos!L16,0,($O$1-1)*12)","v":"-"},{"$f":"OFFSET(Maximos!M16,0,($O$1-1)*12)","v":"-"},{"$f":"OFFSET(Maximos!N16,0,($O$1-1)*12)","v":"-"},{"$f":"HLOOKUP($O$10,C10:N13,2,0)&\" de \"&HLOOKUP($O$10,C10:N13,4,0)","v":"31 de julio"}]
[null,"Hora",{"$f":"OFFSET(Maximos!C17,0,($O$1-1)*12)","v":21},{"$f":"OFFSET(Maximos!D17,0,($O$1-1)*12)","v":21},{"$f":"OFFSET(Maximos!E17,0,($O$1-1)*12)","v":21},{"$f":"OFFSET(Maximos!F17,0,($O$1-1)*12)","v":21},{"$f":"OFFSET(Maximos!G17,0,($O$1-1)*12)","v":22},{"$f":"OFFSET(Maximos!H17,0,($O$1-1)*12)","v":20},{"$f":"OFFSET(Maximos!I17,0,($O$1-1)*12)","v":14},{"$f":"OFFSET(Maximos!J17,0,($O$1-1)*12)","v":"-"},{"$f":"OFFSET(Maximos!K17,0,($O$1-1)*12)","v":"-"},{"$f":"OFFSET(Maximos!L17,0,($O$1-1)*12)","v":"-"},{"$f":"OFFSET(Maximos!M17,0,($O$1-1)*12)","v":"-"},{"$f":"OFFSET(Maximos!N17,0,($O$1-1)*12)","v":"-"},{"$f":"HLOOKUP($O$10,C10:N12,3,0)","v":14}]
[null,null,"enero","febrero","marzo","abril","mayo","junio","julio","agosto","septiembre","octubre","noviembre","diciembre"]
[]
[]
[null,null,"Ene.","Feb.","Mar.","Abr.","May.","Jun.","Jul.","Ago.","Sep.","Oct.","Nov.","Dic.",{"$f":"OFFSET(Año!$B$18,($O$1-1),0)","v":2018}]
[]
[null,"Demanda diaria (MWh)",{"$f":"OFFSET(Maximos!C19,0,($O$1-1)*12)","v":17346.192999999999},{"$f":"OFFSET(Maximos!D19,0,($O$1-1)*12)","v":20952.924999999999},{"$f":"OFFSET(Maximos!E19,0,($O$1-1)*12)","v":21573.205999999998},{"$f":"OFFSET(Maximos!F19,0,($O$1-1)*12)","v":15620.906000000001},{"$f":"OFFSET(Maximos!G19,0,($O$1-1)*12)","v":18548.964},{"$f":"OFFSET(Maximos!H19,0,($O$1-1)*12)","v":20366.080999999998},{"$f":"OFFSET(Maximos!I19,0,($O$1-1)*12)","v":27853.466},{"$f":"OFFSET(Maximos!J19,0,($O$1-1)*12)","v":"-"},{"$f":"OFFSET(Maximos!K19,0,($O$1-1)*12)","v":"-"},{"$f":"OFFSET(Maximos!L19,0,($O$1-1)*12)","v":"-"},{"$f":"OFFSET(Maximos!M19,0,($O$1-1)*12)","v":"-"},{"$f":"OFFSET(Maximos!N19,0,($O$1-1)*12)","v":"-"},{"$f":"MAX(C18:N18)","v":27853.466}]
[null,"Día",{"$f":"OFFSET(Maximos!C20,0,($O$1-1)*12)","v":12},{"$f":"OFFSET(Maximos!D20,0,($O$1-1)*12)","v":27},{"$f":"OFFSET(Maximos!E20,0,($O$1-1)*12)","v":20},{"$f":"OFFSET(Maximos!F20,0,($O$1-1)*12)","v":13},{"$f":"OFFSET(Maximos!G20,0,($O$1-1)*12)","v":29},{"$f":"OFFSET(Maximos!H20,0,($O$1-1)*12)","v":29},{"$f":"OFFSET(Maximos!I20,0,($O$1-1)*12)","v":20},{"$f":"OFFSET(Maximos!J20,0,($O$1-1)*12)","v":"-"},{"$f":"OFFSET(Maximos!K20,0,($O$1-1)*12)","v":"-"},{"$f":"OFFSET(Maximos!L20,0,($O$1-1)*12)","v":"-"},{"$f":"OFFSET(Maximos!M20,0,($O$1-1)*12)","v":"-"},{"$f":"OFFSET(Maximos!N20,0,($O$1-1)*12)","v":"-"},{"$f":"HLOOKUP($O$18,C18:N20,2,0)&\" de \"&HLOOKUP($O$18,C18:N20,3,0)","v":"20 de julio"}]
[null,null,"enero","febrero","marzo","abril","mayo","junio","julio","agosto","septiembre","octubre","noviembre","diciembre"]

{"sheet":"Maximos anuales Baleares","index":4,"n_rows":24,"n_cols":12,"rows_kept":24,"cut":false,"hidden":false,"merged":[[23,1,23,11],[7,2,7,3],[7,4,7,5],[7,6,7,7],[7,8,7,9],[7,10,7,11],[17,2,17,3],[17,4,17,5],[17,6,17,7],[17,8,17,9],[17,10,17,11]]}
[null,null,null,null,null,null,null,null,null,null,null,3]
[]
[]
[null,null,null,null,null,null,null,null,null,null,"Sistema eléctrico"]
[null,null,null,null,null,null,null,null,null,null,"Horizonte temporal"]
[null,null,null,null,null,null,null,null,null,null,"Periodo"]
[]
[null,null,{"$f":"OFFSET(Maximos!C61,0,($L$1-1)*10)","v":"2016"},{"$f":"OFFSET(Maximos!D48,0,($L$1-1)*12)","v":"-"},{"$f":"OFFSET(Maximos!E61,0,($L$1-1)*10)","v":"2017"},{"$f":"OFFSET(Maximos!F48,0,($L$1-1)*12)","v":"-"},{"$f":"OFFSET(Maximos!G61,0,($L$1-1)*10)","v":"2018"},{"$f":"OFFSET(Maximos!H48,0,($L$1-1)*12)","v":"-"},{"$f":"OFFSET(Maximos!I61,0,($L$1-1)*10)","v":"2019"},{"$f":"OFFSET(Maximos!J48,0,($L$1-1)*12)","v":"-"},{"$f":"OFFSET(Maximos!K61,0,($L$1-1)*10)","v":"2020"},{"$f":"OFFSET(Maximos!L48,0,($L$1-1)*12)","v":40778.867200000001}]
[]
[null,null,"Invierno","Verano","Invierno","Verano","Invierno","Verano","Invierno","Verano","Invierno","Verano"]
[]
[null,"Demanda horaria (MWh)",{"$f":"OFFSET(Maximos!C63,0,($L$1-1)*10)","v":931},{"$f":"OFFSET(Maximos!D63,0,($L$1-1)*10)","v":1148},{"$f":"OFFSET(Maximos!E63,0,($L$1-1)*10)","v":973},{"$f":"OFFSET(Maximos!F63,0,($L$1-1)*10)","v":1354},{"$f":"OFFSET(Maximos!G63,0,($L$1-1)*10)","v":1059},{"$f":"OFFSET(Maximos!H63,0,($L$1-1)*10)","v":1208},{"$f":"OFFSET(Maximos!I63,0,($L$1-1)*10)","v":"-"},{"$f":"OFFSET(Maximos!J63,0,($L$1-1)*10)","v":"-"},{"$f":"OFFSET(Maximos!K63,0,($L$1-1)*10)","v":"-"},{"$f":"OFFSET(Maximos!L63,0,($L$1-1)*10)","v":"-"}]
[null,"Día",{"$f":"OFFSET(Maximos!C64,0,($L$1-1)*10)","v":"4 de octubre"},{"$f":"OFFSET(Maximos!D64,0,($L$1-1)*10)","v":"4 de agosto"},{"$f":"OFFSET(Maximos!E64,0,($L$1-1)*10)","v":"17 de enero"},{"$f":"OFFSET(Maximos!F64,0,($L$1-1)*10)","v":"3 de agosto"},{"$f":"OFFSET(Maximos!G64,0,($L$1-1)*10)","v":"27 de febrero"},{"$f":"OFFSET(Maximos!H64,0,($L$1-1)*10)","v":"31 de julio"},{"$f":"OFFSET(Maximos!I64,0,($L$1-1)*10)","v":"-"},{"$f":"OFFSET(Maximos!J64,0,($L$1-1)*10)","v":"-"},{"$f":"OFFSET(Maximos!K64,0,($L$1-1)*10)","v":"-"},{"$f":"OFFSET(Maximos!L64,0,($L$1-1)*10)","v":"-"}]
[null,"Hora",{"$f":"OFFSET(Maximos!C65,0,($L$1-1)*10)","v":21},{"$f":"OFFSET(Maximos!D65,0,($L$1-1)*10)","v":22},{"$f":"OFFSET(Maximos!E65,0,($L$1-1)*10)","v":21},{"$f":"OFFSET(Maximos!F65,0,($L$1-1)*10)","v":20},{"$f":"OFFSET(Maximos!G65,0,($L$1-1)*10)","v":21},{"$f":"OFFSET(Maximos!H65,0,($L$1-1)*10)","v":14},{"$f":"OFFSET(Maximos!I65,0,($L$1-1)*10)","v":"-"},{"$f":"OFFSET(Maximos!J65,0,($L$1-1)*10)","v":"-"},{"$f":"OFFSET(Maximos!K65,0,($L$1-1)*10)","v":"-"},{"$f":"OFFSET(Maximos!L65,0,($L$1-1)*10)","v":"-"}]
[]
[]
[]
[null,null,{"$f":"OFFSET(Maximos!C66,0,($L$1-1)*10)","v":"2016"},{"$f":"OFFSET(#REF!,0,($L$1-1)*12)","v":{"$error":"#REF!"}},{"$f":"OFFSET(Maximos!E66,0,($L$1-1)*10)","v":"2017"},{"$f":"OFFSET(#REF!,0,($L$1-1)*12)","v":{"$error":"#REF!"}},{"$f":"OFFSET(Maximos!G66,0,($L$1-1)*10)","v":"2018"},{"$f":"OFFSET(#REF!,0,($L$1-1)*12)","v":{"$error":"#REF!"}},{"$f":"OFFSET(Maximos!I66,0,($L$1-1)*10)","v":"2019"},{"$f":"OFFSET(#REF!,0,($L$1-1)*12)","v":{"$error":"#REF!"}},{"$f":"OFFSET(Maximos!K66,0,($L$1-1)*10)","v":"2020"},{"$f":"OFFSET(#REF!,0,($L$1-1)*12)","v":{"$error":"#REF!"}}]
[]
[null,null,"Invierno","Verano","Invierno","Verano","Invierno","Verano","Invierno","Verano","Invierno","Verano"]
[null,"Demanda diaria (MWh)",{"$f":"OFFSET(Maximos!C68,0,($L$1-1)*10)","v":17453.96},{"$f":"OFFSET(Maximos!D68,0,($L$1-1)*10)","v":23169.428},{"$f":"OFFSET(Maximos!E68,0,($L$1-1)*10)","v":17757.977999999999},{"$f":"OFFSET(Maximos!F68,0,($L$1-1)*10)","v":27395.807000000001},{"$f":"OFFSET(Maximos!G68,0,($L$1-1)*10)","v":21573.205999999998},{"$f":"OFFSET(Maximos!H68,0,($L$1-1)*10)","v":27853.466},{"$f":"OFFSET(Maximos!I68,0,($L$1-1)*10)","v":"-"},{"$f":"OFFSET(Maximos!J68,0,($L$1-1)*10)","v":"-"},{"$f":"OFFSET(Maximos!K68,0,($L$1-1)*10)","v":"-"},{"$f":"OFFSET(Maximos!L68,0,($L$1-1)*10)","v":"-"}]
[null,"Día",{"$f":"OFFSET(Maximos!C69,0,($L$1-1)*10)","v":"5 de octubre"},{"$f":"OFFSET(Maximos!D69,0,($L$1-1)*10)","v":"4 de agosto"},{"$f":"OFFSET(Maximos!E69,0,($L$1-1)*10)","v":"18 de enero"},{"$f":"OFFSET(Maximos!F69,0,($L$1-1)*10)","v":"3 de agosto"},{"$f":"OFFSET(Maximos!G69,0,($L$1-1)*10)","v":"20 de marzo"},{"$f":"OFFSET(Maximos!H69,0,($L$1-1)*10)","v":"20 de julio"},{"$f":"OFFSET(Maximos!I69,0,($L$1-1)*10)","v":"-"},{"$f":"OFFSET(Maximos!J69,0,($L$1-1)*10)","v":"-"},{"$f":"OFFSET(Maximos!K69,0,($L$1-1)*10)","v":"-"},{"$f":"OFFSET(Maximos!L69,0,($L$1-1)*10)","v":"-"}]
[]
[null,"El periodo de invierno comprende los meses de enero a mayo y de octubre a diciembre. El periodo de verano comprende los meses de junio a septiembre.","Verano (junio - septiembre)"]

{"sheet":"Maximos mensuales Canarias","index":5,"n_rows":20,"n_cols":15,"rows_kept":20,"cut":false,"hidden":false,"merged":[]}
[null,null,null,null,null,null,null,null,null,null,null,null,null,null,13]
[]
[]
[null,null,null,null,null,null,null,null,null,null,null,null,"Sistema eléctrico"]
[null,null,null,null,null,null,null,null,null,null,null,null,"Horizonte temporal"]
[null,null,null,null,null,null,null,null,null,null,null,null,"Periodo"]
[]
[null,null,"Ene.","Feb.","Mar.","Abr.","May.","Jun.","Jul.","Ago.","Sep.","Oct.","Nov.","Dic.",{"$f":"OFFSET(Año!$B$18,($O$1-1),0)","v":2018}]
[]
[null,"Demanda horaria (MWh)",{"$f":"OFFSET(Maximos!C23,0,($O$1-1)*12)","v":1405},{"$f":"OFFSET(Maximos!D23,0,($O$1-1)*12)","v":1415},{"$f":"OFFSET(Maximos!E23,0,($O$1-1)*12)","v":1305},{"$f":"OFFSET(Maximos!F23,0,($O$1-1)*12)","v":1261},{"$f":"OFFSET(Maximos!G23,0,($O$1-1)*12)","v":1238},{"$f":"OFFSET(Maximos!H23,0,($O$1-1)*12)","v":1267},{"$f":"OFFSET(Maximos!I23,0,($O$1-1)*12)","v":1297},{"$f":"OFFSET(Maximos!J23,0,($O$1-1)*12)","v":"-"},{"$f":"OFFSET(Maximos!K23,0,($O$1-1)*12)","v":"-"},{"$f":"OFFSET(Maximos!L23,0,($O$1-1)*12)","v":"-"},{"$f":"OFFSET(Maximos!M23,0,($O$1-1)*12)","v":"-"},{"$f":"OFFSET(Maximos!N23,0,($O$1-1)*12)","v":"-"},{"$f":"MAX(C10:N10)","v":1415}]
[null,"Día",{"$f":"OFFSET(Maximos!C24,0,($O$1-1)*12)","v":31},{"$f":"OFFSET(Maximos!D24,0,($O$1-1)*12)","v":8},{"$f":"OFFSET(Maximos!E24,0,($O$1-1)*12)","v":15},{"$f":"OFFSET(Maximos!F24,0,($O$1-1)*12)","v":2},{"$f":"OFFSET(Maximos!G24,0,($O$1-1)*12)","v":15},{"$f":"OFFSET(Maximos!H24,0,($O$1-1)*12)","v":29},{"$f":"OFFSET(Maximos!I24,0,($O$1-1)*12)","v":10},{"$f":"OFFSET(Maximos!J24,0,($O$1-1)*12)","v":"-"},{"$f":"OFFSET(Maximos!K24,0,($O$1-1)*12)","v":"-"},{"$f":"OFFSET(Maximos!L24,0,($O$1-1)*12)","v":"-"},{"$f":"OFFSET(Maximos!M24,0,($O$1-1)*12)","v":"-"},{"$f":"OFFSET(Maximos!N24,0,($O$1-1)*12)","v":"-"},{"$f":"HLOOKUP($O$10,C10:N13,2,0)&\" de \"&HLOOKUP($O$10,C10:N13,4,0)","v":"8 de febrero"}]
[null,"Hora",{"$f":"OFFSET(Maximos!C25,0,($O$1-1)*12)","v":21},{"$f":"OFFSET(Maximos!D25,0,($O$1-1)*12)","v":21},{"$f":"OFFSET(Maximos!E25,0,($O$1-1)*12)","v":21},{"$f":"OFFSET(Maximos!F25,0,($O$1-1)*12)","v":22},{"$f":"OFFSET(Maximos!G25,0,($O$1-1)*12)","v":22},{"$f":"OFFSET(Maximos!H25,0,($O$1-1)*12)","v":14},{"$f":"OFFSET(Maximos!I25,0,($O$1-1)*12)","v":14},{"$f":"OFFSET(Maximos!J25,0,($O$1-1)*12)","v":"-"},{"$f":"OFFSET(Maximos!K25,0,($O$1-1)*12)","v":"-"},{"$f":"OFFSET(Maximos!L25,0,($O$1-1)*12)","v":"-"},{"$f":"OFFSET(Maximos!M25,0,($O$1-1)*12)","v":"-"},{"$f":"OFFSET(Maximos!N25,0,($O$1-1)*12)","v":"-"},{"$f":"HLOOKUP($O$10,C10:N12,3,0)","v":21}]
[null,null,"enero","febrero","marzo","abril","mayo","junio","julio","agosto","septiembre","octubre","noviembre","diciembre"]
[]
[]
[null,null,"Ene.","Feb.","Mar.","Abr.","May.","Jun.","Jul.","Ago.","Sep.","Oct.","Nov.","Dic.",{"$f":"OFFSET(Año!$B$18,($O$1-1),0)","v":2018}]
[]
[null,"Demanda diaria (MWh)",{"$f":"OFFSET(Maximos!C27,0,($O$1-1)*12)","v":26048.311000000002},{"$f":"OFFSET(Maximos!D27,0,($O$1-1)*12)","v":25806.94},{"$f":"OFFSET(Maximos!E27,0,($O$1-1)*12)","v":25165.017},{"$f":"OFFSET(Maximos!F27,0,($O$1-1)*12)","v":24726.361000000001},{"$f":"OFFSET(Maximos!G27,0,($O$1-1)*12)","v":24943.422999999999},{"$f":"OFFSET(Maximos!H27,0,($O$1-1)*12)","v":25722.257000000001},{"$f":"OFFSET(Maximos!I27,0,($O$1-1)*12)","v":25859.02},{"$f":"OFFSET(Maximos!J27,0,($O$1-1)*12)","v":"-"},{"$f":"OFFSET(Maximos!K27,0,($O$1-1)*12)","v":"-"},{"$f":"OFFSET(Maximos!L27,0,($O$1-1)*12)","v":"-"},{"$f":"OFFSET(Maximos!M27,0,($O$1-1)*12)","v":"-"},{"$f":"OFFSET(Maximos!N27,0,($O$1-1)*12)","v":"-"},{"$f":"MAX(C18:N18)","v":26048.311000000002}]
[null,"Día",{"$f":"OFFSET(Maximos!C28,0,($O$1-1)*12)","v":31},{"$f":"OFFSET(Maximos!D28,0,($O$1-1)*12)","v":1},{"$f":"OFFSET(Maximos!E28,0,($O$1-1)*12)","v":9},{"$f":"OFFSET(Maximos!F28,0,($O$1-1)*12)","v":12},{"$f":"OFFSET(Maximos!G28,0,($O$1-1)*12)","v":25},{"$f":"OFFSET(Maximos!H28,0,($O$1-1)*12)","v":30},{"$f":"OFFSET(Maximos!I28,0,($O$1-1)*12)","v":10},{"$f":"OFFSET(Maximos!J28,0,($O$1-1)*12)","v":"-"},{"$f":"OFFSET(Maximos!K28,0,($O$1-1)*12)","v":"-"},{"$f":"OFFSET(Maximos!L28,0,($O$1-1)*12)","v":"-"},{"$f":"OFFSET(Maximos!M28,0,($O$1-1)*12)","v":"-"},{"$f":"OFFSET(Maximos!N28,0,($O$1-1)*12)","v":"-"},{"$f":"HLOOKUP($O$18,C18:N20,2,0)&\" de \"&HLOOKUP($O$18,C18:N20,3,0)","v":"31 de enero"}]
[null,null,"enero","febrero","marzo","abril","mayo","junio","julio","agosto","septiembre","octubre","noviembre","diciembre"]

{"sheet":"Maximos anuales Canarias","index":6,"n_rows":24,"n_cols":12,"rows_kept":24,"cut":false,"hidden":false,"merged":[[23,1,23,11],[7,2,7,3],[7,4,7,5],[7,6,7,7],[7,8,7,9],[7,10,7,11],[17,2,17,3],[17,4,17,5],[17,6,17,7],[17,8,17,9],[17,10,17,11]]}
[null,null,null,null,null,null,null,null,null,null,null,3]
[]
[]
[null,null,null,null,null,null,null,null,null,null,"Sistema eléctrico"]
[null,null,null,null,null,null,null,null,null,null,"Horizonte temporal"]
[null,null,null,null,null,null,null,null,null,null,"Periodo"]
[]
[null,null,{"$f":"OFFSET(Maximos!C71,0,($L$1-1)*10)","v":"2016"},{"$f":"OFFSET(Maximos!D48,0,($L$1-1)*12)","v":"-"},{"$f":"OFFSET(Maximos!E71,0,($L$1-1)*10)","v":"2017"},{"$f":"OFFSET(Maximos!F48,0,($L$1-1)*12)","v":"-"},{"$f":"OFFSET(Maximos!G71,0,($L$1-1)*10)","v":"2018"},{"$f":"OFFSET(Maximos!H48,0,($L$1-1)*12)","v":"-"},{"$f":"OFFSET(Maximos!I71,0,($L$1-1)*10)","v":"2019"},{"$f":"OFFSET(Maximos!J48,0,($L$1-1)*12)","v":"-"},{"$f":"OFFSET(Maximos!K71,0,($L$1-1)*10)","v":"2020"},{"$f":"OFFSET(Maximos!L48,0,($L$1-1)*12)","v":40778.867200000001}]
[]
[null,null,"Invierno","Verano","Invierno","Verano","Invierno","Verano","Invierno","Verano","Invierno","Verano"]
[]
[null,"Demanda horaria (MWh)",{"$f":"OFFSET(Maximos!C73,0,($L$1-1)*10)","v":1389},{"$f":"OFFSET(Maximos!D73,0,($L$1-1)*10)","v":1384},{"$f":"OFFSET(Maximos!E73,0,($L$1-1)*10)","v":1408},{"$f":"OFFSET(Maximos!F73,0,($L$1-1)*10)","v":1381},{"$f":"OFFSET(Maximos!G73,0,($L$1-1)*10)","v":1415},{"$f":"OFFSET(Maximos!H73,0,($L$1-1)*10)","v":1297},{"$f":"OFFSET(Maximos!I73,0,($L$1-1)*10)","v":"-"},{"$f":"OFFSET(Maximos!J73,0,($L$1-1)*10)","v":"-"},{"$f":"OFFSET(Maximos!K73,0,($L$1-1)*10)","v":"-"},{"$f":"OFFSET(Maximos!L73,0,($L$1-1)*10)","v":"-"}]
[null,"Día",{"$f":"OFFSET(Maximos!C74,0,($L$1-1)*10)","v":"31 de diciembre"},{"$f":"OFFSET(Maximos!D74,0,($L$1-1)*10)","v":"10 de agosto"},{"$f":"OFFSET(Maximos!E74,0,($L$1-1)*10)","v":"17 de octubre"},{"$f":"OFFSET(Maximos!F74,0,($L$1-1)*10)","v":"24 de agosto"},{"$f":"OFFSET(Maximos!G74,0,($L$1-1)*10)","v":"8 de febrero"},{"$f":"OFFSET(Maximos!H74,0,($L$1-1)*10)","v":"10 de julio"},{"$f":"OFFSET(Maximos!I74,0,($L$1-1)*10)","v":"-"},{"$f":"OFFSET(Maximos!J74,0,($L$1-1)*10)","v":"-"},{"$f":"OFFSET(Maximos!K74,0,($L$1-1)*10)","v":"-"},{"$f":"OFFSET(Maximos!L74,0,($L$1-1)*10)","v":"-"}]
[null,"Hora",{"$f":"OFFSET(Maximos!C75,0,($L$1-1)*10)","v":20},{"$f":"OFFSET(Maximos!D75,0,($L$1-1)*10)","v":14},{"$f":"OFFSET(Maximos!E75,0,($L$1-1)*10)","v":21},{"$f":"OFFSET(Maximos!F75,0,($L$1-1)*10)","v":14},{"$f":"OFFSET(Maximos!G75,0,($L$1-1)*10)","v":21},{"$f":"OFFSET(Maximos!H75,0,($L$1-1)*10)","v":14},{"$f":"OFFSET(Maximos!I75,0,($L$1-1)*10)","v":"-"},{"$f":"OFFSET(Maximos!J75,0,($L$1-1)*10)","v":"-"},{"$f":"OFFSET(Maximos!K75,0,($L$1-1)*10)","v":"-"},{"$f":"OFFSET(Maximos!L75,0,($L$1-1)*10)","v":"-"}]
[]
[]
[]
[null,null,{"$f":"OFFSET(Maximos!C76,0,($L$1-1)*10)","v":"2016"},{"$f":"OFFSET(#REF!,0,($L$1-1)*12)","v":{"$error":"#REF!"}},{"$f":"OFFSET(Maximos!E76,0,($L$1-1)*10)","v":"2017"},{"$f":"OFFSET(#REF!,0,($L$1-1)*12)","v":{"$error":"#REF!"}},{"$f":"OFFSET(Maximos!G76,0,($L$1-1)*10)","v":"2018"},{"$f":"OFFSET(#REF!,0,($L$1-1)*12)","v":{"$error":"#REF!"}},{"$f":"OFFSET(Maximos!I76,0,($L$1-1)*10)","v":"2019"},{"$f":"OFFSET(#REF!,0,($L$1-1)*12)","v":{"$error":"#REF!"}},{"$f":"OFFSET(Maximos!K76,0,($L$1-1)*10)","v":"2020"},{"$f":"OFFSET(#REF!,0,($L$1-1)*12)","v":{"$error":"#REF!"}}]
[]
[null,null,"Invierno","Verano","Invierno","Verano","Invierno","Verano","Invierno","Verano","Invierno","Verano"]
[null,"Demanda diaria (MWh)",{"$f":"OFFSET(Maximos!C78,0,($L$1-1)*10)","v":26240.809000000001},{"$f":"OFFSET(Maximos!D78,0,($L$1-1)*10)","v":28016.146000000001},{"$f":"OFFSET(Maximos!E78,0,($L$1-1)*10)","v":30723.772000000001},{"$f":"OFFSET(Maximos!F78,0,($L$1-1)*10)","v":28350.159},{"$f":"OFFSET(Maximos!G78,0,($L$1-1)*10)","v":26048.311000000002},{"$f":"OFFSET(Maximos!H78,0,($L$1-1)*10)","v":25859.02},{"$f":"OFFSET(Maximos!I78,0,($L$1-1)*10)","v":"-"},{"$f":"OFFSET(Maximos!J78,0,($L$1-1)*10)","v":"-"},{"$f":"OFFSET(Maximos!K78,0,($L$1-1)*10)","v":"-"},{"$f":"OFFSET(Maximos!L78,0,($L$1-1)*10)","v":"-"}]
[null,"Día",{"$f":"OFFSET(Maximos!C79,0,($L$1-1)*10)","v":"18 de octubre"},{"$f":"OFFSET(Maximos!D79,0,($L$1-1)*10)","v":"10 de agosto"},{"$f":"OFFSET(Maximos!E79,0,($L$1-1)*10)","v":"17 de noviembre"},{"$f":"OFFSET(Maximos!F79,0,($L$1-1)*10)","v":"23 de agosto"},{"$f":"OFFSET(Maximos!G79,0,($L$1-1)*10)","v":"31 de enero"},{"$f":"OFFSET(Maximos!H79,0,($L$1-1)*10)","v":"10 de julio"},{"$f":"OFFSET(Maximos!I79,0,($L$1-1)*10)","v":"-"},{"$f":"OFFSET(Maximos!J79,0,($L$1-1)*10)","v":"-"},{"$f":"OFFSET(Maximos!K79,0,($L$1-1)*10)","v":"-"},{"$f":"OFFSET(Maximos!L79,0,($L$1-1)*10)","v":"-"}]
[]
[null,"El periodo de invierno comprende los meses de enero a mayo y de octubre a diciembre. El periodo de verano comprende los meses de junio a septiembre.","Verano (junio - septiembre)"]

{"sheet":"Maximos mensuales Ceuta","index":7,"n_rows":20,"n_cols":15,"rows_kept":20,"cut":false,"hidden":false,"merged":[]}
[null,null,null,null,null,null,null,null,null,null,null,null,null,null,12]
[]
[]
[null,null,null,null,null,null,null,null,null,null,null,null,"Sistema eléctrico"]
[null,null,null,null,null,null,null,null,null,null,null,null,"Horizonte temporal"]
[null,null,null,null,null,null,null,null,null,null,null,null,"Periodo"]
[]
[null,null,"Ene.","Feb.","Mar.","Abr.","May.","Jun.","Jul.","Ago.","Sep.","Oct.","Nov.","Dic.",{"$f":"OFFSET(Año!$B$19,($O$1-1),0)","v":2018}]
[]
[null,"Demanda horaria (MWh)",{"$f":"OFFSET(Maximos!C31,0,($O$1-1)*12)","v":36},{"$f":"OFFSET(Maximos!D31,0,($O$1-1)*12)","v":39},{"$f":"OFFSET(Maximos!E31,0,($O$1-1)*12)","v":33},{"$f":"OFFSET(Maximos!F31,0,($O$1-1)*12)","v":33},{"$f":"OFFSET(Maximos!G31,0,($O$1-1)*12)","v":30},{"$f":"OFFSET(Maximos!H31,0,($O$1-1)*12)","v":30},{"$f":"OFFSET(Maximos!I31,0,($O$1-1)*12)","v":32},{"$f":"OFFSET(Maximos!J31,0,($O$1-1)*12)","v":"-"},{"$f":"OFFSET(Maximos!K31,0,($O$1-1)*12)","v":"-"},{"$f":"OFFSET(Maximos!L31,0,($O$1-1)*12)","v":"-"},{"$f":"OFFSET(Maximos!M31,0,($O$1-1)*12)","v":"-"},{"$f":"OFFSET(Maximos!N31,0,($O$1-1)*12)","v":"-"},{"$f":"MAX(C10:N10)","v":39}]
[null,"Día",{"$f":"OFFSET(Maximos!C32,0,($O$1-1)*12)","v":15},{"$f":"OFFSET(Maximos!D32,0,($O$1-1)*12)","v":7},{"$f":"OFFSET(Maximos!E32,0,($O$1-1)*12)","v":7},{"$f":"OFFSET(Maximos!F32,0,($O$1-1)*12)","v":10},{"$f":"OFFSET(Maximos!G32,0,($O$1-1)*12)","v":8},{"$f":"OFFSET(Maximos!H32,0,($O$1-1)*12)","v":28},{"$f":"OFFSET(Maximos!I32,0,($O$1-1)*12)","v":23},{"$f":"OFFSET(Maximos!J32,0,($O$1-1)*12)","v":"-"},{"$f":"OFFSET(Maximos!K32,0,($O$1-1)*12)","v":"-"},{"$f":"OFFSET(Maximos!L32,0,($O$1-1)*12)","v":"-"},{"$f":"OFFSET(Maximos!M32,0,($O$1-1)*12)","v":"-"},{"$f":"OFFSET(Maximos!N32,0,($O$1-1)*12)","v":"-"},{"$f":"HLOOKUP($O$10,C10:N13,2,0)&\" de \"&HLOOKUP($O$10,C10:N13,4,0)","v":"7 de febrero"}]
[null,"Hora",{"$f":"OFFSET(Maximos!C33,0,($O$1-1)*12)","v":21},{"$f":"OFFSET(Maximos!D33,0,($O$1-1)*12)","v":20},{"$f":"OFFSET(Maximos!E33,0,($O$1-1)*12)","v":21},{"$f":"OFFSET(Maximos!F33,0,($O$1-1)*12)","v":21},{"$f":"OFFSET(Maximos!G33,0,($O$1-1)*12)","v":13},{"$f":"OFFSET(Maximos!H33,0,($O$1-1)*12)","v":13},{"$f":"OFFSET(Maximos!I33,0,($O$1-1)*12)","v":13},{"$f":"OFFSET(Maximos!J33,0,($O$1-1)*12)","v":"-"},{"$f":"OFFSET(Maximos!K33,0,($O$1-1)*12)","v":"-"},{"$f":"OFFSET(Maximos!L33,0,($O$1-1)*12)","v":"-"},{"$f":"OFFSET(Maximos!M33,0,($O$1-1)*12)","v":"-"},{"$f":"OFFSET(Maximos!N33,0,($O$1-1)*12)","v":"-"},{"$f":"HLOOKUP($O$10,C10:N12,3,0)","v":20}]
[null,null,"enero","febrero","marzo","abril","mayo","junio","julio","agosto","septiembre","octubre","noviembre","diciembre"]
[]
[]
[null,null,"Ene.","Feb.","Mar.","Abr.","May.","Jun.","Jul.","Ago.","Sep.","Oct.","Nov.","Dic.",{"$f":"OFFSET(Año!$B$19,($O$1-1),0)","v":2018}]
[]
[null,"Demanda diaria (MWh)",{"$f":"OFFSET(Maximos!C35,0,($O$1-1)*12)","v":673.26199999999994},{"$f":"OFFSET(Maximos!D35,0,($O$1-1)*12)","v":707},{"$f":"OFFSET(Maximos!E35,0,($O$1-1)*12)","v":620.91200000000003},{"$f":"OFFSET(Maximos!F35,0,($O$1-1)*12)","v":589.69600000000003},{"$f":"OFFSET(Maximos!G35,0,($O$1-1)*12)","v":572.70799999999997},{"$f":"OFFSET(Maximos!H35,0,($O$1-1)*12)","v":578.62900000000002},{"$f":"OFFSET(Maximos!I35,0,($O$1-1)*12)","v":600.61},{"$f":"OFFSET(Maximos!J35,0,($O$1-1)*12)","v":"-"},{"$f":"OFFSET(Maximos!K35,0,($O$1-1)*12)","v":"-"},{"$f":"OFFSET(Maximos!L35,0,($O$1-1)*12)","v":"-"},{"$f":"OFFSET(Maximos!M35,0,($O$1-1)*12)","v":"-"},{"$f":"OFFSET(Maximos!N35,0,($O$1-1)*12)","v":"-"},{"$f":"MAX(C18:N18)","v":707}]
[null,"Día",{"$f":"OFFSET(Maximos!C36,0,($O$1-1)*12)","v":15},{"$f":"OFFSET(Maximos!D36,0,($O$1-1)*12)","v":8},{"$f":"OFFSET(Maximos!E36,0,($O$1-1)*12)","v":13},{"$f":"OFFSET(Maximos!F36,0,($O$1-1)*12)","v":10},{"$f":"OFFSET(Maximos!G36,0,($O$1-1)*12)","v":8},{"$f":"OFFSET(Maximos!H36,0,($O$1-1)*12)","v":28},{"$f":"OFFSET(Maximos!I36,0,($O$1-1)*12)","v":4},{"$f":"OFFSET(Maximos!J36,0,($O$1-1)*12)","v":"-"},{"$f":"OFFSET(Maximos!K36,0,($O$1-1)*12)","v":"-"},{"$f":"OFFSET(Maximos!L36,0,($O$1-1)*12)","v":"-"},{"$f":"OFFSET(Maximos!M36,0,($O$1-1)*12)","v":"-"},{"$f":"OFFSET(Maximos!N36,0,($O$1-1)*12)","v":"-"},{"$f":"HLOOKUP($O$18,C18:N20,2,0)&\" de \"&HLOOKUP($O$18,C18:N20,3,0)","v":"8 de febrero"}]
[null,null,"enero","febrero","marzo","abril","mayo","junio","julio","agosto","septiembre","octubre","noviembre","diciembre"]

{"sheet":"Maximos anuales Ceuta","index":8,"n_rows":24,"n_cols":12,"rows_kept":24,"cut":false,"hidden":false,"merged":[[23,1,23,11],[7,2,7,3],[7,4,7,5],[7,6,7,7],[7,8,7,9],[7,10,7,11],[17,2,17,3],[17,4,17,5],[17,6,17,7],[17,8,17,9],[17,10,17,11]]}
[null,null,null,null,null,null,null,null,null,null,null,3]
[]
[]
[null,null,null,null,null,null,null,null,null,null,"Sistema eléctrico"]
[null,null,null,null,null,null,null,null,null,null,"Horizonte temporal"]
[null,null,null,null,null,null,null,null,null,null,"Periodo"]
[]
[null,null,{"$f":"OFFSET(Maximos!C81,0,($L$1-1)*10)","v":"2017"},{"$f":"OFFSET(Maximos!D48,0,($L$1-1)*12)","v":"-"},{"$f":"OFFSET(Maximos!E81,0,($L$1-1)*10)","v":"2018"},{"$f":"OFFSET(Maximos!F48,0,($L$1-1)*12)","v":"-"},{"$f":"OFFSET(Maximos!G81,0,($L$1-1)*10)","v":"2019"},{"$f":"OFFSET(Maximos!H48,0,($L$1-1)*12)","v":"-"},{"$f":"OFFSET(Maximos!I81,0,($L$1-1)*10)","v":"2020"},{"$f":"OFFSET(Maximos!J48,0,($L$1-1)*12)","v":"-"},{"$f":"OFFSET(Maximos!K81,0,($L$1-1)*10)","v":"2021"},{"$f":"OFFSET(Maximos!L48,0,($L$1-1)*12)","v":40778.867200000001}]
[]
[null,null,"Invierno","Verano","Invierno","Verano","Invierno","Verano","Invierno","Verano","Invierno","Verano"]
[]
[null,"Demanda horaria (MWh)",{"$f":"OFFSET(Maximos!C83,0,($L$1-1)*10)","v":39},{"$f":"OFFSET(Maximos!D83,0,($L$1-1)*10)","v":35},{"$f":"OFFSET(Maximos!E83,0,($L$1-1)*10)","v":39},{"$f":"OFFSET(Maximos!F83,0,($L$1-1)*10)","v":32},{"$f":"OFFSET(Maximos!G83,0,($L$1-1)*10)","v":"-"},{"$f":"OFFSET(Maximos!H83,0,($L$1-1)*10)","v":"-"},{"$f":"OFFSET(Maximos!I83,0,($L$1-1)*10)","v":"-"},{"$f":"OFFSET(Maximos!J83,0,($L$1-1)*10)","v":"-"},{"$f":"OFFSET(Maximos!K83,0,($L$1-1)*10)","v":"-"},{"$f":"OFFSET(Maximos!L83,0,($L$1-1)*10)","v":"-"}]
[null,"Día",{"$f":"OFFSET(Maximos!C84,0,($L$1-1)*10)","v":"18 de enero"},{"$f":"OFFSET(Maximos!D84,0,($L$1-1)*10)","v":"7 de septiembre"},{"$f":"OFFSET(Maximos!E84,0,($L$1-1)*10)","v":"7 de febrero"},{"$f":"OFFSET(Maximos!F84,0,($L$1-1)*10)","v":"23 de julio"},{"$f":"OFFSET(Maximos!G84,0,($L$1-1)*10)","v":"-"},{"$f":"OFFSET(Maximos!H84,0,($L$1-1)*10)","v":"-"},{"$f":"OFFSET(Maximos!I84,0,($L$1-1)*10)","v":"-"},{"$f":"OFFSET(Maximos!J84,0,($L$1-1)*10)","v":"-"},{"$f":"OFFSET(Maximos!K84,0,($L$1-1)*10)","v":"-"},{"$f":"OFFSET(Maximos!L84,0,($L$1-1)*10)","v":"-"}]
[null,"Hora",{"$f":"OFFSET(Maximos!C85,0,($L$1-1)*10)","v":21},{"$f":"OFFSET(Maximos!D85,0,($L$1-1)*10)","v":13},{"$f":"OFFSET(Maximos!E85,0,($L$1-1)*10)","v":20},{"$f":"OFFSET(Maximos!F85,0,($L$1-1)*10)","v":13},{"$f":"OFFSET(Maximos!G85,0,($L$1-1)*10)","v":"-"},{"$f":"OFFSET(Maximos!H85,0,($L$1-1)*10)","v":"-"},{"$f":"OFFSET(Maximos!I85,0,($L$1-1)*10)","v":"-"},{"$f":"OFFSET(Maximos!J85,0,($L$1-1)*10)","v":"-"},{"$f":"OFFSET(Maximos!K85,0,($L$1-1)*10)","v":"-"},{"$f":"OFFSET(Maximos!L85,0,($L$1-1)*10)","v":"-"}]
[]
[]
[]
[null,null,{"$f":"OFFSET(Maximos!C86,0,($L$1-1)*10)","v":"2017"},{"$f":"OFFSET(#REF!,0,($L$1-1)*12)","v":{"$error":"#REF!"}},{"$f":"OFFSET(Maximos!E86,0,($L$1-1)*10)","v":"2018"},{"$f":"OFFSET(#REF!,0,($L$1-1)*12)","v":{"$error":"#REF!"}},{"$f":"OFFSET(Maximos!G86,0,($L$1-1)*10)","v":"2019"},{"$f":"OFFSET(#REF!,0,($L$1-1)*12)","v":{"$error":"#REF!"}},{"$f":"OFFSET(Maximos!I86,0,($L$1-1)*10)","v":"2020"},{"$f":"OFFSET(#REF!,0,($L$1-1)*12)","v":{"$error":"#REF!"}},{"$f":"OFFSET(Maximos!K86,0,($L$1-1)*10)","v":"2021"},{"$f":"OFFSET(#REF!,0,($L$1-1)*12)","v":{"$error":"#REF!"}}]
[]
[null,null,"Invierno","Verano","Invierno","Verano","Invierno","Verano","Invierno","Verano","Invierno","Verano"]
[null,"Demanda diaria (MWh)",{"$f":"OFFSET(Maximos!C88,0,($L$1-1)*10)","v":703.15899999999999},{"$f":"OFFSET(Maximos!D88,0,($L$1-1)*10)","v":665.16499999999996},{"$f":"OFFSET(Maximos!E88,0,($L$1-1)*10)","v":707},{"$f":"OFFSET(Maximos!F88,0,($L$1-1)*10)","v":600.61},{"$f":"OFFSET(Maximos!G88,0,($L$1-1)*10)","v":"-"},{"$f":"OFFSET(Maximos!H88,0,($L$1-1)*10)","v":"-"},{"$f":"OFFSET(Maximos!I88,0,($L$1-1)*10)","v":"-"},{"$f":"OFFSET(Maximos!J88,0,($L$1-1)*10)","v":"-"},{"$f":"OFFSET(Maximos!K88,0,($L$1-1)*10)","v":"-"},{"$f":"OFFSET(Maximos!L88,0,($L$1-1)*10)","v":"-"}]
[null,"Día",{"$f":"OFFSET(Maximos!C89,0,($L$1-1)*10)","v":"18 de enero"},{"$f":"OFFSET(Maximos!D89,0,($L$1-1)*10)","v":"4 de agosto"},{"$f":"OFFSET(Maximos!E89,0,($L$1-1)*10)","v":"8 de febrero"},{"$f":"OFFSET(Maximos!F89,0,($L$1-1)*10)","v":"4 de julio"},{"$f":"OFFSET(Maximos!G89,0,($L$1-1)*10)","v":"-"},{"$f":"OFFSET(Maximos!H89,0,($L$1-1)*10)","v":"-"},{"$f":"OFFSET(Maximos!I89,0,($L$1-1)*10)","v":"-"},{"$f":"OFFSET(Maximos!J89,0,($L$1-1)*10)","v":"-"},{"$f":"OFFSET(Maximos!K89,0,($L$1-1)*10)","v":"-"},{"$f":"OFFSET(Maximos!L89,0,($L$1-1)*10)","v":"-"}]
[]
[null,"El periodo de invierno comprende los meses de enero a mayo y de octubre a diciembre. El periodo de verano comprende los meses de junio a septiembre.","Verano (junio - septiembre)"]

{"sheet":"Maximos mensuales Melilla","index":9,"n_rows":20,"n_cols":15,"rows_kept":20,"cut":false,"hidden":false,"merged":[]}
[null,null,null,null,null,null,null,null,null,null,null,null,null,null,12]
[]
[]
[null,null,null,null,null,null,null,null,null,null,null,null,"Sistema eléctrico"]
[null,null,null,null,null,null,null,null,null,null,null,null,"Horizonte temporal"]
[null,null,null,null,null,null,null,null,null,null,null,null,"Periodo"]
[]
[null,null,"Ene.","Feb.","Mar.","Abr.","May.","Jun.","Jul.","Ago.","Sep.","Oct.","Nov.","Dic.",{"$f":"OFFSET(Año!$B$19,($O$1-1),0)","v":2018}]
[]
[null,"Demanda horaria (MWh)",{"$f":"OFFSET(Maximos!C39,0,($O$1-1)*12)","v":36},{"$f":"OFFSET(Maximos!D39,0,($O$1-1)*12)","v":42},{"$f":"OFFSET(Maximos!E39,0,($O$1-1)*12)","v":32},{"$f":"OFFSET(Maximos!F39,0,($O$1-1)*12)","v":32},{"$f":"OFFSET(Maximos!G39,0,($O$1-1)*12)","v":30},{"$f":"OFFSET(Maximos!H39,0,($O$1-1)*12)","v":33},{"$f":"OFFSET(Maximos!I39,0,($O$1-1)*12)","v":37},{"$f":"OFFSET(Maximos!J39,0,($O$1-1)*12)","v":"-"},{"$f":"OFFSET(Maximos!K39,0,($O$1-1)*12)","v":"-"},{"$f":"OFFSET(Maximos!L39,0,($O$1-1)*12)","v":"-"},{"$f":"OFFSET(Maximos!M39,0,($O$1-1)*12)","v":"-"},{"$f":"OFFSET(Maximos!N39,0,($O$1-1)*12)","v":"-"},{"$f":"MAX(C10:N10)","v":42}]
[null,"Día",{"$f":"OFFSET(Maximos!C40,0,($O$1-1)*12)","v":16},{"$f":"OFFSET(Maximos!D40,0,($O$1-1)*12)","v":6},{"$f":"OFFSET(Maximos!E40,0,($O$1-1)*12)","v":1},{"$f":"OFFSET(Maximos!F40,0,($O$1-1)*12)","v":11},{"$f":"OFFSET(Maximos!G40,0,($O$1-1)*12)","v":24},{"$f":"OFFSET(Maximos!H40,0,($O$1-1)*12)","v":29},{"$f":"OFFSET(Maximos!I40,0,($O$1-1)*12)","v":25},{"$f":"OFFSET(Maximos!J40,0,($O$1-1)*12)","v":"-"},{"$f":"OFFSET(Maximos!K40,0,($O$1-1)*12)","v":"-"},{"$f":"OFFSET(Maximos!L40,0,($O$1-1)*12)","v":"-"},{"$f":"OFFSET(Maximos!M40,0,($O$1-1)*12)","v":"-"},{"$f":"OFFSET(Maximos!N40,0,($O$1-1)*12)","v":"-"},{"$f":"HLOOKUP($O$10,C10:N13,2,0)&\" de \"&HLOOKUP($O$10,C10:N13,4,0)","v":"6 de febrero"}]
[null,"Hora",{"$f":"OFFSET(Maximos!C41,0,($O$1-1)*12)","v":21},{"$f":"OFFSET(Maximos!D41,0,($O$1-1)*12)","v":21},{"$f":"OFFSET(Maximos!E41,0,($O$1-1)*12)","v":21},{"$f":"OFFSET(Maximos!F41,0,($O$1-1)*12)","v":21},{"$f":"OFFSET(Maximos!G41,0,($O$1-1)*12)","v":21},{"$f":"OFFSET(Maximos!H41,0,($O$1-1)*12)","v":13},{"$f":"OFFSET(Maximos!I41,0,($O$1-1)*12)","v":13},{"$f":"OFFSET(Maximos!J41,0,($O$1-1)*12)","v":"-"},{"$f":"OFFSET(Maximos!K41,0,($O$1-1)*12)","v":"-"},{"$f":"OFFSET(Maximos!L41,0,($O$1-1)*12)","v":"-"},{"$f":"OFFSET(Maximos!M41,0,($O$1-1)*12)","v":"-"},{"$f":"OFFSET(Maximos!N41,0,($O$1-1)*12)","v":"-"},{"$f":"HLOOKUP($O$10,C10:N12,3,0)","v":21}]
[null,null,"enero","febrero","marzo","abril","mayo","junio","julio","agosto","septiembre","octubre","noviembre","diciembre"]
[]
[]
[null,null,"Ene.","Feb.","Mar.","Abr.","May.","Jun.","Jul.","Ago.","Sep.","Oct.","Nov.","Dic.",{"$f":"OFFSET(Año!$B$19,($O$1-1),0)","v":2018}]
[]
[null,"Demanda diaria (MWh)",{"$f":"OFFSET(Maximos!C43,0,($O$1-1)*12)","v":641.23599999999999},{"$f":"OFFSET(Maximos!D43,0,($O$1-1)*12)","v":714.73099999999999},{"$f":"OFFSET(Maximos!E43,0,($O$1-1)*12)","v":583.72799999999995},{"$f":"OFFSET(Maximos!F43,0,($O$1-1)*12)","v":590.06399999999996},{"$f":"OFFSET(Maximos!G43,0,($O$1-1)*12)","v":568.154},{"$f":"OFFSET(Maximos!H43,0,($O$1-1)*12)","v":640.60400000000004},{"$f":"OFFSET(Maximos!I43,0,($O$1-1)*12)","v":735.26400000000001},{"$f":"OFFSET(Maximos!J43,0,($O$1-1)*12)","v":"-"},{"$f":"OFFSET(Maximos!K43,0,($O$1-1)*12)","v":"-"},{"$f":"OFFSET(Maximos!L43,0,($O$1-1)*12)","v":"-"},{"$f":"OFFSET(Maximos!M43,0,($O$1-1)*12)","v":"-"},{"$f":"OFFSET(Maximos!N43,0,($O$1-1)*12)","v":"-"},{"$f":"MAX(C18:N18)","v":735.26400000000001}]
[null,"Día",{"$f":"OFFSET(Maximos!C44,0,($O$1-1)*12)","v":18},{"$f":"OFFSET(Maximos!D44,0,($O$1-1)*12)","v":6},{"$f":"OFFSET(Maximos!E44,0,($O$1-1)*12)","v":1},{"$f":"OFFSET(Maximos!F44,0,($O$1-1)*12)","v":26},{"$f":"OFFSET(Maximos!G44,0,($O$1-1)*12)","v":23},{"$f":"OFFSET(Maximos!H44,0,($O$1-1)*12)","v":28},{"$f":"OFFSET(Maximos!I44,0,($O$1-1)*12)","v":25},{"$f":"OFFSET(Maximos!J44,0,($O$1-1)*12)","v":"-"},{"$f":"OFFSET(Maximos!K44,0,($O$1-1)*12)","v":"-"},{"$f":"OFFSET(Maximos!L44,0,($O$1-1)*12)","v":"-"},{"$f":"OFFSET(Maximos!M44,0,($O$1-1)*12)","v":"-"},{"$f":"OFFSET(Maximos!N44,0,($O$1-1)*12)","v":"-"},{"$f":"HLOOKUP($O$18,C18:N20,2,0)&\" de \"&HLOOKUP($O$18,C18:N20,3,0)","v":"25 de julio"}]
[null,null,"enero","febrero","marzo","abril","mayo","junio","julio","agosto","septiembre","octubre","noviembre","diciembre"]

{"sheet":"Maximos anuales Melilla","index":10,"n_rows":24,"n_cols":12,"rows_kept":24,"cut":false,"hidden":false,"merged":[[23,1,23,11],[7,2,7,3],[7,4,7,5],[7,6,7,7],[7,8,7,9],[7,10,7,11],[17,2,17,3],[17,4,17,5],[17,6,17,7],[17,8,17,9],[17,10,17,11]]}
[null,null,null,null,null,null,null,null,null,null,null,3]
[]
[]
[null,null,null,null,null,null,null,null,null,null,"Sistema eléctrico"]
[null,null,null,null,null,null,null,null,null,null,"Horizonte temporal"]
[null,null,null,null,null,null,null,null,null,null,"Periodo"]
[]
[null,null,{"$f":"OFFSET(Maximos!C91,0,($L$1-1)*10)","v":"2017"},{"$f":"OFFSET(Maximos!D48,0,($L$1-1)*12)","v":"-"},{"$f":"OFFSET(Maximos!E91,0,($L$1-1)*10)","v":"2018"},{"$f":"OFFSET(Maximos!F48,0,($L$1-1)*12)","v":"-"},{"$f":"OFFSET(Maximos!G91,0,($L$1-1)*10)","v":"2019"},{"$f":"OFFSET(Maximos!H48,0,($L$1-1)*12)","v":"-"},{"$f":"OFFSET(Maximos!I91,0,($L$1-1)*10)","v":"2020"},{"$f":"OFFSET(Maximos!J48,0,($L$1-1)*12)","v":"-"},{"$f":"OFFSET(Maximos!K91,0,($L$1-1)*10)","v":"2021"}]
[]
[null,null,"Invierno","Verano","Invierno","Verano","Invierno","Verano","Invierno","Verano","Invierno","Verano"]
[]
[null,"Demanda horaria (MWh)",{"$f":"OFFSET(Maximos!C93,0,($L$1-1)*10)","v":40},{"$f":"OFFSET(Maximos!D93,0,($L$1-1)*10)","v":41},{"$f":"OFFSET(Maximos!E93,0,($L$1-1)*10)","v":42},{"$f":"OFFSET(Maximos!F93,0,($L$1-1)*10)","v":37},{"$f":"OFFSET(Maximos!G93,0,($L$1-1)*10)","v":"-"},{"$f":"OFFSET(Maximos!H93,0,($L$1-1)*10)","v":"-"},{"$f":"OFFSET(Maximos!I93,0,($L$1-1)*10)","v":"-"},{"$f":"OFFSET(Maximos!J93,0,($L$1-1)*10)","v":"-"},{"$f":"OFFSET(Maximos!K93,0,($L$1-1)*10)","v":"-"},{"$f":"OFFSET(Maximos!L93,0,($L$1-1)*10)","v":"-"}]
[null,"Día",{"$f":"OFFSET(Maximos!C94,0,($L$1-1)*10)","v":"19 de enero"},{"$f":"OFFSET(Maximos!D94,0,($L$1-1)*10)","v":"7 de agosto"},{"$f":"OFFSET(Maximos!E94,0,($L$1-1)*10)","v":"6 de febrero"},{"$f":"OFFSET(Maximos!F94,0,($L$1-1)*10)","v":"25 de julio"},{"$f":"OFFSET(Maximos!G94,0,($L$1-1)*10)","v":"-"},{"$f":"OFFSET(Maximos!H94,0,($L$1-1)*10)","v":"-"},{"$f":"OFFSET(Maximos!I94,0,($L$1-1)*10)","v":"-"},{"$f":"OFFSET(Maximos!J94,0,($L$1-1)*10)","v":"-"},{"$f":"OFFSET(Maximos!K94,0,($L$1-1)*10)","v":"-"},{"$f":"OFFSET(Maximos!L94,0,($L$1-1)*10)","v":"-"}]
[null,"Hora",{"$f":"OFFSET(Maximos!C95,0,($L$1-1)*10)","v":21},{"$f":"OFFSET(Maximos!D95,0,($L$1-1)*10)","v":13},{"$f":"OFFSET(Maximos!E95,0,($L$1-1)*10)","v":21},{"$f":"OFFSET(Maximos!F95,0,($L$1-1)*10)","v":13},{"$f":"OFFSET(Maximos!G95,0,($L$1-1)*10)","v":"-"},{"$f":"OFFSET(Maximos!H95,0,($L$1-1)*10)","v":"-"},{"$f":"OFFSET(Maximos!I95,0,($L$1-1)*10)","v":"-"},{"$f":"OFFSET(Maximos!J95,0,($L$1-1)*10)","v":"-"},{"$f":"OFFSET(Maximos!K95,0,($L$1-1)*10)","v":"-"},{"$f":"OFFSET(Maximos!L95,0,($L$1-1)*10)","v":"-"}]
[]
[]
[]
[null,null,{"$f":"OFFSET(Maximos!C96,0,($L$1-1)*10)","v":"2017"},{"$f":"OFFSET(#REF!,0,($L$1-1)*12)","v":{"$error":"#REF!"}},{"$f":"OFFSET(Maximos!E96,0,($L$1-1)*10)","v":"2018"},{"$f":"OFFSET(#REF!,0,($L$1-1)*12)","v":{"$error":"#REF!"}},{"$f":"OFFSET(Maximos!G96,0,($L$1-1)*10)","v":"2019"},{"$f":"OFFSET(#REF!,0,($L$1-1)*12)","v":{"$error":"#REF!"}},{"$f":"OFFSET(Maximos!I96,0,($L$1-1)*10)","v":"2020"},{"$f":"OFFSET(#REF!,0,($L$1-1)*12)","v":{"$error":"#REF!"}},{"$f":"OFFSET(Maximos!K96,0,($L$1-1)*10)","v":"2021"},{"$f":"OFFSET(#REF!,0,($L$1-1)*12)","v":{"$error":"#REF!"}}]
[]
[null,null,"Invierno","Verano","Invierno","Verano","Invierno","Verano","Invierno","Verano","Invierno","Verano"]
[null,"Demanda diaria (MWh)",{"$f":"OFFSET(Maximos!C98,0,($L$1-1)*10)","v":712.86599999999999},{"$f":"OFFSET(Maximos!D98,0,($L$1-1)*10)","v":763.76099999999997},{"$f":"OFFSET(Maximos!E98,0,($L$1-1)*10)","v":714.73099999999999},{"$f":"OFFSET(Maximos!F98,0,($L$1-1)*10)","v":735.26400000000001},{"$f":"OFFSET(Maximos!G98,0,($L$1-1)*10)","v":"-"},{"$f":"OFFSET(Maximos!H98,0,($L$1-1)*10)","v":"-"},{"$f":"OFFSET(Maximos!I98,0,($L$1-1)*10)","v":"-"},{"$f":"OFFSET(Maximos!J98,0,($L$1-1)*10)","v":"-"},{"$f":"OFFSET(Maximos!K98,0,($L$1-1)*10)","v":"-"},{"$f":"OFFSET(Maximos!L98,0,($L$1-1)*10)","v":"-"}]
[null,"Día",{"$f":"OFFSET(Maximos!C99,0,($L$1-1)*10)","v":"20 de enero"},{"$f":"OFFSET(Maximos!D99,0,($L$1-1)*10)","v":"8 de agosto"},{"$f":"OFFSET(Maximos!E99,0,($L$1-1)*10)","v":"6 de febrero"},{"$f":"OFFSET(Maximos!F99,0,($L$1-1)*10)","v":"25 de julio"},{"$f":"OFFSET(Maximos!G99,0,($L$1-1)*10)","v":"-"},{"$f":"OFFSET(Maximos!H99,0,($L$1-1)*10)","v":"-"},{"$f":"OFFSET(Maximos!I99,0,($L$1-1)*10)","v":"-"},{"$f":"OFFSET(Maximos!J99,0,($L$1-1)*10)","v":"-"},{"$f":"OFFSET(Maximos!K99,0,($L$1-1)*10)","v":"-"},{"$f":"OFFSET(Maximos!L99,0,($L$1-1)*10)","v":"-"}]
[]
[null,"El periodo de invierno comprende los meses de enero a mayo y de octubre a diciembre. El periodo de verano comprende los meses de junio a septiembre.","Verano (junio - septiembre)"]

{"sheet":"Maximos","index":11,"n_rows":99,"n_cols":362,"rows_kept":99,"cut":false,"hidden":true,"merged":[]}
[]
[null,"Potencia máxima instantánea peninsular ","1990-01-01","1990-02-01","1990-03-01","1990-04-01","1990-05-01","1990-06-01","1990-07-01","1990-08-01","1990-09-01","1990-10-01","1990-11-01","1990-12-01","1991-01-01","1991-02-01","1991-03-01","1991-04-01","1991-05-01","1991-06-01","1991-07-01","1991-08-01","1991-09-01","1991-10-01","1991-11-01","1991-12-01","1992-01-01","1992-02-01","1992-03-01","1992-04-01","1992-05-01","1992-06-01","1992-07-01","1992-08-01","1992-09-01","1992-10-01","1992-11-01","1992-12-01","1993-01-01","1993-02-01","1993-03-01","1993-04-01","1993-05-01","1993-06-01","1993-07-01","1993-08-01","1993-09-01","1993-10-01","1993-11-01","1993-12-01","1994-01-01","1994-02-01","1994-03-01","1994-04-01","1994-05-01","1994-06-01","1994-07-01","1994-08-01","1994-09-01","1994-10-01","1994-11-01","1994-12-01","1995-01-01","1995-02-01","1995-03-01","1995-04-01","1995-05-01","1995-06-01","1995-07-01","1995-08-01","1995-09-01","1995-10-01","1995-11-01","1995-12-01","1996-01-01","1996-02-01","1996-03-01","1996-04-01","1996-05-01","1996-06-01","1996-07-01","1996-08-01","1996-09-01","1996-10-01","1996-11-01","1996-12-01","1997-01-01","1997-02-01","1997-03-01","1997-04-01","1997-05-01","1997-06-01","1997-07-01","1997-08-01","1997-09-01","1997-10-01","1997-11-01","1997-12-01","1998-01-01","1998-02-01","1998-03-01","1998-04-01","1998-05-01","1998-06-01","1998-07-01","1998-08-01","1998-09-01","1998-10-01","1998-11-01","1998-12-01","1999-01-01","1999-02-01","1999-03-01","1999-04-01","1999-05-01","1999-06-01","1999-07-01","1999-08-01","1999-09-01","1999-10-01","1999-11-01","1999-12-01","2000-01-01","2000-02-01","2000-03-01","2000-04-01","2000-05-01","2000-06-01","2000-07-01","2000-08-01","2000-09-01","2000-10-01","2000-11-01","2000-12-01","2001-01-01","2001-02-01","2001-03-01","2001-04-01","2001-05-01","2001-06-01","2001-07-01","2001-08-01","2001-09-01","2001-10-01","2001-11-01","2001-12-01","2002-01-01","2002-02-01","2002-03-01","2002-04-01","2002-05-01","2002-06-01","2002-07-01","2002-08-01","2002-09-01","2002-10-01","2002-11-01","2002-12-01","2003-01-01","2003-02-01","2003-03-01","2003-04-01","2003-05-01","2003-06-01","2003-07-01","2003-08-01","2003-09-01","2003-10-01","2003-11-01","2003-12-01","2004-01-01","2004-02-01","2004-03-01","2004-04-01","2004-05-01","2004-06-01","2004-07-01","2004-08-01","2004-09-01","2004-10-01","2004-11-01","2004-12-01","2005-01-01","2005-02-01","2005-03-01","2005-04-01","2005-05-01","2005-06-01","2005-07-01","2005-08-01","2005-09-01","2005-10-01","2005-11-01","2005-12-01","2006-01-01","2006-02-01","2006-03-01","2006-04-01","2006-05-01","2006-06-01","2006-07-01","2006-08-01","2006-09-01","2006-10-01","2006-11-01","2006-12-01","2007-01-01","2007-02-01","2007-03-01","2007-04-01","2007-05-01","2007-06-01","2007-07-01","2007-08-01","2007-09-01","2007-10-01","2007-11-01","2007-12-01","2008-01-01","2008-02-01","2008-03-01","2008-04-01","2008-05-01","2008-06-01","2008-07-01","2008-08-01","2008-09-01","2008-10-01","2008-11-01","2008-12-01","2009-01-01","2009-02-01","2009-03-01","2009-04-01","2009-05-01","2009-06-01","2009-07-01","2009-08-01","2009-09-01","2009-10-01","2009-11-01","2009-12-01","2010-01-01","2010-02-01","2010-03-01","2010-04-01","2010-05-01","2010-06-01","2010-07-01","2010-08-01","2010-09-01","2010-10-01","2010-11-01","2010-12-01","2011-01-01","2011-02-01","2011-03-01","2011-04-01","2011-05-01","2011-06-01","2011-07-01","2011-08-01","2011-09-01","2011-10-01","2011-11-01","2011-12-01","2012-01-01","2012-02-01","2012-03-01","2012-04-01","2012-05-01","2012-06-01","2012-07-01","2012-08-01","2012-09-01","2012-10-01","2012-11-01","2012-12-01","2013-01-01","2013-02-01","2013-03-01","2013-04-01","2013-05-01","2013-06-01","2013-07-01","2013-08-01","2013-09-01","2013-10-01","2013-11-01","2013-12-01","2014-01-01","2014-02-01","2014-03-01","2014-04-01","2014-05-01","2014-06-01","2014-07-01","2014-08-01","2014-09-01","2014-10-01","2014-11-01","2014-12-01","2015-01-01","2015-02-01","2015-03-01","2015-04-01","2015-05-01","2015-06-01","2015-07-01","2015-08-01","2015-09-01","2015-10-01","2015-11-01","2015-12-01","2016-01-01","2016-02-01","2016-03-01","2016-04-01","2016-05-01","2016-06-01","2016-07-01","2016-08-01","2016-09-01","2016-10-01","2016-11-01","2016-12-01","2017-01-01","2017-02-01","2017-03-01","2017-04-01","2017-05-01","2017-06-01","2017-07-01","2017-08-01","2017-09-01","2017-10-01","2017-11-01","2017-12-01","2018-01-01","2018-02-01","2018-03-01","2018-04-01","2018-05-01","2018-06-01","2018-07-01","2018-08-01","2018-09-01","2018-10-01","2018-11-01","2018-12-01","2019-01-01","2019-02-01","2019-03-01","2019-04-01","2019-05-01","2019-06-01","2019-07-01","2019-08-01","2019-09-01","2019-10-01","2019-11-01","2019-12-01"]
[null,"Potencia instantánea (MW)","-","-","-","-","-","-","-","-","-","-","-","-","-","-","-","-","-","-","-","-","-","-","-","-","-","-","-","-","-","-","-","-","-","-","-","-","-","-","-","-","-","-","-","-","-","-","-","-","-","-","-","-","-","-","-","-","-","-","-","-","-","-","-","-","-","-","-","-","-","-","-","-","-","-","-","-","-","-","-","-","-","-","-","-","-","-","-","-","-","-","-","-","-","-","-","-","-","-","-","-","-","-","-","-","-","-","-","-","-","-","-","-","-","-","-","-","-","-","-","-","-","-","-","-","-","-","-","-","-","-","-","-","-","-","-","-","-","-","-","-","-","-","-","-","-","-","-","-","-","-","-","-","-","-","-","-","-","-","-","-","-","-","-","-","-","-","-","-","-","-","-","-","-","-","-","-","-","-","-","-","-","-","-","-","-","-","-","-","-","-","-","-",42281.789100000002,40177.675799999997,39582.410199999998,34199.757799999999,35721.195299999999,38380.238299999997,40778.867200000001,38617.871099999997,39513.531300000002,35949.371099999997,37580.902300000002,42429.859400000001,43471.675799999997,41083.640599999999,39904.449200000003,37339.324200000003,36262.277300000002,37471.636700000003,39504.972699999998,39365.210899999998,38329.996099999997,37139.734400000001,41748.148399999998,45450,41912.519500000002,40964.714800000002,40997.441400000003,"37535",35721.050799999997,40315.289100000002,40407.058599999997,39408.781300000002,38937.269500000002,38276.574200000003,42586.382799999999,43252.167999999998,44495.910199999998,40052.042999999998,39219.644500000002,36086.218800000002,34450.027300000002,38710.785199999998,40267.753900000003,39030.695299999999,40487,36019.246099999997,39238.582000000002,43567.125,44486,43866,42257,38602,36164,38200,41318,39297,38394,36805,43849,43199,43969,42139,41719,34623,37041,40139,38860,37810,37932,35939,38101,39725,40802,43527,38492,36089,34624,39124,37829,38479,35849,35623,38147,40131,40019,40277,38799,35200,32885,34861,37570,36438,34870,34595,39748,39309,38674,38948,37286,34503,32312,35176,37299,36625,37192,34078,36097,38268,40613,40726,37058,33563,34629,37639,40192,36939,35873,33523,37538,37002,38391,38464,38274,34947,32830,35973,38556,37147,40489,34293,36881,38011,41381,36974,35935,33429,34390,39379,39536,39082,36396,34586,38703,39580,39770,40947,38946,36137,32975,37045,37967,"-","-","-","-","-","-","-","-","-","-","-","-","-","-","-","-","-"]
[null,"Día","-","-","-","-","-","-","-","-","-","-","-","-","-","-","-","-","-","-","-","-","-","-","-","-","-","-","-","-","-","-","-","-","-","-","-","-","-","-","-","-","-","-","-","-","-","-","-","-","-","-","-","-","-","-","-","-","-","-","-","-","-","-","-","-","-","-","-","-","-","-","-","-","-","-","-","-","-","-","-","-","-","-","-","-","-","-","-","-","-","-","-","-","-","-","-","-","-","-","-","-","-","-","-","-","-","-","-","-","-","-","-","-","-","-","-","-","-","-","-","-","-","-","-","-","-","-","-","-","-","-","-","-","-","-","-","-","-","-","-","-","-","-","-","-","-","-","-","-","-","-","-","-","-","-","-","-","-","-","-","-","-","-","-","-","-","-","-","-","-","-","-","-","-","-","-","-","-","-","-","-","-","-","-","-","-","-","-","-","-","-","-","-",30,23,1,5,29,22,13,1,5,2,30,20,25,1,21,2,18,29,27,1,5,25,29,17,15,13,6,8,8,30,1,5,2,30,27,15,13,3,3,1,22,18,3,31,1,27,30,16,12,15,10,14,31,30,19,27,1,27,29,16,24,1,3,6,26,28,6,31,14,6,30,19,16,13,8,18,31,28,19,22,7,10,29,12,22,27,1,29,29,14,10,2,4,3,28,2,21,4,4,3,21,13,17,27,2,21,18,9,20,4,23,9,14,30,21,31,1,28,24,1,19,17,9,5,10,28,11,3,6,4,29,19,18,9,23,5,25,21,13,4,6,5,30,4,9,8,20,11,23,27,9,"-","-","-","-","-","-","-","-","-","-","-","-","-","-","-","-","-"]
[null,"Hora","-","-","-","-","-","-","-","-","-","-","-","-","-","-","-","-","-","-","-","-","-","-","-","-","-","-","-","-","-","-","-","-","-","-","-","-","-","-","-","-","-","-","-","-","-","-","-","-","-","-","-","-","-","-","-","-","-","-","-","-","-","-","-","-","-","-","-","-","-","-","-","-","-","-","-","-","-","-","-","-","-","-","-","-","-","-","-","-","-","-","-","-","-","-","-","-","-","-","-","-","-","-","-","-","-","-","-","-","-","-","-","-","-","-","-","-","-","-","-","-","-","-","-","-","-","-","-","-","-","-","-","-","-","-","-","-","-","-","-","-","-","-","-","-","-","-","-","-","-","-","-","-","-","-","-","-","-","-","-","-","-","-","-","-","-","-","-","-","-","-","-","-","-","-","-","-","-","-","-","-","-","-","-","-","-","-","-","-","-","-","-","-","19:40:26","19:53:58","20:22:30","21:12:29","12:53:28","17:33:59","13:27:29","13:31:27","13:24:04","20:38:57","18:46:52","18:58:16","19:36:56","19:35:20","20:22:49","21:25:14","12:33:43","13:25:45","13:25:42","13:16:57","21:03:31","20:20:54","18:50:14","18:53:00","18:54:25","20:01:29","20:21:35","21:12:18","12:57:34","13:24:39","13:22:27","13:25:59","13:24:29","19:47:45","18:45:59","18:59:07","18:41:03","19:58:30","11:01:04","21:10:35","12:51:18","12:31:46","13:26:47","13:22:04","12:55:00","19:45:43","19:24:04","18:33:28","18:56:00","19:32:00","20:18:00","11:03:00","12:52:00","13:20:00","13:26:00","13:27:00","13:10:00","20:50:00","18:31:00","19:53:00","20:06:00","19:57:00","20:21:00","21:10:00","12:53:00","13:24:00","13:26:00","13:21:00","13:27:00","20:26:00","18:37:00","19:51:00","19:48:00","20:21:00","20:24:00","21:18:00","13:17:00","13:23:00","13:25:00","13:40:00","13:25:00","11:45:00","19:48:00","19:35:00","19:54:00","20:42:00","10:44:00","12:43:00","12:48:00","12:56:00","13:32:00","13:35:00","13:41:00","13:16:00","19:50:00","20:17:00","19:54:00","20:18:00","20:18:00","21:15:00","13:20:00","13:24:00","13:21:00","13:46:00","13:27:00","20:23:00","19:52:00","19:56:00","19:55:00","19:56:00","20:42:00","21:16:00","13:32:00","13:37:00","13:33:00","13:56:00","13:21:00","19:58:00","19:55:00","20:19:00","19:47:00","20:37:00","20:18:00","21:17:00","13:29:00","13:38","13:24","13:23","13:32","20:49","20:20","19:54","19:50","20:26","20:33","21:20","13:29","13:39","13:36","13:52","13:35","20:42","20:21","20:28","20:24","20:24","20:43","10:11","13:17","13:43","13:34","-","-","-","-","-","-","-","-","-","-","-","-","-","-","-","-","-"]
[null,"Demanda máxima horaria peninsular","1990-01-01","1990-02-01","1990-03-01","1990-04-01","1990-05-01","1990-06-01","1990-07-01","1990-08-01","1990-09-01","1990-10-01","1990-11-01","1990-12-01","1991-01-01","1991-02-01","1991-03-01","1991-04-01","1991-05-01","1991-06-01","1991-07-01","1991-08-01","1991-09-01","1991-10-01","1991-11-01","1991-12-01","1992-01-01","1992-02-01","1992-03-01","1992-04-01","1992-05-01","1992-06-01","1992-07-01","1992-08-01","1992-09-01","1992-10-01","1992-11-01","1992-12-01","1993-01-01","1993-02-01","1993-03-01","1993-04-01","1993-05-01","1993-06-01","1993-07-01","1993-08-01","1993-09-01","1993-10-01","1993-11-01","1993-12-01","1994-01-01","1994-02-01","1994-03-01","1994-04-01","1994-05-01","1994-06-01","1994-07-01","1994-08-01","1994-09-01","1994-10-01","1994-11-01","1994-12-01","1995-01-01","1995-02-01","1995-03-01","1995-04-01","1995-05-01","1995-06-01","1995-07-01","1995-08-01","1995-09-01","1995-10-01","1995-11-01","1995-12-01","1996-01-01","1996-02-01","1996-03-01","1996-04-01","1996-05-01","1996-06-01","1996-07-01","1996-08-01","1996-09-01","1996-10-01","1996-11-01","1996-12-01","1997-01-01","1997-02-01","1997-03-01","1997-04-01","1997-05-01","1997-06-01","1997-07-01","1997-08-01","1997-09-01","1997-10-01","1997-11-01","1997-12-01","1998-01-01","1998-02-01","1998-03-01","1998-04-01","1998-05-01","1998-06-01","1998-07-01","1998-08-01","1998-09-01","1998-10-01","1998-11-01","1998-12-01","1999-01-01","1999-02-01","1999-03-01","1999-04-01","1999-05-01","1999-06-01","1999-07-01","1999-08-01","1999-09-01","1999-10-01","1999-11-01","1999-12-01","2000-01-01","2000-02-01","2000-03-01","2000-04-01","2000-05-01","2000-06-01","2000-07-01","2000-08-01","2000-09-01","2000-10-01","2000-11-01","2000-12-01","2001-01-01","2001-02-01","2001-03-01","2001-04-01","2001-05-01","2001-06-01","2001-07-01","2001-08-01","2001-09-01","2001-10-01","2001-11-01","2001-12-01","2002-01-01","2002-02-01","2002-03-01","2002-04-01","2002-05-01","2002-06-01","2002-07-01","2002-08-01","2002-09-01","2002-10-01","2002-11-01","2002-12-01","2003-01-01","2003-02-01","2003-03-01","2003-04-01","2003-05-01","2003-06-01","2003-07-01","2003-08-01","2003-09-01","2003-10-01","2003-11-01","2003-12-01","2004-01-01","2004-02-01","2004-03-01","2004-04-01","2004-05-01","2004-06-01","2004-07-01","2004-08-01","2004-09-01","2004-10-01","2004-11-01","2004-12-01","2005-01-01","2005-02-01","2005-03-01","2005-04-01","2005-05-01","2005-06-01","2005-07-01","2005-08-01","2005-09-01","2005-10-01","2005-11-01","2005-12-01","2006-01-01","2006-02-01","2006-03-01","2006-04-01","2006-05-01","2006-06-01","2006-07-01","2006-08-01","2006-09-01","2006-10-01","2006-11-01","2006-12-01","2007-01-01","2007-02-01","2007-03-01","2007-04-01","2007-05-01","2007-06-01","2007-07-01","2007-08-01","2007-09-01","2007-10-01","2007-11-01","2007-12-01","2008-01-01","2008-02-01","2008-03-01","2008-04-01","2008-05-01","2008-06-01","2008-07-01","2008-08-01","2008-09-01","2008-10-01","2008-11-01","2008-12-01","2009-01-01","2009-02-01","2009-03-01","2009-04-01","2009-05-01","2009-06-01","2009-07-01","2009-08-01","2009-09-01","2009-10-01","2009-11-01","2009-12-01","2010-01-01","2010-02-01","2010-03-01","2010-04-01","2010-05-01","2010-06-01","2010-07-01","2010-08-01","2010-09-01","2010-10-01","2010-11-01","2010-12-01","2011-01-01","2011-02-01","2011-03-01","2011-04-01","2011-05-01","2011-06-01","2011-07-01","2011-08-01","2011-09-01","2011-10-01","2011-11-01","2011-12-01","2012-01-01","2012-02-01","2012-03-01","2012-04-01","2012-05-01","2012-06-01","2012-07-01","2012-08-01","2012-09-01","2012-10-01","2012-11-01","2012-12-01","2013-01-01","2013-02-01","2013-03-01","2013-04-01","2013-05-01","2013-06-01","2013-07-01","2013-08-01","2013-09-01","2013-10-01","2013-11-01","2013-12-01","2014-01-01","2014-02-01","2014-03-01","2014-04-01","2014-05-01","2014-06-01","2014-07-01","2014-08-01","2014-09-01","2014-10-01","2014-11-01","2014-12-01","2015-01-01","2015-02-01","2015-03-01","2015-04-01","2015-05-01","2015-06-01","2015-07-01","2015-08-01","2015-09-01","2015-10-01","2015-11-01","2015-12-01","2016-01-01","2016-02-01","2016-03-01","2016-04-01","2016-05-01","2016-06-01","2016-07-01","2016-08-01","2016-09-01","2016-10-01","2016-11-01","2016-12-01","2017-01-01","2017-02-01","2017-03-01","2017-04-01","2017-05-01","2017-06-01","2017-07-01","2017-08-01","2017-09-01","2017-10-01","2017-11-01","2017-12-01","2018-01-01","2018-02-01","2018-03-01","2018-04-01","2018-05-01","2018-06-01","2018-07-01","2018-08-01","2018-09-01","2018-10-01","2018-11-01","2018-12-01","2019-01-01","2019-02-01","2019-03-01","2019-04-01","2019-05-01","2019-06-01","2019-07-01","2019-08-01","2019-09-01","2019-10-01","2019-11-01","2019-12-01"]
[null,"Demanda horaria (MWh)",23011,21835,20777,19333,18113,19800,20185,17940,19388,19519,23378,25160,24395,23924,20865,19341,19479,20331,20792,18159,20112,21017,22287,23022,25336,23612,21403,21001,19120,18739,20347,18381,20068,20788,20542,22427,23459,22884,23990,19094,18593,19775,20355,18388,19392,21727,23010,23404,24764,23460,20964,21194,19954,21405,21879,20836,21259,20995,22147,24135,25067,22679,22963,21656,20914,22594,23334,20798,21203,21377,23426,25813,23852,24913,23579,20288,21243,22810,23025,21376,21273,21826,25132,25357,27301,24074,22280,21726,21832,22893,23292,22946,23788,23434,24422,27369,27893,26068,24627,24363,22865,25363,25710,24166,25064,24850,28180,29796,29769,28915,26234,24631,25021,26824,27792,26665,27317,30564.5,31127.5,31318,33236,29586,28014,27216,27370,29388,28875,27933,28926,28420,30382,32430,32002,31323,32136,27644,29925,31238,31226,29459,29690,30068,33267,35186,34336,32077,32633,30052,29075,32304,31281,28191,30016,30072,32475,33970,37163,37212,31742,30257,30784,34661,34219,33239,31257,33372,33990,37459,36755,35981,37724,32846,31554,36619,36525,33320,34511.699999999997,33619.9,36854.400000000001,37668.5,43377.599999999999,41776.6,40574.5,33144.800000000003,33248.300000000003,38405.4,38542.1,36429.9,36298.800000000003,33800.300000000003,40223.5,41619.599999999999,42152.9,39962.699999999997,39346.400000000001,33965.5,35164.6,37841.199999999997,40524.300000000003,38829,38991.300000000003,35506.800000000003,37192.6,41890.1,43368.5,40686.199999999997,39761,36576.300000000003,35938.199999999997,36926,39038,38900.699999999997,37360.199999999997,37042.5,41512.199999999997,44876.1,41796.9,40705.9,41322.400000000001,37739.9,35494.9,39848.699999999997,40156,39399.5,38489.199999999997,38048.300000000003,42207,42961.1,44440.3,39899.4,38885,35668.5,34045.199999999997,38522.400000000001,40065.599999999999,39054.9,40225.699999999997,35866.800000000003,39021.9,43877.5,44122.400000000001,43847.8,41555.4,36236.300000000003,36032.9,37696,40934.300000000003,39140.300000000003,38037.599999999999,36773,44104.1,43185.4,44106.7,42095,40979.199999999997,34182.199999999997,36509.300000000003,39537.1,38481,37640.300000000003,37751.699999999997,35361.800000000003,37711.699999999997,39687.5,40539.199999999997,43010.2,37704,35617.199999999997,34681.599999999999,39273.4,37832,38292.800000000003,35655.199999999997,35248.800000000003,38180,39609.199999999997,39786.800000000003,39963.300000000003,38321.599999999999,34838.199999999997,32650.5,34826,37399.4,36446.1,34848.1,34281.300000000003,39741.699999999997,39423.599999999999,38291.449999999997,38666.29,36957.870000000003,33921.17,31830.21,34774.51,37019.730000000003,36278.76,36866.68,33609.53,35734.39,37844.76,40231.69,40323.769999999997,36679.410000000003,32994.78,34142.589999999997,37259.25,39927.599999999999,36645.17,35524.199999999997,33176.07,37201,36704,38071,38239,37925,34481,32485,35697,38213,36910,40144,33708,36572,37749,41015,36732,35587,32784,34003,39017,39286,38807,36049,34060,38325,39240,39478,40693,38575,35849,32598,36815,37839,"-","-","-","-","-","-","-","-","-","-","-","-","-","-","-","-","-"]
[null,"Día",23,1,5,10,31,28,19,30,6,25,29,10,16,14,6,5,9,27,18,29,19,22,21,12,23,19,26,1,19,30,28,27,17,22,30,15,11,25,2,14,19,18,29,5,30,26,22,14,19,7,2,15,31,29,15,31,7,25,29,21,16,1,8,25,29,22,21,1,28,26,29,14,23,22,6,2,29,14,24,1,30,17,19,11,7,4,12,8,29,13,30,1,10,27,25,16,26,4,12,15,4,30,23,31,2,28,23,2,12,15,8,16,26,16,2,31,2,31,25,21,25,1,22,4,31,30,21,1,15,30,20,20,16,27,1,4,29,25,2,1,4,30,26,19,9,19,5,11,8,18,29,5,19,30,21,17,15,18,27,2,29,27,11,1,25,27,27,4,20,20,2,1,11,30,23,25,10,5,30,9,27,1,1,12,27,22,21,31,2,27,28,12,30,23,1,6,29,23,13,1,5,2,28,20,25,1,21,3,18,25,31,1,7,25,29,17,15,14,6,1,8,27,1,5,2,29,26,15,13,2,4,1,22,18,22,31,1,29,30,16,11,15,11,13,31,30,19,26,1,26,29,16,24,1,3,6,26,27,5,31,14,5,29,19,16,13,20,18,31,27,19,22,12,30,29,12,22,27,4,9,29,14,10,2,4,3,28,2,21,4,4,2,28,13,17,27,2,21,18,9,20,4,23,9,14,30,21,31,1,28,24,1,19,17,9,4,10,28,11,3,6,4,29,19,18,9,23,5,26,22,13,4,6,5,30,4,9,8,20,11,25,27,9,"-","-","-","-","-","-","-","-","-","-","-","-","-","-","-","-","-"]
[null,"Hora",20,20,21,12,13,13,13,13,13,20,20,19,20,20,21,12,12,13,13,13,13,20,19,19,20,20,21,22,13,13,13,13,13,20,20,19,20,21,21,12,12,13,13,13,20,20,20,20,20,20,21,12,13,13,13,13,13,20,20,20,20,20,21,22,13,13,13,13,21,20,19,20,20,21,21,22,13,13,13,13,21,21,20,19,20,20,21,22,13,13,13,13,13,20,19,19,20,20,21,12,22,13,11,14,13,20,20,19,20,20,21,22,13,13,13,14,13,3,20,20,20,20,21,22,11,11,13,13,13,20,20,19,20,21,21,22,18,18,13,13,12,20,20,19,20,21,21,22,13,13,11,14,13,20,20,19,20,20,21,22,13,13,14,14,22,20,20,19,20,20,21,22,13,14,13,14,13,21,19,20,20,20,13,22,13,18,14,14,14,21,19,19,20,20,21,22,13,13,14,14,14,21,19,20,20,21,21,22,13,14,18,14,14,21,20,20,20,20,21,22,13,14,14,14,13,20,19,20,20,20,12,22,13,14,14,14,14,20,20,19,20,20,21,22,14,13,14,14,14,21,19,20,20,20,21,13,14,14,14,14,14,21,20,20,20,21,21,22,14,14,14,14,13,20,20,20,21,21,21,13,13,14,14,14,14,14,21,21,20,21,21,13,13,14,14,14,14,21,21,20,20,21,21,22,14,14,14,14,14,20,20,21,21,21,21,13,13,14,14,14,14,21,21,20,21,21,21,22,13,14,14,14,14,21,21,21,21,21,21,11,13,14,14,"-","-","-","-","-","-","-","-","-","-","-","-","-","-","-","-","-"]
[null,"Demanda máxima diaria peninsular","1990-01-01","1990-02-01","1990-03-01","1990-04-01","1990-05-01","1990-06-01","1990-07-01","1990-08-01","1990-09-01","1990-10-01","1990-11-01","1990-12-01","1991-01-01","1991-02-01","1991-03-01","1991-04-01","1991-05-01","1991-06-01","1991-07-01","1991-08-01","1991-09-01","1991-10-01","1991-11-01","1991-12-01","1992-01-01","1992-02-01","1992-03-01","1992-04-01","1992-05-01","1992-06-01","1992-07-01","1992-08-01","1992-09-01","1992-10-01","1992-11-01","1992-12-01","1993-01-01","1993-02-01","1993-03-01","1993-04-01","1993-05-01","1993-06-01","1993-07-01","1993-08-01","1993-09-01","1993-10-01","1993-11-01","1993-12-01","1994-01-01","1994-02-01","1994-03-01","1994-04-01","1994-05-01","1994-06-01","1994-07-01","1994-08-01","1994-09-01","1994-10-01","1994-11-01","1994-12-01","1995-01-01","1995-02-01","1995-03-01","1995-04-01","1995-05-01","1995-06-01","1995-07-01","1995-08-01","1995-09-01","1995-10-01","1995-11-01","1995-12-01","1996-01-01","1996-02-01","1996-03-01","1996-04-01","1996-05-01","1996-06-01","1996-07-01","1996-08-01","1996-09-01","1996-10-01","1996-11-01","1996-12-01","1997-01-01","1997-02-01","1997-03-01","1997-04-01","1997-05-01","1997-06-01","1997-07-01","1997-08-01","1997-09-01","1997-10-01","1997-11-01","1997-12-01","1998-01-01","1998-02-01","1998-03-01","1998-04-01","1998-05-01","1998-06-01","1998-07-01","1998-08-01","1998-09-01","1998-10-01","1998-11-01","1998-12-01","1999-01-01","1999-02-01","1999-03-01","1999-04-01","1999-05-01","1999-06-01","1999-07-01","1999-08-01","1999-09-01","1999-10-01","1999-11-01","1999-12-01","2000-01-01","2000-02-01","2000-03-01","2000-04-01","2000-05-01","2000-06-01","2000-07-01","2000-08-01","2000-09-01","2000-10-01","2000-11-01","2000-12-01","2001-01-01","2001-02-01","2001-03-01","2001-04-01","2001-05-01","2001-06-01","2001-07-01","2001-08-01","2001-09-01","2001-10-01","2001-11-01","2001-12-01","2002-01-01","2002-02-01","2002-03-01","2002-04-01","2002-05-01","2002-06-01","2002-07-01","2002-08-01","2002-09-01","2002-10-01","2002-11-01","2002-12-01","2003-01-01","2003-02-01","2003-03-01","2003-04-01","2003-05-01","2003-06-01","2003-07-01","2003-08-01","2003-09-01","2003-10-01","2003-11-01","2003-12-01","2004-01-01","2004-02-01","2004-03-01","2004-04-01","2004-05-01","2004-06-01","2004-07-01","2004-08-01","2004-09-01","2004-10-01","2004-11-01","2004-12-01","2005-01-01","2005-02-01","2005-03-01","2005-04-01","2005-05-01","2005-06-01","2005-07-01","2005-08-01","2005-09-01","2005-10-01","2005-11-01","2005-12-01","2006-01-01","2006-02-01","2006-03-01","2006-04-01","2006-05-01","2006-06-01","2006-07-01","2006-08-01","2006-09-01","2006-10-01","2006-11-01","2006-12-01","2007-01-01","2007-02-01","2007-03-01","2007-04-01","2007-05-01","2007-06-01","2007-07-01","2007-08-01","2007-09-01","2007-10-01","2007-11-01","2007-12-01","2008-01-01","2008-02-01","2008-03-01","2008-04-01","2008-05-01","2008-06-01","2008-07-01","2008-08-01","2008-09-01","2008-10-01","2008-11-01","2008-12-01","2009-01-01","2009-02-01","2009-03-01","2009-04-01","2009-05-01","2009-06-01","2009-07-01","2009-08-01","2009-09-01","2009-10-01","2009-11-01","2009-12-01","2010-01-01","2010-02-01","2010-03-01","2010-04-01","2010-05-01","2010-06-01","2010-07-01","2010-08-01","2010-09-01","2010-10-01","2010-11-01","2010-12-01","2011-01-01","2011-02-01","2011-03-01","2011-04-01","2011-05-01","2011-06-01","2011-07-01","2011-08-01","2011-09-01","2011-10-01","2011-11-01","2011-12-01","2012-01-01","2012-02-01","2012-03-01","2012-04-01","2012-05-01","2012-06-01","2012-07-01","2012-08-01","2012-09-01","2012-10-01","2012-11-01","2012-12-01","2013-01-01","2013-02-01","2013-03-01","2013-04-01","2013-05-01","2013-06-01","2013-07-01","2013-08-01","2013-09-01","2013-10-01","2013-11-01","2013-12-01","2014-01-01","2014-02-01","2014-03-01","2014-04-01","2014-05-01","2014-06-01","2014-07-01","2014-08-01","2014-09-01","2014-10-01","2014-11-01","2014-12-01","2015-01-01","2015-02-01","2015-03-01","2015-04-01","2015-05-01","2015-06-01","2015-07-01","2015-08-01","2015-09-01","2015-10-01","2015-11-01","2015-12-01","2016-01-01","2016-02-01","2016-03-01","2016-04-01","2016-05-01","2016-06-01","2016-07-01","2016-08-01","2016-09-01","2016-10-01","2016-11-01","2016-12-01","2017-01-01","2017-02-01","2017-03-01","2017-04-01","2017-05-01","2017-06-01","2017-07-01","2017-08-01","2017-09-01","2017-10-01","2017-11-01","2017-12-01","2018-01-01","2018-02-01","2018-03-01","2018-04-01","2018-05-01","2018-06-01","2018-07-01","2018-08-01","2018-09-01","2018-10-01","2018-11-01","2018-12-01","2019-01-01","2019-02-01","2019-03-01","2019-04-01","2019-05-01","2019-06-01","2019-07-01","2019-08-01","2019-09-01","2019-10-01","2019-11-01","2019-12-01"]
[null,"Demanda diaria (GWh)",454.303,434.59,415.33699999999999,406.50900000000001,748.03300000000002,410.91199999999998,415.59199999999998,371.07600000000002,403.27699999999999,387.923,460.89600000000002,481.93599999999998,487.52499999999998,479.36700000000002,436.58,408.58600000000001,415.291,431.68400000000003,434.53,377.49200000000002,426.46600000000001,423.21800000000002,451.673,464.01900000000001,505.553,478.76,446.35399999999998,448.18200000000002,408.21699999999998,394.185,427.72300000000001,386.17399999999998,422.74299999999999,418.411,419.69099999999997,456.51299999999998,470.875,466.51600000000002,489.56200000000001,407.09100000000001,395.47699999999998,412.19,422.608,385.11,406.29599999999999,441.553,466.76100000000002,471.33699999999999,499.65100000000001,479.28800000000001,432.04300000000001,442.18799999999999,411.62799999999999,447.661,452.59800000000001,428.38099999999997,441.85399999999998,425.69099999999997,449.07799999999997,488.74200000000002,503.83,462.83300000000003,471.84100000000001,455.286,435.37900000000002,466.279,483.25299999999999,438.572,441.13299999999998,433.91500000000002,473.98700000000002,519.21100000000001,491.63400000000001,512.63199999999995,493.36799999999999,435.67200000000003,451.303,480.37299999999999,484.15,448.29500000000002,449.87099999999998,444.69200000000001,504.52,515.56100000000004,541.10599999999999,492.69799999999998,459.90100000000001,460.839,465.72699999999998,481.71199999999999,490.38600000000002,478.45299999999997,501.38600000000002,476.51900000000001,518.76599999999996,561.45299999999997,572.84500000000003,527.22299999999996,511.786,513.81600000000003,484.78399999999999,524.03599999999994,538.245,501.55099999999999,531.46900000000005,500.69900000000001,562.23800000000006,593.59400000000005,594.18299999999999,584.13599999999997,546.81399999999996,522.24199999999996,519.85799999999995,555.49199999999996,570.86500000000001,539.94000000000005,563.97400000000005,527.89,626.84799999999996,624.35599999999999,654.197,599.54600000000005,583.80999999999995,543.87900000000002,573.83600000000001,610.56299999999999,588.17899999999997,565.03599999999994,593.81500000000005,566.81799999999998,628.92600000000004,647.90099999999995,661.44399999999996,642.83500000000004,658.65099999999995,584.28700000000003,615.11199999999997,671.53200000000004,636.26300000000003,599.75900000000001,612.05499999999995,589.15,675.11500000000001,697.85699999999997,694.75,667.00099999999998,661.05,632.71699999999998,626.41499999999996,674.66399999999999,651.59100000000001,592.33900000000006,627.702,631.18399999999997,665.154,699.61699999999996,763.93,759.32799999999997,657.11900000000003,640.12199999999996,654.06100000000004,731.42499999999995,706.375,701.58,703.59699999999998,676.93,701.31299999999999,739.05499999999995,743.71199999999999,744.96100000000001,754.65499999999997,715.94899999999996,661.58500000000004,757.322,746.14200000000005,694.66300000000001,700.38699999999994,686.78300000000002,745.06299999999999,773.23400000000004,835.19,826.30499999999995,831.72699999999998,690.64300000000003,684.50099999999998,765.82100000000003,776.94100000000003,724.27099999999996,745.24599999999998,677.34699999999998,801.21699999999998,839.923,853.101,887.26599999999996,894.76,742.85299999999995,737.90599999999995,792.20899999999995,821.81899999999996,790.51199999999994,803.649,726.15300000000002,766.46199999999999,862.74199999999996,876.80700000000002,847.34699999999998,812.99300000000005,767.12199999999996,740.899,763.78099999999995,801.101,796.68,775.47799999999995,742.93,847.57299999999998,905.94899999999996,859.49599999999998,848.89700000000005,823.26,779.78499999999997,738.74,814.89400000000001,821.63699999999994,794.91800000000001,786.68,768.02200000000005,836.45299999999997,852.654,891.40599999999995,816.98800000000006,794.26700000000005,732.46299999999997,694.54,767.82799999999997,782.072,758.41600000000005,789.55399999999997,723.00300000000004,762.83199999999999,879.16,898.36462300000005,872.72824000000003,845.78537500000004,737.63311399999998,712.77456599999994,760.87776800000006,812.49490200000002,781.52551300000005,768.98625600000003,730.36559999999997,862.13637600000004,856.48494600000004,884.98057700000004,852.50556499999993,833.54718000000003,713.47030200000006,731.96144600000002,790.99148700000001,781.25780299999997,758.57557400000007,773.61344999999994,722.59452599999997,762.28432499999997,800.24625500000002,821.96568100000002,870.55558600000006,765.77367099999992,729.71183099999996,705.68766400000004,792.68335999999999,769.89232100000004,764.68720799999994,721.74014699999998,704.30167799999992,767.525398,797.70442299999991,809.86843700000009,799.34470599999997,786.28295800000001,722.56284199999993,664.70438300000001,697.933943,760.67546499999992,732.18140000000005,709.74853500000006,707.815967,799.07715500000006,784.86933099999999,783.33252000000005,797.35862299999997,746.69891599999994,706.93549800000005,677.84627599999999,715.76873499999999,755.25547900000004,737.003646,753.91493200000002,675.47153300000002,720.29055299999993,764.92629099999999,819.02527800000007,824.01817599999993,754.1687290000001,684.81711300000006,712.266167,781.40335199999993,813.98779100000002,774.98898499999996,727.837717,680.04983600000003,748.93820999999991,743.95373400000005,767.747524,782.05723,773.92488700000001,719.446551,682.21593099999996,737.906567,770.474962,751.47801599999991,816.945515,694.40251499999999,750.58074299999998,769.75949200000002,837.34863300000006,768.49400100000003,739.01851299999998,690.18526399999996,714.49380799999994,794.51398800000004,799.86615099999995,790.63775999999996,745.80216700000005,710.85491500000001,778.42522600000007,795.16326399999991,811.83923199999992,831.51018199999999,791.22666200000003,755.05667000000005,691.19181200000003,754.19826,770.9846,"-","-","-","-","-","-","-","-","-","-","-","-","-","-","-","-","-"]
[null,"Día",23,1,8,5,31,28,19,29,6,26,29,19,16,15,1,25,9,27,18,29,19,24,22,12,23,19,4,1,19,30,23,27,17,22,25,15,28,25,2,15,4,17,29,5,3,27,23,14,19,4,2,19,4,30,5,31,7,27,29,21,17,8,8,11,30,22,20,31,7,4,29,15,24,22,7,17,30,13,24,1,5,30,19,11,8,5,12,9,29,13,30,1,10,2,25,16,27,3,13,15,5,30,17,26,2,30,25,2,13,3,4,16,28,30,2,31,2,14,25,21,13,1,30,5,31,30,21,30,13,26,15,20,16,27,1,4,29,25,3,29,4,30,27,19,9,19,5,11,8,18,18,30,19,1,26,10,15,18,6,3,23,26,11,1,1,28,28,4,20,20,2,1,11,30,23,26,9,7,17,15,28,1,1,12,25,21,21,31,2,27,30,14,31,1,1,7,16,22,20,1,6,3,30,20,26,2,21,3,18,28,31,1,4,30,29,18,15,1,7,1,8,27,1,5,2,30,28,3,13,5,4,1,20,18,22,31,1,7,30,16,12,15,12,14,5,30,7,27,1,28,30,16,25,1,3,6,26,28,1,31,15,6,30,20,12,8,21,19,31,28,19,21,7,30,30,12,23,27,1,9,7,13,10,1,4,3,28,10,21,11,4,3,13,13,17,27,2,16,18,10,21,4,24,9,14,30,21,31,1,6,25,15,18,18,9,5,10,30,27,3,6,5,25,20,18,10,3,27,24,16,14,4,6,5,30,5,9,8,20,11,4,26,11,"-","-","-","-","-","-","-","-","-","-","-","-","-","-","-","-","-"]
[null,null,"enero","febrero","marzo","abril","mayo","junio","julio","agosto","septiembre","octubre","noviembre","diciembre","enero","febrero","marzo","abril","mayo","junio","julio","agosto","septiembre","octubre","noviembre","diciembre","enero","febrero","marzo","abril","mayo","junio","julio","agosto","septiembre","octubre","noviembre","diciembre","enero","febrero","marzo","abril","mayo","junio","julio","agosto","septiembre","octubre","noviembre","diciembre","enero","febrero","marzo","abril","mayo","junio","julio","agosto","septiembre","octubre","noviembre","diciembre","enero","febrero","marzo","abril","mayo","junio","julio","agosto","septiembre","octubre","noviembre","diciembre","enero","febrero","marzo","abril","mayo","junio","julio","agosto","septiembre","octubre","noviembre","diciembre","enero","febrero","marzo","abril","mayo","junio","julio","agosto","septiembre","octubre","noviembre","diciembre","enero","febrero","marzo","abril","mayo","junio","julio","agosto","septiembre","octubre","noviembre","diciembre","enero","febrero","marzo","abril","mayo","junio","julio","agosto","septiembre","octubre","noviembre","diciembre","enero","febrero","marzo","abril","mayo","junio","julio","agosto","septiembre","octubre","noviembre","diciembre","enero","febrero","marzo","abril","mayo","junio","julio","agosto","septiembre","octubre","noviembre","diciembre","enero","febrero","marzo","abril","mayo","junio","julio","agosto","septiembre","octubre","noviembre","diciembre","enero","febrero","marzo","abril","mayo","junio","julio","agosto","septiembre","octubre","noviembre","diciembre","enero","febrero","marzo","abril","mayo","junio","julio","agosto","septiembre","octubre","noviembre","diciembre","enero","febrero","marzo","abril","mayo","junio","julio","agosto","septiembre","octubre","noviembre","diciembre","enero","febrero","marzo","abril","mayo","junio","julio","agosto","septiembre","octubre","noviembre","diciembre","enero","febrero","marzo","abril","mayo","junio","julio","agosto","septiembre","octubre","noviembre","diciembre","enero","febrero","marzo","abril","mayo","junio","julio","agosto","septiembre","octubre","noviembre","diciembre","enero","febrero","marzo","abril","mayo","junio","julio","agosto","septiembre","octubre","noviembre","diciembre","enero","febrero","marzo","abril","mayo","junio","julio","agosto","septiembre","octubre","noviembre","diciembre","enero","febrero","marzo","abril","mayo","junio","julio","agosto","septiembre","octubre","noviembre","diciembre","enero","febrero","marzo","abril","mayo","junio","julio","agosto","septiembre","octubre","noviembre","diciembre","enero","febrero","marzo","abril","mayo","junio","julio","agosto","septiembre","octubre","noviembre","diciembre","enero","febrero","marzo","abril","mayo","junio","julio","agosto","septiembre","octubre","noviembre","diciembre","enero","febrero","marzo","abril","mayo","junio","julio","agosto","septiembre","octubre","noviembre","diciembre","enero","febrero","marzo","abril","mayo","junio","julio","agosto","septiembre","octubre","noviembre","diciembre","enero","febrero","marzo","abril","mayo","junio","julio","agosto","septiembre","octubre","noviembre","diciembre","enero","febrero","marzo","abril","mayo","junio","julio","agosto","septiembre","octubre","noviembre","diciembre","enero","febrero","marzo","abril","mayo","junio","julio","agosto","septiembre","octubre","noviembre","diciembre"]
[null,"Demanda máxima horaria Islas Baleares","2006-01-01","2006-02-01","2006-03-01","2006-04-01","2006-05-01","2006-06-01","2006-07-01","2006-08-01","2006-09-01","2006-10-01","2006-11-01","2006-12-01","2007-01-01","2007-02-01","2007-03-01","2007-04-01","2007-05-01","2007-06-01","2007-07-01","2007-08-01","2007-09-01","2007-10-01","2007-11-01","2007-12-01","2008-01-01","2008-02-01","2008-03-01","2008-04-01","2008-05-01","2008-06-01","2008-07-01","2008-08-01","2008-09-01","2008-10-01","2008-11-01","2008-12-01","2009-01-01","2009-02-01","2009-03-01","2009-04-01","2009-05-01","2009-06-01","2009-07-01","2009-08-01","2009-09-01","2009-10-01","2009-11-01","2009-12-01","2010-01-01","2010-02-01","2010-03-01","2010-04-01","2010-05-01","2010-06-01","2010-07-01","2010-08-01","2010-09-01","2010-10-01","2010-11-01","2010-12-01","2011-01-01","2011-02-01","2011-03-01","2011-04-01","2011-05-01","2011-06-01","2011-07-01","2011-08-01","2011-09-01","2011-10-01","2011-11-01","2011-12-01","2012-01-01","2012-02-01","2012-03-01","2012-04-01","2012-05-01","2012-06-01","2012-07-01","2012-08-01","2012-09-01","2012-10-01","2012-11-01","2012-12-01","2013-01-01","2013-02-01","2013-03-01","2013-04-01","2013-05-01","2013-06-01","2013-07-01","2013-08-01","2013-09-01","2013-10-01","2013-11-01","2013-12-01","2014-01-01","2014-02-01","2014-03-01","2014-04-01","2014-05-01","2014-06-01","2014-07-01","2014-08-01","2014-09-01","2014-10-01","2014-11-01","2014-12-01","2015-01-01","2015-02-01","2015-03-01","2015-04-01","2015-05-01","2015-06-01","2015-07-01","2015-08-01","2015-09-01","2015-10-01","2015-11-01","2015-12-01","2016-01-01","2016-02-01","2016-03-01","2016-04-01","2016-05-01","2016-06-01","2016-07-01","2016-08-01","2016-09-01","2016-10-01","2016-11-01","2016-12-01","2017-01-01","2017-02-01","2017-03-01","2017-04-01","2017-05-01","2017-06-01","2017-07-01","2017-08-01","2017-09-01","2017-10-01","2017-11-01","2017-12-01","2018-01-01","2018-02-01","2018-03-01","2018-04-01","2018-05-01","2018-06-01","2018-07-01","2018-08-01","2018-09-01","2018-10-01","2018-11-01","2018-12-01","2019-01-01","2019-02-01","2019-03-01","2019-04-01","2019-05-01","2019-06-01","2019-07-01","2019-08-01","2019-09-01","2019-10-01","2019-11-01","2019-12-01","2020-01-01","2020-02-01","2020-03-01","2020-04-01","2020-05-01","2020-06-01","2020-07-01","2020-08-01","2020-09-01","2020-10-01","2020-11-01","2020-12-01"]
[null,"Demanda horaria (MWh)",968.99,1046,954.39,752.3,849.76,1024,1202.3,1182.2,1031.4000000000001,951.4,757,938.2,972.8,921.4,969.8,875.7,870.6,1023,1105.8,1145,1068.5,941.5,925.8,1046.5999999999999,964.5,992.6,1016.8,842,833.2,1043.8,1183.5,1225.7,1186.2,910.7,961.8,1060.2,1110.8,999.4,987.9,932.5,843.2,994.1,1207.4000000000001,1186.3,1143.3,901.6,796.6,958.3,1028.8,1065.5,1104.4000000000001,818.2,810.6,913,1114.0999999999999,1157.3,1015,904.6,920.9,992.7,1025.5999999999999,968,959.8,746.7,820.3,980,1112.3,1159.4000000000001,1091.5,892.8,726.6,856.9,950,1100.0999999999999,905.3,807.3,810,1065,1074.8,1205.8,997.3,875.7,790.7,884.3,893.1,975.9,869.3,796.7,775.9,904.3,1123.9000000000001,1187.4000000000001,956.6,967.1,912.4,874.1,836.2,840.1,811.6,741.2,759.7,926.1,1056.8,1150.2,1088,877.1,695.5,906.1,913.4,968.9,887,766.6,801.3,1032.0999999999999,1204.8,1201.9000000000001,1106.8,889.6,812.2,785.8,816,840,928,796,815,968,1127,1148,1138,931,750,860,973,839,799,809,866,1124,1253,1354,1043,904,856,927,868,1059,967,849,837,1023,1208,"-","-","-","-","-","-","-","-","-","-","-","-","-","-","-","-","-","-","-","-","-","-","-","-","-","-","-","-","-"]
[null,"Día",31,2,1,24,29,30,28,1,7,2,30,20,26,5,28,10,24,25,31,2,17,2,16,17,31,12,5,1,28,26,31,12,10,2,27,15,8,16,5,1,21,16,24,20,3,7,30,21,11,15,10,13,31,30,22,27,7,7,29,16,25,1,3,19,26,28,12,22,1,5,28,31,30,14,8,16,31,29,27,23,12,4,30,12,23,26,14,29,21,17,26,7,6,2,27,2,22,3,26,3,28,27,28,11,11,2,11,31,22,6,16,8,14,30,29,7,1,5,24,2,21,17,10,8,26,30,29,4,5,4,30,31,17,9,24,27,31,27,31,3,5,5,30,4,15,27,21,11,31,29,31,"-","-","-","-","-","-","-","-","-","-","-","-","-","-","-","-","-","-","-","-","-","-","-","-","-","-","-","-","-"]
[null,"Hora",20,20,21,22,22,13,19,22,21,21,20,20,20,21,21,22,22,19,22,22,21,21,20,21,21,21,21,22,22,20,22,22,21,21,20,20,20,21,21,21,22,20,20,22,22,21,21,20,21,21,21,22,22,22,22,22,21,21,20,21,21,21,21,22,22,20,22,22,22,21,20,20,21,21,21,22,22,14,14,22,21,21,21,21,21,21,21,22,22,22,20,22,21,21,21,21,21,21,21,22,22,14,14,22,21,21,20,20,21,21,21,22,22,14,14,22,14,21,21,21,21,21,21,22,22,20,14,22,21,21,21,20,21,21,21,21,13,14,14,20,21,21,21,21,21,21,21,21,22,20,14,"-","-","-","-","-","-","-","-","-","-","-","-","-","-","-","-","-","-","-","-","-","-","-","-","-","-","-","-","-"]
[null,"Demanda máxima diaria Islas Baleares"]
[null,"Demanda diaria (MWh)",18042,18052,18972,13960,16603,20307,23966,23779,19789,17450,13323,17087,17512,16634,17639,16179,17097,19939,21925,22774,19939,17567,16476,18497,17215,17493,18387,15498,16622,20715,24452,23895,22692,16310,17253,18907,20030,17415,17127,17522,16669,20070,24270,22834,22140,16567,13960,18028,18705.932000000001,19479.773000000001,19663.082999999999,15100.522000000001,15325.415000000001,17961.365000000002,22555.181,22416.985000000001,19773.492999999999,16747.555,16391.777999999998,17625.646000000001,18574.422999999999,17562.536,17161.186000000002,14112.746999999999,16419.050999999999,19818.412,22222.9,22781.759999999998,21568.856,16312.784,13456.58,15037.617,16884.931,20014.073,16151.096,15039.414000000001,16123.44,21582.748,21740.692999999999,23528.983,19198.361000000001,16250.585999999999,14319.52,15955.927,16063.029,17389.991000000002,15308.441999999999,15503.749,15182.387000000001,18142.800999999999,22341.287,23304.775000000001,18587.188999999998,18275.118999999999,16196.739,15973.217000000001,15483.486999999999,15204.481,14502.263000000001,14449.442999999999,15125.411,18476.345000000001,21483.233,23152.337,21289.874,16520.982,13146.26,15368.208000000001,16180.674000000001,18316.425999999999,16390.466,14123.84,15605.751,20414.963,24551.732,24163.928,21227.05,16689.951000000001,14030.129000000001,14198,14941.621999999999,15146.066999999999,16870.108,15036.718000000001,16541.957999999999,19522.914000000001,22705.040000000001,23169.428,22233.591,17453.96,13771.888000000001,15111.696,17757.977999999999,15206.186,14191.027,15338.423000000001,17437.203000000001,22275.692999999999,25119.183000000001,27395.807000000001,20427.873,16917.342000000001,16637.657999999999,16457.768,17346.192999999999,20952.924999999999,21573.205999999998,15620.906000000001,18548.964,20366.080999999998,27853.466,"-","-","-","-","-","-","-","-","-","-","-","-","-","-","-","-","-","-","-","-","-","-","-","-","-","-","-","-","-"]
[null,"Día",30,24,7,27,29,30,28,1,7,3,29,20,26,1,28,10,24,25,20,2,14,3,28,18,3,13,7,1,28,30,31,7,10,2,27,16,8,16,5,2,22,16,24,20,4,1,30,21,"12","15","10","13","31","30","22","27","07","08","29","16","27","01","03","20","27","29","12","23","02","05","28","29","31","08","09","16","31","29","27","24","12","11","30","12","23","28","14","29","27","17","26","07","06","04","29","02","22","03","27","03","30","23","28","11","11","01","04","30",26,6,20,16,29,30,29,7,1,6,24,2,18,29,10,8,31,30,29,4,5,5,14,21,18,10,3,28,31,27,31,3,5,3,29,4,12,27,20,13,29,29,20,"-","-","-","-","-","-","-","-","-","-","-","-","-","-","-","-","-","-","-","-","-","-","-","-","-","-","-","-","-"]
[null,null,"enero","febrero","marzo","abril","mayo","junio","julio","agosto","septiembre","octubre","noviembre","diciembre","enero","febrero","marzo","abril","mayo","junio","julio","agosto","septiembre","octubre","noviembre","diciembre","enero","febrero","marzo","abril","mayo","junio","julio","agosto","septiembre","octubre","noviembre","diciembre","enero","febrero","marzo","abril","mayo","junio","julio","agosto","septiembre","octubre","noviembre","diciembre","enero","febrero","marzo","abril","mayo","junio","julio","agosto","septiembre","octubre","noviembre","diciembre","enero","febrero","marzo","abril","mayo","junio","julio","agosto","septiembre","octubre","noviembre","diciembre","enero","febrero","marzo","abril","mayo","junio","julio","agosto","septiembre","octubre","noviembre","diciembre","enero","febrero","marzo","abril","mayo","junio","julio","agosto","septiembre","octubre","noviembre","diciembre","enero","febrero","marzo","abril","mayo","junio","julio","agosto","septiembre","octubre","noviembre","diciembre","enero","febrero","marzo","abril","mayo","junio","julio","agosto","septiembre","octubre","noviembre","diciembre","enero","febrero","marzo","abril","mayo","junio","julio","agosto","septiembre","octubre","noviembre","diciembre","enero","febrero","marzo","abril","mayo","junio","julio","agosto","septiembre","octubre","noviembre","diciembre","enero","febrero","marzo","abril","mayo","junio","julio","agosto","septiembre","octubre","noviembre","diciembre","enero","febrero","marzo","abril","mayo","junio","julio","agosto","septiembre","octubre","noviembre","diciembre","enero","febrero","marzo","abril","mayo","junio","julio","agosto","septiembre","octubre","noviembre","diciembre"]
[null,"Demanda máxima horaria Islas Canarias","2006-01-01","2006-02-01","2006-03-01","2006-04-01","2006-05-01","2006-06-01","2006-07-01","2006-08-01","2006-09-01","2006-10-01","2006-11-01","2006-12-01","2007-01-01","2007-02-01","2007-03-01","2007-04-01","2007-05-01","2007-06-01","2007-07-01","2007-08-01","2007-09-01","2007-10-01","2007-11-01","2007-12-01","2008-01-01","2008-02-01","2008-03-01","2008-04-01","2008-05-01","2008-06-01","2008-07-01","2008-08-01","2008-09-01","2008-10-01","2008-11-01","2008-12-01","2009-01-01","2009-02-01","2009-03-01","2009-04-01","2009-05-01","2009-06-01","2009-07-01","2009-08-01","2009-09-01","2009-10-01","2009-11-01","2009-12-01","2010-01-01","2010-02-01","2010-03-01","2010-04-01","2010-05-01","2010-06-01","2010-07-01","2010-08-01","2010-09-01","2010-10-01","2010-11-01","2010-12-01","2011-01-01","2011-02-01","2011-03-01","2011-04-01","2011-05-01","2011-06-01","2011-07-01","2011-08-01","2011-09-01","2011-10-01","2011-11-01","2011-12-01","2012-01-01","2012-02-01","2012-03-01","2012-04-01","2012-05-01","2012-06-01","2012-07-01","2012-08-01","2012-09-01","2012-10-01","2012-11-01","2012-12-01","2013-01-01","2013-02-01","2013-03-01","2013-04-01","2013-05-01","2013-06-01","2013-07-01","2013-08-01","2013-09-01","2013-10-01","2013-11-01","2013-12-01","2014-01-01","2014-02-01","2014-03-01","2014-04-01","2014-05-01","2014-06-01","2014-07-01","2014-08-01","2014-09-01","2014-10-01","2014-11-01","2014-12-01","2015-01-01","2015-02-01","2015-03-01","2015-04-01","2015-05-01","2015-06-01","2015-07-01","2015-08-01","2015-09-01","2015-10-01","2015-11-01","2015-12-01","2016-01-01","2016-02-01","2016-03-01","2016-04-01","2016-05-01","2016-06-01","2016-07-01","2016-08-01","2016-09-01","2016-10-01","2016-11-01","2016-12-01","2017-01-01","2017-02-01","2017-03-01","2017-04-01","2017-05-01","2017-06-01","2017-07-01","2017-08-01","2017-09-01","2017-10-01","2017-11-01","2017-12-01","2018-01-01","2018-02-01","2018-03-01","2018-04-01","2018-05-01","2018-06-01","2018-07-01","2018-08-01","2018-09-01","2018-10-01","2018-11-01","2018-12-01","2019-01-01","2019-02-01","2019-03-01","2019-04-01","2019-05-01","2019-06-01","2019-07-01","2019-08-01","2019-09-01","2019-10-01","2019-11-01","2019-12-01","2020-01-01","2020-02-01","2020-03-01","2020-04-01","2020-05-01","2020-06-01","2020-07-01","2020-08-01","2020-09-01","2020-10-01","2020-11-01","2020-12-01"]
[null,"Demanda horaria (MWh)",1367.54,1341.42,1328.37,1332.35,1423.86,1257.7,1354.8,1364.2,1432.4,1418.1,1426.6,1414.3,1414.6,1404.5,1391,1328.6,1334.5,1306,1486,1424.3,1427.7,1475.1,1495.5,1485.6,1445.4,1453.2,1430.8,1398,1350.4,1350.2,1366.8,1399.3,1426.6,1435.1,1438.7,1461.7,1443,1418.7,1405,1378.2,1295.8,1314.6,1460.1,1383.7,1373.6,1447.1,1434.7,1413.2,1399.4,1372.8,1374.1,1309.4000000000001,1281.8,1325.9,1320.6,1435.7,1395.6,1385.3,1386,1410.6,1370.6,1389.8,1399.5,1301.3,1278.5999999999999,1430.2,1312.6,1351.1,1393.5,1427.7,1410.7,1450.4,1404.4,1439.3,1380.2,1289.5999999999999,1337.5,1362.7,1334.3,1395,1402.1,1399.2,1387.5,1396.1,1337.3,1332.4,1306.7,1264.4000000000001,1249.5999999999999,1226.9000000000001,1269,1332.1,1336,1352.3,1331.5,1377.5,1329.8,1341.3,1300,1240.5999999999999,1222.0999999999999,1225.5999999999999,1237.8,1291.9000000000001,1322,1364.7,1331.1,1377.3,1333.5,1355,1305.2,1239.4000000000001,1266,1207.2,1328.8,1372.5,1361,1399.6,1331.5,1379,1299,1322,1325,1266,1227,1268,1353,1384,1349,1387,1335,1389,1341,1332,1313,1281,1257,1327,1357,1381,1371,1408,1359,1369,1405,1415,1305,1261,1238,1267,1297,"-","-","-","-","-","-","-","-","-","-","-","-","-","-","-","-","-","-","-","-","-","-","-","-","-","-","-","-","-"]
[null,"Día",9,6,1,6,23,6,24,9,5,24,14,28,11,6,20,10,10,21,30,1,27,23,8,31,3,12,26,28,8,30,29,7,24,28,18,31,15,18,3,2,7,30,31,20,30,28,5,31,28,3,9,5,4,3,12,12,27,28,3,31,31,9,16,7,12,23,28,16,29,4,3,31,25,15,1,9,15,27,18,21,25,10,6,31,29,18,5,22,8,28,12,22,30,2,5,31,30,17,11,3,21,30,23,29,16,23,3,31,29,10,24,7,14,30,24,12,24,5,12,31,21,18,1,7,5,23,27,10,29,18,2,31,17,21,9,17,16,23,28,24,26,17,8,31,31,8,15,2,15,29,10,"-","-","-","-","-","-","-","-","-","-","-","-","-","-","-","-","-","-","-","-","-","-","-","-","-","-","-","-","-"]
[null,"Hora",21,21,21,22,22,22,13,11,13,21,20,20,21,21,21,22,22,13,13,14,21,21,20,20,20,21,21,22,22,13,22,22,21,20,21,20,21,21,21,22,22,22,13,22,21,20,20,20,21,21,21,22,22,22,14,22,22,21,20,20,21,21,21,22,22,14,22,22,21,21,20,20,21,21,21,22,22,14,14,22,21,21,20,20,21,21,21,22,22,14,14,22,21,21,20,20,21,21,21,22,22,14,14,14,21,21,20,20,21,21,21,22,14,22,14,14,21,21,20,20,21,21,21,22,22,14,14,14,21,21,20,20,21,21,21,22,22,14,14,14,21,21,20,20,21,21,21,22,22,14,14,"-","-","-","-","-","-","-","-","-","-","-","-","-","-","-","-","-","-","-","-","-","-","-","-","-","-","-","-","-"]
[null,"Demanda máxima diaria Islas Canarias"]
[null,"Demanda diaria (MWh)",26375,24922,25461,25309,25938,33490,25092,25961,27193,26251,25776,25652,26411,26524,26693,26176,27378,26724,29918,31549,28254,27974,27696,27523,26948,26944,27287,27944,27068,27949,27449,27757,28320,27382,26599,27113,26234,26435,25396,25397,25224,26398,30250,28351,27372,27355,26849,26052,25702.626,25422.52,26729.811000000002,25062.511999999999,24675.822,26678.152999999998,26269.755000000001,28363.362000000001,27450.645,26111.636999999999,25860.174999999999,25391.769,25121.776000000002,25089.012999999999,25572.839,24529.187000000002,24399.151999999998,27628.316999999999,26128.572,26262.97,27259.915000000001,26758.316999999999,25963.307000000001,25506.352999999999,25365.637999999999,25545.647000000001,24984.3,24179.722000000002,26068.661,27076.761999999999,27038.440999999999,27768.04,27013.995999999999,26257.205000000002,25769.753000000001,25354.688999999998,24601.531999999999,24589.05,24346.384999999998,24722.35,24248.933000000001,24513.295999999998,25588.448,26810.411,25405.999,25684.02,24721.81,24389.047999999999,24699.017,24568.088,24445.68,23740.118999999999,23844.967000000001,24241.42,24959.583999999999,25693.126,26091.274000000001,26418.67,24961.050999999999,24606.127,25144.050999999999,25443.112000000001,24471.626,23903.955999999998,25128.07,24057.117999999999,27084.735000000001,27854.117999999999,26687.685000000001,26954.633999999998,25484.49,24706.348999999998,24669.97,25381.402999999998,24622.516,24267.071,24222.066999999999,25430.452000000001,26961.028999999999,28016.146000000001,26199.724999999999,26240.809000000001,25695.146000000001,25435.332999999999,25134.681,24938.843000000001,25039.702000000001,24990.958999999999,25088.316999999999,26452.636999999999,27139.794000000002,28350.159,27186.228999999999,27215.633000000002,30723.772000000001,25655.365000000002,26048.311000000002,25806.94,25165.017,24726.361000000001,24943.422999999999,25722.257000000001,25859.02,"-","-","-","-","-","-","-","-","-","-","-","-","-","-","-","-","-","-","-","-","-","-","-","-","-","-","-","-","-"]
[null,"Día",3,23,23,11,29,10,17,10,7,20,15,19,3,14,19,10,11,7,30,1,6,24,9,13,3,21,24,4,7,30,18,21,9,1,20,30,9,19,16,14,7,30,31,1,10,8,4,16,28,8,9,21,11,3,12,12,16,13,11,15,17,1,3,19,23,22,1,8,9,7,11,28,3,16,1,4,16,27,18,22,20,10,6,28,4,8,1,22,9,28,12,23,4,1,28,11,9,10,6,3,19,30,23,29,16,28,4,11,29,6,20,6,15,30,21,13,24,5,13,23,15,19,1,5,5,23,26,10,1,18,3,23,5,22,11,17,26,27,28,23,28,17,17,1,31,1,9,12,25,30,10,"-","-","-","-","-","-","-","-","-","-","-","-","-","-","-","-","-","-","-","-","-","-","-","-","-","-","-","-","-"]
[null,null,"enero","febrero","marzo","abril","mayo","junio","julio","agosto","septiembre","octubre","noviembre","diciembre","enero","febrero","marzo","abril","mayo","junio","julio","agosto","septiembre","octubre","noviembre","diciembre","enero","febrero","marzo","abril","mayo","junio","julio","agosto","septiembre","octubre","noviembre","diciembre","enero","febrero","marzo","abril","mayo","junio","julio","agosto","septiembre","octubre","noviembre","diciembre","enero","febrero","marzo","abril","mayo","junio","julio","agosto","septiembre","octubre","noviembre","diciembre","enero","febrero","marzo","abril","mayo","junio","julio","agosto","septiembre","octubre","noviembre","diciembre","enero","febrero","marzo","abril","mayo","junio","julio","agosto","septiembre","octubre","noviembre","diciembre","enero","febrero","marzo","abril","mayo","junio","julio","agosto","septiembre","octubre","noviembre","diciembre","enero","febrero","marzo","abril","mayo","junio","julio","agosto","septiembre","octubre","noviembre","diciembre","enero","febrero","marzo","abril","mayo","junio","julio","agosto","septiembre","octubre","noviembre","diciembre","enero","febrero","marzo","abril","mayo","junio","julio","agosto","septiembre","octubre","noviembre","diciembre","enero","febrero","marzo","abril","mayo","junio","julio","agosto","septiembre","octubre","noviembre","diciembre","enero","febrero","marzo","abril","mayo","junio","julio","agosto","septiembre","octubre","noviembre","diciembre","enero","febrero","marzo","abril","mayo","junio","julio","agosto","septiembre","octubre","noviembre","diciembre","enero","febrero","marzo","abril","mayo","junio","julio","agosto","septiembre","octubre","noviembre","diciembre"]
[null,"Demanda máxima horaria Ceuta","2007-01-01","2007-02-01","2007-03-01","2007-04-01","2007-05-01","2007-06-01","2007-07-01","2007-08-01","2007-09-01","2007-10-01","2007-11-01","2007-12-01","2008-01-01","2008-02-01","2008-03-01","2008-04-01","2008-05-01","2008-06-01","2008-07-01","2008-08-01","2008-09-01","2008-10-01","2008-11-01","2008-12-01","2009-01-01","2009-02-01","2009-03-01","2009-04-01","2009-05-01","2009-06-01","2009-07-01","2009-08-01","2009-09-01","2009-10-01","2009-11-01","2009-12-01","2010-01-01","2010-02-01","2010-03-01","2010-04-01","2010-05-01","2010-06-01","2010-07-01","2010-08-01","2010-09-01","2010-10-01","2010-11-01","2010-12-01","2011-01-01","2011-02-01","2011-03-01","2011-04-01","2011-05-01","2011-06-01","2011-07-01","2011-08-01","2011-09-01","2011-10-01","2011-11-01","2011-12-01","2012-01-01","2012-02-01","2012-03-01","2012-04-01","2012-05-01","2012-06-01","2012-07-01","2012-08-01","2012-09-01","2012-10-01","2012-11-01","2012-12-01","2013-01-01","2013-02-01","2013-03-01","2013-04-01","2013-05-01","2013-06-01","2013-07-01","2013-08-01","2013-09-01","2013-10-01","2013-11-01","2013-12-01","2014-01-01","2014-02-01","2014-03-01","2014-04-01","2014-05-01","2014-06-01","2014-07-01","2014-08-01","2014-09-01","2014-10-01","2014-11-01","2014-12-01","2015-01-01","2015-02-01","2015-03-01","2015-04-01","2015-05-01","2015-06-01","2015-07-01","2015-08-01","2015-09-01","2015-10-01","2015-11-01","2015-12-01","2016-01-01","2016-02-01","2016-03-01","2016-04-01","2016-05-01","2016-06-01","2016-07-01","2016-08-01","2016-09-01","2016-10-01","2016-11-01","2016-12-01","2017-01-01","2017-02-01","2017-03-01","2017-04-01","2017-05-01","2017-06-01","2017-07-01","2017-08-01","2017-09-01","2017-10-01","2017-11-01","2017-12-01","2018-01-01","2018-02-01","2018-03-01","2018-04-01","2018-05-01","2018-06-01","2018-07-01","2018-08-01","2018-09-01","2018-10-01","2018-11-01","2018-12-01"]
[null,"Demanda horaria (MWh)",35.200000000000003,34.4,31.9,31,31.3,31.5,33.9,33.799999999999997,32.299999999999997,32.4,33.700000000000003,35.1,35.9,35.4,33,32.1,31.1,32.700000000000003,33.700000000000003,34.5,33.5,32.299999999999997,36.6,41.3,40.5,36.799999999999997,35.4,30.7,30.2,35.200000000000003,36.6,35.5,34.1,33.6,33.299999999999997,38.200000000000003,39.700000000000003,38.200000000000003,34.700000000000003,34.299999999999997,32.799999999999997,34.6,36.9,37.5,36.6,34,37.700000000000003,36.9,35.6,35.6,33.4,30.1,31.8,36.1,35.6,35.299999999999997,33.9,34,33.200000000000003,34.5,37.700000000000003,39.200000000000003,34.6,32.6,33.1,34.5,33.1,34.4,34.1,33.6,34.299999999999997,36.6,35.6,36.200000000000003,34.4,30,29.8,31.4,33.299999999999997,34.799999999999997,34.9,32.6,34.299999999999997,35.9,37.299999999999997,36.6,34.6,32.1,31.7,33.4,32.799999999999997,34.200000000000003,36.5,33.5,32.799999999999997,35.1,39.5,37.1,31.4,30.3,30.4,31.9,35.799999999999997,34.700000000000003,33,31.4,30.8,31.9,33,35,34,33,31,33,34,36,37,33,33,35,39,33,31,31,30,34,33,34,35,30,31,33,36,39,33,33,30,30,32,"-","-","-","-","-"]
[null,"Día",24,8,28,16,21,18,31,3,10,2,27,17,3,19,5,9,7,30,29,6,11,21,30,15,13,5,4,1,27,23,30,20,8,29,24,16,10,3,15,14,31,30,29,12,1,6,29,1,31,2,10,11,31,30,12,8,13,4,30,19,16,13,1,19,15,27,4,2,20,10,6,3,22,28,4,15,21,25,31,21,5,1,27,2,21,11,4,1,14,17,16,27,1,2,12,15,21,5,24,14,29,10,23,10,1,20,5,10,20,18,9,4,19,14,25,1,5,4,29,19,18,2,2,28,26,19,12,21,7,26,16,18,15,7,7,10,8,28,23,"-","-","-","-","-"]
[null,"Hora",21,21,21,21,21,13,22,22,21,20,19,20,21,20,20,21,21,13,13,22,13,20,21,21,21,21,20,13,13,13,13,13,13,19,20,19,21,20,21,21,13,13,13,13,13,20,19,19,21,21,20,21,13,13,13,13,13,20,20,21,20,21,20,21,13,13,13,21,13,20,20,21,21,21,21,22,14,14,14,14,14,14,21,22,22,22,22,22,14,14,14,14,14,22,21,22,22,22,22,22,13,13,13,13,13,20,20,20,21,21,21,21,13,13,13,13,13,13,21,21,21,21,21,13,13,13,13,13,13,20,20,21,21,20,21,21,13,13,13,"-","-","-","-","-"]
[null,"Demanda máxima diaria diaria Ceuta"]
[null,"Demanda diaria (MWh)",647,664,589,578,573,580,620,624,606,611,607,631,634,636,587,575,575,606,630,639,631,595,649,723,713,656,614,570,558,653,672,670,655,623,616,676,710.79100000000005,698.45699999999999,622.726,612.98800000000006,601.68299999999999,640.60500000000002,677.44299999999998,708.654,699.37800000000004,636.75699999999995,689.154,650.38599999999997,624.36699999999996,608.09699999999998,590.19100000000003,538.69500000000005,587.91700000000003,648.09400000000005,656.43600000000004,643.61599999999999,617.32000000000005,623.47199999999998,598.09299999999996,618.94600000000003,666.62699999999995,698.38699999999994,612.46900000000005,590.81799999999998,607.91899999999998,630.53899999999999,612.95699999999999,663.21500000000003,626.64599999999996,617.98699999999997,629.36800000000005,642.71199999999999,642.28300000000002,625.61400000000003,624.09299999999996,535.84699999999998,544.21799999999996,575.06399999999996,638.596,655.83500000000004,647.06700000000001,599.76,640.68600000000004,649.45399999999995,671.77,671.16899999999998,633.16,575.63300000000004,595.81799999999998,622.70899999999995,628.31500000000005,654.00199999999995,670.60500000000002,629.22299999999996,618.28099999999995,645.19399999999996,713,654,573.85,573.04999999999995,584.44000000000005,605,668,663.31299999999999,621.37800000000004,587.22799999999995,599.20100000000002,597.95699999999999,608.82100000000003,629.41300000000001,595.98800000000006,621.428,593,628,643,749,686.32399999999996,633.20000000000005,625.29300000000001,653.90099999999995,703.15899999999999,599.75199999999995,547.31200000000001,634.92600000000004,584,644.42100000000005,618.93700000000001,665.16499999999996,644.95899999999995,555.101,597,622.65599999999995,673.26199999999994,707,620.91200000000003,589.69600000000003,572.70799999999997,578.62900000000002,600.61,"-","-","-","-","-"]
[null,"Día",26,2,28,11,30,29,31,2,7,9,29,17,16,19,4,17,8,30,29,4,11,23,27,2,21,5,4,1,20,30,30,20,8,14,26,16,11,3,2,14,31,30,29,31,1,7,29,1,26,3,9,13,31,30,28,1,13,4,30,20,16,9,1,19,15,27,30,3,13,10,6,4,24,28,4,30,10,25,31,21,5,1,28,2,21,12,5,1,14,17,16,27,1,1,20,16,21,10,24,28,18,30,28,3,8,27,6,15,20,18,7,26,24,14,25,3,7,6,24,19,18,10,3,28,30,19,31,4,13,26,20,20,15,8,13,10,8,28,4,"-","-","-","-","-"]
[null,null,"enero","febrero","marzo","abril","mayo","junio","julio","agosto","septiembre","octubre","noviembre","diciembre","enero","febrero","marzo","abril","mayo","junio","julio","agosto","septiembre","octubre","noviembre","diciembre","enero","febrero","marzo","abril","mayo","junio","julio","agosto","septiembre","octubre","noviembre","diciembre","enero","febrero","marzo","abril","mayo","junio","julio","agosto","septiembre","octubre","noviembre","diciembre","enero","febrero","marzo","abril","mayo","junio","julio","agosto","septiembre","octubre","noviembre","diciembre","enero","febrero","marzo","abril","mayo","junio","julio","agosto","septiembre","octubre","noviembre","diciembre","enero","febrero","marzo","abril","mayo","junio","julio","agosto","septiembre","octubre","noviembre","diciembre","enero","febrero","marzo","abril","mayo","junio","julio","agosto","septiembre","octubre","noviembre","diciembre","enero","febrero","marzo","abril","mayo","junio","julio","agosto","septiembre","octubre","noviembre","diciembre","enero","febrero","marzo","abril","mayo","junio","julio","agosto","septiembre","octubre","noviembre","diciembre","enero","febrero","marzo","abril","mayo","junio","julio","agosto","septiembre","octubre","noviembre","diciembre","enero","febrero","marzo","abril","mayo","junio","julio","agosto","septiembre","octubre","noviembre","diciembre"]
[null,"Demanda máxima horaria Melilla","2007-01-01","2007-02-01","2007-03-01","2007-04-01","2007-05-01","2007-06-01","2007-07-01","2007-08-01","2007-09-01","2007-10-01","2007-11-01","2007-12-01","2008-01-01","2008-02-01","2008-03-01","2008-04-01","2008-05-01","2008-06-01","2008-07-01","2008-08-01","2008-09-01","2008-10-01","2008-11-01","2008-12-01","2009-01-01","2009-02-01","2009-03-01","2009-04-01","2009-05-01","2009-06-01","2009-07-01","2009-08-01","2009-09-01","2009-10-01","2009-11-01","2009-12-01","2010-01-01","2010-02-01","2010-03-01","2010-04-01","2010-05-01","2010-06-01","2010-07-01","2010-08-01","2010-09-01","2010-10-01","2010-11-01","2010-12-01","2011-01-01","2011-02-01","2011-03-01","2011-04-01","2011-05-01","2011-06-01","2011-07-01","2011-08-01","2011-09-01","2011-10-01","2011-11-01","2011-12-01","2012-01-01","2012-02-01","2012-03-01","2012-04-01","2012-05-01","2012-06-01","2012-07-01","2012-08-01","2012-09-01","2012-10-01","2012-11-01","2012-12-01","2013-01-01","2013-02-01","2013-03-01","2013-04-01","2013-05-01","2013-06-01","2013-07-01","2013-08-01","2013-09-01","2013-10-01","2013-11-01","2013-12-01","2014-01-01","2014-02-01","2014-03-01","2014-04-01","2014-05-01","2014-06-01","2014-07-01","2014-08-01","2014-09-01","2014-10-01","2014-11-01","2014-12-01","2015-01-01","2015-02-01","2015-03-01","2015-04-01","2015-05-01","2015-06-01","2015-07-01","2015-08-01","2015-09-01","2015-10-01","2015-11-01","2015-12-01","2016-01-01","2016-02-01","2016-03-01","2016-04-01","2016-05-01","2016-06-01","2016-07-01","2016-08-01","2016-09-01","2016-10-01","2016-11-01","2016-12-01","2017-01-01","2017-02-01","2017-03-01","2017-04-01","2017-05-01","2017-06-01","2017-07-01","2017-08-01","2017-09-01","2017-10-01","2017-11-01","2017-12-01","2018-01-01","2018-02-01","2018-03-01","2018-04-01","2018-05-01","2018-06-01","2018-07-01","2018-08-01","2018-09-01","2018-10-01","2018-11-01","2018-12-01"]
[null,"Demanda horaria (MWh)",32.700000000000003,31.4,28.3,29.3,27.9,31.2,34,34.6,32,31.2,31.4,34.000000999999997,34.1,33,30.1,29.8,29.5,34.9,35.6,37.799999999999997,34.299999999999997,31.6,35.1,39.299999999999997,37.9,33.9,34.700000000000003,31.6,29.6,32.9,37.799999999999997,37.200000000000003,36.4,33,32.700000000000003,36.200000000000003,36.9,34.299999999999997,32.9,31,30,33.799999999999997,35.1,39.200000000000003,34.799999999999997,32.700000000000003,32.5,33.6,35.6,37.4,33.799999999999997,30.1,31.5,36,36.1,38.5,36.299999999999997,33.200000000000003,32.5,35.9,38.5,39.9,34,30.8,29.9,35.9,36.5,37.299999999999997,35,32.299999999999997,32.1,34.799999999999997,34.6,36.4,33.9,30.6,31.2,31.9,35.9,37.200000000000003,35.200000000000003,34.200000000000003,34.4,34.9,35.1,34.1,32.9,32.200000000000003,30.1,33,33.6,38,37.9,33.5,31.4,34.700000000000003,38.299999999999997,37.5,32.200000000000003,31.3,28.8,33,40.5,41.7,36.6,34,32.200000000000003,32.9,33,34,34.000000000001002,31,30,35,37,40.000000999999997,40,34,32,34,40,35,32,30,30,35,38,41,36,33,31,36,36,42,32,32,30,33,37,"-","-","-","-","-"]
[null,"Día",24,1,14,23,3,25,31,3,20,2,19,31,3,5,6,16,6,30,31,27,1,27,27,16,21,17,16,22,5,24,30,5,1,5,17,14,27,2,11,26,31,2,26,12,1,18,29,2,31,1,2,12,10,23,1,8,14,3,30,20,17,14,1,19,29,27,23,23,21,10,12,12,23,12,5,24,10,17,25,26,4,3,5,31,29,3,12,2,6,18,15,29,2,1,19,31,21,5,25,8,5,29,30,7,1,5,25,17,20,17,7,4,12,14,12,29,6,5,30,19,19,2,23,24,4,23,31,7,7,4,28,19,16,6,1,11,24,29,25,"-","-","-","-","-"]
[null,"Hora",21,21,20,21,21,12,13,12,20,20,19,20,18,21,20,21,21,13,13,13,13,19,19,21,20,20,20,21,21,13,13,13,13,20,19,21,19,21,20,21,13,13,13,13,13,20,19,20,21,21,20,21,21,13,13,13,13,20,19,21,21,21,20,22,13,13,13,13,13,20,20,20,22,21,21,22,14,14,14,14,14,21,20,21,21,22,21,22,22,14,14,14,14,21,21,21,22,22,21,22,21,13,13,13,13,20,20,20,20,21,20,21,21,12,13,13,13,20,20,21,21,21,20,21,21,13,13,13,13,13,20,21,21,21,21,21,21,13,13,"-","-","-","-","-"]
[null,"Demanda máxima diaria diaria Melilla"]
[null,"Demanda diaria (MWh)",587,551,530,548,548,603,673,679,589,602,568,615,617,592,550,542,555,623,641,688,625,569,589,640,663,604,583,547,555,637,719,726,701,597,568,627,655.50699999999995,615.36800000000005,603.81200000000001,571.06299999999999,587.31299999999999,651.44600000000003,707.31,765.99400000000003,716.90599999999995,606.47400000000005,613.51499999999999,628.74699999999996,644.31299999999999,666.77,604.58600000000001,565.16399999999999,585.87400000000002,683.74599999999998,691.78399999999999,750.24900000000002,696.98699999999997,640.09299999999996,596.06899999999996,638.67200000000003,677.03499999999997,687.13900000000001,612.41899999999998,573.005,590.851,696.79,704.65099999999995,741.60299999999995,670.29600000000005,615.76,580.35500000000002,612.971,614.90300000000002,641.70100000000002,598.14099999999996,561.72,588.31700000000001,596.86699999999996,696.798,709.44600000000003,657.58699999999999,638.80999999999995,619.79,612.755,626.476,616.87400000000002,586.06500000000005,567.97299999999996,566.89300000000003,617.846,654.60299999999995,724.6,709.79600000000005,627.36199999999997,581.83900000000006,626.04200000000003,673.26199999999994,663,572.85,562,571.14,653,781,782.09699999999998,686.83600000000001,621.178,579.13900000000001,595.47900000000004,597.23500000000001,585.447,566.46600000000001,596.84100000000001,560.50300000000004,672.17499999999995,688.17,723.928,792.88400000000001,627.53599999999994,583.87699999999995,599.00599999999997,712.86599999999999,602.14599999999996,550.61,563.19100000000003,561.49300000000005,657.20100000000002,724.90300000000002,763.76099999999997,683,617.34199999999998,581,635.23699999999997,641.23599999999999,714.73099999999999,583.72799999999995,590.06399999999996,568.154,640.60400000000004,735.26400000000001,"-","-","-","-","-"]
[null,"Día",26,1,28,23,11,25,31,1,7,2,27,19,3,5,10,28,7,26,31,27,19,7,27,2,12,16,4,24,20,24,30,5,1,13,25,16,27,1,2,27,31,2,26,31,1,21,29,2,31,1,18,29,27,30,1,16,14,3,29,20,17,14,1,12,31,28,13,10,20,11,20,12,24,12,1,4,10,17,25,6,11,7,28,3,29,18,5,1,12,19,24,29,1,1,26,15,21,6,25,9,13,30,23,7,1,6,25,17,20,18,7,26,25,14,13,5,5,6,30,22,20,1,2,18,30,22,31,8,6,4,28,19,18,6,1,26,23,28,25,"-","-","-","-","-"]
[null,null,"enero","febrero","marzo","abril","mayo","junio","julio","agosto","septiembre","octubre","noviembre","diciembre","enero","febrero","marzo","abril","mayo","junio","julio","agosto","septiembre","octubre","noviembre","diciembre","enero","febrero","marzo","abril","mayo","junio","julio","agosto","septiembre","octubre","noviembre","diciembre","enero","febrero","marzo","abril","mayo","junio","julio","agosto","septiembre","octubre","noviembre","diciembre","enero","febrero","marzo","abril","mayo","junio","julio","agosto","septiembre","octubre","noviembre","diciembre","enero","febrero","marzo","abril","mayo","junio","julio","agosto","septiembre","octubre","noviembre","diciembre","enero","febrero","marzo","abril","mayo","junio","julio","agosto","septiembre","octubre","noviembre","diciembre","enero","febrero","marzo","abril","mayo","junio","julio","agosto","septiembre","octubre","noviembre","diciembre","enero","febrero","marzo","abril","mayo","junio","julio","agosto","septiembre","octubre","noviembre","diciembre","enero","febrero","marzo","abril","mayo","junio","julio","agosto","septiembre","octubre","noviembre","diciembre","enero","febrero","marzo","abril","mayo","junio","julio","agosto","septiembre","octubre","noviembre","diciembre","enero","febrero","marzo","abril","mayo","junio","julio","agosto","septiembre","octubre","noviembre","diciembre"]
[null,"Potencia máxima instantánea peninsular ","1990","1990",1991,1991,"1992","1992","1993","1993","1994","1994","1995","1995","1996","1996","1997","1997","1998","1998","1999","1999","2000","2000","2001","2001","2002","2002","2003","2003","2004","2004","2005","2005","2006","2006","2007","2007","2008","2008","2009","2009","2010","2010","2011","2011","2012","2012","2013","2013","2014","2014","2015","2015","2016","2016","2017","2017","2018","2018","2019","2019"]
[null,null,"Invierno","Verano","Invierno","Verano","Invierno","Verano","Invierno","Verano","Invierno","Verano","Invierno","Verano","Invierno","Verano","Invierno","Verano","Invierno","Verano","Invierno","Verano","Invierno","Verano","Invierno","Verano","Invierno","Verano","Invierno","Verano","Invierno","Verano","Invierno","Verano","Invierno","Verano","Invierno","Verano","Invierno","Verano","Invierno","Verano","Invierno","Verano","Invierno","Verano","Invierno","Verano","Invierno","Verano","Invierno","Verano","Invierno","Verano","Invierno","Verano","Invierno","Verano","Invierno","Verano","Invierno","Verano"]
[null,"Potencia instantánea (MW)","-","-","-","-","-","-","-","-","-","-","-","-","-","-","-","-","-","-","-","-","-","-","-","-","-","-","-","-","-","-","-","-",42429.859400000001,40778.867200000001,45450,39504.972699999998,43252.167999999998,40407.058599999997,44495.910199999998,40487,44486,41318,43969,40139,43527,39124,40277,37570,38948,37299,40726,40192,38464,40489,41381,39536,40947,37967,"-","-"]
[null,"Día","-","-","-","-","-","-","-","-","-","-","-","-","-","-","-","-","-","-","-","-","-","-","-","-","-","-","-","-","-","-","-","-","20 de diciembre","13 de julio","17 de diciembre","27 de julio","15 de diciembre","1 de julio","13 de enero","1 de septiembre","12 de enero","19 de julio","24 de enero","28 de junio","13 de febrero","28 de junio","27 de febrero","10 de julio","4 de febrero","17 de julio","4 de febrero","21 de julio","17 de febrero","6 de septiembre","18 de enero","13 de julio","8 de febrero","9 de julio","-","-"]
[null,"Hora","-","-","-","-","-","-","-","-","-","-","-","-","-","-","-","-","-","-","-","-","-","-","-","-","-","-","-","-","-","-","-","-","18:58:16","13:27:29","18:53:00","13:25:42","18:59:07","13:22:27","18:41:03","12:55:00","18:56:00","13:26:00","20:06:00","13:24:00","20:21:00","13:23:00","20:42:00","13:32:00","20:18:00","13:21:00","19:56:00","13:33:00","20:37:00","13:32","19:50","13:36","20:24","13:34","-","-"]
[null,"Demanda máxima horaria  peninsular","1990","1990",1991,1991,"1992","1992","1993","1993","1994","1994","1995","1995","1996","1996","1997","1997","1998","1998","1999","1999","2000","2000","2001","2001","2002","2002","2003","2003","2004","2004","2005","2005","2006","2006","2007","2007","2008","2008","2009","2009","2010","2010","2011","2011","2012","2012","2013","2013","2014","2014","2015","2015","2016","2016","2017","2017","2018","2018","2019","2019"]
[null,null,"Invierno","Verano","Invierno","Verano","Invierno","Verano","Invierno","Verano","Invierno","Verano","Invierno","Verano","Invierno","Verano","Invierno","Verano","Invierno","Verano","Invierno","Verano","Invierno","Verano","Invierno","Verano","Invierno","Verano","Invierno","Verano","Invierno","Verano","Invierno","Verano","Invierno","Verano","Invierno","Verano","Invierno","Verano","Invierno","Verano","Invierno","Verano","Invierno","Verano","Invierno","Verano","Invierno","Verano","Invierno","Verano","Invierno","Verano","Invierno","Verano","Invierno","Verano","Invierno","Verano","Invierno","Verano"]
[null,"Demanda horaria (MWh)",25160,20185,24395,20792,25336,20347,23990,20355,24764,21879,25813,23334,25357,23025,27369,23788,29796,25710,31318,27792,33236,29388,35186,31238,34336,32304,37459,34661,37724,36619,43377.599999999999,38542.1,42152.9,40524.300000000003,44876.1,39038,42961.1,40156,44440.3,40225.699999999997,44122.400000000001,40934.300000000003,44106.7,39537.1,43010.2,39273.4,39963.300000000003,37399.4,38666.29,37019.730000000003,40323.769999999997,39927.599999999999,38239,40144,41015,39286,40693,37839,"-","-"]
[null,"Día","10 de diciembre","19 de julio","16 de enero","18 de julio","23 de enero","28 de julio","2 de marzo","29 de julio","19 de enero","15 de julio","14 de diciembre","21 de julio","11 de diciembre","24 de julio","16 de diciembre","10 de septiembre","2 de diciembre","23 de julio","21 de diciembre","2 de julio","25 de enero","30 de junio","19 de diciembre","25 de junio","9 de enero","18 de junio","4 de diciembre","27 de junio","2 de marzo","30 de junio","27 de enero","21 de julio","30 de enero","13 de julio","17 de diciembre","31 de julio","15 de diciembre","1 de julio","13 de enero","1 de septiembre","11 de enero","19 de julio","24 de enero","27 de junio","13 de febrero","27 de junio","27 de febrero","10 de julio","4 de febrero","17 de julio","4 de febrero","21 de julio","17 de febrero","6 de septiembre","18 de enero","13 de julio","8 de febrero","9 de julio","-","-"]
[null,"Hora",19,13,20,13,20,13,21,13,20,13,20,13,19,13,19,13,19,11,20,13,20,11,19,18,20,13,19,13,21,14,20,14,20,14,20,18,20,14,20,14,20,14,20,14,21,14,21,14,21,14,21,14,21,14,21,14,21,14,"-","-"]
[null,"Demanda máxima diaria peninsular","1990","1990",1991,1991,"1992","1992","1993","1993","1994","1994","1995","1995","1996","1996","1997","1997","1998","1998","1999","1999","2000","2000","2001","2001","2002","2002","2003","2003","2004","2004","2005","2005","2006","2006","2007","2007","2008","2008","2009","2009","2010","2010","2011","2011","2012","2012","2013","2013","2014","2014","2015","2015","2016","2016","2017","2017","2018","2018","2019","2019"]
[null,null,"Invierno","Verano","Invierno","Verano","Invierno","Verano","Invierno","Verano","Invierno","Verano","Invierno","Verano","Invierno","Verano","Invierno","Verano","Invierno","Verano","Invierno","Verano","Invierno","Verano","Invierno","Verano","Invierno","Verano","Invierno","Verano","Invierno","Verano","Invierno","Verano","Invierno","Verano","Invierno","Verano","Invierno","Verano","Invierno","Verano","Invierno","Verano","Invierno","Verano","Invierno","Verano","Invierno","Verano","Invierno","Verano","Invierno","Verano","Invierno","Verano","Invierno","Verano","Invierno","Verano","Invierno","Verano"]
[null,"Demanda diaria (GWh)",748.03300000000002,415.59199999999998,487.52499999999998,434.53,505.553,427.72300000000001,489.56200000000001,422.608,499.65100000000001,452.59800000000001,519.21100000000001,483.25299999999999,515.56100000000004,484.15,561.45299999999997,501.38600000000002,593.59400000000005,538.245,626.84799999999996,570.86500000000001,654.197,610.56299999999999,697.85699999999997,671.53200000000004,699.61699999999996,674.66399999999999,763.93,731.42499999999995,773.23400000000004,757.322,839.923,776.94100000000003,894.76,821.81899999999996,905.94899999999996,801.101,859.49599999999998,821.63699999999994,891.40599999999995,789.55399999999997,898.36462300000005,812.49490200000002,884.98057700000004,790.99148700000001,870.55558600000006,792.68335999999999,809.86843700000009,760.67546499999992,797.35862299999997,755.25547900000004,824.01817599999993,813.98779100000002,782.05723,816.945515,837.34863300000006,799.86615099999995,831.51018199999999,770.9846,"-","-"]
[null,"Día","31 de mayo","19 de julio","16 de enero","18 de julio","23 de enero","23 de julio","2 de marzo","29 de julio","19 de enero","5 de julio","15 de diciembre","20 de julio","11 de diciembre","24 de julio","16 de diciembre","10 de septiembre","2 de diciembre","17 de julio","25 de noviembre","2 de julio","13 de enero","30 de junio","19 de diciembre","25 de junio","10 de diciembre","18 de junio","15 de enero","26 de junio","15 de diciembre","30 de junio","14 de diciembre","21 de julio","1 de marzo","20 de julio","18 de diciembre","31 de julio","15 de enero","1 de julio","13 de enero","1 de septiembre","12 de enero","7 de julio","25 de enero","28 de junio","8 de febrero","28 de junio","23 de enero","10 de julio","11 de febrero","17 de julio","4 de febrero","21 de julio","18 de febrero","6 de septiembre","18 de enero","14 de julio","8 de febrero","11 de julio","-","-"]
[]
[null,"Demanda máxima horaria Islas Baleares","2006","2006","2007","2007","2008","2008","2009","2009","2010","2010","2011","2011","2012","2012","2013","2013","2014","2014","2015","2015","2016","2016","2017","2017","2018","2018","2019","2019","2020","2020"]
[null,null,"Invierno","Verano","Invierno","Verano","Invierno","Verano","Invierno","Verano","Invierno","Verano","Invierno","Verano","Invierno","Verano","Invierno","Verano","Invierno","Verano","Invierno","Verano","Invierno","Verano","Invierno","Verano","Invierno","Verano","Invierno","Verano","Invierno","Verano"]
[null,"Demanda horaria (MWh)",1046,1202.3,1046.5999999999999,1145,1060.2,1225.7,1110.8,1207.4000000000001,1104.4000000000001,1157.3,1025.5999999999999,1159.4000000000001,1100.0999999999999,1205.8,975.9,1187.4000000000001,906.1,1150.2,968.9,1204.8,931,1148,973,1354,1059,1208,"-","-","-","-"]
[null,"Día","2 de febrero","28 de julio","17 de diciembre","2 de agosto","15 de diciembre","12 de agosto","8 de enero","24 de julio","10 de marzo","27 de agosto","25 de enero","22 de agosto","14 de febrero","23 de agosto","26 de febrero","7 de agosto","31 de diciembre","11 de agosto","6 de febrero","29 de julio","4 de octubre","4 de agosto","17 de enero","3 de agosto","27 de febrero","31 de julio","-","-","-","-"]
[null,"Hora",20,19,21,22,20,22,20,20,21,22,21,22,21,22,21,22,20,22,21,14,21,22,21,20,21,14,"-","-","-","-"]
[null,"Demanda máxima diaria Islas Baleares","2006","2006","2007","2007","2008","2008","2009","2009","2010","2010","2011","2011","2012","2012","2013","2013","2014","2014","2015","2015","2016","2016","2017","2017","2018","2018","2019","2019","2020","2020"]
[null,null,"Invierno","Verano","Invierno","Verano","Invierno","Verano","Invierno","Verano","Invierno","Verano","Invierno","Verano","Invierno","Verano","Invierno","Verano","Invierno","Verano","Invierno","Verano","Invierno","Verano","Invierno","Verano","Invierno","Verano","Invierno","Verano","Invierno","Verano"]
[null,"Demanda diaria (MWh)",18972,23966,18497,22774,18907,24452,20030,24270,19663.082999999999,22555.181,18574.422999999999,22781.759999999998,20014.073,23528.983,18275.118999999999,23304.775000000001,16520.982,23152.337,18316.425999999999,24551.732,17453.96,23169.428,17757.977999999999,27395.807000000001,21573.205999999998,27853.466,"-","-","-","-"]
[null,"Día","7 de marzo","28 de julio","18 de diciembre","2 de agosto","16 de diciembre","31 de julio","8 de enero","24 de julio","10 de marzo","22 de julio","27 de enero","23 de agosto","08 de febrero","24 de agosto","04 de octubre","07 de agosto","01 de octubre","11 de agosto","6 de febrero","29 de julio","5 de octubre","4 de agosto","18 de enero","3 de agosto","20 de marzo","20 de julio","-","-","-","-"]
[]
[null,"Demanda máxima horaria Islas Canarias","2006","2006","2007","2007","2008","2008","2009","2009","2010","2010","2011","2011","2012","2012","2013","2013","2014","2014","2015","2015","2016","2016","2017","2017","2018","2018","2019","2019","2020","2020"]
[null,null,"Invierno","Verano","Invierno","Verano","Invierno","Verano","Invierno","Verano","Invierno","Verano","Invierno","Verano","Invierno","Verano","Invierno","Verano","Invierno","Verano","Invierno","Verano","Invierno","Verano","Invierno","Verano","Invierno","Verano","Invierno","Verano","Invierno","Verano"]
[null,"Demanda horaria (MWh)",1426.6,1432.4,1495.5,1486,1461.7,1426.6,1447.1,1460.1,1410.6,1435.7,1450.4,1430.2,1439.3,1402.1,1377.5,1336,1377.3,1322,1399.6,1372.5,1389,1384,1408,1381,1415,1297,"-","-","-","-"]
[null,"Día","14 de noviembre","5 de septiembre","8 de noviembre","30 de julio","31 de diciembre","24 de septiembre","28 de octubre","31 de julio","31 de diciembre","12 de agosto","31 de diciembre","23 de junio","15 de febrero","25 de septiembre","31 de diciembre","30 de septiembre","31 de diciembre","16 de septiembre","5 de octubre","12 de agosto","31 de diciembre","10 de agosto","17 de octubre","24 de agosto","8 de febrero","10 de julio","-","-","-","-"]
[null,"Hora",20,13,20,13,20,21,20,13,20,22,20,14,21,21,20,21,20,21,21,14,20,14,21,14,21,14,"-","-","-","-"]
[null,"Demanda máxima diaria Islas Canarias","2006","2006","2007","2007","2008","2008","2009","2009","2010","2010","2011","2011","2012","2012","2013","2013","2014","2014","2015","2015","2016","2016","2017","2017","2018","2018","2019","2019","2020","2020"]
[null,null,"Invierno","Verano","Invierno","Verano","Invierno","Verano","Invierno","Verano","Invierno","Verano","Invierno","Verano","Invierno","Verano","Invierno","Verano","Invierno","Verano","Invierno","Verano","Invierno","Verano","Invierno","Verano","Invierno","Verano","Invierno","Verano","Invierno","Verano"]
[null,"Demanda diaria (MWh)",26375,33490,27974,31549,27944,28320,27355,30250,26729.811000000002,28363.362000000001,26758.316999999999,27628.316999999999,26257.205000000002,27768.04,25684.02,26810.411,26418.67,26091.274000000001,26954.633999999998,27854.117999999999,26240.809000000001,28016.146000000001,30723.772000000001,28350.159,26048.311000000002,25859.02,"-","-","-","-"]
[null,"Día","3 de enero","10 de junio","24 de octubre","1 de agosto","4 de abril","9 de septiembre","8 de octubre","31 de julio","9 de marzo","12 de agosto","7 de octubre","22 de junio","10 de octubre","22 de agosto","1 de octubre","23 de agosto","28 de octubre","16 de septiembre","5 de octubre","13 de agosto","18 de octubre","10 de agosto","17 de noviembre","23 de agosto","31 de enero","10 de julio","-","-","-","-"]
[]
[null,"Demanda máxima horaria Ceuta","2007","2007","2008","2008","2009","2009","2010","2010","2011","2011","2012","2012","2013","2013","2014","2014","2015","2015","2016","2016","2017","2017","2018","2018","2019","2019","2020","2020","2021","2021"]
[null,null,"Invierno","Verano","Invierno","Verano","Invierno","Verano","Invierno","Verano","Invierno","Verano","Invierno","Verano","Invierno","Verano","Invierno","Verano","Invierno","Verano","Invierno","Verano","Invierno","Verano","Invierno","Verano","Invierno","Verano","Invierno","Verano","Invierno","Verano"]
[null,"Demanda horaria (MWh)",35.200000000000003,33.9,41.3,34.5,40.5,36.6,39.700000000000003,37.5,35.6,36.1,39.200000000000003,34.5,36.200000000000003,34.9,37.299999999999997,36.5,39.5,35.799999999999997,35,37,39,35,39,32,"-","-","-","-","-","-"]
[null,"Día","24 de enero","31 de julio","15 de diciembre","6 de agosto","13 de enero","30 de julio","10 de enero","12 de agosto","31 de enero","30 de junio","13 de febrero","27 de junio","28 de febrero","5 de septiembre","21 de enero","1 de septiembre","21 de enero","23 de julio","18 de febrero","5 de septiembre","18 de enero","7 de septiembre","7 de febrero","23 de julio","-","-","-","-","-","-"]
[null,"Hora",21,22,21,22,21,13,21,13,21,13,21,13,21,14,22,14,22,13,21,13,21,13,20,13,"-","-","-","-","-","-"]
[null,"Demanda máxima diaria diaria Ceuta","2007","2007","2008","2008","2009","2009","2010","2010","2011","2011","2012","2012","2013","2013","2014","2014","2015","2015","2016","2016","2017","2017","2018","2018","2019","2019","2020","2020","2021","2021"]
[null,null,"Invierno","Verano","Invierno","Verano","Invierno","Verano","Invierno","Verano","Invierno","Verano","Invierno","Verano","Invierno","Verano","Invierno","Verano","Invierno","Verano","Invierno","Verano","Invierno","Verano","Invierno","Verano","Invierno","Verano","Invierno","Verano","Invierno","Verano"]
[null,"Demanda diaria (MWh)",664,624,723,639,713,672,710.79100000000005,708.654,624.36699999999996,656.43600000000004,698.38699999999994,663.21500000000003,649.45399999999995,655.83500000000004,671.77,670.60500000000002,713,668,653.90099999999995,749,703.15899999999999,665.16499999999996,707,600.61,"-","-","-","-","-","-"]
[null,"Día","2 de febrero","2 de agosto","2 de diciembre","4 de agosto","21 de enero","30 de julio","11 de enero","31 de agosto","26 de enero","28 de julio","9 de febrero","3 de agosto","2 de diciembre","21 de agosto","21 de enero","1 de septiembre","21 de enero","28 de julio","19 de diciembre","3 de agosto","18 de enero","4 de agosto","8 de febrero","4 de julio","-","-","-","-","-","-"]
[]
[null,"Demanda máxima horaria Melilla","2007","2007","2008","2008","2009","2009","2010","2010","2011","2011","2012","2012","2013","2013","2014","2014","2015","2015","2016","2016","2017","2017","2018","2018","2019","2019","2020","2020","2021","2021"]
[null,null,"Invierno","Verano","Invierno","Verano","Invierno","Verano","Invierno","Verano","Invierno","Verano","Invierno","Verano","Invierno","Verano","Invierno","Verano","Invierno","Verano","Invierno","Verano","Invierno","Verano","Invierno","Verano","Invierno","Verano","Invierno","Verano","Invierno","Verano"]
[null,"Demanda horaria (MWh)",34.000000999999997,34.6,39.299999999999997,37.799999999999997,37.9,37.799999999999997,36.9,39.200000000000003,37.4,38.5,39.9,37.299999999999997,36.4,37.200000000000003,35.1,38,38.299999999999997,41.7,34.000000000001002,40.000000999999997,40,41,42,37,"-","-","-","-","-","-"]
[null,"Día","31 de diciembre","3 de agosto","16 de diciembre","27 de agosto","21 de enero","30 de julio","27 de enero","12 de agosto","1 de febrero","8 de agosto","14 de febrero","23 de agosto","12 de febrero","26 de agosto","29 de enero","29 de agosto","21 de enero","7 de agosto","7 de marzo","29 de agosto","19 de enero","7 de agosto","6 de febrero","25 de julio","-","-","-","-","-","-"]
[null,"Hora",20,12,21,13,20,13,19,13,21,13,21,13,21,14,21,14,22,13,20,13,21,13,21,13,"-","-","-","-","-","-"]
[null,"Demanda máxima diaria diaria Melilla","2007","2007","2008","2008","2009","2009","2010","2010","2011","2011","2012","2012","2013","2013","2014","2014","2015","2015","2016","2016","2017","2017","2018","2018","2019","2019","2020","2020","2021","2021"]
[null,null,"Invierno","Verano","Invierno","Verano","Invierno","Verano","Invierno","Verano","Invierno","Verano","Invierno","Verano","Invierno","Verano","Invierno","Verano","Invierno","Verano","Invierno","Verano","Invierno","Verano","Invierno","Verano","Invierno","Verano","Invierno","Verano","Invierno","Verano"]
[null,"Demanda diaria (MWh)",615,679,640,688,663,726,655.50699999999995,765.99400000000003,666.77,750.24900000000002,687.13900000000001,741.60299999999995,641.70100000000002,709.44600000000003,627.36199999999997,724.6,673.26199999999994,782.09699999999998,627.53599999999994,792.88400000000001,712.86599999999999,763.76099999999997,714.73099999999999,735.26400000000001,"-","-","-","-","-","-"]
[null,"Día","19 de diciembre","1 de agosto","2 de diciembre","27 de agosto","12 de enero","5 de agosto","27 de enero","31 de agosto","1 de febrero","16 de agosto","14 de febrero","10 de agosto","12 de febrero","6 de agosto","1 de octubre","29 de agosto","21 de enero","7 de agosto","6 de octubre","5 de septiembre","20 de enero","8 de agosto","6 de febrero","25 de julio","-","-","-","-","-","-"]

{"sheet":"Año","index":12,"n_rows":30,"n_cols":26,"rows_kept":30,"cut":false,"hidden":true,"merged":[]}
[null,null,null,null,null,null,null,null,null,null,null,null,null,null,null,null,null,null,null,null,null,null,null,null,1,1]
[null,1990,"1990-1994","2006-2015","2006-2010","2007-2011",null,null,null,null,null,null,null,null,"Peninsular","Mensual"]
[null,1991,"1995-1999",null,"2011-2015","2012-2016",null,null,null,null,null,null,null,null,"Canarias","Anual"]
[null,1992,"2000-2004",null,"2016-2020","2017-2021",null,null,null,null,null,null,null,null,"Baleares"]
[null,1993,"2005-2009",null,null,null,null,null,null,null,null,null,null,null,"Ceuta"]
[null,1994,"2010-2014",null,null,null,null,null,null,null,null,null,null,null,"Melilla"]
[null,1995,"2015-2019"]
[null,1996]
[null,1997]
[null,1998]
[null,1999]
[null,2000]
[null,2001]
[null,2002]
[null,2003]
[null,2004]
[null,2005]
[null,2006]
[null,2007]
[null,2008]
[null,2009]
[null,2010]
[null,2011]
[null,2012]
[null,2013]
[null,2014]
[null,2015]
[null,2016]
[null,2017]
[null,2018]