{"text_format":"1","workbook":"xlsx","n_sheets":35,"sheets":["AVISO LEGAL","Renovable mes nacional","Renovable año nacional","Renovable mes Peninsular","Renovable año Peninsular","Renovable mes Baleares","Renovable año Baleares","Renovable mes Canarias","Renovable año Canarias","Renovable mes Melilla","Renovable año Melilla","% Renovable mes nacional","% Renovable año nacional","% Renovable mes Peninsular","% Renovable año Peninsular","% Renovable mes Baleares","% Renovable año Baleares","% Renovable mes Canarias","% Renovable año Canarias","% Renovable mes Melilla","% Renovable año Melilla","Maxima renovable mes nacional","Maxima renovable año nacional","Maxima renovable mes Peninsular","Maxima renovable año Peninsular","Maxima renovable mes Baleares","Maxima renovable año Baleares","Maxima renovable mes Canarias","Maxima renovable año Canarias","Maxima renovable mes Melilla","Maxima renovable año Melilla","Renovable","Año","Maximo renovable año I-V","Maximos I-V"],"not_rendered":{"charts":0,"images":1,"macros":1,"external_links":0,"defined_names":32,"comments":0,"pivot_tables":0},"unopened":[],"bounds":{"document_bytes":16777216,"sheet_cells":100000,"rows_first":2000,"rows_last":500,"rows_between":2000,"halvings":0,"cell_chars":16384,"cell_head_chars":4096},"cells_cut":0,"cells_raw":0,"read":"whole","date_system":"1900"}

{"sheet":"AVISO LEGAL","index":0,"n_rows":23,"n_cols":10,"rows_kept":23,"cut":false,"hidden":false,"merged":[]}
[]
[null,null,null,null,null,null,null,"Fecha de actualización:",null,"2018-02-09"]
[]
[]
[]
[]
[]
[]
[]
[]
[]
[]
[]
[]
[]
[]
[]
[]
[]
[]
[]
[]
[null,null,null,null,null,null,null,null,null,"www.ree.es"]

{"sheet":"Renovable mes nacional","index":1,"n_rows":22,"n_cols":15,"rows_kept":22,"cut":false,"hidden":false,"merged":[[21,1,21,14],[5,2,5,9],[17,1,17,14],[18,1,18,14],[19,1,19,14],[20,1,20,14]]}
[null,null,null,null,null,null,null,null,null,null,null,null,null,null,12]
[]
[null,null,null,null,null,null,null,null,null,null,null,null,"Concepto"]
[null,null,null,null,null,null,null,null,null,null,null,null,"Sistema eléctrico"]
[null,null,null,null,null,null,null,null,null,null,null,null,"Horizonte temporal"]
[null,null,null,null,null,null,null,null,null,null,null,null,"Periodo"]
[]
[null,null,"Ene.","Feb.","Mar.","Abr.","May.","Jun.","Jul.","Ago.","Sep.","Oct.","Nov.","Dic.",{"$f":"OFFSET(Año!B19,($O$1-1),0)","v":2018}]
[]
[null,"Hidráulica (2)",{"$f":"OFFSET(Renovable!C32,0,($O$1-1)*12)","v":2152.8710000000001},{"$f":"OFFSET(Renovable!D32,0,($O$1-1)*12)","v":"-"},{"$f":"OFFSET(Renovable!E32,0,($O$1-1)*12)","v":"-"},{"$f":"OFFSET(Renovable!F32,0,($O$1-1)*12)","v":"-"},{"$f":"OFFSET(Renovable!G32,0,($O$1-1)*12)","v":"-"},{"$f":"OFFSET(Renovable!H32,0,($O$1-1)*12)","v":"-"},{"$f":"OFFSET(Renovable!I32,0,($O$1-1)*12)","v":"-"},{"$f":"OFFSET(Renovable!J32,0,($O$1-1)*12)","v":"-"},{"$f":"OFFSET(Renovable!K32,0,($O$1-1)*12)","v":"-"},{"$f":"OFFSET(Renovable!L32,0,($O$1-1)*12)","v":"-"},{"$f":"OFFSET(Renovable!M32,0,($O$1-1)*12)","v":"-"},{"$f":"OFFSET(Renovable!N32,0,($O$1-1)*12)","v":"-"},{"$f":"IF(SUM(C10:N10)=0,\"-\",SUM(C10:N10))","v":2152.8710000000001}]
[null,"Hidroeólica",{"$f":"OFFSET(Renovable!C33,0,($O$1-1)*12)","v":2.27014},{"$f":"OFFSET(Renovable!D33,0,($O$1-1)*12)","v":"-"},{"$f":"OFFSET(Renovable!E33,0,($O$1-1)*12)","v":"-"},{"$f":"OFFSET(Renovable!F33,0,($O$1-1)*12)","v":"-"},{"$f":"OFFSET(Renovable!G33,0,($O$1-1)*12)","v":"-"},{"$f":"OFFSET(Renovable!H33,0,($O$1-1)*12)","v":"-"},{"$f":"OFFSET(Renovable!I33,0,($O$1-1)*12)","v":"-"},{"$f":"OFFSET(Renovable!J33,0,($O$1-1)*12)","v":"-"},{"$f":"OFFSET(Renovable!K33,0,($O$1-1)*12)","v":"-"},{"$f":"OFFSET(Renovable!L33,0,($O$1-1)*12)","v":"-"},{"$f":"OFFSET(Renovable!M33,0,($O$1-1)*12)","v":"-"},{"$f":"OFFSET(Renovable!N33,0,($O$1-1)*12)","v":"-"},2.27014]
[null,"Eólica",{"$f":"OFFSET(Renovable!C34,0,($O$1-1)*12)","v":5347.5815320000002},{"$f":"OFFSET(Renovable!D34,0,($O$1-1)*12)","v":"-"},{"$f":"OFFSET(Renovable!E34,0,($O$1-1)*12)","v":"-"},{"$f":"OFFSET(Renovable!F34,0,($O$1-1)*12)","v":"-"},{"$f":"OFFSET(Renovable!G34,0,($O$1-1)*12)","v":"-"},{"$f":"OFFSET(Renovable!H34,0,($O$1-1)*12)","v":"-"},{"$f":"OFFSET(Renovable!I34,0,($O$1-1)*12)","v":"-"},{"$f":"OFFSET(Renovable!J34,0,($O$1-1)*12)","v":"-"},{"$f":"OFFSET(Renovable!K34,0,($O$1-1)*12)","v":"-"},{"$f":"OFFSET(Renovable!L34,0,($O$1-1)*12)","v":"-"},{"$f":"OFFSET(Renovable!M34,0,($O$1-1)*12)","v":"-"},{"$f":"OFFSET(Renovable!N34,0,($O$1-1)*12)","v":"-"},5347.5815320000002]
[null,"Solar fotovoltaica",{"$f":"OFFSET(Renovable!C35,0,($O$1-1)*12)","v":434.38106300000004},{"$f":"OFFSET(Renovable!D35,0,($O$1-1)*12)","v":"-"},{"$f":"OFFSET(Renovable!E35,0,($O$1-1)*12)","v":"-"},{"$f":"OFFSET(Renovable!F35,0,($O$1-1)*12)","v":"-"},{"$f":"OFFSET(Renovable!G35,0,($O$1-1)*12)","v":"-"},{"$f":"OFFSET(Renovable!H35,0,($O$1-1)*12)","v":"-"},{"$f":"OFFSET(Renovable!I35,0,($O$1-1)*12)","v":"-"},{"$f":"OFFSET(Renovable!J35,0,($O$1-1)*12)","v":"-"},{"$f":"OFFSET(Renovable!K35,0,($O$1-1)*12)","v":"-"},{"$f":"OFFSET(Renovable!L35,0,($O$1-1)*12)","v":"-"},{"$f":"OFFSET(Renovable!M35,0,($O$1-1)*12)","v":"-"},{"$f":"OFFSET(Renovable!N35,0,($O$1-1)*12)","v":"-"},434.38106300000004]
[null,"Solar térmica",{"$f":"OFFSET(Renovable!C36,0,($O$1-1)*12)","v":130.07689999999999},{"$f":"OFFSET(Renovable!D36,0,($O$1-1)*12)","v":"-"},{"$f":"OFFSET(Renovable!E36,0,($O$1-1)*12)","v":"-"},{"$f":"OFFSET(Renovable!F36,0,($O$1-1)*12)","v":"-"},{"$f":"OFFSET(Renovable!G36,0,($O$1-1)*12)","v":"-"},{"$f":"OFFSET(Renovable!H36,0,($O$1-1)*12)","v":"-"},{"$f":"OFFSET(Renovable!I36,0,($O$1-1)*12)","v":"-"},{"$f":"OFFSET(Renovable!J36,0,($O$1-1)*12)","v":"-"},{"$f":"OFFSET(Renovable!K36,0,($O$1-1)*12)","v":"-"},{"$f":"OFFSET(Renovable!L36,0,($O$1-1)*12)","v":"-"},{"$f":"OFFSET(Renovable!M36,0,($O$1-1)*12)","v":"-"},{"$f":"OFFSET(Renovable!N36,0,($O$1-1)*12)","v":"-"},130.07689999999999]
[null,"Térmica renovable (3)/Otras renovables (4)",{"$f":"OFFSET(Renovable!C37,0,($O$1-1)*12)","v":302.69605000000001},{"$f":"OFFSET(Renovable!D37,0,($O$1-1)*12)","v":"-"},{"$f":"OFFSET(Renovable!E37,0,($O$1-1)*12)","v":"-"},{"$f":"OFFSET(Renovable!F37,0,($O$1-1)*12)","v":"-"},{"$f":"OFFSET(Renovable!G37,0,($O$1-1)*12)","v":"-"},{"$f":"OFFSET(Renovable!H37,0,($O$1-1)*12)","v":"-"},{"$f":"OFFSET(Renovable!I37,0,($O$1-1)*12)","v":"-"},{"$f":"OFFSET(Renovable!J37,0,($O$1-1)*12)","v":"-"},{"$f":"OFFSET(Renovable!K37,0,($O$1-1)*12)","v":"-"},{"$f":"OFFSET(Renovable!L37,0,($O$1-1)*12)","v":"-"},{"$f":"OFFSET(Renovable!M37,0,($O$1-1)*12)","v":"-"},{"$f":"OFFSET(Renovable!N37,0,($O$1-1)*12)","v":"-"},{"$f":"IF(SUM(C15:N15)=0,\"-\",SUM(C15:N15))","v":302.69605000000001}]
[null,"Residuos renovables (5)",{"$f":"OFFSET(Renovable!C38,0,($O$1-1)*12)","v":76.418031499999998},{"$f":"OFFSET(Renovable!D38,0,($O$1-1)*12)","v":"-"},{"$f":"OFFSET(Renovable!E38,0,($O$1-1)*12)","v":"-"},{"$f":"OFFSET(Renovable!F38,0,($O$1-1)*12)","v":"-"},{"$f":"OFFSET(Renovable!G38,0,($O$1-1)*12)","v":"-"},{"$f":"OFFSET(Renovable!H38,0,($O$1-1)*12)","v":"-"},{"$f":"OFFSET(Renovable!I38,0,($O$1-1)*12)","v":"-"},{"$f":"OFFSET(Renovable!J38,0,($O$1-1)*12)","v":"-"},{"$f":"OFFSET(Renovable!K38,0,($O$1-1)*12)","v":"-"},{"$f":"OFFSET(Renovable!L38,0,($O$1-1)*12)","v":"-"},{"$f":"OFFSET(Renovable!M38,0,($O$1-1)*12)","v":"-"},{"$f":"OFFSET(Renovable!N38,0,($O$1-1)*12)","v":"-"},{"$f":"IF(SUM(C16:N16)=0,\"-\",SUM(C16:N16))","v":76.418031499999998}]
[null,"Generación renovable",{"$f":"IF(SUM(C10:C16)=0,\"-\",SUM(C10:C16))","v":8446.2947164999987},{"$f":"IF(SUM(D10:D16)=0,\"-\",SUM(D10:D16))","v":"-"},"-","-","-","-","-","-",{"$f":"IF(SUM(K10:K16)=0,\"-\",SUM(K10:K16))","v":"-"},"-","-","-",{"$f":"IF(SUM(C17:N17)=0,\"-\",SUM(C17:N17))","v":8446.2947164999987}]
[null,"(1) Asignación de unidades de producción según combustible principal."]
[null,"(2) No incluye la generación bombeo."]
[null,"(3) Incluye residuos hasta el 31/12/2014."]
[null,"(4) Otras renovables incluyen biogás, biomasa, hidráulica marina y geotérmica."]
[null,"(5) El 50% de la generación procedente de residuos sólidos urbanos se considera renovable."]

{"sheet":"Renovable año nacional","index":2,"n_rows":23,"n_cols":10,"rows_kept":23,"cut":false,"hidden":false,"merged":[[17,1,17,9],[18,1,18,14],[19,1,19,14],[20,1,20,14],[22,1,22,9],[21,1,21,14]]}
[null,null,null,null,null,null,null,null,null,2]
[]
[null,null,null,null,null,null,null,"Concepto"]
[null,null,null,null,null,null,null,"Sistema eléctrico"]
[null,null,null,null,null,null,null,"Horizonte temporal"]
[null,null,null,null,null,null,null,"Periodo"]
[]
[null,null,{"$f":"OFFSET(Renovable!C70,0,($J$1-1)*8)","v":2015},{"$f":"OFFSET(Renovable!D70,0,($J$1-1)*8)","v":2016},{"$f":"OFFSET(Renovable!E70,0,($J$1-1)*8)","v":2017},{"$f":"OFFSET(Renovable!F70,0,($J$1-1)*8)","v":2018},{"$f":"OFFSET(Renovable!G70,0,($J$1-1)*8)","v":2019},{"$f":"OFFSET(Renovable!H70,0,($J$1-1)*8)","v":2020},{"$f":"OFFSET(Renovable!I70,0,($J$1-1)*8)","v":2021},{"$f":"OFFSET(Renovable!J70,0,($J$1-1)*8)","v":2022}]
[]
[null,"Hidráulica (2)",{"$f":"OFFSET(Renovable!C71,0,($J$1-1)*8)","v":28315.850205956005},{"$f":"OFFSET(Renovable!D71,0,($J$1-1)*8)","v":35963.462907101995},{"$f":"OFFSET(Renovable!E71,0,($J$1-1)*8)","v":18362.407145035995},{"$f":"OFFSET(Renovable!F71,0,($J$1-1)*8)","v":2152.8710000000001},{"$f":"OFFSET(Renovable!G71,0,($J$1-1)*8)","v":"-"},{"$f":"OFFSET(Renovable!H71,0,($J$1-1)*8)","v":"-"},{"$f":"OFFSET(Renovable!I71,0,($J$1-1)*8)","v":"-"},{"$f":"OFFSET(Renovable!J71,0,($J$1-1)*8)","v":"-"}]
[null,"Hidroeólica",{"$f":"OFFSET(Renovable!C72,0,($J$1-1)*8)","v":8.5570660000000007},{"$f":"OFFSET(Renovable!D72,0,($J$1-1)*8)","v":18.102639},{"$f":"OFFSET(Renovable!E72,0,($J$1-1)*8)","v":20.398516000000001},{"$f":"OFFSET(Renovable!F72,0,($J$1-1)*8)","v":2.27014},{"$f":"OFFSET(Renovable!G72,0,($J$1-1)*8)","v":"-"},{"$f":"OFFSET(Renovable!H72,0,($J$1-1)*8)","v":"-"},{"$f":"OFFSET(Renovable!I72,0,($J$1-1)*8)","v":"-"},{"$f":"OFFSET(Renovable!J72,0,($J$1-1)*8)","v":"-"}]
[null,"Eólica",{"$f":"OFFSET(Renovable!C73,0,($J$1-1)*8)","v":48115.128071999992},{"$f":"OFFSET(Renovable!D73,0,($J$1-1)*8)","v":47696.670640000004},{"$f":"OFFSET(Renovable!E73,0,($J$1-1)*8)","v":47895.572},{"$f":"OFFSET(Renovable!F73,0,($J$1-1)*8)","v":5347.5815320000002},{"$f":"OFFSET(Renovable!G73,0,($J$1-1)*8)","v":"-"},{"$f":"OFFSET(Renovable!H73,0,($J$1-1)*8)","v":"-"},{"$f":"OFFSET(Renovable!I73,0,($J$1-1)*8)","v":"-"},{"$f":"OFFSET(Renovable!J73,0,($J$1-1)*8)","v":"-"}]
[null,"Solar fotovoltaica",{"$f":"OFFSET(Renovable!C74,0,($J$1-1)*8)","v":8243.0756409999995},{"$f":"OFFSET(Renovable!D74,0,($J$1-1)*8)","v":7977.5987999999988},{"$f":"OFFSET(Renovable!E74,0,($J$1-1)*8)","v":8373.8319999999985},{"$f":"OFFSET(Renovable!F74,0,($J$1-1)*8)","v":434.38106300000004},{"$f":"OFFSET(Renovable!G74,0,($J$1-1)*8)","v":"-"},{"$f":"OFFSET(Renovable!H74,0,($J$1-1)*8)","v":"-"},{"$f":"OFFSET(Renovable!I74,0,($J$1-1)*8)","v":"-"},{"$f":"OFFSET(Renovable!J74,0,($J$1-1)*8)","v":"-"}]
[null,"Solar térmica",{"$f":"OFFSET(Renovable!C75,0,($J$1-1)*8)","v":5085.2350000000006},{"$f":"OFFSET(Renovable!D75,0,($J$1-1)*8)","v":5071.2040000000006},{"$f":"OFFSET(Renovable!E75,0,($J$1-1)*8)","v":5347.9489999999996},{"$f":"OFFSET(Renovable!F75,0,($J$1-1)*8)","v":130.07689999999999},{"$f":"OFFSET(Renovable!G75,0,($J$1-1)*8)","v":"-"},{"$f":"OFFSET(Renovable!H75,0,($J$1-1)*8)","v":"-"},{"$f":"OFFSET(Renovable!I75,0,($J$1-1)*8)","v":"-"},{"$f":"OFFSET(Renovable!J75,0,($J$1-1)*8)","v":"-"}]
[null,"Térmica renovable (3)/Otras renovables (4)",{"$f":"OFFSET(Renovable!C76,0,($J$1-1)*8)","v":3183.9767660000002},{"$f":"OFFSET(Renovable!D76,0,($J$1-1)*8)","v":3424.5595199999998},{"$f":"OFFSET(Renovable!E76,0,($J$1-1)*8)","v":3612.8179999999998},{"$f":"OFFSET(Renovable!F76,0,($J$1-1)*8)","v":302.69605000000001},{"$f":"OFFSET(Renovable!G76,0,($J$1-1)*8)","v":"-"},{"$f":"OFFSET(Renovable!H76,0,($J$1-1)*8)","v":"-"},{"$f":"OFFSET(Renovable!I76,0,($J$1-1)*8)","v":"-"},{"$f":"OFFSET(Renovable!J76,0,($J$1-1)*8)","v":"-"}]
[null,"Residuos renovables (5)",{"$f":"OFFSET(Renovable!C77,0,($J$1-1)*8)","v":818.0485000000001},{"$f":"OFFSET(Renovable!D77,0,($J$1-1)*8)","v":785.39699999999993},{"$f":"OFFSET(Renovable!E77,0,($J$1-1)*8)","v":877.00649999999996},{"$f":"OFFSET(Renovable!F77,0,($J$1-1)*8)","v":76.418031499999998},{"$f":"OFFSET(Renovable!G77,0,($J$1-1)*8)","v":"-"},{"$f":"OFFSET(Renovable!H77,0,($J$1-1)*8)","v":"-"},{"$f":"OFFSET(Renovable!I77,0,($J$1-1)*8)","v":"-"},{"$f":"OFFSET(Renovable!J77,0,($J$1-1)*8)","v":"-"}]
[null,"Generación renovable",{"$f":"IF(SUM(C10:C16)=0,\"-\",SUM(C10:C16))","v":93769.871250956014},{"$f":"IF(SUM(D10:D16)=0,\"-\",SUM(D10:D16))","v":100936.99550610199},84489.983161035983,8446.2947164999987,"-","-","-","-"]
[null,"(1) Asignación de unidades de producción según combustible principal."]
[null,"(2) No incluye la generación bombeo."]
[null,"(3) Incluye residuos hasta el 31/12/2014."]
[null,"(4) Otras renovables incluyen biogás, biomasa, hidráulica marina y geotérmica."]
[null,"(5) El 50% de la generación procedente de residuos sólidos urbanos se considera renovable."]
[null,{"$f":"IF(J1=1,\"\",IF(MONTH(FACT)=1,CONCATENATE(\"    Para el año \",YEAR(FACT)-1, \" valores acumulados hasta \",TEXT(FACT-30,\"mmmm\"),\" de \",YEAR(FACT)-1,\".\"),CONCATENATE(\"    Para el año \",YEAR(FACT), \" valores acumulados hasta \",TEXT(FACT-30,\"mmmm\"),\" de \",YEAR(FACT),\".\")))","v":"    Para el año 2018 valores acumulados hasta enero de 2018."}]

{"sheet":"Renovable mes Peninsular","index":3,"n_rows":21,"n_cols":15,"rows_kept":21,"cut":false,"hidden":false,"merged":[[20,1,20,14],[5,2,5,9],[16,1,16,14],[17,1,17,14],[18,1,18,14],[19,1,19,14]]}
[null,null,null,null,null,null,null,null,null,null,null,null,null,null,29]
[]
[null,null,null,null,null,null,null,null,null,null,null,null,"Concepto"]
[null,null,null,null,null,null,null,null,null,null,null,null,"Sistema eléctrico"]
[null,null,null,null,null,null,null,null,null,null,null,null,"Horizonte temporal"]
[null,null,null,null,null,null,null,null,null,null,null,null,"Periodo"]
[]
[null,null,"Ene.","Feb.","Mar.","Abr.","May.","Jun.","Jul.","Ago.","Sep.","Oct.","Nov.","Dic.",{"$f":"OFFSET(Año!B2,($O$1-1),0)","v":2018}]
[]
[null,"Hidráulica (2)",{"$f":"OFFSET(Renovable!C3,0,($O$1-1)*12)","v":2152.8710000000001},{"$f":"OFFSET(Renovable!D3,0,($O$1-1)*12)","v":"-"},{"$f":"OFFSET(Renovable!E3,0,($O$1-1)*12)","v":"-"},{"$f":"OFFSET(Renovable!F3,0,($O$1-1)*12)","v":"-"},{"$f":"OFFSET(Renovable!G3,0,($O$1-1)*12)","v":"-"},{"$f":"OFFSET(Renovable!H3,0,($O$1-1)*12)","v":"-"},{"$f":"OFFSET(Renovable!I3,0,($O$1-1)*12)","v":"-"},{"$f":"OFFSET(Renovable!J3,0,($O$1-1)*12)","v":"-"},{"$f":"OFFSET(Renovable!K3,0,($O$1-1)*12)","v":"-"},{"$f":"OFFSET(Renovable!L3,0,($O$1-1)*12)","v":"-"},{"$f":"OFFSET(Renovable!M3,0,($O$1-1)*12)","v":"-"},{"$f":"OFFSET(Renovable!N3,0,($O$1-1)*12)","v":"-"},{"$f":"IF(SUM(C10:N10)=0,\"-\",SUM(C10:N10))","v":2152.8710000000001}]
[null,"Eólica",{"$f":"OFFSET(Renovable!C4,0,($O$1-1)*12)","v":5286.1355229999999},{"$f":"OFFSET(Renovable!D4,0,($O$1-1)*12)","v":"-"},{"$f":"OFFSET(Renovable!E4,0,($O$1-1)*12)","v":"-"},{"$f":"OFFSET(Renovable!F4,0,($O$1-1)*12)","v":"-"},{"$f":"OFFSET(Renovable!G4,0,($O$1-1)*12)","v":"-"},{"$f":"OFFSET(Renovable!H4,0,($O$1-1)*12)","v":"-"},{"$f":"OFFSET(Renovable!I4,0,($O$1-1)*12)","v":"-"},{"$f":"OFFSET(Renovable!J4,0,($O$1-1)*12)","v":"-"},{"$f":"OFFSET(Renovable!K4,0,($O$1-1)*12)","v":"-"},{"$f":"OFFSET(Renovable!L4,0,($O$1-1)*12)","v":"-"},{"$f":"OFFSET(Renovable!M4,0,($O$1-1)*12)","v":"-"},{"$f":"OFFSET(Renovable!N4,0,($O$1-1)*12)","v":"-"},5286.1355229999999]
[null,"Solar fotovoltaica",{"$f":"OFFSET(Renovable!C5,0,($O$1-1)*12)","v":409.40090000000004},{"$f":"OFFSET(Renovable!D5,0,($O$1-1)*12)","v":"-"},{"$f":"OFFSET(Renovable!E5,0,($O$1-1)*12)","v":"-"},{"$f":"OFFSET(Renovable!F5,0,($O$1-1)*12)","v":"-"},{"$f":"OFFSET(Renovable!G5,0,($O$1-1)*12)","v":"-"},{"$f":"OFFSET(Renovable!H5,0,($O$1-1)*12)","v":"-"},{"$f":"OFFSET(Renovable!I5,0,($O$1-1)*12)","v":"-"},{"$f":"OFFSET(Renovable!J5,0,($O$1-1)*12)","v":"-"},{"$f":"OFFSET(Renovable!K5,0,($O$1-1)*12)","v":"-"},{"$f":"OFFSET(Renovable!L5,0,($O$1-1)*12)","v":"-"},{"$f":"OFFSET(Renovable!M5,0,($O$1-1)*12)","v":"-"},{"$f":"OFFSET(Renovable!N5,0,($O$1-1)*12)","v":"-"},409.40090000000004]
[null,"Solar térmica",{"$f":"OFFSET(Renovable!C6,0,($O$1-1)*12)","v":130.07689999999999},{"$f":"OFFSET(Renovable!D6,0,($O$1-1)*12)","v":"-"},{"$f":"OFFSET(Renovable!E6,0,($O$1-1)*12)","v":"-"},{"$f":"OFFSET(Renovable!F6,0,($O$1-1)*12)","v":"-"},{"$f":"OFFSET(Renovable!G6,0,($O$1-1)*12)","v":"-"},{"$f":"OFFSET(Renovable!H6,0,($O$1-1)*12)","v":"-"},{"$f":"OFFSET(Renovable!I6,0,($O$1-1)*12)","v":"-"},{"$f":"OFFSET(Renovable!J6,0,($O$1-1)*12)","v":"-"},{"$f":"OFFSET(Renovable!K6,0,($O$1-1)*12)","v":"-"},{"$f":"OFFSET(Renovable!L6,0,($O$1-1)*12)","v":"-"},{"$f":"OFFSET(Renovable!M6,0,($O$1-1)*12)","v":"-"},{"$f":"OFFSET(Renovable!N6,0,($O$1-1)*12)","v":"-"},130.07689999999999]
[null,"Térmica renovable (3)/Otras renovables (4)",{"$f":"OFFSET(Renovable!C7,0,($O$1-1)*12)","v":302.56700000000001},{"$f":"OFFSET(Renovable!D7,0,($O$1-1)*12)","v":"-"},{"$f":"OFFSET(Renovable!E7,0,($O$1-1)*12)","v":"-"},{"$f":"OFFSET(Renovable!F7,0,($O$1-1)*12)","v":"-"},{"$f":"OFFSET(Renovable!G7,0,($O$1-1)*12)","v":"-"},{"$f":"OFFSET(Renovable!H7,0,($O$1-1)*12)","v":"-"},{"$f":"OFFSET(Renovable!I7,0,($O$1-1)*12)","v":"-"},{"$f":"OFFSET(Renovable!J7,0,($O$1-1)*12)","v":"-"},{"$f":"OFFSET(Renovable!K7,0,($O$1-1)*12)","v":"-"},{"$f":"OFFSET(Renovable!L7,0,($O$1-1)*12)","v":"-"},{"$f":"OFFSET(Renovable!M7,0,($O$1-1)*12)","v":"-"},{"$f":"OFFSET(Renovable!N7,0,($O$1-1)*12)","v":"-"},302.56700000000001]
[null,"Residuos renovables (5)",{"$f":"OFFSET(Renovable!C8,0,($O$1-1)*12)","v":68.332700000000003},{"$f":"OFFSET(Renovable!D8,0,($O$1-1)*12)","v":"-"},{"$f":"OFFSET(Renovable!E8,0,($O$1-1)*12)","v":"-"},{"$f":"OFFSET(Renovable!F8,0,($O$1-1)*12)","v":"-"},{"$f":"OFFSET(Renovable!G8,0,($O$1-1)*12)","v":"-"},{"$f":"OFFSET(Renovable!H8,0,($O$1-1)*12)","v":"-"},{"$f":"OFFSET(Renovable!I8,0,($O$1-1)*12)","v":"-"},{"$f":"OFFSET(Renovable!J8,0,($O$1-1)*12)","v":"-"},{"$f":"OFFSET(Renovable!K8,0,($O$1-1)*12)","v":"-"},{"$f":"OFFSET(Renovable!L8,0,($O$1-1)*12)","v":"-"},{"$f":"OFFSET(Renovable!M8,0,($O$1-1)*12)","v":"-"},{"$f":"OFFSET(Renovable!N8,0,($O$1-1)*12)","v":"-"},{"$f":"IF(SUM(C15:N15)=0,\"-\",SUM(C15:N15))","v":68.332700000000003}]
[null,"Generación renovable",{"$f":"IF(SUM(C10:C15)=0,\"-\",SUM(C10:C15))","v":8349.3840230000005},{"$f":"IF(SUM(D10:D15)=0,\"-\",SUM(D10:D15))","v":"-"},"-","-","-","-","-","-","-","-","-","-",8349.3840230000005]
[null,"(1) Asignación de unidades de producción según combustible principal."]
[null,"(2) No incluye la generación bombeo."]
[null,"(3) Incluye residuos hasta el 31/12/2014."]
[null,"(4) Otras renovables incluyen biogás, biomasa, hidráulica marina y geotérmica."]
[null,"(5) El 50% de la generación procedente de residuos sólidos urbanos se considera renovable."]

{"sheet":"Renovable año Peninsular","index":4,"n_rows":22,"n_cols":10,"rows_kept":22,"cut":false,"hidden":false,"merged":[[16,1,16,9],[21,1,21,9],[17,1,17,14],[18,1,18,14],[19,1,19,14],[20,1,20,14]]}
[null,null,null,null,null,null,null,null,null,4]
[]
[null,null,null,null,null,null,null,"Concepto"]
[null,null,null,null,null,null,null,"Sistema eléctrico"]
[null,null,null,null,null,null,null,"Horizonte temporal"]
[null,null,null,null,null,null,null,"Periodo"]
[]
[null,null,{"$f":"OFFSET(Renovable!C41,0,($J$1-1)*8)","v":2014},{"$f":"OFFSET(Renovable!D41,0,($J$1-1)*8)","v":2015},{"$f":"OFFSET(Renovable!E41,0,($J$1-1)*8)","v":2016},{"$f":"OFFSET(Renovable!F41,0,($J$1-1)*8)","v":2017},{"$f":"OFFSET(Renovable!G41,0,($J$1-1)*8)","v":2018},{"$f":"OFFSET(Renovable!H41,0,($J$1-1)*8)","v":2019},{"$f":"OFFSET(Renovable!I41,0,($J$1-1)*8)","v":2020},{"$f":"OFFSET(Renovable!J41,0,($J$1-1)*8)","v":2021}]
[]
[null,"Hidráulica (2)",{"$f":"OFFSET(Renovable!C42,0,($J$1-1)*8)","v":39112.398507204001},{"$f":"OFFSET(Renovable!D42,0,($J$1-1)*8)","v":28312.265005956004},{"$f":"OFFSET(Renovable!E42,0,($J$1-1)*8)","v":35959.990907101994},{"$f":"OFFSET(Renovable!F42,0,($J$1-1)*8)","v":18359.125145035996},{"$f":"OFFSET(Renovable!G42,0,($J$1-1)*8)","v":2152.8710000000001},{"$f":"OFFSET(Renovable!H42,0,($J$1-1)*8)","v":"-"},{"$f":"OFFSET(Renovable!I42,0,($J$1-1)*8)","v":"-"},{"$f":"OFFSET(Renovable!J42,0,($J$1-1)*8)","v":"-"}]
[null,"Eólica",{"$f":"OFFSET(Renovable!C43,0,($J$1-1)*8)","v":50634.89},{"$f":"OFFSET(Renovable!D43,0,($J$1-1)*8)","v":47713.149999999994},{"$f":"OFFSET(Renovable!E43,0,($J$1-1)*8)","v":47298.170000000006},{"$f":"OFFSET(Renovable!F43,0,($J$1-1)*8)","v":47496.792999999998},{"$f":"OFFSET(Renovable!G43,0,($J$1-1)*8)","v":5286.1355229999999},{"$f":"OFFSET(Renovable!H43,0,($J$1-1)*8)","v":"-"},{"$f":"OFFSET(Renovable!I43,0,($J$1-1)*8)","v":"-"},{"$f":"OFFSET(Renovable!J43,0,($J$1-1)*8)","v":"-"}]
[null,"Solar fotovoltaica",{"$f":"OFFSET(Renovable!C44,0,($J$1-1)*8)","v":7802.4239999999991},{"$f":"OFFSET(Renovable!D44,0,($J$1-1)*8)","v":7844.7979999999998},{"$f":"OFFSET(Renovable!E44,0,($J$1-1)*8)","v":7579.3129999999992},{"$f":"OFFSET(Renovable!F44,0,($J$1-1)*8)","v":7977.4299999999985},{"$f":"OFFSET(Renovable!G44,0,($J$1-1)*8)","v":409.40090000000004},{"$f":"OFFSET(Renovable!H44,0,($J$1-1)*8)","v":"-"},{"$f":"OFFSET(Renovable!I44,0,($J$1-1)*8)","v":"-"},{"$f":"OFFSET(Renovable!J44,0,($J$1-1)*8)","v":"-"}]
[null,"Solar térmica",{"$f":"OFFSET(Renovable!C45,0,($J$1-1)*8)","v":4958.9149999999991},{"$f":"OFFSET(Renovable!D45,0,($J$1-1)*8)","v":5085.2350000000006},{"$f":"OFFSET(Renovable!E45,0,($J$1-1)*8)","v":5071.2040000000006},{"$f":"OFFSET(Renovable!F45,0,($J$1-1)*8)","v":5347.9489999999996},{"$f":"OFFSET(Renovable!G45,0,($J$1-1)*8)","v":130.07689999999999},{"$f":"OFFSET(Renovable!H45,0,($J$1-1)*8)","v":"-"},{"$f":"OFFSET(Renovable!I45,0,($J$1-1)*8)","v":"-"},{"$f":"OFFSET(Renovable!J45,0,($J$1-1)*8)","v":"-"}]
[null,"Térmica renovable (3)/Otras renovables (4)",{"$f":"OFFSET(Renovable!C46,0,($J$1-1)*8)","v":4717.9780000000001},{"$f":"OFFSET(Renovable!D46,0,($J$1-1)*8)","v":3173.951},{"$f":"OFFSET(Renovable!E46,0,($J$1-1)*8)","v":3413.9139999999998},{"$f":"OFFSET(Renovable!F46,0,($J$1-1)*8)","v":3601.6279999999997},{"$f":"OFFSET(Renovable!G46,0,($J$1-1)*8)","v":302.56700000000001},{"$f":"OFFSET(Renovable!H46,0,($J$1-1)*8)","v":"-"},{"$f":"OFFSET(Renovable!I46,0,($J$1-1)*8)","v":"-"},{"$f":"OFFSET(Renovable!J46,0,($J$1-1)*8)","v":"-"}]
[null,"Residuos renovables (5)",{"$f":"OFFSET(Renovable!C47,0,($J$1-1)*8)","v":"-"},{"$f":"OFFSET(Renovable!D47,0,($J$1-1)*8)","v":662.65500000000009},{"$f":"OFFSET(Renovable!E47,0,($J$1-1)*8)","v":649.74149999999997},{"$f":"OFFSET(Renovable!F47,0,($J$1-1)*8)","v":728.15049999999997},{"$f":"OFFSET(Renovable!G47,0,($J$1-1)*8)","v":68.332700000000003},{"$f":"OFFSET(Renovable!H47,0,($J$1-1)*8)","v":"-"},{"$f":"OFFSET(Renovable!I47,0,($J$1-1)*8)","v":"-"},{"$f":"OFFSET(Renovable!J47,0,($J$1-1)*8)","v":"-"}]
[null,"Generación renovable",{"$f":"IF(SUM(C10:C15)=0,\"-\",SUM(C10:C15))","v":107226.605507204},{"$f":"IF(SUM(D10:D15)=0,\"-\",SUM(D10:D15))","v":92792.054005955986},99972.333407101993,83511.075645035977,8349.3840230000005,"-","-","-"]
[null,"(1) Asignación de unidades de producción según combustible principal."]
[null,"(2) No incluye la generación bombeo."]
[null,"(3) Incluye residuos hasta el 31/12/2014."]
[null,"(4) Otras renovables incluyen biogás, biomasa, hidráulica marina y geotérmica."]
[null,"(5) El 50% de la generación procedente de residuos sólidos urbanos se considera renovable."]
[null,{"$f":"IF(J1=4,IF(MONTH(FACT)=1,CONCATENATE(\"    Para el año \",YEAR(FACT)-1, \" valores acumulados hasta \",TEXT(FACT-30,\"mmmm\"),\" de \",YEAR(FACT)-1,\".\"),CONCATENATE(\"    Para el año \",YEAR(FACT), \" valores acumulados hasta \",TEXT(FACT-30,\"mmmm\"),\" de \",YEAR(FACT),\".\")))","v":"    Para el año 2018 valores acumulados hasta enero de 2018."}]

{"sheet":"Renovable mes Baleares","index":5,"n_rows":17,"n_cols":15,"rows_kept":17,"cut":false,"hidden":false,"merged":[[5,2,5,9],[14,1,14,14],[15,1,15,14],[16,1,16,14]]}
[null,null,null,null,null,null,null,null,null,null,null,null,null,null,13]
[]
[null,null,null,null,null,null,null,null,null,null,null,null,"Concepto"]
[null,null,null,null,null,null,null,null,null,null,null,null,"Sistema eléctrico"]
[null,null,null,null,null,null,null,null,null,null,null,null,"Horizonte temporal"]
[null,null,null,null,null,null,null,null,null,null,null,null,"Periodo"]
[]
[null,null,"Ene.","Feb.","Mar.","Abr.","May.","Jun.","Jul.","Ago.","Sep.","Oct.","Nov.","Dic.",{"$f":"OFFSET(Año!B18,($O$1-1),0)","v":2018}]
[]
[null,"Eólica",{"$f":"OFFSET(Renovable!C12,0,($O$1-1)*12)","v":271.41000000000003},{"$f":"OFFSET(Renovable!D12,0,($O$1-1)*12)","v":"-"},{"$f":"OFFSET(Renovable!E12,0,($O$1-1)*12)","v":"-"},{"$f":"OFFSET(Renovable!F12,0,($O$1-1)*12)","v":"-"},{"$f":"OFFSET(Renovable!G12,0,($O$1-1)*12)","v":"-"},{"$f":"OFFSET(Renovable!H12,0,($O$1-1)*12)","v":"-"},{"$f":"OFFSET(Renovable!I12,0,($O$1-1)*12)","v":"-"},{"$f":"OFFSET(Renovable!J12,0,($O$1-1)*12)","v":"-"},{"$f":"OFFSET(Renovable!K12,0,($O$1-1)*12)","v":"-"},{"$f":"OFFSET(Renovable!L12,0,($O$1-1)*12)","v":"-"},{"$f":"OFFSET(Renovable!M12,0,($O$1-1)*12)","v":"-"},{"$f":"OFFSET(Renovable!N12,0,($O$1-1)*12)","v":"-"},{"$f":"IF(SUM(C10:N10)=0,\"-\",SUM(C10:N10))","v":271.41000000000003}]
[null,"Solar fotovoltaica",{"$f":"OFFSET(Renovable!C13,0,($O$1-1)*12)","v":6585.1},{"$f":"OFFSET(Renovable!D13,0,($O$1-1)*12)","v":"-"},{"$f":"OFFSET(Renovable!E13,0,($O$1-1)*12)","v":"-"},{"$f":"OFFSET(Renovable!F13,0,($O$1-1)*12)","v":"-"},{"$f":"OFFSET(Renovable!G13,0,($O$1-1)*12)","v":"-"},{"$f":"OFFSET(Renovable!H13,0,($O$1-1)*12)","v":"-"},{"$f":"OFFSET(Renovable!I13,0,($O$1-1)*12)","v":"-"},{"$f":"OFFSET(Renovable!J13,0,($O$1-1)*12)","v":"-"},{"$f":"OFFSET(Renovable!K13,0,($O$1-1)*12)","v":"-"},{"$f":"OFFSET(Renovable!L13,0,($O$1-1)*12)","v":"-"},{"$f":"OFFSET(Renovable!M13,0,($O$1-1)*12)","v":"-"},{"$f":"OFFSET(Renovable!N13,0,($O$1-1)*12)","v":"-"},{"$f":"IF(SUM(C11:N11)=0,\"-\",SUM(C11:N11))","v":6585.1}]
[null,"Térmica renovable/Otras renovables (2)",{"$f":"OFFSET(Renovable!C14,0,($O$1-1)*12)","v":129.05000000000001},{"$f":"OFFSET(Renovable!D14,0,($O$1-1)*12)","v":"-"},{"$f":"OFFSET(Renovable!E14,0,($O$1-1)*12)","v":"-"},{"$f":"OFFSET(Renovable!F14,0,($O$1-1)*12)","v":"-"},{"$f":"OFFSET(Renovable!G14,0,($O$1-1)*12)","v":"-"},{"$f":"OFFSET(Renovable!H14,0,($O$1-1)*12)","v":"-"},{"$f":"OFFSET(Renovable!I14,0,($O$1-1)*12)","v":"-"},{"$f":"OFFSET(Renovable!J14,0,($O$1-1)*12)","v":"-"},{"$f":"OFFSET(Renovable!K14,0,($O$1-1)*12)","v":"-"},{"$f":"OFFSET(Renovable!L14,0,($O$1-1)*12)","v":"-"},{"$f":"OFFSET(Renovable!M14,0,($O$1-1)*12)","v":"-"},{"$f":"OFFSET(Renovable!N14,0,($O$1-1)*12)","v":"-"},{"$f":"IF(SUM(C12:N12)=0,\"-\",SUM(C12:N12))","v":129.05000000000001}]
[null,"Residuos renovables (3)",{"$f":"OFFSET(Renovable!C15,0,($O$1-1)*12)","v":7713.55},{"$f":"OFFSET(Renovable!D15,0,($O$1-1)*12)","v":"-"},{"$f":"OFFSET(Renovable!E15,0,($O$1-1)*12)","v":"-"},{"$f":"OFFSET(Renovable!F15,0,($O$1-1)*12)","v":"-"},{"$f":"OFFSET(Renovable!G15,0,($O$1-1)*12)","v":"-"},{"$f":"OFFSET(Renovable!H15,0,($O$1-1)*12)","v":"-"},{"$f":"OFFSET(Renovable!I15,0,($O$1-1)*12)","v":"-"},{"$f":"OFFSET(Renovable!J15,0,($O$1-1)*12)","v":"-"},{"$f":"OFFSET(Renovable!K15,0,($O$1-1)*12)","v":"-"},{"$f":"OFFSET(Renovable!L15,0,($O$1-1)*12)","v":"-"},{"$f":"OFFSET(Renovable!M15,0,($O$1-1)*12)","v":"-"},{"$f":"OFFSET(Renovable!N15,0,($O$1-1)*12)","v":"-"},{"$f":"IF(SUM(C13:N13)=0,\"-\",SUM(C13:N13))","v":7713.55}]
[null,"Generación renovable",{"$f":"IF(SUM(C10:C13)=0,\"-\",SUM(C10:C13))","v":14699.11},{"$f":"IF(SUM(D10:D13)=0,\"-\",SUM(D10:D13))","v":"-"},"-","-","-","-","-","-","-","-","-","-",{"$f":"IF(SUM(O10:O13)=0,\"-\",SUM(O10:O13))","v":14699.11}]
[null,"(1) Asignación de unidades de producción según combustible principal."]
[null,"(2) Otras renovables incluyen biogás y biomasa."]
[null,"(3) El 50% de la generación procedente de residuos sólidos urbanos se considera renovable."]

{"sheet":"Renovable año Baleares","index":6,"n_rows":18,"n_cols":10,"rows_kept":18,"cut":false,"hidden":false,"merged":[[14,1,14,9],[15,1,15,14],[17,1,17,9],[16,1,16,14]]}
[null,null,null,null,null,null,null,null,null,2]
[]
[null,null,null,null,null,null,null,"Concepto"]
[null,null,null,null,null,null,null,"Sistema eléctrico"]
[null,null,null,null,null,null,null,"Horizonte temporal"]
[null,null,null,null,null,null,null,"Periodo"]
[]
[null,null,{"$f":"OFFSET(Renovable!C50,0,($J$1-1)*8)","v":2014},{"$f":"OFFSET(Renovable!D50,0,($J$1-1)*8)","v":2015},{"$f":"OFFSET(Renovable!E50,0,($J$1-1)*8)","v":2016},{"$f":"OFFSET(Renovable!F50,0,($J$1-1)*8)","v":2017},{"$f":"OFFSET(Renovable!G50,0,($J$1-1)*8)","v":2018},{"$f":"OFFSET(Renovable!H50,0,($J$1-1)*8)","v":2019},{"$f":"OFFSET(Renovable!I50,0,($J$1-1)*8)","v":2020},{"$f":"OFFSET(Renovable!J50,0,($J$1-1)*8)","v":2021}]
[]
[null,"Eólica",{"$f":"OFFSET(Renovable!C51,0,($J$1-1)*8)","v":5839},{"$f":"OFFSET(Renovable!D51,0,($J$1-1)*8)","v":5317.02},{"$f":"OFFSET(Renovable!E51,0,($J$1-1)*8)","v":5414.6399999999994},{"$f":"OFFSET(Renovable!F51,0,($J$1-1)*8)","v":2925},{"$f":"OFFSET(Renovable!G51,0,($J$1-1)*8)","v":271.41000000000003},{"$f":"OFFSET(Renovable!H51,0,($J$1-1)*8)","v":"-"},{"$f":"OFFSET(Renovable!I51,0,($J$1-1)*8)","v":"-"},{"$f":"OFFSET(Renovable!J51,0,($J$1-1)*8)","v":"-"}]
[null,"Solar fotovoltaica",{"$f":"OFFSET(Renovable!C52,0,($J$1-1)*8)","v":122773},{"$f":"OFFSET(Renovable!D52,0,($J$1-1)*8)","v":122645.48},{"$f":"OFFSET(Renovable!E52,0,($J$1-1)*8)","v":120533.8},{"$f":"OFFSET(Renovable!F52,0,($J$1-1)*8)","v":122875},{"$f":"OFFSET(Renovable!G52,0,($J$1-1)*8)","v":6585.1},{"$f":"OFFSET(Renovable!H52,0,($J$1-1)*8)","v":"-"},{"$f":"OFFSET(Renovable!I52,0,($J$1-1)*8)","v":"-"},{"$f":"OFFSET(Renovable!J52,0,($J$1-1)*8)","v":"-"}]
[null,"Térmica renovable/Otras renovables (2)",{"$f":"OFFSET(Renovable!C53,0,($J$1-1)*8)","v":1944},{"$f":"OFFSET(Renovable!D53,0,($J$1-1)*8)","v":1972.55},{"$f":"OFFSET(Renovable!E53,0,($J$1-1)*8)","v":1309.52},{"$f":"OFFSET(Renovable!F53,0,($J$1-1)*8)","v":1625},{"$f":"OFFSET(Renovable!G53,0,($J$1-1)*8)","v":129.05000000000001},{"$f":"OFFSET(Renovable!H53,0,($J$1-1)*8)","v":"-"},{"$f":"OFFSET(Renovable!I53,0,($J$1-1)*8)","v":"-"},{"$f":"OFFSET(Renovable!J53,0,($J$1-1)*8)","v":"-"}]
[null,"Residuos renovables (3)",{"$f":"OFFSET(Renovable!C54,0,($J$1-1)*8)","v":"-"},{"$f":"OFFSET(Renovable!D54,0,($J$1-1)*8)","v":151098},{"$f":"OFFSET(Renovable!E54,0,($J$1-1)*8)","v":130805.5},{"$f":"OFFSET(Renovable!F54,0,($J$1-1)*8)","v":143878.5},{"$f":"OFFSET(Renovable!G54,0,($J$1-1)*8)","v":7713.55},{"$f":"OFFSET(Renovable!H54,0,($J$1-1)*8)","v":"-"},{"$f":"OFFSET(Renovable!I54,0,($J$1-1)*8)","v":"-"},{"$f":"OFFSET(Renovable!J54,0,($J$1-1)*8)","v":"-"}]
[null,"Generación renovable",{"$f":"IF(SUM(C10:C13)=0,\"-\",SUM(C10:C13))","v":130556},{"$f":"IF(SUM(D10:D13)=0,\"-\",SUM(D10:D13))","v":281033.05},258063.46000000002,271303.5,14699.11,"-","-","-"]
[null,"(1) Asignación de unidades de producción según combustible principal."]
[null,"(2) Otras renovables incluyen biogás y biomasa."]
[null,"(3) El 50% de la generación procedente de residuos sólidos urbanos se considera renovable."]
[null,{"$f":"IF(J1=1,\"\",IF(MONTH(FACT)=1,CONCATENATE(\"    Para el año \",YEAR(FACT)-1, \" valores acumulados hasta \",TEXT(FACT-30,\"mmmm\"),\" de \",YEAR(FACT)-1,\".\"),CONCATENATE(\"    Para el año \",YEAR(FACT), \" valores acumulados hasta \",TEXT(FACT-30,\"mmmm\"),\" de \",YEAR(FACT),\".\")))","v":"    Para el año 2018 valores acumulados hasta enero de 2018."}]

{"sheet":"Renovable mes Canarias","index":7,"n_rows":17,"n_cols":15,"rows_kept":17,"cut":false,"hidden":false,"merged":[[5,2,5,9],[15,1,15,14],[16,1,16,14]]}
[null,null,null,null,null,null,null,null,null,null,null,null,null,null,13]
[]
[null,null,null,null,null,null,null,null,null,null,null,null,"Concepto"]
[null,null,null,null,null,null,null,null,null,null,null,null,"Sistema eléctrico"]
[null,null,null,null,null,null,null,null,null,null,null,null,"Horizonte temporal"]
[null,null,null,null,null,null,null,null,null,null,null,null,"Periodo"]
[]
[null,null,"Ene.","Feb.","Mar.","Abr.","May.","Jun.","Jul.","Ago.","Sep.","Oct.","Nov.","Dic.",{"$f":"OFFSET(Año!B18,($O$1-1),0)","v":2018}]
[]
[null,"Hidráulica",{"$f":"OFFSET(Renovable!C19,0,($O$1-1)*12)","v":0},{"$f":"OFFSET(Renovable!D19,0,($O$1-1)*12)","v":"-"},{"$f":"OFFSET(Renovable!E19,0,($O$1-1)*12)","v":"-"},{"$f":"OFFSET(Renovable!F19,0,($O$1-1)*12)","v":"-"},{"$f":"OFFSET(Renovable!G19,0,($O$1-1)*12)","v":"-"},{"$f":"OFFSET(Renovable!H19,0,($O$1-1)*12)","v":"-"},{"$f":"OFFSET(Renovable!I19,0,($O$1-1)*12)","v":"-"},{"$f":"OFFSET(Renovable!J19,0,($O$1-1)*12)","v":"-"},{"$f":"OFFSET(Renovable!K19,0,($O$1-1)*12)","v":"-"},{"$f":"OFFSET(Renovable!L19,0,($O$1-1)*12)","v":"-"},{"$f":"OFFSET(Renovable!M19,0,($O$1-1)*12)","v":"-"},{"$f":"OFFSET(Renovable!N19,0,($O$1-1)*12)","v":"-"},{"$f":"IF(SUM(C10:N10)=0,\"-\",SUM(C10:N10))","v":"-"}]
[null,"Hidroeólica",{"$f":"OFFSET(Renovable!C20,0,($O$1-1)*12)","v":2270.14},{"$f":"OFFSET(Renovable!D20,0,($O$1-1)*12)","v":"-"},{"$f":"OFFSET(Renovable!E20,0,($O$1-1)*12)","v":"-"},{"$f":"OFFSET(Renovable!F20,0,($O$1-1)*12)","v":"-"},{"$f":"OFFSET(Renovable!G20,0,($O$1-1)*12)","v":"-"},{"$f":"OFFSET(Renovable!H20,0,($O$1-1)*12)","v":"-"},{"$f":"OFFSET(Renovable!I20,0,($O$1-1)*12)","v":"-"},{"$f":"OFFSET(Renovable!J20,0,($O$1-1)*12)","v":"-"},{"$f":"OFFSET(Renovable!K20,0,($O$1-1)*12)","v":"-"},{"$f":"OFFSET(Renovable!L20,0,($O$1-1)*12)","v":"-"},{"$f":"OFFSET(Renovable!M20,0,($O$1-1)*12)","v":"-"},{"$f":"OFFSET(Renovable!N20,0,($O$1-1)*12)","v":"-"},2270.14]
[null,"Eólica",{"$f":"OFFSET(Renovable!C21,0,($O$1-1)*12)","v":61174.599000000002},{"$f":"OFFSET(Renovable!D21,0,($O$1-1)*12)","v":"-"},{"$f":"OFFSET(Renovable!E21,0,($O$1-1)*12)","v":"-"},{"$f":"OFFSET(Renovable!F21,0,($O$1-1)*12)","v":"-"},{"$f":"OFFSET(Renovable!G21,0,($O$1-1)*12)","v":"-"},{"$f":"OFFSET(Renovable!H21,0,($O$1-1)*12)","v":"-"},{"$f":"OFFSET(Renovable!I21,0,($O$1-1)*12)","v":"-"},{"$f":"OFFSET(Renovable!J21,0,($O$1-1)*12)","v":"-"},{"$f":"OFFSET(Renovable!K21,0,($O$1-1)*12)","v":"-"},{"$f":"OFFSET(Renovable!L21,0,($O$1-1)*12)","v":"-"},{"$f":"OFFSET(Renovable!M21,0,($O$1-1)*12)","v":"-"},{"$f":"OFFSET(Renovable!N21,0,($O$1-1)*12)","v":"-"},61174.599000000002]
[null,"Solar fotovoltaica",{"$f":"OFFSET(Renovable!C22,0,($O$1-1)*12)","v":18395.062999999998},{"$f":"OFFSET(Renovable!D22,0,($O$1-1)*12)","v":"-"},{"$f":"OFFSET(Renovable!E22,0,($O$1-1)*12)","v":"-"},{"$f":"OFFSET(Renovable!F22,0,($O$1-1)*12)","v":"-"},{"$f":"OFFSET(Renovable!G22,0,($O$1-1)*12)","v":"-"},{"$f":"OFFSET(Renovable!H22,0,($O$1-1)*12)","v":"-"},{"$f":"OFFSET(Renovable!I22,0,($O$1-1)*12)","v":"-"},{"$f":"OFFSET(Renovable!J22,0,($O$1-1)*12)","v":"-"},{"$f":"OFFSET(Renovable!K22,0,($O$1-1)*12)","v":"-"},{"$f":"OFFSET(Renovable!L22,0,($O$1-1)*12)","v":"-"},{"$f":"OFFSET(Renovable!M22,0,($O$1-1)*12)","v":"-"},{"$f":"OFFSET(Renovable!N22,0,($O$1-1)*12)","v":"-"},18395.062999999998]
[null,"Térmica renovable/Otras renovables (2)",{"$f":"OFFSET(Renovable!C23,0,($O$1-1)*12)","v":0},{"$f":"OFFSET(Renovable!D23,0,($O$1-1)*12)","v":"-"},{"$f":"OFFSET(Renovable!E23,0,($O$1-1)*12)","v":"-"},{"$f":"OFFSET(Renovable!F23,0,($O$1-1)*12)","v":"-"},{"$f":"OFFSET(Renovable!G23,0,($O$1-1)*12)","v":"-"},{"$f":"OFFSET(Renovable!H23,0,($O$1-1)*12)","v":"-"},{"$f":"OFFSET(Renovable!I23,0,($O$1-1)*12)","v":"-"},{"$f":"OFFSET(Renovable!J23,0,($O$1-1)*12)","v":"-"},{"$f":"OFFSET(Renovable!K23,0,($O$1-1)*12)","v":"-"},{"$f":"OFFSET(Renovable!L23,0,($O$1-1)*12)","v":"-"},{"$f":"OFFSET(Renovable!M23,0,($O$1-1)*12)","v":"-"},{"$f":"OFFSET(Renovable!N23,0,($O$1-1)*12)","v":"-"},"-"]
[null,"Generación renovable",{"$f":"IF(SUM(C10:C14)=0,\"-\",SUM(C10:C14))","v":81839.801999999996},{"$f":"IF(SUM(D10:D14)=0,\"-\",SUM(D10:D14))","v":"-"},"-","-","-","-","-","-","-","-","-","-",81839.801999999996]
[null,"(1) Asignación de unidades de producción según combustible principal."]
[null,"(2) Otras renovables incluyen biogás y biomasa."]

{"sheet":"Renovable año Canarias","index":8,"n_rows":18,"n_cols":10,"rows_kept":18,"cut":false,"hidden":false,"merged":[[15,1,15,9],[16,1,16,14],[17,1,17,9]]}
[null,null,null,null,null,null,null,null,null,2]
[]
[null,null,null,null,null,null,null,"Concepto"]
[null,null,null,null,null,null,null,"Sistema eléctrico"]
[null,null,null,null,null,null,null,"Horizonte temporal"]
[null,null,null,null,null,null,null,"Periodo"]
[]
[null,null,{"$f":"OFFSET(Renovable!C57,0,($J$1-1)*8)","v":2014},{"$f":"OFFSET(Renovable!D57,0,($J$1-1)*8)","v":2015},{"$f":"OFFSET(Renovable!E57,0,($J$1-1)*8)","v":2016},{"$f":"OFFSET(Renovable!F57,0,($J$1-1)*8)","v":2017},{"$f":"OFFSET(Renovable!G57,0,($J$1-1)*8)","v":2018},{"$f":"OFFSET(Renovable!H57,0,($J$1-1)*8)","v":2019},{"$f":"OFFSET(Renovable!I57,0,($J$1-1)*8)","v":2020},{"$f":"OFFSET(Renovable!J57,0,($J$1-1)*8)","v":2021}]
[]
[null,"Hidráulica",{"$f":"OFFSET(Renovable!C58,0,($J$1-1)*8)","v":3479.0210000000002},{"$f":"OFFSET(Renovable!D58,0,($J$1-1)*8)","v":3585.2},{"$f":"OFFSET(Renovable!E58,0,($J$1-1)*8)","v":3472},{"$f":"OFFSET(Renovable!F58,0,($J$1-1)*8)","v":3282},{"$f":"OFFSET(Renovable!G58,0,($J$1-1)*8)","v":0},{"$f":"OFFSET(Renovable!H58,0,($J$1-1)*8)","v":"-"},{"$f":"OFFSET(Renovable!I58,0,($J$1-1)*8)","v":"-"},{"$f":"OFFSET(Renovable!J58,0,($J$1-1)*8)","v":"-"}]
[null,"Hidroeólica",{"$f":"OFFSET(Renovable!C59,0,($J$1-1)*8)","v":1071.8609999999999},{"$f":"OFFSET(Renovable!D59,0,($J$1-1)*8)","v":8557.0660000000007},{"$f":"OFFSET(Renovable!E59,0,($J$1-1)*8)","v":18102.638999999999},{"$f":"OFFSET(Renovable!F59,0,($J$1-1)*8)","v":20398.516},{"$f":"OFFSET(Renovable!G59,0,($J$1-1)*8)","v":2270.14},{"$f":"OFFSET(Renovable!H59,0,($J$1-1)*8)","v":"-"},{"$f":"OFFSET(Renovable!I59,0,($J$1-1)*8)","v":"-"},{"$f":"OFFSET(Renovable!J59,0,($J$1-1)*8)","v":"-"}]
[null,"Eólica",{"$f":"OFFSET(Renovable!C60,0,($J$1-1)*8)","v":389964},{"$f":"OFFSET(Renovable!D60,0,($J$1-1)*8)","v":396661.05200000003},{"$f":"OFFSET(Renovable!E60,0,($J$1-1)*8)","v":393086},{"$f":"OFFSET(Renovable!F60,0,($J$1-1)*8)","v":395854},{"$f":"OFFSET(Renovable!G60,0,($J$1-1)*8)","v":61174.599000000002},{"$f":"OFFSET(Renovable!H60,0,($J$1-1)*8)","v":"-"},{"$f":"OFFSET(Renovable!I60,0,($J$1-1)*8)","v":"-"},{"$f":"OFFSET(Renovable!J60,0,($J$1-1)*8)","v":"-"}]
[null,"Solar fotovoltaica",{"$f":"OFFSET(Renovable!C61,0,($J$1-1)*8)","v":282291},{"$f":"OFFSET(Renovable!D61,0,($J$1-1)*8)","v":275554.16099999996},{"$f":"OFFSET(Renovable!E61,0,($J$1-1)*8)","v":277674},{"$f":"OFFSET(Renovable!F61,0,($J$1-1)*8)","v":273451},{"$f":"OFFSET(Renovable!G61,0,($J$1-1)*8)","v":18395.062999999998},{"$f":"OFFSET(Renovable!H61,0,($J$1-1)*8)","v":"-"},{"$f":"OFFSET(Renovable!I61,0,($J$1-1)*8)","v":"-"},{"$f":"OFFSET(Renovable!J61,0,($J$1-1)*8)","v":"-"}]
[null,"Térmica renovable/Otras renovables (2)",{"$f":"OFFSET(Renovable!C62,0,($J$1-1)*8)","v":8806.7219999999998},{"$f":"OFFSET(Renovable!D62,0,($J$1-1)*8)","v":8053.2160000000003},{"$f":"OFFSET(Renovable!E62,0,($J$1-1)*8)","v":9336},{"$f":"OFFSET(Renovable!F62,0,($J$1-1)*8)","v":9565},{"$f":"OFFSET(Renovable!G62,0,($J$1-1)*8)","v":0},{"$f":"OFFSET(Renovable!H62,0,($J$1-1)*8)","v":"-"},{"$f":"OFFSET(Renovable!I62,0,($J$1-1)*8)","v":"-"},{"$f":"OFFSET(Renovable!J62,0,($J$1-1)*8)","v":"-"}]
[null,"Generación renovable",{"$f":"IF(SUM(C10:C14)=0,\"-\",SUM(C10:C14))","v":685612.60399999993},{"$f":"IF(SUM(D10:D14)=0,\"-\",SUM(D10:D14))","v":692410.69500000007},701670.63899999997,702550.51600000006,81839.801999999996,"-","-","-"]
[null,"(1) Asignación de unidades de producción según combustible principal."]
[null,"(2) Otras renovables incluyen biogás y biomasa."]
[null,{"$f":"IF(J1=1,\"\",IF(MONTH(FACT)=1,CONCATENATE(\"    Para el año \",YEAR(FACT)-1, \" valores acumulados hasta \",TEXT(FACT-30,\"mmmm\"),\" de \",YEAR(FACT)-1,\".\"),CONCATENATE(\"    Para el año \",YEAR(FACT), \" valores acumulados hasta \",TEXT(FACT-30,\"mmmm\"),\" de \",YEAR(FACT),\".\")))","v":"    Para el año 2018 valores acumulados hasta enero de 2018."}]

{"sheet":"Renovable mes Melilla","index":9,"n_rows":14,"n_cols":15,"rows_kept":14,"cut":false,"hidden":false,"merged":[[5,2,5,9],[12,1,12,14],[13,1,13,14]]}
[null,null,null,null,null,null,null,null,null,null,null,null,null,null,12]
[]
[null,null,null,null,null,null,null,null,null,null,null,null,"Concepto"]
[null,null,null,null,null,null,null,null,null,null,null,null,"Sistema eléctrico"]
[null,null,null,null,null,null,null,null,null,null,null,null,"Horizonte temporal"]
[null,null,null,null,null,null,null,null,null,null,null,null,"Periodo"]
[]
[null,null,"Ene.","Feb.","Mar.","Abr.","May.","Jun.","Jul.","Ago.","Sep.","Oct.","Nov.","Dic.",{"$f":"OFFSET(Año!B19,($O$1-1),0)","v":2018}]
[]
[null,"Solar fotovoltaica",{"$f":"OFFSET(Renovable!C27,0,($O$1-1)*12)","v":0},{"$f":"OFFSET(Renovable!D27,0,($O$1-1)*12)","v":"-"},{"$f":"OFFSET(Renovable!E27,0,($O$1-1)*12)","v":"-"},{"$f":"OFFSET(Renovable!F27,0,($O$1-1)*12)","v":"-"},{"$f":"OFFSET(Renovable!G27,0,($O$1-1)*12)","v":"-"},{"$f":"OFFSET(Renovable!H27,0,($O$1-1)*12)","v":"-"},{"$f":"OFFSET(Renovable!I27,0,($O$1-1)*12)","v":"-"},{"$f":"OFFSET(Renovable!J27,0,($O$1-1)*12)","v":"-"},{"$f":"OFFSET(Renovable!K27,0,($O$1-1)*12)","v":"-"},{"$f":"OFFSET(Renovable!L27,0,($O$1-1)*12)","v":"-"},{"$f":"OFFSET(Renovable!M27,0,($O$1-1)*12)","v":"-"},{"$f":"OFFSET(Renovable!N27,0,($O$1-1)*12)","v":"-"},{"$f":"IF(SUM(C10:N10)=0,\"-\",SUM(C10:N10))","v":"-"}]
[null,"Residuos renovables (2)",{"$f":"OFFSET(Renovable!C28,0,($O$1-1)*12)","v":371.78149999999999},{"$f":"OFFSET(Renovable!D28,0,($O$1-1)*12)","v":"-"},{"$f":"OFFSET(Renovable!E28,0,($O$1-1)*12)","v":"-"},{"$f":"OFFSET(Renovable!F28,0,($O$1-1)*12)","v":"-"},{"$f":"OFFSET(Renovable!G28,0,($O$1-1)*12)","v":"-"},{"$f":"OFFSET(Renovable!H28,0,($O$1-1)*12)","v":"-"},{"$f":"OFFSET(Renovable!I28,0,($O$1-1)*12)","v":"-"},{"$f":"OFFSET(Renovable!J28,0,($O$1-1)*12)","v":"-"},{"$f":"OFFSET(Renovable!K28,0,($O$1-1)*12)","v":"-"},{"$f":"OFFSET(Renovable!L28,0,($O$1-1)*12)","v":"-"},{"$f":"OFFSET(Renovable!M28,0,($O$1-1)*12)","v":"-"},{"$f":"OFFSET(Renovable!N28,0,($O$1-1)*12)","v":"-"},{"$f":"IF(SUM(C11:N11)=0,\"-\",SUM(C11:N11))","v":371.78149999999999}]
[null,"Generación renovable",{"$f":"IF(SUM(C10:C11)=0,\"-\",SUM(C10:C11))","v":371.78149999999999},"-","-","-","-",{"$f":"IF(SUM(H10:H11)=0,\"-\",SUM(H10:H11))","v":"-"},{"$f":"IF(SUM(I10:I11)=0,\"-\",SUM(I10:I11))","v":"-"},"-","-","-","-","-",{"$f":"SUM(O10:O11)","v":371.78149999999999}]
[null,"(1) Asignación de unidades de producción según combustible principal."]
[null,"(2) El 50% de la generación procedente de residuos sólidos urbanos se considera renovable."]

{"sheet":"Renovable año Melilla","index":10,"n_rows":15,"n_cols":10,"rows_kept":15,"cut":false,"hidden":false,"merged":[[12,1,12,9],[14,1,14,9],[13,1,13,14]]}
[null,null,null,null,null,null,null,null,null,2]
[]
[null,null,null,null,null,null,null,"Concepto"]
[null,null,null,null,null,null,null,"Sistema eléctrico"]
[null,null,null,null,null,null,null,"Horizonte temporal"]
[null,null,null,null,null,null,null,"Periodo"]
[]
[null,null,{"$f":"OFFSET(Renovable!C65,0,($J$1-1)*8)","v":2015},{"$f":"OFFSET(Renovable!D65,0,($J$1-1)*8)","v":2016},{"$f":"OFFSET(Renovable!E65,0,($J$1-1)*8)","v":2017},{"$f":"OFFSET(Renovable!F65,0,($J$1-1)*8)","v":2018},{"$f":"OFFSET(Renovable!G65,0,($J$1-1)*8)","v":2019},{"$f":"OFFSET(Renovable!H65,0,($J$1-1)*8)","v":2020},{"$f":"OFFSET(Renovable!I65,0,($J$1-1)*8)","v":2021},{"$f":"OFFSET(Renovable!J65,0,($J$1-1)*8)","v":2022}]
[]
[null,"Solar fotovoltaica",{"$f":"OFFSET(Renovable!C66,0,($J$1-1)*8)","v":78},{"$f":"OFFSET(Renovable!D66,0,($J$1-1)*8)","v":78},{"$f":"OFFSET(Renovable!E66,0,($J$1-1)*8)","v":76},{"$f":"OFFSET(Renovable!F66,0,($J$1-1)*8)","v":0},{"$f":"OFFSET(Renovable!G66,0,($J$1-1)*8)","v":"-"},{"$f":"OFFSET(Renovable!H66,0,($J$1-1)*8)","v":"-"},{"$f":"OFFSET(Renovable!I66,0,($J$1-1)*8)","v":"-"},{"$f":"OFFSET(Renovable!J66,0,($J$1-1)*8)","v":"-"}]
[null,"Residuos renovables (2)",{"$f":"OFFSET(Renovable!C67,0,($J$1-1)*8)","v":4295.5},{"$f":"OFFSET(Renovable!D67,0,($J$1-1)*8)","v":4850},{"$f":"OFFSET(Renovable!E67,0,($J$1-1)*8)","v":4977.5},{"$f":"OFFSET(Renovable!F67,0,($J$1-1)*8)","v":371.78149999999999},{"$f":"OFFSET(Renovable!G67,0,($J$1-1)*8)","v":"-"},{"$f":"OFFSET(Renovable!H67,0,($J$1-1)*8)","v":"-"},{"$f":"OFFSET(Renovable!I67,0,($J$1-1)*8)","v":"-"},{"$f":"OFFSET(Renovable!J67,0,($J$1-1)*8)","v":"-"}]
[null,"Generación renovable",{"$f":"IF(SUM(C10:C11)>0,SUM(C10:C11),\"-\")","v":4373.5},{"$f":"IF(SUM(D10:D11)>0,SUM(D10:D11),\"-\")","v":4928},5053.5,371.78149999999999,"-","-","-","-"]
[null,"(1) Asignación de unidades de producción según combustible principal."]
[null,"(2) El 50% de la generación procedente de residuos sólidos urbanos se considera renovable."]
[null,{"$f":"IF(J1=1,\"\",IF(MONTH(FACT)=1,CONCATENATE(\"    Para el año \",YEAR(FACT)-1, \" valores acumulados hasta \",TEXT(FACT-30,\"mmmm\"),\" de \",YEAR(FACT)-1,\".\"),CONCATENATE(\"    Para el año \",YEAR(FACT), \" valores acumulados hasta \",TEXT(FACT-30,\"mmmm\"),\" de \",YEAR(FACT),\".\")))","v":"    Para el año 2018 valores acumulados hasta enero de 2018."}]

{"sheet":"% Renovable mes nacional","index":11,"n_rows":22,"n_cols":15,"rows_kept":22,"cut":false,"hidden":false,"merged":[[21,1,21,14],[5,2,5,9],[17,1,17,14],[18,1,18,14],[19,1,19,14],[20,1,20,14]]}
[null,null,null,null,null,null,null,null,null,null,null,null,null,null,11]
[]
[null,null,null,null,null,null,null,null,null,null,null,null,"Concepto"]
[null,null,null,null,null,null,null,null,null,null,null,null,"Sistema eléctrico"]
[null,null,null,null,null,null,null,null,null,null,null,null,"Horizonte temporal"]
[null,null,null,null,null,null,null,null,null,null,null,null,"Periodo"]
[]
[null,null,"Ene.","Feb.","Mar.","Abr.","May.","Jun.","Jul.","Ago.","Sep.","Oct.","Nov.","Dic.",{"$f":"OFFSET(Año!B19,($O$1-1),0)","v":2017}]
[]
[null,"Hidráulica (2)",{"$f":"OFFSET(Renovable!C110,0,($O$1-1)*12)","v":8.1},{"$f":"OFFSET(Renovable!D110,0,($O$1-1)*12)","v":9.3000000000000007},{"$f":"OFFSET(Renovable!E110,0,($O$1-1)*12)","v":12.7},{"$f":"OFFSET(Renovable!F110,0,($O$1-1)*12)","v":8.9},{"$f":"OFFSET(Renovable!G110,0,($O$1-1)*12)","v":9.5},{"$f":"OFFSET(Renovable!H110,0,($O$1-1)*12)","v":7.4},{"$f":"OFFSET(Renovable!I110,0,($O$1-1)*12)","v":5.2},{"$f":"OFFSET(Renovable!J110,0,($O$1-1)*12)","v":5},{"$f":"OFFSET(Renovable!K110,0,($O$1-1)*12)","v":5.8},{"$f":"OFFSET(Renovable!L110,0,($O$1-1)*12)","v":3.9},{"$f":"OFFSET(Renovable!M110,0,($O$1-1)*12)","v":3.7},{"$f":"OFFSET(Renovable!N110,0,($O$1-1)*12)","v":5.2},{"$f":"OFFSET(Renovable!C149,0,($O$1-1))","v":7}]
[null,"Hidroeólica",{"$f":"OFFSET(Renovable!C111,0,($O$1-1)*12)","v":0},{"$f":"OFFSET(Renovable!D111,0,($O$1-1)*12)","v":0},{"$f":"OFFSET(Renovable!E111,0,($O$1-1)*12)","v":0},{"$f":"OFFSET(Renovable!F111,0,($O$1-1)*12)","v":0},{"$f":"OFFSET(Renovable!G111,0,($O$1-1)*12)","v":0},{"$f":"OFFSET(Renovable!H111,0,($O$1-1)*12)","v":0},{"$f":"OFFSET(Renovable!I111,0,($O$1-1)*12)","v":0},{"$f":"OFFSET(Renovable!J111,0,($O$1-1)*12)","v":0},{"$f":"OFFSET(Renovable!K111,0,($O$1-1)*12)","v":0},{"$f":"OFFSET(Renovable!L111,0,($O$1-1)*12)","v":0},{"$f":"OFFSET(Renovable!M111,0,($O$1-1)*12)","v":0},{"$f":"OFFSET(Renovable!N111,0,($O$1-1)*12)","v":0},{"$f":"OFFSET(Renovable!C150,0,($O$1-1))","v":0}]
[null,"Eólica",{"$f":"OFFSET(Renovable!C112,0,($O$1-1)*12)","v":19},{"$f":"OFFSET(Renovable!D112,0,($O$1-1)*12)","v":23.4},{"$f":"OFFSET(Renovable!E112,0,($O$1-1)*12)","v":22.3},{"$f":"OFFSET(Renovable!F112,0,($O$1-1)*12)","v":21.8},{"$f":"OFFSET(Renovable!G112,0,($O$1-1)*12)","v":17.100000000000001},{"$f":"OFFSET(Renovable!H112,0,($O$1-1)*12)","v":14.4},{"$f":"OFFSET(Renovable!I112,0,($O$1-1)*12)","v":14.9},{"$f":"OFFSET(Renovable!J112,0,($O$1-1)*12)","v":15.4},{"$f":"OFFSET(Renovable!K112,0,($O$1-1)*12)","v":14.1},{"$f":"OFFSET(Renovable!L112,0,($O$1-1)*12)","v":14.9},{"$f":"OFFSET(Renovable!M112,0,($O$1-1)*12)","v":17.5},{"$f":"OFFSET(Renovable!N112,0,($O$1-1)*12)","v":23.8},{"$f":"OFFSET(Renovable!C151,0,($O$1-1))","v":18.2}]
[null,"Solar fotovoltaica",{"$f":"OFFSET(Renovable!C113,0,($O$1-1)*12)","v":1.9},{"$f":"OFFSET(Renovable!D113,0,($O$1-1)*12)","v":2.1},{"$f":"OFFSET(Renovable!E113,0,($O$1-1)*12)","v":3.4},{"$f":"OFFSET(Renovable!F113,0,($O$1-1)*12)","v":4.3},{"$f":"OFFSET(Renovable!G113,0,($O$1-1)*12)","v":4.3},{"$f":"OFFSET(Renovable!H113,0,($O$1-1)*12)","v":4},{"$f":"OFFSET(Renovable!I113,0,($O$1-1)*12)","v":4},{"$f":"OFFSET(Renovable!J113,0,($O$1-1)*12)","v":3.8},{"$f":"OFFSET(Renovable!K113,0,($O$1-1)*12)","v":3.8},{"$f":"OFFSET(Renovable!L113,0,($O$1-1)*12)","v":3.1},{"$f":"OFFSET(Renovable!M113,0,($O$1-1)*12)","v":2.4},{"$f":"OFFSET(Renovable!N113,0,($O$1-1)*12)","v":1.8},{"$f":"OFFSET(Renovable!C152,0,($O$1-1))","v":3.2}]
[null,"Solar térmica",{"$f":"OFFSET(Renovable!C114,0,($O$1-1)*12)","v":0.6},{"$f":"OFFSET(Renovable!D114,0,($O$1-1)*12)","v":0.4},{"$f":"OFFSET(Renovable!E114,0,($O$1-1)*12)","v":1.6},{"$f":"OFFSET(Renovable!F114,0,($O$1-1)*12)","v":2.8},{"$f":"OFFSET(Renovable!G114,0,($O$1-1)*12)","v":3},{"$f":"OFFSET(Renovable!H114,0,($O$1-1)*12)","v":3.4},{"$f":"OFFSET(Renovable!I114,0,($O$1-1)*12)","v":3.6},{"$f":"OFFSET(Renovable!J114,0,($O$1-1)*12)","v":3.2},{"$f":"OFFSET(Renovable!K114,0,($O$1-1)*12)","v":3},{"$f":"OFFSET(Renovable!L114,0,($O$1-1)*12)","v":1.9},{"$f":"OFFSET(Renovable!M114,0,($O$1-1)*12)","v":1},{"$f":"OFFSET(Renovable!N114,0,($O$1-1)*12)","v":0.5},{"$f":"OFFSET(Renovable!C153,0,($O$1-1))","v":2}]
[null,"Térmica renovable (3)/Otras renovables (4)",{"$f":"OFFSET(Renovable!C115,0,($O$1-1)*12)","v":1.3},{"$f":"OFFSET(Renovable!D115,0,($O$1-1)*12)","v":1.4},{"$f":"OFFSET(Renovable!E115,0,($O$1-1)*12)","v":1.3},{"$f":"OFFSET(Renovable!F115,0,($O$1-1)*12)","v":1.2},{"$f":"OFFSET(Renovable!G115,0,($O$1-1)*12)","v":1.5},{"$f":"OFFSET(Renovable!H115,0,($O$1-1)*12)","v":1.4},{"$f":"OFFSET(Renovable!I115,0,($O$1-1)*12)","v":1.5},{"$f":"OFFSET(Renovable!J115,0,($O$1-1)*12)","v":1.5},{"$f":"OFFSET(Renovable!K115,0,($O$1-1)*12)","v":1.5},{"$f":"OFFSET(Renovable!L115,0,($O$1-1)*12)","v":1.4},{"$f":"OFFSET(Renovable!M115,0,($O$1-1)*12)","v":1.4},{"$f":"OFFSET(Renovable!N115,0,($O$1-1)*12)","v":1.3},{"$f":"OFFSET(Renovable!C154,0,($O$1-1))","v":1.4}]
[null,"Residuos renovables (5)",{"$f":"OFFSET(Renovable!C116,0,($O$1-1)*12)","v":0.3},{"$f":"OFFSET(Renovable!D116,0,($O$1-1)*12)","v":0.3},{"$f":"OFFSET(Renovable!E116,0,($O$1-1)*12)","v":0.3},{"$f":"OFFSET(Renovable!F116,0,($O$1-1)*12)","v":0.3},{"$f":"OFFSET(Renovable!G116,0,($O$1-1)*12)","v":0.2},{"$f":"OFFSET(Renovable!H116,0,($O$1-1)*12)","v":0.4},{"$f":"OFFSET(Renovable!I116,0,($O$1-1)*12)","v":0.4},{"$f":"OFFSET(Renovable!J116,0,($O$1-1)*12)","v":0.4},{"$f":"OFFSET(Renovable!K116,0,($O$1-1)*12)","v":0.4},{"$f":"OFFSET(Renovable!L116,0,($O$1-1)*12)","v":0.4},{"$f":"OFFSET(Renovable!M116,0,($O$1-1)*12)","v":0.3},{"$f":"OFFSET(Renovable!N116,0,($O$1-1)*12)","v":0.3},{"$f":"OFFSET(Renovable!C155,0,($O$1-1))","v":0.3}]
[null,"Generación renovable",{"$f":"IF(SUM(C10:C16)=0,\"-\",SUM(C10:C16))","v":31.200000000000003},{"$f":"IF(SUM(D10:D16)=0,\"-\",SUM(D10:D16))","v":36.9},41.599999999999994,39.299999999999997,35.600000000000009,30.999999999999996,29.6,29.299999999999997,28.599999999999998,25.599999999999998,26.299999999999997,32.9,{"$f":"IF(SUM(O10:O16)=0,\"-\",SUM(O10:O16))","v":32.099999999999994}]
[null,"(1) Asignación de unidades de producción según combustible principal."]
[null,"(2) No incluye la generación bombeo."]
[null,"(3) Incluye residuos hasta el 31/12/2014."]
[null,"(4) Otras renovables incluyen biogás, biomasa, hidráulica marina y geotérmica."]
[null,"(5) El 50% de la generación procedente de residuos sólidos urbanos se considera renovable."]

{"sheet":"% Renovable año nacional","index":12,"n_rows":23,"n_cols":10,"rows_kept":23,"cut":false,"hidden":false,"merged":[[17,1,17,9],[18,1,18,9],[19,1,19,9],[20,1,20,9],[22,1,22,9],[21,1,21,14]]}
[null,null,null,null,null,null,null,null,null,2]
[]
[null,null,null,null,null,null,null,"Concepto"]
[null,null,null,null,null,null,null,"Sistema eléctrico"]
[null,null,null,null,null,null,null,"Horizonte temporal"]
[null,null,null,null,null,null,null,"Periodo"]
[]
[null,null,{"$f":"OFFSET(Renovable!C148,0,($J$1-1)*8)","v":2015},{"$f":"OFFSET(Renovable!D148,0,($J$1-1)*8)","v":2016},{"$f":"OFFSET(Renovable!E148,0,($J$1-1)*8)","v":2017},{"$f":"OFFSET(Renovable!F148,0,($J$1-1)*8)","v":2018},{"$f":"OFFSET(Renovable!G148,0,($J$1-1)*8)","v":2019},{"$f":"OFFSET(Renovable!H148,0,($J$1-1)*8)","v":2020},{"$f":"OFFSET(Renovable!I148,0,($J$1-1)*8)","v":2021},{"$f":"OFFSET(Renovable!J148,0,($J$1-1)*8)","v":2022}]
[]
[null,"Hidráulica (2)",{"$f":"OFFSET(Renovable!C149,0,($J$1-1)*8)","v":10.6},{"$f":"OFFSET(Renovable!D149,0,($J$1-1)*8)","v":13.7},{"$f":"OFFSET(Renovable!E149,0,($J$1-1)*8)","v":7},{"$f":"OFFSET(Renovable!F149,0,($J$1-1)*8)","v":9.4},{"$f":"OFFSET(Renovable!G149,0,($J$1-1)*8)","v":"-"},{"$f":"OFFSET(Renovable!H149,0,($J$1-1)*8)","v":"-"},{"$f":"OFFSET(Renovable!I149,0,($J$1-1)*8)","v":"-"},{"$f":"OFFSET(Renovable!J149,0,($J$1-1)*8)","v":"-"}]
[null,"Hidroeólica",{"$f":"OFFSET(Renovable!C150,0,($J$1-1)*8)","v":0},{"$f":"OFFSET(Renovable!D150,0,($J$1-1)*8)","v":0},{"$f":"OFFSET(Renovable!E150,0,($J$1-1)*8)","v":0},{"$f":"OFFSET(Renovable!F150,0,($J$1-1)*8)","v":0},{"$f":"OFFSET(Renovable!G150,0,($J$1-1)*8)","v":"-"},{"$f":"OFFSET(Renovable!H150,0,($J$1-1)*8)","v":"-"},{"$f":"OFFSET(Renovable!I150,0,($J$1-1)*8)","v":"-"},{"$f":"OFFSET(Renovable!J150,0,($J$1-1)*8)","v":"-"}]
[null,"Eólica",{"$f":"OFFSET(Renovable!C151,0,($J$1-1)*8)","v":18},{"$f":"OFFSET(Renovable!D151,0,($J$1-1)*8)","v":18.2},{"$f":"OFFSET(Renovable!E151,0,($J$1-1)*8)","v":18.2},{"$f":"OFFSET(Renovable!F151,0,($J$1-1)*8)","v":23.3},{"$f":"OFFSET(Renovable!G151,0,($J$1-1)*8)","v":"-"},{"$f":"OFFSET(Renovable!H151,0,($J$1-1)*8)","v":"-"},{"$f":"OFFSET(Renovable!I151,0,($J$1-1)*8)","v":"-"},{"$f":"OFFSET(Renovable!J151,0,($J$1-1)*8)","v":"-"}]
[null,"Solar fotovoltaica",{"$f":"OFFSET(Renovable!C152,0,($J$1-1)*8)","v":3.1},{"$f":"OFFSET(Renovable!D152,0,($J$1-1)*8)","v":3},{"$f":"OFFSET(Renovable!E152,0,($J$1-1)*8)","v":3.2},{"$f":"OFFSET(Renovable!F152,0,($J$1-1)*8)","v":1.9},{"$f":"OFFSET(Renovable!G152,0,($J$1-1)*8)","v":"-"},{"$f":"OFFSET(Renovable!H152,0,($J$1-1)*8)","v":"-"},{"$f":"OFFSET(Renovable!I152,0,($J$1-1)*8)","v":"-"},{"$f":"OFFSET(Renovable!J152,0,($J$1-1)*8)","v":"-"}]
[null,"Solar térmica",{"$f":"OFFSET(Renovable!C153,0,($J$1-1)*8)","v":1.9},{"$f":"OFFSET(Renovable!D153,0,($J$1-1)*8)","v":1.9},{"$f":"OFFSET(Renovable!E153,0,($J$1-1)*8)","v":2},{"$f":"OFFSET(Renovable!F153,0,($J$1-1)*8)","v":0.6},{"$f":"OFFSET(Renovable!G153,0,($J$1-1)*8)","v":"-"},{"$f":"OFFSET(Renovable!H153,0,($J$1-1)*8)","v":"-"},{"$f":"OFFSET(Renovable!I153,0,($J$1-1)*8)","v":"-"},{"$f":"OFFSET(Renovable!J153,0,($J$1-1)*8)","v":"-"}]
[null,"Térmica renovable (3)/Otras renovables (4)",{"$f":"OFFSET(Renovable!C154,0,($J$1-1)*8)","v":1.2},{"$f":"OFFSET(Renovable!D154,0,($J$1-1)*8)","v":1.3},{"$f":"OFFSET(Renovable!E154,0,($J$1-1)*8)","v":1.4},{"$f":"OFFSET(Renovable!F154,0,($J$1-1)*8)","v":1.3},{"$f":"OFFSET(Renovable!G154,0,($J$1-1)*8)","v":"-"},{"$f":"OFFSET(Renovable!H154,0,($J$1-1)*8)","v":"-"},{"$f":"OFFSET(Renovable!I154,0,($J$1-1)*8)","v":"-"},{"$f":"OFFSET(Renovable!J154,0,($J$1-1)*8)","v":"-"}]
[null,"Residuos renovables (5)",{"$f":"OFFSET(Renovable!C155,0,($J$1-1)*8)","v":0.3},{"$f":"OFFSET(Renovable!D155,0,($J$1-1)*8)","v":0.3},{"$f":"OFFSET(Renovable!E155,0,($J$1-1)*8)","v":0.3},{"$f":"OFFSET(Renovable!F155,0,($J$1-1)*8)","v":0.3},{"$f":"OFFSET(Renovable!G155,0,($J$1-1)*8)","v":"-"},{"$f":"OFFSET(Renovable!H155,0,($J$1-1)*8)","v":"-"},{"$f":"OFFSET(Renovable!I155,0,($J$1-1)*8)","v":"-"},{"$f":"OFFSET(Renovable!J155,0,($J$1-1)*8)","v":"-"}]
[null,"Generación renovable",{"$f":"IF(SUM(C10:C16)=0,\"-\",SUM(C10:C16))","v":35.1},{"$f":"IF(SUM(D10:D16)=0,\"-\",SUM(D10:D16))","v":38.399999999999991},{"$f":"IF(SUM(E10:E16)=0,\"-\",SUM(E10:E16))","v":32.099999999999994},36.799999999999997,"-","-","-","-"]
[null,"(1) Asignación de unidades de producción según combustible principal."]
[null,"(2) No incluye la generación bombeo."]
[null,"(3) Incluye residuos hasta el 31/12/2014."]
[null,"(4) Otras renovables incluyen biogás, biomasa, hidráulica marina y geotérmica."]
[null,"(5) El 50% de la generación procedente de residuos sólidos urbanos se considera renovable."]
[null,{"$f":"IF(J1=1,\"\",IF(MONTH(FACT)=1,CONCATENATE(\"    Para el año \",YEAR(FACT)-1, \" valores acumulados hasta \",TEXT(FACT-30,\"mmmm\"),\" de \",YEAR(FACT)-1,\".\"),CONCATENATE(\"    Para el año \",YEAR(FACT), \" valores acumulados hasta \",TEXT(FACT-30,\"mmmm\"),\" de \",YEAR(FACT),\".\")))","v":"    Para el año 2018 valores acumulados hasta enero de 2018."}]

{"sheet":"% Renovable mes Peninsular","index":13,"n_rows":21,"n_cols":15,"rows_kept":21,"cut":false,"hidden":false,"merged":[[20,1,20,14],[5,2,5,9],[16,1,16,14],[17,1,17,14],[18,1,18,14],[19,1,19,14]]}
[null,null,null,null,null,null,null,null,null,null,null,null,null,null,29]
[]
[null,null,null,null,null,null,null,null,null,null,null,null,"Concepto"]
[null,null,null,null,null,null,null,null,null,null,null,null,"Sistema eléctrico"]
[null,null,null,null,null,null,null,null,null,null,null,null,"Horizonte temporal"]
[null,null,null,null,null,null,null,null,null,null,null,null,"Periodo"]
[]
[null,null,"Ene.","Feb.","Mar.","Abr.","May.","Jun.","Jul.","Ago.","Sep.","Oct.","Nov.","Dic.",{"$f":"OFFSET(Año!B2,($O$1-1),0)","v":2018}]
[]
[null,"Hidráulica (2)",{"$f":"OFFSET(Renovable!C81,0,($O$1-1)*12)","v":9.9},{"$f":"OFFSET(Renovable!D81,0,($O$1-1)*12)","v":"-"},{"$f":"OFFSET(Renovable!E81,0,($O$1-1)*12)","v":"-"},{"$f":"OFFSET(Renovable!F81,0,($O$1-1)*12)","v":"-"},{"$f":"OFFSET(Renovable!G81,0,($O$1-1)*12)","v":"-"},{"$f":"OFFSET(Renovable!H81,0,($O$1-1)*12)","v":"-"},{"$f":"OFFSET(Renovable!I81,0,($O$1-1)*12)","v":"-"},{"$f":"OFFSET(Renovable!J81,0,($O$1-1)*12)","v":"-"},{"$f":"OFFSET(Renovable!K81,0,($O$1-1)*12)","v":"-"},{"$f":"OFFSET(Renovable!L81,0,($O$1-1)*12)","v":"-"},{"$f":"OFFSET(Renovable!M81,0,($O$1-1)*12)","v":"-"},{"$f":"OFFSET(Renovable!N81,0,($O$1-1)*12)","v":"-"},{"$f":"OFFSET(Renovable!C120,0,($O$1-1))","v":9.9}]
[null,"Eólica",{"$f":"OFFSET(Renovable!C82,0,($O$1-1)*12)","v":24.3},{"$f":"OFFSET(Renovable!D82,0,($O$1-1)*12)","v":"-"},{"$f":"OFFSET(Renovable!E82,0,($O$1-1)*12)","v":"-"},{"$f":"OFFSET(Renovable!F82,0,($O$1-1)*12)","v":"-"},{"$f":"OFFSET(Renovable!G82,0,($O$1-1)*12)","v":"-"},{"$f":"OFFSET(Renovable!H82,0,($O$1-1)*12)","v":"-"},{"$f":"OFFSET(Renovable!I82,0,($O$1-1)*12)","v":"-"},{"$f":"OFFSET(Renovable!J82,0,($O$1-1)*12)","v":"-"},{"$f":"OFFSET(Renovable!K82,0,($O$1-1)*12)","v":"-"},{"$f":"OFFSET(Renovable!L82,0,($O$1-1)*12)","v":"-"},{"$f":"OFFSET(Renovable!M82,0,($O$1-1)*12)","v":"-"},{"$f":"OFFSET(Renovable!N82,0,($O$1-1)*12)","v":"-"},{"$f":"OFFSET(Renovable!C121,0,($O$1-1))","v":24.3}]
[null,"Solar fotovoltaica",{"$f":"OFFSET(Renovable!C83,0,($O$1-1)*12)","v":1.9},{"$f":"OFFSET(Renovable!D83,0,($O$1-1)*12)","v":"-"},{"$f":"OFFSET(Renovable!E83,0,($O$1-1)*12)","v":"-"},{"$f":"OFFSET(Renovable!F83,0,($O$1-1)*12)","v":"-"},{"$f":"OFFSET(Renovable!G83,0,($O$1-1)*12)","v":"-"},{"$f":"OFFSET(Renovable!H83,0,($O$1-1)*12)","v":"-"},{"$f":"OFFSET(Renovable!I83,0,($O$1-1)*12)","v":"-"},{"$f":"OFFSET(Renovable!J83,0,($O$1-1)*12)","v":"-"},{"$f":"OFFSET(Renovable!K83,0,($O$1-1)*12)","v":"-"},{"$f":"OFFSET(Renovable!L83,0,($O$1-1)*12)","v":"-"},{"$f":"OFFSET(Renovable!M83,0,($O$1-1)*12)","v":"-"},{"$f":"OFFSET(Renovable!N83,0,($O$1-1)*12)","v":"-"},{"$f":"OFFSET(Renovable!C122,0,($O$1-1))","v":1.9}]
[null,"Solar térmica",{"$f":"OFFSET(Renovable!C84,0,($O$1-1)*12)","v":0.6},{"$f":"OFFSET(Renovable!D84,0,($O$1-1)*12)","v":"-"},{"$f":"OFFSET(Renovable!E84,0,($O$1-1)*12)","v":"-"},{"$f":"OFFSET(Renovable!F84,0,($O$1-1)*12)","v":"-"},{"$f":"OFFSET(Renovable!G84,0,($O$1-1)*12)","v":"-"},{"$f":"OFFSET(Renovable!H84,0,($O$1-1)*12)","v":"-"},{"$f":"OFFSET(Renovable!I84,0,($O$1-1)*12)","v":"-"},{"$f":"OFFSET(Renovable!J84,0,($O$1-1)*12)","v":"-"},{"$f":"OFFSET(Renovable!K84,0,($O$1-1)*12)","v":"-"},{"$f":"OFFSET(Renovable!L84,0,($O$1-1)*12)","v":"-"},{"$f":"OFFSET(Renovable!M84,0,($O$1-1)*12)","v":"-"},{"$f":"OFFSET(Renovable!N84,0,($O$1-1)*12)","v":"-"},{"$f":"OFFSET(Renovable!C123,0,($O$1-1))","v":0.6}]
[null,"Térmica renovable (3)/Otras renovables (4)",{"$f":"OFFSET(Renovable!C85,0,($O$1-1)*12)","v":1.4},{"$f":"OFFSET(Renovable!D85,0,($O$1-1)*12)","v":"-"},{"$f":"OFFSET(Renovable!E85,0,($O$1-1)*12)","v":"-"},{"$f":"OFFSET(Renovable!F85,0,($O$1-1)*12)","v":"-"},{"$f":"OFFSET(Renovable!G85,0,($O$1-1)*12)","v":"-"},{"$f":"OFFSET(Renovable!H85,0,($O$1-1)*12)","v":"-"},{"$f":"OFFSET(Renovable!I85,0,($O$1-1)*12)","v":"-"},{"$f":"OFFSET(Renovable!J85,0,($O$1-1)*12)","v":"-"},{"$f":"OFFSET(Renovable!K85,0,($O$1-1)*12)","v":"-"},{"$f":"OFFSET(Renovable!L85,0,($O$1-1)*12)","v":"-"},{"$f":"OFFSET(Renovable!M85,0,($O$1-1)*12)","v":"-"},{"$f":"OFFSET(Renovable!N85,0,($O$1-1)*12)","v":"-"},{"$f":"OFFSET(Renovable!C124,0,($O$1-1))","v":1.4}]
[null,"Residuos renovables (5)",{"$f":"OFFSET(Renovable!C86,0,($O$1-1)*12)","v":0.3},{"$f":"OFFSET(Renovable!D86,0,($O$1-1)*12)","v":"-"},{"$f":"OFFSET(Renovable!E86,0,($O$1-1)*12)","v":"-"},{"$f":"OFFSET(Renovable!F86,0,($O$1-1)*12)","v":"-"},{"$f":"OFFSET(Renovable!G86,0,($O$1-1)*12)","v":"-"},{"$f":"OFFSET(Renovable!H86,0,($O$1-1)*12)","v":"-"},{"$f":"OFFSET(Renovable!I86,0,($O$1-1)*12)","v":"-"},{"$f":"OFFSET(Renovable!J86,0,($O$1-1)*12)","v":"-"},{"$f":"OFFSET(Renovable!K86,0,($O$1-1)*12)","v":"-"},{"$f":"OFFSET(Renovable!L86,0,($O$1-1)*12)","v":"-"},{"$f":"OFFSET(Renovable!M86,0,($O$1-1)*12)","v":"-"},{"$f":"OFFSET(Renovable!N86,0,($O$1-1)*12)","v":"-"},{"$f":"OFFSET(Renovable!C125,0,($O$1-1))","v":0.3}]
[null,"Generación renovable",{"$f":"IF(SUM(C10:C15)=0,\"-\",SUM(C10:C15))","v":38.4},{"$f":"IF(SUM(D10:D15)=0,\"-\",SUM(D10:D15))","v":"-"},"-","-","-","-","-","-","-","-","-","-",38.4]
[null,"(1) Asignación de unidades de producción según combustible principal."]
[null,"(2) No incluye la generación bombeo."]
[null,"(3) Incluye residuos hasta el 31/12/2014."]
[null,"(4) Otras renovables incluyen biogás, biomasa, hidráulica marina y geotérmica."]
[null,"(5) El 50% de la generación procedente de residuos sólidos urbanos se considera renovable."]

{"sheet":"% Renovable año Peninsular","index":14,"n_rows":22,"n_cols":10,"rows_kept":22,"cut":false,"hidden":false,"merged":[[16,1,16,9],[21,1,21,9],[17,1,17,9],[18,1,18,9],[19,1,19,9],[20,1,20,14]]}
[null,null,null,null,null,null,null,null,null,4]
[]
[null,null,null,null,null,null,null,"Concepto"]
[null,null,null,null,null,null,null,"Sistema eléctrico"]
[null,null,null,null,null,null,null,"Horizonte temporal"]
[null,null,null,null,null,null,null,"Periodo"]
[]
[null,null,{"$f":"OFFSET(Renovable!C119,0,($J$1-1)*8)","v":2014},{"$f":"OFFSET(Renovable!D119,0,($J$1-1)*8)","v":2015},{"$f":"OFFSET(Renovable!E119,0,($J$1-1)*8)","v":2016},{"$f":"OFFSET(Renovable!F119,0,($J$1-1)*8)","v":2017},{"$f":"OFFSET(Renovable!G119,0,($J$1-1)*8)","v":2018},{"$f":"OFFSET(Renovable!H119,0,($J$1-1)*8)","v":2019},{"$f":"OFFSET(Renovable!I119,0,($J$1-1)*8)","v":2020},{"$f":"OFFSET(Renovable!J119,0,($J$1-1)*8)","v":2021}]
[]
[null,"Hidráulica (2)",{"$f":"OFFSET(Renovable!C120,0,($J$1-1)*8)","v":15.4},{"$f":"OFFSET(Renovable!D120,0,($J$1-1)*8)","v":11.1},{"$f":"OFFSET(Renovable!E120,0,($J$1-1)*8)","v":14.5},{"$f":"OFFSET(Renovable!F120,0,($J$1-1)*8)","v":7.4},{"$f":"OFFSET(Renovable!G120,0,($J$1-1)*8)","v":9.9},{"$f":"OFFSET(Renovable!H120,0,($J$1-1)*8)","v":"-"},{"$f":"OFFSET(Renovable!I120,0,($J$1-1)*8)","v":"-"},{"$f":"OFFSET(Renovable!J120,0,($J$1-1)*8)","v":"-"}]
[null,"Eólica",{"$f":"OFFSET(Renovable!C121,0,($J$1-1)*8)","v":20},{"$f":"OFFSET(Renovable!D121,0,($J$1-1)*8)","v":18.8},{"$f":"OFFSET(Renovable!E121,0,($J$1-1)*8)","v":19},{"$f":"OFFSET(Renovable!F121,0,($J$1-1)*8)","v":19.100000000000001},{"$f":"OFFSET(Renovable!G121,0,($J$1-1)*8)","v":24.3},{"$f":"OFFSET(Renovable!H121,0,($J$1-1)*8)","v":"-"},{"$f":"OFFSET(Renovable!I121,0,($J$1-1)*8)","v":"-"},{"$f":"OFFSET(Renovable!J121,0,($J$1-1)*8)","v":"-"}]
[null,"Solar fotovoltaica",{"$f":"OFFSET(Renovable!C122,0,($J$1-1)*8)","v":3.1},{"$f":"OFFSET(Renovable!D122,0,($J$1-1)*8)","v":3.1},{"$f":"OFFSET(Renovable!E122,0,($J$1-1)*8)","v":3.1},{"$f":"OFFSET(Renovable!F122,0,($J$1-1)*8)","v":3.2},{"$f":"OFFSET(Renovable!G122,0,($J$1-1)*8)","v":1.9},{"$f":"OFFSET(Renovable!H122,0,($J$1-1)*8)","v":"-"},{"$f":"OFFSET(Renovable!I122,0,($J$1-1)*8)","v":"-"},{"$f":"OFFSET(Renovable!J122,0,($J$1-1)*8)","v":"-"}]
[null,"Solar térmica",{"$f":"OFFSET(Renovable!C123,0,($J$1-1)*8)","v":2},{"$f":"OFFSET(Renovable!D123,0,($J$1-1)*8)","v":2},{"$f":"OFFSET(Renovable!E123,0,($J$1-1)*8)","v":2},{"$f":"OFFSET(Renovable!F123,0,($J$1-1)*8)","v":2.2000000000000002},{"$f":"OFFSET(Renovable!G123,0,($J$1-1)*8)","v":0.6},{"$f":"OFFSET(Renovable!H123,0,($J$1-1)*8)","v":"-"},{"$f":"OFFSET(Renovable!I123,0,($J$1-1)*8)","v":"-"},{"$f":"OFFSET(Renovable!J123,0,($J$1-1)*8)","v":"-"}]
[null,"Térmica renovable (3)/Otras renovables (4)",{"$f":"OFFSET(Renovable!C124,0,($J$1-1)*8)","v":1.9},{"$f":"OFFSET(Renovable!D124,0,($J$1-1)*8)","v":1.2},{"$f":"OFFSET(Renovable!E124,0,($J$1-1)*8)","v":1.4},{"$f":"OFFSET(Renovable!F124,0,($J$1-1)*8)","v":1.4},{"$f":"OFFSET(Renovable!G124,0,($J$1-1)*8)","v":1.4},{"$f":"OFFSET(Renovable!H124,0,($J$1-1)*8)","v":"-"},{"$f":"OFFSET(Renovable!I124,0,($J$1-1)*8)","v":"-"},{"$f":"OFFSET(Renovable!J124,0,($J$1-1)*8)","v":"-"}]
[null,"Residuos renovables (5)",{"$f":"OFFSET(Renovable!C125,0,($J$1-1)*8)","v":"-"},{"$f":"OFFSET(Renovable!D125,0,($J$1-1)*8)","v":0.3},{"$f":"OFFSET(Renovable!E125,0,($J$1-1)*8)","v":0.3},{"$f":"OFFSET(Renovable!F125,0,($J$1-1)*8)","v":0.3},{"$f":"OFFSET(Renovable!G125,0,($J$1-1)*8)","v":0.3},{"$f":"OFFSET(Renovable!H125,0,($J$1-1)*8)","v":"-"},{"$f":"OFFSET(Renovable!I125,0,($J$1-1)*8)","v":"-"},{"$f":"OFFSET(Renovable!J125,0,($J$1-1)*8)","v":"-"}]
[null,"Generación renovable",{"$f":"IF(SUM(C10:C15)=0,\"-\",SUM(C10:C15))","v":42.4},{"$f":"IF(SUM(D10:D15)=0,\"-\",SUM(D10:D15))","v":36.5},40.299999999999997,33.599999999999994,38.4,"-","-","-"]
[null,"(1) Asignación de unidades de producción según combustible principal."]
[null,"(2) No incluye la generación bombeo."]
[null,"(3) Incluye residuos hasta el 31/12/2014."]
[null,"(4) Otras renovables incluyen biogás, biomasa, hidráulica marina y geotérmica."]
[null,"(5) El 50% de la generación procedente de residuos sólidos urbanos se considera renovable."]
[null,{"$f":"IF(J1=4,IF(MONTH(FACT)=1,CONCATENATE(\"    Para el año \",YEAR(FACT)-1, \" valores acumulados hasta \",TEXT(FACT-30,\"mmmm\"),\" de \",YEAR(FACT)-1,\".\"),CONCATENATE(\"    Para el año \",YEAR(FACT), \" valores acumulados hasta \",TEXT(FACT-30,\"mmmm\"),\" de \",YEAR(FACT),\".\")))","v":"    Para el año 2018 valores acumulados hasta enero de 2018."}]

{"sheet":"% Renovable mes Baleares","index":15,"n_rows":17,"n_cols":15,"rows_kept":17,"cut":false,"hidden":false,"merged":[[5,2,5,9],[14,1,14,14],[15,1,15,14],[16,1,16,14]]}
[null,null,null,null,null,null,null,null,null,null,null,null,null,null,13]
[]
[null,null,null,null,null,null,null,null,null,null,null,null,"Concepto"]
[null,null,null,null,null,null,null,null,null,null,null,null,"Sistema eléctrico"]
[null,null,null,null,null,null,null,null,null,null,null,null,"Horizonte temporal"]
[null,null,null,null,null,null,null,null,null,null,null,null,"Periodo"]
[]
[null,null,"Ene.","Feb.","Mar.","Abr.","May.","Jun.","Jul.","Ago.","Sep.","Oct.","Nov.","Dic.",{"$f":"OFFSET(Año!B18,($O$1-1),0)","v":2018}]
[]
[null,"Eólica",{"$f":"OFFSET(Renovable!C90,0,($O$1-1)*12)","v":0.1},{"$f":"OFFSET(Renovable!D90,0,($O$1-1)*12)","v":"-"},{"$f":"OFFSET(Renovable!E90,0,($O$1-1)*12)","v":"-"},{"$f":"OFFSET(Renovable!F90,0,($O$1-1)*12)","v":"-"},{"$f":"OFFSET(Renovable!G90,0,($O$1-1)*12)","v":"-"},{"$f":"OFFSET(Renovable!H90,0,($O$1-1)*12)","v":"-"},{"$f":"OFFSET(Renovable!I90,0,($O$1-1)*12)","v":"-"},{"$f":"OFFSET(Renovable!J90,0,($O$1-1)*12)","v":"-"},{"$f":"OFFSET(Renovable!K90,0,($O$1-1)*12)","v":"-"},{"$f":"OFFSET(Renovable!L90,0,($O$1-1)*12)","v":"-"},{"$f":"OFFSET(Renovable!M90,0,($O$1-1)*12)","v":"-"},{"$f":"OFFSET(Renovable!N90,0,($O$1-1)*12)","v":"-"},{"$f":"OFFSET(Renovable!C129,0,($O$1-1))","v":0.1}]
[null,"Solar fotovoltaica",{"$f":"OFFSET(Renovable!C91,0,($O$1-1)*12)","v":1.9},{"$f":"OFFSET(Renovable!D91,0,($O$1-1)*12)","v":"-"},{"$f":"OFFSET(Renovable!E91,0,($O$1-1)*12)","v":"-"},{"$f":"OFFSET(Renovable!F91,0,($O$1-1)*12)","v":"-"},{"$f":"OFFSET(Renovable!G91,0,($O$1-1)*12)","v":"-"},{"$f":"OFFSET(Renovable!H91,0,($O$1-1)*12)","v":"-"},{"$f":"OFFSET(Renovable!I91,0,($O$1-1)*12)","v":"-"},{"$f":"OFFSET(Renovable!J91,0,($O$1-1)*12)","v":"-"},{"$f":"OFFSET(Renovable!K91,0,($O$1-1)*12)","v":"-"},{"$f":"OFFSET(Renovable!L91,0,($O$1-1)*12)","v":"-"},{"$f":"OFFSET(Renovable!M91,0,($O$1-1)*12)","v":"-"},{"$f":"OFFSET(Renovable!N91,0,($O$1-1)*12)","v":"-"},{"$f":"OFFSET(Renovable!C130,0,($O$1-1))","v":1.9}]
[null,"Térmica renovable/Otras renovables (2)",{"$f":"OFFSET(Renovable!C92,0,($O$1-1)*12)","v":0},{"$f":"OFFSET(Renovable!D92,0,($O$1-1)*12)","v":"-"},{"$f":"OFFSET(Renovable!E92,0,($O$1-1)*12)","v":"-"},{"$f":"OFFSET(Renovable!F92,0,($O$1-1)*12)","v":"-"},{"$f":"OFFSET(Renovable!G92,0,($O$1-1)*12)","v":"-"},{"$f":"OFFSET(Renovable!H92,0,($O$1-1)*12)","v":"-"},{"$f":"OFFSET(Renovable!I92,0,($O$1-1)*12)","v":"-"},{"$f":"OFFSET(Renovable!J92,0,($O$1-1)*12)","v":"-"},{"$f":"OFFSET(Renovable!K92,0,($O$1-1)*12)","v":"-"},{"$f":"OFFSET(Renovable!L92,0,($O$1-1)*12)","v":"-"},{"$f":"OFFSET(Renovable!M92,0,($O$1-1)*12)","v":"-"},{"$f":"OFFSET(Renovable!N92,0,($O$1-1)*12)","v":"-"},{"$f":"OFFSET(Renovable!C131,0,($O$1-1))","v":0}]
[null,"Residuos renovables (3)",{"$f":"OFFSET(Renovable!C93,0,($O$1-1)*12)","v":2.2000000000000002},{"$f":"OFFSET(Renovable!D93,0,($O$1-1)*12)","v":"-"},{"$f":"OFFSET(Renovable!E93,0,($O$1-1)*12)","v":"-"},{"$f":"OFFSET(Renovable!F93,0,($O$1-1)*12)","v":"-"},{"$f":"OFFSET(Renovable!G93,0,($O$1-1)*12)","v":"-"},{"$f":"OFFSET(Renovable!H93,0,($O$1-1)*12)","v":"-"},{"$f":"OFFSET(Renovable!I93,0,($O$1-1)*12)","v":"-"},{"$f":"OFFSET(Renovable!J93,0,($O$1-1)*12)","v":"-"},{"$f":"OFFSET(Renovable!K93,0,($O$1-1)*12)","v":"-"},{"$f":"OFFSET(Renovable!L93,0,($O$1-1)*12)","v":"-"},{"$f":"OFFSET(Renovable!M93,0,($O$1-1)*12)","v":"-"},{"$f":"OFFSET(Renovable!N93,0,($O$1-1)*12)","v":"-"},{"$f":"OFFSET(Renovable!C132,0,($O$1-1))","v":2.2000000000000002}]
[null,"Generación renovable",{"$f":"IF(SUM(C10:C13)=0,\"-\",SUM(C10:C13))","v":4.2},{"$f":"IF(SUM(D10:D13)=0,\"-\",SUM(D10:D13))","v":"-"},"-","-","-","-","-","-","-","-","-","-",4.2]
[null,"(1) Asignación de unidades de producción según combustible principal."]
[null,"(2) Otras renovables incluyen biogás y biomasa."]
[null,"(3) El 50% de la generación procedente de residuos sólidos urbanos se considera renovable."]

{"sheet":"% Renovable año Baleares","index":16,"n_rows":18,"n_cols":10,"rows_kept":18,"cut":false,"hidden":false,"merged":[[14,1,14,9],[15,1,15,9],[17,1,17,9],[16,1,16,14]]}
[null,null,null,null,null,null,null,null,null,2]
[]
[null,null,null,null,null,null,null,"Concepto"]
[null,null,null,null,null,null,null,"Sistema eléctrico"]
[null,null,null,null,null,null,null,"Horizonte temporal"]
[null,null,null,null,null,null,null,"Periodo"]
[]
[null,null,{"$f":"OFFSET(Renovable!C128,0,($J$1-1)*8)","v":2014},{"$f":"OFFSET(Renovable!D128,0,($J$1-1)*8)","v":2015},{"$f":"OFFSET(Renovable!E128,0,($J$1-1)*8)","v":2016},{"$f":"OFFSET(Renovable!F128,0,($J$1-1)*8)","v":2017},{"$f":"OFFSET(Renovable!G128,0,($J$1-1)*8)","v":2018},{"$f":"OFFSET(Renovable!H128,0,($J$1-1)*8)","v":2019},{"$f":"OFFSET(Renovable!I128,0,($J$1-1)*8)","v":2020},{"$f":"OFFSET(Renovable!J128,0,($J$1-1)*8)","v":2021}]
[]
[null,"Eólica",{"$f":"OFFSET(Renovable!C129,0,($J$1-1)*8)","v":0.1},{"$f":"OFFSET(Renovable!D129,0,($J$1-1)*8)","v":0.1},{"$f":"OFFSET(Renovable!E129,0,($J$1-1)*8)","v":0.1},{"$f":"OFFSET(Renovable!F129,0,($J$1-1)*8)","v":0.1},{"$f":"OFFSET(Renovable!G129,0,($J$1-1)*8)","v":0.1},{"$f":"OFFSET(Renovable!H129,0,($J$1-1)*8)","v":"-"},{"$f":"OFFSET(Renovable!I129,0,($J$1-1)*8)","v":"-"},{"$f":"OFFSET(Renovable!J129,0,($J$1-1)*8)","v":"-"}]
[null,"Solar fotovoltaica",{"$f":"OFFSET(Renovable!C130,0,($J$1-1)*8)","v":2.9},{"$f":"OFFSET(Renovable!D130,0,($J$1-1)*8)","v":2.7},{"$f":"OFFSET(Renovable!E130,0,($J$1-1)*8)","v":2.6},{"$f":"OFFSET(Renovable!F130,0,($J$1-1)*8)","v":2.5},{"$f":"OFFSET(Renovable!G130,0,($J$1-1)*8)","v":1.9},{"$f":"OFFSET(Renovable!H130,0,($J$1-1)*8)","v":"-"},{"$f":"OFFSET(Renovable!I130,0,($J$1-1)*8)","v":"-"},{"$f":"OFFSET(Renovable!J130,0,($J$1-1)*8)","v":"-"}]
[null,"Térmica renovable/Otras renovables (2)",{"$f":"OFFSET(Renovable!C131,0,($J$1-1)*8)","v":0},{"$f":"OFFSET(Renovable!D131,0,($J$1-1)*8)","v":0},{"$f":"OFFSET(Renovable!E131,0,($J$1-1)*8)","v":0},{"$f":"OFFSET(Renovable!F131,0,($J$1-1)*8)","v":0},{"$f":"OFFSET(Renovable!G131,0,($J$1-1)*8)","v":0},{"$f":"OFFSET(Renovable!H131,0,($J$1-1)*8)","v":"-"},{"$f":"OFFSET(Renovable!I131,0,($J$1-1)*8)","v":"-"},{"$f":"OFFSET(Renovable!J131,0,($J$1-1)*8)","v":"-"}]
[null,"Residuos renovables (3)",{"$f":"OFFSET(Renovable!C132,0,($J$1-1)*8)","v":"-"},{"$f":"OFFSET(Renovable!D132,0,($J$1-1)*8)","v":3.4},{"$f":"OFFSET(Renovable!E132,0,($J$1-1)*8)","v":2.9},{"$f":"OFFSET(Renovable!F132,0,($J$1-1)*8)","v":3},{"$f":"OFFSET(Renovable!G132,0,($J$1-1)*8)","v":2.2000000000000002},{"$f":"OFFSET(Renovable!H132,0,($J$1-1)*8)","v":"-"},{"$f":"OFFSET(Renovable!I132,0,($J$1-1)*8)","v":"-"},{"$f":"OFFSET(Renovable!J132,0,($J$1-1)*8)","v":"-"}]
[null,"Generación renovable",{"$f":"IF(SUM(C10:C13)=0,\"-\",SUM(C10:C13))","v":3},{"$f":"IF(SUM(D10:D13)=0,\"-\",SUM(D10:D13))","v":6.2},5.6,5.6,4.2,"-","-","-"]
[null,"(1) Asignación de unidades de producción según combustible principal."]
[null,"(2) Otras renovables incluyen biogás y biomasa."]
[null,"(3) El 50% de la generación procedente de residuos sólidos urbanos se considera renovable."]
[null,{"$f":"IF(J1=1,\"\",IF(MONTH(FACT)=1,CONCATENATE(\"    Para el año \",YEAR(FACT)-1, \" valores acumulados hasta \",TEXT(FACT-30,\"mmmm\"),\" de \",YEAR(FACT)-1,\".\"),CONCATENATE(\"    Para el año \",YEAR(FACT), \" valores acumulados hasta \",TEXT(FACT-30,\"mmmm\"),\" de \",YEAR(FACT),\".\")))","v":"    Para el año 2018 valores acumulados hasta enero de 2018."}]

{"sheet":"% Renovable mes Canarias","index":17,"n_rows":17,"n_cols":15,"rows_kept":17,"cut":false,"hidden":false,"merged":[[5,2,5,9],[15,1,15,14],[16,1,16,14]]}
[null,null,null,null,null,null,null,null,null,null,null,null,null,null,13]
[]
[null,null,null,null,null,null,null,null,null,null,null,null,"Concepto"]
[null,null,null,null,null,null,null,null,null,null,null,null,"Sistema eléctrico"]
[null,null,null,null,null,null,null,null,null,null,null,null,"Horizonte temporal"]
[null,null,null,null,null,null,null,null,null,null,null,null,"Periodo"]
[]
[null,null,"Ene.","Feb.","Mar.","Abr.","May.","Jun.","Jul.","Ago.","Sep.","Oct.","Nov.","Dic.",{"$f":"OFFSET(Año!B18,($O$1-1),0)","v":2018}]
[]
[null,"Hidráulica",{"$f":"OFFSET(Renovable!C97,0,($O$1-1)*12)","v":"-"},{"$f":"OFFSET(Renovable!D97,0,($O$1-1)*12)","v":"-"},{"$f":"OFFSET(Renovable!E97,0,($O$1-1)*12)","v":"-"},{"$f":"OFFSET(Renovable!F97,0,($O$1-1)*12)","v":"-"},{"$f":"OFFSET(Renovable!G97,0,($O$1-1)*12)","v":"-"},{"$f":"OFFSET(Renovable!H97,0,($O$1-1)*12)","v":"-"},{"$f":"OFFSET(Renovable!I97,0,($O$1-1)*12)","v":"-"},{"$f":"OFFSET(Renovable!J97,0,($O$1-1)*12)","v":"-"},{"$f":"OFFSET(Renovable!K97,0,($O$1-1)*12)","v":"-"},{"$f":"OFFSET(Renovable!L97,0,($O$1-1)*12)","v":"-"},{"$f":"OFFSET(Renovable!M97,0,($O$1-1)*12)","v":"-"},{"$f":"OFFSET(Renovable!N97,0,($O$1-1)*12)","v":"-"},{"$f":"OFFSET(Renovable!C136,0,($O$1-1))","v":"-"}]
[null,"Hidroeólica",{"$f":"OFFSET(Renovable!C98,0,($O$1-1)*12)","v":0.3},{"$f":"OFFSET(Renovable!D98,0,($O$1-1)*12)","v":"-"},{"$f":"OFFSET(Renovable!E98,0,($O$1-1)*12)","v":"-"},{"$f":"OFFSET(Renovable!F98,0,($O$1-1)*12)","v":"-"},{"$f":"OFFSET(Renovable!G98,0,($O$1-1)*12)","v":"-"},{"$f":"OFFSET(Renovable!H98,0,($O$1-1)*12)","v":"-"},{"$f":"OFFSET(Renovable!I98,0,($O$1-1)*12)","v":"-"},{"$f":"OFFSET(Renovable!J98,0,($O$1-1)*12)","v":"-"},{"$f":"OFFSET(Renovable!K98,0,($O$1-1)*12)","v":"-"},{"$f":"OFFSET(Renovable!L98,0,($O$1-1)*12)","v":"-"},{"$f":"OFFSET(Renovable!M98,0,($O$1-1)*12)","v":"-"},{"$f":"OFFSET(Renovable!N98,0,($O$1-1)*12)","v":"-"},{"$f":"OFFSET(Renovable!C137,0,($O$1-1))","v":0.3}]
[null,"Eólica",{"$f":"OFFSET(Renovable!C99,0,($O$1-1)*12)","v":8},{"$f":"OFFSET(Renovable!D99,0,($O$1-1)*12)","v":"-"},{"$f":"OFFSET(Renovable!E99,0,($O$1-1)*12)","v":"-"},{"$f":"OFFSET(Renovable!F99,0,($O$1-1)*12)","v":"-"},{"$f":"OFFSET(Renovable!G99,0,($O$1-1)*12)","v":"-"},{"$f":"OFFSET(Renovable!H99,0,($O$1-1)*12)","v":"-"},{"$f":"OFFSET(Renovable!I99,0,($O$1-1)*12)","v":"-"},{"$f":"OFFSET(Renovable!J99,0,($O$1-1)*12)","v":"-"},{"$f":"OFFSET(Renovable!K99,0,($O$1-1)*12)","v":"-"},{"$f":"OFFSET(Renovable!L99,0,($O$1-1)*12)","v":"-"},{"$f":"OFFSET(Renovable!M99,0,($O$1-1)*12)","v":"-"},{"$f":"OFFSET(Renovable!N99,0,($O$1-1)*12)","v":"-"},{"$f":"OFFSET(Renovable!C138,0,($O$1-1))","v":8}]
[null,"Solar fotovoltaica",{"$f":"OFFSET(Renovable!C100,0,($O$1-1)*12)","v":2.4},{"$f":"OFFSET(Renovable!D100,0,($O$1-1)*12)","v":"-"},{"$f":"OFFSET(Renovable!E100,0,($O$1-1)*12)","v":"-"},{"$f":"OFFSET(Renovable!F100,0,($O$1-1)*12)","v":"-"},{"$f":"OFFSET(Renovable!G100,0,($O$1-1)*12)","v":"-"},{"$f":"OFFSET(Renovable!H100,0,($O$1-1)*12)","v":"-"},{"$f":"OFFSET(Renovable!I100,0,($O$1-1)*12)","v":"-"},{"$f":"OFFSET(Renovable!J100,0,($O$1-1)*12)","v":"-"},{"$f":"OFFSET(Renovable!K100,0,($O$1-1)*12)","v":"-"},{"$f":"OFFSET(Renovable!L100,0,($O$1-1)*12)","v":"-"},{"$f":"OFFSET(Renovable!M100,0,($O$1-1)*12)","v":"-"},{"$f":"OFFSET(Renovable!N100,0,($O$1-1)*12)","v":"-"},{"$f":"OFFSET(Renovable!C139,0,($O$1-1))","v":2.4}]
[null,"Térmica renovable/Otras renovables (2)",{"$f":"OFFSET(Renovable!C101,0,($O$1-1)*12)","v":"-"},{"$f":"OFFSET(Renovable!D101,0,($O$1-1)*12)","v":"-"},{"$f":"OFFSET(Renovable!E101,0,($O$1-1)*12)","v":"-"},{"$f":"OFFSET(Renovable!F101,0,($O$1-1)*12)","v":"-"},{"$f":"OFFSET(Renovable!G101,0,($O$1-1)*12)","v":"-"},{"$f":"OFFSET(Renovable!H101,0,($O$1-1)*12)","v":"-"},{"$f":"OFFSET(Renovable!I101,0,($O$1-1)*12)","v":"-"},{"$f":"OFFSET(Renovable!J101,0,($O$1-1)*12)","v":"-"},{"$f":"OFFSET(Renovable!K101,0,($O$1-1)*12)","v":"-"},{"$f":"OFFSET(Renovable!L101,0,($O$1-1)*12)","v":"-"},{"$f":"OFFSET(Renovable!M101,0,($O$1-1)*12)","v":"-"},{"$f":"OFFSET(Renovable!N101,0,($O$1-1)*12)","v":"-"},{"$f":"OFFSET(Renovable!C140,0,($O$1-1))","v":"-"}]
[null,"Generación renovable",{"$f":"IF(SUM(C10:C14)=0,\"-\",SUM(C10:C14))","v":10.700000000000001},{"$f":"IF(SUM(D10:D14)=0,\"-\",SUM(D10:D14))","v":"-"},"-","-","-","-","-","-","-","-","-","-",{"$f":"SUM(O10:O14)","v":10.700000000000001}]
[null,"(1) Asignación de unidades de producción según combustible principal."]
[null,"(2) Otras renovables incluyen biogás y biomasa."]

{"sheet":"% Renovable año Canarias","index":18,"n_rows":18,"n_cols":10,"rows_kept":18,"cut":false,"hidden":false,"merged":[[15,1,15,9],[16,1,16,9],[17,1,17,9]]}
[null,null,null,null,null,null,null,null,null,2]
[]
[null,null,null,null,null,null,null,"Concepto"]
[null,null,null,null,null,null,null,"Sistema eléctrico"]
[null,null,null,null,null,null,null,"Horizonte temporal"]
[null,null,null,null,null,null,null,"Periodo"]
[]
[null,null,{"$f":"OFFSET(Renovable!C135,0,($J$1-1)*8)","v":2014},{"$f":"OFFSET(Renovable!D135,0,($J$1-1)*8)","v":2015},{"$f":"OFFSET(Renovable!E135,0,($J$1-1)*8)","v":2016},{"$f":"OFFSET(Renovable!F135,0,($J$1-1)*8)","v":2017},{"$f":"OFFSET(Renovable!G135,0,($J$1-1)*8)","v":2018},{"$f":"OFFSET(Renovable!H135,0,($J$1-1)*8)","v":2019},{"$f":"OFFSET(Renovable!I135,0,($J$1-1)*8)","v":2020},{"$f":"OFFSET(Renovable!J135,0,($J$1-1)*8)","v":2021}]
[]
[null,"Hidráulica",{"$f":"OFFSET(Renovable!C136,0,($J$1-1)*8)","v":0},{"$f":"OFFSET(Renovable!D136,0,($J$1-1)*8)","v":0},{"$f":"OFFSET(Renovable!E136,0,($J$1-1)*8)","v":0},{"$f":"OFFSET(Renovable!F136,0,($J$1-1)*8)","v":0},{"$f":"OFFSET(Renovable!G136,0,($J$1-1)*8)","v":"-"},{"$f":"OFFSET(Renovable!H136,0,($J$1-1)*8)","v":"-"},{"$f":"OFFSET(Renovable!I136,0,($J$1-1)*8)","v":"-"},{"$f":"OFFSET(Renovable!J136,0,($J$1-1)*8)","v":"-"}]
[null,"Hidroeólica",{"$f":"OFFSET(Renovable!C137,0,($J$1-1)*8)","v":0},{"$f":"OFFSET(Renovable!D137,0,($J$1-1)*8)","v":0.1},{"$f":"OFFSET(Renovable!E137,0,($J$1-1)*8)","v":0.2},{"$f":"OFFSET(Renovable!F137,0,($J$1-1)*8)","v":0.2},{"$f":"OFFSET(Renovable!G137,0,($J$1-1)*8)","v":0.3},{"$f":"OFFSET(Renovable!H137,0,($J$1-1)*8)","v":"-"},{"$f":"OFFSET(Renovable!I137,0,($J$1-1)*8)","v":"-"},{"$f":"OFFSET(Renovable!J137,0,($J$1-1)*8)","v":"-"}]
[null,"Eólica",{"$f":"OFFSET(Renovable!C138,0,($J$1-1)*8)","v":4.5},{"$f":"OFFSET(Renovable!D138,0,($J$1-1)*8)","v":4.5999999999999996},{"$f":"OFFSET(Renovable!E138,0,($J$1-1)*8)","v":4.5},{"$f":"OFFSET(Renovable!F138,0,($J$1-1)*8)","v":4.4000000000000004},{"$f":"OFFSET(Renovable!G138,0,($J$1-1)*8)","v":8},{"$f":"OFFSET(Renovable!H138,0,($J$1-1)*8)","v":"-"},{"$f":"OFFSET(Renovable!I138,0,($J$1-1)*8)","v":"-"},{"$f":"OFFSET(Renovable!J138,0,($J$1-1)*8)","v":"-"}]
[null,"Solar fotovoltaica",{"$f":"OFFSET(Renovable!C139,0,($J$1-1)*8)","v":3.3},{"$f":"OFFSET(Renovable!D139,0,($J$1-1)*8)","v":3.2},{"$f":"OFFSET(Renovable!E139,0,($J$1-1)*8)","v":3.2},{"$f":"OFFSET(Renovable!F139,0,($J$1-1)*8)","v":3.1},{"$f":"OFFSET(Renovable!G139,0,($J$1-1)*8)","v":2.4},{"$f":"OFFSET(Renovable!H139,0,($J$1-1)*8)","v":"-"},{"$f":"OFFSET(Renovable!I139,0,($J$1-1)*8)","v":"-"},{"$f":"OFFSET(Renovable!J139,0,($J$1-1)*8)","v":"-"}]
[null,"Térmica renovable/Otras renovables (2)",{"$f":"OFFSET(Renovable!C140,0,($J$1-1)*8)","v":0.1},{"$f":"OFFSET(Renovable!D140,0,($J$1-1)*8)","v":0.1},{"$f":"OFFSET(Renovable!E140,0,($J$1-1)*8)","v":0.1},{"$f":"OFFSET(Renovable!F140,0,($J$1-1)*8)","v":0.1},{"$f":"OFFSET(Renovable!G140,0,($J$1-1)*8)","v":"-"},{"$f":"OFFSET(Renovable!H140,0,($J$1-1)*8)","v":"-"},{"$f":"OFFSET(Renovable!I140,0,($J$1-1)*8)","v":"-"},{"$f":"OFFSET(Renovable!J140,0,($J$1-1)*8)","v":"-"}]
[null,"Generación renovable",{"$f":"IF(SUM(C10:C14)=0,\"-\",SUM(C10:C14))","v":7.8999999999999995},{"$f":"IF(SUM(D10:D14)=0,\"-\",SUM(D10:D14))","v":7.9999999999999991},8,7.8000000000000007,10.700000000000001,"-","-","-"]
[null,"(1) Asignación de unidades de producción según combustible principal."]
[null,"(2) Otras renovables incluyen biogás y biomasa."]
[null,{"$f":"IF(J1=1,\"\",IF(MONTH(FACT)=1,CONCATENATE(\"    Para el año \",YEAR(FACT)-1, \" valores acumulados hasta \",TEXT(FACT-30,\"mmmm\"),\" de \",YEAR(FACT)-1,\".\"),CONCATENATE(\"    Para el año \",YEAR(FACT), \" valores acumulados hasta \",TEXT(FACT-30,\"mmmm\"),\" de \",YEAR(FACT),\".\")))","v":"    Para el año 2018 valores acumulados hasta enero de 2018."}]

{"sheet":"% Renovable mes Melilla","index":19,"n_rows":14,"n_cols":15,"rows_kept":14,"cut":false,"hidden":false,"merged":[[5,2,5,9],[12,1,12,14],[13,1,13,14]]}
[null,null,null,null,null,null,null,null,null,null,null,null,null,null,12]
[]
[null,null,null,null,null,null,null,null,null,null,null,null,"Concepto"]
[null,null,null,null,null,null,null,null,null,null,null,null,"Sistema eléctrico"]
[null,null,null,null,null,null,null,null,null,null,null,null,"Horizonte temporal"]
[null,null,null,null,null,null,null,null,null,null,null,null,"Periodo"]
[]
[null,null,"Ene.","Feb.","Mar.","Abr.","May.","Jun.","Jul.","Ago.","Sep.","Oct.","Nov.","Dic.",{"$f":"OFFSET(Año!B19,($O$1-1),0)","v":2018}]
[]
[null,"Solar fotovoltaica",{"$f":"OFFSET(Renovable!C105,0,($O$1-1)*12)","v":"-"},{"$f":"OFFSET(Renovable!D105,0,($O$1-1)*12)","v":"-"},{"$f":"OFFSET(Renovable!E105,0,($O$1-1)*12)","v":"-"},{"$f":"OFFSET(Renovable!F105,0,($O$1-1)*12)","v":"-"},{"$f":"OFFSET(Renovable!G105,0,($O$1-1)*12)","v":"-"},{"$f":"OFFSET(Renovable!H105,0,($O$1-1)*12)","v":"-"},{"$f":"OFFSET(Renovable!I105,0,($O$1-1)*12)","v":"-"},{"$f":"OFFSET(Renovable!J105,0,($O$1-1)*12)","v":"-"},{"$f":"OFFSET(Renovable!K105,0,($O$1-1)*12)","v":"-"},{"$f":"OFFSET(Renovable!L105,0,($O$1-1)*12)","v":"-"},{"$f":"OFFSET(Renovable!M105,0,($O$1-1)*12)","v":"-"},{"$f":"OFFSET(Renovable!N105,0,($O$1-1)*12)","v":"-"},{"$f":"OFFSET(Renovable!C144,0,($O$1-1))","v":"-"}]
[null,"Residuos renovables (2)",{"$f":"OFFSET(Renovable!C106,0,($O$1-1)*12)","v":1.95},{"$f":"OFFSET(Renovable!D106,0,($O$1-1)*12)","v":"-"},{"$f":"OFFSET(Renovable!E106,0,($O$1-1)*12)","v":"-"},{"$f":"OFFSET(Renovable!F106,0,($O$1-1)*12)","v":"-"},{"$f":"OFFSET(Renovable!G106,0,($O$1-1)*12)","v":"-"},{"$f":"OFFSET(Renovable!H106,0,($O$1-1)*12)","v":"-"},{"$f":"OFFSET(Renovable!I106,0,($O$1-1)*12)","v":"-"},{"$f":"OFFSET(Renovable!J106,0,($O$1-1)*12)","v":"-"},{"$f":"OFFSET(Renovable!K106,0,($O$1-1)*12)","v":"-"},{"$f":"OFFSET(Renovable!L106,0,($O$1-1)*12)","v":"-"},{"$f":"OFFSET(Renovable!M106,0,($O$1-1)*12)","v":"-"},{"$f":"OFFSET(Renovable!N106,0,($O$1-1)*12)","v":"-"},{"$f":"OFFSET(Renovable!C145,0,($O$1-1))","v":1.95}]
[null,"Generación renovable",{"$f":"IF(SUM(C10:C11)=0,\"-\",SUM(C10:C11))","v":1.95},{"$f":"IF(SUM(D10:D11)=0,\"-\",SUM(D10:D11))","v":"-"},"-","-","-","-","-","-","-","-","-","-",1.95]
[null,"(1) Asignación de unidades de producción según combustible principal."]
[null,"(2) El 50% de la generación procedente de residuos sólidos urbanos se considera renovable."]

{"sheet":"% Renovable año Melilla","index":20,"n_rows":15,"n_cols":10,"rows_kept":15,"cut":false,"hidden":false,"merged":[[12,1,12,9],[14,1,14,9],[13,1,13,14]]}
[null,null,null,null,null,null,null,null,null,2]
[]
[null,null,null,null,null,null,null,"Concepto"]
[null,null,null,null,null,null,null,"Sistema eléctrico"]
[null,null,null,null,null,null,null,"Horizonte temporal"]
[null,null,null,null,null,null,null,"Periodo"]
[]
[null,null,{"$f":"OFFSET(Renovable!C143,0,($J$1-1)*8)","v":2015},{"$f":"OFFSET(Renovable!D143,0,($J$1-1)*8)","v":2016},{"$f":"OFFSET(Renovable!E143,0,($J$1-1)*8)","v":2017},{"$f":"OFFSET(Renovable!F143,0,($J$1-1)*8)","v":2018},{"$f":"OFFSET(Renovable!G143,0,($J$1-1)*8)","v":2019},{"$f":"OFFSET(Renovable!H143,0,($J$1-1)*8)","v":2020},{"$f":"OFFSET(Renovable!I143,0,($J$1-1)*8)","v":2021},{"$f":"OFFSET(Renovable!J143,0,($J$1-1)*8)","v":2022}]
[]
[null,"Solar fotovoltaica",{"$f":"OFFSET(Renovable!C144,0,($J$1-1)*8)","v":0.04},{"$f":"OFFSET(Renovable!D144,0,($J$1-1)*8)","v":0.04},{"$f":"OFFSET(Renovable!E144,0,($J$1-1)*8)","v":0.04},{"$f":"OFFSET(Renovable!F144,0,($J$1-1)*8)","v":"-"},{"$f":"OFFSET(Renovable!G144,0,($J$1-1)*8)","v":"-"},{"$f":"OFFSET(Renovable!H144,0,($J$1-1)*8)","v":"-"},{"$f":"OFFSET(Renovable!I144,0,($J$1-1)*8)","v":"-"},{"$f":"OFFSET(Renovable!J144,0,($J$1-1)*8)","v":"-"}]
[null,"Residuos renovables (2)",{"$f":"OFFSET(Renovable!C145,0,($J$1-1)*8)","v":2.0099999999999998},{"$f":"OFFSET(Renovable!D145,0,($J$1-1)*8)","v":2.33},{"$f":"OFFSET(Renovable!E145,0,($J$1-1)*8)","v":2.36},{"$f":"OFFSET(Renovable!F145,0,($J$1-1)*8)","v":1.95},{"$f":"OFFSET(Renovable!G145,0,($J$1-1)*8)","v":"-"},{"$f":"OFFSET(Renovable!H145,0,($J$1-1)*8)","v":"-"},{"$f":"OFFSET(Renovable!I145,0,($J$1-1)*8)","v":"-"},{"$f":"OFFSET(Renovable!J145,0,($J$1-1)*8)","v":"-"}]
[null,"Generación renovable",{"$f":"IF(SUM(C10:C11)=0,\"-\",SUM(C10:C11))","v":2.0499999999999998},{"$f":"IF(SUM(D10:D11)=0,\"-\",SUM(D10:D11))","v":2.37},2.4,1.95,"-","-","-","-"]
[null,"(1) Asignación de unidades de producción según combustible principal."]
[null,"(2) El 50% de la generación procedente de residuos sólidos urbanos se considera renovable."]
[null,{"$f":"IF(J1=1,\"\",IF(MONTH(FACT)=1,CONCATENATE(\"    Para el año \",YEAR(FACT)-1, \" valores acumulados hasta \",TEXT(FACT-30,\"mmmm\"),\" de \",YEAR(FACT)-1,\".\"),CONCATENATE(\"    Para el año \",YEAR(FACT), \" valores acumulados hasta \",TEXT(FACT-30,\"mmmm\"),\" de \",YEAR(FACT),\".\")))","v":"    Para el año 2018 valores acumulados hasta enero de 2018."}]

{"sheet":"Maxima renovable mes nacional","index":21,"n_rows":20,"n_cols":15,"rows_kept":20,"cut":false,"hidden":false,"merged":[[19,1,19,14]]}
[null,null,null,null,null,null,null,null,null,null,null,null,null,null,9]
[]
[null,null,null,null,null,null,null,null,null,null,null,null,"Concepto"]
[null,null,null,null,null,null,null,null,null,null,null,null,"Sistema eléctrico"]
[null,null,null,null,null,null,null,null,null,null,null,null,"Horizonte temporal"]
[null,null,null,null,null,null,null,null,null,null,null,null,"Periodo"]
[]
[null,null,"Ene.","Feb.","Mar.","Abr.","May.","Jun.","Jul.","Ago.","Sep.","Oct.","Nov.","Dic.",{"$f":"OFFSET(Año!B22,($O$1-1),0)","v":2018}]
[]
[null,"Generación renovable (GWh)",{"$f":"OFFSET(Renovable!C192,0,($O$1-1)*12)","v":400.33833900000002},{"$f":"OFFSET(Renovable!D192,0,($O$1-1)*12)","v":"-"},{"$f":"OFFSET(Renovable!E192,0,($O$1-1)*12)","v":"-"},{"$f":"OFFSET(Renovable!F192,0,($O$1-1)*12)","v":"-"},{"$f":"OFFSET(Renovable!G192,0,($O$1-1)*12)","v":"-"},{"$f":"OFFSET(Renovable!H192,0,($O$1-1)*12)","v":"-"},{"$f":"OFFSET(Renovable!I192,0,($O$1-1)*12)","v":"-"},{"$f":"OFFSET(Renovable!J192,0,($O$1-1)*12)","v":"-"},{"$f":"OFFSET(Renovable!K192,0,($O$1-1)*12)","v":"-"},{"$f":"OFFSET(Renovable!L192,0,($O$1-1)*12)","v":"-"},{"$f":"OFFSET(Renovable!M192,0,($O$1-1)*12)","v":"-"},{"$f":"OFFSET(Renovable!N192,0,($O$1-1)*12)","v":"-"},{"$f":"MAX(C10:N10)","v":400.33833900000002}]
[null,"Día",{"$f":"OFFSET(Renovable!C193,0,($O$1-1)*12)","v":4},{"$f":"OFFSET(Renovable!D193,0,($O$1-1)*12)","v":"-"},{"$f":"OFFSET(Renovable!E193,0,($O$1-1)*12)","v":"-"},{"$f":"OFFSET(Renovable!F193,0,($O$1-1)*12)","v":"-"},{"$f":"OFFSET(Renovable!G193,0,($O$1-1)*12)","v":"-"},{"$f":"OFFSET(Renovable!H193,0,($O$1-1)*12)","v":"-"},{"$f":"OFFSET(Renovable!I193,0,($O$1-1)*12)","v":"-"},{"$f":"OFFSET(Renovable!J193,0,($O$1-1)*12)","v":"-"},{"$f":"OFFSET(Renovable!K193,0,($O$1-1)*12)","v":"-"},{"$f":"OFFSET(Renovable!L193,0,($O$1-1)*12)","v":"-"},{"$f":"OFFSET(Renovable!M193,0,($O$1-1)*12)","v":"-"},{"$f":"OFFSET(Renovable!N193,0,($O$1-1)*12)","v":"-"},{"$f":"HLOOKUP($O$10,C10:N11,2,0)&\" de \"&HLOOKUP($O$10,C10:N12,3,0)","v":"4 de enero"}]
[null,null,"enero","febrero","marzo","abril","mayo","junio","julio","agosto","septiembre","octubre","noviembre","diciembre"]
[]
[]
[null,null,"Ene.","Feb.","Mar.","Abr.","May.","Jun.","Jul.","Ago.","Sep.","Oct.","Nov.","Dic.",{"$f":"OFFSET(Año!B22,($O$1-1),0)","v":2018}]
[]
[null,"Participación de la generación renovable",{"$f":"OFFSET(Renovable!C196,0,($O$1-1)*12)","v":53.251312377813463},{"$f":"OFFSET(Renovable!D196,0,($O$1-1)*12)","v":"-"},{"$f":"OFFSET(Renovable!E196,0,($O$1-1)*12)","v":"-"},{"$f":"OFFSET(Renovable!F196,0,($O$1-1)*12)","v":"-"},{"$f":"OFFSET(Renovable!G196,0,($O$1-1)*12)","v":"-"},{"$f":"OFFSET(Renovable!H196,0,($O$1-1)*12)","v":"-"},{"$f":"OFFSET(Renovable!I196,0,($O$1-1)*12)","v":"-"},{"$f":"OFFSET(Renovable!J196,0,($O$1-1)*12)","v":"-"},{"$f":"OFFSET(Renovable!K196,0,($O$1-1)*12)","v":"-"},{"$f":"OFFSET(Renovable!L196,0,($O$1-1)*12)","v":"-"},{"$f":"OFFSET(Renovable!M196,0,($O$1-1)*12)","v":"-"},{"$f":"OFFSET(Renovable!N196,0,($O$1-1)*12)","v":"-"},{"$f":"MAX(C17:N17)","v":53.251312377813463}]
[null,"Día",{"$f":"OFFSET(Renovable!C197,0,($O$1-1)*12)","v":4},{"$f":"OFFSET(Renovable!D197,0,($O$1-1)*12)","v":"-"},{"$f":"OFFSET(Renovable!E197,0,($O$1-1)*12)","v":"-"},{"$f":"OFFSET(Renovable!F197,0,($O$1-1)*12)","v":"-"},{"$f":"OFFSET(Renovable!G197,0,($O$1-1)*12)","v":"-"},{"$f":"OFFSET(Renovable!H197,0,($O$1-1)*12)","v":"-"},{"$f":"OFFSET(Renovable!I197,0,($O$1-1)*12)","v":"-"},{"$f":"OFFSET(Renovable!J197,0,($O$1-1)*12)","v":"-"},{"$f":"OFFSET(Renovable!K197,0,($O$1-1)*12)","v":"-"},{"$f":"OFFSET(Renovable!L197,0,($O$1-1)*12)","v":"-"},{"$f":"OFFSET(Renovable!M197,0,($O$1-1)*12)","v":"-"},{"$f":"OFFSET(Renovable!N197,0,($O$1-1)*12)","v":"-"},{"$f":"HLOOKUP($O$17,C17:N18,2,0)&\" de \"&HLOOKUP($O$17,C17:N19,3,0)","v":"4 de enero"}]
[null,null,"enero","febrero","marzo","abril","mayo","junio","julio","agosto","septiembre","octubre","noviembre","diciembre"]
[null,"(1)Incluye hidráulica, hidroeólica, eólica, solar fotovoltaica, solar térmica y térmica renovable/otras renovables. No incluye la generación bombeo."]

{"sheet":"Maxima renovable año nacional","index":22,"n_rows":21,"n_cols":10,"rows_kept":21,"cut":false,"hidden":false,"merged":[[19,1,19,9],[20,1,20,9]]}
[null,null,null,null,null,null,null,null,null,2]
[]
[null,null,null,null,null,null,null,"Concepto"]
[null,null,null,null,null,null,null,"Sistema eléctrico"]
[null,null,null,null,null,null,null,"Horizonte temporal"]
[null,null,null,null,null,null,null,"Periodo"]
[]
[null,null,{"$f":"OFFSET(Renovable!C231,0,($J$1-1)*8)","v":"2018"},{"$f":"OFFSET(Renovable!D231,0,($J$1-1)*8)","v":"2019"},{"$f":"OFFSET(Renovable!E231,0,($J$1-1)*8)","v":"2020"},{"$f":"OFFSET(Renovable!F231,0,($J$1-1)*8)","v":"2021"},{"$f":"OFFSET(Renovable!G231,0,($J$1-1)*8)","v":"2022"},{"$f":"OFFSET(Renovable!H231,0,($J$1-1)*8)","v":"2023"},{"$f":"OFFSET(Renovable!I231,0,($J$1-1)*8)","v":"2024"},{"$f":"OFFSET(Renovable!J231,0,($J$1-1)*8)","v":"2025"}]
[]
[null,"Generación renovable (GWh)",{"$f":"OFFSET(Renovable!C232,0,($J$1-1)*8)","v":400.33833900000002},{"$f":"OFFSET(Renovable!D232,0,($J$1-1)*8)","v":"-"},{"$f":"OFFSET(Renovable!E232,0,($J$1-1)*8)","v":"-"},{"$f":"OFFSET(Renovable!F232,0,($J$1-1)*8)","v":"-"},{"$f":"OFFSET(Renovable!G232,0,($J$1-1)*8)","v":"-"},{"$f":"OFFSET(Renovable!H232,0,($J$1-1)*8)","v":"-"},{"$f":"OFFSET(Renovable!I232,0,($J$1-1)*8)","v":"-"},{"$f":"OFFSET(Renovable!J232,0,($J$1-1)*8)","v":"-"}]
[null,"Día",{"$f":"OFFSET(Renovable!C233,0,($J$1-1)*8)","v":"4 de enero"},{"$f":"OFFSET(Renovable!D233,0,($J$1-1)*8)","v":"-"},{"$f":"OFFSET(Renovable!E233,0,($J$1-1)*8)","v":"-"},{"$f":"OFFSET(Renovable!F233,0,($J$1-1)*8)","v":"-"},{"$f":"OFFSET(Renovable!G233,0,($J$1-1)*8)","v":"-"},{"$f":"OFFSET(Renovable!H233,0,($J$1-1)*8)","v":"-"},{"$f":"OFFSET(Renovable!I233,0,($J$1-1)*8)","v":"-"},{"$f":"OFFSET(Renovable!J233,0,($J$1-1)*8)","v":"-"}]
[]
[]
[]
[null,null,{"$f":"OFFSET(Renovable!C235,0,($J$1-1)*8)","v":"2018"},{"$f":"OFFSET(Renovable!D235,0,($J$1-1)*8)","v":"2019"},{"$f":"OFFSET(Renovable!E235,0,($J$1-1)*8)","v":"2020"},{"$f":"OFFSET(Renovable!F235,0,($J$1-1)*8)","v":"2021"},{"$f":"OFFSET(Renovable!G235,0,($J$1-1)*8)","v":"2022"},{"$f":"OFFSET(Renovable!H235,0,($J$1-1)*8)","v":"2023"},{"$f":"OFFSET(Renovable!I235,0,($J$1-1)*8)","v":"2024"},{"$f":"OFFSET(Renovable!J235,0,($J$1-1)*8)","v":"2025"}]
[]
[null,"Participación generación renovable (%)",{"$f":"OFFSET(Renovable!C236,0,($J$1-1)*8)","v":53.251312377813463},{"$f":"OFFSET(Renovable!D236,0,($J$1-1)*8)","v":"-"},{"$f":"OFFSET(Renovable!E236,0,($J$1-1)*8)","v":"-"},{"$f":"OFFSET(Renovable!F236,0,($J$1-1)*8)","v":"-"},{"$f":"OFFSET(Renovable!G236,0,($J$1-1)*8)","v":"-"},{"$f":"OFFSET(Renovable!H236,0,($J$1-1)*8)","v":"-"},{"$f":"OFFSET(Renovable!I236,0,($J$1-1)*8)","v":"-"},{"$f":"OFFSET(Renovable!J236,0,($J$1-1)*8)","v":"-"}]
[null,"Día",{"$f":"OFFSET(Renovable!C237,0,($J$1-1)*8)","v":"4 de enero"},{"$f":"OFFSET(Renovable!D237,0,($J$1-1)*8)","v":"-"},{"$f":"OFFSET(Renovable!E237,0,($J$1-1)*8)","v":"-"},{"$f":"OFFSET(Renovable!F237,0,($J$1-1)*8)","v":"-"},{"$f":"OFFSET(Renovable!G237,0,($J$1-1)*8)","v":"-"},{"$f":"OFFSET(Renovable!H237,0,($J$1-1)*8)","v":"-"},{"$f":"OFFSET(Renovable!I237,0,($J$1-1)*8)","v":"-"},{"$f":"OFFSET(Renovable!J237,0,($J$1-1)*8)","v":"-"}]
[]
[null,"(1) Incluye hidráulica, hidroeólica, eólica, solar fotovoltaica, solar térmica y térmica renovable/otras renovables. No incluye la generación bombeo."]
[null,{"$f":"IF(J1=0,\"\",IF(MONTH(FACT)=1,CONCATENATE(\"    Para el año \",YEAR(FACT)-1, \" valores acumulados hasta \",TEXT(FACT-30,\"mmmm\"),\" de \",YEAR(FACT)-1,\".\"),CONCATENATE(\"    Para el año \",YEAR(FACT), \" valores acumulados hasta \",TEXT(FACT-30,\"mmmm\"),\" de \",YEAR(FACT),\".\")))","v":"    Para el año 2018 valores acumulados hasta enero de 2018."}]

{"sheet":"Maxima renovable mes Peninsular","index":23,"n_rows":20,"n_cols":15,"rows_kept":20,"cut":false,"hidden":false,"merged":[[19,1,19,14]]}
[null,null,null,null,null,null,null,null,null,null,null,null,null,null,9]
[]
[null,null,null,null,null,null,null,null,null,null,null,null,"Concepto"]
[null,null,null,null,null,null,null,null,null,null,null,null,"Sistema eléctrico"]
[null,null,null,null,null,null,null,null,null,null,null,null,"Horizonte temporal"]
[null,null,null,null,null,null,null,null,null,null,null,null,"Periodo"]
[]
[null,null,"Ene.","Feb.","Mar.","Abr.","May.","Jun.","Jul.","Ago.","Sep.","Oct.","Nov.","Dic.",{"$f":"OFFSET(Año!B22,($O$1-1),0)","v":2018}]
[]
[null,"Generación renovable (GWh)",{"$f":"OFFSET(Renovable!C160,0,($O$1-1)*12)","v":397.51164699999998},{"$f":"OFFSET(Renovable!D160,0,($O$1-1)*12)","v":"-"},{"$f":"OFFSET(Renovable!E160,0,($O$1-1)*12)","v":"-"},{"$f":"OFFSET(Renovable!F160,0,($O$1-1)*12)","v":"-"},{"$f":"OFFSET(Renovable!G160,0,($O$1-1)*12)","v":"-"},{"$f":"OFFSET(Renovable!H160,0,($O$1-1)*12)","v":"-"},{"$f":"OFFSET(Renovable!I160,0,($O$1-1)*12)","v":"-"},{"$f":"OFFSET(Renovable!J160,0,($O$1-1)*12)","v":"-"},{"$f":"OFFSET(Renovable!K160,0,($O$1-1)*12)","v":"-"},{"$f":"OFFSET(Renovable!L160,0,($O$1-1)*12)","v":"-"},{"$f":"OFFSET(Renovable!M160,0,($O$1-1)*12)","v":"-"},{"$f":"OFFSET(Renovable!N160,0,($O$1-1)*12)","v":"-"},{"$f":"MAX(C10:N10)","v":397.51164699999998}]
[null,"Día",{"$f":"OFFSET(Renovable!C161,0,($O$1-1)*12)","v":4},{"$f":"OFFSET(Renovable!D161,0,($O$1-1)*12)","v":"-"},{"$f":"OFFSET(Renovable!E161,0,($O$1-1)*12)","v":"-"},{"$f":"OFFSET(Renovable!F161,0,($O$1-1)*12)","v":"-"},{"$f":"OFFSET(Renovable!G161,0,($O$1-1)*12)","v":"-"},{"$f":"OFFSET(Renovable!H161,0,($O$1-1)*12)","v":"-"},{"$f":"OFFSET(Renovable!I161,0,($O$1-1)*12)","v":"-"},{"$f":"OFFSET(Renovable!J161,0,($O$1-1)*12)","v":"-"},{"$f":"OFFSET(Renovable!K161,0,($O$1-1)*12)","v":"-"},{"$f":"OFFSET(Renovable!L161,0,($O$1-1)*12)","v":"-"},{"$f":"OFFSET(Renovable!M161,0,($O$1-1)*12)","v":"-"},{"$f":"OFFSET(Renovable!N161,0,($O$1-1)*12)","v":"-"},{"$f":"HLOOKUP($O$10,C10:N11,2,0)&\" de \"&HLOOKUP($O$10,C10:N12,3,0)","v":"4 de enero"}]
[null,null,"enero","febrero","marzo","abril","mayo","junio","julio","agosto","septiembre","octubre","noviembre","diciembre"]
[]
[]
[null,null,"Ene.","Feb.","Mar.","Abr.","May.","Jun.","Jul.","Ago.","Sep.","Oct.","Nov.","Dic.",{"$f":"OFFSET(Año!B22,($O$1-1),0)","v":2018}]
[]
[null,"Participación generación renovable (%)",{"$f":"OFFSET(Renovable!C164,0,($O$1-1)*12)","v":55.621986286188907},{"$f":"OFFSET(Renovable!D164,0,($O$1-1)*12)","v":"-"},{"$f":"OFFSET(Renovable!E164,0,($O$1-1)*12)","v":"-"},{"$f":"OFFSET(Renovable!F164,0,($O$1-1)*12)","v":"-"},{"$f":"OFFSET(Renovable!G164,0,($O$1-1)*12)","v":"-"},{"$f":"OFFSET(Renovable!H164,0,($O$1-1)*12)","v":"-"},{"$f":"OFFSET(Renovable!I164,0,($O$1-1)*12)","v":"-"},{"$f":"OFFSET(Renovable!J164,0,($O$1-1)*12)","v":"-"},{"$f":"OFFSET(Renovable!K164,0,($O$1-1)*12)","v":"-"},{"$f":"OFFSET(Renovable!L164,0,($O$1-1)*12)","v":"-"},{"$f":"OFFSET(Renovable!M164,0,($O$1-1)*12)","v":"-"},{"$f":"OFFSET(Renovable!N164,0,($O$1-1)*12)","v":"-"},{"$f":"MAX(C17:N17)","v":55.621986286188907}]
[null,"Día",{"$f":"OFFSET(Renovable!C165,0,($O$1-1)*12)","v":4},{"$f":"OFFSET(Renovable!D165,0,($O$1-1)*12)","v":"-"},{"$f":"OFFSET(Renovable!E165,0,($O$1-1)*12)","v":"-"},{"$f":"OFFSET(Renovable!F165,0,($O$1-1)*12)","v":"-"},{"$f":"OFFSET(Renovable!G165,0,($O$1-1)*12)","v":"-"},{"$f":"OFFSET(Renovable!H165,0,($O$1-1)*12)","v":"-"},{"$f":"OFFSET(Renovable!I165,0,($O$1-1)*12)","v":"-"},{"$f":"OFFSET(Renovable!J165,0,($O$1-1)*12)","v":"-"},{"$f":"OFFSET(Renovable!K165,0,($O$1-1)*12)","v":"-"},{"$f":"OFFSET(Renovable!L165,0,($O$1-1)*12)","v":"-"},{"$f":"OFFSET(Renovable!M165,0,($O$1-1)*12)","v":"-"},{"$f":"OFFSET(Renovable!N165,0,($O$1-1)*12)","v":"-"},{"$f":"HLOOKUP($O$17,C17:N18,2,0)&\" de \"&HLOOKUP($O$17,C17:N19,3,0)","v":"4 de enero"}]
[null,null,"enero","febrero","marzo","abril","mayo","junio","julio","agosto","septiembre","octubre","noviembre","diciembre"]
[null,"(1) Incluye hidráulica, eólica, solar fotovoltaica, solar térmica y térmica renovable/otras renovables. No incluye la generación bombeo."]

{"sheet":"Maxima renovable año Peninsular","index":24,"n_rows":21,"n_cols":10,"rows_kept":21,"cut":false,"hidden":false,"merged":[[19,1,19,9],[20,1,20,9]]}
[null,null,null,null,null,null,null,null,null,2]
[]
[null,null,null,null,null,null,null,"Concepto"]
[null,null,null,null,null,null,null,"Sistema eléctrico"]
[null,null,null,null,null,null,null,"Horizonte temporal"]
[null,null,null,null,null,null,null,"Periodo"]
[]
[null,null,{"$f":"OFFSET(Renovable!C199,0,($J$1-1)*8)","v":"2018"},{"$f":"OFFSET(Renovable!D199,0,($J$1-1)*8)","v":"2019"},{"$f":"OFFSET(Renovable!E199,0,($J$1-1)*8)","v":"2020"},{"$f":"OFFSET(Renovable!F199,0,($J$1-1)*8)","v":"2021"},{"$f":"OFFSET(Renovable!G199,0,($J$1-1)*8)","v":"2022"},{"$f":"OFFSET(Renovable!H199,0,($J$1-1)*8)","v":"2023"},{"$f":"OFFSET(Renovable!I199,0,($J$1-1)*8)","v":"2024"},{"$f":"OFFSET(Renovable!J199,0,($J$1-1)*8)","v":"2025"}]
[]
[null,"Generación renovable (GWh)",{"$f":"OFFSET(Renovable!C200,0,($J$1-1)*8)","v":397.51164699999998},{"$f":"OFFSET(Renovable!D200,0,($J$1-1)*8)","v":"-"},{"$f":"OFFSET(Renovable!E200,0,($J$1-1)*8)","v":"-"},{"$f":"OFFSET(Renovable!F200,0,($J$1-1)*8)","v":"-"},{"$f":"OFFSET(Renovable!G200,0,($J$1-1)*8)","v":"-"},{"$f":"OFFSET(Renovable!H200,0,($J$1-1)*8)","v":"-"},{"$f":"OFFSET(Renovable!I200,0,($J$1-1)*8)","v":"-"},{"$f":"OFFSET(Renovable!J200,0,($J$1-1)*8)","v":"-"}]
[null,"Día",{"$f":"OFFSET(Renovable!C201,0,($J$1-1)*8)","v":"4 de enero"},{"$f":"OFFSET(Renovable!D201,0,($J$1-1)*8)","v":"-"},{"$f":"OFFSET(Renovable!E201,0,($J$1-1)*8)","v":"-"},{"$f":"OFFSET(Renovable!F201,0,($J$1-1)*8)","v":"-"},{"$f":"OFFSET(Renovable!G201,0,($J$1-1)*8)","v":"-"},{"$f":"OFFSET(Renovable!H201,0,($J$1-1)*8)","v":"-"},{"$f":"OFFSET(Renovable!I201,0,($J$1-1)*8)","v":"-"},{"$f":"OFFSET(Renovable!J201,0,($J$1-1)*8)","v":"-"}]
[]
[]
[]
[null,null,{"$f":"OFFSET(Renovable!C203,0,($J$1-1)*8)","v":"2018"},{"$f":"OFFSET(Renovable!D203,0,($J$1-1)*8)","v":"2019"},{"$f":"OFFSET(Renovable!E203,0,($J$1-1)*8)","v":"2020"},{"$f":"OFFSET(Renovable!F203,0,($J$1-1)*8)","v":"2021"},{"$f":"OFFSET(Renovable!G203,0,($J$1-1)*8)","v":"2022"},{"$f":"OFFSET(Renovable!H203,0,($J$1-1)*8)","v":"2023"},{"$f":"OFFSET(Renovable!I203,0,($J$1-1)*8)","v":"2024"},{"$f":"OFFSET(Renovable!J203,0,($J$1-1)*8)","v":"2025"}]
[]
[null,"Participación generación renovable (%)",{"$f":"OFFSET(Renovable!C204,0,($J$1-1)*8)","v":55.621986286188907},{"$f":"OFFSET(Renovable!D204,0,($J$1-1)*8)","v":"-"},{"$f":"OFFSET(Renovable!E204,0,($J$1-1)*8)","v":"-"},{"$f":"OFFSET(Renovable!F204,0,($J$1-1)*8)","v":"-"},{"$f":"OFFSET(Renovable!G204,0,($J$1-1)*8)","v":"-"},{"$f":"OFFSET(Renovable!H204,0,($J$1-1)*8)","v":"-"},{"$f":"OFFSET(Renovable!I204,0,($J$1-1)*8)","v":"-"},{"$f":"OFFSET(Renovable!J204,0,($J$1-1)*8)","v":"-"}]
[null,"Día",{"$f":"OFFSET(Renovable!C205,0,($J$1-1)*8)","v":"4 de enero"},{"$f":"OFFSET(Renovable!D205,0,($J$1-1)*8)","v":"-"},{"$f":"OFFSET(Renovable!E205,0,($J$1-1)*8)","v":"-"},{"$f":"OFFSET(Renovable!F205,0,($J$1-1)*8)","v":"-"},{"$f":"OFFSET(Renovable!G205,0,($J$1-1)*8)","v":"-"},{"$f":"OFFSET(Renovable!H205,0,($J$1-1)*8)","v":"-"},{"$f":"OFFSET(Renovable!I205,0,($J$1-1)*8)","v":"-"},{"$f":"OFFSET(Renovable!J205,0,($J$1-1)*8)","v":"-"}]
[]
[null,"(1) Incluye hidráulica, eólica, solar fotovoltaica, solar térmica y térmica renovable/otras renovables. No incluye la generación bombeo."]
[null,{"$f":"IF(J1=0,\"\",IF(MONTH(FACT)=1,CONCATENATE(\"    Para el año \",YEAR(FACT)-1, \" valores acumulados hasta \",TEXT(FACT-30,\"mmmm\"),\" de \",YEAR(FACT)-1,\".\"),CONCATENATE(\"    Para el año \",YEAR(FACT), \" valores acumulados hasta \",TEXT(FACT-30,\"mmmm\"),\" de \",YEAR(FACT),\".\")))","v":"    Para el año 2018 valores acumulados hasta enero de 2018."}]

{"sheet":"Maxima renovable mes Baleares","index":25,"n_rows":20,"n_cols":15,"rows_kept":20,"cut":false,"hidden":false,"merged":[[19,1,19,14]]}
[null,null,null,null,null,null,null,null,null,null,null,null,null,null,9]
[]
[null,null,null,null,null,null,null,null,null,null,null,null,"Concepto"]
[null,null,null,null,null,null,null,null,null,null,null,null,"Sistema eléctrico"]
[null,null,null,null,null,null,null,null,null,null,null,null,"Horizonte temporal"]
[null,null,null,null,null,null,null,null,null,null,null,null,"Periodo"]
[]
[null,null,"Ene.","Feb.","Mar.","Abr.","May.","Jun.","Jul.","Ago.","Sep.","Oct.","Nov.","Dic.",{"$f":"OFFSET(Año!B22,($O$1-1),0)","v":2018}]
[]
[null,"Generación renovable (MWh)",{"$f":"OFFSET(Renovable!C168,0,($O$1-1)*12)","v":733.04},{"$f":"OFFSET(Renovable!D168,0,($O$1-1)*12)","v":"-"},{"$f":"OFFSET(Renovable!E168,0,($O$1-1)*12)","v":"-"},{"$f":"OFFSET(Renovable!F168,0,($O$1-1)*12)","v":"-"},{"$f":"OFFSET(Renovable!G168,0,($O$1-1)*12)","v":"-"},{"$f":"OFFSET(Renovable!H168,0,($O$1-1)*12)","v":"-"},{"$f":"OFFSET(Renovable!I168,0,($O$1-1)*12)","v":"-"},{"$f":"OFFSET(Renovable!J168,0,($O$1-1)*12)","v":"-"},{"$f":"OFFSET(Renovable!K168,0,($O$1-1)*12)","v":"-"},{"$f":"OFFSET(Renovable!L168,0,($O$1-1)*12)","v":"-"},{"$f":"OFFSET(Renovable!M168,0,($O$1-1)*12)","v":"-"},{"$f":"OFFSET(Renovable!N168,0,($O$1-1)*12)","v":"-"},{"$f":"MAX(C10:N10)","v":733.04}]
[null,"Día",{"$f":"OFFSET(Renovable!C169,0,($O$1-1)*12)","v":16},{"$f":"OFFSET(Renovable!D169,0,($O$1-1)*12)","v":"-"},{"$f":"OFFSET(Renovable!E169,0,($O$1-1)*12)","v":"-"},{"$f":"OFFSET(Renovable!F169,0,($O$1-1)*12)","v":"-"},{"$f":"OFFSET(Renovable!G169,0,($O$1-1)*12)","v":"-"},{"$f":"OFFSET(Renovable!H169,0,($O$1-1)*12)","v":"-"},{"$f":"OFFSET(Renovable!I169,0,($O$1-1)*12)","v":"-"},{"$f":"OFFSET(Renovable!J169,0,($O$1-1)*12)","v":"-"},{"$f":"OFFSET(Renovable!K169,0,($O$1-1)*12)","v":"-"},{"$f":"OFFSET(Renovable!L169,0,($O$1-1)*12)","v":"-"},{"$f":"OFFSET(Renovable!M169,0,($O$1-1)*12)","v":"-"},{"$f":"OFFSET(Renovable!N169,0,($O$1-1)*12)","v":"-"},{"$f":"HLOOKUP($O$10,C10:N11,2,0)&\" de \"&HLOOKUP($O$10,C10:N12,3,0)","v":"16 de enero"}]
[null,null,"enero","febrero","marzo","abril","mayo","junio","julio","agosto","septiembre","octubre","noviembre","diciembre"]
[]
[]
[null,null,"Ene.","Feb.","Mar.","Abr.","May.","Jun.","Jul.","Ago.","Sep.","Oct.","Nov.","Dic.",{"$f":"OFFSET(Año!B22,($O$1-1),0)","v":2018}]
[]
[null,"Participación generación renovable (%)",{"$f":"OFFSET(Renovable!C172,0,($O$1-1)*12)","v":6.4828441591112558},{"$f":"OFFSET(Renovable!D172,0,($O$1-1)*12)","v":"-"},{"$f":"OFFSET(Renovable!E172,0,($O$1-1)*12)","v":"-"},{"$f":"OFFSET(Renovable!F172,0,($O$1-1)*12)","v":"-"},{"$f":"OFFSET(Renovable!G172,0,($O$1-1)*12)","v":"-"},{"$f":"OFFSET(Renovable!H172,0,($O$1-1)*12)","v":"-"},{"$f":"OFFSET(Renovable!I172,0,($O$1-1)*12)","v":"-"},{"$f":"OFFSET(Renovable!J172,0,($O$1-1)*12)","v":"-"},{"$f":"OFFSET(Renovable!K172,0,($O$1-1)*12)","v":"-"},{"$f":"OFFSET(Renovable!L172,0,($O$1-1)*12)","v":"-"},{"$f":"OFFSET(Renovable!M172,0,($O$1-1)*12)","v":"-"},{"$f":"OFFSET(Renovable!N172,0,($O$1-1)*12)","v":"-"},{"$f":"MAX(C17:N17)","v":6.4828441591112558}]
[null,"Día",{"$f":"OFFSET(Renovable!C173,0,($O$1-1)*12)","v":17},{"$f":"OFFSET(Renovable!D173,0,($O$1-1)*12)","v":"-"},{"$f":"OFFSET(Renovable!E173,0,($O$1-1)*12)","v":"-"},{"$f":"OFFSET(Renovable!F173,0,($O$1-1)*12)","v":"-"},{"$f":"OFFSET(Renovable!G173,0,($O$1-1)*12)","v":"-"},{"$f":"OFFSET(Renovable!H173,0,($O$1-1)*12)","v":"-"},{"$f":"OFFSET(Renovable!I173,0,($O$1-1)*12)","v":"-"},{"$f":"OFFSET(Renovable!J173,0,($O$1-1)*12)","v":"-"},{"$f":"OFFSET(Renovable!K173,0,($O$1-1)*12)","v":"-"},{"$f":"OFFSET(Renovable!L173,0,($O$1-1)*12)","v":"-"},{"$f":"OFFSET(Renovable!M173,0,($O$1-1)*12)","v":"-"},{"$f":"OFFSET(Renovable!N173,0,($O$1-1)*12)","v":"-"},{"$f":"HLOOKUP($O$17,C17:N18,2,0)&\" de \"&HLOOKUP($O$17,C17:N19,3,0)","v":"17 de enero"}]
[null,null,"enero","febrero","marzo","abril","mayo","junio","julio","agosto","septiembre","octubre","noviembre","diciembre"]
[null,"(1) Incluye eólica, solar fotovoltaica y térmica renovable/otras renovables."]

{"sheet":"Maxima renovable año Baleares","index":26,"n_rows":21,"n_cols":10,"rows_kept":21,"cut":false,"hidden":false,"merged":[[19,1,19,9],[20,1,20,9]]}
[null,null,null,null,null,null,null,null,null,2]
[]
[null,null,null,null,null,null,null,"Concepto"]
[null,null,null,null,null,null,null,"Sistema eléctrico"]
[null,null,null,null,null,null,null,"Horizonte temporal"]
[null,null,null,null,null,null,null,"Periodo"]
[]
[null,null,{"$f":"OFFSET(Renovable!C207,0,($J$1-1)*8)","v":"2018"},{"$f":"OFFSET(Renovable!D207,0,($J$1-1)*8)","v":"2019"},{"$f":"OFFSET(Renovable!E207,0,($J$1-1)*8)","v":"2020"},{"$f":"OFFSET(Renovable!F207,0,($J$1-1)*8)","v":"2021"},{"$f":"OFFSET(Renovable!G207,0,($J$1-1)*8)","v":"2022"},{"$f":"OFFSET(Renovable!H207,0,($J$1-1)*8)","v":"2023"},{"$f":"OFFSET(Renovable!I207,0,($J$1-1)*8)","v":"2024"},{"$f":"OFFSET(Renovable!J207,0,($J$1-1)*8)","v":"2025"}]
[]
[null,"Generación renovable (MWh)",{"$f":"OFFSET(Renovable!C208,0,($J$1-1)*8)","v":733.04},{"$f":"OFFSET(Renovable!D208,0,($J$1-1)*8)","v":"-"},{"$f":"OFFSET(Renovable!E208,0,($J$1-1)*8)","v":"-"},{"$f":"OFFSET(Renovable!F208,0,($J$1-1)*8)","v":"-"},{"$f":"OFFSET(Renovable!G208,0,($J$1-1)*8)","v":"-"},{"$f":"OFFSET(Renovable!H208,0,($J$1-1)*8)","v":"-"},{"$f":"OFFSET(Renovable!I208,0,($J$1-1)*8)","v":"-"},{"$f":"OFFSET(Renovable!J208,0,($J$1-1)*8)","v":"-"}]
[null,"Día",{"$f":"OFFSET(Renovable!C209,0,($J$1-1)*8)","v":"16 de enero"},{"$f":"OFFSET(Renovable!D209,0,($J$1-1)*8)","v":"-"},{"$f":"OFFSET(Renovable!E209,0,($J$1-1)*8)","v":"-"},{"$f":"OFFSET(Renovable!F209,0,($J$1-1)*8)","v":"-"},{"$f":"OFFSET(Renovable!G209,0,($J$1-1)*8)","v":"-"},{"$f":"OFFSET(Renovable!H209,0,($J$1-1)*8)","v":"-"},{"$f":"OFFSET(Renovable!I209,0,($J$1-1)*8)","v":"-"},{"$f":"OFFSET(Renovable!J209,0,($J$1-1)*8)","v":"-"}]
[]
[]
[]
[null,null,{"$f":"OFFSET(Renovable!C211,0,($J$1-1)*8)","v":"2018"},{"$f":"OFFSET(Renovable!D211,0,($J$1-1)*8)","v":"2019"},{"$f":"OFFSET(Renovable!E211,0,($J$1-1)*8)","v":"2020"},{"$f":"OFFSET(Renovable!F211,0,($J$1-1)*8)","v":"2021"},{"$f":"OFFSET(Renovable!G211,0,($J$1-1)*8)","v":"2022"},{"$f":"OFFSET(Renovable!H211,0,($J$1-1)*8)","v":"2023"},{"$f":"OFFSET(Renovable!I211,0,($J$1-1)*8)","v":"2024"},{"$f":"OFFSET(Renovable!J211,0,($J$1-1)*8)","v":"2025"}]
[]
[null,"Participación generación renovable (%)",{"$f":"OFFSET(Renovable!C212,0,($J$1-1)*8)","v":6.4828441591112558},{"$f":"OFFSET(Renovable!D212,0,($J$1-1)*8)","v":"-"},{"$f":"OFFSET(Renovable!E212,0,($J$1-1)*8)","v":"-"},{"$f":"OFFSET(Renovable!F212,0,($J$1-1)*8)","v":"-"},{"$f":"OFFSET(Renovable!G212,0,($J$1-1)*8)","v":"-"},{"$f":"OFFSET(Renovable!H212,0,($J$1-1)*8)","v":"-"},{"$f":"OFFSET(Renovable!I212,0,($J$1-1)*8)","v":"-"},{"$f":"OFFSET(Renovable!J212,0,($J$1-1)*8)","v":"-"}]
[null,"Día",{"$f":"OFFSET(Renovable!C213,0,($J$1-1)*8)","v":"17 de enero"},{"$f":"OFFSET(Renovable!D213,0,($J$1-1)*8)","v":"-"},{"$f":"OFFSET(Renovable!E213,0,($J$1-1)*8)","v":"-"},{"$f":"OFFSET(Renovable!F213,0,($J$1-1)*8)","v":"-"},{"$f":"OFFSET(Renovable!G213,0,($J$1-1)*8)","v":"-"},{"$f":"OFFSET(Renovable!H213,0,($J$1-1)*8)","v":"-"},{"$f":"OFFSET(Renovable!I213,0,($J$1-1)*8)","v":"-"},{"$f":"OFFSET(Renovable!J213,0,($J$1-1)*8)","v":"-"}]
[]
[null,"(1) Incluye eólica, solar fotovoltaica y térmica renovable/otras renovables."]
[null,{"$f":"IF(J1=0,\"\",IF(MONTH(FACT)=1,CONCATENATE(\"    Para el año \",YEAR(FACT)-1, \" valores acumulados hasta \",TEXT(FACT-30,\"mmmm\"),\" de \",YEAR(FACT)-1,\".\"),CONCATENATE(\"    Para el año \",YEAR(FACT), \" valores acumulados hasta \",TEXT(FACT-30,\"mmmm\"),\" de \",YEAR(FACT),\".\")))","v":"    Para el año 2018 valores acumulados hasta enero de 2018."}]

{"sheet":"Maxima renovable mes Canarias","index":27,"n_rows":20,"n_cols":15,"rows_kept":20,"cut":false,"hidden":false,"merged":[[19,1,19,14]]}
[null,null,null,null,null,null,null,null,null,null,null,null,null,null,9]
[]
[null,null,null,null,null,null,null,null,null,null,null,null,"Concepto"]
[null,null,null,null,null,null,null,null,null,null,null,null,"Sistema eléctrico"]
[null,null,null,null,null,null,null,null,null,null,null,null,"Horizonte temporal"]
[null,null,null,null,null,null,null,null,null,null,null,null,"Periodo"]
[]
[null,null,"Ene.","Feb.","Mar.","Abr.","May.","Jun.","Jul.","Ago.","Sep.","Oct.","Nov.","Dic.",{"$f":"OFFSET(Año!B22,($O$1-1),0)","v":2018}]
[]
[null,"Generación renovable (MWh)",{"$f":"OFFSET(Renovable!C176,0,($O$1-1)*12)","v":4825.134},{"$f":"OFFSET(Renovable!D176,0,($O$1-1)*12)","v":"-"},{"$f":"OFFSET(Renovable!E176,0,($O$1-1)*12)","v":"-"},{"$f":"OFFSET(Renovable!F176,0,($O$1-1)*12)","v":"-"},{"$f":"OFFSET(Renovable!G176,0,($O$1-1)*12)","v":"-"},{"$f":"OFFSET(Renovable!H176,0,($O$1-1)*12)","v":"-"},{"$f":"OFFSET(Renovable!I176,0,($O$1-1)*12)","v":"-"},{"$f":"OFFSET(Renovable!J176,0,($O$1-1)*12)","v":"-"},{"$f":"OFFSET(Renovable!K176,0,($O$1-1)*12)","v":"-"},{"$f":"OFFSET(Renovable!L176,0,($O$1-1)*12)","v":"-"},{"$f":"OFFSET(Renovable!M176,0,($O$1-1)*12)","v":"-"},{"$f":"OFFSET(Renovable!N176,0,($O$1-1)*12)","v":"-"},{"$f":"MAX(C10:N10)","v":4825.134}]
[null,"Día",{"$f":"OFFSET(Renovable!C177,0,($O$1-1)*12)","v":27},{"$f":"OFFSET(Renovable!D177,0,($O$1-1)*12)","v":"-"},{"$f":"OFFSET(Renovable!E177,0,($O$1-1)*12)","v":"-"},{"$f":"OFFSET(Renovable!F177,0,($O$1-1)*12)","v":"-"},{"$f":"OFFSET(Renovable!G177,0,($O$1-1)*12)","v":"-"},{"$f":"OFFSET(Renovable!H177,0,($O$1-1)*12)","v":"-"},{"$f":"OFFSET(Renovable!I177,0,($O$1-1)*12)","v":"-"},{"$f":"OFFSET(Renovable!J177,0,($O$1-1)*12)","v":"-"},{"$f":"OFFSET(Renovable!K177,0,($O$1-1)*12)","v":"-"},{"$f":"OFFSET(Renovable!L177,0,($O$1-1)*12)","v":"-"},{"$f":"OFFSET(Renovable!M177,0,($O$1-1)*12)","v":"-"},{"$f":"OFFSET(Renovable!N177,0,($O$1-1)*12)","v":"-"},{"$f":"HLOOKUP($O$10,C10:N11,2,0)&\" de \"&HLOOKUP($O$10,C10:N12,3,0)","v":"27 de enero"}]
[null,null,"enero","febrero","marzo","abril","mayo","junio","julio","agosto","septiembre","octubre","noviembre","diciembre"]
[]
[]
[null,null,"Ene.","Feb.","Mar.","Abr.","May.","Jun.","Jul.","Ago.","Sep.","Oct.","Nov.","Dic.",{"$f":"OFFSET(Año!B22,($O$1-1),0)","v":2018}]
[]
[null,"Participación generación renovable (%)",{"$f":"OFFSET(Renovable!C180,0,($O$1-1)*12)","v":20},{"$f":"OFFSET(Renovable!D180,0,($O$1-1)*12)","v":"-"},{"$f":"OFFSET(Renovable!E180,0,($O$1-1)*12)","v":"-"},{"$f":"OFFSET(Renovable!F180,0,($O$1-1)*12)","v":"-"},{"$f":"OFFSET(Renovable!G180,0,($O$1-1)*12)","v":"-"},{"$f":"OFFSET(Renovable!H180,0,($O$1-1)*12)","v":"-"},{"$f":"OFFSET(Renovable!I180,0,($O$1-1)*12)","v":"-"},{"$f":"OFFSET(Renovable!J180,0,($O$1-1)*12)","v":"-"},{"$f":"OFFSET(Renovable!K180,0,($O$1-1)*12)","v":"-"},{"$f":"OFFSET(Renovable!L180,0,($O$1-1)*12)","v":"-"},{"$f":"OFFSET(Renovable!M180,0,($O$1-1)*12)","v":"-"},{"$f":"OFFSET(Renovable!N180,0,($O$1-1)*12)","v":"-"},{"$f":"MAX(C17:N17)","v":20}]
[null,"Día",{"$f":"OFFSET(Renovable!C181,0,($O$1-1)*12)","v":27},{"$f":"OFFSET(Renovable!D181,0,($O$1-1)*12)","v":"-"},{"$f":"OFFSET(Renovable!E181,0,($O$1-1)*12)","v":"-"},{"$f":"OFFSET(Renovable!F181,0,($O$1-1)*12)","v":"-"},{"$f":"OFFSET(Renovable!G181,0,($O$1-1)*12)","v":"-"},{"$f":"OFFSET(Renovable!H181,0,($O$1-1)*12)","v":"-"},{"$f":"OFFSET(Renovable!I181,0,($O$1-1)*12)","v":"-"},{"$f":"OFFSET(Renovable!J181,0,($O$1-1)*12)","v":"-"},{"$f":"OFFSET(Renovable!K181,0,($O$1-1)*12)","v":"-"},{"$f":"OFFSET(Renovable!L181,0,($O$1-1)*12)","v":"-"},{"$f":"OFFSET(Renovable!M181,0,($O$1-1)*12)","v":"-"},{"$f":"OFFSET(Renovable!N181,0,($O$1-1)*12)","v":"-"},{"$f":"HLOOKUP($O$17,C17:N18,2,0)&\" de \"&HLOOKUP($O$17,C17:N19,3,0)","v":"27 de enero"}]
[null,null,"enero","febrero","marzo","abril","mayo","junio","julio","agosto","septiembre","octubre","noviembre","diciembre"]
[null,"(1) Incluye hidráulica, hidroeólica, eólica, solar fotovoltaica y térmica renovable/otras renovables."]

{"sheet":"Maxima renovable año Canarias","index":28,"n_rows":21,"n_cols":10,"rows_kept":21,"cut":false,"hidden":false,"merged":[[19,1,19,9],[20,1,20,9]]}
[null,null,null,null,null,null,null,null,null,2]
[]
[null,null,null,null,null,null,null,"Concepto"]
[null,null,null,null,null,null,null,"Sistema eléctrico"]
[null,null,null,null,null,null,null,"Horizonte temporal"]
[null,null,null,null,null,null,null,"Periodo"]
[]
[null,null,{"$f":"OFFSET(Renovable!C215,0,($J$1-1)*8)","v":"2018"},{"$f":"OFFSET(Renovable!D215,0,($J$1-1)*8)","v":"2019"},{"$f":"OFFSET(Renovable!E215,0,($J$1-1)*8)","v":"2020"},{"$f":"OFFSET(Renovable!F215,0,($J$1-1)*8)","v":"2021"},{"$f":"OFFSET(Renovable!G215,0,($J$1-1)*8)","v":"2022"},{"$f":"OFFSET(Renovable!H215,0,($J$1-1)*8)","v":"2023"},{"$f":"OFFSET(Renovable!I215,0,($J$1-1)*8)","v":"2024"},{"$f":"OFFSET(Renovable!J215,0,($J$1-1)*8)","v":"2025"}]
[]
[null,"Generación renovable (MWh)",{"$f":"OFFSET(Renovable!C216,0,($J$1-1)*8)","v":4825.134},{"$f":"OFFSET(Renovable!D216,0,($J$1-1)*8)","v":"-"},{"$f":"OFFSET(Renovable!E216,0,($J$1-1)*8)","v":"-"},{"$f":"OFFSET(Renovable!F216,0,($J$1-1)*8)","v":"-"},{"$f":"OFFSET(Renovable!G216,0,($J$1-1)*8)","v":"-"},{"$f":"OFFSET(Renovable!H216,0,($J$1-1)*8)","v":"-"},{"$f":"OFFSET(Renovable!I216,0,($J$1-1)*8)","v":"-"},{"$f":"OFFSET(Renovable!J216,0,($J$1-1)*8)","v":"-"}]
[null,"Día",{"$f":"OFFSET(Renovable!C217,0,($J$1-1)*8)","v":"27 de enero"},{"$f":"OFFSET(Renovable!D217,0,($J$1-1)*8)","v":"-"},{"$f":"OFFSET(Renovable!E217,0,($J$1-1)*8)","v":"-"},{"$f":"OFFSET(Renovable!F217,0,($J$1-1)*8)","v":"-"},{"$f":"OFFSET(Renovable!G217,0,($J$1-1)*8)","v":"-"},{"$f":"OFFSET(Renovable!H217,0,($J$1-1)*8)","v":"-"},{"$f":"OFFSET(Renovable!I217,0,($J$1-1)*8)","v":"-"},{"$f":"OFFSET(Renovable!J217,0,($J$1-1)*8)","v":"-"}]
[]
[]
[]
[null,null,{"$f":"OFFSET(Renovable!C219,0,($J$1-1)*8)","v":"2018"},{"$f":"OFFSET(Renovable!D219,0,($J$1-1)*8)","v":"2019"},{"$f":"OFFSET(Renovable!E219,0,($J$1-1)*8)","v":"2020"},{"$f":"OFFSET(Renovable!F219,0,($J$1-1)*8)","v":"2021"},{"$f":"OFFSET(Renovable!G219,0,($J$1-1)*8)","v":"2022"},{"$f":"OFFSET(Renovable!H219,0,($J$1-1)*8)","v":"2023"},{"$f":"OFFSET(Renovable!I219,0,($J$1-1)*8)","v":"2024"},{"$f":"OFFSET(Renovable!J219,0,($J$1-1)*8)","v":"2025"}]
[]
[null,"Participación generación renovable (%)",{"$f":"OFFSET(Renovable!C220,0,($J$1-1)*8)","v":20},{"$f":"OFFSET(Renovable!D220,0,($J$1-1)*8)","v":"-"},{"$f":"OFFSET(Renovable!E220,0,($J$1-1)*8)","v":"-"},{"$f":"OFFSET(Renovable!F220,0,($J$1-1)*8)","v":"-"},{"$f":"OFFSET(Renovable!G220,0,($J$1-1)*8)","v":"-"},{"$f":"OFFSET(Renovable!H220,0,($J$1-1)*8)","v":"-"},{"$f":"OFFSET(Renovable!I220,0,($J$1-1)*8)","v":"-"},{"$f":"OFFSET(Renovable!J220,0,($J$1-1)*8)","v":"-"}]
[null,"Día",{"$f":"OFFSET(Renovable!C221,0,($J$1-1)*8)","v":"27 de enero"},{"$f":"OFFSET(Renovable!D221,0,($J$1-1)*8)","v":"-"},{"$f":"OFFSET(Renovable!E221,0,($J$1-1)*8)","v":"-"},{"$f":"OFFSET(Renovable!F221,0,($J$1-1)*8)","v":"-"},{"$f":"OFFSET(Renovable!G221,0,($J$1-1)*8)","v":"-"},{"$f":"OFFSET(Renovable!H221,0,($J$1-1)*8)","v":"-"},{"$f":"OFFSET(Renovable!I221,0,($J$1-1)*8)","v":"-"},{"$f":"OFFSET(Renovable!J221,0,($J$1-1)*8)","v":"-"}]
[]
[null,"(1) Incluye hidráulica, hidroeólica, eólica, solar fotovoltaica y térmica renovable/otras renovables."]
[null,{"$f":"IF(J1=0,\"\",IF(MONTH(FACT)=1,CONCATENATE(\"    Para el año \",YEAR(FACT)-1, \" valores acumulados hasta \",TEXT(FACT-30,\"mmmm\"),\" de \",YEAR(FACT)-1,\".\"),CONCATENATE(\"    Para el año \",YEAR(FACT), \" valores acumulados hasta \",TEXT(FACT-30,\"mmmm\"),\" de \",YEAR(FACT),\".\")))","v":"    Para el año 2018 valores acumulados hasta enero de 2018."}]

{"sheet":"Maxima renovable mes Melilla","index":29,"n_rows":20,"n_cols":15,"rows_kept":20,"cut":false,"hidden":false,"merged":[[19,1,19,14]]}
[null,null,null,null,null,null,null,null,null,null,null,null,null,null,9]
[]
[null,null,null,null,null,null,null,null,null,null,null,null,"Concepto"]
[null,null,null,null,null,null,null,null,null,null,null,null,"Sistema eléctrico"]
[null,null,null,null,null,null,null,null,null,null,null,null,"Horizonte temporal"]
[null,null,null,null,null,null,null,null,null,null,null,null,"Periodo"]
[]
[null,null,"Ene.","Feb.","Mar.","Abr.","May.","Jun.","Jul.","Ago.","Sep.","Oct.","Nov.","Dic.",{"$f":"OFFSET(Año!B22,($O$1-1),0)","v":2018}]
[]
[null,"Generación renovable (MWh)",{"$f":"OFFSET(Renovable!C184,0,($O$1-1)*12)","v":13.2},{"$f":"OFFSET(Renovable!D184,0,($O$1-1)*12)","v":"-"},{"$f":"OFFSET(Renovable!E184,0,($O$1-1)*12)","v":"-"},{"$f":"OFFSET(Renovable!F184,0,($O$1-1)*12)","v":"-"},{"$f":"OFFSET(Renovable!G184,0,($O$1-1)*12)","v":"-"},{"$f":"OFFSET(Renovable!H184,0,($O$1-1)*12)","v":"-"},{"$f":"OFFSET(Renovable!I184,0,($O$1-1)*12)","v":"-"},{"$f":"OFFSET(Renovable!J184,0,($O$1-1)*12)","v":"-"},{"$f":"OFFSET(Renovable!K184,0,($O$1-1)*12)","v":"-"},{"$f":"OFFSET(Renovable!L184,0,($O$1-1)*12)","v":"-"},{"$f":"OFFSET(Renovable!M184,0,($O$1-1)*12)","v":"-"},{"$f":"OFFSET(Renovable!N184,0,($O$1-1)*12)","v":"-"},{"$f":"MAX(C10:N10)","v":13.2}]
[null,"Día",{"$f":"OFFSET(Renovable!C185,0,($O$1-1)*12)","v":1},{"$f":"OFFSET(Renovable!D185,0,($O$1-1)*12)","v":"-"},{"$f":"OFFSET(Renovable!E185,0,($O$1-1)*12)","v":"-"},{"$f":"OFFSET(Renovable!F185,0,($O$1-1)*12)","v":"-"},{"$f":"OFFSET(Renovable!G185,0,($O$1-1)*12)","v":"-"},{"$f":"OFFSET(Renovable!H185,0,($O$1-1)*12)","v":"-"},{"$f":"OFFSET(Renovable!I185,0,($O$1-1)*12)","v":"-"},{"$f":"OFFSET(Renovable!J185,0,($O$1-1)*12)","v":"-"},{"$f":"OFFSET(Renovable!K185,0,($O$1-1)*12)","v":"-"},{"$f":"OFFSET(Renovable!L185,0,($O$1-1)*12)","v":"-"},{"$f":"OFFSET(Renovable!M185,0,($O$1-1)*12)","v":"-"},{"$f":"OFFSET(Renovable!N185,0,($O$1-1)*12)","v":"-"},{"$f":"HLOOKUP($O$10,C10:N11,2,0)&\" de \"&HLOOKUP($O$10,C10:N12,3,0)","v":"1 de enero"}]
[null,null,"enero","febrero","marzo","abril","mayo","junio","julio","agosto","septiembre","octubre","noviembre","diciembre"]
[]
[]
[null,null,"Ene.","Feb.","Mar.","Abr.","May.","Jun.","Jul.","Ago.","Sep.","Oct.","Nov.","Dic.",{"$f":"OFFSET(Año!B22,($O$1-1),0)","v":2018}]
[]
[null,"Participación generación renovable (%)",{"$f":"OFFSET(Renovable!C188,0,($O$1-1)*12)","v":2.4176001289386737},{"$f":"OFFSET(Renovable!D188,0,($O$1-1)*12)","v":"-"},{"$f":"OFFSET(Renovable!E188,0,($O$1-1)*12)","v":"-"},{"$f":"OFFSET(Renovable!F188,0,($O$1-1)*12)","v":"-"},{"$f":"OFFSET(Renovable!G188,0,($O$1-1)*12)","v":"-"},{"$f":"OFFSET(Renovable!H188,0,($O$1-1)*12)","v":"-"},{"$f":"OFFSET(Renovable!I188,0,($O$1-1)*12)","v":"-"},{"$f":"OFFSET(Renovable!J188,0,($O$1-1)*12)","v":"-"},{"$f":"OFFSET(Renovable!K188,0,($O$1-1)*12)","v":"-"},{"$f":"OFFSET(Renovable!L188,0,($O$1-1)*12)","v":"-"},{"$f":"OFFSET(Renovable!M188,0,($O$1-1)*12)","v":"-"},{"$f":"OFFSET(Renovable!N188,0,($O$1-1)*12)","v":"-"},{"$f":"MAX(C17:N17)","v":2.4176001289386737}]
[null,"Día",{"$f":"OFFSET(Renovable!C189,0,($O$1-1)*12)","v":6},{"$f":"OFFSET(Renovable!D189,0,($O$1-1)*12)","v":"-"},{"$f":"OFFSET(Renovable!E189,0,($O$1-1)*12)","v":"-"},{"$f":"OFFSET(Renovable!F189,0,($O$1-1)*12)","v":"-"},{"$f":"OFFSET(Renovable!G189,0,($O$1-1)*12)","v":"-"},{"$f":"OFFSET(Renovable!H189,0,($O$1-1)*12)","v":"-"},{"$f":"OFFSET(Renovable!I189,0,($O$1-1)*12)","v":"-"},{"$f":"OFFSET(Renovable!J189,0,($O$1-1)*12)","v":"-"},{"$f":"OFFSET(Renovable!K189,0,($O$1-1)*12)","v":"-"},{"$f":"OFFSET(Renovable!L189,0,($O$1-1)*12)","v":"-"},{"$f":"OFFSET(Renovable!M189,0,($O$1-1)*12)","v":"-"},{"$f":"OFFSET(Renovable!N189,0,($O$1-1)*12)","v":"-"},{"$f":"HLOOKUP($O$17,C17:N18,2,0)&\" de \"&HLOOKUP($O$17,C17:N19,3,0)","v":"6 de enero"}]
[null,null,"enero","febrero","marzo","abril","mayo","junio","julio","agosto","septiembre","octubre","noviembre","diciembre"]
[null,"(1) Incluye solar fotovoltaica."]

{"sheet":"Maxima renovable año Melilla","index":30,"n_rows":21,"n_cols":10,"rows_kept":21,"cut":false,"hidden":false,"merged":[[19,1,19,9],[20,1,20,9]]}
[null,null,null,null,null,null,null,null,null,2]
[]
[null,null,null,null,null,null,null,"Concepto"]
[null,null,null,null,null,null,null,"Sistema eléctrico"]
[null,null,null,null,null,null,null,"Horizonte temporal"]
[null,null,null,null,null,null,null,"Periodo"]
[]
[null,null,{"$f":"OFFSET(Renovable!C223,0,($J$1-1)*8)","v":"2018"},{"$f":"OFFSET(Renovable!D223,0,($J$1-1)*8)","v":"2019"},{"$f":"OFFSET(Renovable!E223,0,($J$1-1)*8)","v":"2020"},{"$f":"OFFSET(Renovable!F223,0,($J$1-1)*8)","v":"2021"},{"$f":"OFFSET(Renovable!G223,0,($J$1-1)*8)","v":"2022"},{"$f":"OFFSET(Renovable!H223,0,($J$1-1)*8)","v":"2023"},{"$f":"OFFSET(Renovable!I223,0,($J$1-1)*8)","v":"2024"},{"$f":"OFFSET(Renovable!J223,0,($J$1-1)*8)","v":"2025"}]
[]
[null,"Generación renovable (MWh)",{"$f":"OFFSET(Renovable!C224,0,($J$1-1)*8)","v":13.2},{"$f":"OFFSET(Renovable!D224,0,($J$1-1)*8)","v":"-"},{"$f":"OFFSET(Renovable!E224,0,($J$1-1)*8)","v":"-"},{"$f":"OFFSET(Renovable!F224,0,($J$1-1)*8)","v":"-"},{"$f":"OFFSET(Renovable!G224,0,($J$1-1)*8)","v":"-"},{"$f":"OFFSET(Renovable!H224,0,($J$1-1)*8)","v":"-"},{"$f":"OFFSET(Renovable!I224,0,($J$1-1)*8)","v":"-"},{"$f":"OFFSET(Renovable!J224,0,($J$1-1)*8)","v":"-"}]
[null,"Día",{"$f":"OFFSET(Renovable!C225,0,($J$1-1)*8)","v":"1 de enero"},{"$f":"OFFSET(Renovable!D225,0,($J$1-1)*8)","v":"-"},{"$f":"OFFSET(Renovable!E225,0,($J$1-1)*8)","v":"-"},{"$f":"OFFSET(Renovable!F225,0,($J$1-1)*8)","v":"-"},{"$f":"OFFSET(Renovable!G225,0,($J$1-1)*8)","v":"-"},{"$f":"OFFSET(Renovable!H225,0,($J$1-1)*8)","v":"-"},{"$f":"OFFSET(Renovable!I225,0,($J$1-1)*8)","v":"-"},{"$f":"OFFSET(Renovable!J225,0,($J$1-1)*8)","v":"-"}]
[]
[]
[]
[null,null,{"$f":"OFFSET(Renovable!C227,0,($J$1-1)*8)","v":"2018"},{"$f":"OFFSET(Renovable!D227,0,($J$1-1)*8)","v":"2019"},{"$f":"OFFSET(Renovable!E227,0,($J$1-1)*8)","v":"2020"},{"$f":"OFFSET(Renovable!F227,0,($J$1-1)*8)","v":"2021"},{"$f":"OFFSET(Renovable!G227,0,($J$1-1)*8)","v":"2022"},{"$f":"OFFSET(Renovable!H227,0,($J$1-1)*8)","v":"2023"},{"$f":"OFFSET(Renovable!I227,0,($J$1-1)*8)","v":"2024"},{"$f":"OFFSET(Renovable!J227,0,($J$1-1)*8)","v":"2025"}]
[]
[null,"Participación generación renovable (%)",{"$f":"OFFSET(Renovable!C228,0,($J$1-1)*8)","v":2.4176001289386737},{"$f":"OFFSET(Renovable!D228,0,($J$1-1)*8)","v":"-"},{"$f":"OFFSET(Renovable!E228,0,($J$1-1)*8)","v":"-"},{"$f":"OFFSET(Renovable!F228,0,($J$1-1)*8)","v":"-"},{"$f":"OFFSET(Renovable!G228,0,($J$1-1)*8)","v":"-"},{"$f":"OFFSET(Renovable!H228,0,($J$1-1)*8)","v":"-"},{"$f":"OFFSET(Renovable!I228,0,($J$1-1)*8)","v":"-"},{"$f":"OFFSET(Renovable!J228,0,($J$1-1)*8)","v":"-"}]
[null,"Día",{"$f":"OFFSET(Renovable!C229,0,($J$1-1)*8)","v":"6 de enero"},{"$f":"OFFSET(Renovable!D229,0,($J$1-1)*8)","v":"-"},{"$f":"OFFSET(Renovable!E229,0,($J$1-1)*8)","v":"-"},{"$f":"OFFSET(Renovable!F229,0,($J$1-1)*8)","v":"-"},{"$f":"OFFSET(Renovable!G229,0,($J$1-1)*8)","v":"-"},{"$f":"OFFSET(Renovable!H229,0,($J$1-1)*8)","v":"-"},{"$f":"OFFSET(Renovable!I229,0,($J$1-1)*8)","v":"-"},{"$f":"OFFSET(Renovable!J229,0,($J$1-1)*8)","v":"-"}]
[]
[null,"(1) Incluye solar fotovoltaica."]
[null,{"$f":"IF(J1=0,\"\",IF(MONTH(FACT)=1,CONCATENATE(\"    Para el año \",YEAR(FACT)-1, \" valores acumulados hasta \",TEXT(FACT-30,\"mmmm\"),\" de \",YEAR(FACT)-1,\".\"),CONCATENATE(\"    Para el año \",YEAR(FACT), \" valores acumulados hasta \",TEXT(FACT-30,\"mmmm\"),\" de \",YEAR(FACT),\".\")))","v":"    Para el año 2018 valores acumulados hasta enero de 2018."}]

{"sheet":"Renovable","index":31,"n_rows":237,"n_cols":350,"rows_kept":237,"cut":false,"hidden":true,"merged":[]}
[]
[null,"Generación renovable mensual peninsular (GWh)","1990-01-01","1990-02-01","1990-03-01","1990-04-01","1990-05-01","1990-06-01","1990-07-01","1990-08-01","1990-09-01","1990-10-01","1990-11-01","1990-12-01","1991-01-01","1991-02-01","1991-03-01","1991-04-01","1991-05-01","1991-06-01","1991-07-01","1991-08-01","1991-09-01","1991-10-01","1991-11-01","1991-12-01","1992-01-01","1992-02-01","1992-03-01","1992-04-01","1992-05-01","1992-06-01","1992-07-01","1992-08-01","1992-09-01","1992-10-01","1992-11-01","1992-12-01","1993-01-01","1993-02-01","1993-03-01","1993-04-01","1993-05-01","1993-06-01","1993-07-01","1993-08-01","1993-09-01","1993-10-01","1993-11-01","1993-12-01","1994-01-01","1994-02-01","1994-03-01","1994-04-01","1994-05-01","1994-06-01","1994-07-01","1994-08-01","1994-09-01","1994-10-01","1994-11-01","1994-12-01","1995-01-01","1995-02-01","1995-03-01","1995-04-01","1995-05-01","1995-06-01","1995-07-01","1995-08-01","1995-09-01","1995-10-01","1995-11-01","1995-12-01","1996-01-01","1996-02-01","1996-03-01","1996-04-01","1996-05-01","1996-06-01","1996-07-01","1996-08-01","1996-09-01","1996-10-01","1996-11-01","1996-12-01","1997-01-01","1997-02-01","1997-03-01","1997-04-01","1997-05-01","1997-06-01","1997-07-01","1997-08-01","1997-09-01","1997-10-01","1997-11-01","1997-12-01","1998-01-01","1998-02-01","1998-03-01","1998-04-01","1998-05-01","1998-06-01","1998-07-01","1998-08-01","1998-09-01","1998-10-01","1998-11-01","1998-12-01","1999-01-01","1999-02-01","1999-03-01","1999-04-01","1999-05-01","1999-06-01","1999-07-01","1999-08-01","1999-09-01","1999-10-01","1999-11-01","1999-12-01","2000-01-01","2000-02-01","2000-03-01","2000-04-01","2000-05-01","2000-06-01","2000-07-01","2000-08-01","2000-09-01","2000-10-01","2000-11-01","2000-12-01","2001-01-01","2001-02-01","2001-03-01","2001-04-01","2001-05-01","2001-06-01","2001-07-01","2001-08-01","2001-09-01","2001-10-01","2001-11-01","2001-12-01","2002-01-01","2002-02-01","2002-03-01","2002-04-01","2002-05-01","2002-06-01","2002-07-01","2002-08-01","2002-09-01","2002-10-01","2002-11-01","2002-12-01","2003-01-01","2003-02-01","2003-03-01","2003-04-01","2003-05-01","2003-06-01","2003-07-01","2003-08-01","2003-09-01","2003-10-01","2003-11-01","2003-12-01","2004-01-01","2004-02-01","2004-03-01","2004-04-01","2004-05-01","2004-06-01","2004-07-01","2004-08-01","2004-09-01","2004-10-01","2004-11-01","2004-12-01","2005-01-01","2005-02-01","2005-03-01","2005-04-01","2005-05-01","2005-06-01","2005-07-01","2005-08-01","2005-09-01","2005-10-01","2005-11-01","2005-12-01","2006-01-01","2006-02-01","2006-03-01","2006-04-01","2006-05-01","2006-06-01","2006-07-01","2006-08-01","2006-09-01","2006-10-01","2006-11-01","2006-12-01","2007-01-01","2007-02-01","2007-03-01","2007-04-01","2007-05-01","2007-06-01","2007-07-01","2007-08-01","2007-09-01","2007-10-01","2007-11-01","2007-12-01","2008-01-01","2008-02-01","2008-03-01","2008-04-01","2008-05-01","2008-06-01","2008-07-01","2008-08-01","2008-09-01","2008-10-01","2008-11-01","2008-12-01","2009-01-01","2009-02-01","2009-03-01","2009-04-01","2009-05-01","2009-06-01","2009-07-01","2009-08-01","2009-09-01","2009-10-01","2009-11-01","2009-12-01","2010-01-01","2010-02-01","2010-03-01","2010-04-01","2010-05-01","2010-06-01","2010-07-01","2010-08-01","2010-09-01","2010-10-01","2010-11-01","2010-12-01","2011-01-01","2011-02-01","2011-03-01","2011-04-01","2011-05-01","2011-06-01","2011-07-01","2011-08-01","2011-09-01","2011-10-01","2011-11-01","2011-12-01","2012-01-01","2012-02-01","2012-03-01","2012-04-01","2012-05-01","2012-06-01","2012-07-01","2012-08-01","2012-09-01","2012-10-01","2012-11-01","2012-12-01","2013-01-01","2013-02-01","2013-03-01","2013-04-01","2013-05-01","2013-06-01","2013-07-01","2013-08-01","2013-09-01","2013-10-01","2013-11-01","2013-12-01","2014-01-01","2014-02-01","2014-03-01","2014-04-01","2014-05-01","2014-06-01","2014-07-01","2014-08-01","2014-09-01","2014-10-01","2014-11-01","2014-12-01","2015-01-01","2015-02-01","2015-03-01","2015-04-01","2015-05-01","2015-06-01","2015-07-01","2015-08-01","2015-09-01","2015-10-01","2015-11-01","2015-12-01","2016-01-01","2016-02-01","2016-03-01","2016-04-01","2016-05-01","2016-06-01","2016-07-01","2016-08-01","2016-09-01","2016-10-01","2016-11-01","2016-12-01","2017-01-01","2017-02-01","2017-03-01","2017-04-01","2017-05-01","2017-06-01","2017-07-01","2017-08-01","2017-09-01","2017-10-01","2017-11-01","2017-12-01","2018-01-01","2018-02-01","2018-03-01","2018-04-01","2018-05-01","2018-06-01","2018-07-01","2018-08-01","2018-09-01","2018-10-01","2018-11-01","2018-12-01"]
[null,"Hidráulica",3918.6756999899985,3333.6373999899988,2452.5296999900006,1755.3215000099992,1836.9247999600011,1831.1812,1599.5272,1227.5304000099989,1212.3348999900018,1406.6942999900016,1978.2071000100023,1970.8284000200008,2646.6083999999978,2042.3738999999991,3829.2158000000013,3506.8193000000006,2889.9026999999978,2118.4462000000017,1720.5286000000008,1135.8450000000005,1128.8659000000009,1550.5056999999983,1986.0650999999968,1877.5383000000015,1376.0016000000014,813.44850000000224,812.44099999999878,1582.5798999999995,1481.0745000000004,1588.5271999999991,1671.8658999999986,1139.313400000003,1221.0871999999983,1868.7011000000014,2199.0006999999987,2884.5994999999984,2173.1173000000017,1502.9727000000032,1455.1871999999971,1164.1771999999969,1876.6057000000003,2205.2416000000007,1883.671800000001,1243.7568999999987,1206.9291999999984,2848.0511000000001,3456.333699999997,2732.6732999999986,3848.8667999999993,3146.5759000000003,2820.2586999999967,2398.8496999999998,2650.6784999999977,2431.9060000000031,1837.9286,1341.2518000000002,1259.9082000000008,1548.221899999998,2325.1986000000015,1874.2890000000034,2861.6679000000004,2714.2804000000024,3221.3851999999997,1904.7217000000037,1751.5128999999972,1755.6952999999999,1620.4474999999998,1073.0142999999989,920.77769999999805,964.20070000000248,1234.4229999999989,2439.8351999999995,5798.4195,5606.293200000001,3664.3790999999992,3799.0388999999973,3915.0154000000007,2960.097299999999,2330.1721999999977,1600.7672,1815.6719000000003,1824.5397000000023,2263.2826999999988,4290.9273000000012,5684.4498000000012,3581.0204000000017,2731.3905999999988,2366.0040999999987,2308.7508000000016,2434.5350999999982,2116.8502000000017,1777.8007000000011,1657.3872999999994,1516.2137999999989,3502.8993000000009,5432.9556000000011,5963.3463189999984,4078.0179179999986,2761.2236650000032,3545.7668250000002,4114.8965720000006,3491.0453449999991,2600.1673469999992,2084.7041950000012,1867.1826139999996,2039.8562300000006,1546.0187280000007,1341.7833590000007,1435.381996000001,1375.9401120000005,2045.5525310000014,2202.866888999999,2949.5291129999991,2537.296394,1988.1703430000011,1470.8378269999985,1552.6355930000002,1749.2019979999991,2846.8107769999997,2883.4810390000016,2589.1341800000032,1638.4939390000004,1550.299816,2240.1018179999983,3358.3857090000015,2368.2929510000008,1747.0345189999989,1756.8036050000003,1839.7727870000015,1741.5708850000003,2504.6593090000006,4559.3852149999984,6401.7812030000005,5857.9647640000012,6695.6863809999995,4446.3046649999997,3444.0422900000021,2580.3498950000012,2085.7399300000006,1948.3742780000005,1501.0325370000014,1780.3360149999987,2034.87437,1615.613505,1348.5069490000001,1190.1598400000003,1906.6972519999999,1894.1599519999997,1992.4765420000003,1952.9635219999996,1371.151243,1054.3396230000001,1042.1822970000003,1218.436046,1998.0882449999997,4256.1634280000007,5658.6594390000009,4415.6092399999998,4604.8005899999998,3922.2165259999992,3724.8399740000004,2368.664178,1983.2693690000001,1467.3093350000001,1660.067,2011.6807959999996,3295.5660600000001,4984.3247380000003,3782.3554689999992,3398.4499579999974,3183.4420380000006,3036.1932299999999,3363.8568820000023,2760.2781030000001,2113.3441749999988,1758.3455250000015,1536.4519330000051,1745.0940810000027,2368.9555459999983,1823.2705450000014,1563.69751,1539.4898270000024,1810.9639500000012,2099.5035439999992,2187.2687029999988,1823.5216189999976,1308.169944000002,1129.5996179999979,819.03049099999816,856.89464299999827,1399.5003409999965,1710.5568490000005,1634.5281729999999,1190.4160349999979,3010.6922699999977,2727.2634560000015,2135.3524450000014,1504.0543000000016,1506.8628000000028,1033.5581999999999,1116.2089000000005,1636.5318999999988,2970.4035999999978,4909.0766999999951,2265.5368000000003,3018.5306999999998,3928.3883999999998,2867.4611,2837.4746,2309.4112,2454.6642999999999,1770.7816,1376.0554999999999,1712.4373000000001,1341.9655,1221.5961,1393.1777999999999,957.65150000000006,1075.7952,2740.0094000000026,3370.1599000000001,3175.4914999999996,2181.8665999999998,1539.6016,1313.4237999999998,1095.1625000000001,1592.7958000000003,2498.6459999999997,2274.4840999999997,3482.0334999999995,2794.2226000000001,2205.6007,2585.8144000000002,2128.0412000000001,1758.4123999999999,1449.8247999999999,993.20990000000006,1258.9399000000001,2027.0112999999999,3228.3808999999997,5178.6461132999993,4067.3035615999997,5816.5380444000002,4720.0521306999999,3862.8820475999996,3555.0361532000002,2896.7724070000004,2036.8298135,1530.4573436999997,1601.5020285000001,2611.5180676999998,3956.2364768999996,5116.2659633060002,2995.7649081979998,3835.2367101,3536.0566343640003,2793.3570585580001,2062.122346396,1659.8539639359999,1531.5481548819998,1223.189394212,1247.4880482879998,2151.9638566200006,2183.8378703499998,1627.6584821599999,1224.6111150200002,1311.74243858,1742.5848001159998,2535.3037641940005,2103.2717523760002,1671.4854497040001,1334.6734523119999,1035.4811693019997,1388.5714790059999,1985.7783045339997,2661.2681229939999,3013.6068102600002,3551.5206818160004,4620.9115351,5388.9877317780001,3811.7250538500002,3201.4035538319999,2719.1702828140005,2142.5455744659998,1826.8514708719999,1865.0295315180001,2801.3403926239998,2443.5669450099999,4259.2503178300003,5759.3829078600002,5289.2782180579998,4947.5311138279994,2820.1528872419995,2482.1232395719999,2351.026496684,2040.8133342280003,1798.0116519580001,1633.8754530799999,2450.2316791900002,3280.7212076739997,2566.888279364,3559.434091526,3844.206083778,2655.528439486,2935.9033491780001,2485.9641503080002,2054.6366936880004,1634.9782370920002,1601.6680798899999,1646.579402544,1887.6912419959999,1438.786957106,3440.58428495,3971.7067079039994,4362.851437966,5231.3090089240004,5085.1196365120004,2938.0602728839999,2264.8167052260001,2040.7426219440003,1653.80530344,1632.8625515920003,1493.763942218,1844.3684335419998,2043.1615533339998,1952.9834518620003,2696.8359227360002,1714.544743468,1923.367508156,1637.8276847759998,1193.0488079520001,1085.2761187339997,1187.5255104380001,828.32292537800004,842.37549153200007,1253.8554266699998,2152.8710000000001,"-","-","-","-","-","-","-","-","-","-","-"]
[null,"Eólica",0.115,0.19899998999999999,0.18,0.189,0.17399999999999999,0.12,0.26,0.186,0.13100000000000001,0.17,0.20699999999999999,0.25599999000000001,0.192,0.14299999999999999,0.21199999999999999,0.56200000000000006,0.32200000000000001,0.2,0.184,0.21199999999999999,0.14399999999999999,0.24199999999999999,0.27100000000000002,0.18099999999999999,0.26200000000000001,0.22500000000000001,0.313,0.20699999999999999,0.19500000000000001,0.16300000000000001,0.19500000000000001,0.66600000000000004,1.2949999999999999,2.137,2.5070000000000001,9.1959999999999997,7.1150000000000002,11.385999999999999,7.3259999999999996,6.1639999999999997,5.2709999999999999,7.9740000000000002,7.391,6.9809999999999999,5.6310000000000002,7.1980000000000004,6.7279999999999998,5.6029999999999998,6.899,4.8140000000000001,8.7690000000000001,6.859,4.97,6.4619999999999997,3.859,5.3929999999999998,5.0469999999999997,6.3360000000000003,7.78,5.6719999999999997,7.87,7.6749999999999998,8.4960000000000004,11.901999999999999,9.2110000000000003,8.8979999999999997,14.465,17.63,14.853,27.623000000000001,13.795,17.439,18.829999999999998,22.030999999999999,24.646000000000001,26.102,23.157,27.099,25.434000000000001,15.643000000000001,22.706,30.321000000000002,31.616,36.543999999999997,39.627000000000002,32.179000000000002,46.04,56.365000000000002,39.409999999999997,43.759,57.268000000000001,41.052999999999997,45.835000000000001,69.47,72.793999999999997,76.084999999999994,85.726278999999991,73.041770999999997,100.15667400000001,97.154274999999998,87.936697000000009,72.687051000000011,112.78895799999999,131.01327799999996,104.74763500000003,104.14675399999999,128.51891699999999,138.738417,159.91106499999998,214.37513500000003,206.77279700000003,190.99942600000003,173.14856599999996,212.21415299999998,177.00095900000005,139.30212900000004,172.17858000000001,199.35031500000005,312.98064799999997,315.79952500000002,305.02478600000001,295.11369999999994,338.14951600000018,416.02144200000009,226.957358,365.846115,360.05244799999997,315.70721200000003,276.36600500000014,409.72117300000014,544.09382199999982,609.44247300000018,594.73167599999999,573.65477800000008,654.24861100000021,650.22456599999998,424.36108700000011,408.90728200000012,400.20572300000021,374.72081200000002,611.54289400000005,574.769948,768.828981,557.95175500000039,657.00929500000052,782.54075799999964,795.79277999999965,618.78730799999983,820.58633199999974,646.36536599999977,693.5828309999996,598.4340899999994,505.37139599999978,869.00001900000052,1056.9575050000003,1214.8690069999998,1395.1710190000006,997.62484999999981,837.86062599999968,1138.0008659999992,901.86601600000074,703.48306400000013,727.40598099999977,543.97083900000018,781.24529999999993,1086.9553520000009,1172.985179,1433.6770410000006,1685.3449229999994,1074.4477040000002,1281.2794619999981,1519.3727670000001,1019.3578530000005,1048.3327160000013,970.02610899999979,1114.316325,1147.637898,1635.2691430000013,1511.2452730000009,1747.4875960000002,1879.1933479999996,1745.3139569999989,1763.5135970000013,1926.4580810000014,1492.0681999999997,1261.4607640000008,1611.0284699999993,1640.4408529999992,1271.4945329999998,1902.7245970000004,1958.5321529999999,2405.4374059999986,1563.7009309999996,1924.8670310000009,2788.2671979999986,1955.917235000001,1670.5176799999992,1364.4480000000001,1171.7909999999999,2177.8209999999999,1465.816,2334.8020000000001,2279.5230000000001,2183.3850000000002,2149.8069999999998,2871.9189999999999,3086.2469999999998,1356.316,2605.873,1786.288,1888.6089999999999,2419.819,2028.855,1907.625,2752.3119999999999,2395.4850000000001,2651.4679999999998,2018.9480000000001,4092.55,3352.6860000000001,1737.1610000000001,2085.509,2124.2370000000001,1972.5229999999999,2129.8850000000002,2482.0129999999999,3462.6880000000001,3648.1819999999998,3503.799,3226.32,3100.5160000000001,3059.6579999999999,2698.0039999999999,2332.395,2426.1289999999999,2235.837,2466.7310000000002,3125.33,4792.63,4921.2280000000001,4292.0919999999996,4622.4350000000004,4546.5469999999996,2634.819,3619.3339999999998,2576.1970000000001,2798.1329999999998,2894.7440000000001,2301.3229999999999,3952.8310000000001,4348.0590000000002,4621.8819999999996,4018.65,4028.2460000000001,4690.99,3399.4090000000001,3165.6219999999998,2937.1970000000001,3254.7049999999999,2729.4850000000001,2322.9769999999999,3149.5050000000001,3819.8870000000002,4588.76,3645.5149999999999,5014.665,3805.5540000000001,5306.39,3707.8789999999999,3429.201,2981.913,3126.895,3937.4119999999998,3129.8209999999999,4604.8419999999996,5449.9780000000001,6291.5739999999996,5340.9960000000001,5749.1030000000001,4396.7820000000002,3932.35,3827.0520000000001,2844.2130000000002,3410.875,3214.2730000000001,3963.88,6429.8140000000003,4943.4399999999996,6539.4849999999997,5884.2849999999999,5050.3310000000001,3950.2179999999998,4134.8410000000003,3275.5990000000002,3591.6019999999999,2856.8409999999999,2132.614,3382.7719999999999,5071.9809999999998,4764.3209999999999,4912.46,5948.174,4865.1239999999998,3904.518,4800.4530000000004,2873.288,3053.3739999999998,3237.373,3002.6950000000002,3887.2489999999998,3699.88,3528.5619999999999,5604.8440000000001,6068.143,5409.6030000000001,4414.6530000000002,3902.1860000000001,3226.857,3464.6790000000001,3603.8629999999998,2666.8890000000001,2376.0120000000002,3888.75,2671.6909999999998,4796.9650000000001,4905.5389999999998,4687.8249999999998,4177.3270000000002,3440.3330000000001,3149.2730000000001,3336.779,3296.2759999999998,2818.0929999999998,3186.172,3954.9160000000002,5747.2950000000001,5286.1355229999999,"-","-","-","-","-","-","-","-","-","-","-"]
[null,"Solar fotovoltaica",0,0,0,0,0,0,0,0,0,0,0,0,0,0,0,0,0,0,0,0,0,0,0,0,1.01,0.77200000000000002,0.57199999999999995,1.2889999999999999,1.113,1.1639999999999999,1.3069999999999999,1.155,1.2230000000000001,0.94399999999999995,0.56999999999999995,0.93700000000000006,0.53800000000000003,0.53300000000000003,1.252,1.3029999999999999,1.05,1.069,1.2729999999999999,1.1930000000000001,0.88,0.72,1.2629999999999999,0.92600000000000005,0.97799999999999998,1.242,1.0649999999999999,1.208,1.742,1.484,1.635,1.6679999999999999,1.69,1.5209999999999999,1.004,5.8900000000000001E-2,6.4000000000000001E-2,6.8000000000000005E-2,0.112,0.11700000000000001,0.13200000000000001,0.111,0.105,9.6000000000000002E-2,9.0999999999999998E-2,4.8000000000000001E-2,9.0999999999999998E-2,2.7E-2,2.4E-2,3.3000000000000002E-2,4.7E-2,9.2999999999999999E-2,8.5999999999999993E-2,0.11700000000000001,0.107,0.10299999999999999,9.6000000000000002E-2,9.5000000000000001E-2,6.4000000000000001E-2,2.5999999999999999E-2,4.1000000000000002E-2,8.7999999999999995E-2,8.7999999999999995E-2,0.11899999999999999,9.2999999999999999E-2,0.107,0.14299999999999999,8.6999999999999994E-2,0.12,9.6000000000000002E-2,0.105,0.04,4.9634999999999999E-2,7.0578000000000002E-2,0.11298999999999999,0.11806,9.6176999999999999E-2,0.13051699999999999,0.13625000000000001,0.11049299999999999,9.6509999999999999E-2,0.11281099999999999,6.9553000000000004E-2,6.6723000000000005E-2,5.3642000000000002E-2,0.107873,0.15287999999999999,0.117727,0.12252399999999999,0.14707999999999999,0.159277,0.14216999999999999,0.121715,8.8742000000000001E-2,7.9733999999999999E-2,4.7816999999999998E-2,-2.6860999999999999E-2,0.101559,0.124075,1.2024E-2,0.205484,0.16091,1.9984999999999999E-2,0.29827199999999998,0.13695099999999999,0.12126000000000001,7.2305999999999995E-2,4.3852000000000002E-2,5.4684999999999997E-2,9.8405999999999993E-2,0.10854,0.17056499999999999,0.156555,0.197492,0.16886599999999999,0.21376400000000001,0.12875300000000001,0.163998,9.4907000000000005E-2,8.3112000000000005E-2,0.126051,0.22952900000000001,0.27410599999999996,0.39638100000000026,0.47843600000000014,0.47939100000000001,0.5380640000000001,0.53365199999999957,0.48980900000000005,0.41930600000000023,0.31798800000000005,0.27873900000000007,0.33177200000000012,0.40585699999999975,0.56218699999999999,0.71534800000000021,0.85679699999999903,0.97693399999999941,1.1408959999999975,1.0179979999999982,0.91532600000000108,0.80906499999999926,0.5318040000000005,0.66612099999999963,0.57597900000000002,0.83336899999999914,1.1270059999999986,1.3765969999999994,1.6380649999999966,1.9365689999999964,2.0151259999999924,2.030071999999997,1.8506319999999978,1.7061280000000048,1.3758539999999999,1.3286139999999964,1.3100380000000011,1.5964899999999982,2.7521050000000016,2.9168830000000008,3.6370650000000015,4.27022700000001,4.3964089999999914,4.5427230000000041,4.2910249999999994,3.9432079999999976,3.2481789999999919,3.1839970000000024,2.5656399999999966,4.3413879999999949,5.1637430000000002,7.3147159999999678,8.7745119999999783,10.192,11.021000000000001,13.52,11.63,9.9489999999999998,8.077,9.8260000000000005,9.6859999999999999,12.005000000000001,20.550999999999998,24.491,34.18,38.843000000000004,49.655000000000001,53.862000000000002,58.231000000000002,55.534999999999997,52.622,52.915999999999997,57.420999999999999,70.549000000000007,104.43300000000001,126.235,131.75399999999999,189.70699999999999,232.23400000000001,288.11200000000002,317.11099999999999,320.166,324.32100000000003,244.02699999999999,248.703,380.17399999999998,508.66199999999998,546.45500000000004,647.31700000000001,618.52800000000002,690.86199999999997,637.125,492.28899999999999,482.28500000000003,345.4,231.20500000000001,248.57499999999999,289.95,458.21699999999998,565.84,683.24800000000005,656.76599999999996,752.89,691.53200000000004,605.38800000000003,525.85500000000002,364.05200000000002,297.46899999999999,335.96800000000002,481.24700000000001,508.38400000000001,631.45399999999995,716.11800000000005,776.89800000000002,821.81,766.36800000000005,702.33399999999995,601.93499999999995,344.35599999999999,404.81599999999997,482.68,635.51400000000001,736.94500000000005,627.60400000000004,826.20899999999995,839.14599999999996,902.62699999999995,826.45399999999995,658.33399999999995,566.62,350.38200000000001,377.38600000000002,418.75299999999999,500.80700000000002,531.45600000000002,725.43600000000004,832.56,886.25199999999995,929.53700000000003,856.80600000000004,724.78499999999997,603.79,490.22800000000001,417.62799999999999,352.69099999999997,405.78500000000003,697.63,753.26400000000001,882.48699999999997,862.84699999999998,910.00900000000001,871.50300000000004,655.16399999999999,616.97400000000005,362.10700000000003,431.96300000000002,493.21899999999999,469.24299999999999,677.68200000000002,718.22900000000004,880.72199999999998,848.48,888.93600000000004,793.673,691.73900000000003,510.30200000000002,503.19499999999999,369.37799999999999,337.68900000000002,452.54500000000002,674.59799999999996,686.16099999999994,769.20699999999999,881.47199999999998,875.51300000000003,855.10400000000004,730.03899999999999,555.78700000000003,402.95400000000001,358.24400000000003,452.298,419.18400000000003,679.46400000000006,797.58699999999999,832.79600000000005,839.17200000000003,871.16600000000005,778.11400000000003,741.30399999999997,646.923,512.84199999999998,406.58,409.40090000000004,"-","-","-","-","-","-","-","-","-","-","-"]
[null,"Solar térmica","-","-","-","-","-","-","-","-","-","-","-","-","-","-","-","-","-","-","-","-","-","-","-","-","-","-","-","-","-","-","-","-","-","-","-","-","-","-","-","-","-","-","-","-","-","-","-","-","-","-","-","-","-","-","-","-","-","-","-","-","-","-","-","-","-","-","-","-","-","-","-","-","-","-","-","-","-","-","-","-","-","-","-","-","-","-","-","-","-","-","-","-","-","-","-","-","-","-","-","-","-","-","-","-","-","-","-","-","-","-","-","-","-","-","-","-","-","-","-","-","-","-","-","-","-","-","-","-","-","-","-","-","-","-","-","-","-","-","-","-","-","-","-","-","-","-","-","-","-","-","-","-","-","-","-","-","-","-","-","-","-","-","-","-","-","-","-","-","-","-","-","-","-","-","-","-","-","-","-","-","-","-","-","-","-","-","-","-","-","-","-","-",0,0,0,0,0,0,0,0,0,0,0,0,0,0,0.43099999999999999,0.34200000000000003,0.55800000000000005,0.88300000000000001,1.256,1.1160000000000001,0.63900000000000001,1.214,0.997,0.191,1.0840000000000001,0.79700000000000004,1.4610000000000001,0.95799999999999996,0.94199999999999995,1.9630000000000001,2.0379999999999998,1.98,0.85899999999999999,0.86599999999999999,1.27,1.1599999999999999,0.69,1.236,2.323,7.2039999999999997,7.6580000000000004,6.7519999999999998,12.414,23.867999999999999,17.539000000000001,23.446000000000002,16.183,10.51,13.151999999999999,11.682,23.731999999999999,36.92,69.084000000000003,72.531999999999996,104.59,121.9,100.917,71.745000000000005,31.619,33.747,34.25,88.656999999999996,98.456999999999994,137.833,154.07300000000001,232.48400000000001,284.20800000000003,235.32900000000001,228.55799999999999,172.91200000000001,80.436999999999998,85.159000000000006,117.342,200.34200000000001,235.113,177.77699999999999,348.38200000000001,414.74900000000002,541.31700000000001,485.12700000000001,368.64299999999997,285.79500000000002,133.96199999999999,135.58500000000001,113.494,204.00899999999999,125.37,300.89400000000001,499.26799999999997,647.33000000000004,758.52300000000002,661.85599999999999,478.95499999999998,294.24200000000002,199.22399999999999,158.36199999999999,79.801000000000002,103.265,385.17500000000001,435.52699999999999,729.93600000000004,687.28800000000001,811.15300000000002,833.178,389.596,289.33699999999999,90.186999999999998,124.47199999999999,176.95099999999999,190.92500000000001,415.82900000000001,393.16,694.83900000000006,734.05399999999997,888.91800000000001,607.62300000000005,483.25,188.16900000000001,226.81800000000001,84.698999999999998,59.914000000000001,133.01,387.86099999999999,408.32299999999998,498.79500000000002,813.99099999999999,825.32500000000005,805.81899999999996,595.62699999999995,284.70299999999997,139.69999999999999,118.136,149.21199999999999,88.741,340.84500000000003,535.255,607.89800000000002,761.90200000000004,812.88,692.43499999999995,608.14,398.79300000000001,220.65199999999999,131.196,130.07689999999999,"-","-","-","-","-","-","-","-","-","-","-"]
[null,"Térmica renovable/Otras renovables","-","-","-","-","-","-","-","-","-","-","-","-","-","-","-","-","-","-","-","-","-",0.47899999999999998,0.19500000000000001,0.18,0.22600000000000001,0.185,0.20899999999999999,0.186,0.219,2.4910000000000001,0.85499999999999998,1.6519999999999999,2.1949999999999998,3.1859999999999999,2.8519999999999999,2.2930000000000001,2.7469999999999999,4.2910000000000004,5.55,5.08,5.1909999999999998,4.069,4.4050000000000002,5.0549999999999997,4.7699999999999996,5.9989999999999997,6.5289999999999999,5.1360000000000001,6.1820000000000004,4.2009999999999996,7.7879999999999994,12.483000000000001,22.434000000000001,14.593,25.895,34.064,35.963000000000001,40.081000000000003,55.064999999999998,63.701000000000001,52.516000000000005,54.168999999999997,59.649000000000001,59.275000000000006,60.629999999999995,38.39,56.09,56.16,55.471000000000004,65.760999999999996,51.017000000000003,62.140999999999998,61.97,55.767000000000003,73.194000000000003,69.39,67.606999999999999,74.480999999999995,76.311000000000007,76.088999999999999,74.905000000000001,70.728000000000009,57.923000000000002,56.715000000000003,56.474000000000004,46.637,55.156000000000006,57.041000000000004,57.334000000000003,33.856000000000002,57.003,53.271999999999998,57.103999999999999,61.066000000000003,58.17,55.262,29.002800999999998,53.305843000000003,61.54951100000001,62.649002999999993,69.878224000000017,68.57453000000001,70.406914,67.345651000000004,60.385233999999997,67.235011999999998,69.010128999999992,69.403475,71.806641999999997,67.74066400000001,76.241169000000014,70.55664800000001,71.228352999999998,64.031021999999993,80.270443,79.088937999999999,85.153421000000009,84.480839000000003,82.713457999999989,74.942079000000007,77.705164000000011,72.094493,81.578700000000012,75.639544999999998,57.155141000000015,64.878718000000006,80.062335000000004,78.219893000000013,86.225769,91.935601000000005,96.959690999999992,98.655336000000005,114.03217000000001,103.259727,115.38466,106.780576,116.22663500000002,163.25343300000003,164.15603399999998,142.64494099999999,174.91251699999998,184.36809099999999,170.80096299999997,182.63868100000002,102.326662,103.97290799999999,114.93776699999999,113.40504600000001,116.82101699999998,106.527145,125.927582,138.27553399999999,128.41537399999999,130.56901199999999,128.796967,143.04027199999999,125.499869,125.666718,141.367661,136.22556399999999,148.43464900000001,135.67495399999999,145.85112000000001,152.32964200000001,154.93832699999999,162.073384,144.46359000000001,164.51626000000002,165.78169199999999,141.425287,163.310002,158.00111900000002,158.15428799999998,141.57013900000001,142.66767899999999,139.21697600000002,148.774135,152.85692900000001,147.72687300000001,158.60851299999999,174.85460999999998,150.82777100000001,176.75611499999999,159.635672,172.11730599999999,162.54098200000001,167.51991400000003,173.00340799999998,160.25450599999999,152.959924,165.98202600000002,171.40583599999999,172.08671999999999,164.50467899999998,179.21714800000001,172.15726300000003,184.66687200000001,201.17400000000001,194.67,180.72499999999999,181.291,197.31100000000001,176.12700000000001,178.67599999999999,195.417,170.86799999999999,196.96199999999999,184.11799999999999,197.114,193.24700000000001,203.05199999999999,202.649,191.273,224.429,204.15700000000001,212.399,218.304,215.69800000000001,223.7,221.483,218.887,220.45099999999999,223.50399999999999,218.31,211.55500000000001,229.72499999999999,225.65600000000001,224.21600000000001,243.68600000000001,231.25299999999999,252.346,275.29700000000003,250.078,229.126,236.274,235.85900000000001,264.07600000000002,325.339,249.01,251.94300000000001,250.94,226.42400000000001,245.99799999999999,252.761,274.92500000000001,268.96100000000001,268.02999999999997,278.80399999999997,262.93700000000001,279.28699999999998,269.12099999999998,293.61099999999999,357.05099999999999,328.661,349.27699999999999,351.05500000000001,328.80399999999997,335.64499999999998,357.9,355.29899999999998,375.1,383.14,375.33800000000002,387.57100000000003,393.7,372.92,398.17899999999997,371.93,360.83499999999998,406.08199999999999,421.35399999999998,400.50700000000001,373.05,413.07400000000001,400.88299999999998,433.63499999999999,435.82100000000003,414.99700000000001,452.92399999999998,421.41500000000002,437.99700000000001,392.45299999999997,431.91300000000001,417.43799999999999,398.00200000000001,404.68900000000002,413.637,444.28,423.54599999999999,331.35399999999998,365.40100000000001,338.69600000000003,410.02199999999999,406.22699999999998,411.334,445.07,422.226,387.61500000000001,372.54199999999997,403.94499999999999,239.40199999999999,205.804,234.04400000000001,179.708,226.202,276.375,299.334,311.42200000000003,301.42899999999997,310.14600000000002,303.68599999999998,286.399,268.935,260.66800000000001,254.63,209.02500000000001,276.21199999999999,286.84899999999999,310.28399999999999,325.988,306.89100000000002,305.47899999999998,303.69499999999999,305.25799999999998,326.24599999999998,288.83,268.62599999999998,231.76900000000001,297.74900000000002,301.46899999999999,332.596,316.11200000000002,309.12200000000001,310.00799999999998,306.779,312.322,302.56700000000001,"-","-","-","-","-","-","-","-","-","-","-"]
[null,"Residuos renovables","-","-","-","-","-","-","-","-","-","-","-","-","-","-","-","-","-","-","-","-","-","-","-","-","-","-","-","-","-","-","-","-","-","-","-","-","-","-","-","-","-","-","-","-","-","-","-","-","-","-","-","-","-","-","-","-","-","-","-","-","-","-","-","-","-","-","-","-","-","-","-","-","-","-","-","-","-","-","-","-","-","-","-","-","-","-","-","-","-","-","-","-","-","-","-","-","-","-","-","-","-","-","-","-","-","-","-","-","-","-","-","-","-","-","-","-","-","-","-","-","-","-","-","-","-","-","-","-","-","-","-","-","-","-","-","-","-","-","-","-","-","-","-","-","-","-","-","-","-","-","-","-","-","-","-","-","-","-","-","-","-","-","-","-","-","-","-","-","-","-","-","-","-","-","-","-","-","-","-","-","-","-","-","-","-","-","-","-","-","-","-","-","-","-","-","-","-","-","-","-","-","-","-","-","-","-","-","-","-","-","-","-","-","-","-","-","-","-","-","-","-","-","-","-","-","-","-","-","-","-","-","-","-","-","-","-","-","-","-","-","-","-","-","-","-","-","-","-","-","-","-","-","-","-","-","-","-","-","-","-","-","-","-","-","-","-","-","-","-","-","-","-","-","-","-","-","-","-","-","-","-","-","-","-","-","-","-","-","-","-","-","-","-","-","-","-","-","-","-","-",54.582500000000003,52.223500000000001,60.213999999999999,33.475999999999999,49.703499999999998,58.970500000000001,60.0015,57.491,55.067500000000003,60.863,60.057000000000002,60.005000000000003,57.3,48.103999999999999,57.529499999999999,26.702500000000001,24.278500000000001,55.116,63.646500000000003,60.3155,62.052,60.05,64.739500000000007,69.907499999999999,64.737499999999997,55.999000000000002,59.911000000000001,46.575499999999998,34.262,66.986500000000007,68.889499999999998,65.700999999999993,62.429499999999997,66.129499999999993,66.557500000000005,69.971999999999994,68.332700000000003,"-","-","-","-","-","-","-","-","-","-","-"]
[null,"Generación renovable",3918.7906999899983,3333.836399979999,2452.7096999900004,1755.5105000099993,1837.0987999600011,1831.3011999999999,1599.7872,1227.7164000099988,1212.4658999900018,1406.8642999900017,1978.4141000100024,1971.0844000100008,2646.8003999999978,2042.5168999999992,3829.4278000000013,3507.3813000000005,2890.2246999999979,2118.6462000000015,1720.7126000000007,1136.0570000000005,1129.0099000000009,1551.2266999999983,1986.5310999999967,1877.8993000000016,1377.4996000000015,814.63050000000226,813.53499999999872,1584.2618999999995,1482.6015000000004,1592.3451999999991,1674.2228999999986,1142.7864000000029,1225.8001999999983,1874.9681000000012,2204.9296999999988,2897.0254999999984,2183.5173000000013,1519.182700000003,1469.315199999997,1176.7241999999969,1888.1177000000002,2218.3536000000008,1896.7408000000009,1256.9858999999988,1218.2101999999986,2861.9680999999996,3470.8536999999969,2744.3382999999985,3862.9257999999991,3156.8329000000003,2837.8806999999965,2419.3996999999999,2679.8244999999979,2454.4450000000029,1869.3175999999999,1382.3768000000002,1302.6082000000008,1596.1598999999978,2389.0476000000017,1943.7209000000034,2922.1179000000002,2776.1924000000026,3289.6421999999998,1976.0157000000038,1821.4858999999974,1803.0943,1691.1074999999996,1146.9002999999991,991.19269999999801,1057.6327000000026,1299.3259999999989,2519.4421999999995,5879.2435000000005,5684.1242000000011,3762.2660999999994,3894.6238999999969,4005.8654000000006,3061.7942999999996,2432.024199999998,1692.6022,1913.3789000000002,1925.6837000000023,2352.8856999999989,4384.2123000000011,5780.591800000002,3659.9244000000022,2832.6745999999989,2479.5290999999988,2405.5878000000012,2512.2570999999984,2231.2642000000019,1872.212700000001,1760.4462999999994,1646.8457999999989,3633.9683000000009,5564.3426000000009,6078.1250339999988,4204.4361099999987,2923.0428400000033,3705.6881629999998,4272.8076700000011,3632.4374429999989,2783.4994689999994,2283.1736170000013,2032.4119929999997,2211.3508070000007,1743.6173270000008,1549.9919740000007,1667.1533450000011,1658.1637840000003,2328.7193770000013,2464.5406899999989,3194.0285559999988,2813.6886490000002,2245.6010220000012,1689.3710639999988,1810.0893090000002,2033.1218939999992,3242.5846169999995,3274.2704600000015,2971.8372690000033,2005.8036910000003,1970.1521070000001,2731.7748289999986,3642.7036920000019,2799.1786940000006,2187.1692869999988,2151.0289820000003,2202.5015120000016,2243.3489190000005,3145.7851280000004,5267.5268759999981,7110.5997340000013,6534.977675000001,7465.4281919999994,5203.480372,3984.7865670000024,3152.708102000001,2650.2705530000007,2465.9537950000008,2287.6167010000017,2539.6380519999984,2974.5992210000004,2356.287053,2107.9689570000005,2076.9030349999998,2817.7019049999994,2626.7486869999993,2930.3623269999998,2706.335423999999,2191.1997199999992,1791.5828989999995,1676.4588759999999,2218.4243830000005,3184.1607050000002,5614.3514460000015,7179.662099000001,5539.3066650000001,5584.5910640000002,5197.1583039999987,4775.9974360000015,3208.7991299999999,2857.6673659999997,2164.6278140000004,2597.1659529999997,3261.5185970000002,4613.5466330000008,6583.1841600000016,5634.0580629999986,4615.1563179999976,4629.1585079999986,4714.9437130000006,4543.007088000003,3952.1175270000012,3228.0530889999986,3013.9088980000015,2834.714598000005,3534.9262810000041,4029.3035459999992,3730.6952680000018,3619.0555059999997,3437.2280450000017,3753.9857670000024,4188.514180000001,3855.0912739999985,3251.7935919999986,3091.1147370000012,2947.5866019999971,2255.0705549999975,2916.5223719999985,3527.2626989999967,4290.5840879999996,3372.8814639999991,3284.129132999999,5983.3403589999962,4862.6526700000022,3999.3115090000001,3079.8683000000019,2884.344800000003,3405.6241999999997,2774.9459000000006,4178.5938999999989,5434.1305999999986,7280.9636999999957,4620.4468000000006,6073.3226999999997,7232.5793999999987,4432.7281000000003,5675.1995999999999,4328.6722,4597.2362999999996,4448.2276000000002,3655.0535000000004,3901.2402999999999,4352.0535000000009,3882.5871000000002,4321.4547999999995,3263.6435000000001,5497.9391999999998,6441.3714000000018,5458.9039000000002,5673.1215000000002,4763.8796000000002,4020.5266000000001,3972.8337999999994,4127.9325000000008,5606.7308000000003,6616.2309999999998,6271.3620999999994,7321.0164999999988,6658.0696000000007,6094.2147000000004,6188.8714000000009,5314.842200000001,5124.0914000000002,4582.5138000000006,4233.8449000000001,5215.3398999999999,7430.2343000000001,8643.2668999999987,9983.4051132999994,9217.7945616000015,11091.032044399999,8210.3921307000001,8509.4730475999986,7129.4921532000008,6820.4154070000004,6023.8098135,4801.0223436999995,6431.2200285000008,7624.3690676999995,9202.9454768999985,9862.184963306001,7922.5759081980004,9482.3447101000002,8055.8076343639996,7157.9740585580003,6344.3463463959997,6378.4769639359993,5618.0291548819996,4852.1583942120005,5554.9800482880009,6771.9818566200001,7650.1438703499998,6266.89548216,7448.0521150200002,6487.5334385800006,8226.2858001160002,7778.6087641939994,7192.4497523760001,6518.6964497040008,6173.6564523119996,6372.9201693019995,5783.8814790059996,7475.8473045339979,9057.8521229939997,10273.248810260002,10012.329681816,11479.764535099999,11233.514731778001,9513.9000538499986,8954.4905538319999,7683.3562828140002,7489.5205744659997,6642.8664708720007,7131.6305315180007,10334.243392624001,8407.2769450100004,11654.77331783,12484.071907859998,11787.815218057998,10425.236113827998,8977.4388872420004,7714.0842395720001,8075.1244966839995,7047.4053342279994,5397.611651958,6310.57345308,8347.0486791900003,9005.4222076739989,8443.5027793640002,10425.803591525999,10097.099083778001,7884.6194394859995,9587.8228491779992,7277.1316503080006,7245.2001936879997,6642.5602370920005,6135.848579890001,6603.3084025439994,6681.3272419959994,5767.8299571059997,9769.2662849499993,10934.176707903998,11147.072937966001,10976.173508924001,10555.798136512001,8202.3452728840002,7804.2642052259989,7691.8321219440004,6015.3033034399996,5214.8935515920002,6293.6024422179989,5367.6049335419993,7832.6200533339997,7711.2764518619997,8733.506922736,7503.058243468,7136.405508156,6756.6301847760005,6615.3593079520006,6233.9141187339992,5726.6140104380011,5436.3484253779998,5904.1219915319989,7921.2204266699991,8349.3840230000005,"-","-","-","-","-","-","-","-","-","-","-"]
[]
[null,"Generación renovable mensual Islas Baleares (MWh)","2006-01-01","2006-02-01","2006-03-01","2006-04-01","2006-05-01","2006-06-01","2006-07-01","2006-08-01","2006-09-01","2006-10-01","2006-11-01","2006-12-01","2007-01-01","2007-02-01","2007-03-01","2007-04-01","2007-05-01","2007-06-01","2007-07-01","2007-08-01","2007-09-01","2007-10-01","2007-11-01","2007-12-01","2008-01-01","2008-02-01","2008-03-01","2008-04-01","2008-05-01","2008-06-01","2008-07-01","2008-08-01","2008-09-01","2008-10-01","2008-11-01","2008-12-01","2009-01-01","2009-02-01","2009-03-01","2009-04-01","2009-05-01","2009-06-01","2009-07-01","2009-08-01","2009-09-01","2009-10-01","2009-11-01","2009-12-01","2010-01-01","2010-02-01","2010-03-01","2010-04-01","2010-05-01","2010-06-01","2010-07-01","2010-08-01","2010-09-01","2010-10-01","2010-11-01","2010-12-01","2011-01-01","2011-02-01","2011-03-01","2011-04-01","2011-05-01","2011-06-01","2011-07-01","2011-08-01","2011-09-01","2011-10-01","2011-11-01","2011-12-01","2012-01-01","2012-02-01","2012-03-01","2012-04-01","2012-05-01","2012-06-01","2012-07-01","2012-08-01","2012-09-01","2012-10-01","2012-11-01","2012-12-01","2013-01-01","2013-02-01","2013-03-01","2013-04-01","2013-05-01","2013-06-01","2013-07-01","2013-08-01","2013-09-01","2013-10-01","2013-11-01","2013-12-01","2014-01-01","2014-02-01","2014-03-01","2014-04-01","2014-05-01","2014-06-01","2014-07-01","2014-08-01","2014-09-01","2014-10-01","2014-11-01","2014-12-01","2015-01-01","2015-02-01","2015-03-01","2015-04-01","2015-05-01","2015-06-01","2015-07-01","2015-08-01","2015-09-01","2015-10-01","2015-11-01","2015-12-01","2016-01-01","2016-02-01","2016-03-01","2016-04-01","2016-05-01","2016-06-01","2016-07-01","2016-08-01","2016-09-01","2016-10-01","2016-11-01","2016-12-01","2017-01-01","2017-02-01","2017-03-01","2017-04-01","2017-05-01","2017-06-01","2017-07-01","2017-08-01","2017-09-01","2017-10-01","2017-11-01","2017-12-01","2018-01-01","2018-02-01","2018-03-01","2018-04-01","2018-05-01","2018-06-01","2018-07-01","2018-08-01","2018-09-01","2018-10-01","2018-11-01","2018-12-01"]
[null,"Eólica",514.35,371.37400000000002,548.18799999999999,366.096,438.988,366.65,202.55,548.33199999999999,264.46800000000002,347.64699999999999,407.40800000000002,501.30500000000001,402,480,585,246,392,334,358,444,320,541,784,770,415,420,575,741,212,290,272,328,462,470,620,692,472,688,529,482,477,383,126,147,346,531,538,824,599,689,590,377,312,275,322,395,303,477,529,703,472,638,627,553,435,359,432,356,229,587,549,592,479,1092,557,570,377,358,430,261,666,424,540,751,687,674,767,552,439,391,211,355,349,477,772,486,587,635,749,441,509,342,354,302,236,371,552,761,600,696,580,434.88,636,253,309,231,509,555.89,415.25,97,530,661,708,665.25,486,239,471.2,478,222,292.19,402,260,469,283,227,238,127,130,176,172,183,195,343,382,271.41000000000003,"-","-","-","-","-","-","-","-","-","-","-"]
[null,"Solar fotovoltaica",43.972999999999999,50.86,83.445999999999998,87.706999999999994,102.911,110.639,126.145,120.86799999999999,111.756,105.83499999999999,84.200999999999993,72.453999999999994,95,122,165,156,211,207,226,209,180,139,119,123,134,194,416,664,955,1807,2659,4719,4821,4337,3391,4283,3838,5190,7556,7099,8802,9040,8898,8709,6680,6538,5096,3487,3845,4810,6958,8061,9047,8957,10437,10003,8360,6793,5600,4886,5358,6378,8047,9928,10914,10324,10211,11535,9702,8434,4998,5392,6183,6956,10152,10230,12309,11697,12533,12420,10873,9500,6016,6725,7273,7404,11494,11209,12639,13817,14316,12847,10745,8781,5602,5971,5828,8461,11098,12721,12507,13247,13533,12560,10352,10338,6491,5637,6880,7213,10111,12577.61,13499,13458,13857,12164,9669.8700000000008,8932,8008,6276,7084,7540,10664.3,11177.5,12596,13172,13850,13342,10360,8448,6552,5748,5799,7159,12160,12671,13641,13309,13311,12437,10174,9401,7255,5558,6585.1,"-","-","-","-","-","-","-","-","-","-","-"]
[null,"Térmica renovable/Otras renovables","-","-","-","-","-","-","-","-","-","-","-","-","-","-","-","-","-","-","-","-","-","-","-","-","-","-","-","-","-","-","-","-","-","-","-","-","-","-","-","-","-","-","-","-","-","-","-","-","-","-","-","-","-","-","-","-","-","-","-","-","-","-","-","-","-","-","-","-","-","-","-","-",45,23,79,49,42,39,36,47,53,57,55,44,73,47,75,93,16,73,75,30,44,65,60,92,123,172,228,199,261,167,89,121,92,132,185,175,229.29,171.29,164,221,173,100,181,109,119,130.97,148,226,176,164.92,176.14,153.4,126,32,35,42.72,33,93.34,139,138,159,170,104,198,224,164,76,73,87,106,127,137,129.05000000000001,"-","-","-","-","-","-","-","-","-","-","-"]
[null,"Residuos renovables","-","-","-","-","-","-","-","-","-","-","-","-","-","-","-","-","-","-","-","-","-","-","-","-","-","-","-","-","-","-","-","-","-","-","-","-","-","-","-","-","-","-","-","-","-","-","-","-","-","-","-","-","-","-","-","-","-","-","-","-","-","-","-","-","-","-","-","-","-","-","-","-","-","-","-","-","-","-","-","-","-","-","-","-","-","-","-","-","-","-","-","-","-","-","-","-","-","-","-","-","-","-","-","-","-","-","-","-",9163.5,6908.5,11394,13639,14790,13704.5,12853,12487.5,14777,14664.5,14318,12398.5,8564.5,4968,8612,12110,14510,13617,11266.5,12685,12613.5,13662.5,9271,8925.5,7544,7222,10518,14686,11210,14046.5,14056,14325.5,15026.5,13983,11279,9982,7713.55,"-","-","-","-","-","-","-","-","-","-","-"]
[null,"Generación renovable",558.32299999999998,422.23400000000004,631.63400000000001,453.803,541.899,477.28899999999999,328.69499999999999,669.2,376.22400000000005,453.48199999999997,491.60900000000004,573.75900000000001,497,602,750,402,603,541,584,653,500,680,903,893,549,614,991,1405,1167,2097,2931,5047,5283,4807,4011,4975,4310,5878,8085,7581,9279,9423,9024,8856,7026,7069,5634,4311,4444,5499,7548,8438,9359,9232,10759,10398,8663,7270,6129,5589,5830,7016,8674,10481,11349,10683,10643,11891,9931,9021,5547,5984,6707,8071,10788,10849,12728,12094,12999,12728,11592,9981,6611,7520,8033,8125,12336,11854,13094,14281,14602,13232,11138,9323,6434,6549,6538,9268,12075,13361,13277,13756,13976,12983,10680,10841,7228,6573,16872.79,14988.79,22249,26872.489999999998,29098,27515.5,27200,24991.5,25074.870000000003,24283.360000000001,22889.25,18997.5,16354.5,13333.92,20160.439999999999,24106.15,27718,27060,25622.7,26547.72,23228.5,22496.03,16364,15071.5,13971,14834,23009,27793,25202,27649.5,27619,27007.5,25470.5,23685,19004,16059,14699.11,"-","-","-","-","-","-","-","-","-","-","-"]
[]
[null,"Generación renovable mensual Islas Canarias (MWh)","2006-01-01","2006-02-01","2006-03-01","2006-04-01","2006-05-01","2006-06-01","2006-07-01","2006-08-01","2006-09-01","2006-10-01","2006-11-01","2006-12-01","2007-01-01","2007-02-01","2007-03-01","2007-04-01","2007-05-01","2007-06-01","2007-07-01","2007-08-01","2007-09-01","2007-10-01","2007-11-01","2007-12-01","2008-01-01","2008-02-01","2008-03-01","2008-04-01","2008-05-01","2008-06-01","2008-07-01","2008-08-01","2008-09-01","2008-10-01","2008-11-01","2008-12-01","2009-01-01","2009-02-01","2009-03-01","2009-04-01","2009-05-01","2009-06-01","2009-07-01","2009-08-01","2009-09-01","2009-10-01","2009-11-01","2009-12-01","2010-01-01","2010-02-01","2010-03-01","2010-04-01","2010-05-01","2010-06-01","2010-07-01","2010-08-01","2010-09-01","2010-10-01","2010-11-01","2010-12-01","2011-01-01","2011-02-01","2011-03-01","2011-04-01","2011-05-01","2011-06-01","2011-07-01","2011-08-01","2011-09-01","2011-10-01","2011-11-01","2011-12-01","2012-01-01","2012-02-01","2012-03-01","2012-04-01","2012-05-01","2012-06-01","2012-07-01","2012-08-01","2012-09-01","2012-10-01","2012-11-01","2012-12-01","2013-01-01","2013-02-01","2013-03-01","2013-04-01","2013-05-01","2013-06-01","2013-07-01","2013-08-01","2013-09-01","2013-10-01","2013-11-01","2013-12-01","2014-01-01","2014-02-01","2014-03-01","2014-04-01","2014-05-01","2014-06-01","2014-07-01","2014-08-01","2014-09-01","2014-10-01","2014-11-01","2014-12-01","2015-01-01","2015-02-01","2015-03-01","2015-04-01","2015-05-01","2015-06-01","2015-07-01","2015-08-01","2015-09-01","2015-10-01","2015-11-01","2015-12-01","2016-01-01","2016-02-01","2016-03-01","2016-04-01","2016-05-01","2016-06-01","2016-07-01","2016-08-01","2016-09-01","2016-10-01","2016-11-01","2016-12-01","2017-01-01","2017-02-01","2017-03-01","2017-04-01","2017-05-01","2017-06-01","2017-07-01","2017-08-01","2017-09-01","2017-10-01","2017-11-01","2017-12-01","2018-01-01","2018-02-01","2018-03-01","2018-04-01","2018-05-01","2018-06-01","2018-07-01","2018-08-01","2018-09-01","2018-10-01","2018-11-01","2018-12-01"]
[null,"Hidráulica",0,0,0,0,0,0,0,0,0,0,0,0,0,0,0,0,0,0,82,190,247,92,278,287,287,244,240,0,185,315,305,97,0,0,0,0,9,164,175,50,0,0,0,0,0,0,0,0,0,0,0,0,0,0,0,0,0,0,0,0,0,0,2,239,165,131,245,179,201,238,164,111.408,116.43899999999999,7.4999999999999997E-2,163.001,246.87899999999999,218.845,207.49700000000001,62.734999999999999,231.00200000000001,221.7,205.726,40.073,75.364000000000004,222.602,204.523,136.68199999999999,136.99,292.267,286.38799999999998,286.267,286.37400000000002,292.33800000000002,303.71199999999999,293.16300000000001,306,305,276,301,290,300,283,308,310.02100000000002,296,272,261,277,303.60000000000002,270,304.60000000000002,292,295,296,304,303,296,311,301,309,309,282,311,299,308,301,313,266,282,271,260,270,264,239,265,262,271,271,275,288,267,294,274,312,0,"-","-","-","-","-","-","-","-","-","-","-"]
[null,"Hidroeólica",0,0,0,0,0,0,0,0,0,0,0,0,0,0,0,0,0,0,0,0,0,0,0,0,0,0,0,0,0,0,0,0,0,0,0,0,0,0,0,0,0,0,0,0,0,0,0,0,0,0,0,0,0,0,0,0,0,0,0,0,0,0,0,0,0,0,0,0,0,0,0,0,0,0,0,0,0,0,0,0,0,0,0,0,0,0,0,0,0,0,0,0,0,0,0,0,0,0,0,0,0,0,0.311,314.81299999999999,161.52500000000001,195.471,201.01499999999999,198.726,416.17599999999999,374.87299999999999,243.78399999999999,125.636,242.05799999999999,362.42099999999999,2082.991,1928.8240000000001,742,484.64600000000002,882.971,670.68600000000004,814.1,1779.5260000000001,1522.376,1303.018,923.46299999999997,2002.62,2580.2730000000001,2223.9,2171.9670000000001,733.35400000000004,1012.851,1035.191,1084.578,1447.992,2129.7550000000001,994.51599999999996,1495.018,2229.1950000000002,3114.3130000000001,2458.3380000000002,2340.8780000000002,990.89499999999998,811.37,1301.6679999999999,2270.14,"-","-","-","-","-","-","-","-","-","-","-"]
[null,"Eólica",17431.845000000001,18906.552,22433.485000000001,28613.578000000001,35233.5,25590.253000000001,56231.544000000002,38386.534,22680.768,19552.138999999999,15309.171,25694.21,17536,22919,37045,26057,34949,31706,57951,48557,26273,19181,16085,18581,12697,16352,39237,36025,31842,39889,59648,61491,17713,33991,22016,25574,23706,17290,24349,46455,32116,20734,55995,57105,22914,12762,24732,20549,11740,14778,23015,32147,36251,38838,47304,42622,35769,14015,17956,16928,11345,24277,22847,23944,19554,37648,55422,51939,31495,25599,15790,34295,18963.88,33726.285000000003,33681.697,30021.198,26774.771000000001,44057.214,57535.39,54601,12813.212,17087.317999999999,16904.712,15601.111999999999,24542.069,28387.059000000001,13294,27647.999,38088.171000000002,48342,41479,42314,24540,24190,27763,22147,29456,32606,45694,27506,42525,35026,45220,59362,12482,15750,20599,23738,41442,43677,41792.052000000003,28967,40094,30389,59611,49740,17421,10614,24303,8611,19204,40727,33663,25978,30431,44239,56792,48605,46717,13315,17702,15713,15115,22686,36312,18605,25482,40128,50389,47397,54584,21312,24032,39812,61174.599000000002,"-","-","-","-","-","-","-","-","-","-","-"]
[null,"Solar fotovoltaica",36.402000000000001,46.195999999999998,66.179000000000002,67.328000000000003,76.62,77.052999999999997,98.995000000000005,430.70800000000003,484.04,533.36199999999997,462.50200000000001,536.16499999999996,610,833,1268,1459,1737,1692,2046,2433,2017,2022,1635,1621,2022,2658,3713,4145,4312,4894,5548,5693,6152,9825,7689,6849,8709,10847,12492,16156,16219,16256,17530,17568,12555,13377,11497,9124,10698,10306,16328,16499,19138,19607,22480,21526,17621,15830,12519,12614,15178,16843,19656,19729,20773,23349,23817,24739,20929,17684,14494,14948,15819,17853,23039,20676,24978,25023,26449,26299,23158,19232,16071,17914,20253,19458,23739,27152,27710,30875,30903,26948,24098,22190,17740,15636,18995,20132,27162,25919,29372,27594,27933,29920,21433,20634,16824,16373,18338.863000000001,17768,25470.297999999999,25100,29874,27309,30356,26058,20796,17895,18495,18094,19687,20003,24028,24143,25216,29415,29166,27400,25684,20209,17007,15716,18014,18976,25344,25782,25210,27570,29076,26878,22927,19715,16473,17486,18395.062999999998,"-","-","-","-","-","-","-","-","-","-","-"]
[null,"Térmica renovable/Otras renovables",8687.5660000000044,11201.251999999999,21105.335999999999,20726.093999999997,19570.879999999997,20816.694,21169.460999999999,19156.758000000002,13239.191999999999,22026.499000000003,17532.326999999997,22967.625,21162,19576,5693,17196,15807,15288,19273,20695,19120,18295,18031,23147,22239,19665,20200,19685,21462,14780,144,21585,13957,17447,22889,23166,23472,22220,12230,24755,22920,23920,24575,24604,23900,22497,23578,24384,23902,18935,16313,24282,25112,19550,10072,5987,5025,5016,3979,2388,3274,5746,5969,5585,6959,1329,735,722,702,703,749,675.36300000000006,612.11,489.72300000000001,585.19799999999998,682.91600000000005,647.63499999999999,645.86599999999999,716.72299999999996,723.62,743.06100000000004,760.45899999999995,617.47500000000002,825.66800000000001,628.67399999999998,697.577,800.20100000000002,747.98099999999999,798.7,697.58100000000002,798.74400000000003,711.54100000000005,628.87699999999995,722.197,511,644,787,707,778,663,669,643,797,820.72199999999998,629,747,835,731,378,350,448,494,606,795.298,837.91800000000001,841,865,810,840,788,862,735,824,817,884,679,761,696,738,786,765,789,811,720,831,836,813,823,831,682,802,831,803,782,0,"-","-","-","-","-","-","-","-","-","-","-"]
[null,"Generación renovable",26155.813000000002,30154,43605,49407,54881,46484,77500,57974,36404,42112,33304,49198,39308,43328,44006,44712,52493,48686,79352,71875,47657,39590,36029,43636,37245,38919,63390,59855,57801,59878,65645,88866,37822,61263,52594,55589,55896,50521,49246,87416,71255,60910,98100,99277,59369,48636,59807,54057,46340,44019,55656,72928,80501,77995,79856,70135,58415,34861,34454,31930,29797,46866,48474,49497,47451,62457,80219,77579,53327,44224,31197,50029.771000000001,35511.429000000004,52069.082999999999,57468.895999999993,51626.993000000002,52619.251000000004,69933.577000000005,84763.847999999998,81854.622000000003,36935.972999999998,37285.502999999997,33633.26,34416.143999999993,45646.345000000001,48747.159,37969.883000000002,55684.97,66889.137999999992,80200.969000000012,73467.010999999999,70259.915000000008,49559.215000000004,47405.909,46307.163,38733,49543,53721,73935,54378,72866,63546,74258.311000000002,90727.555999999997,35001.525000000001,37598.470999999998,38720.014999999999,41317.725999999995,60878.638999999996,62439.873,68258.733999999997,54978.635999999999,71111.05799999999,59151.719000000005,93191.909000000014,78870.823999999993,40120,30114.646000000001,44821.971000000005,28472.686000000002,40876.1,63526.525999999998,60348.375999999997,52540.017999999996,57762.463000000003,76636.62,89612.273000000001,79190.899999999994,75592.967000000004,35314.353999999999,36746.850999999995,33523.190999999999,35288.578000000001,44068.991999999998,64881.754999999997,46479.516000000003,53271.017999999996,71021.195000000007,83685.312999999995,77703.338000000003,80920.877999999997,43142.895000000004,42393.369999999995,59693.667999999998,81839.801999999996,"-","-","-","-","-","-","-","-","-","-","-"]
[]
[null,"Generación renovable mensual Melilla (MWh)","2007-01-01","2007-02-01","2007-03-01","2007-04-01","2007-05-01","2007-06-01","2007-07-01","2007-08-01","2007-09-01","2007-10-01","2007-11-01","2007-12-01","2008-01-01","2008-02-01","2008-03-01","2008-04-01","2008-05-01","2008-06-01","2008-07-01","2008-08-01","2008-09-01","2008-10-01","2008-11-01","2008-12-01","2009-01-01","2009-02-01","2009-03-01","2009-04-01","2009-05-01","2009-06-01","2009-07-01","2009-08-01","2009-09-01","2009-10-01","2009-11-01","2009-12-01","2010-01-01","2010-02-01","2010-03-01","2010-04-01","2010-05-01","2010-06-01","2010-07-01","2010-08-01","2010-09-01","2010-10-01","2010-11-01","2010-12-01","2011-01-01","2011-02-01","2011-03-01","2011-04-01","2011-05-01","2011-06-01","2011-07-01","2011-08-01","2011-09-01","2011-10-01","2011-11-01","2011-12-01","2012-01-01","2012-02-01","2012-03-01","2012-04-01","2012-05-01","2012-06-01","2012-07-01","2012-08-01","2012-09-01","2012-10-01","2012-11-01","2012-12-01","2013-01-01","2013-02-01","2013-03-01","2013-04-01","2013-05-01","2013-06-01","2013-07-01","2013-08-01","2013-09-01","2013-10-01","2013-11-01","2013-12-01","2014-01-01","2014-02-01","2014-03-01","2014-04-01","2014-05-01","2014-06-01","2014-07-01","2014-08-01","2014-09-01","2014-10-01","2014-11-01","2014-12-01","2015-01-01","2015-02-01","2015-03-01","2015-04-01","2015-05-01","2015-06-01","2015-07-01","2015-08-01","2015-09-01","2015-10-01","2015-11-01","2015-12-01","2016-01-01","2016-02-01","2016-03-01","2016-04-01","2016-05-01","2016-06-01","2016-07-01","2016-08-01","2016-09-01","2016-10-01","2016-11-01","2016-12-01","2017-01-01","2017-02-01","2017-03-01","2017-04-01","2017-05-01","2017-06-01","2017-07-01","2017-08-01","2017-09-01","2017-10-01","2017-11-01","2017-12-01","2018-01-01","2018-02-01","2018-03-01","2018-04-01","2018-05-01","2018-06-01","2018-07-01","2018-08-01","2018-09-01","2018-10-01","2018-11-01","2018-12-01"]
[null,"Solar fotovoltaica",0,0,0,0,0,0,0,0,0,0,0,0,1,0,0,0,0,1,1,1,1,0,1,0,8,17,22,28,9,8,8,8,7,6,0,1,1,5,6,7,9,1,8,9,7,6,5,3,4,7,7,7,8,8,7,6,5,5,4,4,5,7,7,9,9,9,9,8,7,6,4,4,5,5,7,7,9,9,8,8,7,7,5,4,4,6,8,9,9,9,9,9,7,7,4,4,5,5,8,6,8,8,9,7,7,6,5,4,4,6,8,9,9,8,7,8,7,5,4,3,4,4,6,7,8,8,8,7,8,7,5,4,0,"-","-","-","-","-","-","-","-","-","-","-"]
[null,"Residuos renovables","-","-","-","-","-","-","-","-","-","-","-","-","-","-","-","-","-","-","-","-","-","-","-","-","-","-","-","-","-","-","-","-","-","-","-","-","-","-","-","-","-","-","-","-","-","-","-","-","-","-","-","-","-","-","-","-","-","-","-","-","-","-","-","-","-","-","-","-","-","-","-","-","-","-","-","-","-","-","-","-","-","-","-","-","-","-","-","-","-","-","-","-","-","-","-","-",406,384.5,399.5,384.5,399.5,362.5,306,330.5,349.5,424,110.5,438.5,487,413,388,450,371.5,406.5,395,402.5,414.5,504.5,111,506.5,452,426,438,421,450.5,434.5,425.5,341,449,497.5,87.5,555,371.78149999999999,"-","-","-","-","-","-","-","-","-","-","-"]
[null,"Generación renovable",0,0,0,0,0,0,0,0,0,0,0,0,1,0,0,0,0,1,1,1,1,0,1,0,8,17,22,28,9,8,8,8,7,6,0,1,1,5,6,7,9,1,8,9,7,6,5,3,4,7,7,7,8,8,7,6,5,5,4,4,5,7,7,9,9,9,9,8,7,6,4,4,5,5,7,7,9,9,8,8,7,7,5,4,4,6,8,9,9,9,9,9,7,7,4,4,411,389.5,407.5,390.5,407.5,370.5,315,337.5,356.5,430,115.5,442.5,491,419,396,459,380.5,414.5,402,410.5,421.5,509.5,115,509.5,456,430,444,428,458.5,442.5,433.5,348,457,504.5,92.5,559,371.78149999999999,"-","-","-","-","-","-","-","-","-","-","-"]
[]
[null,"Generación renovable mensual nacional (GWh)","2007-01-01","2007-02-01","2007-03-01","2007-04-01","2007-05-01","2007-06-01","2007-07-01","2007-08-01","2007-09-01","2007-10-01","2007-11-01","2007-12-01","2008-01-01","2008-02-01","2008-03-01","2008-04-01","2008-05-01","2008-06-01","2008-07-01","2008-08-01","2008-09-01","2008-10-01","2008-11-01","2008-12-01","2009-01-01","2009-02-01","2009-03-01","2009-04-01","2009-05-01","2009-06-01","2009-07-01","2009-08-01","2009-09-01","2009-10-01","2009-11-01","2009-12-01","2010-01-01","2010-02-01","2010-03-01","2010-04-01","2010-05-01","2010-06-01","2010-07-01","2010-08-01","2010-09-01","2010-10-01","2010-11-01","2010-12-01","2011-01-01","2011-02-01","2011-03-01","2011-04-01","2011-05-01","2011-06-01","2011-07-01","2011-08-01","2011-09-01","2011-10-01","2011-11-01","2011-12-01","2012-01-01","2012-02-01","2012-03-01","2012-04-01","2012-05-01","2012-06-01","2012-07-01","2012-08-01","2012-09-01","2012-10-01","2012-11-01","2012-12-01","2013-01-01","2013-02-01","2013-03-01","2013-04-01","2013-05-01","2013-06-01","2013-07-01","2013-08-01","2013-09-01","2013-10-01","2013-11-01","2013-12-01","2014-01-01","2014-02-01","2014-03-01","2014-04-01","2014-05-01","2014-06-01","2014-07-01","2014-08-01","2014-09-01","2014-10-01","2014-11-01","2014-12-01","2015-01-01","2015-02-01","2015-03-01","2015-04-01","2015-05-01","2015-06-01","2015-07-01","2015-08-01","2015-09-01","2015-10-01","2015-11-01","2015-12-01","2016-01-01","2016-02-01","2016-03-01","2016-04-01","2016-05-01","2016-06-01","2016-07-01","2016-08-01","2016-09-01","2016-10-01","2016-11-01","2016-12-01","2017-01-01","2017-02-01","2017-03-01","2017-04-01","2017-05-01","2017-06-01","2017-07-01","2017-08-01","2017-09-01","2017-10-01","2017-11-01","2017-12-01","2018-01-01","2018-02-01","2018-03-01","2018-04-01","2018-05-01","2018-06-01","2018-07-01","2018-08-01","2018-09-01","2018-10-01","2018-11-01","2018-12-01"]
[null,"Hidráulica",2265.5368000000003,3018.5306999999998,3928.3883999999998,2867.4611,2837.4746,2309.4112,2454.7462999999998,1770.9716000000001,1376.3025,1712.5293000000001,1342.2435,1221.8831,1393.4648,957.89550000000008,1076.0352,2740.0094000000026,3370.3449000000001,3175.8064999999997,2182.1716000000001,1539.6986000000002,1313.4237999999998,1095.1625000000001,1592.7958000000003,2498.6459999999997,2274.4930999999997,3482.1974999999998,2794.3975999999998,2205.6507000000001,2585.8144000000002,2128.0412000000001,1758.4123999999999,1449.8247999999999,993.20990000000006,1258.9399000000001,2027.0112999999999,3228.3808999999997,5178.6461132999993,4067.3035615999997,5816.5380444000002,4720.0521306999999,3862.8820475999996,3555.0361532000002,2896.7724070000004,2036.8298135,1530.4573436999997,1601.5020285000001,2611.5180676999998,3956.2364768999996,5116.2659633060002,2995.7649081979998,3835.2387100999995,3536.2956343640003,2793.522058558,2062.2533463960003,1660.098963936,1531.7271548819999,1223.390394212,1247.7260482879999,2152.1278566200003,2183.94927835,1627.7749211600001,1224.6111900200001,1311.9054395799999,1742.8316791159998,2535.5226091940003,2103.4792493760001,1671.5481847040001,1334.9044543119999,1035.7028693019997,1388.777205006,1985.8183775339999,2661.3434869940002,3013.82941226,3551.7252048160003,4621.0482171000003,5389.1247217780001,3812.01732085,3201.6899418319999,2719.456549814,2142.8319484660001,1827.1438088719997,1865.333243518,2801.6335556239997,2443.87294501,4259.5553178299997,5759.65890786,5289.5792180580002,4947.8211138279994,2820.4528872419996,2482.4062395720002,2351.334496684,2041.123355228,1798.307651958,1634.1474530799999,2450.4926791900002,3280.9982076739998,2567.1918793640002,3559.704091526,3844.5106837779999,2655.8204394859999,2936.1983491780002,2486.260150308,2054.9406936880005,1635.2812370920003,1601.96407989,1646.8904025439999,1887.9922419959998,1439.095957106,3440.8932849500002,3971.9887079039995,4363.1624379659997,5231.6080089240004,5085.4276365120004,2938.3612728839998,2265.1297052260002,2041.0086219440004,1654.0873034399999,1633.1335515920002,1494.023942218,1844.6384335419998,2043.4255533339997,1953.2224518620003,2697.100922736,1714.8067434679999,1923.6385081559999,1638.0986847759998,1193.3238079520002,1085.5641187339997,1187.7925104380001,828.61692537800002,842.64949153200007,1254.1674266699997,2152.8710000000001,"-","-","-","-","-","-","-","-","-","-","-"]
[null,"Hidroeólica","-","-","-","-","-","-","-","-","-","-","-","-","-","-","-","-","-","-","-","-","-","-","-","-","-","-","-","-","-","-","-","-","-","-","-","-","-","-","-","-","-","-","-","-","-","-","-","-","-","-","-","-","-","-","-","-","-","-","-","-","-","-","-","-","-","-","-","-","-","-","-","-","-","-","-","-","-","-","-","-","-","-","-","-","-","-","-","-","-","-","-",0.31481300000000001,0.161525,0.19547100000000001,0.201015,0.19872599999999999,0.41617599999999999,0.37487300000000001,0.243784,0.125636,0.242058,0.36242099999999999,2.0829909999999998,1.9288240000000001,0.74199999999999999,0.48464600000000002,0.88297099999999995,0.670686,0.81410000000000005,1.7795260000000002,1.522376,1.303018,0.92346299999999992,2.0026199999999998,2.580273,2.2239,2.171967,0.73335400000000006,1.0128509999999999,1.035191,1.084578,1.4479919999999999,2.1297550000000003,0.99451599999999996,1.495018,2.2291950000000003,3.1143130000000001,2.4583380000000004,2.340878,0.99089499999999997,0.81137000000000004,1.3016679999999998,2.27014,"-","-","-","-","-","-","-","-","-","-","-"]
[null,"Eólica",2167.7449999999999,2895.3179999999998,3123.877,1382.6190000000001,2641.2139999999999,1818.328,1946.9179999999999,2468.8200000000002,2055.4479999999999,1927.347,2769.181,2414.8360000000002,2664.58,2035.72,4132.3620000000001,3389.4520000000002,1769.2150000000001,2125.6880000000001,2184.1570000000002,2034.3419999999999,2148.0600000000004,2516.4739999999997,3485.3240000000001,3674.4479999999999,3527.9769999999999,3244.2980000000002,3125.3940000000002,3106.5949999999998,2730.5969999999998,2353.5120000000002,2482.25,2293.0889999999999,2489.9910000000004,3138.623,4817.9000000000005,4942.6009999999997,4304.4309999999996,4637.902,4570.1519999999991,2667.3429999999998,3655.8969999999999,2615.31,2845.759,2937.761,2337.395,3967.3230000000003,4366.5439999999999,4639.5129999999999,4030.4670000000001,4053.1610000000001,4714.4639999999999,3423.9059999999999,3185.6109999999999,2975.2040000000002,3310.5589999999997,2781.78,2354.701,3175.6910000000003,3836.2260000000001,4623.6469999999999,3664.9578799999999,5049.4832850000003,3839.7926969999999,5336.9811980000004,3735.0307709999997,3473.6162140000001,3039.8783899999999,3181.7570000000001,3950.891212,3147.3323179999998,4622.2867120000001,5466.3301119999996,6316.8030689999996,5370.0570589999998,5763.1639999999998,4424.9819990000005,3970.8771710000001,3875.7850000000003,2885.9030000000002,3453.5439999999999,3239.1620000000003,3988.547,6458.3490000000002,4966.0729999999994,6569.5279999999993,5917.5259999999998,5096.7740000000003,3978.165,4177.875,3310.9670000000001,3637.1759999999999,2916.5050000000001,2145.3319999999999,3398.893,5093.1319999999996,4788.82,4954.5020000000004,5992.5469999999996,4907.4960519999995,3933.9198799999999,4841.183,2903.93,3113.2939999999999,3287.3440000000001,3020.625,3898.4188899999999,3724.59825,3537.27,5624.5780000000004,6109.5309999999999,5443.9740000000002,4441.2962500000003,3933.1030000000001,3271.335,3521.9422,3652.9459999999999,2713.828,2389.6191900000003,3906.8539999999998,2687.6639999999998,4812.549,4928.5079999999998,4724.3639999999996,4196.17,3465.942,3189.5309999999999,3387.3440000000001,3343.8449999999998,2872.8599999999997,3207.6790000000001,3979.2910000000002,5787.4890000000005,5347.5815320000002,"-","-","-","-","-","-","-","-","-","-","-"]
[null,"Solar fotovoltaica",10.391,12.96,21.983999999999998,26.105999999999998,36.128,40.742000000000004,51.927,56.504000000000005,60.428000000000004,57.695999999999998,54.375999999999998,54.66,59.578000000000003,73.40100000000001,108.56200000000001,131.04400000000001,137.02099999999999,196.40899999999999,240.44200000000001,298.52500000000003,328.08499999999998,334.32799999999997,335.40200000000004,255.15899999999999,261.25799999999998,396.22799999999995,528.73199999999997,569.73800000000006,672.34699999999998,643.83199999999999,717.298,663.41,511.53100000000001,502.20600000000002,361.99299999999999,243.81700000000001,263.11899999999997,305.07099999999997,481.50900000000001,590.40700000000004,711.44200000000001,685.33100000000002,785.81499999999994,723.07,631.37599999999998,548.48400000000004,382.17600000000004,314.97199999999998,356.50800000000004,504.47500000000002,536.09400000000005,661.11799999999994,747.8130000000001,810.57900000000006,855.84499999999991,802.64800000000002,732.96999999999991,628.05799999999999,363.85199999999998,425.15999999999997,504.68700000000001,660.33,770.14300000000003,658.51900000000001,863.505,875.875,941.61799999999994,865.18099999999993,692.37199999999996,595.35799999999995,372.47300000000001,402.029,446.28399999999999,527.67399999999998,566.69600000000003,763.80400000000009,872.91799999999989,930.95299999999997,974.76400000000001,896.60900000000004,759.63499999999999,634.76799999999992,513.57500000000005,439.23899999999998,377.51799999999997,434.38400000000001,735.89800000000002,791.91300000000001,924.375,903.697,951.48400000000004,913.99200000000008,686.95600000000002,647.95300000000009,385.42600000000004,453.97700000000003,518.44286299999999,494.22899999999998,713.271298,755.91261000000009,924.10299999999995,889.255,933.15800000000002,831.90200000000004,722.21187000000009,537.13499999999999,529.70299999999997,393.75200000000001,364.464,480.09399999999999,709.29829999999993,721.4905,807.02800000000002,924.06700000000001,918.53600000000006,895.85400000000004,766.09,584.44900000000007,426.517,379.71100000000001,476.11500000000001,445.32300000000004,716.97400000000005,836.04700000000003,871.65500000000009,880.05899999999997,913.56100000000004,817.43600000000004,774.41300000000001,676.04600000000005,536.57499999999993,429.62799999999999,434.38106300000004,"-","-","-","-","-","-","-","-","-","-","-"]
[null,"Solar térmica",0,0,0.43099999999999999,0.34200000000000003,0.55800000000000005,0.88300000000000001,1.256,1.1160000000000001,0.63900000000000001,1.214,0.997,0.191,1.0840000000000001,0.79700000000000004,1.4610000000000001,0.95799999999999996,0.94199999999999995,1.9630000000000001,2.0379999999999998,1.98,0.85899999999999999,0.86599999999999999,1.27,1.1599999999999999,0.69,1.236,2.323,7.2039999999999997,7.6580000000000004,6.7519999999999998,12.414,23.867999999999999,17.539000000000001,23.446000000000002,16.183,10.51,13.151999999999999,11.682,23.731999999999999,36.92,69.084000000000003,72.531999999999996,104.59,121.9,100.917,71.745000000000005,31.619,33.747,34.25,88.656999999999996,98.456999999999994,137.833,154.07300000000001,232.48400000000001,284.20800000000003,235.32900000000001,228.55799999999999,172.91200000000001,80.436999999999998,85.159000000000006,117.342,200.34200000000001,235.113,177.77699999999999,348.38200000000001,414.74900000000002,541.31700000000001,485.12700000000001,368.64299999999997,285.79500000000002,133.96199999999999,135.58500000000001,113.494,204.00899999999999,125.37,300.89400000000001,499.26799999999997,647.33000000000004,758.52300000000002,661.85599999999999,478.95499999999998,294.24200000000002,199.22399999999999,158.36199999999999,79.801000000000002,103.265,385.17500000000001,435.52699999999999,729.93600000000004,687.28800000000001,811.15300000000002,833.178,389.596,289.33699999999999,90.186999999999998,124.47199999999999,176.95099999999999,190.92500000000001,415.82900000000001,393.16,694.83900000000006,734.05399999999997,888.91800000000001,607.62300000000005,483.25,188.16900000000001,226.81800000000001,84.698999999999998,59.914000000000001,133.01,387.86099999999999,408.32299999999998,498.79500000000002,813.99099999999999,825.32500000000005,805.81899999999996,595.62699999999995,284.70299999999997,139.69999999999999,118.136,149.21199999999999,88.741,340.84500000000003,535.255,607.89800000000002,761.90200000000004,812.88,692.43499999999995,608.14,398.79300000000001,220.65199999999999,131.196,130.07689999999999,"-","-","-","-","-","-","-","-","-","-","-"]
[null,"Térmica renovable/Otras renovables",216.57900000000001,190.44399999999999,202.655,201.31399999999999,212.92099999999999,208.53500000000003,222.32499999999999,223.34399999999999,210.393,242.72399999999999,222.18800000000002,235.54599999999999,240.54300000000001,235.363,243.89999999999998,241.16800000000001,240.34899999999999,235.23099999999999,223.648,239.89500000000001,225.512,247.172,248.54500000000002,247.38200000000001,267.15800000000002,253.47299999999998,264.57600000000002,300.05200000000002,272.99799999999999,253.04599999999999,260.84899999999999,260.46300000000002,287.976,347.83600000000001,272.58799999999997,276.327,274.84199999999998,245.35900000000001,262.31099999999998,277.04300000000001,300.03700000000003,288.51100000000002,278.10199999999998,284.791,267.96199999999999,284.303,273.09999999999997,295.99899999999997,360.32499999999999,334.40699999999998,355.24599999999998,356.64,335.76299999999998,336.97399999999999,358.63499999999999,356.02099999999996,375.80200000000002,383.84299999999996,376.08700000000005,388.24636300000003,394.35710999999998,373.43272300000001,398.84319799999997,372.66191600000002,361.52463499999999,406.76686599999999,422.10672299999999,401.27762000000001,373.84606100000002,413.891459,401.555475,434.50466799999998,436.52267400000005,415.74157700000001,453.79920099999998,422.25598100000002,438.81170000000003,393.22358099999997,432.786744,418.17954099999997,398.67487700000004,405.47619700000001,414.20800000000003,445.01599999999996,424.45600000000002,332.233,366.40699999999998,339.55800000000005,410.952,407.03699999999998,412.22,446.01172200000002,422.947,388.49400000000003,373.56199999999995,404.851,240.00928999999999,206.32529,234.65600000000001,180.423,226.98099999999999,277.27029800000003,300.35291799999999,312.37200000000001,302.41299999999995,311.08697000000001,304.67399999999998,287.41300000000001,269.97300000000001,261.56792000000002,255.63013999999998,209.99540000000002,277.22199999999998,287.56,311.08,326.72672,307.66200000000003,306.35834,304.59899999999999,306.185,327.21600000000001,289.71999999999997,269.56099999999998,232.803,298.786,302.45600000000002,333.50299999999999,316.86700000000002,310.01100000000002,310.94499999999999,307.709,313.24099999999999,302.69605000000001,"-","-","-","-","-","-","-","-","-","-","-"]
[null,"Residuos renovables","-","-","-","-","-","-","-","-","-","-","-","-","-","-","-","-","-","-","-","-","-","-","-","-","-","-","-","-","-","-","-","-","-","-","-","-","-","-","-","-","-","-","-","-","-","-","-","-","-","-","-","-","-","-","-","-","-","-","-","-","-","-","-","-","-","-","-","-","-","-","-","-","-","-","-","-","-","-","-","-","-","-","-","-","-","-","-","-","-","-","-","-","-","-","-","-",64.152000000000001,59.516500000000001,72.007499999999993,47.499499999999998,64.893000000000001,73.037499999999994,73.160499999999999,70.308999999999997,70.194000000000003,75.951499999999996,74.485500000000002,72.841999999999999,66.351500000000001,53.484999999999999,66.529499999999999,39.262500000000003,39.160000000000004,69.139499999999998,75.308000000000007,73.403000000000006,75.08,74.216999999999999,74.121500000000012,79.339500000000001,72.733499999999992,63.647000000000006,70.867000000000004,61.682499999999997,45.922499999999999,81.467500000000001,83.370999999999995,80.367499999999993,77.905000000000001,80.609999999999985,77.924000000000007,80.509,76.418031499999998,"-","-","-","-","-","-","-","-","-","-","-"]
[null,"Generación renovable",4660.2518,6117.2527,7277.3353999999999,4477.8420999999998,5728.2955999999995,4377.8991999999998,4677.1722999999993,4520.7556000000004,3703.2105000000001,3941.5102999999999,4388.9855000000007,3927.1160999999997,4359.2497999999996,3303.1764999999996,5562.3202000000001,6502.631400000002,5517.8719000000001,5735.0974999999989,4832.4566000000004,4114.4406000000008,4015.9398000000001,4194.0024999999996,5663.3368000000009,6676.7949999999983,6331.5760999999993,7377.4324999999999,6715.4226000000008,6189.2396999999992,6269.4143999999997,5385.1832000000013,5231.2233999999999,4690.6548000000003,4300.246900000001,5271.0509000000002,7495.6753000000008,8701.6358999999975,10034.190113299999,9267.3175616000008,11154.242044399998,8291.7651306999996,8599.342047600001,7216.7201532000008,6911.038407,6104.3518134999995,4868.1073436999995,6473.3570285000005,7664.9570677000002,9240.4674768999994,9897.8159633060004,7976.4649081980006,9539.499710099999,8115.7926343640011,7216.7820585580002,6417.4943463960008,6469.3459639359999,5707.5051548819993,4915.4213942119995,5608.230048288,6808.7298566200006,7706.1616413499996,6309.1189111599997,7508.19919802,6555.7973345800001,8288.7707931160003,7843.9650151939995,7274.486329376,6616.4682977039993,6268.2470743119993,6421.4551423020002,5831.1539820060007,7516.0955645339991,9099.7922669939981,10326.93315526,10069.206840815999,11530.077418100002,11301.060701778,9593.89219185,9048.9815228320003,7771.4332938140005,7573.0204894660001,6703.5706858720005,7188.3664405180007,10386.989555624001,8452.5629450099987,11710.858317829998,12547.066907859999,11873.833218057998,10492.984113828001,9063.5908872419986,7791.3952395720007,8163.3674966840008,7151.1248902280004,5443.3001769580005,6359.0199240800002,8393.000694190001,9053.3169336740011,8521.6652083640001,10503.621754525999,10188.014317777999,7966.8610654860004,9688.4394071779989,7364.1693693080006,7365.9071026880001,6746.7600610920017,6201.3999498900002,6658.1364085440009,6749.1539629959998,5815.7426431060003,9826.9878849500019,11011.456153903999,11227.977753966001,11053.278676924001,10641.659099512,8306.4563928839998,7919.9011782260004,7797.9812419440013,6114.5462704399997,5273.2134355919989,6346.828293218,5416.7091245420006,7882.3356313339991,7770.6094438620003,8821.8416777359998,7577.7587594680008,7215.3370261559994,6855.7433797759995,6727.0971209520003,6338.972956734,5833.4623884379998,5503.6808203779992,5965.6118615320001,7997.5320946700003,8446.2947164999987,"-","-","-","-","-","-","-","-","-","-","-"]
[]
[null,"Generación renovable anual peninsular (GWh)",1990,1991,1992,1993,1994,1995,1996,1997,1998,1999,2000,2001,2002,2003,2004,2005,2006,2007,2008,2009,2010,2011,2012,2013,2014,2015,2016,2017,2018,2019,2020,2021]
[null,"Hidráulica",24523.392599960003,26432.714899999999,18638.640500000001,23748.717699999994,27483.933699999998,22461.961800000001,39868.604399999997,35110.257700000002,35434.009117000001,25037.704612000005,27893.934733000006,40392.099833,21225.324938999998,40097.007245000001,30870.037485000004,18248.197038999991,25374.948778999995,27104.303099999994,22933.781600000002,26185.975700000003,41833.774188100004,30336.684909209995,20622.430330298004,37386.659563939997,39112.398507204001,28312.265005956004,35959.990907101994,18359.125145035996,2152.8710000000001,"-","-","-"]
[null,"Eólica",2.18699998,2.8650000000000002,17.361000000000001,84.768000000000001,72.859999999999985,159.85699999999997,304.12899999999996,619.88499999999999,1236.6567059999998,2474.0332980000003,4462.4960500000007,6594.1481130000002,9259.2966869999982,11720.246133000002,15754.117769000002,20857.665958999998,22880.856075000003,27249.154999999999,31757.850000000006,37888.576999999997,43208.396000000001,42105.433000000005,48140.064999999995,54344.351999999992,50634.89,47713.149999999994,47298.170000000006,47496.792999999998,5286.1355229999999,"-","-","-"]
[null,"Solar fotovoltaica","-","-",12.055999999999999,12.000000000000002,15.295899999999996,1.0619999999999998,0.89100000000000001,1.127,1.1702970000000001,1.341181,1.269817,1.639643,4.5614520000000001,8.9301049999999957,17.794010999999976,40.088349000000001,102.37499899999992,462.577,2406.0700000000002,5829.0049999999992,6139.7820000000002,7091.688000000001,7829.9009999999998,7918.0379999999996,7802.4239999999991,7844.7979999999998,7579.3129999999992,7977.4299999999985,409.40090000000004,"-","-","-"]
[null,"Solar térmica","-","-","-","-","-","-","-","-","-","-","-","-","-","-","-","-","-",7.6269999999999998,15.378,129.82299999999998,691.62,1832.357,3444.1340000000005,4441.527000000001,4958.9149999999991,5085.2350000000006,5071.2040000000006,5347.9489999999996,130.07689999999999,"-","-","-"]
[null,"Térmica renovable/Otras renovables","-",0.85399999999999987,16.548999999999999,58.82200000000001,322.45,671.26900000000001,815.08,648.375,748.74632699999995,908.25367599999993,961.11038600000018,1738.4584279999999,1453.0152859999998,1737.0417380000004,1818.0936319999998,1987.8580699999998,2182.6066820000001,2375.6849999999999,2651.4889999999996,3044.2870000000003,3171.7989999999995,4284.8410000000003,4746.1490000000003,5065.5659999999998,4717.9780000000001,3173.951,3413.9139999999998,3601.6279999999997,302.56700000000001,"-","-","-"]
[null,"Residuos renovables","-","-","-","-","-","-","-","-","-","-","-","-","-","-","-","-","-","-","-","-","-","-","-","-","-",662.65500000000009,649.74149999999997,728.15049999999997,68.332700000000003,"-","-","-"]
[null,"Generación renovable",24525.579599940003,26436.4339,18684.606500000002,23904.307699999994,27894.5396,23294.149800000003,40988.704400000002,36379.644700000004,37420.582447000001,28421.332767000004,33318.810986000004,48726.346017000003,31942.198363999996,53563.225221000001,48460.042896999999,41133.809416999989,50540.786534999999,57199.347099999984,59764.568600000006,73077.667700000005,95045.371188100005,85651.003909210005,84782.679330298008,109156.14256394,107226.605507204,92792.054005955986,99972.333407101993,83511.075645035977,8349.3840230000005,"-","-","-"]
[]
[null,"Generación renovable anual Islas Baleares (MWh)",2006,2007,2008,2009,2010,2011,2012,2013,2014,2015,2016,2017,2018,2019,2020,2021]
[null,"Eólica",4877.3560000000007,5656,5497,5543,5571,5829,6505,6160,5839,5317.02,5414.6399999999994,2925,271.41000000000003,"-","-","-"]
[null,"Solar fotovoltaica",1100.7949999999998,1952,28380,80933,87757,101221,115594,122098,122773,122645.48,120533.8,122875,6585.1,"-","-","-"]
[null,"Térmica renovable/Otras renovables",0,0,0,0,0,0,569,743,1944,1972.55,1309.52,1625,129.05000000000001,"-","-","-"]
[null,"Residuos renovables","-","-","-","-","-","-","-","-","-",151098,130805.5,143878.5,7713.55,"-","-","-"]
[null,"Generación renovable",5978.1510000000007,7608,33877,86476,93328,107050,122668,129001,130556,281033.05,258063.46000000002,271303.5,14699.11,"-","-","-"]
[]
[null,"Generación renovable anual Islas Canarias (MWh)",2006,2007,2008,2009,2010,2011,2012,2013,2014,2015,2016,2017,2018,2019,2020,2021]
[null,"Hidráulica",0,1176,1673,398,0,1675.4079999999999,1789.3360000000005,3047.306,3479.0210000000002,3585.2,3472,3282,0,"-","-","-"]
[null,"Hidroeólica","-","-","-","-","-","-","-","-",1071.8609999999999,8557.0660000000007,18102.638999999999,20398.516,2270.14,"-","-","-"]
[null,"Eólica",326063.57899999997,356840,396475,358707,331363,354155,361767.78899999999,362734.29800000001,389964,396661.05200000003,393086,395854,61174.599000000002,"-","-","-"]
[null,"Solar fotovoltaica",2915.5499999999997,19373,63500,162330,195166,232139,256511,286702,282291,275554.16099999996,277674,273451,18395.062999999998,"-","-","-"]
[null,"Térmica renovable/Otras renovables",218199.68400000001,213283,217219,273055,160561,33148.362999999998,8050.4539999999997,8387.0730000000003,8806.7219999999998,8053.2160000000003,9336,9565,0,"-","-","-"]
[null,"Generación renovable",547178.81299999997,590672,678867,794490,687090,621117.77100000007,628118.57900000003,660870.67700000003,685612.60399999993,692410.69500000007,701670.63899999997,702550.51600000006,81839.801999999996,"-","-","-"]
[]
[null,"Generación renovable anual Melilla (MWh)",2007,2008,2009,2010,2011,2012,2013,2014,2015,2016,2017,2018,2019,2020,2021,2022]
[null,"Solar fotovoltaica",0,6,122,67,72,84,81,85,78,78,76,0,"-","-","-","-"]
[null,"Residuos renovables","-","-","-","-","-","-","-","-",4295.5,4850,4977.5,371.78149999999999,"-","-","-","-"]
[null,"Generación renovable",0,6,122,67,72,84,81,85,4373.5,4928,5053.5,371.78149999999999,"-","-","-","-"]
[]
[null,"Generación renovable anual nacional (GWh)",2007,2008,2009,2010,2011,2012,2013,2014,2015,2016,2017,2018,2019,2020,2021,2022]
[null,"Hidráulica",27105.479099999993,22935.454600000001,26186.3737,41833.774188100004,30338.360317209997,20624.219666298002,37389.706869939997,39115.877528204001,28315.850205956005,35963.462907101995,18362.407145035995,2152.8710000000001,"-","-","-","-"]
[null,"Hidroeólica","-","-","-","-","-","-","-",1.071861,8.5570660000000007,18.102639,20.398516000000001,2.27014,"-","-","-","-"]
[null,"Eólica",27611.650999999998,32159.822000000007,38252.826999999997,43545.33,42465.417000000001,48508.337788999997,54713.246297999991,51030.692999999999,48115.128071999992,47696.670640000004,47895.572,5347.5815320000002,"-","-","-","-"]
[null,"Solar fotovoltaica",483.90199999999999,2497.9560000000001,6072.3899999999994,6422.7719999999999,7425.1200000000008,8202.09,8326.9189999999999,8207.5729999999985,8243.0756409999995,7977.5987999999988,8373.8319999999985,434.38106300000004,"-","-","-","-"]
[null,"Solar térmica",7.6269999999999998,15.378,129.82299999999998,691.62,1832.357,3444.1340000000005,4441.527000000001,4958.9149999999991,5085.2350000000006,5071.2040000000006,5347.9489999999996,130.07689999999999,"-","-","-","-"]
[null,"Térmica renovable/Otras renovables",2588.9679999999998,2868.7079999999996,3317.3420000000001,3332.3599999999997,4317.9893630000006,4754.768454,5074.6960730000001,4728.7287219999998,3183.9767660000002,3424.5595199999998,3612.8179999999998,302.69605000000001,"-","-","-","-"]
[null,"Residuos renovables","-","-","-","-","-","-","-","-",818.0485000000001,785.39699999999993,877.00649999999996,76.418031499999998,"-","-","-","-"]
[null,"Generación renovable",57797.627099999998,60477.318600000006,73958.755700000009,95825.856188099991,86379.243680209998,85533.549909298003,109946.09524093999,108042.859111204,93769.871250956014,100936.99550610199,84489.983161035983,8446.2947164999987,"-","-","-","-"]
[]
[null,"Estructura de generación renovable mensual peninsular (%)","1990-01-01","1990-02-01","1990-03-01","1990-04-01","1990-05-01","1990-06-01","1990-07-01","1990-08-01","1990-09-01","1990-10-01","1990-11-01","1990-12-01","1991-01-01","1991-02-01","1991-03-01","1991-04-01","1991-05-01","1991-06-01","1991-07-01","1991-08-01","1991-09-01","1991-10-01","1991-11-01","1991-12-01","1992-01-01","1992-02-01","1992-03-01","1992-04-01","1992-05-01","1992-06-01","1992-07-01","1992-08-01","1992-09-01","1992-10-01","1992-11-01","1992-12-01","1993-01-01","1993-02-01","1993-03-01","1993-04-01","1993-05-01","1993-06-01","1993-07-01","1993-08-01","1993-09-01","1993-10-01","1993-11-01","1993-12-01","1994-01-01","1994-02-01","1994-03-01","1994-04-01","1994-05-01","1994-06-01","1994-07-01","1994-08-01","1994-09-01","1994-10-01","1994-11-01","1994-12-01","1995-01-01","1995-02-01","1995-03-01","1995-04-01","1995-05-01","1995-06-01","1995-07-01","1995-08-01","1995-09-01","1995-10-01","1995-11-01","1995-12-01","1996-01-01","1996-02-01","1996-03-01","1996-04-01","1996-05-01","1996-06-01","1996-07-01","1996-08-01","1996-09-01","1996-10-01","1996-11-01","1996-12-01","1997-01-01","1997-02-01","1997-03-01","1997-04-01","1997-05-01","1997-06-01","1997-07-01","1997-08-01","1997-09-01","1997-10-01","1997-11-01","1997-12-01","1998-01-01","1998-02-01","1998-03-01","1998-04-01","1998-05-01","1998-06-01","1998-07-01","1998-08-01","1998-09-01","1998-10-01","1998-11-01","1998-12-01","1999-01-01","1999-02-01","1999-03-01","1999-04-01","1999-05-01","1999-06-01","1999-07-01","1999-08-01","1999-09-01","1999-10-01","1999-11-01","1999-12-01","2000-01-01","2000-02-01","2000-03-01","2000-04-01","2000-05-01","2000-06-01","2000-07-01","2000-08-01","2000-09-01","2000-10-01","2000-11-01","2000-12-01","2001-01-01","2001-02-01","2001-03-01","2001-04-01","2001-05-01","2001-06-01","2001-07-01","2001-08-01","2001-09-01","2001-10-01","2001-11-01","2001-12-01","2002-01-01","2002-02-01","2002-03-01","2002-04-01","2002-05-01","2002-06-01","2002-07-01","2002-08-01","2002-09-01","2002-10-01","2002-11-01","2002-12-01","2003-01-01","2003-02-01","2003-03-01","2003-04-01","2003-05-01","2003-06-01","2003-07-01","2003-08-01","2003-09-01","2003-10-01","2003-11-01","2003-12-01","2004-01-01","2004-02-01","2004-03-01","2004-04-01","2004-05-01","2004-06-01","2004-07-01","2004-08-01","2004-09-01","2004-10-01","2004-11-01","2004-12-01","2005-01-01","2005-02-01","2005-03-01","2005-04-01","2005-05-01","2005-06-01","2005-07-01","2005-08-01","2005-09-01","2005-10-01","2005-11-01","2005-12-01","2006-01-01","2006-02-01","2006-03-01","2006-04-01","2006-05-01","2006-06-01","2006-07-01","2006-08-01","2006-09-01","2006-10-01","2006-11-01","2006-12-01","2007-01-01","2007-02-01","2007-03-01","2007-04-01","2007-05-01","2007-06-01","2007-07-01","2007-08-01","2007-09-01","2007-10-01","2007-11-01","2007-12-01","2008-01-01","2008-02-01","2008-03-01","2008-04-01","2008-05-01","2008-06-01","2008-07-01","2008-08-01","2008-09-01","2008-10-01","2008-11-01","2008-12-01","2009-01-01","2009-02-01","2009-03-01","2009-04-01","2009-05-01","2009-06-01","2009-07-01","2009-08-01","2009-09-01","2009-10-01","2009-11-01","2009-12-01","2010-01-01","2010-02-01","2010-03-01","2010-04-01","2010-05-01","2010-06-01","2010-07-01","2010-08-01","2010-09-01","2010-10-01","2010-11-01","2010-12-01","2011-01-01","2011-02-01","2011-03-01","2011-04-01","2011-05-01","2011-06-01","2011-07-01","2011-08-01","2011-09-01","2011-10-01","2011-11-01","2011-12-01","2012-01-01","2012-02-01","2012-03-01","2012-04-01","2012-05-01","2012-06-01","2012-07-01","2012-08-01","2012-09-01","2012-10-01","2012-11-01","2012-12-01","2013-01-01","2013-02-01","2013-03-01","2013-04-01","2013-05-01","2013-06-01","2013-07-01","2013-08-01","2013-09-01","2013-10-01","2013-11-01","2013-12-01","2014-01-01","2014-02-01","2014-03-01","2014-04-01","2014-05-01","2014-06-01","2014-07-01","2014-08-01","2014-09-01","2014-10-01","2014-11-01","2014-12-01","2015-01-01","2015-02-01","2015-03-01","2015-04-01","2015-05-01","2015-06-01","2015-07-01","2015-08-01","2015-09-01","2015-10-01","2015-11-01","2015-12-01","2016-01-01","2016-02-01","2016-03-01","2016-04-01","2016-05-01","2016-06-01","2016-07-01","2016-08-01","2016-09-01","2016-10-01","2016-11-01","2016-12-01","2017-01-01","2017-02-01","2017-03-01","2017-04-01","2017-05-01","2017-06-01","2017-07-01","2017-08-01","2017-09-01","2017-10-01","2017-11-01","2017-12-01","2018-01-01","2018-02-01","2018-03-01","2018-04-01","2018-05-01","2018-06-01","2018-07-01","2018-08-01","2018-09-01","2018-10-01","2018-11-01","2018-12-01"]
[null,"Hidráulica",30,31.1,21.3,16.600000000000001,17.399999999999999,16.8,13.8,12,11.1,12.7,16.8,15.2,19.600000000000001,16.600000000000001,32.6,31.1,25.3,19.2,14.4,10.8,9.8000000000000007,13.1,16.3,14.9,9.6999999999999993,6.3,6.4,14,13.3,14.9,13.7,10.6,10.7,15.7,18.8,23.3,16.5,12.7,11.7,10.5,17,19.899999999999999,16,11.4,10.6,23.9,27.9,21.3,28.6,25.7,23.4,20.7,22.7,20.399999999999999,14.4,11.6,10.7,13.3,19.399999999999999,14.5,20.7,22.9,24.7,16.399999999999999,14.4,14.4,12.6,9.1,7.7,8,10,18.3,39.6,40.200000000000003,27.2,32.200000000000003,31.7,23.6,17.600000000000001,13.4,14.8,14,17,30.6,36.6,28.1,20.7,17.7,17,18.2,14.7,13.1,11.9,10.9,24.8,35.200000000000003,39.5,30.2,19.600000000000001,26.2,30.4,25,17.100000000000001,15.1,13,14.3,10.6,8.3000000000000007,8.8000000000000007,9.1999999999999993,13.5,16.3,20.7,17.3,12.5,10.199999999999999,10.3,11.7,17.899999999999999,17.100000000000001,14.4,10.5,9.5,14.7,21.7,14.6,10.5,11.2,11.6,11,14.9,25.8,33.9,34.9,37.799999999999997,29.1,21.1,15.3,11.9,11.6,9.1,10.5,11.5,8.5,6.9,7.1,11,11.3,11.4,11,7.4,6.2,6.1,6.8,11.1,22.5,27.3,23.1,24.7,22.7,20.8,12.5,9.8000000000000007,7.7,9,10.6,17.100000000000001,24.2,18,16.899999999999999,15,15.8,17.5,13.7,9.9,8.9,7.8,8.8000000000000007,11.5,8.5,6.9,7.3,8.4,10.8,11.1,8.6999999999999993,5.9,5.6,4,4.2,6.4,7.3,6.7,5.3,13,14.4,10.3,7,6.3,4.9000000000000004,5.2,7.7,13.9,20.9,9.3000000000000007,13.8,16.899999999999999,13.8,13,10.7,10.5,8.1,6.2,7.5,5.6,4.9000000000000004,5.5,4.0999999999999996,4.5,11.9,15.4,14.2,8.9,6.8,5.9,4.9000000000000004,6.8,10.199999999999999,9,16,13.1,11,12.7,9.9,7.4,6.5,4.5999999999999996,5.8,9.1999999999999993,13.6,20.9,17.7,24.3,22.5,18.2,16.5,11.9,9.1,7,7.2,11.4,16.399999999999999,20.7,13.6,16.100000000000001,17.100000000000001,13.5,9.6999999999999993,7.3,7,5.6,5.9,10,9.6,6.8,4.9000000000000004,5.8,8.1999999999999993,11.8,9.6999999999999993,7.4,5.9,4.8,6.4,9.1999999999999993,11.5,12.7,16.3,20.3,25.8,18.899999999999999,16,11.8,10,8.8000000000000007,8.9,12.8,10.7,18.5,26.7,24.3,24.7,13.9,12.2,10.7,9.8000000000000007,8.6,8,12.1,14.8,10.9,16,17.3,13.5,14.6,12,8.6,7.6,8,8.3000000000000007,9.5,7,15.9,19.2,19.8,25.3,26,15.1,10.5,9.8000000000000007,8.3000000000000007,7.9,7.2,8.9,8.5,9.8000000000000007,13.4,9.4,10.1,7.8,5.6,5.3,6.2,4.0999999999999996,3.9,5.4,9.9,"-","-","-","-","-","-","-","-","-","-","-"]
[null,"Eólica",0,0,0,0,0,0,0,0,0,0,0,0,0,0,0,0,0,0,0,0,0,0,0,0,0,0,0,0,0,0,0,0,0,0,0,0.1,0.1,0.1,0.1,0.1,0,0.1,0.1,0.1,0,0.1,0.1,0,0.1,0,0.1,0.1,0,0.1,0,0,0,0.1,0.1,0,0.1,0.1,0.1,0.1,0.1,0.1,0.1,0.1,0.1,0.2,0.1,0.1,0.1,0.2,0.2,0.2,0.2,0.2,0.2,0.1,0.2,0.2,0.2,0.3,0.3,0.3,0.3,0.4,0.3,0.3,0.4,0.3,0.3,0.5,0.5,0.5,0.6,0.5,0.7,0.7,0.6,0.5,0.7,0.9,0.7,0.7,0.9,0.9,1,1.4,1.4,1.4,1.2,1.4,1.1000000000000001,1,1.1000000000000001,1.3,2,1.9,1.7,1.9,2.1,2.7,1.5,2.2999999999999998,2.2000000000000002,2,1.7,2.6,3.2,3.5,3.2,3.4,3.7,4.3,2.6,2.4,2.2999999999999998,2.2000000000000002,3.7,3.4,4.3,2.9,3.4,4.5999999999999996,4.5999999999999996,3.7,4.7,3.6,3.7,3.5,2.9,4.9000000000000004,5.9,6.4,6.7,5.2,4.5,6.6,5,3.7,3.6,2.9,4.2,5.7,6.1,6.9,8,5.4,6.1,7.9,5.3,5.2,4.5999999999999996,5.6,5.8,8.1999999999999993,7.3,8.1999999999999993,8.3000000000000007,8.3000000000000007,8.1999999999999993,9.9,7.6,6,7.3,8.1,6.2,9.3000000000000007,9,10.199999999999999,6.4,8.6,12,10.3,8.1,6.4,4.9000000000000004,10.4,6.8,11,10.6,9.3000000000000007,8.8000000000000007,13.2,13.3,6.5,12,8.1999999999999993,8,11.1,9.1999999999999993,8.4,11.5,9.6,10.5,8.5,17.100000000000001,14.6,7.9,9.3000000000000007,8.6999999999999993,8.6999999999999993,9.6,11,14.8,14.9,13.9,14.8,14.5,15.3,13.3,10.8,10.3,10.1,11.5,14.5,21.8,20.8,17.3,20.100000000000001,19,12.6,17,12,11.5,12.9,10.5,17.899999999999999,19,19.100000000000001,16.3,18.3,19.7,16.5,15.3,13.8,14.4,12.4,10.7,15,17.8,20.2,15.1,20.2,16.8,24.9,17.2,15.8,13.2,13.9,18.399999999999999,14.5,21.4,23.6,26.5,24.4,25.2,21.1,19.5,19.100000000000001,12.3,15.9,15.4,19,29.5,21.6,28.5,27.3,23.2,19.7,20.399999999999999,16.100000000000001,16.3,13.7,10.199999999999999,16.5,25.1,21.4,20.9,26.8,22,19.899999999999999,23.8,13.9,12.7,15,14.9,19.7,18.600000000000001,17.100000000000001,25.9,29.3,24.6,21.3,20,16.5,16,17.399999999999999,13.4,11.5,18.8,12.8,19.8,24.5,23.3,23,18,15.1,15.6,16.2,14.8,15.7,18.3,24.8,24.3,"-","-","-","-","-","-","-","-","-","-","-"]
[null,"Solar fotovoltaica",0,0,0,0,0,0,0,0,0,0,0,0,0,0,0,0,0,0,0,0,0,0,0,0,0,0,0,0,0,0,0,0,0,0,0,0,0,0,0,0,0,0,0,0,0,0,0,0,0,0,0,0,0,0,0,0,0,0,0,0,0,0,0,0,0,0,0,0,0,0,0,0,0,0,0,0,0,0,0,0,0,0,0,0,0,0,0,0,0,0,0,0,0,0,0,0,0,0,0,0,0,0,0,0,0,0,0,0,0,0,0,0,0,0,0,0,0,0,0,0,0,0,0,0,0,0,0,0,0,0,0,0,0,0,0,0,0,0,0,0,0,0,0,0,0,0,0,0,0,0,0,0,0,0,0,0,0,0,0,0,0,0,0,0,0,0,0,0,0,0,0,0,0,0,0,0,0,0,0,0,0,0,0,0,0,0,0,0,0,0,0,0,0,0,0,0,0,0,0,0.1,0.1,0,0,0,0,0.1,0.1,0.1,0.2,0.2,0.2,0.2,0.3,0.2,0.2,0.2,0.2,0.3,0.4,0.5,0.6,0.8,1,1.3,1.4,1.4,1.4,1,1,1.7,2.4,2.7,3.2,2.9,2.9,2.9,2.2999999999999998,2.2000000000000002,1.6,1,1,1.3,1.9,2.7,3.2,3.1,3.1,3.1,2.8,2.4,1.6,1.2,1.4,2.2000000000000002,2.1,3.1,3.5,3.6,3.6,3.5,3.2,2.9,1.6,1.8,2,2.6,3.3,2.9,3.8,3.9,4,3.7,3.1,2.6,1.6,1.6,1.8,2.2999999999999998,2.2999999999999998,3.5,4.0999999999999996,4.4000000000000004,4,4,3.5,2.9,2.2000000000000002,1.8,1.5,1.9,3.2,3.8,4.4000000000000004,4.2,4.0999999999999996,4.2,3.1,3,1.8,1.9,2.1,2.1,3.1,3.7,4.4000000000000004,4.0999999999999996,3.7,3.7,3.4,2.6,2.5,1.8,1.6,2.2000000000000002,3.1,3.3,3.9,4.5,4.0999999999999996,4.0999999999999996,3.7,2.7,1.9,1.7,1.9,2.1,3.4,4.4000000000000004,4.4000000000000004,4,4.0999999999999996,3.8,3.9,3.2,2.4,1.8,1.9,"-","-","-","-","-","-","-","-","-","-","-"]
[null,"Solar térmica","-","-","-","-","-","-","-","-","-","-","-","-","-","-","-","-","-","-","-","-","-","-","-","-","-","-","-","-","-","-","-","-","-","-","-","-","-","-","-","-","-","-","-","-","-","-","-","-","-","-","-","-","-","-","-","-","-","-","-","-","-","-","-","-","-","-","-","-","-","-","-","-","-","-","-","-","-","-","-","-","-","-","-","-","-","-","-","-","-","-","-","-","-","-","-","-","-","-","-","-","-","-","-","-","-","-","-","-","-","-","-","-","-","-","-","-","-","-","-","-","-","-","-","-","-","-","-","-","-","-","-","-","-","-","-","-","-","-","-","-","-","-","-","-","-","-","-","-","-","-","-","-","-","-","-","-","-","-","-","-","-","-","-","-","-","-","-","-","-","-","-","-","-","-","-","-","-","-","-","-","-","-","-","-","-","-","-","-","-","-","-","-",0,0,0,0,0,0,0,0,0,0,0,0,0,0,0,0,0,0,0,0,0,0,0,0,0,0,0,0,0,0,0,0,0,0,0,0,0,0,0,0,0,0,0.1,0.1,0.1,0.1,0.1,0,0.1,0.1,0.1,0.2,0.3,0.3,0.4,0.5,0.5,0.3,0.1,0.1,0.1,0.4,0.4,0.7,0.7,1.1000000000000001,1.3,1.1000000000000001,1.1000000000000001,0.8,0.4,0.4,0.5,0.8,1,0.8,1.6,1.9,2.4,2.2000000000000002,1.7,1.3,0.6,0.6,0.5,0.9,0.6,1.4,2.5,3.2,3.3,3.1,2.2999999999999998,1.4,0.9,0.7,0.3,0.5,1.8,2.2000000000000002,3.6,3.4,3.7,4,1.9,1.4,0.4,0.6,0.8,0.9,1.9,2,3.5,3.6,3.7,2.8,2.4,1,1.1000000000000001,0.4,0.3,0.6,1.8,2,2.6,4.2,3.8,3.9,3,1.4,0.7,0.6,0.6,0.4,1.7,2.9,3.2,3.6,3.8,3.4,3.2,2,1,0.6,0.6,"-","-","-","-","-","-","-","-","-","-","-"]
[null,"Térmica renovable/Otras renovables","-","-","-","-","-","-","-","-","-","-","-","-","-","-","-","-","-","-","-","-","-",0,0,0,0,0,0,0,0,0,0,0,0,0,0,0,0,0,0,0,0,0,0,0,0,0.1,0.1,0,0,0,0.1,0.1,0.2,0.1,0.2,0.3,0.3,0.3,0.5,0.5,0.4,0.5,0.5,0.5,0.5,0.3,0.4,0.5,0.5,0.5,0.4,0.5,0.4,0.4,0.5,0.6,0.5,0.6,0.6,0.6,0.6,0.5,0.4,0.4,0.4,0.4,0.4,0.4,0.4,0.3,0.4,0.4,0.4,0.4,0.4,0.4,0.2,0.4,0.4,0.5,0.5,0.5,0.5,0.5,0.4,0.5,0.5,0.4,0.4,0.5,0.5,0.5,0.5,0.4,0.5,0.5,0.6,0.6,0.5,0.4,0.4,0.5,0.5,0.5,0.4,0.4,0.5,0.5,0.5,0.6,0.6,0.6,0.6,0.6,0.7,0.7,0.7,1,0.9,0.9,1.1000000000000001,1.1000000000000001,1,1,0.5,0.6,0.7,0.7,0.7,0.6,0.7,0.8,0.7,0.7,0.7,0.8,0.6,0.7,0.8,0.8,0.8,0.7,0.7,0.8,0.8,0.9,0.8,0.8,0.8,0.7,0.8,0.8,0.8,0.7,0.7,0.7,0.8,0.8,0.7,0.7,0.8,0.7,0.8,0.8,0.9,0.8,0.8,0.9,0.8,0.8,0.8,0.7,0.7,0.7,0.8,0.9,0.9,0.9,0.8,0.9,0.8,0.9,0.8,0.8,0.8,0.8,0.8,0.9,0.9,0.9,0.9,0.9,0.9,1,0.9,0.9,0.9,0.9,0.9,1,1,1,0.9,1,1,1,1,0.9,1,1.1000000000000001,1.2,1.4,1.2,1.1000000000000001,1,1.1000000000000001,1.2,1.5,1.1000000000000001,1.1000000000000001,1,1,1,1.2,1.3,1.3,1.1000000000000001,1.2,1.2,1.3,1.2,1.2,1.4,1.5,1.5,1.7,1.6,1.6,1.6,1.6,1.7,1.8,1.7,1.7,1.6,1.5,1.8,1.7,1.7,1.9,1.9,1.8,1.7,1.9,1.9,1.9,1.8,1.9,2,2,2.2000000000000002,2,1.9,1.9,1.9,1.9,1.9,1.9,1.8,1.5,1.7,1.7,2,2,1.9,2.1,2,1.9,1.8,1.8,1,0.9,1.1000000000000001,0.9,1.1000000000000001,1.3,1.2,1.4,1.5,1.6,1.5,1.4,1.2,1.3,1.2,1,1.4,1.5,1.4,1.6,1.5,1.5,1.5,1.5,1.3,1.4,1.3,1.3,1.6,1.4,1.6,1.6,1.6,1.5,1.4,1.3,1.4,"-","-","-","-","-","-","-","-","-","-","-"]
[null,"Residuos renovables","-","-","-","-","-","-","-","-","-","-","-","-","-","-","-","-","-","-","-","-","-","-","-","-","-","-","-","-","-","-","-","-","-","-","-","-","-","-","-","-","-","-","-","-","-","-","-","-","-","-","-","-","-","-","-","-","-","-","-","-","-","-","-","-","-","-","-","-","-","-","-","-","-","-","-","-","-","-","-","-","-","-","-","-","-","-","-","-","-","-","-","-","-","-","-","-","-","-","-","-","-","-","-","-","-","-","-","-","-","-","-","-","-","-","-","-","-","-","-","-","-","-","-","-","-","-","-","-","-","-","-","-","-","-","-","-","-","-","-","-","-","-","-","-","-","-","-","-","-","-","-","-","-","-","-","-","-","-","-","-","-","-","-","-","-","-","-","-","-","-","-","-","-","-","-","-","-","-","-","-","-","-","-","-","-","-","-","-","-","-","-","-","-","-","-","-","-","-","-","-","-","-","-","-","-","-","-","-","-","-","-","-","-","-","-","-","-","-","-","-","-","-","-","-","-","-","-","-","-","-","-","-","-","-","-","-","-","-","-","-","-","-","-","-","-","-","-","-","-","-","-","-","-","-","-","-","-","-","-","-","-","-","-","-","-","-","-","-","-","-","-","-","-","-","-","-","-","-","-","-","-","-","-","-","-","-","-","-","-","-","-","-","-","-","-","-","-","-","-","-",0.2,0.2,0.3,0.2,0.2,0.3,0.2,0.3,0.3,0.3,0.3,0.3,0.3,0.2,0.3,0.1,0.1,0.3,0.3,0.3,0.3,0.3,0.3,0.3,0.3,0.3,0.3,0.3,0.2,0.3,0.3,0.3,0.3,0.3,0.3,0.3,0.3,"-","-","-","-","-","-","-","-","-","-","-"]
[null,"Generación renovable",30,31.1,21.3,16.600000000000001,17.399999999999999,16.8,13.8,12,11.1,12.7,16.8,15.2,19.600000000000001,16.600000000000001,32.6,31.1,25.3,19.2,14.4,10.8,9.8000000000000007,13.1,16.3,14.9,9.6999999999999993,6.3,6.4,14,13.3,14.9,13.7,10.6,10.7,15.7,18.8,23.400000000000002,16.600000000000001,12.799999999999999,11.799999999999999,10.6,17,20,16.100000000000001,11.5,10.6,24.1,28.1,21.3,28.700000000000003,25.7,23.6,20.900000000000002,22.9,20.6,14.6,11.9,11,13.700000000000001,20,15,21.2,23.5,25.3,17,15,14.8,13.1,9.6999999999999993,8.3000000000000007,8.6999999999999993,10.5,18.900000000000002,40.1,40.800000000000004,27.9,33.000000000000007,32.4,24.400000000000002,18.400000000000002,14.1,15.6,14.7,17.599999999999998,31.3,37.299999999999997,28.8,21.4,18.499999999999996,17.7,18.8,15.5,13.8,12.600000000000001,11.8,25.7,36.1,40.300000000000004,31.099999999999998,20.7,27.4,31.5,26,18.3,16.5,14.1,15.5,12,9.6000000000000014,10.200000000000001,11.1,15.4,18.2,22.4,19.099999999999998,14.1,11.7,12,13.6,20.399999999999999,19.399999999999999,16.5,12.9,12.1,17.899999999999999,23.599999999999998,17.299999999999997,13.2,13.7,13.799999999999999,14.2,18.700000000000003,29.900000000000002,37.700000000000003,38.9,42.2,34.1,24.400000000000002,18.7,15.1,14.700000000000001,13.9,15,16.8,12.4,10.8,12.299999999999999,16.3,15.7,16.8,15.2,11.8,10.5,9.6999999999999993,12.399999999999999,17.7,29.7,34.6,29,30,30.099999999999998,26.6,16.899999999999999,14.1,11.4,14,17.2,24.000000000000004,31.900000000000002,26.8,22.999999999999996,21.900000000000002,24.500000000000004,23.6,19.599999999999998,15.2,15.2,14.4,17.8,19.5,17.399999999999999,16,16.3,17.400000000000002,21.500000000000004,19.599999999999998,15.5,14,14.6,11,14.3,16.2,18.2,13.8,14.599999999999998,25.8,25.6,19.299999999999997,14.3,12,16.3,12.9,19.599999999999998,25.3,31,18.900000000000002,27.900000000000002,31.1,21.3,26.099999999999998,19.999999999999996,19.599999999999998,20.299999999999997,16.599999999999998,17.100000000000001,18.2,15.6,17.099999999999998,13.8,22.9,28,24.900000000000002,25.3,19.5,17.8,17.899999999999999,18.3,24,27,24.9,33.6,31.2,30.4,30.4,24.700000000000003,21.700000000000003,20.700000000000003,19.700000000000003,24.1,33.800000000000004,36.5,40.300000000000004,40.199999999999996,46.3,39.20000000000001,40,33.200000000000003,28,26.8,22,29.099999999999998,33.300000000000004,38.000000000000007,39.9,36,39.799999999999997,39.100000000000009,34.6,29.800000000000004,28.200000000000003,25.6,22.299999999999997,26.4,31.5,33.699999999999996,26,30.000000000000004,28.700000000000003,38.499999999999993,36.1,33.199999999999996,28.9,27.5,29.7,26.7,34.699999999999996,39.200000000000003,43.3,45.8,50.4,53.800000000000004,47.2,44.7,33.300000000000004,34.9,31.900000000000002,34.099999999999994,47.3,36.699999999999996,50.599999999999994,57.9,54.2,52.1,44.3,37.9,36.700000000000003,33.799999999999997,25.799999999999997,30.799999999999997,41.199999999999996,40.5,35.9,46.9,45.699999999999996,40.200000000000003,47.6,35.199999999999996,30.099999999999994,30.8,30.499999999999996,33.5,33.5,28,45.199999999999996,52.800000000000004,50.800000000000004,53,54,42.1,36.099999999999994,37.099999999999994,30.200000000000003,25.299999999999997,30.4,25.800000000000004,32.4,38.499999999999993,43.4,41.29999999999999,37.500000000000007,32.199999999999996,31,30.6,30,26.799999999999997,27.299999999999997,34.199999999999996,38.4,"-","-","-","-","-","-","-","-","-","-","-"]
[]
[null,"Estructura de generación renovable mensual Islas Baleares (%)","2006-01-01","2006-02-01","2006-03-01","2006-04-01","2006-05-01","2006-06-01","2006-07-01","2006-08-01","2006-09-01","2006-10-01","2006-11-01","2006-12-01","2007-01-01","2007-02-01","2007-03-01","2007-04-01","2007-05-01","2007-06-01","2007-07-01","2007-08-01","2007-09-01","2007-10-01","2007-11-01","2007-12-01","2008-01-01","2008-02-01","2008-03-01","2008-04-01","2008-05-01","2008-06-01","2008-07-01","2008-08-01","2008-09-01","2008-10-01","2008-11-01","2008-12-01","2009-01-01","2009-02-01","2009-03-01","2009-04-01","2009-05-01","2009-06-01","2009-07-01","2009-08-01","2009-09-01","2009-10-01","2009-11-01","2009-12-01","2010-01-01","2010-02-01","2010-03-01","2010-04-01","2010-05-01","2010-06-01","2010-07-01","2010-08-01","2010-09-01","2010-10-01","2010-11-01","2010-12-01","2011-01-01","2011-02-01","2011-03-01","2011-04-01","2011-05-01","2011-06-01","2011-07-01","2011-08-01","2011-09-01","2011-10-01","2011-11-01","2011-12-01","2012-01-01","2012-02-01","2012-03-01","2012-04-01","2012-05-01","2012-06-01","2012-07-01","2012-08-01","2012-09-01","2012-10-01","2012-11-01","2012-12-01","2013-01-01","2013-02-01","2013-03-01","2013-04-01","2013-05-01","2013-06-01","2013-07-01","2013-08-01","2013-09-01","2013-10-01","2013-11-01","2013-12-01","2014-01-01","2014-02-01","2014-03-01","2014-04-01","2014-05-01","2014-06-01","2014-07-01","2014-08-01","2014-09-01","2014-10-01","2014-11-01","2014-12-01","2015-01-01","2015-02-01","2015-03-01","2015-04-01","2015-05-01","2015-06-01","2015-07-01","2015-08-01","2015-09-01","2015-10-01","2015-11-01","2015-12-01","2016-01-01","2016-02-01","2016-03-01","2016-04-01","2016-05-01","2016-06-01","2016-07-01","2016-08-01","2016-09-01","2016-10-01","2016-11-01","2016-12-01","2017-01-01","2017-02-01","2017-03-01","2017-04-01","2017-05-01","2017-06-01","2017-07-01","2017-08-01","2017-09-01","2017-10-01","2017-11-01","2017-12-01","2018-01-01","2018-02-01","2018-03-01","2018-04-01","2018-05-01","2018-06-01","2018-07-01","2018-08-01","2018-09-01","2018-10-01","2018-11-01","2018-12-01"]
[null,"Eólica",0.1,0.1,0.1,0.1,0.1,0.1,0,0.1,0.1,0.1,0.1,0.1,0.1,0.1,0.1,0.1,0.1,0.1,0.1,0.1,0.1,0.1,0.2,0.2,0.1,0.1,0.1,0.2,0,0.1,0,0.1,0.1,0.1,0.1,0.1,0.1,0.2,0.1,0.1,0.1,0.1,0,0,0.1,0.1,0.1,0.2,0.1,0.2,0.1,0.1,0.1,0.1,0.1,0.1,0.1,0.1,0.1,0.1,0.1,0.1,0.1,0.1,0.1,0.1,0.1,0.1,0,0.1,0.1,0.1,0.1,0.2,0.1,0.2,0.1,0.1,0.1,0,0.2,0.1,0.2,0.2,0.2,0.2,0.2,0.2,0.1,0.1,0,0.1,0.1,0.1,0.3,0.1,0.2,0.2,0.2,0.1,0.1,0.1,0.1,0.1,0.1,0.1,0.2,0.2,0.2,0.2,0.2,0.1,0.2,0.1,0.1,0,0.1,0.2,0.1,0,0.2,0.2,0.2,0.2,0.1,0.1,0.1,0.1,0,0.1,0.1,0.1,0.1,0.1,0.1,0.1,0,0,0,0,0,0.1,0.1,0.1,0.1,"-","-","-","-","-","-","-","-","-","-","-"]
[null,"Solar fotovoltaica",0,0,0,0,0,0,0,0,0,0,0,0,0,0,0,0,0,0,0,0,0,0,0,0,0,0,0.1,0.2,0.2,0.3,0.4,0.7,0.9,0.9,0.8,0.8,0.7,1.1000000000000001,1.6,1.6,1.9,1.7,1.4,1.3,1.3,1.4,1.3,0.8,0.8,1.1000000000000001,1.5,2,2.1,1.9,1.7,1.6,1.6,1.5,1.4,1,1.1000000000000001,1.5,1.8,2.5,2.4,2.1,1.7,1.8,1.7,1.9,1.3,1.3,1.4,1.5,2.5,2.8,2.9,2.2999999999999998,2.2000000000000002,2,2.5,2.5,2,2,2.2000000000000002,2.2000000000000002,3.4,3.6,3.5,3.8,3,2.7,2.7,2.5,1.8,1.7,1.8,2.8,3.4,4.0999999999999996,3.6,3.5,3,2.7,2.4,2.9,2.4,1.7,2,2.2000000000000002,3,4.0999999999999996,3.5,3.4,2.7,2.5,2.4,2.6,2.7,2,2.2000000000000002,2.4,3.2,3.4,3.4,3.2,2.8,2.7,2.2000000000000002,2.2000000000000002,2,1.7,1.5,2.2000000000000002,3.7,3.5,3.3,2.9,2.5,2.2999999999999998,2.4,2.5,2.2000000000000002,1.5,1.9,"-","-","-","-","-","-","-","-","-","-","-"]
[null,"Térmica renovable/Otras renovables","-","-","-","-","-","-","-","-","-","-","-","-","-","-","-","-","-","-","-","-","-","-","-","-","-","-","-","-","-","-","-","-","-","-","-","-","-","-","-","-","-","-","-","-","-","-","-","-","-","-","-","-","-","-","-","-","-","-","-","-","-","-","-","-","-","-","-","-","-","-","-","-",0,0,0,0,0,0,0,0,0,0,0,0,0,0,0,0,0,0,0,0,0,0,0,0,0,0.1,0.1,0.1,0.1,0,0,0,0,0,0.1,0.1,0.1,0.1,0,0.1,0,0,0,0,0,0,0,0.1,0.1,0.1,0.1,0,0,0,0,0,0,0,0,0,0,0.1,0,0.1,0.1,0,0,0,0,0,0,0,0,"-","-","-","-","-","-","-","-","-","-","-"]
[null,"Residuos renovables","-","-","-","-","-","-","-","-","-","-","-","-","-","-","-","-","-","-","-","-","-","-","-","-","-","-","-","-","-","-","-","-","-","-","-","-","-","-","-","-","-","-","-","-","-","-","-","-","-","-","-","-","-","-","-","-","-","-","-","-","-","-","-","-","-","-","-","-","-","-","-","-","-","-","-","-","-","-","-","-","-","-","-","-","-","-","-","-","-","-","-","-","-","-","-","-","-","-","-","-","-","-","-","-","-","-","-","-",2.7,2.2000000000000002,3.4,4.4000000000000004,3.8,3.4,2.5,2.6,3.6,4.2,4.8,3.9,2.7,1.6,2.6,3.7,4,3.3,2.2999999999999998,2.5,2.7,3.5,2.8,2.7,2,2.2000000000000002,3.2,4.0999999999999996,2.7,3,2.7,2.6,3.6,3.7,3.4,2.7,2.2000000000000002,"-","-","-","-","-","-","-","-","-","-","-"]
[null,"Generación renovable",0.1,0.1,0.1,0.1,0.1,0.1,0,0.1,0.1,0.1,0.1,0.1,0.1,0.1,0.1,0.1,0.1,0.1,0.1,0.1,0.1,0.1,0.2,0.2,0.1,0.1,0.2,0.4,0.2,0.4,0.4,0.79999999999999993,1,1,0.9,0.9,0.79999999999999993,1.3,1.7000000000000002,1.7000000000000002,2,1.8,1.4,1.3,1.4000000000000001,1.5,1.4000000000000001,1,0.9,1.3,1.6,2.1,2.2000000000000002,2,1.8,1.7000000000000002,1.7000000000000002,1.6,1.5,1.1000000000000001,1.2000000000000002,1.6,1.9000000000000001,2.6,2.5,2.2000000000000002,1.8,1.9000000000000001,1.7,2,1.4000000000000001,1.4000000000000001,1.5,1.7,2.6,3,3,2.4,2.3000000000000003,2,2.7,2.6,2.2000000000000002,2.2000000000000002,2.4000000000000004,2.4000000000000004,3.6,3.8000000000000003,3.6,3.9,3,2.8000000000000003,2.8000000000000003,2.6,2.1,1.8,2,3.1,3.7,4.2999999999999989,3.8000000000000003,3.6,3.1,2.8000000000000003,2.5,3,2.7,2,5,4.7000000000000011,6.6,8.6999999999999993,7.5,6.9,5.3000000000000007,5.0999999999999996,6.1,7,7.6,6,5.2000000000000011,4.3000000000000007,6.1000000000000005,7.3000000000000007,7.5,6.6,5.1999999999999993,5.3000000000000007,4.9000000000000004,5.8000000000000007,4.9000000000000004,4.5,3.6,4.6000000000000005,7,7.8,6.1,5.9,5.2,4.9000000000000004,6,6.3000000000000007,5.7,4.3000000000000007,4.2,"-","-","-","-","-","-","-","-","-","-","-"]
[]
[null,"Estructura de generación renovable mensual Islas Canarias (%)","2006-01-01","2006-02-01","2006-03-01","2006-04-01","2006-05-01","2006-06-01","2006-07-01","2006-08-01","2006-09-01","2006-10-01","2006-11-01","2006-12-01","2007-01-01","2007-02-01","2007-03-01","2007-04-01","2007-05-01","2007-06-01","2007-07-01","2007-08-01","2007-09-01","2007-10-01","2007-11-01","2007-12-01","2008-01-01","2008-02-01","2008-03-01","2008-04-01","2008-05-01","2008-06-01","2008-07-01","2008-08-01","2008-09-01","2008-10-01","2008-11-01","2008-12-01","2009-01-01","2009-02-01","2009-03-01","2009-04-01","2009-05-01","2009-06-01","2009-07-01","2009-08-01","2009-09-01","2009-10-01","2009-11-01","2009-12-01","2010-01-01","2010-02-01","2010-03-01","2010-04-01","2010-05-01","2010-06-01","2010-07-01","2010-08-01","2010-09-01","2010-10-01","2010-11-01","2010-12-01","2011-01-01","2011-02-01","2011-03-01","2011-04-01","2011-05-01","2011-06-01","2011-07-01","2011-08-01","2011-09-01","2011-10-01","2011-11-01","2011-12-01","2012-01-01","2012-02-01","2012-03-01","2012-04-01","2012-05-01","2012-06-01","2012-07-01","2012-08-01","2012-09-01","2012-10-01","2012-11-01","2012-12-01","2013-01-01","2013-02-01","2013-03-01","2013-04-01","2013-05-01","2013-06-01","2013-07-01","2013-08-01","2013-09-01","2013-10-01","2013-11-01","2013-12-01","2014-01-01","2014-02-01","2014-03-01","2014-04-01","2014-05-01","2014-06-01","2014-07-01","2014-08-01","2014-09-01","2014-10-01","2014-11-01","2014-12-01","2015-01-01","2015-02-01","2015-03-01","2015-04-01","2015-05-01","2015-06-01","2015-07-01","2015-08-01","2015-09-01","2015-10-01","2015-11-01","2015-12-01","2016-01-01","2016-02-01","2016-03-01","2016-04-01","2016-05-01","2016-06-01","2016-07-01","2016-08-01","2016-09-01","2016-10-01","2016-11-01","2016-12-01","2017-01-01","2017-02-01","2017-03-01","2017-04-01","2017-05-01","2017-06-01","2017-07-01","2017-08-01","2017-09-01","2017-10-01","2017-11-01","2017-12-01","2018-01-01","2018-02-01","2018-03-01","2018-04-01","2018-05-01","2018-06-01","2018-07-01","2018-08-01","2018-09-01","2018-10-01","2018-11-01","2018-12-01"]
[null,"Hidráulica","-","-","-","-","-","-","-","-","-","-","-","-","-","-","-","-","-","-",0,0,0,0,0,0,0,0,0,"-",0,0,0,0,"-","-","-","-",0,0,0,0,"-","-","-","-","-","-","-","-","-","-","-","-","-","-","-","-","-","-","-","-","-","-",0,0,0,0,0,0,0,0,0,0,0,0,0,0,0,0,0,0,0,0,0,0,0,0,0,0,0,0,0,0,0,0,0,0,0,0,0,0,0,0,0,0,0,0,0,0,0,0,0,0,0,0,0,0,0,0,0,0,0,0,0,0,0,0,0,0,0,0,0,0,0,0,0,0,0,0,0,0,0,0,0,0,"-","-","-","-","-","-","-","-","-","-","-","-"]
[null,"Hidroeólica",0,0,0,0,0,0,0,0,0,0,0,0,0,0,0,0,0,0,0,0,0,0,0,0,0,0,0,0,0,0,0,0,0,0,0,0,0,0,0,0,0,0,0,0,0,0,0,0,0,0,0,0,0,0,0,0,0,0,0,0,0,0,0,0,0,0,0,0,0,0,0,0,0,0,0,0,0,0,0,0,0,0,0,0,0,0,0,0,0,0,0,0,0,0,0,0,0,0,0,0,0,0,0,0,0,0,0,0,0.1,0.1,0,0,0,0.1,0.3,0.3,0.1,0.1,0.1,0.1,0.1,0.3,0.2,0.2,0.1,0.3,0.3,0.3,0.3,0.1,0.1,0.1,0.1,0.2,0.3,0.1,0.2,0.3,0.4,0.3,0.3,0.1,0.1,0.2,0.3,"-","-","-","-","-","-","-","-","-","-","-"]
[null,"Eólica",2.4,2.9,3.1,4.0999999999999996,4.9000000000000004,3.6,7.4,4.9000000000000004,2.9,2.5,2.1,3.4,2.2999999999999998,3.3,4.8,3.6,4.5999999999999996,4.3,7.2,6,3.4,2.4,2.1,2.4,1.6,2.2000000000000002,5.0999999999999996,4.7,4.0999999999999996,5.3,7.5,7.5,2.2000000000000002,4.3,2.9,3.2,3.1,2.5,3.2,6.5,4.4000000000000004,2.8,6.9,7.1,3,1.6,3.3,2.7,1.6,2.2000000000000002,3.1,4.5,5,5.4,6.3,5.4,4.7,1.8,2.4,2.2000000000000002,1.5,3.6,3.1,3.4,2.7,5.2,7.3,6.7,4.0999999999999996,3.3,2.1,4.5,2.5,4.8,4.5,4.3,3.7,6.1,7.5,6.9,1.7,2.2000000000000002,2.2999999999999998,2.1,3.4,4.3,1.9,4,5.4,7.1,5.5,5.5,3.4,3.2,3.9,3.1,4.0999999999999996,5,6.5,4.0999999999999996,6.1,5.0999999999999996,6.2,7.9,1.7,2.1,2.9,3.3,5.7,6.6,5.8,4.3,5.7,4.4000000000000004,7.8,6.5,2.2999999999999998,1.4,3.4,1.2,2.6,6,4.7,3.8,4.3,6.2,7.4,6.1,6.2,1.7,2.4,2.1,2,3.4,4.9000000000000004,2.6,3.5,5.5,6.5,5.9,7.2,2.7,3.2,5.3,8,"-","-","-","-","-","-","-","-","-","-","-"]
[null,"Solar fotovoltaica",0,0,0,0,0,0,0,0.1,0.1,0.1,0.1,0.1,0.1,0.1,0.2,0.2,0.2,0.2,0.3,0.3,0.3,0.2,0.2,0.2,0.3,0.4,0.5,0.5,0.6,0.7,0.7,0.7,0.8,1.2,1,0.9,1.1000000000000001,1.6,1.7,2.2999999999999998,2.2000000000000002,2.2000000000000002,2.2000000000000002,2.2000000000000002,1.6,1.7,1.5,1.2,1.4,1.5,2.2000000000000002,2.2999999999999998,2.7,2.7,3,2.8,2.2999999999999998,2.1,1.7,1.7,2,2.5,2.7,2.8,2.9,3.2,3.1,3.2,2.7,2.2999999999999998,2,2,2.1,2.5,3.1,3,3.5,3.4,3.4,3.3,3,2.5,2.2000000000000002,2.5,2.8,2.9,3.3,3.9,3.9,4.5,4.0999999999999996,3.5,3.3,3,2.5,2.2000000000000002,2.6,3.1,3.8,3.8,4.2,4,3.8,4,2.9,2.7,2.4,2.2999999999999998,2.5,2.7,3.6,3.7,4.2,4,4,3.4,2.8,2.4,2.6,2.5,2.7,2.9,3.3,3.5,3.6,4.0999999999999996,3.8,3.5,3.4,2.6,2.2999999999999998,2.1,2.4,2.8,3.4,3.6,3.4,3.8,3.8,3.3,3,2.5,2.2000000000000002,2.2999999999999998,2.4,"-","-","-","-","-","-","-","-","-","-","-"]
[null,"Térmica renovable/Otras renovables",1.2,1.7,2.9,3,2.7,2.9,2.8,2.5,1.7,2.8,2.4,3,2.7,2.9,0.7,2.4,2.1,2.1,2.4,2.6,2.5,2.2999999999999998,2.2999999999999998,2.9,2.8,2.7,2.6,2.6,2.8,2,0,2.6,1.8,2.2000000000000002,3,2.9,3,3.2,1.6,3.5,3.2,3.3,3,3,3.1,2.8,3.1,3.2,3.2,2.8,2.2000000000000002,3.4,3.5,2.7,1.3,0.8,0.7,0.7,0.5,0.3,0.4,0.9,0.8,0.8,1,0.2,0.1,0.1,0.1,0.1,0.1,0.1,0.1,0.1,0.1,0.1,0.1,0.1,0.1,0.1,0.1,0.1,0.1,0.1,0.1,0.1,0.1,0.1,0.1,0.1,0.1,0.1,0.1,0.1,0.1,0.1,0.1,0.1,0.1,0.1,0.1,0.1,0.1,0.1,0.1,0.1,0.1,0.1,0.1,0.1,0.1,0.1,0.1,0.1,0.1,0.1,0.1,0.1,0.1,0.1,0.1,0.1,0.1,0.1,0.1,0.1,0.1,0.1,0.1,0.1,0.1,0.1,0.1,0.1,0.1,0.1,0.1,0.1,0.1,0.1,0.1,0.1,0.1,0.1,"-","-","-","-","-","-","-","-","-","-","-","-"]
[null,"Generación renovable",3.5999999999999996,4.5999999999999996,6,7.1,7.6000000000000005,6.5,10.199999999999999,7.5,4.7,5.4,4.5999999999999996,6.5,5.0999999999999996,6.3,5.7,6.2,6.9,6.6,9.9,8.9,6.1999999999999993,4.9000000000000004,4.5999999999999996,5.5,4.7,5.3000000000000007,8.1999999999999993,7.8000000000000007,7.4999999999999991,8,8.1999999999999993,10.799999999999999,4.8,7.7,6.9,7,7.2,7.3,6.5,12.3,9.8000000000000007,8.3000000000000007,12.100000000000001,12.3,7.6999999999999993,6.1,7.9,7.1000000000000005,6.2,6.5,7.5000000000000009,10.199999999999999,11.2,10.8,10.600000000000001,9,7.7,4.6000000000000005,4.5999999999999996,4.2,3.9,7,6.6000000000000005,6.9999999999999991,6.6,8.6,10.5,10,6.8999999999999995,5.6999999999999993,4.1999999999999993,6.6,4.6999999999999993,7.3999999999999995,7.6999999999999993,7.3999999999999995,7.3,9.6,11,10.299999999999999,4.8,4.8,4.5999999999999996,4.6999999999999993,6.2999999999999989,7.2999999999999989,5.2999999999999989,8,9.4,11.7,9.6999999999999993,9.1,6.7999999999999989,6.3,6.5,5.4,6.7999999999999989,8.1999999999999993,10.4,7.9999999999999991,10.4,9.1999999999999993,10.1,12,4.6999999999999993,4.9000000000000004,5.3999999999999995,5.6999999999999993,8.4,9.4999999999999982,9.5,8.1,10,8.6,12.2,10.299999999999999,5.2999999999999989,4,6.1999999999999993,3.9,5.5,9.2999999999999989,8.2999999999999989,7.6,8.1,10.7,11.6,9.9999999999999982,10,4.5,4.8999999999999995,4.4000000000000004,4.5999999999999996,6.5,8.6999999999999993,6.4,7.1999999999999993,9.6999999999999993,10.799999999999999,9.6,10.6,5.4,5.6,7.8999999999999995,10.700000000000001,"-","-","-","-","-","-","-","-","-","-","-"]
[]
[null,"Estructura de generación renovable mensual Melilla (%)","2007-01-01","2007-02-01","2007-03-01","2007-04-01","2007-05-01","2007-06-01","2007-07-01","2007-08-01","2007-09-01","2007-10-01","2007-11-01","2007-12-01","2008-01-01","2008-02-01","2008-03-01","2008-04-01","2008-05-01","2008-06-01","2008-07-01","2008-08-01","2008-09-01","2008-10-01","2008-11-01","2008-12-01","2009-01-01","2009-02-01","2009-03-01","2009-04-01","2009-05-01","2009-06-01","2009-07-01","2009-08-01","2009-09-01","2009-10-01","2009-11-01","2009-12-01","2010-01-01","2010-02-01","2010-03-01","2010-04-01","2010-05-01","2010-06-01","2010-07-01","2010-08-01","2010-09-01","2010-10-01","2010-11-01","2010-12-01","2011-01-01","2011-02-01","2011-03-01","2011-04-01","2011-05-01","2011-06-01","2011-07-01","2011-08-01","2011-09-01","2011-10-01","2011-11-01","2011-12-01","2012-01-01","2012-02-01","2012-03-01","2012-04-01","2012-05-01","2012-06-01","2012-07-01","2012-08-01","2012-09-01","2012-10-01","2012-11-01","2012-12-01","2013-01-01","2013-02-01","2013-03-01","2013-04-01","2013-05-01","2013-06-01","2013-07-01","2013-08-01","2013-09-01","2013-10-01","2013-11-01","2013-12-01","2014-01-01","2014-02-01","2014-03-01","2014-04-01","2014-05-01","2014-06-01","2014-07-01","2014-08-01","2014-09-01","2014-10-01","2014-11-01","2014-12-01","2015-01-01","2015-02-01","2015-03-01","2015-04-01","2015-05-01","2015-06-01","2015-07-01","2015-08-01","2015-09-01","2015-10-01","2015-11-01","2015-12-01","2016-01-01","2016-02-01","2016-03-01","2016-04-01","2016-05-01","2016-06-01","2016-07-01","2016-08-01","2016-09-01","2016-10-01","2016-11-01","2016-12-01","2017-01-01","2017-02-01","2017-03-01","2017-04-01","2017-05-01","2017-06-01","2017-07-01","2017-08-01","2017-09-01","2017-10-01","2017-11-01","2017-12-01","2018-01-01","2018-02-01","2018-03-01","2018-04-01","2018-05-01","2018-06-01","2018-07-01","2018-08-01","2018-09-01","2018-10-01","2018-11-01","2018-12-01"]
[null,"Solar fotovoltaica","-","-","-","-","-","-","-","-","-","-","-","-",0.01,"-","-","-","-",0.01,0.01,0.01,0.01,"-",0.01,"-",0.04,0.11,0.13,0.18,0.06,0.05,0.04,0.04,0.04,0.03,"-",0.01,0.01,0.03,0.03,0.04,0.05,0.01,0.04,0.04,0.04,0.03,0.03,0.02,0.02,0.04,0.04,0.04,0.05,0.04,0.04,0.03,0.03,0.03,0.02,0.02,0.03,0.04,0.04,0.06,0.05,0.05,0.04,0.04,0.04,0.03,0.02,0.02,0.03,0.03,0.04,0.04,0.05,0.05,0.04,0.04,0.04,0.04,0.03,0.02,0.02,0.04,0.05,0.06,0.05,0.05,0.05,0.05,0.04,0.04,0.02,0.02,0.03,0.03,0.05,0.04,0.05,0.05,0.04,0.03,0.04,0.03,0.03,0.02,0.02,0.04,0.05,0.06,0.05,0.05,0.04,0.04,0.04,0.03,0.02,0.02,0.02,0.03,0.04,0.04,0.05,0.04,0.04,0.03,0.04,0.04,0.03,0.02,"-","-","-","-","-","-","-","-","-","-","-","-"]
[null,"Residuos renovables","-","-","-","-","-","-","-","-","-","-","-","-","-","-","-","-","-","-","-","-","-","-","-","-","-","-","-","-","-","-","-","-","-","-","-","-","-","-","-","-","-","-","-","-","-","-","-","-","-","-","-","-","-","-","-","-","-","-","-","-","-","-","-","-","-","-","-","-","-","-","-","-","-","-","-","-","-","-","-","-","-","-","-","-","-","-","-","-","-","-","-","-","-","-","-","-",2.2000000000000002,2.2799999999999998,2.39,2.4300000000000002,2.39,2.11,1.41,1.56,1.97,2.44,0.67,2.54,2.85,2.56,2.44,2.78,2.2599999999999998,2.35,2.1,1.96,2.21,2.86,0.67,2.95,2.4300000000000002,2.73,2.74,2.7,2.74,2.41,2.16,1.64,2.52,2.83,0.53,3.07,1.95,"-","-","-","-","-","-","-","-","-","-","-"]
[null,"Generación renovable","-","-","-","-","-","-","-","-","-","-","-","-",0.01,0,0,0,0,0.01,0.01,0.01,0.01,0,0.01,0,0.04,0.11,0.13,0.18,0.06,0.05,0.04,0.04,0.04,0.03,0,0.01,0.01,0.03,0.03,0.04,0.05,0.01,0.04,0.04,0.04,0.03,0.03,0.02,0.02,0.04,0.04,0.04,0.05,0.04,0.04,0.03,0.03,0.03,0.02,0.02,0.03,0.04,0.04,0.06,0.05,0.05,0.04,0.04,0.04,0.03,0.02,0.02,0.03,0.03,0.04,0.04,0.05,0.05,0.04,0.04,0.04,0.04,0.03,0.02,0.02,0.04,0.05,0.06,0.05,0.05,0.05,0.05,0.04,0.04,0.02,0.02,2.23,2.3099999999999996,2.44,2.4700000000000002,2.44,2.1599999999999997,1.45,1.59,2.0099999999999998,2.4699999999999998,0.70000000000000007,2.56,2.87,2.6,2.4899999999999998,2.84,2.3099999999999996,2.4,2.14,2,2.25,2.8899999999999997,0.69000000000000006,2.97,2.4500000000000002,2.76,2.7800000000000002,2.74,2.79,2.4500000000000002,2.2000000000000002,1.67,2.56,2.87,0.56000000000000005,3.09,1.95,"-","-","-","-","-","-","-","-","-","-","-"]
[]
[null,"Estructura de generación renovable mensual nacional (%)","2007-01-01","2007-02-01","2007-03-01","2007-04-01","2007-05-01","2007-06-01","2007-07-01","2007-08-01","2007-09-01","2007-10-01","2007-11-01","2007-12-01","2008-01-01","2008-02-01","2008-03-01","2008-04-01","2008-05-01","2008-06-01","2008-07-01","2008-08-01","2008-09-01","2008-10-01","2008-11-01","2008-12-01","2009-01-01","2009-02-01","2009-03-01","2009-04-01","2009-05-01","2009-06-01","2009-07-01","2009-08-01","2009-09-01","2009-10-01","2009-11-01","2009-12-01","2010-01-01","2010-02-01","2010-03-01","2010-04-01","2010-05-01","2010-06-01","2010-07-01","2010-08-01","2010-09-01","2010-10-01","2010-11-01","2010-12-01","2011-01-01","2011-02-01","2011-03-01","2011-04-01","2011-05-01","2011-06-01","2011-07-01","2011-08-01","2011-09-01","2011-10-01","2011-11-01","2011-12-01","2012-01-01","2012-02-01","2012-03-01","2012-04-01","2012-05-01","2012-06-01","2012-07-01","2012-08-01","2012-09-01","2012-10-01","2012-11-01","2012-12-01","2013-01-01","2013-02-01","2013-03-01","2013-04-01","2013-05-01","2013-06-01","2013-07-01","2013-08-01","2013-09-01","2013-10-01","2013-11-01","2013-12-01","2014-01-01","2014-02-01","2014-03-01","2014-04-01","2014-05-01","2014-06-01","2014-07-01","2014-08-01","2014-09-01","2014-10-01","2014-11-01","2014-12-01","2015-01-01","2015-02-01","2015-03-01","2015-04-01","2015-05-01","2015-06-01","2015-07-01","2015-08-01","2015-09-01","2015-10-01","2015-11-01","2015-12-01","2016-01-01","2016-02-01","2016-03-01","2016-04-01","2016-05-01","2016-06-01","2016-07-01","2016-08-01","2016-09-01","2016-10-01","2016-11-01","2016-12-01","2017-01-01","2017-02-01","2017-03-01","2017-04-01","2017-05-01","2017-06-01","2017-07-01","2017-08-01","2017-09-01","2017-10-01","2017-11-01","2017-12-01","2018-01-01","2018-02-01","2018-03-01","2018-04-01","2018-05-01","2018-06-01","2018-07-01","2018-08-01","2018-09-01","2018-10-01","2018-11-01","2018-12-01"]
[null,"Hidráulica",8.8000000000000007,13.2,16.100000000000001,13,12.3,10.1,9.8000000000000007,7.6,5.9,7.1,5.3,4.7,5.2,3.9,4.3,11.3,14.5,13.4,8.4,6.4,5.6,4.5999999999999996,6.5,9.6999999999999993,8.6,15.2,12.3,10.4,12,9.3000000000000007,7,6.1,4.4000000000000004,5.5,8.8000000000000007,13,19.8,16.899999999999999,23.1,21.3,17.2,15.6,11.2,8.5,6.6,6.8,10.8,15.6,19.7,12.9,15.3,16.3,12.7,9.1,6.9,6.5,5.3,5.6,9.5,9.1,6.4,4.7,5.5,7.8,11.2,9.1,7,5.6,4.5999999999999996,6.1,8.8000000000000007,11,12.1,15.5,19.399999999999999,24.6,18,15.2,11.2,9.4,8.3000000000000007,8.5,12.3,10.199999999999999,17.7,25.5,23.2,23.5,13.2,11.6,10.1,9.3000000000000007,8.1,7.5,11.6,14.1,10.4,15.3,16.5,12.9,13.8,11.4,8.1,7.1,7.5,7.9,9,6.6,15.2,18.3,18.899999999999999,24,24.6,14.2,9.9,9.1999999999999993,7.8,7.5,6.9,8.4,8.1,9.3000000000000007,12.7,8.9,9.5,7.4,5.2,5,5.8,3.9,3.7,5.2,9.4,"-","-","-","-","-","-","-","-","-","-","-"]
[null,"Hidroeólica","-","-","-","-","-","-","-","-","-","-","-","-","-","-","-","-","-","-","-","-","-","-","-","-","-","-","-","-","-","-","-","-","-","-","-","-","-","-","-","-","-","-","-","-","-","-","-","-","-","-","-","-","-","-","-","-","-","-","-","-","-","-","-","-","-","-","-","-","-","-","-","-","-","-","-","-","-","-","-","-","-","-","-","-","-","-","-","-","-","-","-",0,0,0,0,0,0,0,0,0,0,0,0,0,0,0,0,0,0,0,0,0,0,0,0,0,0,0,0,0,0,0,0,0,0,0,0,0,0,0,0,0,0,"-","-","-","-","-","-","-","-","-","-","-"]
[null,"Eólica",8.4,12.6,12.8,6.3,11.5,7.9,7.8,10.6,8.8000000000000007,8,11,9.1999999999999993,10,8.1999999999999993,16.399999999999999,14,7.6,9,8.4,8.4,9.1,10.6,14.1,14.2,13.3,14.2,13.8,14.6,12.7,10.3,9.9,9.6999999999999993,11,13.7,20.8,19.8,16.5,19.2,18.2,12.1,16.3,11.5,11,12.3,10.1,17,18.100000000000001,18.3,15.5,17.5,18.8,15.7,14.5,13.2,13.8,11.9,10.199999999999999,14.2,16.899999999999999,19.3,14.5,19.399999999999999,16.100000000000001,23.8,16.5,15.1,12.7,13.3,17.5,13.8,20.5,22.6,25.4,23.5,24.1,20.2,18.7,18.399999999999999,11.8,15.1,14.7,18.100000000000001,28.2,20.7,27.3,26.2,22.3,18.899999999999999,19.600000000000001,15.4,15.7,13.2,9.6999999999999993,15.7,24,20.5,20.100000000000001,25.8,21.1,19,22.8,13.3,12.3,14.4,14.2,18.600000000000001,17.7,16.3,24.8,28.1,23.6,20.399999999999999,19,15.8,15.4,16.600000000000001,12.8,11,17.899999999999999,12.2,19,23.4,22.3,21.8,17.100000000000001,14.4,14.9,15.4,14.1,14.9,17.5,23.8,23.3,"-","-","-","-","-","-","-","-","-","-","-"]
[null,"Solar fotovoltaica",0,0.1,0.1,0.1,0.2,0.2,0.2,0.2,0.3,0.2,0.2,0.2,0.2,0.3,0.4,0.5,0.6,0.8,0.9,1.2,1.4,1.4,1.4,1,1,1.7,2.2999999999999998,2.7,3.1,2.8,2.9,2.8,2.2999999999999998,2.2000000000000002,1.6,1,1,1.3,1.9,2.7,3.2,3,3,3,2.7,2.2999999999999998,1.6,1.2,1.4,2.2000000000000002,2.1,3,3.4,3.6,3.6,3.4,3.2,2.8,1.6,1.8,2,2.5,3.2,2.9,3.8,3.8,3.9,3.6,3.1,2.6,1.6,1.7,1.8,2.2999999999999998,2.4,3.5,4.0999999999999996,4.4000000000000004,4,3.9,3.5,2.9,2.2000000000000002,1.8,1.6,1.9,3.2,3.8,4.3,4.2,4.0999999999999996,4.0999999999999996,3.1,3,1.8,1.9,2.1,2.1,3.1,3.7,4.3,4.0999999999999996,3.7,3.6,3.4,2.6,2.5,1.8,1.6,2.2000000000000002,3.1,3.3,3.9,4.5,4,4.0999999999999996,3.6,2.7,2,1.7,1.9,2.1,3.4,4.3,4.3,4,4,3.8,3.8,3.1,2.4,1.8,1.9,"-","-","-","-","-","-","-","-","-","-","-"]
[null,"Solar térmica","-","-",0,0,0,0,0,0,0,0,0,0,0,0,0,0,0,0,0,0,0,0,0,0,0,0,0,0,0,0,0,0.1,0.1,0.1,0.1,0,0.1,0,0.1,0.2,0.3,0.3,0.4,0.5,0.4,0.3,0.1,0.1,0.1,0.4,0.4,0.6,0.7,1,1.2,1,1,0.8,0.4,0.4,0.5,0.8,1,0.8,1.5,1.8,2.2999999999999998,2,1.6,1.3,0.6,0.6,0.5,0.9,0.5,1.4,2.4,3.1,3.1,2.9,2.2000000000000002,1.3,0.9,0.7,0.3,0.5,1.7,2.1,3.4,3.2,3.5,3.8,1.8,1.3,0.4,0.5,0.7,0.8,1.8,1.9,3.3,3.4,3.5,2.7,2.2999999999999998,0.9,1.1000000000000001,0.4,0.3,0.6,1.7,1.9,2.4,3.9,3.6,3.7,2.8,1.3,0.6,0.5,0.6,0.4,1.6,2.8,3,3.4,3.6,3.2,3,1.9,1,0.5,0.6,"-","-","-","-","-","-","-","-","-","-","-"]
[null,"Térmica renovable/Otras renovables",0.8,0.8,0.8,0.9,0.9,0.9,0.9,1,0.9,1,0.9,0.9,0.9,0.9,1,1,1,1,0.9,1,1,1,1,1,1,1.1000000000000001,1.2,1.4,1.3,1.1000000000000001,1,1.1000000000000001,1.3,1.5,1.2,1.1000000000000001,1.1000000000000001,1,1,1.3,1.3,1.3,1.1000000000000001,1.2,1.2,1.2,1.1000000000000001,1.2,1.4,1.4,1.4,1.6,1.5,1.5,1.5,1.5,1.6,1.7,1.7,1.6,1.6,1.4,1.7,1.7,1.6,1.8,1.8,1.7,1.7,1.8,1.8,1.8,1.8,1.8,1.9,1.9,2.1,1.9,1.8,1.8,1.8,1.8,1.8,1.9,1.8,1.5,1.6,1.6,1.9,1.9,1.8,2,1.9,1.8,1.8,1.7,1,0.9,1,0.9,1.1000000000000001,1.3,1.2,1.4,1.4,1.5,1.5,1.3,1.2,1.2,1.1000000000000001,1,1.3,1.4,1.4,1.5,1.5,1.4,1.4,1.4,1.3,1.4,1.3,1.2,1.5,1.4,1.5,1.5,1.5,1.4,1.4,1.3,1.3,"-","-","-","-","-","-","-","-","-","-","-"]
[null,"Residuos renovables","-","-","-","-","-","-","-","-","-","-","-","-","-","-","-","-","-","-","-","-","-","-","-","-","-","-","-","-","-","-","-","-","-","-","-","-","-","-","-","-","-","-","-","-","-","-","-","-","-","-","-","-","-","-","-","-","-","-","-","-","-","-","-","-","-","-","-","-","-","-","-","-","-","-","-","-","-","-","-","-","-","-","-","-","-","-","-","-","-","-","-","-","-","-","-","-",0.3,0.3,0.3,0.2,0.3,0.3,0.3,0.3,0.3,0.4,0.4,0.3,0.3,0.2,0.3,0.2,0.2,0.3,0.3,0.3,0.4,0.3,0.3,0.4,0.3,0.3,0.3,0.3,0.2,0.4,0.4,0.4,0.4,0.4,0.3,0.3,0.3,"-","-","-","-","-","-","-","-","-","-","-"]
[null,"Generación renovable",18.000000000000004,26.7,29.800000000000004,20.3,24.9,19.099999999999998,18.7,19.399999999999999,15.900000000000002,16.299999999999997,17.399999999999999,14.999999999999998,16.299999999999997,13.3,22.099999999999998,26.8,23.700000000000003,24.2,18.599999999999998,17,17.099999999999998,17.599999999999998,23,25.9,23.9,32.199999999999996,29.6,29.099999999999998,29.1,23.500000000000004,20.799999999999997,19.8,19.100000000000001,23,32.500000000000007,34.9,38.5,38.399999999999991,44.3,37.6,38.299999999999997,31.700000000000003,26.7,25.5,20.999999999999996,27.6,31.700000000000006,36.400000000000006,38.1,34.4,38,37.200000000000003,32.799999999999997,28.4,27.000000000000004,24.299999999999997,21.3,25.099999999999998,30.099999999999998,32.199999999999996,25,28.799999999999997,27.5,37,34.6,31.6,27.7,26.2,28.500000000000004,25.6,33.300000000000004,37.700000000000003,41.599999999999994,43.999999999999993,48.3,51.599999999999994,45.300000000000004,42.999999999999993,31.900000000000002,33.099999999999994,30.5,32.6,45.4,35.299999999999997,48.699999999999996,55.6,52.000000000000007,49.9,42.399999999999991,36.299999999999997,35.199999999999996,32.400000000000006,24.599999999999998,29.3,39.599999999999994,38.700000000000003,34.6,45.199999999999996,43.8,38.6,45.599999999999994,33.799999999999997,29.099999999999998,29.5,29.099999999999998,31.9,32.200000000000003,26.7,43.4,50.600000000000016,48.7,50.8,51.4,40.099999999999994,34.599999999999994,35.4,28.900000000000002,24.2,29.099999999999998,24.599999999999998,31.200000000000003,36.9,41.599999999999994,39.299999999999997,35.600000000000009,30.999999999999996,29.6,29.299999999999997,28.599999999999998,25.599999999999998,26.299999999999997,32.9,36.799999999999997,"-","-","-","-","-","-","-","-","-","-","-"]
[]
[null,"Estructura de generación renovable anual peninsular (%)",1990,1991,1992,1993,1994,1995,1996,1997,1998,1999,2000,2001,2002,2003,2004,2005,2006,2007,2008,2009,2010,2011,2012,2013,2014,2015,2016,2017,2018,2019,2020,2021]
[null,"Hidráulica",18,18.600000000000001,13,16.7,18.899999999999999,15,25.4,21,20.6,13.7,14.3,19.600000000000001,10,17.5,12.7,7.2,9.6,9.9,8.1999999999999993,9.9,15.3,11.5,7.7,14.4,15.4,11.1,14.5,7.4,9.9,"-","-","-"]
[null,"Eólica",0,0,0,0.1,0,0.1,0.2,0.4,0.7,1.4,2.2999999999999998,3.2,4.3,5.0999999999999996,6.5,8.1999999999999993,8.6999999999999993,10,11.3,14.3,15.8,15.9,17.899999999999999,20.9,20,18.8,19,19.100000000000001,24.3,"-","-","-"]
[null,"Solar fotovoltaica","-","-",0,0,0,0,0,0,0,0,0,0,0,0,0,0,0,0.2,0.9,2.2000000000000002,2.2000000000000002,2.7,2.9,3,3.1,3.1,3.1,3.2,1.9,"-","-","-"]
[null,"Solar térmica","-","-","-","-","-","-","-","-","-","-","-","-","-","-","-","-","-",0,0,0,0.3,0.7,1.3,1.7,2,2,2,2.2000000000000002,0.6,"-","-","-"]
[null,"Térmica renovable/Otras renovables","-",0,0,0,0.2,0.4,0.5,0.4,0.4,0.5,0.5,0.8,0.7,0.8,0.7,0.8,0.8,0.9,0.9,1.2,1.2,1.6,1.8,1.9,1.9,1.2,1.4,1.4,1.4,"-","-","-"]
[null,"Residuos renovables","-","-","-","-","-","-","-","-","-","-","-","-","-","-","-","-","-","-","-","-","-","-","-","-","-",0.3,0.3,0.3,0.3,"-","-","-"]
[null,"Generación renovable",18,18.600000000000001,13,16.8,19.099999999999998,15.5,26.099999999999998,21.799999999999997,21.7,15.6,17.100000000000001,23.6,15,23.400000000000002,19.899999999999999,16.2,19.099999999999998,20.999999999999996,21.299999999999997,27.6,34.800000000000004,32.4,31.599999999999998,41.9,42.4,36.5,40.299999999999997,33.599999999999994,38.4,"-","-","-"]
[]
[null,"Estructura de generación renovable anual Islas Baleares (%)",2006,2007,2008,2009,2010,2011,2012,2013,2014,2015,2016,2017,2018,2019,2020,2021]
[null,"Eólica",0.1,0.1,0.1,0.1,0.1,0.1,0.1,0.1,0.1,0.1,0.1,0.1,0.1,"-","-","-"]
[null,"Solar fotovoltaica",0,0,0.5,1.4,1.5,1.8,2.2000000000000002,2.8,2.9,2.7,2.6,2.5,1.9,"-","-","-"]
[null,"Térmica renovable/Otras renovables","-","-","-","-","-","-",0,0,0,0,0,0,0,"-","-","-"]
[null,"Residuos renovables","-","-","-","-","-","-","-","-","-",3.4,2.9,3,2.2000000000000002,"-","-","-"]
[null,"Generación renovable",0.1,0.1,0.6,1.5,1.6,1.9000000000000001,2.3000000000000003,2.9,3,6.2,5.6,5.6,4.2,"-","-","-"]
[]
[null,"Estructura de generación renovable anual Islas Canarias (%)",2006,2007,2008,2009,2010,2011,2012,2013,2014,2015,2016,2017,2018,2019,2020,2021]
[null,"Hidráulica","-",0,0,0,"-",0,0,0,0,0,0,0,"-","-","-","-"]
[null,"Hidroeólica","-","-","-","-","-","-","-","-",0,0.1,0.2,0.2,0.3,"-","-","-"]
[null,"Eólica",3.7,3.9,4.2,3.9,3.7,4,4.0999999999999996,4.2,4.5,4.5999999999999996,4.5,4.4000000000000004,8,"-","-","-"]
[null,"Solar fotovoltaica",0,0.2,0.7,1.8,2.2000000000000002,2.6,2.9,3.3,3.3,3.2,3.2,3.1,2.4,"-","-","-"]
[null,"Térmica renovable/Otras renovables",2.5,2.2999999999999998,2.2999999999999998,3,1.8,0.4,0.1,0.1,0.1,0.1,0.1,0.1,"-","-","-","-"]
[null,"Generación renovable",6.2,6.3999999999999995,7.2,8.6999999999999993,7.7,7,7.1,7.6,7.8999999999999995,7.9999999999999991,8,7.8000000000000007,10.700000000000001,"-","-","-"]
[]
[null,"Estructura de generación renovable anual Melilla (%)",2007,2008,2009,2010,2011,2012,2013,2014,2015,2016,2017,2018,2019,2020,2021,2022]
[null,"Solar fotovoltaica","-",0,0.06,0.03,0.03,0.04,0.04,0.04,0.04,0.04,0.04,"-","-","-","-","-"]
[null,"Residuos renovables","-","-","-","-","-","-","-","-",2.0099999999999998,2.33,2.36,1.95,"-","-","-","-"]
[null,"Generación renovable",0,0,0.06,0.03,0.03,0.04,0.04,0.04,2.0499999999999998,2.37,2.4,1.95,"-","-","-","-"]
[]
[null,"Estructura de generación renovable anual nacional (%)",2007,2008,2009,2010,2011,2012,2013,2014,2015,2016,2017,2018,2019,2020,2021,2022]
[null,"Hidráulica",9.4,7.8,9.4,14.5,10.8,7.3,13.7,14.7,10.6,13.7,7,9.4,"-","-","-","-"]
[null,"Hidroeólica","-","-","-","-","-","-","-",0,0,0,0,0,"-","-","-","-"]
[null,"Eólica",9.6,10.9,13.7,15.1,15.2,17.100000000000001,20,19.100000000000001,18,18.2,18.2,23.3,"-","-","-","-"]
[null,"Solar fotovoltaica",0.2,0.8,2.2000000000000002,2.2000000000000002,2.7,2.9,3,3.1,3.1,3,3.2,1.9,"-","-","-","-"]
[null,"Solar térmica",0,0,0,0.2,0.7,1.2,1.6,1.9,1.9,1.9,2,0.6,"-","-","-","-"]
[null,"Térmica renovable/Otras renovables",0.9,1,1.2,1.2,1.5,1.7,1.9,1.8,1.2,1.3,1.4,1.3,"-","-","-","-"]
[null,"Residuos renovables","-","-","-","-","-","-","-","-",0.3,0.3,0.3,0.3,"-","-","-","-"]
[null,"Generación renovable",20.099999999999998,20.5,26.5,33.200000000000003,30.9,30.2,40.200000000000003,40.599999999999994,35.1,38.399999999999991,32.099999999999994,36.799999999999997,"-","-","-","-"]
[]
[]
[null,"Maxima generación renovable peninsular","2010-01-01","2010-02-01","2010-03-01","2010-04-01","2010-05-01","2010-06-01","2010-07-01","2010-08-01","2010-09-01","2010-10-01","2010-11-01","2010-12-01","2011-01-01","2011-02-01","2011-03-01","2011-04-01","2011-05-01","2011-06-01","2011-07-01","2011-08-01","2011-09-01","2011-10-01","2011-11-01","2011-12-01","2012-01-01","2012-02-01","2012-03-01","2012-04-01","2012-05-01","2012-06-01","2012-07-01","2012-08-01","2012-09-01","2012-10-01","2012-11-01","2012-12-01","2013-01-01","2013-02-01","2013-03-01","2013-04-01","2013-05-01","2013-06-01","2013-07-01","2013-08-01","2013-09-01","2013-10-01","2013-11-01","2013-12-01","2014-01-01","2014-02-01","2014-03-01","2014-04-01","2014-05-01","2014-06-01","2014-07-01","2014-08-01","2014-09-01","2014-10-01","2014-11-01","2014-12-01","2015-01-01","2015-02-01","2015-03-01","2015-04-01","2015-05-01","2015-06-01","2015-07-01","2015-08-01","2015-09-01","2015-10-01","2015-11-01","2015-12-01","2016-01-01","2016-02-01","2016-03-01","2016-04-01","2016-05-01","2016-06-01","2016-07-01","2016-08-01","2016-09-01","2016-10-01","2016-11-01","2016-12-01","2017-01-01","2017-02-01","2017-03-01","2017-04-01","2017-05-01","2017-06-01","2017-07-01","2017-08-01","2017-09-01","2017-10-01","2017-11-01","2017-12-01","2018-01-01","2018-02-01","2018-03-01","2018-04-01","2018-05-01","2018-06-01","2018-07-01","2018-08-01","2018-09-01","2018-10-01","2018-11-01","2018-12-01"]
[null,"Generación renovable (GWh)",416.84965849999998,443.5441811,448.96560350000004,381.50331770000003,420.55084250000004,309.53562019999998,279.91168900000002,255.00823629999999,262.89802599999996,327.81719169999997,384.51802129999999,405.19184110000003,447.65473221599996,409.81505462600001,412.45873291999999,346.82175278799997,358.25881518799997,351.91043526400006,285.32913300800004,275.06088613200001,237.33063620600001,294.65868320999999,345.99456093399999,368.73665750799995,325.98958570599996,394.14237383400001,325.44255617800002,429.083954388,383.40331986399997,348.79100521799995,267.65909724800002,313.83751652600006,333.15592065600003,345.90548596000002,388.68404250200001,412.94559009200003,484.310049322,506.81291409799996,474.26813075199999,461.96549875200003,412.58981580400001,381.36971486800002,303.34609258799998,334.88866793200003,300.73392521400001,347.67884583200004,417.48432812999999,424.84443969400002,504.243546482,505.359242806,490.69844548399999,474.62663218199998,390.3302736,376.82894395600005,360.513347952,300.54983878000002,264.09804110000005,299.47051479999999,410.97247513400004,403.315869228,472.02756210199999,495.87784811799997,458.72018641400001,363.844218076,391.73820767000001,323.349777292,309.07220101000001,313.11974962400001,369.90178625999999,359.97534494199999,400.13212659999999,324.91210205800002,476.25303398400001,512.93229365599996,480.52629383200008,446.92044066599999,427.63672147799997,370.315019302,330.80541848000007,378.48214982000002,261.71407480599999,261.807455398,313.03189913400001,259.23065905999999,400.10961655800003,410.62259413000004,407.84856406200004,370.39047078200002,357.78348740400003,394.79907673999998,286.72664774399999,285.44474240199992,273.96888892400005,263.62457263200002,344.80423749400001,391.812083186,397.51164699999998,"-","-","-","-","-","-","-","-","-","-","-"]
[null,"Día",14,24,9,8,4,10,6,13,7,31,9,24,22,22,16,11,15,2,19,9,18,24,5,16,2,3,8,19,21,11,1,31,25,27,28,14,23,6,13,9,31,27,9,2,11,22,5,26,28,10,4,4,22,6,9,13,17,16,15,1,30,24,5,1,8,17,3,23,16,5,21,28,11,12,10,5,13,15,14,10,14,23,8,19,17,5,13,19,11,28,18,10,10,30,13,27,4,"-","-","-","-","-","-","-","-","-","-","-"]
[null,null,"enero","febrero","marzo","abril","mayo","junio","julio","agosto","septiembre","octubre","noviembre","diciembre","enero","febrero","marzo","abril","mayo","junio","julio","agosto","septiembre","octubre","noviembre","diciembre","enero","febrero","marzo","abril","mayo","junio","julio","agosto","septiembre","octubre","noviembre","diciembre","enero","febrero","marzo","abril","mayo","junio","julio","agosto","septiembre","octubre","noviembre","diciembre","enero","febrero","marzo","abril","mayo","junio","julio","agosto","septiembre","octubre","noviembre","diciembre","enero","febrero","marzo","abril","mayo","junio","julio","agosto","septiembre","octubre","noviembre","diciembre","enero","febrero","marzo","abril","mayo","junio","julio","agosto","septiembre","octubre","noviembre","diciembre","enero","febrero","marzo","abril","mayo","junio","julio","agosto","septiembre","octubre","noviembre","diciembre","enero","febrero","marzo","abril","mayo","junio","julio","agosto","septiembre","octubre","noviembre","diciembre"]
[null,"Maxima participación de la generación renovable en la estructura de generación peninsular ","2010-01-01","2010-02-01","2010-03-01","2010-04-01","2010-05-01","2010-06-01","2010-07-01","2010-08-01","2010-09-01","2010-10-01","2010-11-01","2010-12-01","2011-01-01","2011-02-01","2011-03-01","2011-04-01","2011-05-01","2011-06-01","2011-07-01","2011-08-01","2011-09-01","2011-10-01","2011-11-01","2011-12-01","2012-01-01","2012-02-01","2012-03-01","2012-04-01","2012-05-01","2012-06-01","2012-07-01","2012-08-01","2012-09-01","2012-10-01","2012-11-01","2012-12-01","2013-01-01","2013-02-01","2013-03-01","2013-04-01","2013-05-01","2013-06-01","2013-07-01","2013-08-01","2013-09-01","2013-10-01","2013-11-01","2013-12-01","2014-01-01","2014-02-01","2014-03-01","2014-04-01","2014-05-01","2014-06-01","2014-07-01","2014-08-01","2014-09-01","2014-10-01","2014-11-01","2014-12-01","2015-01-01","2015-02-01","2015-03-01","2015-04-01","2015-05-01","2015-06-01","2015-07-01","2015-08-01","2015-09-01","2015-10-01","2015-11-01","2015-12-01","2016-01-01","2016-02-01","2016-03-01","2016-04-01","2016-05-01","2016-06-01","2016-07-01","2016-08-01","2016-09-01","2016-10-01","2016-11-01","2016-12-01","2017-01-01","2017-02-01","2017-03-01","2017-04-01","2017-05-01","2017-06-01","2017-07-01","2017-08-01","2017-09-01","2017-10-01","2017-11-01","2017-12-01","2018-01-01","2018-02-01","2018-03-01","2018-04-01","2018-05-01","2018-06-01","2018-07-01","2018-08-01","2018-09-01","2018-10-01","2018-11-01","2018-12-01"]
[null,"Generación renovable (%)",58,54.7,56.600000000000009,52.300000000000004,56.800000000000004,49.699999999999996,40.300000000000004,35.6,38.5,51.5,49.800000000000004,56.800000000000004,56.831173286320478,51.347418548554536,52.062779237050769,51.817693028951084,59.748659972765516,49.393191444081857,41.093178348382644,37.61986226973216,38.40002496342801,43.281052459343897,52.942679080605295,45.875236579871526,44.33530551368915,42.061101028255379,40.976440864995311,52.626320271615242,51.144666944970929,48.969090614510847,41.487747465266168,42.103527574655416,47.47007369656469,51.57387367741353,53.500534341957483,54.578823199399373,56.777616026734925,61.985799442288311,58.414245533309227,60.283480180084005,59.945981816676685,58.054899009525798,42.977430346174494,43.936190885423322,49.042198203916328,49.206883099999551,56.571729081268771,60.587718003628808,61.070478213751812,63.845377362849987,63.312473342816119,60.806029240570545,57.22323994201237,57.300967294624371,48.477705264808201,47.63724941249086,36.699091107681326,44.860472085158762,59.277223720759117,54.487611360283047,61.288612399854728,59.243994822735424,58.981545780142639,51.589531341807579,57.20854079208879,45.088371937082286,38.898770988194542,45.552536558263853,50.705074960909137,53.146817492999652,57.587965585281921,49.081845368102009,62.129033765286025,69.093126751174751,59.905721923557053,60.307379570650518,62.131109673576304,52.907107772209386,45.302831179258717,53.716137943399787,42.2484510939545,39.284890963913696,49.570725712132777,39.326170437270576,44.023345076882627,55.682435593144419,54.57314299618784,54.383069050561481,53.208520183694993,53.692251689622474,42.369583996207446,43.006803690469056,45.705176070904635,42.724301363255904,45.914327811131464,52.946004738507767,55.621986286188907,"-","-","-","-","-","-","-","-","-","-","-"]
[null,"Día",1,24,30,3,15,20,25,13,12,31,1,25,22,27,27,10,15,2,17,9,18,23,13,24,6,5,4,19,21,10,1,31,23,27,1,15,20,2,25,6,31,1,28,2,29,22,4,25,4,1,25,4,3,15,9,16,17,18,16,28,31,23,5,1,16,17,3,23,16,5,21,28,11,13,5,30,1,15,14,10,17,23,20,17,17,5,13,19,11,28,2,10,9,28,5,27,4,"-","-","-","-","-","-","-","-","-","-","-"]
[null,null,"enero","febrero","marzo","abril","mayo","junio","julio","agosto","septiembre","octubre","noviembre","diciembre","enero","febrero","marzo","abril","mayo","junio","julio","agosto","septiembre","octubre","noviembre","diciembre","enero","febrero","marzo","abril","mayo","junio","julio","agosto","septiembre","octubre","noviembre","diciembre","enero","febrero","marzo","abril","mayo","junio","julio","agosto","septiembre","octubre","noviembre","diciembre","enero","febrero","marzo","abril","mayo","junio","julio","agosto","septiembre","octubre","noviembre","diciembre","enero","febrero","marzo","abril","mayo","junio","julio","agosto","septiembre","octubre","noviembre","diciembre","enero","febrero","marzo","abril","mayo","junio","julio","agosto","septiembre","octubre","noviembre","diciembre","enero","febrero","marzo","abril","mayo","junio","julio","agosto","septiembre","octubre","noviembre","diciembre","enero","febrero","marzo","abril","mayo","junio","julio","agosto","septiembre","octubre","noviembre","diciembre"]
[null,"Maxima generación renovable Islas Baleares","2010-01-01","2010-02-01","2010-03-01","2010-04-01","2010-05-01","2010-06-01","2010-07-01","2010-08-01","2010-09-01","2010-10-01","2010-11-01","2010-12-01","2011-01-01","2011-02-01","2011-03-01","2011-04-01","2011-05-01","2011-06-01","2011-07-01","2011-08-01","2011-09-01","2011-10-01","2011-11-01","2011-12-01","2012-01-01","2012-02-01","2012-03-01","2012-04-01","2012-05-01","2012-06-01","2012-07-01","2012-08-01","2012-09-01","2012-10-01","2012-11-01","2012-12-01","2013-01-01","2013-02-01","2013-03-01","2013-04-01","2013-05-01","2013-06-01","2013-07-01","2013-08-01","2013-09-01","2013-10-01","2013-11-01","2013-12-01","2014-01-01","2014-02-01","2014-03-01","2014-04-01","2014-05-01","2014-06-01","2014-07-01","2014-08-01","2014-09-01","2014-10-01","2014-11-01","2014-12-01","2015-01-01","2015-02-01","2015-03-01","2015-04-01","2015-05-01","2015-06-01","2015-07-01","2015-08-01","2015-09-01","2015-10-01","2015-11-01","2015-12-01","2016-01-01","2016-02-01","2016-03-01","2016-04-01","2016-05-01","2016-06-01","2016-07-01","2016-08-01","2016-09-01","2016-10-01","2016-11-01","2016-12-01","2017-01-01","2017-02-01","2017-03-01","2017-04-01","2017-05-01","2017-06-01","2017-07-01","2017-08-01","2017-09-01","2017-10-01","2017-11-01","2017-12-01","2018-01-01","2018-02-01","2018-03-01","2018-04-01","2018-05-01","2018-06-01","2018-07-01","2018-08-01","2018-09-01","2018-10-01","2018-11-01","2018-12-01"]
[null,"Generación renovable (MWh)",181,264,295,335,342,352,382,447,362,291,243,238,240,312,339,415,494,422,431,455,373,357,247,273,255,332,423,431,440,532,453,428,444,362,281,297,293,354,444,432,454,519,505,455,431,341,251,266,261,382,440,499,489,640,544,514,479,529,387,611,963.5,687,913.5,1006.5,1089,1255,977.5,904,970,927.5,930.5,741.5,796,587,958.5,1009,1026,1017,937.5,929.5,898,861,794,577,550,686,968.5,1012.5,1004,992,952,959,961,881,843.5,601,733.04,"-","-","-","-","-","-","-","-","-","-","-"]
[null,"Día",2,20,10,26,17,5,6,8,6,26,4,15,23,28,1,12,23,13,17,27,13,8,1,25,24,22,10,28,20,22,16,3,25,18,12,8,28,7,15,7,10,9,28,10,1,6,2,26,28,7,29,9,4,1,19,2,27,25,15,13,24,5,30,6,11,3,17,26,19,1,15,27,8,20,26,10,29,1,3,15,6,27,8,29,12,28,30,12,27,8,5,11,11,14,15,4,16,"-","-","-","-","-","-","-","-","-","-","-"]
[null,null,"enero","febrero","marzo","abril","mayo","junio","julio","agosto","septiembre","octubre","noviembre","diciembre","enero","febrero","marzo","abril","mayo","junio","julio","agosto","septiembre","octubre","noviembre","diciembre","enero","febrero","marzo","abril","mayo","junio","julio","agosto","septiembre","octubre","noviembre","diciembre","enero","febrero","marzo","abril","mayo","junio","julio","agosto","septiembre","octubre","noviembre","diciembre","enero","febrero","marzo","abril","mayo","junio","julio","agosto","septiembre","octubre","noviembre","diciembre","enero","febrero","marzo","abril","mayo","junio","julio","agosto","septiembre","octubre","noviembre","diciembre","enero","febrero","marzo","abril","mayo","junio","julio","agosto","septiembre","octubre","noviembre","diciembre","enero","febrero","marzo","abril","mayo","junio","julio","agosto","septiembre","octubre","noviembre","diciembre","enero","febrero","marzo","abril","mayo","junio","julio","agosto","septiembre","octubre","noviembre","diciembre"]
[null,"Maxima participación de la generación renovable en la estructura de generación Islas Baleares ","2010-01-01","2010-02-01","2010-03-01","2010-04-01","2010-05-01","2010-06-01","2010-07-01","2010-08-01","2010-09-01","2010-10-01","2010-11-01","2010-12-01","2011-01-01","2011-02-01","2011-03-01","2011-04-01","2011-05-01","2011-06-01","2011-07-01","2011-08-01","2011-09-01","2011-10-01","2011-11-01","2011-12-01","2012-01-01","2012-02-01","2012-03-01","2012-04-01","2012-05-01","2012-06-01","2012-07-01","2012-08-01","2012-09-01","2012-10-01","2012-11-01","2012-12-01","2013-01-01","2013-02-01","2013-03-01","2013-04-01","2013-05-01","2013-06-01","2013-07-01","2013-08-01","2013-09-01","2013-10-01","2013-11-01","2013-12-01","2014-01-01","2014-02-01","2014-03-01","2014-04-01","2014-05-01","2014-06-01","2014-07-01","2014-08-01","2014-09-01","2014-10-01","2014-11-01","2014-12-01","2015-01-01","2015-02-01","2015-03-01","2015-04-01","2015-05-01","2015-06-01","2015-07-01","2015-08-01","2015-09-01","2015-10-01","2015-11-01","2015-12-01","2016-01-01","2016-02-01","2016-03-01","2016-04-01","2016-05-01","2016-06-01","2016-07-01","2016-08-01","2016-09-01","2016-10-01","2016-11-01","2016-12-01","2017-01-01","2017-02-01","2017-03-01","2017-04-01","2017-05-01","2017-06-01","2017-07-01","2017-08-01","2017-09-01","2017-10-01","2017-11-01","2017-12-01","2018-01-01","2018-02-01","2018-03-01","2018-04-01","2018-05-01","2018-06-01","2018-07-01","2018-08-01","2018-09-01","2018-10-01","2018-11-01","2018-12-01"]
[null,"Generación renovable (%)",1.3,1.9,2.2000000000000002,2.5,2.6,2.4,2.1,2.4,2.1,2.2000000000000002,2.1,1.6,1.5,2.3000000000000003,2.6,3.4000000000000004,3.5,2.5,2.3000000000000003,2.3000000000000003,2.1,2.6,2.2000000000000002,2.2000000000000002,1.8,2.5999999999999996,3.5,3.7,3.5999999999999996,3.2,2.7,2.5,3.1,3.5,2.7,2.8,2.7,3,4.7,4.3,4.3,4.7,3.6,3.5,3.5,3.0999999999999996,2.8000000000000003,2.6999999999999997,2.6,3.7,4.3999999999999995,5.3999999999999995,4.8,5.8999999999999995,3.7,3.6,4,4.8999999999999995,4.4000000000000004,5.6,8.8117370325252331,5.4630515765637222,9.1180371352785148,10.228751804596195,10.100387246614906,10.202433139751673,6.5386405287284122,6.1642304837048298,7.6443206362218339,8.1332452692134876,11.261715118667977,7.852237723611398,8.485565574897068,5.491160447779345,9.922310535191075,10.27967543121914,8.8490333405589237,8.2785479866400351,6.1582454275274028,6.215056008822053,5.8308679125637646,7.8329947598806431,8.3712967434887666,5.9212492645432455,5.0300629479090748,6.2435238230024703,9.8548412912660677,9.4370914496261769,7.5867322561332191,6.7128134111356692,5.9655242990334312,6.5607080028180595,7.4246588423063837,7.7557887989744421,7.9227922888565825,5.2356533170261219,6.4828441591112558,"-","-","-","-","-","-","-","-","-","-","-"]
[null,"Día",1,27,1,25,9,6,4,8,5,24,14,6,9,26,13,10,22,13,17,27,20,9,1,25,7,26,11,9,20,24,15,26,2,28,12,9,6,7,31,7,5,9,5,31,1,6,3,26,26,15,23,6,4,1,20,17,27,25,15,13,24,25,29,12,3,1,12,2,19,1,15,27,6,20,27,10,14,1,3,14,19,29,6,25,8,28,30,9,27,11,2,13,17,28,12,30,17,"-","-","-","-","-","-","-","-","-","-","-"]
[null,null,"enero","febrero","marzo","abril","mayo","junio","julio","agosto","septiembre","octubre","noviembre","diciembre","enero","febrero","marzo","abril","mayo","junio","julio","agosto","septiembre","octubre","noviembre","diciembre","enero","febrero","marzo","abril","mayo","junio","julio","agosto","septiembre","octubre","noviembre","diciembre","enero","febrero","marzo","abril","mayo","junio","julio","agosto","septiembre","octubre","noviembre","diciembre","enero","febrero","marzo","abril","mayo","junio","julio","agosto","septiembre","octubre","noviembre","diciembre","enero","febrero","marzo","abril","mayo","junio","julio","agosto","septiembre","octubre","noviembre","diciembre","enero","febrero","marzo","abril","mayo","junio","julio","agosto","septiembre","octubre","noviembre","diciembre","enero","febrero","marzo","abril","mayo","junio","julio","agosto","septiembre","octubre","noviembre","diciembre","enero","febrero","marzo","abril","mayo","junio","julio","agosto","septiembre","octubre","noviembre","diciembre"]
[null,"Maxima generación renovable Islas Canarias","2010-01-01","2010-02-01","2010-03-01","2010-04-01","2010-05-01","2010-06-01","2010-07-01","2010-08-01","2010-09-01","2010-10-01","2010-11-01","2010-12-01","2011-01-01","2011-02-01","2011-03-01","2011-04-01","2011-05-01","2011-06-01","2011-07-01","2011-08-01","2011-09-01","2011-10-01","2011-11-01","2011-12-01","2012-01-01","2012-02-01","2012-03-01","2012-04-01","2012-05-01","2012-06-01","2012-07-01","2012-08-01","2012-09-01","2012-10-01","2012-11-01","2012-12-01","2013-01-01","2013-02-01","2013-03-01","2013-04-01","2013-05-01","2013-06-01","2013-07-01","2013-08-01","2013-09-01","2013-10-01","2013-11-01","2013-12-01","2014-01-01","2014-02-01","2014-03-01","2014-04-01","2014-05-01","2014-06-01","2014-07-01","2014-08-01","2014-09-01","2014-10-01","2014-11-01","2014-12-01","2015-01-01","2015-02-01","2015-03-01","2015-04-01","2015-05-01","2015-06-01","2015-07-01","2015-08-01","2015-09-01","2015-10-01","2015-11-01","2015-12-01","2016-01-01","2016-02-01","2016-03-01","2016-04-01","2016-05-01","2016-06-01","2016-07-01","2016-08-01","2016-09-01","2016-10-01","2016-11-01","2016-12-01","2017-01-01","2017-02-01","2017-03-01","2017-04-01","2017-05-01","2017-06-01","2017-07-01","2017-08-01","2017-09-01","2017-10-01","2017-11-01","2017-12-01","2018-01-01","2018-02-01","2018-03-01","2018-04-01","2018-05-01","2018-06-01","2018-07-01","2018-08-01","2018-09-01","2018-10-01","2018-11-01","2018-12-01"]
[null,"Generación renovable (MWh)",2626,2137,3089,3673,3716,3538,3487,3098,2771,2258,2286,2385,2370.9380000000001,3343,3561,3327,2859,3025,3385,3252,2906,2708,2037,2657.366,2263.261,3117.6019999999999,3271.8119999999999,3310.2849999999999,3019.4939999999997,3397.9769999999999,3287.366,3269.7460000000001,2392.5100000000002,2539.0880000000002,2435.9780000000001,2601.9219999999996,3102.6529999999998,3200.931,2314.7669999999998,3107.5569999999998,3147.2090000000003,3721.7179999999998,3369.5989999999997,3497.0930000000003,3124.9059999999999,3110.7669999999998,3155.0259999999998,3018,3278,3167,3788,3684,3559,3369,3470,3660.6110000000003,2575.3109999999997,2293,2724,2604.6189999999997,2797.6390000000001,3502.9090000000001,3491.9569999999999,2944.1,3425.502,3133,3971.1860000000001,3333.5920000000001,2574,1952.7149999999999,3054.4639999999999,1692.3969999999999,3020.4160000000002,3408.7309999999998,3222.701,3208.7539999999999,2944.6840000000002,3711.3559999999998,3585.9569999999999,3439.056,3593.52,1929.692,2636.1689999999999,2245.6949999999997,2533.44,2652.5430000000001,5289.92,3023.6329999999998,5222.9229999999998,3807.4969999999998,3575.404,3587.3290000000002,4022.1840000000002,4018.9349999999999,3347.049,4218.1640000000007,4825.134,"-","-","-","-","-","-","-","-","-","-","-"]
[null,"Día",25,21,5,4,30,19,13,13,29,25,2,17,31,2,2,4,9,17,10,1,5,7,22,18,16,4,19,17,20,11,5,31,1,11,30,25,23,9,4,15,19,21,2,8,3,30,1,29,24,28,26,25,10,30,1,13,30,5,2,14,21,25,13,29,15,1,24,15,4,16,23,21,30,15,10,8,15,26,13,2,1,4,12,17,15,18,12,4,14,4,1,19,5,1,10,13,27,"-","-","-","-","-","-","-","-","-","-","-"]
[null,null,"enero","febrero","marzo","abril","mayo","junio","julio","agosto","septiembre","octubre","noviembre","diciembre","enero","febrero","marzo","abril","mayo","junio","julio","agosto","septiembre","octubre","noviembre","diciembre","enero","febrero","marzo","abril","mayo","junio","julio","agosto","septiembre","octubre","noviembre","diciembre","enero","febrero","marzo","abril","mayo","junio","julio","agosto","septiembre","octubre","noviembre","diciembre","enero","febrero","marzo","abril","mayo","junio","julio","agosto","septiembre","octubre","noviembre","diciembre","enero","febrero","marzo","abril","mayo","junio","julio","agosto","septiembre","octubre","noviembre","diciembre","enero","febrero","marzo","abril","mayo","junio","julio","agosto","septiembre","octubre","noviembre","diciembre","enero","febrero","marzo","abril","mayo","junio","julio","agosto","septiembre","octubre","noviembre","diciembre","enero","febrero","marzo","abril","mayo","junio","julio","agosto","septiembre","octubre","noviembre","diciembre"]
[null,"Maxima participación de la generación renovable en la estructura de generación Islas Canarias ","2010-01-01","2010-02-01","2010-03-01","2010-04-01","2010-05-01","2010-06-01","2010-07-01","2010-08-01","2010-09-01","2010-10-01","2010-11-01","2010-12-01","2011-01-01","2011-02-01","2011-03-01","2011-04-01","2011-05-01","2011-06-01","2011-07-01","2011-08-01","2011-09-01","2011-10-01","2011-11-01","2011-12-01","2012-01-01","2012-02-01","2012-03-01","2012-04-01","2012-05-01","2012-06-01","2012-07-01","2012-08-01","2012-09-01","2012-10-01","2012-11-01","2012-12-01","2013-01-01","2013-02-01","2013-03-01","2013-04-01","2013-05-01","2013-06-01","2013-07-01","2013-08-01","2013-09-01","2013-10-01","2013-11-01","2013-12-01","2014-01-01","2014-02-01","2014-03-01","2014-04-01","2014-05-01","2014-06-01","2014-07-01","2014-08-01","2014-09-01","2014-10-01","2014-11-01","2014-12-01","2015-01-01","2015-02-01","2015-03-01","2015-04-01","2015-05-01","2015-06-01","2015-07-01","2015-08-01","2015-09-01","2015-10-01","2015-11-01","2015-12-01","2016-01-01","2016-02-01","2016-03-01","2016-04-01","2016-05-01","2016-06-01","2016-07-01","2016-08-01","2016-09-01","2016-10-01","2016-11-01","2016-12-01","2017-01-01","2017-02-01","2017-03-01","2017-04-01","2017-05-01","2017-06-01","2017-07-01","2017-08-01","2017-09-01","2017-10-01","2017-11-01","2017-12-01","2018-01-01","2018-02-01","2018-03-01","2018-04-01","2018-05-01","2018-06-01","2018-07-01","2018-08-01","2018-09-01","2018-10-01","2018-11-01","2018-12-01"]
[null,"Generación renovable (%)",11.3,9.8000000000000007,12.399999999999999,17.3,18.099999999999998,16.8,14.600000000000001,13,11,9.1,10.3,9.6,9.6,13.9,14.3,14.700000000000001,13.2,12.200000000000001,15.299999999999999,13.1,12.4,10.199999999999999,8.1,11.6,8.9999999999999982,13.1,13.299999999999999,14.499999999999998,14.4,15.5,14.9,13.6,9.6,9.6,10.199999999999999,12.1,12.799999999999999,14.700000000000001,9.9,13.299999999999999,15.299999999999999,15.700000000000001,13.8,15,12.7,12.6,14.200000000000001,13.799999999999999,13.6,13.4,16.100000000000001,17.899999999999999,16.8,16.100000000000001,14.200000000000001,15.399999999999999,10.199999999999999,10.3,12.1,11.6,11.9,14.6,14.6,13.7,14.7,13.799999999999999,17.3,15.1,10.199999999999999,7.6999999999999993,12.399999999999999,6.8999999999999995,13.3,14.200000000000001,13.4,13.6,14.6,16.900000000000002,14.6,13.299999999999999,15.4,7.6,11.1,9.5,10.899999999999999,11.5,22.5,12.6,22.2,17.700000000000003,15.9,14.4,17.100000000000001,19.200000000000003,13.4,17.400000000000002,20,"-","-","-","-","-","-","-","-","-","-","-"]
[null,"Día",24,21,7,4,30,20,11,1,29,25,1,17,31,2,2,10,8,17,10,14,18,7,22,18,16,4,19,15,20,10,1,5,1,11,30,25,23,10,4,15,19,21,2,4,9,30,1,29,24,27,26,27,30,1,20,24,28,5,2,14,24,25,13,19,20,1,12,23,4,16,23,21,30,15,10,8,15,26,31,2,25,9,12,17,15,18,12,4,14,4,23,27,10,1,5,13,27,"-","-","-","-","-","-","-","-","-","-","-"]
[null,null,"enero","febrero","marzo","abril","mayo","junio","julio","agosto","septiembre","octubre","noviembre","diciembre","enero","febrero","marzo","abril","mayo","junio","julio","agosto","septiembre","octubre","noviembre","diciembre","enero","febrero","marzo","abril","mayo","junio","julio","agosto","septiembre","octubre","noviembre","diciembre","enero","febrero","marzo","abril","mayo","junio","julio","agosto","septiembre","octubre","noviembre","diciembre","enero","febrero","marzo","abril","mayo","junio","julio","agosto","septiembre","octubre","noviembre","diciembre","enero","febrero","marzo","abril","mayo","junio","julio","agosto","septiembre","octubre","noviembre","diciembre","enero","febrero","marzo","abril","mayo","junio","julio","agosto","septiembre","octubre","noviembre","diciembre","enero","febrero","marzo","abril","mayo","junio","julio","agosto","septiembre","octubre","noviembre","diciembre","enero","febrero","marzo","abril","mayo","junio","julio","agosto","septiembre","octubre","noviembre","diciembre"]
[null,"Maxima generación renovable Melilla","2010-01-01","2010-02-01","2010-03-01","2010-04-01","2010-05-01","2010-06-01","2010-07-01","2010-08-01","2010-09-01","2010-10-01","2010-11-01","2010-12-01","2011-01-01","2011-02-01","2011-03-01","2011-04-01","2011-05-01","2011-06-01","2011-07-01","2011-08-01","2011-09-01","2011-10-01","2011-11-01","2011-12-01","2012-01-01","2012-02-01","2012-03-01","2012-04-01","2012-05-01","2012-06-01","2012-07-01","2012-08-01","2012-09-01","2012-10-01","2012-11-01","2012-12-01","2013-01-01","2013-02-01","2013-03-01","2013-04-01","2013-05-01","2013-06-01","2013-07-01","2013-08-01","2013-09-01","2013-10-01","2013-11-01","2013-12-01","2014-01-01","2014-02-01","2014-03-01","2014-04-01","2014-05-01","2014-06-01","2014-07-01","2014-08-01","2014-09-01","2014-10-01","2014-11-01","2014-12-01","2015-01-01","2015-02-01","2015-03-01","2015-04-01","2015-05-01","2015-06-01","2015-07-01","2015-08-01","2015-09-01","2015-10-01","2015-11-01","2015-12-01","2016-01-01","2016-02-01","2016-03-01","2016-04-01","2016-05-01","2016-06-01","2016-07-01","2016-08-01","2016-09-01","2016-10-01","2016-11-01","2016-12-01","2017-01-01","2017-02-01","2017-03-01","2017-04-01","2017-05-01","2017-06-01","2017-07-01","2017-08-01","2017-09-01","2017-10-01","2017-11-01","2017-12-01","2018-01-01","2018-02-01","2018-03-01","2018-04-01","2018-05-01","2018-06-01","2018-07-01","2018-08-01","2018-09-01","2018-10-01","2018-11-01","2018-12-01"]
[null,"Generación renovable (MWh)",1,2,2,2,3,1,2,3,3,2,1,1,1,2,2,2,2,2,1,2,2,2,1,1,1,1,1,1,1,1,1,1,1,1,1,1,1,1,1,1,1,1,1,1,1,1,1,1,1,1,1,1,1,1,1,1,1,1,1,1,16.5,15,14,15,15,13.5,11.5,12,13,15,15.5,17.5,16.5,15.5,15,16,15,14.5,14.5,15,16.5,18.5,20,17.5,16,16.5,15.5,16,16,16,15.5,15,17,17.5,18.5,19.5,13.2,"-","-","-","-","-","-","-","-","-","-","-"]
[null,"Día",3,1,1,2,1,1,1,1,1,3,3,1,1,2,2,2,1,1,1,1,2,1,4,4,1,1,3,7,9,1,1,1,1,1,1,1,1,1,1,1,1,1,1,1,1,1,1,1,1,1,1,1,1,1,1,1,1,1,1,1,4,1,1,1,1,1,3,1,1,2,1,4,1,1,1,1,1,1,3,3,1,2,2,2,2,4,2,2,1,1,1,7,1,1,2,1,1,"-","-","-","-","-","-","-","-","-","-","-"]
[null,null,"enero","febrero","marzo","abril","mayo","junio","julio","agosto","septiembre","octubre","noviembre","diciembre","enero","febrero","marzo","abril","mayo","junio","julio","agosto","septiembre","octubre","noviembre","diciembre","enero","febrero","marzo","abril","mayo","junio","julio","agosto","septiembre","octubre","noviembre","diciembre","enero","febrero","marzo","abril","mayo","junio","julio","agosto","septiembre","octubre","noviembre","diciembre","enero","febrero","marzo","abril","mayo","junio","julio","agosto","septiembre","octubre","noviembre","diciembre","enero","febrero","marzo","abril","mayo","junio","julio","agosto","septiembre","octubre","noviembre","diciembre","enero","febrero","marzo","abril","mayo","junio","julio","agosto","septiembre","octubre","noviembre","diciembre","enero","febrero","marzo","abril","mayo","junio","julio","agosto","septiembre","octubre","noviembre","diciembre","enero","febrero","marzo","abril","mayo","junio","julio","agosto","septiembre","octubre","noviembre","diciembre"]
[null,"Maxima participación de la generación renovable en la estructura de generación Melilla","2010-01-01","2010-02-01","2010-03-01","2010-04-01","2010-05-01","2010-06-01","2010-07-01","2010-08-01","2010-09-01","2010-10-01","2010-11-01","2010-12-01","2011-01-01","2011-02-01","2011-03-01","2011-04-01","2011-05-01","2011-06-01","2011-07-01","2011-08-01","2011-09-01","2011-10-01","2011-11-01","2011-12-01","2012-01-01","2012-02-01","2012-03-01","2012-04-01","2012-05-01","2012-06-01","2012-07-01","2012-08-01","2012-09-01","2012-10-01","2012-11-01","2012-12-01","2013-01-01","2013-02-01","2013-03-01","2013-04-01","2013-05-01","2013-06-01","2013-07-01","2013-08-01","2013-09-01","2013-10-01","2013-11-01","2013-12-01","2014-01-01","2014-02-01","2014-03-01","2014-04-01","2014-05-01","2014-06-01","2014-07-01","2014-08-01","2014-09-01","2014-10-01","2014-11-01","2014-12-01","2015-01-01","2015-02-01","2015-03-01","2015-04-01","2015-05-01","2015-06-01","2015-07-01","2015-08-01","2015-09-01","2015-10-01","2015-11-01","2015-12-01","2016-01-01","2016-02-01","2016-03-01","2016-04-01","2016-05-01","2016-06-01","2016-07-01","2016-08-01","2016-09-01","2016-10-01","2016-11-01","2016-12-01","2017-01-01","2017-02-01","2017-03-01","2017-04-01","2017-05-01","2017-06-01","2017-07-01","2017-08-01","2017-09-01","2017-10-01","2017-11-01","2017-12-01","2018-01-01","2018-02-01","2018-03-01","2018-04-01","2018-05-01","2018-06-01","2018-07-01","2018-08-01","2018-09-01","2018-10-01","2018-11-01","2018-12-01"]
[null,"Generación renovable (%)",0.2,0.3,0.4,0.4,0.6,0.2,0.3,0.5,0.4,0.4,0.2,0.2,0.2,0.3,0.3,0.4,0.4,0.4,0.2,0.3,0.4,0.3,0.2,0.2,0.2,0.2,0.2,0.2,0.2,0.2,0.2,0.2,0.2,0.2,0.2,0.2,0.2,0.2,0.2,0.2,0.2,0.2,0.2,0.2,0.2,0.2,0.2,0.2,0.2,0.2,0.2,0.2,0.2,0.2,0.2,0.2,0.2,0.2,0.2,0.2,2.9783393501805056,2.7768418792184857,2.8035706275512493,3.225806451612903,3.1443244942878104,2.5948103792415167,1.9658119658119657,1.8938228234057564,2.3940715422240557,2.8422356213330087,3.1310284923592806,3.315416687597327,3.2959262351733258,2.9292195931313989,3.1254243571864277,3.2983230088951645,3.1569974849253368,2.9337914094540922,2.6577318000359251,2.6020209029012529,4.3296089385474863,3.5045644584121858,3.8290627828842858,3.41130604288499,3.0240316011302317,3.0576392801019958,3.2494758909853245,3.2775333284170332,3.3081158419464956,3.185829430692281,2.9354726300319682,2.5618374558303887,3.6477282889565616,3.3139232116650099,3.4951456310679614,3.5669078750009144,2.4176001289386737,"-","-","-","-","-","-","-","-","-","-","-"]
[null,"Día",3,1,1,2,1,1,1,1,1,3,3,1,1,2,2,2,1,1,2,1,3,1,4,4,1,1,3,7,9,1,1,5,1,1,1,1,1,1,1,1,1,1,1,2,1,1,1,1,1,1,1,1,1,1,1,1,6,1,1,1,4,1,29,3,3,7,5,2,6,11,1,6,1,21,20,3,1,5,3,7,10,2,1,4,2,4,5,2,1,4,2,13,18,1,1,2,6,"-","-","-","-","-","-","-","-","-","-","-"]
[null,null,"enero","febrero","marzo","abril","mayo","junio","julio","agosto","septiembre","octubre","noviembre","diciembre","enero","febrero","marzo","abril","mayo","junio","julio","agosto","septiembre","octubre","noviembre","diciembre","enero","febrero","marzo","abril","mayo","junio","julio","agosto","septiembre","octubre","noviembre","diciembre","enero","febrero","marzo","abril","mayo","junio","julio","agosto","septiembre","octubre","noviembre","diciembre","enero","febrero","marzo","abril","mayo","junio","julio","agosto","septiembre","octubre","noviembre","diciembre","enero","febrero","marzo","abril","mayo","junio","julio","agosto","septiembre","octubre","noviembre","diciembre","enero","febrero","marzo","abril","mayo","junio","julio","agosto","septiembre","octubre","noviembre","diciembre","enero","febrero","marzo","abril","mayo","junio","julio","agosto","septiembre","octubre","noviembre","diciembre","enero","febrero","marzo","abril","mayo","junio","julio","agosto","septiembre","octubre","noviembre","diciembre"]
[null,"Maxima generación renovable nacional","2010-01-01","2010-02-01","2010-03-01","2010-04-01","2010-05-01","2010-06-01","2010-07-01","2010-08-01","2010-09-01","2010-10-01","2010-11-01","2010-12-01","2011-01-01","2011-02-01","2011-03-01","2011-04-01","2011-05-01","2011-06-01","2011-07-01","2011-08-01","2011-09-01","2011-10-01","2011-11-01","2011-12-01","2012-01-01","2012-02-01","2012-03-01","2012-04-01","2012-05-01","2012-06-01","2012-07-01","2012-08-01","2012-09-01","2012-10-01","2012-11-01","2012-12-01","2013-01-01","2013-02-01","2013-03-01","2013-04-01","2013-05-01","2013-06-01","2013-07-01","2013-08-01","2013-09-01","2013-10-01","2013-11-01","2013-12-01","2014-01-01","2014-02-01","2014-03-01","2014-04-01","2014-05-01","2014-06-01","2014-07-01","2014-08-01","2014-09-01","2014-10-01","2014-11-01","2014-12-01","2015-01-01","2015-02-01","2015-03-01","2015-04-01","2015-05-01","2015-06-01","2015-07-01","2015-08-01","2015-09-01","2015-10-01","2015-11-01","2015-12-01","2016-01-01","2016-02-01","2016-03-01","2016-04-01","2016-05-01","2016-06-01","2016-07-01","2016-08-01","2016-09-01","2016-10-01","2016-11-01","2016-12-01","2017-01-01","2017-02-01","2017-03-01","2017-04-01","2017-05-01","2017-06-01","2017-07-01","2017-08-01","2017-09-01","2017-10-01","2017-11-01","2017-12-01","2018-01-01","2018-02-01","2018-03-01","2018-04-01","2018-05-01","2018-06-01","2018-07-01","2018-08-01","2018-09-01","2018-10-01","2018-11-01","2018-12-01"]
[null,"Generación renovable (GWh)",418.32865849999996,445.03818109999997,452.3376035,384.69631770000001,424.11484250000001,310.67061609999996,281.78368900000004,258.45423629999999,265.23402599999997,329.53012770000004,385.50302129999994,406.0418411,448.83273221599995,412.272054626,413.84473291999996,350.130752788,359.55881518799998,354.11637826399999,288.45213300800003,277.30188613199999,240.435636206,295.71868320999999,347.74956093399999,371.353600508,328.410813706,396.71600483400005,327.66034617800005,432.46082538799999,386.61701486399994,352.45098221799992,271.26478424800001,317.48426252600001,334.19886365600007,346.89302696000004,390.85046150199997,413.80254309200006,487.66470232199998,508.83412809800001,475.45693175199995,464.54236475200003,416.097833804,383.94705686800006,305.21322058799996,338.50302093200003,302.55242521400004,348.98715483200004,419.27431412999999,426.10043969399999,507.029546482,507.81624280599999,494.58344548399998,476.62863218199999,392.3852736,378.41994395600005,363.256347952,304.63944978000001,265.15804110000005,300.45610779999998,411.90547513400003,404.02241822799999,474.40426110200002,499.68785711800001,460.71984841400001,366.414218076,395.96800767000002,327.00241329200003,312.67650100999998,317.300792624,371.64778626000003,362.07555094200001,402.99664360000003,326.48136705799999,477.673089984,515.81478365599992,484.13693483200007,449.75716166599994,430.13747247800006,373.08497630199997,334.82978348000006,382.24848781999998,265.54492180599999,263.43925939800005,315.94230113399999,260.57866106,401.51883855800003,413.39116713000004,411.45840806199999,372.02093878200003,359.294484404,398.96146773999999,289.99979074399999,289.680119402,278.51068192399998,265.92838263200002,347.51236049399995,394.49489518600001,400.33833900000002,"-","-","-","-","-","-","-","-","-","-","-"]
[null,"Día",14,24,9,8,4,19,6,13,7,31,9,24,22,22,16,11,15,2,19,9,18,24,5,16,2,3,8,19,21,11,1,31,25,27,28,14,23,6,13,9,31,27,9,2,11,22,5,26,28,10,4,4,22,6,9,13,17,16,15,1,30,24,5,1,8,17,3,23,16,5,21,28,11,12,10,5,13,15,14,10,14,23,8,19,17,5,13,19,11,28,18,10,10,30,13,27,4,"-","-","-","-","-","-","-","-","-","-","-"]
[null,null,"enero","febrero","marzo","abril","mayo","junio","julio","agosto","septiembre","octubre","noviembre","diciembre","enero","febrero","marzo","abril","mayo","junio","julio","agosto","septiembre","octubre","noviembre","diciembre","enero","febrero","marzo","abril","mayo","junio","julio","agosto","septiembre","octubre","noviembre","diciembre","enero","febrero","marzo","abril","mayo","junio","julio","agosto","septiembre","octubre","noviembre","diciembre","enero","febrero","marzo","abril","mayo","junio","julio","agosto","septiembre","octubre","noviembre","diciembre","enero","febrero","marzo","abril","mayo","junio","julio","agosto","septiembre","octubre","noviembre","diciembre","enero","febrero","marzo","abril","mayo","junio","julio","agosto","septiembre","octubre","noviembre","diciembre","enero","febrero","marzo","abril","mayo","junio","julio","agosto","septiembre","octubre","noviembre","diciembre","enero","febrero","marzo","abril","mayo","junio","julio","agosto","septiembre","octubre","noviembre","diciembre"]
[null,"Maxima participación de la generación renovable en la estructura de generación nacional","2010-01-01","2010-02-01","2010-03-01","2010-04-01","2010-05-01","2010-06-01","2010-07-01","2010-08-01","2010-09-01","2010-10-01","2010-11-01","2010-12-01","2011-01-01","2011-02-01","2011-03-01","2011-04-01","2011-05-01","2011-06-01","2011-07-01","2011-08-01","2011-09-01","2011-10-01","2011-11-01","2011-12-01","2012-01-01","2012-02-01","2012-03-01","2012-04-01","2012-05-01","2012-06-01","2012-07-01","2012-08-01","2012-09-01","2012-10-01","2012-11-01","2012-12-01","2013-01-01","2013-02-01","2013-03-01","2013-04-01","2013-05-01","2013-06-01","2013-07-01","2013-08-01","2013-09-01","2013-10-01","2013-11-01","2013-12-01","2014-01-01","2014-02-01","2014-03-01","2014-04-01","2014-05-01","2014-06-01","2014-07-01","2014-08-01","2014-09-01","2014-10-01","2014-11-01","2014-12-01","2015-01-01","2015-02-01","2015-03-01","2015-04-01","2015-05-01","2015-06-01","2015-07-01","2015-08-01","2015-09-01","2015-10-01","2015-11-01","2015-12-01","2016-01-01","2016-02-01","2016-03-01","2016-04-01","2016-05-01","2016-06-01","2016-07-01","2016-08-01","2016-09-01","2016-10-01","2016-11-01","2016-12-01","2017-01-01","2017-02-01","2017-03-01","2017-04-01","2017-05-01","2017-06-01","2017-07-01","2017-08-01","2017-09-01","2017-10-01","2017-11-01","2017-12-01","2018-01-01","2018-02-01","2018-03-01","2018-04-01","2018-05-01","2018-06-01","2018-07-01","2018-08-01","2018-09-01","2018-10-01","2018-11-01","2018-12-01"]
[null,"Generación renovable (%)",54.8,52.4,54.1,49.900000000000006,53.999999999999993,47.699999999999996,38.299999999999997,33.799999999999997,36.4,48.900000000000006,47.400000000000006,53.8,54.134716618593103,49.056292787002988,49.877394018390881,49.757598012039189,56.674820156943809,47.019891844936829,39.026159032170519,35.635589681107568,36.502248083912598,40.960163652063109,50.311161211054809,43.523481218994355,42.297571111570058,40.317327014289347,39.451590227083791,50.690535784882975,49.09615734494362,46.856081819124881,39.578773696451776,40.253547504942304,45.00657922738371,49.119530638823285,51.139245510626552,52.367607207288223,54.628023413827123,59.671178567300586,56.110304687691205,57.827514662519931,57.503483719587265,55.576960412491793,40.876914663622955,42.09600981366254,46.530971346080477,46.931592828858712,54.138221282832724,57.896716516728894,58.761396964334587,61.120235486016348,61.023681441119393,58.394213067749398,54.764611191338773,54.615459017852132,46.422568693488564,45.404023605174672,34.810404308595764,42.458070492915482,56.800688249302056,52.136765796297865,58.917837466675216,57.129314268661822,56.622211552447844,49.582118871848841,54.739691856619999,43.385947467236299,37.402667748694206,43.753744258886712,48.22027402793266,50.417961085466821,55.375591893229981,46.781088236496259,59.548395848810912,66.395015982831126,57.594293156544765,57.768955254573171,59.785006440833854,50.403299006471393,43.406731750757764,51.023247113604484,40.227997493792635,37.579035471031759,47.290298670119057,37.663741522481921,42.3358288560269,53.698556397254606,52.64323996687785,51.8065470960967,50.489805199190855,51.17098974838472,40.513709159806552,40.919132874040088,43.632913977788327,40.508767021533359,44.079143741879989,50.738178499460965,53.251312377813463,"-","-","-","-","-","-","-","-","-","-","-"]
[null,"Día",1,24,30,3,15,20,25,13,12,31,1,25,22,27,27,10,15,2,17,9,18,23,13,24,6,5,4,19,21,10,1,31,23,27,1,15,20,2,25,6,31,1,28,2,29,22,4,25,28,1,25,4,3,15,9,16,17,18,16,28,31,23,5,1,16,17,3,23,16,5,21,28,11,13,5,30,1,15,14,10,17,23,20,17,17,5,13,19,11,28,2,10,10,28,5,27,4,"-","-","-","-","-","-","-","-","-","-","-"]
[null,null,"enero","febrero","marzo","abril","mayo","junio","julio","agosto","septiembre","octubre","noviembre","diciembre","enero","febrero","marzo","abril","mayo","junio","julio","agosto","septiembre","octubre","noviembre","diciembre","enero","febrero","marzo","abril","mayo","junio","julio","agosto","septiembre","octubre","noviembre","diciembre","enero","febrero","marzo","abril","mayo","junio","julio","agosto","septiembre","octubre","noviembre","diciembre","enero","febrero","marzo","abril","mayo","junio","julio","agosto","septiembre","octubre","noviembre","diciembre","enero","febrero","marzo","abril","mayo","junio","julio","agosto","septiembre","octubre","noviembre","diciembre","enero","febrero","marzo","abril","mayo","junio","julio","agosto","septiembre","octubre","noviembre","diciembre","enero","febrero","marzo","abril","mayo","junio","julio","agosto","septiembre","octubre","noviembre","diciembre","enero","febrero","marzo","abril","mayo","junio","julio","agosto","septiembre","octubre","noviembre","diciembre"]
[null,"Maxima generación renovable peninsular","2010","2011","2012","2013","2014","2015","2016","2017","2018","2019","2020","2021","2022","2023","2024","2025"]
[null,"Generación renovable (GWh)",448.96560350000004,447.65473221599996,429.083954388,506.81291409799996,505.359242806,495.87784811799997,512.93229365599996,410.62259413000004,397.51164699999998,"-","-","-","-","-","-","-"]
[null,"Día","9 de marzo","22 de enero","19 de abril","6 de febrero","10 de febrero","24 de febrero","12 de febrero","5 de febrero","4 de enero","-","-","-","-","-","-","-"]
[]
[null,"Maxima participación de la generación renovable en la estructura de generación peninsular ","2010","2011","2012","2013","2014","2015","2016","2017","2018","2019","2020","2021","2022","2023","2024","2025"]
[null,"Generación renovable (%)",58,59.748659972765516,54.578823199399373,61.985799442288311,63.845377362849987,61.288612399854728,69.093126751174751,55.682435593144419,55.621986286188907,"-","-","-","-","-","-","-"]
[null,"Día","1 de enero","15 de mayo","15 de diciembre","2 de febrero","1 de febrero","31 de enero","13 de febrero","5 de febrero","4 de enero","-","-","-","-","-","-","-"]
[]
[null,"Maxima generación renovable Islas Baleares","2010","2011","2012","2013","2014","2015","2016","2017","2018","2019","2020","2021","2022","2023","2024","2025"]
[null,"Generación renovable (MWh)",447,494,532,519,640,1255,1026,1012.5,733.04,"-","-","-","-","-","-","-"]
[null,"Día","8 de agosto","23 de mayo","22 de junio","9 de junio","1 de junio","3 de junio","29 de mayo","12 de abril","16 de enero","-","-","-","-","-","-","-"]
[]
[null,"Maxima participación de la generación renovable en la estructura de generación Islas Baleares ","2010","2011","2012","2013","2014","2015","2016","2017","2018","2019","2020","2021","2022","2023","2024","2025"]
[null,"Generación renovable (%)",2.6,3.5,3.7,4.7,5.8999999999999995,11.261715118667977,10.27967543121914,9.8548412912660677,6.4828441591112558,"-","-","-","-","-","-","-"]
[null,"Día","9 de mayo","22 de mayo","9 de abril","31 de marzo","1 de junio","15 de noviembre","10 de abril","30 de marzo","17 de enero","-","-","-","-","-","-","-"]
[]
[null,"Maxima generación renovable Islas Canarias","2010","2011","2012","2013","2014","2015","2016","2017","2018","2019","2020","2021","2022","2023","2024","2025"]
[null,"Generación renovable (MWh)",3716,3561,3397.9769999999999,3721.7179999999998,3788,3971.1860000000001,3711.3559999999998,5289.92,4825.134,"-","-","-","-","-","-","-"]
[null,"Día","30 de mayo","2 de marzo","11 de junio","21 de junio","26 de marzo","24 de julio","26 de junio","12 de marzo","27 de enero","-","-","-","-","-","-","-"]
[]
[null,"Maxima participación de la generación renovable en la estructura de generación Islas Canarias ","2010","2011","2012","2013","2014","2015","2016","2017","2018","2019","2020","2021","2022","2023","2024","2025"]
[null,"Generación renovable (%)",18.099999999999998,15.299999999999999,15.5,15.700000000000001,17.899999999999999,17.3,16.900000000000002,22.5,20,"-","-","-","-","-","-","-"]
[null,"Día","30 de mayo","10 de julio","10 de junio","21 de junio","27 de abril","12 de julio","26 de junio","12 de marzo","27 de enero","-","-","-","-","-","-","-"]
[]
[null,"Maxima generación renovable Melilla","2010","2011","2012","2013","2014","2015","2016","2017","2018","2019","2020","2021","2022","2023","2024","2025"]
[null,"Generación renovable (MWh)",3,2,1,1,1,17.5,20,19.5,13.2,"-","-","-","-","-","-","-"]
[null,"Día","1 de mayo","2 de febrero","1 de enero","1 de enero","1 de enero","4 de diciembre","2 de noviembre","1 de diciembre","1 de enero","-","-","-","-","-","-","-"]
[]
[null,"Maxima participación de la generación renovable en la estructura de generación Melilla","2010","2011","2012","2013","2014","2015","2016","2017","2018","2019","2020","2021","2022","2023","2024","2025"]
[null,"Generación renovable (%)",0.6,0.4,0.2,0.2,0.2,3.315416687597327,4.3296089385474863,3.6477282889565616,2.4176001289386737,"-","-","-","-","-","-","-"]
[null,"Día","1 de mayo","2 de abril","1 de enero","1 de enero","1 de enero","6 de diciembre","10 de septiembre","18 de septiembre","6 de enero","-","-","-","-","-","-","-"]
[]
[null,"Maxima generación renovable nacional","2010","2011","2012","2013","2014","2015","2016","2017","2018","2019","2020","2021","2022","2023","2024","2025"]
[null,"Generación renovable (GWh)",452.3376035,448.83273221599995,432.46082538799999,508.83412809800001,507.81624280599999,499.68785711800001,515.81478365599992,413.39116713000004,400.33833900000002,"-","-","-","-","-","-","-"]
[null,"Día","9 de marzo","22 de enero","19 de abril","6 de febrero","10 de febrero","24 de febrero","12 de febrero","5 de febrero","4 de enero","-","-","-","-","-","-","-"]
[]
[null,"Maxima participación de la generación renovable en la estructura de generación nacional","2010","2011","2012","2013","2014","2015","2016","2017","2018","2019","2020","2021","2022","2023","2024","2025"]
[null,"Generación renovable (%)",54.8,56.674820156943809,52.367607207288223,59.671178567300586,61.120235486016348,58.917837466675216,66.395015982831126,53.698556397254606,53.251312377813463,"-","-","-","-","-","-","-"]
[null,"Día","1 de enero","15 de mayo","15 de diciembre","2 de febrero","1 de febrero","31 de enero","13 de febrero","5 de febrero","4 de enero","-","-","-","-","-","-","-"]

{"sheet":"Año","index":32,"n_rows":30,"n_cols":26,"rows_kept":30,"cut":false,"hidden":true,"merged":[]}
[null,null,null,null,null,null,null,null,null,null,null,null,null,null,null,null,null,null,null,null,null,null,null,1,1,1]
[null,1990,"1990-1997","2006-2013","2007-2014","2010-2014","2010-2017",null,null,null,null,null,null,"Generación","Nacional","Mensual"]
[null,1991,"1998-2005","2014-2021","2015-2022","2015-2019","2018-2025",null,null,null,null,null,null,"% Renovable","Peninsular","Anual"]
[null,1992,"2006-2013",null,null,null,null,null,null,null,null,null,null,"Máximos","Canarias"]
[null,1993,"2014-2021",null,null,null,null,null,null,null,null,null,null,null,"Baleares"]
[null,1994,null,null,null,null,null,null,null,null,null,null,null,null,"Melilla"]
[null,1995]
[null,1996]
[null,1997]
[null,1998]
[null,1999]
[null,2000]
[null,2001]
[null,2002]
[null,2003]
[null,2004]
[null,2005]
[null,2006]
[null,2007]
[null,2008]
[null,2009]
[null,2010]
[null,2011]
[null,2012]
[null,2013]
[null,2014]
[null,2015]
[null,2016]
[null,2017]
[null,2018]

{"sheet":"Maximo renovable año I-V","index":33,"n_rows":23,"n_cols":12,"rows_kept":23,"cut":false,"hidden":true,"merged":[[22,1,22,11],[5,8,5,9],[7,2,7,3],[7,4,7,5],[7,6,7,7],[7,8,7,9],[7,10,7,11],[15,2,15,3],[15,4,15,5],[15,6,15,7],[15,8,15,9],[15,10,15,11]]}
[null,null,null,null,null,null,null,null,null,null,null,1]
[]
[null,null,null,null,null,null,null,null,null,"www.ree.es"]
[null,null,null,null,null,null,null,null,null,"Fecha de actualización:",null,"2016-04-11"]
[]
[null,null,null,null,null,null,null,null,"Seleccione un periodo"]
[]
[null,null,{"$f":"OFFSET('Maximos I-V'!C10,0,($L$1-1)*10)","v":"2010"},{"$f":"OFFSET(#REF!,0,($L$1-1)*12)","v":{"$error":"#REF!"}},{"$f":"OFFSET('Maximos I-V'!E10,0,($L$1-1)*10)","v":"2011"},{"$f":"OFFSET(#REF!,0,($L$1-1)*12)","v":{"$error":"#REF!"}},{"$f":"OFFSET('Maximos I-V'!G10,0,($L$1-1)*10)","v":"2012"},{"$f":"OFFSET(#REF!,0,($L$1-1)*12)","v":{"$error":"#REF!"}},{"$f":"OFFSET('Maximos I-V'!I10,0,($L$1-1)*10)","v":"2013"},{"$f":"OFFSET(#REF!,0,($L$1-1)*12)","v":{"$error":"#REF!"}},{"$f":"OFFSET('Maximos I-V'!K10,0,($L$1-1)*10)","v":"2014"},{"$f":"OFFSET(#REF!,0,($L$1-1)*12)","v":{"$error":"#REF!"}}]
[]
[null,null,"Invierno","Verano","Invierno","Verano","Invierno","Verano","Invierno","Verano","Invierno","Verano"]
[null,"Generación renovable (GWh)",{"$f":"OFFSET('Maximos I-V'!C12,0,($L$1-1)*10)","v":448.96560350000004},{"$f":"OFFSET('Maximos I-V'!D12,0,($L$1-1)*10)","v":309.53562019999998},{"$f":"OFFSET('Maximos I-V'!E12,0,($L$1-1)*10)","v":448.09747239999996},{"$f":"OFFSET('Maximos I-V'!F12,0,($L$1-1)*10)","v":347.31630860000007},{"$f":"OFFSET('Maximos I-V'!G12,0,($L$1-1)*10)","v":423.02411649999999},{"$f":"OFFSET('Maximos I-V'!H12,0,($L$1-1)*10)","v":343.94804999999997},{"$f":"OFFSET('Maximos I-V'!I12,0,($L$1-1)*10)","v":497.41206579999999},{"$f":"OFFSET('Maximos I-V'!J12,0,($L$1-1)*10)","v":378.58421979999997},{"$f":"OFFSET('Maximos I-V'!K12,0,($L$1-1)*10)","v":509.898709},{"$f":"OFFSET('Maximos I-V'!L12,0,($L$1-1)*10)","v":363.13874219999997}]
[null,"Día",{"$f":"OFFSET('Maximos I-V'!C13,0,($L$1-1)*10)","v":"9 de marzo"},{"$f":"OFFSET('Maximos I-V'!D13,0,($L$1-1)*10)","v":"10 de junio"},{"$f":"OFFSET('Maximos I-V'!E13,0,($L$1-1)*10)","v":"22 de enero"},{"$f":"OFFSET('Maximos I-V'!F13,0,($L$1-1)*10)","v":"2 de junio"},{"$f":"OFFSET('Maximos I-V'!G13,0,($L$1-1)*10)","v":"19 de abril"},{"$f":"OFFSET('Maximos I-V'!H13,0,($L$1-1)*10)","v":"11 de junio"},{"$f":"OFFSET('Maximos I-V'!I13,0,($L$1-1)*10)","v":"6 de febrero"},{"$f":"OFFSET('Maximos I-V'!J13,0,($L$1-1)*10)","v":"27 de junio"},{"$f":"OFFSET('Maximos I-V'!K13,0,($L$1-1)*10)","v":"28 de enero"},{"$f":"OFFSET('Maximos I-V'!L13,0,($L$1-1)*10)","v":"6 de junio"}]
[]
[]
[]
[null,null,{"$f":"OFFSET('Maximos I-V'!C15,0,($L$1-1)*10)","v":"2010"},{"$f":"OFFSET(#REF!,0,($L$1-1)*12)","v":{"$error":"#REF!"}},{"$f":"OFFSET('Maximos I-V'!E15,0,($L$1-1)*10)","v":"2011"},{"$f":"OFFSET(#REF!,0,($L$1-1)*12)","v":{"$error":"#REF!"}},{"$f":"OFFSET('Maximos I-V'!G15,0,($L$1-1)*10)","v":"2012"},{"$f":"OFFSET(#REF!,0,($L$1-1)*12)","v":{"$error":"#REF!"}},{"$f":"OFFSET('Maximos I-V'!I15,0,($L$1-1)*10)","v":"2013"},{"$f":"OFFSET(#REF!,0,($L$1-1)*12)","v":{"$error":"#REF!"}},{"$f":"OFFSET('Maximos I-V'!K15,0,($L$1-1)*10)","v":"2014"},{"$f":"OFFSET(#REF!,0,($L$1-1)*12)","v":{"$error":"#REF!"}}]
[]
[null,null,"Invierno","Verano","Invierno","Verano","Invierno","Verano","Invierno","Verano","Invierno","Verano"]
[]
[null,"Participación generación renovable (%)",{"$f":"OFFSET('Maximos I-V'!C17,0,($L$1-1)*10)","v":58},{"$f":"OFFSET('Maximos I-V'!D17,0,($L$1-1)*10)","v":49.699999999999996},{"$f":"OFFSET('Maximos I-V'!E17,0,($L$1-1)*10)","v":59.3},{"$f":"OFFSET('Maximos I-V'!F17,0,($L$1-1)*10)","v":49.600000000000009},{"$f":"OFFSET('Maximos I-V'!G17,0,($L$1-1)*10)","v":53.8},{"$f":"OFFSET('Maximos I-V'!H17,0,($L$1-1)*10)","v":48.9},{"$f":"OFFSET('Maximos I-V'!I17,0,($L$1-1)*10)","v":62.099999999999994},{"$f":"OFFSET('Maximos I-V'!J17,0,($L$1-1)*10)","v":58.600000000000009},{"$f":"OFFSET('Maximos I-V'!K17,0,($L$1-1)*10)","v":65},{"$f":"OFFSET('Maximos I-V'!L17,0,($L$1-1)*10)","v":56.499999999999993}]
[null,"Día",{"$f":"OFFSET('Maximos I-V'!C18,0,($L$1-1)*10)","v":"1 de enero"},{"$f":"OFFSET('Maximos I-V'!D18,0,($L$1-1)*10)","v":"20 de junio"},{"$f":"OFFSET('Maximos I-V'!E18,0,($L$1-1)*10)","v":"15 de mayo"},{"$f":"OFFSET('Maximos I-V'!F18,0,($L$1-1)*10)","v":"2 de junio"},{"$f":"OFFSET('Maximos I-V'!G18,0,($L$1-1)*10)","v":"1 de noviembre"},{"$f":"OFFSET('Maximos I-V'!H18,0,($L$1-1)*10)","v":"10 de junio"},{"$f":"OFFSET('Maximos I-V'!I18,0,($L$1-1)*10)","v":"2 de febrero"},{"$f":"OFFSET('Maximos I-V'!J18,0,($L$1-1)*10)","v":"1 de junio"},{"$f":"OFFSET('Maximos I-V'!K18,0,($L$1-1)*10)","v":"25 de marzo"},{"$f":"OFFSET('Maximos I-V'!L18,0,($L$1-1)*10)","v":"15 de junio"}]
[]
[null,"El periodo de invierno comprende los meses de enero a mayo y de octubre a diciembre. El periodo de verano comprende los meses de junio a septiembre.","Verano (junio - septiembre)"]

{"sheet":"Maximos I-V","index":34,"n_rows":18,"n_cols":122,"rows_kept":18,"cut":false,"hidden":true,"merged":[]}
[]
[null,"Maximos generación renovable mensual peninsular","2010-01-01","2010-02-01","2010-03-01","2010-04-01","2010-05-01","2010-06-01","2010-07-01","2010-08-01","2010-09-01","2010-10-01","2010-11-01","2010-12-01","2011-01-01","2011-02-01","2011-03-01","2011-04-01","2011-05-01","2011-06-01","2011-07-01","2011-08-01","2011-09-01","2011-10-01","2011-11-01","2011-12-01","2012-01-01","2012-02-01","2012-03-01","2012-04-01","2012-05-01","2012-06-01","2012-07-01","2012-08-01","2012-09-01","2012-10-01","2012-11-01","2012-12-01","2013-01-01","2013-02-01","2013-03-01","2013-04-01","2013-05-01","2013-06-01","2013-07-01","2013-08-01","2013-09-01","2013-10-01","2013-11-01","2013-12-01","2014-01-01","2014-02-01","2014-03-01","2014-04-01","2014-05-01","2014-06-01","2014-07-01","2014-08-01","2014-09-01","2014-10-01","2014-11-01","2014-12-01","2015-01-01","2015-02-01","2015-03-01","2015-04-01","2015-05-01","2015-06-01","2015-07-01","2015-08-01","2015-09-01","2015-10-01","2015-11-01","2015-12-01","2016-01-01","2016-02-01","2016-03-01","2016-04-01","2016-05-01","2016-06-01","2016-07-01","2016-08-01","2016-09-01","2016-10-01","2016-11-01","2016-12-01"]
[null,"Generación renovable (GWh)",416.84965849999998,443.5441811,448.96560350000004,381.50331770000003,420.55084250000004,309.53562019999998,279.91168900000002,255.00823629999999,262.89802599999996,327.81719169999997,384.51802129999999,405.19184110000003,448.09747239999996,402.02467289999998,407.62319510000003,346.9352485,344.81671959999994,347.31630860000007,284.7084974,266.06142109999996,223.5463182,290.33216830000003,336.8710787,372.01459999999997,314.43193930000001,392.02671549999997,322.60012770000003,423.02411649999999,375.35418829999998,343.94804999999997,261.89484709999999,315.38414089999998,326.0539733,327.26901609999999,386.98494010000002,407.2082431,475.67163970000001,497.41206579999999,460.69435909999993,453.37752570000004,409.26025089999996,378.58421979999997,313.27109080000002,343.01767079999996,295.7526373,345.79992440000001,412.29087500000003,414.773121,509.898709,509.44376699999998,492.65063750000002,460.2698292,379.78497549999997,363.13874219999997,354.88946179999999,294.51390459999993,267.86604560000001,294.91638309999996,393.2436237,396.3260818,474.26743920000001,495.83087770000003,456.36586149999999,362.07516190000001,387.515558,322.19510379999997,307.748783,293.05192799999998,361.60237060000003,354.0374923,387.54928430000001,325.19343799999996,462.04062720000007,520.42039779999993,479.49663300000003,"-","-","-","-","-","-","-","-","-"]
[null,"Día",14,24,9,8,4,10,6,13,7,31,9,24,22,22,16,11,15,2,19,9,18,24,5,16,2,3,8,19,21,11,1,31,25,27,28,14,23,6,14,9,31,27,9,2,11,22,5,26,28,10,25,4,22,6,9,13,17,16,15,1,30,24,5,1,8,17,3,23,16,6,21,28,11,12,10,"-","-","-","-","-","-","-","-","-"]
[null,null,"enero","febrero","marzo","abril","mayo","junio","julio","agosto","septiembre","octubre","noviembre","diciembre","enero","febrero","marzo","abril","mayo","junio","julio","agosto","septiembre","octubre","noviembre","diciembre","enero","febrero","marzo","abril","mayo","junio","julio","agosto","septiembre","octubre","noviembre","diciembre","enero","febrero","marzo","abril","mayo","junio","julio","agosto","septiembre","octubre","noviembre","diciembre","enero","febrero","marzo","abril","mayo","junio","julio","agosto","septiembre","octubre","noviembre","diciembre","enero","febrero","marzo","abril","mayo","junio","julio","agosto","septiembre","octubre","noviembre","diciembre","enero","febrero","marzo","abril","mayo","junio","julio","agosto","septiembre","octubre","noviembre","diciembre","enero","febrero","marzo","abril","mayo","junio","julio","agosto","septiembre","octubre","noviembre","diciembre","enero","febrero","marzo","abril","mayo","junio","julio","agosto","septiembre","octubre","noviembre","diciembre","enero","febrero","marzo","abril","mayo","junio","julio","agosto","septiembre","octubre","noviembre","diciembre"]
[null,"Maximos de participación de la generación renovable en la estructura de generación mensual peninsular ","2010-01-01","2010-02-01","2010-03-01","2010-04-01","2010-05-01","2010-06-01","2010-07-01","2010-08-01","2010-09-01","2010-10-01","2010-11-01","2010-12-01","2011-01-01","2011-02-01","2011-03-01","2011-04-01","2011-05-01","2011-06-01","2011-07-01","2011-08-01","2011-09-01","2011-10-01","2011-11-01","2011-12-01","2012-01-01","2012-02-01","2012-03-01","2012-04-01","2012-05-01","2012-06-01","2012-07-01","2012-08-01","2012-09-01","2012-10-01","2012-11-01","2012-12-01","2013-01-01","2013-02-01","2013-03-01","2013-04-01","2013-05-01","2013-06-01","2013-07-01","2013-08-01","2013-09-01","2013-10-01","2013-11-01","2013-12-01","2014-01-01","2014-02-01","2014-03-01","2014-04-01","2014-05-01","2014-06-01","2014-07-01","2014-08-01","2014-09-01","2014-10-01","2014-11-01","2014-12-01","2015-01-01","2015-02-01","2015-03-01","2015-04-01","2015-05-01","2015-06-01","2015-07-01","2015-08-01","2015-09-01","2015-10-01","2015-11-01","2015-12-01","2016-01-01","2016-02-01","2016-03-01","2016-04-01","2016-05-01","2016-06-01","2016-07-01","2016-08-01","2016-09-01","2016-10-01","2016-11-01","2016-12-01"]
[null,"Generación renovable (GWh)",58,54.7,56.600000000000009,52.300000000000004,56.800000000000004,49.699999999999996,40.300000000000004,35.6,38.5,51.5,49.800000000000004,56.800000000000004,57.5,51,52.599999999999994,51.1,59.3,49.600000000000009,40.9,37.000000000000007,37.200000000000003,42.8,52.7,46.4,44.4,42.6,41.5,52.999999999999993,51.500000000000007,48.9,41.800000000000004,42.9,46.1,50.9,53.8,53.7,56.900000000000006,62.099999999999994,57.8,60.5,60.4,58.600000000000009,41.599999999999994,45.099999999999994,48.199999999999996,49.699999999999996,57.5,59.300000000000004,62.900000000000006,63.5,65,61.1,58,56.499999999999993,48.6,46.8,37.699999999999996,45.5,59.900000000000006,54.9,62.1,60.400000000000006,60.099999999999994,52.400000000000006,57.100000000000009,45.3,38.799999999999997,44.699999999999996,50.899999999999991,53.6,58.5,50.4,62.3,70.899999999999991,61.000000000000007,"-","-","-","-","-","-","-","-","-"]
[null,"Día",1,24,30,3,15,20,25,13,12,31,1,25,22,27,27,10,15,2,17,9,18,8,13,24,6,5,18,18,21,10,1,31,23,27,1,15,20,2,7,9,31,1,28,2,29,22,4,25,28,1,25,26,3,15,9,16,17,18,16,28,31,24,5,1,16,17,3,23,16,5,21,28,11,13,5,"-","-","-","-","-","-","-","-","-"]
[null,null,"enero","febrero","marzo","abril","mayo","junio","julio","agosto","septiembre","octubre","noviembre","diciembre","enero","febrero","marzo","abril","mayo","junio","julio","agosto","septiembre","octubre","noviembre","diciembre","enero","febrero","marzo","abril","mayo","junio","julio","agosto","septiembre","octubre","noviembre","diciembre","enero","febrero","marzo","abril","mayo","junio","julio","agosto","septiembre","octubre","noviembre","diciembre","enero","febrero","marzo","abril","mayo","junio","julio","agosto","septiembre","octubre","noviembre","diciembre","enero","febrero","marzo","abril","mayo","junio","julio","agosto","septiembre","octubre","noviembre","diciembre","enero","febrero","marzo","abril","mayo","junio","julio","agosto","septiembre","octubre","noviembre","diciembre","enero","febrero","marzo","abril","mayo","junio","julio","agosto","septiembre","octubre","noviembre","diciembre","enero","febrero","marzo","abril","mayo","junio","julio","agosto","septiembre","octubre","noviembre","diciembre","enero","febrero","marzo","abril","mayo","junio","julio","agosto","septiembre","octubre","noviembre","diciembre"]
[null,"Maximos generación renovable anual peninsular","2010","2010","2011","2011","2012","2012","2013","2013","2014","2014","2015","2015","2016","2016","2017","2017","2018","2018","2019","2019"]
[null,null,"Invierno","Verano","Invierno","Verano","Invierno","Verano","Invierno","Verano","Invierno","Verano","Invierno","Verano","Invierno","Verano","Invierno","Verano","Invierno","Verano","Invierno","Verano"]
[null,"Generación renovable (GWh)",{"$f":"MAX(C3:G3,L3:N3)","v":448.96560350000004},{"$f":"MAX(H3:K3)","v":309.53562019999998},{"$f":"MAX(O3:S3,X3:Z3)","v":448.09747239999996},{"$f":"MAX(T3:W3)","v":347.31630860000007},{"$f":"MAX(AA3:AE3,AJ3:AL3)","v":423.02411649999999},{"$f":"MAX(AF3:AI3)","v":343.94804999999997},{"$f":"MAX(AM3:AQ3,AV3:AX3)","v":497.41206579999999},{"$f":"MAX(AR3:AU3)","v":378.58421979999997},{"$f":"MAX(AY3:BC3,BH3:BJ3)","v":509.898709},{"$f":"MAX(BD3:BG3)","v":363.13874219999997},{"$f":"MAX(BK3:BO3,BT3:BV3)","v":495.83087770000003},{"$f":"MAX(BP3:BS3)","v":361.60237060000003},{"$f":"MAX(BW3:CA3,CF3:CH3)","v":520.42039779999993},"-","-","-","-","-","-","-"]
[null,"Día",{"$f":"HLOOKUP(C$12,$C$3:$N$5,2,FALSE)&\" de \"&HLOOKUP(C$12,$C$3:$N$5,3,FALSE)","v":"9 de marzo"},{"$f":"HLOOKUP(D$12,$C$3:$N$5,2,FALSE)&\" de \"&HLOOKUP(D$12,$C$3:$N$5,3,FALSE)","v":"10 de junio"},{"$f":"HLOOKUP(E$12,$O$3:$Z$5,2,FALSE)&\" de \"&HLOOKUP(E$12,$O$3:$Z$5,3,FALSE)","v":"22 de enero"},{"$f":"HLOOKUP(F$12,$O$3:$Z$5,2,FALSE)&\" de \"&HLOOKUP(F$12,$O$3:$Z$5,3,FALSE)","v":"2 de junio"},{"$f":"HLOOKUP(G$12,$AA$3:$AL$5,2,FALSE)&\" de \"&HLOOKUP(G$12,$AA$3:$AL$5,3,FALSE)","v":"19 de abril"},{"$f":"HLOOKUP(H$12,$AA$3:$AL$5,2,FALSE)&\" de \"&HLOOKUP(H$12,$AA$3:$AL$5,3,FALSE)","v":"11 de junio"},{"$f":"HLOOKUP(I$12,$AM$3:$AX$5,2,FALSE)&\" de \"&HLOOKUP(I$12,$AM$3:$AX$5,3,FALSE)","v":"6 de febrero"},{"$f":"HLOOKUP(J$12,$AM$3:$AX$5,2,FALSE)&\" de \"&HLOOKUP(J$12,$AM$3:$AX$5,3,FALSE)","v":"27 de junio"},{"$f":"HLOOKUP(K$12,$AY$3:$BJ$5,2,FALSE)&\" de \"&HLOOKUP(K$12,$AY$3:$BJ$5,3,FALSE)","v":"28 de enero"},{"$f":"HLOOKUP(L$12,$AY$3:$BJ$5,2,FALSE)&\" de \"&HLOOKUP(L$12,$AY$3:$BJ$5,3,FALSE)","v":"6 de junio"},{"$f":"HLOOKUP(M$12,$BK$3:$BV$5,2,FALSE)&\" de \"&HLOOKUP(M$12,$BK$3:$BV$5,3,FALSE)","v":"24 de febrero"},{"$f":"HLOOKUP(N$12,$BK$3:$BV$5,2,FALSE)&\" de \"&HLOOKUP(N$12,$BK$3:$BV$5,3,FALSE)","v":"16 de septiembre"},{"$f":"HLOOKUP(O$12,$BW$3:$CH$5,2,FALSE)&\" de \"&HLOOKUP(O$12,$BW$3:$CH$5,3,FALSE)","v":"12 de febrero"},"-","-","-","-","-","-","-"]
[]
[null,"Maximos de participación de la generación renovable en la estructura de generación anual peninsular ","2010","2010","2011","2011","2012","2012","2013","2013","2014","2014","2015","2015","2016","2016","2017","2017","2018","2018","2019","2019"]
[null,null,"Invierno","Verano","Invierno","Verano","Invierno","Verano","Invierno","Verano","Invierno","Verano","Invierno","Verano","Invierno","Verano","Invierno","Verano","Invierno","Verano","Invierno","Verano"]
[null,"Generación renovable (GWh)",{"$f":"MAX(C7:G7,L7:N7)","v":58},{"$f":"MAX(H7:K7)","v":49.699999999999996},{"$f":"MAX(O7:S7,X7:Z7)","v":59.3},{"$f":"MAX(T7:W7)","v":49.600000000000009},{"$f":"MAX(AA7:AE7,AJ7:AL7)","v":53.8},{"$f":"MAX(AF7:AI7)","v":48.9},{"$f":"MAX(AM7:AQ7,AV7:AX7)","v":62.099999999999994},{"$f":"MAX(AR7:AU7)","v":58.600000000000009},{"$f":"MAX(AY7:BC7,BH7:BJ7)","v":65},{"$f":"MAX(BD7:BG7)","v":56.499999999999993},{"$f":"MAX(BK7:BO7,BT7:BV7)","v":62.1},{"$f":"MAX(BP7:BS7)","v":50.899999999999991},{"$f":"MAX(BW7:CA7,CF7:CH7)","v":70.899999999999991},"-","-","-","-","-","-","-"]
[null,"Día",{"$f":"HLOOKUP(C$17,$C$7:$N$9,2,FALSE)&\" de \"&HLOOKUP(C$17,$C$7:$N$9,3,FALSE)","v":"1 de enero"},{"$f":"HLOOKUP(D$17,$C$7:$N$9,2,FALSE)&\" de \"&HLOOKUP(D$17,$C$7:$N$9,3,FALSE)","v":"20 de junio"},{"$f":"HLOOKUP(E$17,$O$7:$Z$9,2,FALSE)&\" de \"&HLOOKUP(E$17,$O$7:$Z$9,3,FALSE)","v":"15 de mayo"},{"$f":"HLOOKUP(F$17,$O$7:$Z$9,2,FALSE)&\" de \"&HLOOKUP(F$17,$O$7:$Z$9,3,FALSE)","v":"2 de junio"},{"$f":"HLOOKUP(G$17,$AA$7:$AL$9,2,FALSE)&\" de \"&HLOOKUP(G$17,$AA$7:$AL$9,3,FALSE)","v":"1 de noviembre"},{"$f":"HLOOKUP(H$17,$AA$7:$AL$9,2,FALSE)&\" de \"&HLOOKUP(H$17,$AA$7:$AL$9,3,FALSE)","v":"10 de junio"},{"$f":"HLOOKUP(I$17,$AM$7:$AX$9,2,FALSE)&\" de \"&HLOOKUP(I$17,$AM$7:$AX$9,3,FALSE)","v":"2 de febrero"},{"$f":"HLOOKUP(J$17,$AM$7:$AX$9,2,FALSE)&\" de \"&HLOOKUP(J$17,$AM$7:$AX$9,3,FALSE)","v":"1 de junio"},{"$f":"HLOOKUP(K$17,$AY$7:$BJ$9,2,FALSE)&\" de \"&HLOOKUP(K$17,$AY$7:$BJ$9,3,FALSE)","v":"25 de marzo"},{"$f":"HLOOKUP(L$17,$AY$7:$BJ$9,2,FALSE)&\" de \"&HLOOKUP(L$17,$AY$7:$BJ$9,3,FALSE)","v":"15 de junio"},{"$f":"HLOOKUP(M$17,$BK$7:$BV$9,2,FALSE)&\" de \"&HLOOKUP(M$17,$BK$7:$BV$9,3,FALSE)","v":"31 de enero"},{"$f":"HLOOKUP(N$17,$BK$7:$BV$9,2,FALSE)&\" de \"&HLOOKUP(N$17,$BK$7:$BV$9,3,FALSE)","v":"16 de septiembre"},{"$f":"HLOOKUP(O$17,$BW$7:$CH$9,2,FALSE)&\" de \"&HLOOKUP(O$17,$BW$7:$CH$9,3,FALSE)","v":"13 de febrero"},"-","-","-","-","-","-","-"]