{"text_format":"1","workbook":"xlsx","n_sheets":16,"sheets":["AVISO LEGAL","Estructura mensual nacional","Estructura anual nacional","Estructura mensual Peninsular","Estructura anual Peninsular","Estructura mensual Baleares","Estructura anual Baleares","Estructura mensual Canarias","Estructura anual Canarias","Estructura mensual Ceuta","Estructura anual Ceuta","Estructura mensual Melilla","Estructura anual Melilla","Estructura","Balance","Año"],"not_rendered":{"charts":0,"images":1,"macros":1,"external_links":0,"defined_names":13,"comments":0,"pivot_tables":0},"unopened":[],"bounds":{"document_bytes":16777216,"sheet_cells":100000,"rows_first":2000,"rows_last":500,"rows_between":2000,"halvings":0,"cell_chars":16384,"cell_head_chars":4096},"cells_cut":0,"cells_raw":0,"read":"whole","date_system":"1900"}

{"sheet":"AVISO LEGAL","index":0,"n_rows":23,"n_cols":10,"rows_kept":23,"cut":false,"hidden":false,"merged":[]}
[]
[null,null,null,null,null,null,null,"Fecha de actualización:",null,"2018-02-08"]
[]
[]
[]
[]
[]
[]
[]
[]
[]
[]
[]
[]
[]
[]
[]
[]
[]
[]
[]
[]
[null,null,null,null,null,null,null,null,null,"www.ree.es"]

{"sheet":"Estructura mensual nacional","index":1,"n_rows":32,"n_cols":15,"rows_kept":32,"cut":false,"hidden":false,"merged":[[31,1,31,14],[30,1,30,14],[5,2,5,9],[25,1,25,14],[27,1,27,14],[28,1,28,14],[29,1,29,14],[26,1,26,14]]}
[null,null,null,null,null,null,null,null,null,null,null,null,null,null,12]
[]
[]
[null,null,null,null,null,null,null,null,null,null,null,null,"Sistema eléctrico"]
[null,null,null,null,null,null,null,null,null,null,null,null,"Horizonte temporal"]
[null,null,null,null,null,null,null,null,null,null,null,null,"Periodo"]
[]
[null,null,"Ene.","Feb.","Mar.","Abr.","May.","Jun.","Jul.","Ago.","Sep.","Oct.","Nov.","Dic.",{"$f":"OFFSET(Año!B19,($O$1-1),0)","v":2018}]
[]
[null,"Hidráulica",{"$f":"OFFSET(Estructura!C66,0,($O$1-1)*12)","v":9.4},{"$f":"OFFSET(Estructura!D66,0,($O$1-1)*12)","v":"-"},{"$f":"OFFSET(Estructura!E66,0,($O$1-1)*12)","v":"-"},{"$f":"OFFSET(Estructura!F66,0,($O$1-1)*12)","v":"-"},{"$f":"OFFSET(Estructura!G66,0,($O$1-1)*12)","v":"-"},{"$f":"OFFSET(Estructura!H66,0,($O$1-1)*12)","v":"-"},{"$f":"OFFSET(Estructura!I66,0,($O$1-1)*12)","v":"-"},{"$f":"OFFSET(Estructura!J66,0,($O$1-1)*12)","v":"-"},{"$f":"OFFSET(Estructura!K66,0,($O$1-1)*12)","v":"-"},{"$f":"OFFSET(Estructura!L66,0,($O$1-1)*12)","v":"-"},{"$f":"OFFSET(Estructura!M66,0,($O$1-1)*12)","v":"-"},{"$f":"OFFSET(Estructura!N66,0,($O$1-1)*12)","v":"-"},{"$f":"OFFSET(Estructura!C147,0,($O$1-1))","v":9.4}]
[null,"Turbinación bombeo"]
[null,"Nuclear",{"$f":"OFFSET(Estructura!C68,0,($O$1-1)*12)","v":22.2},{"$f":"OFFSET(Estructura!D68,0,($O$1-1)*12)","v":"-"},{"$f":"OFFSET(Estructura!E68,0,($O$1-1)*12)","v":"-"},{"$f":"OFFSET(Estructura!F68,0,($O$1-1)*12)","v":"-"},{"$f":"OFFSET(Estructura!G68,0,($O$1-1)*12)","v":"-"},{"$f":"OFFSET(Estructura!H68,0,($O$1-1)*12)","v":"-"},{"$f":"OFFSET(Estructura!I68,0,($O$1-1)*12)","v":"-"},{"$f":"OFFSET(Estructura!J68,0,($O$1-1)*12)","v":"-"},{"$f":"OFFSET(Estructura!K68,0,($O$1-1)*12)","v":"-"},{"$f":"OFFSET(Estructura!L68,0,($O$1-1)*12)","v":"-"},{"$f":"OFFSET(Estructura!M68,0,($O$1-1)*12)","v":"-"},{"$f":"OFFSET(Estructura!N68,0,($O$1-1)*12)","v":"-"},{"$f":"OFFSET(Estructura!C149,0,($O$1-1))","v":22.2}]
[null,"Carbón",{"$f":"OFFSET(Estructura!C69,0,($O$1-1)*12)","v":14.1},{"$f":"OFFSET(Estructura!D69,0,($O$1-1)*12)","v":"-"},{"$f":"OFFSET(Estructura!E69,0,($O$1-1)*12)","v":"-"},{"$f":"OFFSET(Estructura!F69,0,($O$1-1)*12)","v":"-"},{"$f":"OFFSET(Estructura!G69,0,($O$1-1)*12)","v":"-"},{"$f":"OFFSET(Estructura!H69,0,($O$1-1)*12)","v":"-"},{"$f":"OFFSET(Estructura!I69,0,($O$1-1)*12)","v":"-"},{"$f":"OFFSET(Estructura!J69,0,($O$1-1)*12)","v":"-"},{"$f":"OFFSET(Estructura!K69,0,($O$1-1)*12)","v":"-"},{"$f":"OFFSET(Estructura!L69,0,($O$1-1)*12)","v":"-"},{"$f":"OFFSET(Estructura!M69,0,($O$1-1)*12)","v":"-"},{"$f":"OFFSET(Estructura!N69,0,($O$1-1)*12)","v":"-"},{"$f":"OFFSET(Estructura!C150,0,($O$1-1))","v":14.1}]
[null,"Fuel + Gas (2)",{"$f":"OFFSET(Estructura!C70,0,($O$1-1)*12)","v":2.5},{"$f":"OFFSET(Estructura!D70,0,($O$1-1)*12)","v":"-"},{"$f":"OFFSET(Estructura!E70,0,($O$1-1)*12)","v":"-"},{"$f":"OFFSET(Estructura!F70,0,($O$1-1)*12)","v":"-"},{"$f":"OFFSET(Estructura!G70,0,($O$1-1)*12)","v":"-"},{"$f":"OFFSET(Estructura!H70,0,($O$1-1)*12)","v":"-"},{"$f":"OFFSET(Estructura!I70,0,($O$1-1)*12)","v":"-"},{"$f":"OFFSET(Estructura!J70,0,($O$1-1)*12)","v":"-"},{"$f":"OFFSET(Estructura!K70,0,($O$1-1)*12)","v":"-"},{"$f":"OFFSET(Estructura!L70,0,($O$1-1)*12)","v":"-"},{"$f":"OFFSET(Estructura!M70,0,($O$1-1)*12)","v":"-"},{"$f":"OFFSET(Estructura!N70,0,($O$1-1)*12)","v":"-"},{"$f":"OFFSET(Estructura!C151,0,($O$1-1))","v":2.5}]
[null,"Ciclo combinado (3)",{"$f":"OFFSET(Estructura!C71,0,($O$1-1)*12)","v":11.2},{"$f":"OFFSET(Estructura!D71,0,($O$1-1)*12)","v":"-"},{"$f":"OFFSET(Estructura!E71,0,($O$1-1)*12)","v":"-"},{"$f":"OFFSET(Estructura!F71,0,($O$1-1)*12)","v":"-"},{"$f":"OFFSET(Estructura!G71,0,($O$1-1)*12)","v":"-"},{"$f":"OFFSET(Estructura!H71,0,($O$1-1)*12)","v":"-"},{"$f":"OFFSET(Estructura!I71,0,($O$1-1)*12)","v":"-"},{"$f":"OFFSET(Estructura!J71,0,($O$1-1)*12)","v":"-"},{"$f":"OFFSET(Estructura!K71,0,($O$1-1)*12)","v":"-"},{"$f":"OFFSET(Estructura!L71,0,($O$1-1)*12)","v":"-"},{"$f":"OFFSET(Estructura!M71,0,($O$1-1)*12)","v":"-"},{"$f":"OFFSET(Estructura!N71,0,($O$1-1)*12)","v":"-"},{"$f":"OFFSET(Estructura!C152,0,($O$1-1))","v":11.2}]
[null,"Hidroeólica",{"$f":"OFFSET(Estructura!C72,0,($O$1-1)*12)","v":0},{"$f":"OFFSET(Estructura!D72,0,($O$1-1)*12)","v":"-"},{"$f":"OFFSET(Estructura!E72,0,($O$1-1)*12)","v":"-"},{"$f":"OFFSET(Estructura!F72,0,($O$1-1)*12)","v":"-"},{"$f":"OFFSET(Estructura!G72,0,($O$1-1)*12)","v":"-"},{"$f":"OFFSET(Estructura!H72,0,($O$1-1)*12)","v":"-"},{"$f":"OFFSET(Estructura!I72,0,($O$1-1)*12)","v":"-"},{"$f":"OFFSET(Estructura!J72,0,($O$1-1)*12)","v":"-"},{"$f":"OFFSET(Estructura!K72,0,($O$1-1)*12)","v":"-"},{"$f":"OFFSET(Estructura!L72,0,($O$1-1)*12)","v":"-"},{"$f":"OFFSET(Estructura!M72,0,($O$1-1)*12)","v":"-"},{"$f":"OFFSET(Estructura!N72,0,($O$1-1)*12)","v":"-"},{"$f":"OFFSET(Estructura!C153,0,($O$1-1))","v":0}]
[null,"Eólica",{"$f":"OFFSET(Estructura!C73,0,($O$1-1)*12)","v":23.3},{"$f":"OFFSET(Estructura!D73,0,($O$1-1)*12)","v":"-"},{"$f":"OFFSET(Estructura!E73,0,($O$1-1)*12)","v":"-"},{"$f":"OFFSET(Estructura!F73,0,($O$1-1)*12)","v":"-"},{"$f":"OFFSET(Estructura!G73,0,($O$1-1)*12)","v":"-"},{"$f":"OFFSET(Estructura!H73,0,($O$1-1)*12)","v":"-"},{"$f":"OFFSET(Estructura!I73,0,($O$1-1)*12)","v":"-"},{"$f":"OFFSET(Estructura!J73,0,($O$1-1)*12)","v":"-"},{"$f":"OFFSET(Estructura!K73,0,($O$1-1)*12)","v":"-"},{"$f":"OFFSET(Estructura!L73,0,($O$1-1)*12)","v":"-"},{"$f":"OFFSET(Estructura!M73,0,($O$1-1)*12)","v":"-"},{"$f":"OFFSET(Estructura!N73,0,($O$1-1)*12)","v":"-"},{"$f":"OFFSET(Estructura!C154,0,($O$1-1))","v":23.3}]
[null,"Solar fotovoltaica",{"$f":"OFFSET(Estructura!C74,0,($O$1-1)*12)","v":1.9},{"$f":"OFFSET(Estructura!D74,0,($O$1-1)*12)","v":"-"},{"$f":"OFFSET(Estructura!E74,0,($O$1-1)*12)","v":"-"},{"$f":"OFFSET(Estructura!F74,0,($O$1-1)*12)","v":"-"},{"$f":"OFFSET(Estructura!G74,0,($O$1-1)*12)","v":"-"},{"$f":"OFFSET(Estructura!H74,0,($O$1-1)*12)","v":"-"},{"$f":"OFFSET(Estructura!I74,0,($O$1-1)*12)","v":"-"},{"$f":"OFFSET(Estructura!J74,0,($O$1-1)*12)","v":"-"},{"$f":"OFFSET(Estructura!K74,0,($O$1-1)*12)","v":"-"},{"$f":"OFFSET(Estructura!L74,0,($O$1-1)*12)","v":"-"},{"$f":"OFFSET(Estructura!M74,0,($O$1-1)*12)","v":"-"},{"$f":"OFFSET(Estructura!N74,0,($O$1-1)*12)","v":"-"},{"$f":"OFFSET(Estructura!C155,0,($O$1-1))","v":1.9}]
[null,"Solar térmica",{"$f":"OFFSET(Estructura!C75,0,($O$1-1)*12)","v":0.6},{"$f":"OFFSET(Estructura!D75,0,($O$1-1)*12)","v":"-"},{"$f":"OFFSET(Estructura!E75,0,($O$1-1)*12)","v":"-"},{"$f":"OFFSET(Estructura!F75,0,($O$1-1)*12)","v":"-"},{"$f":"OFFSET(Estructura!G75,0,($O$1-1)*12)","v":"-"},{"$f":"OFFSET(Estructura!H75,0,($O$1-1)*12)","v":"-"},{"$f":"OFFSET(Estructura!I75,0,($O$1-1)*12)","v":"-"},{"$f":"OFFSET(Estructura!J75,0,($O$1-1)*12)","v":"-"},{"$f":"OFFSET(Estructura!K75,0,($O$1-1)*12)","v":"-"},{"$f":"OFFSET(Estructura!L75,0,($O$1-1)*12)","v":"-"},{"$f":"OFFSET(Estructura!M75,0,($O$1-1)*12)","v":"-"},{"$f":"OFFSET(Estructura!N75,0,($O$1-1)*12)","v":"-"},{"$f":"OFFSET(Estructura!C156,0,($O$1-1))","v":0.6}]
[null,"Térmica renovable (4)/Otras renovables (5)",{"$f":"OFFSET(Estructura!C76,0,($O$1-1)*12)","v":1.3},{"$f":"OFFSET(Estructura!D76,0,($O$1-1)*12)","v":"-"},{"$f":"OFFSET(Estructura!E76,0,($O$1-1)*12)","v":"-"},{"$f":"OFFSET(Estructura!F76,0,($O$1-1)*12)","v":"-"},{"$f":"OFFSET(Estructura!G76,0,($O$1-1)*12)","v":"-"},{"$f":"OFFSET(Estructura!H76,0,($O$1-1)*12)","v":"-"},{"$f":"OFFSET(Estructura!I76,0,($O$1-1)*12)","v":"-"},{"$f":"OFFSET(Estructura!J76,0,($O$1-1)*12)","v":"-"},{"$f":"OFFSET(Estructura!K76,0,($O$1-1)*12)","v":"-"},{"$f":"OFFSET(Estructura!L76,0,($O$1-1)*12)","v":"-"},{"$f":"OFFSET(Estructura!M76,0,($O$1-1)*12)","v":"-"},{"$f":"OFFSET(Estructura!N76,0,($O$1-1)*12)","v":"-"},{"$f":"OFFSET(Estructura!C157,0,($O$1-1))","v":1.3}]
[null,"Cogeneración y resto (4)/Cogeneración",{"$f":"OFFSET(Estructura!C77,0,($O$1-1)*12)","v":11.100000000000009},{"$f":"OFFSET(Estructura!D77,0,($O$1-1)*12)","v":"-"},{"$f":"OFFSET(Estructura!E77,0,($O$1-1)*12)","v":"-"},{"$f":"OFFSET(Estructura!F77,0,($O$1-1)*12)","v":"-"},{"$f":"OFFSET(Estructura!G77,0,($O$1-1)*12)","v":"-"},{"$f":"OFFSET(Estructura!H77,0,($O$1-1)*12)","v":"-"},{"$f":"OFFSET(Estructura!I77,0,($O$1-1)*12)","v":"-"},{"$f":"OFFSET(Estructura!J77,0,($O$1-1)*12)","v":"-"},{"$f":"OFFSET(Estructura!K77,0,($O$1-1)*12)","v":"-"},{"$f":"OFFSET(Estructura!L77,0,($O$1-1)*12)","v":"-"},{"$f":"OFFSET(Estructura!M77,0,($O$1-1)*12)","v":"-"},{"$f":"OFFSET(Estructura!N77,0,($O$1-1)*12)","v":"-"},{"$f":"OFFSET(Estructura!C158,0,($O$1-1))","v":11.100000000000009}]
[null,"Residuos no renovables (6)",{"$f":"OFFSET(Estructura!C78,0,($O$1-1)*12)","v":1},{"$f":"OFFSET(Estructura!D78,0,($O$1-1)*12)","v":"-"},{"$f":"OFFSET(Estructura!E78,0,($O$1-1)*12)","v":"-"},{"$f":"OFFSET(Estructura!F78,0,($O$1-1)*12)","v":"-"},{"$f":"OFFSET(Estructura!G78,0,($O$1-1)*12)","v":"-"},{"$f":"OFFSET(Estructura!H78,0,($O$1-1)*12)","v":"-"},{"$f":"OFFSET(Estructura!I78,0,($O$1-1)*12)","v":"-"},{"$f":"OFFSET(Estructura!J78,0,($O$1-1)*12)","v":"-"},{"$f":"OFFSET(Estructura!K78,0,($O$1-1)*12)","v":"-"},{"$f":"OFFSET(Estructura!L78,0,($O$1-1)*12)","v":"-"},{"$f":"OFFSET(Estructura!M78,0,($O$1-1)*12)","v":"-"},{"$f":"OFFSET(Estructura!N78,0,($O$1-1)*12)","v":"-"},{"$f":"OFFSET(Estructura!C159,0,($O$1-1))","v":1}]
[null,"Residuos renovables (6)",{"$f":"OFFSET(Estructura!C79,0,($O$1-1)*12)","v":0.3},{"$f":"OFFSET(Estructura!D79,0,($O$1-1)*12)","v":"-"},{"$f":"OFFSET(Estructura!E79,0,($O$1-1)*12)","v":"-"},{"$f":"OFFSET(Estructura!F79,0,($O$1-1)*12)","v":"-"},{"$f":"OFFSET(Estructura!G79,0,($O$1-1)*12)","v":"-"},{"$f":"OFFSET(Estructura!H79,0,($O$1-1)*12)","v":"-"},{"$f":"OFFSET(Estructura!I79,0,($O$1-1)*12)","v":"-"},{"$f":"OFFSET(Estructura!J79,0,($O$1-1)*12)","v":"-"},{"$f":"OFFSET(Estructura!K79,0,($O$1-1)*12)","v":"-"},{"$f":"OFFSET(Estructura!L79,0,($O$1-1)*12)","v":"-"},{"$f":"OFFSET(Estructura!M79,0,($O$1-1)*12)","v":"-"},{"$f":"OFFSET(Estructura!N79,0,($O$1-1)*12)","v":"-"},{"$f":"OFFSET(Estructura!C160,0,($O$1-1))","v":0.3}]
[null,"Generación renovable (7)",{"$f":"OFFSET(Estructura!C80,0,($O$1-1)*12)","v":36.799999999999997},{"$f":"OFFSET(Estructura!D80,0,($O$1-1)*12)","v":"-"},{"$f":"OFFSET(Estructura!E80,0,($O$1-1)*12)","v":"-"},{"$f":"OFFSET(Estructura!F80,0,($O$1-1)*12)","v":"-"},{"$f":"OFFSET(Estructura!G80,0,($O$1-1)*12)","v":"-"},{"$f":"OFFSET(Estructura!H80,0,($O$1-1)*12)","v":"-"},{"$f":"OFFSET(Estructura!I80,0,($O$1-1)*12)","v":"-"},{"$f":"OFFSET(Estructura!J80,0,($O$1-1)*12)","v":"-"},{"$f":"OFFSET(Estructura!K80,0,($O$1-1)*12)","v":"-"},{"$f":"OFFSET(Estructura!L80,0,($O$1-1)*12)","v":"-"},{"$f":"OFFSET(Estructura!M80,0,($O$1-1)*12)","v":"-"},{"$f":"OFFSET(Estructura!N80,0,($O$1-1)*12)","v":"-"},{"$f":"OFFSET(Estructura!C161,0,($O$1-1))","v":36.799999999999997}]
[null,"Generación no renovable",{"$f":"OFFSET(Estructura!C81,0,($O$1-1)*12)","v":63.2},{"$f":"OFFSET(Estructura!D81,0,($O$1-1)*12)","v":"-"},{"$f":"OFFSET(Estructura!E81,0,($O$1-1)*12)","v":"-"},{"$f":"OFFSET(Estructura!F81,0,($O$1-1)*12)","v":"-"},{"$f":"OFFSET(Estructura!G81,0,($O$1-1)*12)","v":"-"},{"$f":"OFFSET(Estructura!H81,0,($O$1-1)*12)","v":"-"},{"$f":"OFFSET(Estructura!I81,0,($O$1-1)*12)","v":"-"},{"$f":"OFFSET(Estructura!J81,0,($O$1-1)*12)","v":"-"},{"$f":"OFFSET(Estructura!K81,0,($O$1-1)*12)","v":"-"},{"$f":"OFFSET(Estructura!L81,0,($O$1-1)*12)","v":"-"},{"$f":"OFFSET(Estructura!M81,0,($O$1-1)*12)","v":"-"},{"$f":"OFFSET(Estructura!N81,0,($O$1-1)*12)","v":"-"},{"$f":"OFFSET(Estructura!C162,0,($O$1-1))","v":63.2}]
[null,"(1) Asignación de unidades de producción según combustible principal."]
[null,"(2) En el sistema eléctrico de Baleares y Canarias se incluye la generación con grupos auxiliares."]
[null,"(3) Incluye funcionamiento en ciclo abierto. En el sistema eléctrico de Canarias utiliza gasoil como combustible principal."]
[null,"(4) Incluye residuos hasta el 31/12/2014."]
[null,"(5) Otras renovables incluyen biogás, biomasa, hidráulica marina y geotérmica."]
[null,"(6) Generación incluida en otras renovables y cogeneración hasta el 31/12/2014."]
[null,"(7) Incluye hidráulica, hidroeólica, eólica, solar fotovoltaica, solar térmica y térmica renovable/otras renovables y residuos renovables. No incluye la turbinación bombeo."]

{"sheet":"Estructura anual nacional","index":2,"n_rows":33,"n_cols":9,"rows_kept":33,"cut":false,"hidden":false,"merged":[[32,1,32,8],[29,1,29,8],[25,1,25,8],[26,1,26,8],[27,1,27,8],[28,1,28,8],[30,1,30,14],[31,1,31,14]]}
[null,null,null,null,null,null,null,null,2]
[]
[]
[null,null,null,null,null,null,"Sistema eléctrico"]
[null,null,null,null,null,null,"Horizonte temporal"]
[null,null,null,null,null,null,"Periodo"]
[]
[null,null,{"$f":"OFFSET(Estructura!C146,0,($I$1-1)*7)","v":2014},{"$f":"OFFSET(Estructura!D146,0,($I$1-1)*7)","v":2015},{"$f":"OFFSET(Estructura!E146,0,($I$1-1)*7)","v":2016},{"$f":"OFFSET(Estructura!F146,0,($I$1-1)*7)","v":2017},{"$f":"OFFSET(Estructura!G146,0,($I$1-1)*7)","v":2018},{"$f":"OFFSET(Estructura!H146,0,($I$1-1)*7)","v":2019},{"$f":"OFFSET(Estructura!I146,0,($I$1-1)*7)","v":2020}]
[]
[null,"Hidráulica",{"$f":"OFFSET(Estructura!C147,0,($I$1-1)*7)","v":14.7},{"$f":"OFFSET(Estructura!D147,0,($I$1-1)*7)","v":10.6},{"$f":"OFFSET(Estructura!E147,0,($I$1-1)*7)","v":13.7},{"$f":"OFFSET(Estructura!F147,0,($I$1-1)*7)","v":7},{"$f":"OFFSET(Estructura!G147,0,($I$1-1)*7)","v":9.4},{"$f":"OFFSET(Estructura!H147,0,($I$1-1)*7)","v":"-"},{"$f":"OFFSET(Estructura!I147,0,($I$1-1)*7)","v":"-"}]
[null,"Turbinación bombeo"]
[null,"Nuclear",{"$f":"OFFSET(Estructura!C149,0,($I$1-1)*7)","v":20.6},{"$f":"OFFSET(Estructura!D149,0,($I$1-1)*7)","v":20.399999999999999},{"$f":"OFFSET(Estructura!E149,0,($I$1-1)*7)","v":21.4},{"$f":"OFFSET(Estructura!F149,0,($I$1-1)*7)","v":21.2},{"$f":"OFFSET(Estructura!G149,0,($I$1-1)*7)","v":22.2},{"$f":"OFFSET(Estructura!H149,0,($I$1-1)*7)","v":"-"},{"$f":"OFFSET(Estructura!I149,0,($I$1-1)*7)","v":"-"}]
[null,"Carbón",{"$f":"OFFSET(Estructura!C150,0,($I$1-1)*7)","v":16.2},{"$f":"OFFSET(Estructura!D150,0,($I$1-1)*7)","v":19.7},{"$f":"OFFSET(Estructura!E150,0,($I$1-1)*7)","v":14.3},{"$f":"OFFSET(Estructura!F150,0,($I$1-1)*7)","v":17.2},{"$f":"OFFSET(Estructura!G150,0,($I$1-1)*7)","v":14.1},{"$f":"OFFSET(Estructura!H150,0,($I$1-1)*7)","v":"-"},{"$f":"OFFSET(Estructura!I150,0,($I$1-1)*7)","v":"-"}]
[null,"Fuel + Gas (2)",{"$f":"OFFSET(Estructura!C151,0,($I$1-1)*7)","v":2.2999999999999998},{"$f":"OFFSET(Estructura!D151,0,($I$1-1)*7)","v":2.4},{"$f":"OFFSET(Estructura!E151,0,($I$1-1)*7)","v":2.6},{"$f":"OFFSET(Estructura!F151,0,($I$1-1)*7)","v":2.7},{"$f":"OFFSET(Estructura!G151,0,($I$1-1)*7)","v":2.5},{"$f":"OFFSET(Estructura!H151,0,($I$1-1)*7)","v":"-"},{"$f":"OFFSET(Estructura!I151,0,($I$1-1)*7)","v":"-"}]
[null,"Ciclo combinado (3)",{"$f":"OFFSET(Estructura!C152,0,($I$1-1)*7)","v":9.4},{"$f":"OFFSET(Estructura!D152,0,($I$1-1)*7)","v":10.9},{"$f":"OFFSET(Estructura!E152,0,($I$1-1)*7)","v":11.2},{"$f":"OFFSET(Estructura!F152,0,($I$1-1)*7)","v":14.2},{"$f":"OFFSET(Estructura!G152,0,($I$1-1)*7)","v":11.2},{"$f":"OFFSET(Estructura!H152,0,($I$1-1)*7)","v":"-"},{"$f":"OFFSET(Estructura!I152,0,($I$1-1)*7)","v":"-"}]
[null,"Hidroeólica",{"$f":"OFFSET(Estructura!C153,0,($I$1-1)*7)","v":0},{"$f":"OFFSET(Estructura!D153,0,($I$1-1)*7)","v":0},{"$f":"OFFSET(Estructura!E153,0,($I$1-1)*7)","v":0},{"$f":"OFFSET(Estructura!F153,0,($I$1-1)*7)","v":0},{"$f":"OFFSET(Estructura!G153,0,($I$1-1)*7)","v":0},{"$f":"OFFSET(Estructura!H153,0,($I$1-1)*7)","v":"-"},{"$f":"OFFSET(Estructura!I153,0,($I$1-1)*7)","v":"-"}]
[null,"Eólica",{"$f":"OFFSET(Estructura!C154,0,($I$1-1)*7)","v":19.100000000000001},{"$f":"OFFSET(Estructura!D154,0,($I$1-1)*7)","v":18},{"$f":"OFFSET(Estructura!E154,0,($I$1-1)*7)","v":18.2},{"$f":"OFFSET(Estructura!F154,0,($I$1-1)*7)","v":18.2},{"$f":"OFFSET(Estructura!G154,0,($I$1-1)*7)","v":23.3},{"$f":"OFFSET(Estructura!H154,0,($I$1-1)*7)","v":"-"},{"$f":"OFFSET(Estructura!I154,0,($I$1-1)*7)","v":"-"}]
[null,"Solar fotovoltaica",{"$f":"OFFSET(Estructura!C155,0,($I$1-1)*7)","v":3.1},{"$f":"OFFSET(Estructura!D155,0,($I$1-1)*7)","v":3.1},{"$f":"OFFSET(Estructura!E155,0,($I$1-1)*7)","v":3},{"$f":"OFFSET(Estructura!F155,0,($I$1-1)*7)","v":3.2},{"$f":"OFFSET(Estructura!G155,0,($I$1-1)*7)","v":1.9},{"$f":"OFFSET(Estructura!H155,0,($I$1-1)*7)","v":"-"},{"$f":"OFFSET(Estructura!I155,0,($I$1-1)*7)","v":"-"}]
[null,"Solar térmica",{"$f":"OFFSET(Estructura!C156,0,($I$1-1)*7)","v":1.9},{"$f":"OFFSET(Estructura!D156,0,($I$1-1)*7)","v":1.9},{"$f":"OFFSET(Estructura!E156,0,($I$1-1)*7)","v":1.9},{"$f":"OFFSET(Estructura!F156,0,($I$1-1)*7)","v":2},{"$f":"OFFSET(Estructura!G156,0,($I$1-1)*7)","v":0.6},{"$f":"OFFSET(Estructura!H156,0,($I$1-1)*7)","v":"-"},{"$f":"OFFSET(Estructura!I156,0,($I$1-1)*7)","v":"-"}]
[null,"Térmica renovable (4)/Otras renovables (5)",{"$f":"OFFSET(Estructura!C157,0,($I$1-1)*7)","v":1.8},{"$f":"OFFSET(Estructura!D157,0,($I$1-1)*7)","v":1.2},{"$f":"OFFSET(Estructura!E157,0,($I$1-1)*7)","v":1.3},{"$f":"OFFSET(Estructura!F157,0,($I$1-1)*7)","v":1.4},{"$f":"OFFSET(Estructura!G157,0,($I$1-1)*7)","v":1.3},{"$f":"OFFSET(Estructura!H157,0,($I$1-1)*7)","v":"-"},{"$f":"OFFSET(Estructura!I157,0,($I$1-1)*7)","v":"-"}]
[null,"Cogeneración y resto (4)/Cogeneración",{"$f":"OFFSET(Estructura!C158,0,($I$1-1)*7)","v":9.6000000000000085},{"$f":"OFFSET(Estructura!D158,0,($I$1-1)*7)","v":9.5},{"$f":"OFFSET(Estructura!E158,0,($I$1-1)*7)","v":9.9000000000000057},{"$f":"OFFSET(Estructura!F158,0,($I$1-1)*7)","v":10.699999999999989},{"$f":"OFFSET(Estructura!G158,0,($I$1-1)*7)","v":11.100000000000009},{"$f":"OFFSET(Estructura!H158,0,($I$1-1)*7)","v":"-"},{"$f":"OFFSET(Estructura!I158,0,($I$1-1)*7)","v":"-"}]
[null,"Residuos no renovables (6)",{"$f":"OFFSET(Estructura!C159,0,($I$1-1)*7)","v":"-"},{"$f":"OFFSET(Estructura!D159,0,($I$1-1)*7)","v":0.9},{"$f":"OFFSET(Estructura!E159,0,($I$1-1)*7)","v":1},{"$f":"OFFSET(Estructura!F159,0,($I$1-1)*7)","v":1},{"$f":"OFFSET(Estructura!G159,0,($I$1-1)*7)","v":1},{"$f":"OFFSET(Estructura!H159,0,($I$1-1)*7)","v":"-"},{"$f":"OFFSET(Estructura!I159,0,($I$1-1)*7)","v":"-"}]
[null,"Residuos renovables (6)",{"$f":"OFFSET(Estructura!C160,0,($I$1-1)*7)","v":"-"},{"$f":"OFFSET(Estructura!D160,0,($I$1-1)*7)","v":0.3},{"$f":"OFFSET(Estructura!E160,0,($I$1-1)*7)","v":0.3},{"$f":"OFFSET(Estructura!F160,0,($I$1-1)*7)","v":0.3},{"$f":"OFFSET(Estructura!G160,0,($I$1-1)*7)","v":0.3},{"$f":"OFFSET(Estructura!H160,0,($I$1-1)*7)","v":"-"},{"$f":"OFFSET(Estructura!I160,0,($I$1-1)*7)","v":"-"}]
[null,"Generación renovable (7)",{"$f":"OFFSET(Estructura!C161,0,($I$1-1)*7)","v":40.599999999999994},{"$f":"OFFSET(Estructura!D161,0,($I$1-1)*7)","v":35.1},{"$f":"OFFSET(Estructura!E161,0,($I$1-1)*7)","v":38.399999999999991},{"$f":"OFFSET(Estructura!F161,0,($I$1-1)*7)","v":32.099999999999994},{"$f":"OFFSET(Estructura!G161,0,($I$1-1)*7)","v":36.799999999999997},{"$f":"OFFSET(Estructura!H161,0,($I$1-1)*7)","v":"-"},{"$f":"OFFSET(Estructura!I161,0,($I$1-1)*7)","v":"-"}]
[null,"Generación no renovable",{"$f":"OFFSET(Estructura!C162,0,($I$1-1)*7)","v":59.400000000000006},{"$f":"OFFSET(Estructura!D162,0,($I$1-1)*7)","v":64.900000000000006},{"$f":"OFFSET(Estructura!E162,0,($I$1-1)*7)","v":61.600000000000009},{"$f":"OFFSET(Estructura!F162,0,($I$1-1)*7)","v":67.899999999999991},{"$f":"OFFSET(Estructura!G162,0,($I$1-1)*7)","v":63.2},{"$f":"OFFSET(Estructura!H162,0,($I$1-1)*7)","v":"-"},{"$f":"OFFSET(Estructura!I162,0,($I$1-1)*7)","v":"-"}]
[null,"(1) Asignación de unidades de producción según combustible principal."]
[null,"(2) En el sistema eléctrico de Baleares y Canarias se incluye la generación con grupos auxiliares."]
[null,"(3) Incluye funcionamiento en ciclo abierto. En el sistema eléctrico de Canarias utiliza gasoil como combustible principal."]
[null,"(4) Incluye residuos hasta el 31/12/2014."]
[null,"(5) Otras renovables incluyen biogás, biomasa, hidráulica marina y geotérmica."]
[null,"(6) Generación incluida en otras renovables y cogeneración hasta el 31/12/2014."]
[null,"(7) Incluye hidráulica, hidroeólica, eólica, solar fotovoltaica, solar térmica y térmica renovable/otras renovables y residuos renovables. No incluye la turbinación bombeo."]
[null,{"$f":"IF(I1<2,\"\",IF(MONTH(FACT)=1,\"\",CONCATENATE(\"    Para el año \",YEAR(FACT),\" valores acumulados hasta \",TEXT(FACT-30,\"mmmm\"),\" de \",YEAR(FACT),\".\")))","v":"    Para el año 2018 valores acumulados hasta enero de 2018."}]

{"sheet":"Estructura mensual Peninsular","index":3,"n_rows":30,"n_cols":15,"rows_kept":30,"cut":false,"hidden":false,"merged":[[29,1,29,14],[28,1,28,14],[27,1,27,14],[26,1,26,14],[5,2,5,9],[24,1,24,14],[25,1,25,14]]}
[null,null,null,null,null,null,null,null,null,null,null,null,null,null,29]
[]
[]
[null,null,null,null,null,null,null,null,null,null,null,null,"Sistema eléctrico"]
[null,null,null,null,null,null,null,null,null,null,null,null,"Horizonte temporal"]
[null,null,null,null,null,null,null,null,null,null,null,null,"Periodo"]
[]
[null,null,"Ene.","Feb.","Mar.","Abr.","May.","Jun.","Jul.","Ago.","Sep.","Oct.","Nov.","Dic.",{"$f":"OFFSET(Año!B2,($O$1-1),0)","v":2018}]
[]
[null,"Hidráulica",{"$f":"OFFSET(Estructura!C3,0,($O$1-1)*12)","v":9.9},{"$f":"OFFSET(Estructura!D3,0,($O$1-1)*12)","v":"-"},{"$f":"OFFSET(Estructura!E3,0,($O$1-1)*12)","v":"-"},{"$f":"OFFSET(Estructura!F3,0,($O$1-1)*12)","v":"-"},{"$f":"OFFSET(Estructura!G3,0,($O$1-1)*12)","v":"-"},{"$f":"OFFSET(Estructura!H3,0,($O$1-1)*12)","v":"-"},{"$f":"OFFSET(Estructura!I3,0,($O$1-1)*12)","v":"-"},{"$f":"OFFSET(Estructura!J3,0,($O$1-1)*12)","v":"-"},{"$f":"OFFSET(Estructura!K3,0,($O$1-1)*12)","v":"-"},{"$f":"OFFSET(Estructura!L3,0,($O$1-1)*12)","v":"-"},{"$f":"OFFSET(Estructura!M3,0,($O$1-1)*12)","v":"-"},{"$f":"OFFSET(Estructura!N3,0,($O$1-1)*12)","v":"-"},{"$f":"OFFSET(Estructura!C84,0,($O$1-1))","v":9.9}]
[null,"Turbinación bombeo"]
[null,"Nuclear",{"$f":"OFFSET(Estructura!C5,0,($O$1-1)*12)","v":23.4},{"$f":"OFFSET(Estructura!D5,0,($O$1-1)*12)","v":"-"},{"$f":"OFFSET(Estructura!E5,0,($O$1-1)*12)","v":"-"},{"$f":"OFFSET(Estructura!F5,0,($O$1-1)*12)","v":"-"},{"$f":"OFFSET(Estructura!G5,0,($O$1-1)*12)","v":"-"},{"$f":"OFFSET(Estructura!H5,0,($O$1-1)*12)","v":"-"},{"$f":"OFFSET(Estructura!I5,0,($O$1-1)*12)","v":"-"},{"$f":"OFFSET(Estructura!J5,0,($O$1-1)*12)","v":"-"},{"$f":"OFFSET(Estructura!K5,0,($O$1-1)*12)","v":"-"},{"$f":"OFFSET(Estructura!L5,0,($O$1-1)*12)","v":"-"},{"$f":"OFFSET(Estructura!M5,0,($O$1-1)*12)","v":"-"},{"$f":"OFFSET(Estructura!N5,0,($O$1-1)*12)","v":"-"},{"$f":"OFFSET(Estructura!C86,0,($O$1-1))","v":23.4}]
[null,"Carbón",{"$f":"OFFSET(Estructura!C6,0,($O$1-1)*12)","v":13.9},{"$f":"OFFSET(Estructura!D6,0,($O$1-1)*12)","v":"-"},{"$f":"OFFSET(Estructura!E6,0,($O$1-1)*12)","v":"-"},{"$f":"OFFSET(Estructura!F6,0,($O$1-1)*12)","v":"-"},{"$f":"OFFSET(Estructura!G6,0,($O$1-1)*12)","v":"-"},{"$f":"OFFSET(Estructura!H6,0,($O$1-1)*12)","v":"-"},{"$f":"OFFSET(Estructura!I6,0,($O$1-1)*12)","v":"-"},{"$f":"OFFSET(Estructura!J6,0,($O$1-1)*12)","v":"-"},{"$f":"OFFSET(Estructura!K6,0,($O$1-1)*12)","v":"-"},{"$f":"OFFSET(Estructura!L6,0,($O$1-1)*12)","v":"-"},{"$f":"OFFSET(Estructura!M6,0,($O$1-1)*12)","v":"-"},{"$f":"OFFSET(Estructura!N6,0,($O$1-1)*12)","v":"-"},{"$f":"OFFSET(Estructura!C87,0,($O$1-1))","v":13.9}]
[null,"Fuel + Gas",{"$f":"OFFSET(Estructura!C7,0,($O$1-1)*12)","v":0},{"$f":"OFFSET(Estructura!D7,0,($O$1-1)*12)","v":"-"},{"$f":"OFFSET(Estructura!E7,0,($O$1-1)*12)","v":"-"},{"$f":"OFFSET(Estructura!F7,0,($O$1-1)*12)","v":"-"},{"$f":"OFFSET(Estructura!G7,0,($O$1-1)*12)","v":"-"},{"$f":"OFFSET(Estructura!H7,0,($O$1-1)*12)","v":"-"},{"$f":"OFFSET(Estructura!I7,0,($O$1-1)*12)","v":"-"},{"$f":"OFFSET(Estructura!J7,0,($O$1-1)*12)","v":"-"},{"$f":"OFFSET(Estructura!K7,0,($O$1-1)*12)","v":"-"},{"$f":"OFFSET(Estructura!L7,0,($O$1-1)*12)","v":"-"},{"$f":"OFFSET(Estructura!M7,0,($O$1-1)*12)","v":"-"},{"$f":"OFFSET(Estructura!N7,0,($O$1-1)*12)","v":"-"},{"$f":"OFFSET(Estructura!C88,0,($O$1-1))","v":"-"}]
[null,"Ciclo combinado (2)",{"$f":"OFFSET(Estructura!C8,0,($O$1-1)*12)","v":10.5},{"$f":"OFFSET(Estructura!D8,0,($O$1-1)*12)","v":"-"},{"$f":"OFFSET(Estructura!E8,0,($O$1-1)*12)","v":"-"},{"$f":"OFFSET(Estructura!F8,0,($O$1-1)*12)","v":"-"},{"$f":"OFFSET(Estructura!G8,0,($O$1-1)*12)","v":"-"},{"$f":"OFFSET(Estructura!H8,0,($O$1-1)*12)","v":"-"},{"$f":"OFFSET(Estructura!I8,0,($O$1-1)*12)","v":"-"},{"$f":"OFFSET(Estructura!J8,0,($O$1-1)*12)","v":"-"},{"$f":"OFFSET(Estructura!K8,0,($O$1-1)*12)","v":"-"},{"$f":"OFFSET(Estructura!L8,0,($O$1-1)*12)","v":"-"},{"$f":"OFFSET(Estructura!M8,0,($O$1-1)*12)","v":"-"},{"$f":"OFFSET(Estructura!N8,0,($O$1-1)*12)","v":"-"},{"$f":"OFFSET(Estructura!C89,0,($O$1-1))","v":10.5}]
[null,"Eólica",{"$f":"OFFSET(Estructura!C9,0,($O$1-1)*12)","v":24.3},{"$f":"OFFSET(Estructura!D9,0,($O$1-1)*12)","v":"-"},{"$f":"OFFSET(Estructura!E9,0,($O$1-1)*12)","v":"-"},{"$f":"OFFSET(Estructura!F9,0,($O$1-1)*12)","v":"-"},{"$f":"OFFSET(Estructura!G9,0,($O$1-1)*12)","v":"-"},{"$f":"OFFSET(Estructura!H9,0,($O$1-1)*12)","v":"-"},{"$f":"OFFSET(Estructura!I9,0,($O$1-1)*12)","v":"-"},{"$f":"OFFSET(Estructura!J9,0,($O$1-1)*12)","v":"-"},{"$f":"OFFSET(Estructura!K9,0,($O$1-1)*12)","v":"-"},{"$f":"OFFSET(Estructura!L9,0,($O$1-1)*12)","v":"-"},{"$f":"OFFSET(Estructura!M9,0,($O$1-1)*12)","v":"-"},{"$f":"OFFSET(Estructura!N9,0,($O$1-1)*12)","v":"-"},{"$f":"OFFSET(Estructura!C90,0,($O$1-1))","v":24.3}]
[null,"Solar fotovoltaica",{"$f":"OFFSET(Estructura!C10,0,($O$1-1)*12)","v":1.9},{"$f":"OFFSET(Estructura!D10,0,($O$1-1)*12)","v":"-"},{"$f":"OFFSET(Estructura!E10,0,($O$1-1)*12)","v":"-"},{"$f":"OFFSET(Estructura!F10,0,($O$1-1)*12)","v":"-"},{"$f":"OFFSET(Estructura!G10,0,($O$1-1)*12)","v":"-"},{"$f":"OFFSET(Estructura!H10,0,($O$1-1)*12)","v":"-"},{"$f":"OFFSET(Estructura!I10,0,($O$1-1)*12)","v":"-"},{"$f":"OFFSET(Estructura!J10,0,($O$1-1)*12)","v":"-"},{"$f":"OFFSET(Estructura!K10,0,($O$1-1)*12)","v":"-"},{"$f":"OFFSET(Estructura!L10,0,($O$1-1)*12)","v":"-"},{"$f":"OFFSET(Estructura!M10,0,($O$1-1)*12)","v":"-"},{"$f":"OFFSET(Estructura!N10,0,($O$1-1)*12)","v":"-"},{"$f":"OFFSET(Estructura!C91,0,($O$1-1))","v":1.9}]
[null,"Solar térmica",{"$f":"OFFSET(Estructura!C11,0,($O$1-1)*12)","v":0.6},{"$f":"OFFSET(Estructura!D11,0,($O$1-1)*12)","v":"-"},{"$f":"OFFSET(Estructura!E11,0,($O$1-1)*12)","v":"-"},{"$f":"OFFSET(Estructura!F11,0,($O$1-1)*12)","v":"-"},{"$f":"OFFSET(Estructura!G11,0,($O$1-1)*12)","v":"-"},{"$f":"OFFSET(Estructura!H11,0,($O$1-1)*12)","v":"-"},{"$f":"OFFSET(Estructura!I11,0,($O$1-1)*12)","v":"-"},{"$f":"OFFSET(Estructura!J11,0,($O$1-1)*12)","v":"-"},{"$f":"OFFSET(Estructura!K11,0,($O$1-1)*12)","v":"-"},{"$f":"OFFSET(Estructura!L11,0,($O$1-1)*12)","v":"-"},{"$f":"OFFSET(Estructura!M11,0,($O$1-1)*12)","v":"-"},{"$f":"OFFSET(Estructura!N11,0,($O$1-1)*12)","v":"-"},{"$f":"OFFSET(Estructura!C92,0,($O$1-1))","v":0.6}]
[null,"Térmica renovable (3)/Otras renovables (4)",{"$f":"OFFSET(Estructura!C12,0,($O$1-1)*12)","v":1.4},{"$f":"OFFSET(Estructura!D12,0,($O$1-1)*12)","v":"-"},{"$f":"OFFSET(Estructura!E12,0,($O$1-1)*12)","v":"-"},{"$f":"OFFSET(Estructura!F12,0,($O$1-1)*12)","v":"-"},{"$f":"OFFSET(Estructura!G12,0,($O$1-1)*12)","v":"-"},{"$f":"OFFSET(Estructura!H12,0,($O$1-1)*12)","v":"-"},{"$f":"OFFSET(Estructura!I12,0,($O$1-1)*12)","v":"-"},{"$f":"OFFSET(Estructura!J12,0,($O$1-1)*12)","v":"-"},{"$f":"OFFSET(Estructura!K12,0,($O$1-1)*12)","v":"-"},{"$f":"OFFSET(Estructura!L12,0,($O$1-1)*12)","v":"-"},{"$f":"OFFSET(Estructura!M12,0,($O$1-1)*12)","v":"-"},{"$f":"OFFSET(Estructura!N12,0,($O$1-1)*12)","v":"-"},{"$f":"OFFSET(Estructura!C93,0,($O$1-1))","v":1.4}]
[null,"Cogeneración y resto (3)/Cogeneración",{"$f":"OFFSET(Estructura!C13,0,($O$1-1)*12)","v":11.599999999999994},{"$f":"OFFSET(Estructura!D13,0,($O$1-1)*12)","v":"-"},{"$f":"OFFSET(Estructura!E13,0,($O$1-1)*12)","v":"-"},{"$f":"OFFSET(Estructura!F13,0,($O$1-1)*12)","v":"-"},{"$f":"OFFSET(Estructura!G13,0,($O$1-1)*12)","v":"-"},{"$f":"OFFSET(Estructura!H13,0,($O$1-1)*12)","v":"-"},{"$f":"OFFSET(Estructura!I13,0,($O$1-1)*12)","v":"-"},{"$f":"OFFSET(Estructura!J13,0,($O$1-1)*12)","v":"-"},{"$f":"OFFSET(Estructura!K13,0,($O$1-1)*12)","v":"-"},{"$f":"OFFSET(Estructura!L13,0,($O$1-1)*12)","v":"-"},{"$f":"OFFSET(Estructura!M13,0,($O$1-1)*12)","v":"-"},{"$f":"OFFSET(Estructura!N13,0,($O$1-1)*12)","v":"-"},{"$f":"OFFSET(Estructura!C94,0,($O$1-1))","v":11.599999999999994}]
[null,"Residuos no renovables (5)",{"$f":"OFFSET(Estructura!C14,0,($O$1-1)*12)","v":1},{"$f":"OFFSET(Estructura!D14,0,($O$1-1)*12)","v":"-"},{"$f":"OFFSET(Estructura!E14,0,($O$1-1)*12)","v":"-"},{"$f":"OFFSET(Estructura!F14,0,($O$1-1)*12)","v":"-"},{"$f":"OFFSET(Estructura!G14,0,($O$1-1)*12)","v":"-"},{"$f":"OFFSET(Estructura!H14,0,($O$1-1)*12)","v":"-"},{"$f":"OFFSET(Estructura!I14,0,($O$1-1)*12)","v":"-"},{"$f":"OFFSET(Estructura!J14,0,($O$1-1)*12)","v":"-"},{"$f":"OFFSET(Estructura!K14,0,($O$1-1)*12)","v":"-"},{"$f":"OFFSET(Estructura!L14,0,($O$1-1)*12)","v":"-"},{"$f":"OFFSET(Estructura!M14,0,($O$1-1)*12)","v":"-"},{"$f":"OFFSET(Estructura!N14,0,($O$1-1)*12)","v":"-"},{"$f":"OFFSET(Estructura!C95,0,($O$1-1))","v":1}]
[null,"Residuos renovables (5)",{"$f":"OFFSET(Estructura!C15,0,($O$1-1)*12)","v":0.3},{"$f":"OFFSET(Estructura!D15,0,($O$1-1)*12)","v":"-"},{"$f":"OFFSET(Estructura!E15,0,($O$1-1)*12)","v":"-"},{"$f":"OFFSET(Estructura!F15,0,($O$1-1)*12)","v":"-"},{"$f":"OFFSET(Estructura!G15,0,($O$1-1)*12)","v":"-"},{"$f":"OFFSET(Estructura!H15,0,($O$1-1)*12)","v":"-"},{"$f":"OFFSET(Estructura!I15,0,($O$1-1)*12)","v":"-"},{"$f":"OFFSET(Estructura!J15,0,($O$1-1)*12)","v":"-"},{"$f":"OFFSET(Estructura!K15,0,($O$1-1)*12)","v":"-"},{"$f":"OFFSET(Estructura!L15,0,($O$1-1)*12)","v":"-"},{"$f":"OFFSET(Estructura!M15,0,($O$1-1)*12)","v":"-"},{"$f":"OFFSET(Estructura!N15,0,($O$1-1)*12)","v":"-"},{"$f":"OFFSET(Estructura!C96,0,($O$1-1))","v":0.3}]
[null,"Generación renovable (6)",{"$f":"OFFSET(Estructura!C16,0,($O$1-1)*12)","v":38.4},{"$f":"OFFSET(Estructura!D16,0,($O$1-1)*12)","v":"-"},{"$f":"OFFSET(Estructura!E16,0,($O$1-1)*12)","v":"-"},{"$f":"OFFSET(Estructura!F16,0,($O$1-1)*12)","v":"-"},{"$f":"OFFSET(Estructura!G16,0,($O$1-1)*12)","v":"-"},{"$f":"OFFSET(Estructura!H16,0,($O$1-1)*12)","v":"-"},{"$f":"OFFSET(Estructura!I16,0,($O$1-1)*12)","v":"-"},{"$f":"OFFSET(Estructura!J16,0,($O$1-1)*12)","v":"-"},{"$f":"OFFSET(Estructura!K16,0,($O$1-1)*12)","v":"-"},{"$f":"OFFSET(Estructura!L16,0,($O$1-1)*12)","v":"-"},{"$f":"OFFSET(Estructura!M16,0,($O$1-1)*12)","v":"-"},{"$f":"OFFSET(Estructura!N16,0,($O$1-1)*12)","v":"-"},{"$f":"OFFSET(Estructura!C97,0,($O$1-1))","v":38.4}]
[null,"Generación no renovable",{"$f":"OFFSET(Estructura!C17,0,($O$1-1)*12)","v":61.599999999999994},{"$f":"OFFSET(Estructura!D17,0,($O$1-1)*12)","v":"-"},{"$f":"OFFSET(Estructura!E17,0,($O$1-1)*12)","v":"-"},{"$f":"OFFSET(Estructura!F17,0,($O$1-1)*12)","v":"-"},{"$f":"OFFSET(Estructura!G17,0,($O$1-1)*12)","v":"-"},{"$f":"OFFSET(Estructura!H17,0,($O$1-1)*12)","v":"-"},{"$f":"OFFSET(Estructura!I17,0,($O$1-1)*12)","v":"-"},{"$f":"OFFSET(Estructura!J17,0,($O$1-1)*12)","v":"-"},{"$f":"OFFSET(Estructura!K17,0,($O$1-1)*12)","v":"-"},{"$f":"OFFSET(Estructura!L17,0,($O$1-1)*12)","v":"-"},{"$f":"OFFSET(Estructura!M17,0,($O$1-1)*12)","v":"-"},{"$f":"OFFSET(Estructura!N17,0,($O$1-1)*12)","v":"-"},{"$f":"OFFSET(Estructura!C98,0,($O$1-1))","v":61.599999999999994}]
[null,"(1) Asignación de unidades de producción según combustible principal."]
[null,"(2) Incluye funcionamiento en ciclo abierto."]
[null,"(3) Incluye residuos hasta el 31/12/2014."]
[null,"(4) Otras renovables incluyen biogás, biomasa, hidráulica marina y geotérmica."]
[null,"(5) Generación incluida en otras renovables y cogeneración hasta el 31/12/2014."]
[null,"(6) Incluye hidráulica, eólica, solar fotovoltaica, solar térmica y térmica renovable/otras renovables y residuos renovables. No incluye la turbinación bombeo."]

{"sheet":"Estructura anual Peninsular","index":4,"n_rows":31,"n_cols":10,"rows_kept":31,"cut":false,"hidden":false,"merged":[[30,1,30,9],[24,1,24,9],[25,1,25,9],[26,1,26,9],[27,1,27,9],[28,1,28,14],[29,1,29,14]]}
[null,null,null,null,null,null,null,null,null,4]
[]
[]
[null,null,null,null,null,null,null,"Sistema eléctrico"]
[null,null,null,null,null,null,null,"Horizonte temporal"]
[null,null,null,null,null,null,null,"Periodo"]
[]
[null,null,{"$f":"OFFSET(Estructura!C83,0,($J$1-1)*8)","v":2014},{"$f":"OFFSET(Estructura!D83,0,($J$1-1)*8)","v":2015},{"$f":"OFFSET(Estructura!E83,0,($J$1-1)*8)","v":2016},{"$f":"OFFSET(Estructura!F83,0,($J$1-1)*8)","v":2017},{"$f":"OFFSET(Estructura!G83,0,($J$1-1)*8)","v":2018},{"$f":"OFFSET(Estructura!H83,0,($J$1-1)*8)","v":2019},{"$f":"OFFSET(Estructura!I83,0,($J$1-1)*8)","v":2020},{"$f":"OFFSET(Estructura!J83,0,($J$1-1)*8)","v":2021}]
[]
[null,"Hidráulica",{"$f":"OFFSET(Estructura!C84,0,($J$1-1)*8)","v":15.4},{"$f":"OFFSET(Estructura!D84,0,($J$1-1)*8)","v":11.1},{"$f":"OFFSET(Estructura!E84,0,($J$1-1)*8)","v":14.5},{"$f":"OFFSET(Estructura!F84,0,($J$1-1)*8)","v":7.4},{"$f":"OFFSET(Estructura!G84,0,($J$1-1)*8)","v":9.9},{"$f":"OFFSET(Estructura!H84,0,($J$1-1)*8)","v":"-"},{"$f":"OFFSET(Estructura!I84,0,($J$1-1)*8)","v":"-"},{"$f":"OFFSET(Estructura!J84,0,($J$1-1)*8)","v":"-"}]
[null,"Turbinación bombeo"]
[null,"Nuclear",{"$f":"OFFSET(Estructura!C86,0,($J$1-1)*8)","v":21.6},{"$f":"OFFSET(Estructura!D86,0,($J$1-1)*8)","v":21.5},{"$f":"OFFSET(Estructura!E86,0,($J$1-1)*8)","v":22.6},{"$f":"OFFSET(Estructura!F86,0,($J$1-1)*8)","v":22.4},{"$f":"OFFSET(Estructura!G86,0,($J$1-1)*8)","v":23.4},{"$f":"OFFSET(Estructura!H86,0,($J$1-1)*8)","v":"-"},{"$f":"OFFSET(Estructura!I86,0,($J$1-1)*8)","v":"-"},{"$f":"OFFSET(Estructura!J86,0,($J$1-1)*8)","v":"-"}]
[null,"Carbón",{"$f":"OFFSET(Estructura!C87,0,($J$1-1)*8)","v":16.2},{"$f":"OFFSET(Estructura!D87,0,($J$1-1)*8)","v":20},{"$f":"OFFSET(Estructura!E87,0,($J$1-1)*8)","v":14.2},{"$f":"OFFSET(Estructura!F87,0,($J$1-1)*8)","v":17.100000000000001},{"$f":"OFFSET(Estructura!G87,0,($J$1-1)*8)","v":13.9},{"$f":"OFFSET(Estructura!H87,0,($J$1-1)*8)","v":"-"},{"$f":"OFFSET(Estructura!I87,0,($J$1-1)*8)","v":"-"},{"$f":"OFFSET(Estructura!J87,0,($J$1-1)*8)","v":"-"}]
[null,"Fuel + Gas",{"$f":"OFFSET(Estructura!C88,0,($J$1-1)*8)","v":"-"},{"$f":"OFFSET(Estructura!D88,0,($J$1-1)*8)","v":"-"},{"$f":"OFFSET(Estructura!E88,0,($J$1-1)*8)","v":"-"},{"$f":"OFFSET(Estructura!F88,0,($J$1-1)*8)","v":"-"},{"$f":"OFFSET(Estructura!G88,0,($J$1-1)*8)","v":"-"},{"$f":"OFFSET(Estructura!H88,0,($J$1-1)*8)","v":"-"},{"$f":"OFFSET(Estructura!I88,0,($J$1-1)*8)","v":"-"},{"$f":"OFFSET(Estructura!J88,0,($J$1-1)*8)","v":"-"}]
[null,"Ciclo combinado (2)",{"$f":"OFFSET(Estructura!C89,0,($J$1-1)*8)","v":8.4},{"$f":"OFFSET(Estructura!D89,0,($J$1-1)*8)","v":9.9},{"$f":"OFFSET(Estructura!E89,0,($J$1-1)*8)","v":10.3},{"$f":"OFFSET(Estructura!F89,0,($J$1-1)*8)","v":13.6},{"$f":"OFFSET(Estructura!G89,0,($J$1-1)*8)","v":10.5},{"$f":"OFFSET(Estructura!H89,0,($J$1-1)*8)","v":"-"},{"$f":"OFFSET(Estructura!I89,0,($J$1-1)*8)","v":"-"},{"$f":"OFFSET(Estructura!J89,0,($J$1-1)*8)","v":"-"}]
[null,"Eólica",{"$f":"OFFSET(Estructura!C90,0,($J$1-1)*8)","v":20},{"$f":"OFFSET(Estructura!D90,0,($J$1-1)*8)","v":18.8},{"$f":"OFFSET(Estructura!E90,0,($J$1-1)*8)","v":19},{"$f":"OFFSET(Estructura!F90,0,($J$1-1)*8)","v":19.100000000000001},{"$f":"OFFSET(Estructura!G90,0,($J$1-1)*8)","v":24.3},{"$f":"OFFSET(Estructura!H90,0,($J$1-1)*8)","v":"-"},{"$f":"OFFSET(Estructura!I90,0,($J$1-1)*8)","v":"-"},{"$f":"OFFSET(Estructura!J90,0,($J$1-1)*8)","v":"-"}]
[null,"Solar fotovoltaica",{"$f":"OFFSET(Estructura!C91,0,($J$1-1)*8)","v":3.1},{"$f":"OFFSET(Estructura!D91,0,($J$1-1)*8)","v":3.1},{"$f":"OFFSET(Estructura!E91,0,($J$1-1)*8)","v":3.1},{"$f":"OFFSET(Estructura!F91,0,($J$1-1)*8)","v":3.2},{"$f":"OFFSET(Estructura!G91,0,($J$1-1)*8)","v":1.9},{"$f":"OFFSET(Estructura!H91,0,($J$1-1)*8)","v":"-"},{"$f":"OFFSET(Estructura!I91,0,($J$1-1)*8)","v":"-"},{"$f":"OFFSET(Estructura!J91,0,($J$1-1)*8)","v":"-"}]
[null,"Solar térmica",{"$f":"OFFSET(Estructura!C92,0,($J$1-1)*8)","v":2},{"$f":"OFFSET(Estructura!D92,0,($J$1-1)*8)","v":2},{"$f":"OFFSET(Estructura!E92,0,($J$1-1)*8)","v":2},{"$f":"OFFSET(Estructura!F92,0,($J$1-1)*8)","v":2.2000000000000002},{"$f":"OFFSET(Estructura!G92,0,($J$1-1)*8)","v":0.6},{"$f":"OFFSET(Estructura!H92,0,($J$1-1)*8)","v":"-"},{"$f":"OFFSET(Estructura!I92,0,($J$1-1)*8)","v":"-"},{"$f":"OFFSET(Estructura!J92,0,($J$1-1)*8)","v":"-"}]
[null,"Térmica renovable (3)/Otras renovables (4)",{"$f":"OFFSET(Estructura!C93,0,($J$1-1)*8)","v":1.9},{"$f":"OFFSET(Estructura!D93,0,($J$1-1)*8)","v":1.2},{"$f":"OFFSET(Estructura!E93,0,($J$1-1)*8)","v":1.4},{"$f":"OFFSET(Estructura!F93,0,($J$1-1)*8)","v":1.4},{"$f":"OFFSET(Estructura!G93,0,($J$1-1)*8)","v":1.4},{"$f":"OFFSET(Estructura!H93,0,($J$1-1)*8)","v":"-"},{"$f":"OFFSET(Estructura!I93,0,($J$1-1)*8)","v":"-"},{"$f":"OFFSET(Estructura!J93,0,($J$1-1)*8)","v":"-"}]
[null,"Cogeneración y resto (3)/Cogeneración",{"$f":"OFFSET(Estructura!C94,0,($J$1-1)*8)","v":10.099999999999994},{"$f":"OFFSET(Estructura!D94,0,($J$1-1)*8)","v":10.099999999999994},{"$f":"OFFSET(Estructura!E94,0,($J$1-1)*8)","v":10.299999999999997},{"$f":"OFFSET(Estructura!F94,0,($J$1-1)*8)","v":11.399999999999991},{"$f":"OFFSET(Estructura!G94,0,($J$1-1)*8)","v":11.599999999999994},{"$f":"OFFSET(Estructura!H94,0,($J$1-1)*8)","v":"-"},{"$f":"OFFSET(Estructura!I94,0,($J$1-1)*8)","v":"-"},{"$f":"OFFSET(Estructura!J94,0,($J$1-1)*8)","v":"-"}]
[null,"Residuos no renovables (5)",{"$f":"OFFSET(Estructura!C95,0,($J$1-1)*8)","v":"-"},{"$f":"OFFSET(Estructura!D95,0,($J$1-1)*8)","v":0.9},{"$f":"OFFSET(Estructura!E95,0,($J$1-1)*8)","v":1},{"$f":"OFFSET(Estructura!F95,0,($J$1-1)*8)","v":1},{"$f":"OFFSET(Estructura!G95,0,($J$1-1)*8)","v":1},{"$f":"OFFSET(Estructura!H95,0,($J$1-1)*8)","v":"-"},{"$f":"OFFSET(Estructura!I95,0,($J$1-1)*8)","v":"-"},{"$f":"OFFSET(Estructura!J95,0,($J$1-1)*8)","v":"-"}]
[null,"Residuos renovables (5)",{"$f":"OFFSET(Estructura!C96,0,($J$1-1)*8)","v":"-"},{"$f":"OFFSET(Estructura!D96,0,($J$1-1)*8)","v":0.3},{"$f":"OFFSET(Estructura!E96,0,($J$1-1)*8)","v":0.3},{"$f":"OFFSET(Estructura!F96,0,($J$1-1)*8)","v":0.3},{"$f":"OFFSET(Estructura!G96,0,($J$1-1)*8)","v":0.3},{"$f":"OFFSET(Estructura!H96,0,($J$1-1)*8)","v":"-"},{"$f":"OFFSET(Estructura!I96,0,($J$1-1)*8)","v":"-"},{"$f":"OFFSET(Estructura!J96,0,($J$1-1)*8)","v":"-"}]
[null,"Generación renovable (6)",{"$f":"OFFSET(Estructura!C97,0,($J$1-1)*8)","v":42.4},{"$f":"OFFSET(Estructura!D97,0,($J$1-1)*8)","v":36.5},{"$f":"OFFSET(Estructura!E97,0,($J$1-1)*8)","v":40.299999999999997},{"$f":"OFFSET(Estructura!F97,0,($J$1-1)*8)","v":33.599999999999994},{"$f":"OFFSET(Estructura!G97,0,($J$1-1)*8)","v":38.4},{"$f":"OFFSET(Estructura!H97,0,($J$1-1)*8)","v":"-"},{"$f":"OFFSET(Estructura!I97,0,($J$1-1)*8)","v":"-"},{"$f":"OFFSET(Estructura!J97,0,($J$1-1)*8)","v":"-"}]
[null,"Generación no renovable",{"$f":"OFFSET(Estructura!C98,0,($J$1-1)*8)","v":57.599999999999994},{"$f":"OFFSET(Estructura!D98,0,($J$1-1)*8)","v":63.499999999999993},{"$f":"OFFSET(Estructura!E98,0,($J$1-1)*8)","v":59.7},{"$f":"OFFSET(Estructura!F98,0,($J$1-1)*8)","v":66.399999999999991},{"$f":"OFFSET(Estructura!G98,0,($J$1-1)*8)","v":61.599999999999994},{"$f":"OFFSET(Estructura!H98,0,($J$1-1)*8)","v":"-"},{"$f":"OFFSET(Estructura!I98,0,($J$1-1)*8)","v":"-"},{"$f":"OFFSET(Estructura!J98,0,($J$1-1)*8)","v":"-"}]
[null,"(1) Asignación de unidades de producción según combustible principal."]
[null,"(2) Incluye funcionamiento en ciclo abierto."]
[null,"(3) Incluye residuos hasta el 31/12/2014."]
[null,"(4) Otras renovables incluyen biogás, biomasa, hidráulica marina y geotérmica."]
[null,"(5) Generación incluida en otras renovables y cogeneración hasta el 31/12/2014."]
[null,"(6) Incluye hidráulica, eólica, solar fotovoltaica, solar térmica y térmica renovable/otras renovables y residuos renovables. No incluye la turbinación bombeo."]
[null,{"$f":"IF(J1<4,\"\",IF(MONTH(FACT)=1,\"\",CONCATENATE(\"    Para el año \",YEAR(FACT),\" valores acumulados hasta \",TEXT(FACT-30,\"mmmm\"),\" de \",YEAR(FACT),\".\")))","v":"    Para el año 2018 valores acumulados hasta enero de 2018."}]

{"sheet":"Estructura mensual Baleares","index":5,"n_rows":29,"n_cols":15,"rows_kept":29,"cut":false,"hidden":false,"merged":[[28,1,28,14],[27,1,27,14],[26,1,26,14],[5,2,5,9],[22,1,22,14],[23,1,23,14],[24,1,24,14],[25,1,25,14]]}
[null,null,null,null,null,null,null,null,null,null,null,null,null,null,13]
[]
[]
[null,null,null,null,null,null,null,null,null,null,null,null,"Sistema eléctrico"]
[null,null,null,null,null,null,null,null,null,null,null,null,"Horizonte temporal"]
[null,null,null,null,null,null,null,null,null,null,null,null,"Periodo"]
[]
[null,null,"Ene.","Feb.","Mar.","Abr.","May.","Jun.","Jul.","Ago.","Sep.","Oct.","Nov.","Dic.",{"$f":"OFFSET(Año!B18,($O$1-1),0)","v":2018}]
[]
[null,"Carbón",{"$f":"OFFSET(Estructura!C20,0,($O$1-1)*12)","v":55.6},{"$f":"OFFSET(Estructura!D20,0,($O$1-1)*12)","v":"-"},{"$f":"OFFSET(Estructura!E20,0,($O$1-1)*12)","v":"-"},{"$f":"OFFSET(Estructura!F20,0,($O$1-1)*12)","v":"-"},{"$f":"OFFSET(Estructura!G20,0,($O$1-1)*12)","v":"-"},{"$f":"OFFSET(Estructura!H20,0,($O$1-1)*12)","v":"-"},{"$f":"OFFSET(Estructura!I20,0,($O$1-1)*12)","v":"-"},{"$f":"OFFSET(Estructura!J20,0,($O$1-1)*12)","v":"-"},{"$f":"OFFSET(Estructura!K20,0,($O$1-1)*12)","v":"-"},{"$f":"OFFSET(Estructura!L20,0,($O$1-1)*12)","v":"-"},{"$f":"OFFSET(Estructura!M20,0,($O$1-1)*12)","v":"-"},{"$f":"OFFSET(Estructura!N20,0,($O$1-1)*12)","v":"-"},{"$f":"OFFSET(Estructura!C101,0,($O$1-1))","v":55.6}]
[null,"Motores diesel",{"$f":"OFFSET(Estructura!C21,0,($O$1-1)*12)","v":10.9},{"$f":"OFFSET(Estructura!D21,0,($O$1-1)*12)","v":"-"},{"$f":"OFFSET(Estructura!E21,0,($O$1-1)*12)","v":"-"},{"$f":"OFFSET(Estructura!F21,0,($O$1-1)*12)","v":"-"},{"$f":"OFFSET(Estructura!G21,0,($O$1-1)*12)","v":"-"},{"$f":"OFFSET(Estructura!H21,0,($O$1-1)*12)","v":"-"},{"$f":"OFFSET(Estructura!I21,0,($O$1-1)*12)","v":"-"},{"$f":"OFFSET(Estructura!J21,0,($O$1-1)*12)","v":"-"},{"$f":"OFFSET(Estructura!K21,0,($O$1-1)*12)","v":"-"},{"$f":"OFFSET(Estructura!L21,0,($O$1-1)*12)","v":"-"},{"$f":"OFFSET(Estructura!M21,0,($O$1-1)*12)","v":"-"},{"$f":"OFFSET(Estructura!N21,0,($O$1-1)*12)","v":"-"},{"$f":"OFFSET(Estructura!C102,0,($O$1-1))","v":10.9}]
[null,"Turbina de gas",{"$f":"OFFSET(Estructura!C22,0,($O$1-1)*12)","v":17},{"$f":"OFFSET(Estructura!D22,0,($O$1-1)*12)","v":"-"},{"$f":"OFFSET(Estructura!E22,0,($O$1-1)*12)","v":"-"},{"$f":"OFFSET(Estructura!F22,0,($O$1-1)*12)","v":"-"},{"$f":"OFFSET(Estructura!G22,0,($O$1-1)*12)","v":"-"},{"$f":"OFFSET(Estructura!H22,0,($O$1-1)*12)","v":"-"},{"$f":"OFFSET(Estructura!I22,0,($O$1-1)*12)","v":"-"},{"$f":"OFFSET(Estructura!J22,0,($O$1-1)*12)","v":"-"},{"$f":"OFFSET(Estructura!K22,0,($O$1-1)*12)","v":"-"},{"$f":"OFFSET(Estructura!L22,0,($O$1-1)*12)","v":"-"},{"$f":"OFFSET(Estructura!M22,0,($O$1-1)*12)","v":"-"},{"$f":"OFFSET(Estructura!N22,0,($O$1-1)*12)","v":"-"},{"$f":"OFFSET(Estructura!C103,0,($O$1-1))","v":17}]
[null,"Ciclo combinado (2)",{"$f":"OFFSET(Estructura!C23,0,($O$1-1)*12)","v":9.1999999999999993},{"$f":"OFFSET(Estructura!D23,0,($O$1-1)*12)","v":"-"},{"$f":"OFFSET(Estructura!E23,0,($O$1-1)*12)","v":"-"},{"$f":"OFFSET(Estructura!F23,0,($O$1-1)*12)","v":"-"},{"$f":"OFFSET(Estructura!G23,0,($O$1-1)*12)","v":"-"},{"$f":"OFFSET(Estructura!H23,0,($O$1-1)*12)","v":"-"},{"$f":"OFFSET(Estructura!I23,0,($O$1-1)*12)","v":"-"},{"$f":"OFFSET(Estructura!J23,0,($O$1-1)*12)","v":"-"},{"$f":"OFFSET(Estructura!K23,0,($O$1-1)*12)","v":"-"},{"$f":"OFFSET(Estructura!L23,0,($O$1-1)*12)","v":"-"},{"$f":"OFFSET(Estructura!M23,0,($O$1-1)*12)","v":"-"},{"$f":"OFFSET(Estructura!N23,0,($O$1-1)*12)","v":"-"},{"$f":"OFFSET(Estructura!C104,0,($O$1-1))","v":9.1999999999999993}]
[null,"Generación auxiliar (3)",{"$f":"OFFSET(Estructura!C24,0,($O$1-1)*12)","v":"-"},{"$f":"OFFSET(Estructura!D24,0,($O$1-1)*12)","v":"-"},{"$f":"OFFSET(Estructura!E24,0,($O$1-1)*12)","v":"-"},{"$f":"OFFSET(Estructura!F24,0,($O$1-1)*12)","v":"-"},{"$f":"OFFSET(Estructura!G24,0,($O$1-1)*12)","v":"-"},{"$f":"OFFSET(Estructura!H24,0,($O$1-1)*12)","v":"-"},{"$f":"OFFSET(Estructura!I24,0,($O$1-1)*12)","v":"-"},{"$f":"OFFSET(Estructura!J24,0,($O$1-1)*12)","v":"-"},{"$f":"OFFSET(Estructura!K24,0,($O$1-1)*12)","v":"-"},{"$f":"OFFSET(Estructura!L24,0,($O$1-1)*12)","v":"-"},{"$f":"OFFSET(Estructura!M24,0,($O$1-1)*12)","v":"-"},{"$f":"OFFSET(Estructura!N24,0,($O$1-1)*12)","v":"-"},{"$f":"OFFSET(Estructura!C105,0,($O$1-1))","v":"-"}]
[null,"Eólica",{"$f":"OFFSET(Estructura!C25,0,($O$1-1)*12)","v":0.1},{"$f":"OFFSET(Estructura!D25,0,($O$1-1)*12)","v":"-"},{"$f":"OFFSET(Estructura!E25,0,($O$1-1)*12)","v":"-"},{"$f":"OFFSET(Estructura!F25,0,($O$1-1)*12)","v":"-"},{"$f":"OFFSET(Estructura!G25,0,($O$1-1)*12)","v":"-"},{"$f":"OFFSET(Estructura!H25,0,($O$1-1)*12)","v":"-"},{"$f":"OFFSET(Estructura!I25,0,($O$1-1)*12)","v":"-"},{"$f":"OFFSET(Estructura!J25,0,($O$1-1)*12)","v":"-"},{"$f":"OFFSET(Estructura!K25,0,($O$1-1)*12)","v":"-"},{"$f":"OFFSET(Estructura!L25,0,($O$1-1)*12)","v":"-"},{"$f":"OFFSET(Estructura!M25,0,($O$1-1)*12)","v":"-"},{"$f":"OFFSET(Estructura!N25,0,($O$1-1)*12)","v":"-"},{"$f":"OFFSET(Estructura!C106,0,($O$1-1))","v":0.1}]
[null,"Solar fotovoltaica",{"$f":"OFFSET(Estructura!C26,0,($O$1-1)*12)","v":1.9},{"$f":"OFFSET(Estructura!D26,0,($O$1-1)*12)","v":"-"},{"$f":"OFFSET(Estructura!E26,0,($O$1-1)*12)","v":"-"},{"$f":"OFFSET(Estructura!F26,0,($O$1-1)*12)","v":"-"},{"$f":"OFFSET(Estructura!G26,0,($O$1-1)*12)","v":"-"},{"$f":"OFFSET(Estructura!H26,0,($O$1-1)*12)","v":"-"},{"$f":"OFFSET(Estructura!I26,0,($O$1-1)*12)","v":"-"},{"$f":"OFFSET(Estructura!J26,0,($O$1-1)*12)","v":"-"},{"$f":"OFFSET(Estructura!K26,0,($O$1-1)*12)","v":"-"},{"$f":"OFFSET(Estructura!L26,0,($O$1-1)*12)","v":"-"},{"$f":"OFFSET(Estructura!M26,0,($O$1-1)*12)","v":"-"},{"$f":"OFFSET(Estructura!N26,0,($O$1-1)*12)","v":"-"},{"$f":"OFFSET(Estructura!C107,0,($O$1-1))","v":1.9}]
[null,"Térmica renovable (4)/Otras renovables (5)",{"$f":"OFFSET(Estructura!C27,0,($O$1-1)*12)","v":0},{"$f":"OFFSET(Estructura!D27,0,($O$1-1)*12)","v":"-"},{"$f":"OFFSET(Estructura!E27,0,($O$1-1)*12)","v":"-"},{"$f":"OFFSET(Estructura!F27,0,($O$1-1)*12)","v":"-"},{"$f":"OFFSET(Estructura!G27,0,($O$1-1)*12)","v":"-"},{"$f":"OFFSET(Estructura!H27,0,($O$1-1)*12)","v":"-"},{"$f":"OFFSET(Estructura!I27,0,($O$1-1)*12)","v":"-"},{"$f":"OFFSET(Estructura!J27,0,($O$1-1)*12)","v":"-"},{"$f":"OFFSET(Estructura!K27,0,($O$1-1)*12)","v":"-"},{"$f":"OFFSET(Estructura!L27,0,($O$1-1)*12)","v":"-"},{"$f":"OFFSET(Estructura!M27,0,($O$1-1)*12)","v":"-"},{"$f":"OFFSET(Estructura!N27,0,($O$1-1)*12)","v":"-"},{"$f":"OFFSET(Estructura!C108,0,($O$1-1))","v":0}]
[null,"Cogeneración y resto (4)/Cogeneración",{"$f":"OFFSET(Estructura!C28,0,($O$1-1)*12)","v":0.9},{"$f":"OFFSET(Estructura!D28,0,($O$1-1)*12)","v":"-"},{"$f":"OFFSET(Estructura!E28,0,($O$1-1)*12)","v":"-"},{"$f":"OFFSET(Estructura!F28,0,($O$1-1)*12)","v":"-"},{"$f":"OFFSET(Estructura!G28,0,($O$1-1)*12)","v":"-"},{"$f":"OFFSET(Estructura!H28,0,($O$1-1)*12)","v":"-"},{"$f":"OFFSET(Estructura!I28,0,($O$1-1)*12)","v":"-"},{"$f":"OFFSET(Estructura!J28,0,($O$1-1)*12)","v":"-"},{"$f":"OFFSET(Estructura!K28,0,($O$1-1)*12)","v":"-"},{"$f":"OFFSET(Estructura!L28,0,($O$1-1)*12)","v":"-"},{"$f":"OFFSET(Estructura!M28,0,($O$1-1)*12)","v":"-"},{"$f":"OFFSET(Estructura!N28,0,($O$1-1)*12)","v":"-"},{"$f":"OFFSET(Estructura!C109,0,($O$1-1))","v":0.9}]
[null,"Residuos no renovables (6)",{"$f":"OFFSET(Estructura!C29,0,($O$1-1)*12)","v":2.2000000000000002},{"$f":"OFFSET(Estructura!D29,0,($O$1-1)*12)","v":"-"},{"$f":"OFFSET(Estructura!E29,0,($O$1-1)*12)","v":"-"},{"$f":"OFFSET(Estructura!F29,0,($O$1-1)*12)","v":"-"},{"$f":"OFFSET(Estructura!G29,0,($O$1-1)*12)","v":"-"},{"$f":"OFFSET(Estructura!H29,0,($O$1-1)*12)","v":"-"},{"$f":"OFFSET(Estructura!I29,0,($O$1-1)*12)","v":"-"},{"$f":"OFFSET(Estructura!J29,0,($O$1-1)*12)","v":"-"},{"$f":"OFFSET(Estructura!K29,0,($O$1-1)*12)","v":"-"},{"$f":"OFFSET(Estructura!L29,0,($O$1-1)*12)","v":"-"},{"$f":"OFFSET(Estructura!M29,0,($O$1-1)*12)","v":"-"},{"$f":"OFFSET(Estructura!N29,0,($O$1-1)*12)","v":"-"},{"$f":"OFFSET(Estructura!C110,0,($O$1-1))","v":2.2000000000000002}]
[null,"Residuos renovables (6)",{"$f":"OFFSET(Estructura!C30,0,($O$1-1)*12)","v":2.2000000000000002},{"$f":"OFFSET(Estructura!D30,0,($O$1-1)*12)","v":"-"},{"$f":"OFFSET(Estructura!E30,0,($O$1-1)*12)","v":"-"},{"$f":"OFFSET(Estructura!F30,0,($O$1-1)*12)","v":"-"},{"$f":"OFFSET(Estructura!G30,0,($O$1-1)*12)","v":"-"},{"$f":"OFFSET(Estructura!H30,0,($O$1-1)*12)","v":"-"},{"$f":"OFFSET(Estructura!I30,0,($O$1-1)*12)","v":"-"},{"$f":"OFFSET(Estructura!J30,0,($O$1-1)*12)","v":"-"},{"$f":"OFFSET(Estructura!K30,0,($O$1-1)*12)","v":"-"},{"$f":"OFFSET(Estructura!L30,0,($O$1-1)*12)","v":"-"},{"$f":"OFFSET(Estructura!M30,0,($O$1-1)*12)","v":"-"},{"$f":"OFFSET(Estructura!N30,0,($O$1-1)*12)","v":"-"},{"$f":"OFFSET(Estructura!C111,0,($O$1-1))","v":2.2000000000000002}]
[null,"Generación renovable (7)",{"$f":"OFFSET(Estructura!C31,0,($O$1-1)*12)","v":4.2},{"$f":"OFFSET(Estructura!D31,0,($O$1-1)*12)","v":"-"},{"$f":"OFFSET(Estructura!E31,0,($O$1-1)*12)","v":"-"},{"$f":"OFFSET(Estructura!F31,0,($O$1-1)*12)","v":"-"},{"$f":"OFFSET(Estructura!G31,0,($O$1-1)*12)","v":"-"},{"$f":"OFFSET(Estructura!H31,0,($O$1-1)*12)","v":"-"},{"$f":"OFFSET(Estructura!I31,0,($O$1-1)*12)","v":"-"},{"$f":"OFFSET(Estructura!J31,0,($O$1-1)*12)","v":"-"},{"$f":"OFFSET(Estructura!K31,0,($O$1-1)*12)","v":"-"},{"$f":"OFFSET(Estructura!L31,0,($O$1-1)*12)","v":"-"},{"$f":"OFFSET(Estructura!M31,0,($O$1-1)*12)","v":"-"},{"$f":"OFFSET(Estructura!N31,0,($O$1-1)*12)","v":"-"},{"$f":"OFFSET(Estructura!C112,0,($O$1-1))","v":4.2}]
[null,"Generación no renovable",{"$f":"OFFSET(Estructura!C32,0,($O$1-1)*12)","v":95.800000000000011},{"$f":"OFFSET(Estructura!D32,0,($O$1-1)*12)","v":"-"},{"$f":"OFFSET(Estructura!E32,0,($O$1-1)*12)","v":"-"},{"$f":"OFFSET(Estructura!F32,0,($O$1-1)*12)","v":"-"},{"$f":"OFFSET(Estructura!G32,0,($O$1-1)*12)","v":"-"},{"$f":"OFFSET(Estructura!H32,0,($O$1-1)*12)","v":"-"},{"$f":"OFFSET(Estructura!I32,0,($O$1-1)*12)","v":"-"},{"$f":"OFFSET(Estructura!J32,0,($O$1-1)*12)","v":"-"},{"$f":"OFFSET(Estructura!K32,0,($O$1-1)*12)","v":"-"},{"$f":"OFFSET(Estructura!L32,0,($O$1-1)*12)","v":"-"},{"$f":"OFFSET(Estructura!M32,0,($O$1-1)*12)","v":"-"},{"$f":"OFFSET(Estructura!N32,0,($O$1-1)*12)","v":"-"},{"$f":"OFFSET(Estructura!C113,0,($O$1-1))","v":95.800000000000011}]
[null,"(1) Asignación de unidades de producción según combustible principal."]
[null,"(2) Incluye funcionamiento en ciclo abierto."]
[null,"(3) Grupos de emergencia que se instalan de forma transitoria en determinadas zonas para cubrir un déficit de generación."]
[null,"(4) Incluye residuos hasta el 31/12/2014."]
[null,"(5) Otras renovables incluyen biogás y biomasa."]
[null,"(6) Generación incluida en otras renovables y cogeneración hasta el 31/12/2014."]
[null,"(7) Incluye eólica, solar fotovoltaica y térmica renovable/otras renovables y residuos renovables."]

{"sheet":"Estructura anual Baleares","index":6,"n_rows":30,"n_cols":10,"rows_kept":30,"cut":false,"hidden":false,"merged":[[29,1,29,9],[22,1,22,9],[23,1,23,9],[24,1,24,9],[25,1,25,9],[26,1,26,9],[27,1,27,14],[28,1,28,14]]}
[null,null,null,null,null,null,null,null,null,2]
[]
[]
[null,null,null,null,null,null,null,"Sistema eléctrico"]
[null,null,null,null,null,null,null,"Horizonte temporal"]
[null,null,null,null,null,null,null,"Periodo"]
[]
[null,null,{"$f":"OFFSET(Estructura!C100,0,($J$1-1)*8)","v":2014},{"$f":"OFFSET(Estructura!D100,0,($J$1-1)*8)","v":2015},{"$f":"OFFSET(Estructura!E100,0,($J$1-1)*8)","v":2016},{"$f":"OFFSET(Estructura!F100,0,($J$1-1)*8)","v":2017},{"$f":"OFFSET(Estructura!G100,0,($J$1-1)*8)","v":2018},{"$f":"OFFSET(Estructura!H100,0,($J$1-1)*8)","v":2019},{"$f":"OFFSET(Estructura!I100,0,($J$1-1)*8)","v":2020},{"$f":"OFFSET(Estructura!J100,0,($J$1-1)*8)","v":2021}]
[]
[null,"Carbón",{"$f":"OFFSET(Estructura!C101,0,($J$1-1)*8)","v":50.9},{"$f":"OFFSET(Estructura!D101,0,($J$1-1)*8)","v":41.899999999999991},{"$f":"OFFSET(Estructura!E101,0,($J$1-1)*8)","v":50.3},{"$f":"OFFSET(Estructura!F101,0,($J$1-1)*8)","v":53.699999999999996},{"$f":"OFFSET(Estructura!G101,0,($J$1-1)*8)","v":55.6},{"$f":"OFFSET(Estructura!H101,0,($J$1-1)*8)","v":"-"},{"$f":"OFFSET(Estructura!I101,0,($J$1-1)*8)","v":"-"},{"$f":"OFFSET(Estructura!J101,0,($J$1-1)*8)","v":"-"}]
[null,"Motores diesel",{"$f":"OFFSET(Estructura!C102,0,($J$1-1)*8)","v":15.7},{"$f":"OFFSET(Estructura!D102,0,($J$1-1)*8)","v":16.399999999999999},{"$f":"OFFSET(Estructura!E102,0,($J$1-1)*8)","v":21},{"$f":"OFFSET(Estructura!F102,0,($J$1-1)*8)","v":16.5},{"$f":"OFFSET(Estructura!G102,0,($J$1-1)*8)","v":10.9},{"$f":"OFFSET(Estructura!H102,0,($J$1-1)*8)","v":"-"},{"$f":"OFFSET(Estructura!I102,0,($J$1-1)*8)","v":"-"},{"$f":"OFFSET(Estructura!J102,0,($J$1-1)*8)","v":"-"}]
[null,"Turbina de gas",{"$f":"OFFSET(Estructura!C103,0,($J$1-1)*8)","v":13.6},{"$f":"OFFSET(Estructura!D103,0,($J$1-1)*8)","v":13.1},{"$f":"OFFSET(Estructura!E103,0,($J$1-1)*8)","v":7.4},{"$f":"OFFSET(Estructura!F103,0,($J$1-1)*8)","v":11.4},{"$f":"OFFSET(Estructura!G103,0,($J$1-1)*8)","v":17},{"$f":"OFFSET(Estructura!H103,0,($J$1-1)*8)","v":"-"},{"$f":"OFFSET(Estructura!I103,0,($J$1-1)*8)","v":"-"},{"$f":"OFFSET(Estructura!J103,0,($J$1-1)*8)","v":"-"}]
[null,"Ciclo combinado (2)",{"$f":"OFFSET(Estructura!C104,0,($J$1-1)*8)","v":10},{"$f":"OFFSET(Estructura!D104,0,($J$1-1)*8)","v":18.100000000000001},{"$f":"OFFSET(Estructura!E104,0,($J$1-1)*8)","v":11.8},{"$f":"OFFSET(Estructura!F104,0,($J$1-1)*8)","v":8.8000000000000007},{"$f":"OFFSET(Estructura!G104,0,($J$1-1)*8)","v":9.1999999999999993},{"$f":"OFFSET(Estructura!H104,0,($J$1-1)*8)","v":"-"},{"$f":"OFFSET(Estructura!I104,0,($J$1-1)*8)","v":"-"},{"$f":"OFFSET(Estructura!J104,0,($J$1-1)*8)","v":"-"}]
[null,"Generación auxiliar (3)",{"$f":"OFFSET(Estructura!C105,0,($J$1-1)*8)","v":0.2},{"$f":"OFFSET(Estructura!D105,0,($J$1-1)*8)","v":0.2},{"$f":"OFFSET(Estructura!E105,0,($J$1-1)*8)","v":0.2},{"$f":"OFFSET(Estructura!F105,0,($J$1-1)*8)","v":0.3},{"$f":"OFFSET(Estructura!G105,0,($J$1-1)*8)","v":"-"},{"$f":"OFFSET(Estructura!H105,0,($J$1-1)*8)","v":"-"},{"$f":"OFFSET(Estructura!I105,0,($J$1-1)*8)","v":"-"},{"$f":"OFFSET(Estructura!J105,0,($J$1-1)*8)","v":"-"}]
[null,"Eólica",{"$f":"OFFSET(Estructura!C106,0,($J$1-1)*8)","v":0.1},{"$f":"OFFSET(Estructura!D106,0,($J$1-1)*8)","v":0.1},{"$f":"OFFSET(Estructura!E106,0,($J$1-1)*8)","v":0.1},{"$f":"OFFSET(Estructura!F106,0,($J$1-1)*8)","v":0.1},{"$f":"OFFSET(Estructura!G106,0,($J$1-1)*8)","v":0.1},{"$f":"OFFSET(Estructura!H106,0,($J$1-1)*8)","v":"-"},{"$f":"OFFSET(Estructura!I106,0,($J$1-1)*8)","v":"-"},{"$f":"OFFSET(Estructura!J106,0,($J$1-1)*8)","v":"-"}]
[null,"Solar fotovoltaica",{"$f":"OFFSET(Estructura!C107,0,($J$1-1)*8)","v":2.9},{"$f":"OFFSET(Estructura!D107,0,($J$1-1)*8)","v":2.7},{"$f":"OFFSET(Estructura!E107,0,($J$1-1)*8)","v":2.6},{"$f":"OFFSET(Estructura!F107,0,($J$1-1)*8)","v":2.5},{"$f":"OFFSET(Estructura!G107,0,($J$1-1)*8)","v":1.9},{"$f":"OFFSET(Estructura!H107,0,($J$1-1)*8)","v":"-"},{"$f":"OFFSET(Estructura!I107,0,($J$1-1)*8)","v":"-"},{"$f":"OFFSET(Estructura!J107,0,($J$1-1)*8)","v":"-"}]
[null,"Térmica renovable (4)/Otras renovables (5)",{"$f":"OFFSET(Estructura!C108,0,($J$1-1)*8)","v":0},{"$f":"OFFSET(Estructura!D108,0,($J$1-1)*8)","v":0},{"$f":"OFFSET(Estructura!E108,0,($J$1-1)*8)","v":0},{"$f":"OFFSET(Estructura!F108,0,($J$1-1)*8)","v":0},{"$f":"OFFSET(Estructura!G108,0,($J$1-1)*8)","v":0},{"$f":"OFFSET(Estructura!H108,0,($J$1-1)*8)","v":"-"},{"$f":"OFFSET(Estructura!I108,0,($J$1-1)*8)","v":"-"},{"$f":"OFFSET(Estructura!J108,0,($J$1-1)*8)","v":"-"}]
[null,"Cogeneración y resto (4)/Cogeneración",{"$f":"OFFSET(Estructura!C109,0,($J$1-1)*8)","v":6.6},{"$f":"OFFSET(Estructura!D109,0,($J$1-1)*8)","v":0.7},{"$f":"OFFSET(Estructura!E109,0,($J$1-1)*8)","v":0.8},{"$f":"OFFSET(Estructura!F109,0,($J$1-1)*8)","v":0.7},{"$f":"OFFSET(Estructura!G109,0,($J$1-1)*8)","v":0.9},{"$f":"OFFSET(Estructura!H109,0,($J$1-1)*8)","v":"-"},{"$f":"OFFSET(Estructura!I109,0,($J$1-1)*8)","v":"-"},{"$f":"OFFSET(Estructura!J109,0,($J$1-1)*8)","v":"-"}]
[null,"Residuos no renovables (6)",{"$f":"OFFSET(Estructura!C110,0,($J$1-1)*8)","v":"-"},{"$f":"OFFSET(Estructura!D110,0,($J$1-1)*8)","v":3.4},{"$f":"OFFSET(Estructura!E110,0,($J$1-1)*8)","v":2.9},{"$f":"OFFSET(Estructura!F110,0,($J$1-1)*8)","v":3},{"$f":"OFFSET(Estructura!G110,0,($J$1-1)*8)","v":2.2000000000000002},{"$f":"OFFSET(Estructura!H110,0,($J$1-1)*8)","v":"-"},{"$f":"OFFSET(Estructura!I110,0,($J$1-1)*8)","v":"-"},{"$f":"OFFSET(Estructura!J110,0,($J$1-1)*8)","v":"-"}]
[null,"Residuos renovables (6)",{"$f":"OFFSET(Estructura!C111,0,($J$1-1)*8)","v":"-"},{"$f":"OFFSET(Estructura!D111,0,($J$1-1)*8)","v":3.4},{"$f":"OFFSET(Estructura!E111,0,($J$1-1)*8)","v":2.9},{"$f":"OFFSET(Estructura!F111,0,($J$1-1)*8)","v":3},{"$f":"OFFSET(Estructura!G111,0,($J$1-1)*8)","v":2.2000000000000002},{"$f":"OFFSET(Estructura!H111,0,($J$1-1)*8)","v":"-"},{"$f":"OFFSET(Estructura!I111,0,($J$1-1)*8)","v":"-"},{"$f":"OFFSET(Estructura!J111,0,($J$1-1)*8)","v":"-"}]
[null,"Generación renovable (7)",{"$f":"OFFSET(Estructura!C112,0,($J$1-1)*8)","v":3},{"$f":"OFFSET(Estructura!D112,0,($J$1-1)*8)","v":6.2},{"$f":"OFFSET(Estructura!E112,0,($J$1-1)*8)","v":5.6},{"$f":"OFFSET(Estructura!F112,0,($J$1-1)*8)","v":5.6},{"$f":"OFFSET(Estructura!G112,0,($J$1-1)*8)","v":4.2},{"$f":"OFFSET(Estructura!H112,0,($J$1-1)*8)","v":"-"},{"$f":"OFFSET(Estructura!I112,0,($J$1-1)*8)","v":"-"},{"$f":"OFFSET(Estructura!J112,0,($J$1-1)*8)","v":"-"}]
[null,"Generación no renovable",{"$f":"OFFSET(Estructura!C113,0,($J$1-1)*8)","v":96.999999999999986},{"$f":"OFFSET(Estructura!D113,0,($J$1-1)*8)","v":93.800000000000011},{"$f":"OFFSET(Estructura!E113,0,($J$1-1)*8)","v":94.4},{"$f":"OFFSET(Estructura!F113,0,($J$1-1)*8)","v":94.399999999999991},{"$f":"OFFSET(Estructura!G113,0,($J$1-1)*8)","v":95.800000000000011},{"$f":"OFFSET(Estructura!H113,0,($J$1-1)*8)","v":"-"},{"$f":"OFFSET(Estructura!I113,0,($J$1-1)*8)","v":"-"},{"$f":"OFFSET(Estructura!J113,0,($J$1-1)*8)","v":"-"}]
[null,"(1) Asignación de unidades de producción según combustible principal."]
[null,"(2) Incluye funcionamiento en ciclo abierto."]
[null,"(3) Grupos de emergencia que se instalan de forma transitoria en determinadas zonas para cubrir un déficit de generación."]
[null,"(4) Incluye residuos hasta el 31/12/2014."]
[null,"(5) Otras renovables incluyen biogás y biomasa."]
[null,"(6) Generación incluida en otras renovables y cogeneración hasta el 31/12/2014."]
[null,"(7) Incluye eólica, solar fotovoltaica y térmica renovable/otras renovables y residuos renovables."]
[null,{"$f":"IF(J1<2,\"\",IF(MONTH(FACT)=1,\"\",CONCATENATE(\"    Para el año \",YEAR(FACT),\" valores acumulados hasta \",TEXT(FACT-30,\"mmmm\"),\" de \",YEAR(FACT),\".\")))","v":"    Para el año 2018 valores acumulados hasta enero de 2018."}]

{"sheet":"Estructura mensual Canarias","index":7,"n_rows":27,"n_cols":15,"rows_kept":27,"cut":false,"hidden":false,"merged":[[26,1,26,14],[5,2,5,9],[22,1,22,14],[23,1,23,14],[24,1,24,14],[25,1,25,14]]}
[null,null,null,null,null,null,null,null,null,null,null,null,null,null,13]
[]
[]
[null,null,null,null,null,null,null,null,null,null,null,null,"Sistema eléctrico"]
[null,null,null,null,null,null,null,null,null,null,null,null,"Horizonte temporal"]
[null,null,null,null,null,null,null,null,null,null,null,null,"Periodo"]
[]
[null,null,"Ene.","Feb.","Mar.","Abr.","May.","Jun.","Jul.","Ago.","Sep.","Oct.","Nov.","Dic.",{"$f":"OFFSET(Año!B18,($O$1-1),0)","v":2018}]
[]
[null,"Hidráulica",{"$f":"OFFSET(Estructura!C35,0,($O$1-1)*12)","v":"-"},{"$f":"OFFSET(Estructura!D35,0,($O$1-1)*12)","v":"-"},{"$f":"OFFSET(Estructura!E35,0,($O$1-1)*12)","v":"-"},{"$f":"OFFSET(Estructura!F35,0,($O$1-1)*12)","v":"-"},{"$f":"OFFSET(Estructura!G35,0,($O$1-1)*12)","v":"-"},{"$f":"OFFSET(Estructura!H35,0,($O$1-1)*12)","v":"-"},{"$f":"OFFSET(Estructura!I35,0,($O$1-1)*12)","v":"-"},{"$f":"OFFSET(Estructura!J35,0,($O$1-1)*12)","v":"-"},{"$f":"OFFSET(Estructura!K35,0,($O$1-1)*12)","v":"-"},{"$f":"OFFSET(Estructura!L35,0,($O$1-1)*12)","v":"-"},{"$f":"OFFSET(Estructura!M35,0,($O$1-1)*12)","v":"-"},{"$f":"OFFSET(Estructura!N35,0,($O$1-1)*12)","v":"-"},{"$f":"OFFSET(Estructura!C116,0,($O$1-1))","v":"-"}]
[null,"Motores diesel",{"$f":"OFFSET(Estructura!C36,0,($O$1-1)*12)","v":24.8},{"$f":"OFFSET(Estructura!D36,0,($O$1-1)*12)","v":"-"},{"$f":"OFFSET(Estructura!E36,0,($O$1-1)*12)","v":"-"},{"$f":"OFFSET(Estructura!F36,0,($O$1-1)*12)","v":"-"},{"$f":"OFFSET(Estructura!G36,0,($O$1-1)*12)","v":"-"},{"$f":"OFFSET(Estructura!H36,0,($O$1-1)*12)","v":"-"},{"$f":"OFFSET(Estructura!I36,0,($O$1-1)*12)","v":"-"},{"$f":"OFFSET(Estructura!J36,0,($O$1-1)*12)","v":"-"},{"$f":"OFFSET(Estructura!K36,0,($O$1-1)*12)","v":"-"},{"$f":"OFFSET(Estructura!L36,0,($O$1-1)*12)","v":"-"},{"$f":"OFFSET(Estructura!M36,0,($O$1-1)*12)","v":"-"},{"$f":"OFFSET(Estructura!N36,0,($O$1-1)*12)","v":"-"},{"$f":"OFFSET(Estructura!C117,0,($O$1-1))","v":24.8}]
[null,"Turbina de gas",{"$f":"OFFSET(Estructura!C37,0,($O$1-1)*12)","v":3},{"$f":"OFFSET(Estructura!D37,0,($O$1-1)*12)","v":"-"},{"$f":"OFFSET(Estructura!E37,0,($O$1-1)*12)","v":"-"},{"$f":"OFFSET(Estructura!F37,0,($O$1-1)*12)","v":"-"},{"$f":"OFFSET(Estructura!G37,0,($O$1-1)*12)","v":"-"},{"$f":"OFFSET(Estructura!H37,0,($O$1-1)*12)","v":"-"},{"$f":"OFFSET(Estructura!I37,0,($O$1-1)*12)","v":"-"},{"$f":"OFFSET(Estructura!J37,0,($O$1-1)*12)","v":"-"},{"$f":"OFFSET(Estructura!K37,0,($O$1-1)*12)","v":"-"},{"$f":"OFFSET(Estructura!L37,0,($O$1-1)*12)","v":"-"},{"$f":"OFFSET(Estructura!M37,0,($O$1-1)*12)","v":"-"},{"$f":"OFFSET(Estructura!N37,0,($O$1-1)*12)","v":"-"},{"$f":"OFFSET(Estructura!C118,0,($O$1-1))","v":3}]
[null,"Turbina de vapor",{"$f":"OFFSET(Estructura!C38,0,($O$1-1)*12)","v":30},{"$f":"OFFSET(Estructura!D38,0,($O$1-1)*12)","v":"-"},{"$f":"OFFSET(Estructura!E38,0,($O$1-1)*12)","v":"-"},{"$f":"OFFSET(Estructura!F38,0,($O$1-1)*12)","v":"-"},{"$f":"OFFSET(Estructura!G38,0,($O$1-1)*12)","v":"-"},{"$f":"OFFSET(Estructura!H38,0,($O$1-1)*12)","v":"-"},{"$f":"OFFSET(Estructura!I38,0,($O$1-1)*12)","v":"-"},{"$f":"OFFSET(Estructura!J38,0,($O$1-1)*12)","v":"-"},{"$f":"OFFSET(Estructura!K38,0,($O$1-1)*12)","v":"-"},{"$f":"OFFSET(Estructura!L38,0,($O$1-1)*12)","v":"-"},{"$f":"OFFSET(Estructura!M38,0,($O$1-1)*12)","v":"-"},{"$f":"OFFSET(Estructura!N38,0,($O$1-1)*12)","v":"-"},{"$f":"OFFSET(Estructura!C119,0,($O$1-1))","v":30}]
[null,"Ciclo combinado (2)",{"$f":"OFFSET(Estructura!C39,0,($O$1-1)*12)","v":31.5},{"$f":"OFFSET(Estructura!D39,0,($O$1-1)*12)","v":"-"},{"$f":"OFFSET(Estructura!E39,0,($O$1-1)*12)","v":"-"},{"$f":"OFFSET(Estructura!F39,0,($O$1-1)*12)","v":"-"},{"$f":"OFFSET(Estructura!G39,0,($O$1-1)*12)","v":"-"},{"$f":"OFFSET(Estructura!H39,0,($O$1-1)*12)","v":"-"},{"$f":"OFFSET(Estructura!I39,0,($O$1-1)*12)","v":"-"},{"$f":"OFFSET(Estructura!J39,0,($O$1-1)*12)","v":"-"},{"$f":"OFFSET(Estructura!K39,0,($O$1-1)*12)","v":"-"},{"$f":"OFFSET(Estructura!L39,0,($O$1-1)*12)","v":"-"},{"$f":"OFFSET(Estructura!M39,0,($O$1-1)*12)","v":"-"},{"$f":"OFFSET(Estructura!N39,0,($O$1-1)*12)","v":"-"},{"$f":"OFFSET(Estructura!C120,0,($O$1-1))","v":31.5}]
[null,"Generación auxiliar (3)",{"$f":"OFFSET(Estructura!C40,0,($O$1-1)*12)","v":"-"},{"$f":"OFFSET(Estructura!D40,0,($O$1-1)*12)","v":"-"},{"$f":"OFFSET(Estructura!E40,0,($O$1-1)*12)","v":"-"},{"$f":"OFFSET(Estructura!F40,0,($O$1-1)*12)","v":"-"},{"$f":"OFFSET(Estructura!G40,0,($O$1-1)*12)","v":"-"},{"$f":"OFFSET(Estructura!H40,0,($O$1-1)*12)","v":"-"},{"$f":"OFFSET(Estructura!I40,0,($O$1-1)*12)","v":"-"},{"$f":"OFFSET(Estructura!J40,0,($O$1-1)*12)","v":"-"},{"$f":"OFFSET(Estructura!K40,0,($O$1-1)*12)","v":"-"},{"$f":"OFFSET(Estructura!L40,0,($O$1-1)*12)","v":"-"},{"$f":"OFFSET(Estructura!M40,0,($O$1-1)*12)","v":"-"},{"$f":"OFFSET(Estructura!N40,0,($O$1-1)*12)","v":"-"},{"$f":"OFFSET(Estructura!C121,0,($O$1-1))","v":"-"}]
[null,"Hidroeólica",{"$f":"OFFSET(Estructura!C41,0,($O$1-1)*12)","v":0.3},{"$f":"OFFSET(Estructura!D41,0,($O$1-1)*12)","v":"-"},{"$f":"OFFSET(Estructura!E41,0,($O$1-1)*12)","v":"-"},{"$f":"OFFSET(Estructura!F41,0,($O$1-1)*12)","v":"-"},{"$f":"OFFSET(Estructura!G41,0,($O$1-1)*12)","v":"-"},{"$f":"OFFSET(Estructura!H41,0,($O$1-1)*12)","v":"-"},{"$f":"OFFSET(Estructura!I41,0,($O$1-1)*12)","v":"-"},{"$f":"OFFSET(Estructura!J41,0,($O$1-1)*12)","v":"-"},{"$f":"OFFSET(Estructura!K41,0,($O$1-1)*12)","v":"-"},{"$f":"OFFSET(Estructura!L41,0,($O$1-1)*12)","v":"-"},{"$f":"OFFSET(Estructura!M41,0,($O$1-1)*12)","v":"-"},{"$f":"OFFSET(Estructura!N41,0,($O$1-1)*12)","v":"-"},{"$f":"OFFSET(Estructura!C122,0,($O$1-1))","v":0.3}]
[null,"Eólica",{"$f":"OFFSET(Estructura!C42,0,($O$1-1)*12)","v":8},{"$f":"OFFSET(Estructura!D42,0,($O$1-1)*12)","v":"-"},{"$f":"OFFSET(Estructura!E42,0,($O$1-1)*12)","v":"-"},{"$f":"OFFSET(Estructura!F42,0,($O$1-1)*12)","v":"-"},{"$f":"OFFSET(Estructura!G42,0,($O$1-1)*12)","v":"-"},{"$f":"OFFSET(Estructura!H42,0,($O$1-1)*12)","v":"-"},{"$f":"OFFSET(Estructura!I42,0,($O$1-1)*12)","v":"-"},{"$f":"OFFSET(Estructura!J42,0,($O$1-1)*12)","v":"-"},{"$f":"OFFSET(Estructura!K42,0,($O$1-1)*12)","v":"-"},{"$f":"OFFSET(Estructura!L42,0,($O$1-1)*12)","v":"-"},{"$f":"OFFSET(Estructura!M42,0,($O$1-1)*12)","v":"-"},{"$f":"OFFSET(Estructura!N42,0,($O$1-1)*12)","v":"-"},{"$f":"OFFSET(Estructura!C123,0,($O$1-1))","v":8}]
[null,"Solar fotovoltaica",{"$f":"OFFSET(Estructura!C43,0,($O$1-1)*12)","v":2.4},{"$f":"OFFSET(Estructura!D43,0,($O$1-1)*12)","v":"-"},{"$f":"OFFSET(Estructura!E43,0,($O$1-1)*12)","v":"-"},{"$f":"OFFSET(Estructura!F43,0,($O$1-1)*12)","v":"-"},{"$f":"OFFSET(Estructura!G43,0,($O$1-1)*12)","v":"-"},{"$f":"OFFSET(Estructura!H43,0,($O$1-1)*12)","v":"-"},{"$f":"OFFSET(Estructura!I43,0,($O$1-1)*12)","v":"-"},{"$f":"OFFSET(Estructura!J43,0,($O$1-1)*12)","v":"-"},{"$f":"OFFSET(Estructura!K43,0,($O$1-1)*12)","v":"-"},{"$f":"OFFSET(Estructura!L43,0,($O$1-1)*12)","v":"-"},{"$f":"OFFSET(Estructura!M43,0,($O$1-1)*12)","v":"-"},{"$f":"OFFSET(Estructura!N43,0,($O$1-1)*12)","v":"-"},{"$f":"OFFSET(Estructura!C124,0,($O$1-1))","v":2.4}]
[null,"Térmica renovable/Otras renovables (4)",{"$f":"OFFSET(Estructura!C44,0,($O$1-1)*12)","v":"-"},{"$f":"OFFSET(Estructura!D44,0,($O$1-1)*12)","v":"-"},{"$f":"OFFSET(Estructura!E44,0,($O$1-1)*12)","v":"-"},{"$f":"OFFSET(Estructura!F44,0,($O$1-1)*12)","v":"-"},{"$f":"OFFSET(Estructura!G44,0,($O$1-1)*12)","v":"-"},{"$f":"OFFSET(Estructura!H44,0,($O$1-1)*12)","v":"-"},{"$f":"OFFSET(Estructura!I44,0,($O$1-1)*12)","v":"-"},{"$f":"OFFSET(Estructura!J44,0,($O$1-1)*12)","v":"-"},{"$f":"OFFSET(Estructura!K44,0,($O$1-1)*12)","v":"-"},{"$f":"OFFSET(Estructura!L44,0,($O$1-1)*12)","v":"-"},{"$f":"OFFSET(Estructura!M44,0,($O$1-1)*12)","v":"-"},{"$f":"OFFSET(Estructura!N44,0,($O$1-1)*12)","v":"-"},{"$f":"OFFSET(Estructura!C125,0,($O$1-1))","v":"-"}]
[null,"Cogeneración y resto/Cogeneración",{"$f":"OFFSET(Estructura!C45,0,($O$1-1)*12)","v":"-"},{"$f":"OFFSET(Estructura!D45,0,($O$1-1)*12)","v":"-"},{"$f":"OFFSET(Estructura!E45,0,($O$1-1)*12)","v":"-"},{"$f":"OFFSET(Estructura!F45,0,($O$1-1)*12)","v":"-"},{"$f":"OFFSET(Estructura!G45,0,($O$1-1)*12)","v":"-"},{"$f":"OFFSET(Estructura!H45,0,($O$1-1)*12)","v":"-"},{"$f":"OFFSET(Estructura!I45,0,($O$1-1)*12)","v":"-"},{"$f":"OFFSET(Estructura!J45,0,($O$1-1)*12)","v":"-"},{"$f":"OFFSET(Estructura!K45,0,($O$1-1)*12)","v":"-"},{"$f":"OFFSET(Estructura!L45,0,($O$1-1)*12)","v":"-"},{"$f":"OFFSET(Estructura!M45,0,($O$1-1)*12)","v":"-"},{"$f":"OFFSET(Estructura!N45,0,($O$1-1)*12)","v":"-"},{"$f":"OFFSET(Estructura!C126,0,($O$1-1))","v":"-"}]
[null,"Generación renovable (5)",{"$f":"OFFSET(Estructura!C46,0,($O$1-1)*12)","v":10.700000000000001},{"$f":"OFFSET(Estructura!D46,0,($O$1-1)*12)","v":"-"},{"$f":"OFFSET(Estructura!E46,0,($O$1-1)*12)","v":"-"},{"$f":"OFFSET(Estructura!F46,0,($O$1-1)*12)","v":"-"},{"$f":"OFFSET(Estructura!G46,0,($O$1-1)*12)","v":"-"},{"$f":"OFFSET(Estructura!H46,0,($O$1-1)*12)","v":"-"},{"$f":"OFFSET(Estructura!I46,0,($O$1-1)*12)","v":"-"},{"$f":"OFFSET(Estructura!J46,0,($O$1-1)*12)","v":"-"},{"$f":"OFFSET(Estructura!K46,0,($O$1-1)*12)","v":"-"},{"$f":"OFFSET(Estructura!L46,0,($O$1-1)*12)","v":"-"},{"$f":"OFFSET(Estructura!M46,0,($O$1-1)*12)","v":"-"},{"$f":"OFFSET(Estructura!N46,0,($O$1-1)*12)","v":"-"},{"$f":"OFFSET(Estructura!C127,0,($O$1-1))","v":10.700000000000001}]
[null,"Generación no renovable",{"$f":"OFFSET(Estructura!C47,0,($O$1-1)*12)","v":89.3},{"$f":"OFFSET(Estructura!D47,0,($O$1-1)*12)","v":"-"},{"$f":"OFFSET(Estructura!E47,0,($O$1-1)*12)","v":"-"},{"$f":"OFFSET(Estructura!F47,0,($O$1-1)*12)","v":"-"},{"$f":"OFFSET(Estructura!G47,0,($O$1-1)*12)","v":"-"},{"$f":"OFFSET(Estructura!H47,0,($O$1-1)*12)","v":"-"},{"$f":"OFFSET(Estructura!I47,0,($O$1-1)*12)","v":"-"},{"$f":"OFFSET(Estructura!J47,0,($O$1-1)*12)","v":"-"},{"$f":"OFFSET(Estructura!K47,0,($O$1-1)*12)","v":"-"},{"$f":"OFFSET(Estructura!L47,0,($O$1-1)*12)","v":"-"},{"$f":"OFFSET(Estructura!M47,0,($O$1-1)*12)","v":"-"},{"$f":"OFFSET(Estructura!N47,0,($O$1-1)*12)","v":"-"},{"$f":"OFFSET(Estructura!C128,0,($O$1-1))","v":89.3}]
[null,"(1) Asignación de unidades de producción según combustible principal."]
[null,"(2) Utiliza gasoil como combustible principal. Incluye funcionamiento en ciclo abierto."]
[null,"(3) Grupos de emergencia que se instalan de forma transitoria en determinadas zonas para cubrir un déficit de generación."]
[null,"(4) Otras renovables incluyen biogás y biomasa."]
[null,"(5) Incluye hidráulica, hidroeólica, eólica, solar fotovoltaica y térmica renovable/otras renovables."]

{"sheet":"Estructura anual Canarias","index":8,"n_rows":28,"n_cols":10,"rows_kept":28,"cut":false,"hidden":false,"merged":[[26,10,26,14],[27,1,27,9],[22,1,22,9],[23,1,23,9],[24,1,24,9],[25,1,25,9],[26,1,26,9]]}
[null,null,null,null,null,null,null,null,null,2]
[]
[]
[null,null,null,null,null,null,null,"Sistema eléctrico"]
[null,null,null,null,null,null,null,"Horizonte temporal"]
[null,null,null,null,null,null,null,"Periodo"]
[]
[null,null,{"$f":"OFFSET(Estructura!C115,0,($J$1-1)*8)","v":2014},{"$f":"OFFSET(Estructura!D115,0,($J$1-1)*8)","v":2015},{"$f":"OFFSET(Estructura!E115,0,($J$1-1)*8)","v":2016},{"$f":"OFFSET(Estructura!F115,0,($J$1-1)*8)","v":2017},{"$f":"OFFSET(Estructura!G115,0,($J$1-1)*8)","v":2018},{"$f":"OFFSET(Estructura!H115,0,($J$1-1)*8)","v":2019},{"$f":"OFFSET(Estructura!I115,0,($J$1-1)*8)","v":2020},{"$f":"OFFSET(Estructura!J115,0,($J$1-1)*8)","v":2021}]
[]
[null,"Hidráulica",{"$f":"OFFSET(Estructura!C116,0,($J$1-1)*8)","v":0},{"$f":"OFFSET(Estructura!D116,0,($J$1-1)*8)","v":0},{"$f":"OFFSET(Estructura!E116,0,($J$1-1)*8)","v":0},{"$f":"OFFSET(Estructura!F116,0,($J$1-1)*8)","v":0},{"$f":"OFFSET(Estructura!G116,0,($J$1-1)*8)","v":"-"},{"$f":"OFFSET(Estructura!H116,0,($J$1-1)*8)","v":"-"},{"$f":"OFFSET(Estructura!I116,0,($J$1-1)*8)","v":"-"},{"$f":"OFFSET(Estructura!J116,0,($J$1-1)*8)","v":"-"}]
[null,"Motores diesel",{"$f":"OFFSET(Estructura!C117,0,($J$1-1)*8)","v":25},{"$f":"OFFSET(Estructura!D117,0,($J$1-1)*8)","v":25.5},{"$f":"OFFSET(Estructura!E117,0,($J$1-1)*8)","v":25.4},{"$f":"OFFSET(Estructura!F117,0,($J$1-1)*8)","v":27.6},{"$f":"OFFSET(Estructura!G117,0,($J$1-1)*8)","v":24.8},{"$f":"OFFSET(Estructura!H117,0,($J$1-1)*8)","v":"-"},{"$f":"OFFSET(Estructura!I117,0,($J$1-1)*8)","v":"-"},{"$f":"OFFSET(Estructura!J117,0,($J$1-1)*8)","v":"-"}]
[null,"Turbina de gas",{"$f":"OFFSET(Estructura!C118,0,($J$1-1)*8)","v":4.2},{"$f":"OFFSET(Estructura!D118,0,($J$1-1)*8)","v":3.8},{"$f":"OFFSET(Estructura!E118,0,($J$1-1)*8)","v":3.2},{"$f":"OFFSET(Estructura!F118,0,($J$1-1)*8)","v":2.8},{"$f":"OFFSET(Estructura!G118,0,($J$1-1)*8)","v":3},{"$f":"OFFSET(Estructura!H118,0,($J$1-1)*8)","v":"-"},{"$f":"OFFSET(Estructura!I118,0,($J$1-1)*8)","v":"-"},{"$f":"OFFSET(Estructura!J118,0,($J$1-1)*8)","v":"-"}]
[null,"Turbina de vapor",{"$f":"OFFSET(Estructura!C119,0,($J$1-1)*8)","v":24.2},{"$f":"OFFSET(Estructura!D119,0,($J$1-1)*8)","v":25.7},{"$f":"OFFSET(Estructura!E119,0,($J$1-1)*8)","v":28.9},{"$f":"OFFSET(Estructura!F119,0,($J$1-1)*8)","v":28.2},{"$f":"OFFSET(Estructura!G119,0,($J$1-1)*8)","v":30},{"$f":"OFFSET(Estructura!H119,0,($J$1-1)*8)","v":"-"},{"$f":"OFFSET(Estructura!I119,0,($J$1-1)*8)","v":"-"},{"$f":"OFFSET(Estructura!J119,0,($J$1-1)*8)","v":"-"}]
[null,"Ciclo combinado (2)",{"$f":"OFFSET(Estructura!C120,0,($J$1-1)*8)","v":38.700000000000003},{"$f":"OFFSET(Estructura!D120,0,($J$1-1)*8)","v":36.999999999999993},{"$f":"OFFSET(Estructura!E120,0,($J$1-1)*8)","v":34.5},{"$f":"OFFSET(Estructura!F120,0,($J$1-1)*8)","v":33.600000000000009},{"$f":"OFFSET(Estructura!G120,0,($J$1-1)*8)","v":31.5},{"$f":"OFFSET(Estructura!H120,0,($J$1-1)*8)","v":"-"},{"$f":"OFFSET(Estructura!I120,0,($J$1-1)*8)","v":"-"},{"$f":"OFFSET(Estructura!J120,0,($J$1-1)*8)","v":"-"}]
[null,"Generación auxiliar (3)",{"$f":"OFFSET(Estructura!C121,0,($J$1-1)*8)","v":"-"},{"$f":"OFFSET(Estructura!D121,0,($J$1-1)*8)","v":"-"},{"$f":"OFFSET(Estructura!E121,0,($J$1-1)*8)","v":"-"},{"$f":"OFFSET(Estructura!F121,0,($J$1-1)*8)","v":"-"},{"$f":"OFFSET(Estructura!G121,0,($J$1-1)*8)","v":"-"},{"$f":"OFFSET(Estructura!H121,0,($J$1-1)*8)","v":"-"},{"$f":"OFFSET(Estructura!I121,0,($J$1-1)*8)","v":"-"},{"$f":"OFFSET(Estructura!J121,0,($J$1-1)*8)","v":"-"}]
[null,"Hidroeólica",{"$f":"OFFSET(Estructura!C122,0,($J$1-1)*8)","v":0},{"$f":"OFFSET(Estructura!D122,0,($J$1-1)*8)","v":0.1},{"$f":"OFFSET(Estructura!E122,0,($J$1-1)*8)","v":0.2},{"$f":"OFFSET(Estructura!F122,0,($J$1-1)*8)","v":0.2},{"$f":"OFFSET(Estructura!G122,0,($J$1-1)*8)","v":0.3},{"$f":"OFFSET(Estructura!H122,0,($J$1-1)*8)","v":"-"},{"$f":"OFFSET(Estructura!I122,0,($J$1-1)*8)","v":"-"},{"$f":"OFFSET(Estructura!J122,0,($J$1-1)*8)","v":"-"}]
[null,"Eólica",{"$f":"OFFSET(Estructura!C123,0,($J$1-1)*8)","v":4.5},{"$f":"OFFSET(Estructura!D123,0,($J$1-1)*8)","v":4.5999999999999996},{"$f":"OFFSET(Estructura!E123,0,($J$1-1)*8)","v":4.5},{"$f":"OFFSET(Estructura!F123,0,($J$1-1)*8)","v":4.4000000000000004},{"$f":"OFFSET(Estructura!G123,0,($J$1-1)*8)","v":8},{"$f":"OFFSET(Estructura!H123,0,($J$1-1)*8)","v":"-"},{"$f":"OFFSET(Estructura!I123,0,($J$1-1)*8)","v":"-"},{"$f":"OFFSET(Estructura!J123,0,($J$1-1)*8)","v":"-"}]
[null,"Solar fotovoltaica",{"$f":"OFFSET(Estructura!C124,0,($J$1-1)*8)","v":3.3},{"$f":"OFFSET(Estructura!D124,0,($J$1-1)*8)","v":3.2},{"$f":"OFFSET(Estructura!E124,0,($J$1-1)*8)","v":3.2},{"$f":"OFFSET(Estructura!F124,0,($J$1-1)*8)","v":3.1},{"$f":"OFFSET(Estructura!G124,0,($J$1-1)*8)","v":2.4},{"$f":"OFFSET(Estructura!H124,0,($J$1-1)*8)","v":"-"},{"$f":"OFFSET(Estructura!I124,0,($J$1-1)*8)","v":"-"},{"$f":"OFFSET(Estructura!J124,0,($J$1-1)*8)","v":"-"}]
[null,"Térmica renovable/Otras renovables (4)",{"$f":"OFFSET(Estructura!C125,0,($J$1-1)*8)","v":0.1},{"$f":"OFFSET(Estructura!D125,0,($J$1-1)*8)","v":0.1},{"$f":"OFFSET(Estructura!E125,0,($J$1-1)*8)","v":0.1},{"$f":"OFFSET(Estructura!F125,0,($J$1-1)*8)","v":0.1},{"$f":"OFFSET(Estructura!G125,0,($J$1-1)*8)","v":"-"},{"$f":"OFFSET(Estructura!H125,0,($J$1-1)*8)","v":"-"},{"$f":"OFFSET(Estructura!I125,0,($J$1-1)*8)","v":"-"},{"$f":"OFFSET(Estructura!J125,0,($J$1-1)*8)","v":"-"}]
[null,"Cogeneración y resto/Cogeneración",{"$f":"OFFSET(Estructura!C126,0,($J$1-1)*8)","v":"-"},{"$f":"OFFSET(Estructura!D126,0,($J$1-1)*8)","v":"-"},{"$f":"OFFSET(Estructura!E126,0,($J$1-1)*8)","v":"-"},{"$f":"OFFSET(Estructura!F126,0,($J$1-1)*8)","v":"-"},{"$f":"OFFSET(Estructura!G126,0,($J$1-1)*8)","v":"-"},{"$f":"OFFSET(Estructura!H126,0,($J$1-1)*8)","v":"-"},{"$f":"OFFSET(Estructura!I126,0,($J$1-1)*8)","v":"-"},{"$f":"OFFSET(Estructura!J126,0,($J$1-1)*8)","v":"-"}]
[null,"Generación renovable (5)",{"$f":"OFFSET(Estructura!C127,0,($J$1-1)*8)","v":7.8999999999999995},{"$f":"OFFSET(Estructura!D127,0,($J$1-1)*8)","v":7.9999999999999991},{"$f":"OFFSET(Estructura!E127,0,($J$1-1)*8)","v":8},{"$f":"OFFSET(Estructura!F127,0,($J$1-1)*8)","v":7.8000000000000007},{"$f":"OFFSET(Estructura!G127,0,($J$1-1)*8)","v":10.700000000000001},{"$f":"OFFSET(Estructura!H127,0,($J$1-1)*8)","v":"-"},{"$f":"OFFSET(Estructura!I127,0,($J$1-1)*8)","v":"-"},{"$f":"OFFSET(Estructura!J127,0,($J$1-1)*8)","v":"-"}]
[null,"Generación no renovable",{"$f":"OFFSET(Estructura!C128,0,($J$1-1)*8)","v":92.1},{"$f":"OFFSET(Estructura!D128,0,($J$1-1)*8)","v":92},{"$f":"OFFSET(Estructura!E128,0,($J$1-1)*8)","v":92},{"$f":"OFFSET(Estructura!F128,0,($J$1-1)*8)","v":92.200000000000017},{"$f":"OFFSET(Estructura!G128,0,($J$1-1)*8)","v":89.3},{"$f":"OFFSET(Estructura!H128,0,($J$1-1)*8)","v":"-"},{"$f":"OFFSET(Estructura!I128,0,($J$1-1)*8)","v":"-"},{"$f":"OFFSET(Estructura!J128,0,($J$1-1)*8)","v":"-"}]
[null,"(1) Asignación de unidades de producción según combustible principal."]
[null,"(2) Utiliza gasoil como combustible principal. Incluye funcionamiento en ciclo abierto."]
[null,"(3) Grupos de emergencia que se instalan de forma transitoria en determinadas zonas para cubrir un déficit de generación."]
[null,"(4) Otras renovables incluyen biogás y biomasa."]
[null,"(5) Incluye hidráulica, hidroeólica, eólica, solar fotovoltaica y térmica renovable/otras renovables."]
[null,{"$f":"IF(J1<2,\"\",IF(MONTH(FACT)=1,\"\",CONCATENATE(\"    Para el año \",YEAR(FACT),\" valores acumulados hasta \",TEXT(FACT-30,\"mmmm\"),\" de \",YEAR(FACT),\".\")))","v":"    Para el año 2018 valores acumulados hasta enero de 2018."}]

{"sheet":"Estructura mensual Ceuta","index":9,"n_rows":14,"n_cols":15,"rows_kept":14,"cut":false,"hidden":false,"merged":[[5,2,5,9],[13,1,13,14]]}
[null,null,null,null,null,null,null,null,null,null,null,null,null,null,12]
[]
[]
[null,null,null,null,null,null,null,null,null,null,null,null,"Sistema eléctrico"]
[null,null,null,null,null,null,null,null,null,null,null,null,"Horizonte temporal"]
[null,null,null,null,null,null,null,null,null,null,null,null,"Periodo"]
[]
[null,null,"Ene.","Feb.","Mar.","Abr.","May.","Jun.","Jul.","Ago.","Sep.","Oct.","Nov.","Dic.",{"$f":"OFFSET(Año!B19,($O$1-1),0)","v":2018}]
[]
[null,"Motores diesel",{"$f":"OFFSET(Estructura!C50,0,($O$1-1)*12)","v":100},{"$f":"OFFSET(Estructura!D50,0,($O$1-1)*12)","v":"-"},{"$f":"OFFSET(Estructura!E50,0,($O$1-1)*12)","v":"-"},{"$f":"OFFSET(Estructura!F50,0,($O$1-1)*12)","v":"-"},{"$f":"OFFSET(Estructura!G50,0,($O$1-1)*12)","v":"-"},{"$f":"OFFSET(Estructura!H50,0,($O$1-1)*12)","v":"-"},{"$f":"OFFSET(Estructura!I50,0,($O$1-1)*12)","v":"-"},{"$f":"OFFSET(Estructura!J50,0,($O$1-1)*12)","v":"-"},{"$f":"OFFSET(Estructura!K50,0,($O$1-1)*12)","v":"-"},{"$f":"OFFSET(Estructura!L50,0,($O$1-1)*12)","v":"-"},{"$f":"OFFSET(Estructura!M50,0,($O$1-1)*12)","v":"-"},{"$f":"OFFSET(Estructura!N50,0,($O$1-1)*12)","v":"-"},{"$f":"OFFSET(Estructura!C131,0,($O$1-1))","v":100}]
[null,"Turbina de gas",{"$f":"OFFSET(Estructura!C51,0,($O$1-1)*12)","v":0},{"$f":"OFFSET(Estructura!D51,0,($O$1-1)*12)","v":"-"},{"$f":"OFFSET(Estructura!E51,0,($O$1-1)*12)","v":"-"},{"$f":"OFFSET(Estructura!F51,0,($O$1-1)*12)","v":"-"},{"$f":"OFFSET(Estructura!G51,0,($O$1-1)*12)","v":"-"},{"$f":"OFFSET(Estructura!H51,0,($O$1-1)*12)","v":"-"},{"$f":"OFFSET(Estructura!I51,0,($O$1-1)*12)","v":"-"},{"$f":"OFFSET(Estructura!J51,0,($O$1-1)*12)","v":"-"},{"$f":"OFFSET(Estructura!K51,0,($O$1-1)*12)","v":"-"},{"$f":"OFFSET(Estructura!L51,0,($O$1-1)*12)","v":"-"},{"$f":"OFFSET(Estructura!M51,0,($O$1-1)*12)","v":"-"},{"$f":"OFFSET(Estructura!N51,0,($O$1-1)*12)","v":"-"},{"$f":"OFFSET(Estructura!C132,0,($O$1-1))","v":0}]
[null,"Generación renovable",{"$f":"OFFSET(Estructura!C52,0,($O$1-1)*12)","v":"-"},{"$f":"OFFSET(Estructura!D52,0,($O$1-1)*12)","v":"-"},{"$f":"OFFSET(Estructura!E52,0,($O$1-1)*12)","v":"-"},{"$f":"OFFSET(Estructura!F52,0,($O$1-1)*12)","v":"-"},{"$f":"OFFSET(Estructura!G52,0,($O$1-1)*12)","v":"-"},{"$f":"OFFSET(Estructura!H52,0,($O$1-1)*12)","v":"-"},{"$f":"OFFSET(Estructura!I52,0,($O$1-1)*12)","v":"-"},{"$f":"OFFSET(Estructura!J52,0,($O$1-1)*12)","v":"-"},{"$f":"OFFSET(Estructura!K52,0,($O$1-1)*12)","v":"-"},{"$f":"OFFSET(Estructura!L52,0,($O$1-1)*12)","v":"-"},{"$f":"OFFSET(Estructura!M52,0,($O$1-1)*12)","v":"-"},{"$f":"OFFSET(Estructura!N52,0,($O$1-1)*12)","v":"-"},{"$f":"OFFSET(Estructura!C133,0,($O$1-1))","v":"-"}]
[null,"Generación no renovable",{"$f":"OFFSET(Estructura!C53,0,($O$1-1)*12)","v":100},{"$f":"OFFSET(Estructura!D53,0,($O$1-1)*12)","v":"-"},{"$f":"OFFSET(Estructura!E53,0,($O$1-1)*12)","v":"-"},{"$f":"OFFSET(Estructura!F53,0,($O$1-1)*12)","v":"-"},{"$f":"OFFSET(Estructura!G53,0,($O$1-1)*12)","v":"-"},{"$f":"OFFSET(Estructura!H53,0,($O$1-1)*12)","v":"-"},{"$f":"OFFSET(Estructura!I53,0,($O$1-1)*12)","v":"-"},{"$f":"OFFSET(Estructura!J53,0,($O$1-1)*12)","v":"-"},{"$f":"OFFSET(Estructura!K53,0,($O$1-1)*12)","v":"-"},{"$f":"OFFSET(Estructura!L53,0,($O$1-1)*12)","v":"-"},{"$f":"OFFSET(Estructura!M53,0,($O$1-1)*12)","v":"-"},{"$f":"OFFSET(Estructura!N53,0,($O$1-1)*12)","v":"-"},{"$f":"OFFSET(Estructura!C134,0,($O$1-1))","v":100}]
[null,"(1) Asignación de unidades de producción según combustible principal."]

{"sheet":"Estructura anual Ceuta","index":10,"n_rows":15,"n_cols":9,"rows_kept":15,"cut":false,"hidden":false,"merged":[[13,1,13,8],[14,1,14,8]]}
[null,null,null,null,null,null,null,null,2]
[]
[]
[null,null,null,null,null,null,"Sistema eléctrico"]
[null,null,null,null,null,null,"Horizonte temporal"]
[null,null,null,null,null,null,"Periodo"]
[]
[null,null,{"$f":"OFFSET(Estructura!C136,0,($I$1-1)*7)","v":2014},{"$f":"OFFSET(Estructura!D136,0,($I$1-1)*7)","v":2015},{"$f":"OFFSET(Estructura!E136,0,($I$1-1)*7)","v":2016},{"$f":"OFFSET(Estructura!F136,0,($I$1-1)*7)","v":2017},{"$f":"OFFSET(Estructura!G136,0,($I$1-1)*7)","v":2018},{"$f":"OFFSET(Estructura!H136,0,($I$1-1)*7)","v":2019},{"$f":"OFFSET(Estructura!I136,0,($I$1-1)*7)","v":2020}]
[]
[null,"Motores diesel",{"$f":"OFFSET(Estructura!C131,0,($I$1-1)*7)","v":100},{"$f":"OFFSET(Estructura!D131,0,($I$1-1)*7)","v":99.6},{"$f":"OFFSET(Estructura!E131,0,($I$1-1)*7)","v":99.9},{"$f":"OFFSET(Estructura!F131,0,($I$1-1)*7)","v":99.9},{"$f":"OFFSET(Estructura!G131,0,($I$1-1)*7)","v":100},{"$f":"OFFSET(Estructura!H131,0,($I$1-1)*7)","v":"-"},{"$f":"OFFSET(Estructura!I131,0,($I$1-1)*7)","v":"-"}]
[null,"Turbina de gas",{"$f":"OFFSET(Estructura!C132,0,($I$1-1)*7)","v":0},{"$f":"OFFSET(Estructura!D132,0,($I$1-1)*7)","v":0.4},{"$f":"OFFSET(Estructura!E132,0,($I$1-1)*7)","v":0.1},{"$f":"OFFSET(Estructura!F132,0,($I$1-1)*7)","v":0.1},{"$f":"OFFSET(Estructura!G132,0,($I$1-1)*7)","v":0},{"$f":"OFFSET(Estructura!H132,0,($I$1-1)*7)","v":"-"},{"$f":"OFFSET(Estructura!I132,0,($I$1-1)*7)","v":"-"}]
[null,"Generación renovable",{"$f":"OFFSET(Estructura!C133,0,($I$1-1)*7)","v":"-"},{"$f":"OFFSET(Estructura!D133,0,($I$1-1)*7)","v":"-"},{"$f":"OFFSET(Estructura!E133,0,($I$1-1)*7)","v":"-"},{"$f":"OFFSET(Estructura!F133,0,($I$1-1)*7)","v":"-"},{"$f":"OFFSET(Estructura!G133,0,($I$1-1)*7)","v":"-"},{"$f":"OFFSET(Estructura!H133,0,($I$1-1)*7)","v":"-"},{"$f":"OFFSET(Estructura!I133,0,($I$1-1)*7)","v":"-"}]
[null,"Generación no renovable",{"$f":"OFFSET(Estructura!C134,0,($I$1-1)*7)","v":100},{"$f":"OFFSET(Estructura!D134,0,($I$1-1)*7)","v":100},{"$f":"OFFSET(Estructura!E134,0,($I$1-1)*7)","v":100},{"$f":"OFFSET(Estructura!F134,0,($I$1-1)*7)","v":100},{"$f":"OFFSET(Estructura!G134,0,($I$1-1)*7)","v":100},{"$f":"OFFSET(Estructura!H134,0,($I$1-1)*7)","v":"-"},{"$f":"OFFSET(Estructura!I134,0,($I$1-1)*7)","v":"-"}]
[null,"(1) Asignación de unidades de producción según combustible principal."]
[null,{"$f":"IF(I1<21,\"\",IF(MONTH(FACT)=1,\"\",CONCATENATE(\"    Para el año \",YEAR(FACT),\" valores acumulados hasta \",TEXT(FACT-30,\"mmmm\"),\" de \",YEAR(FACT),\".\")))","v":""}]

{"sheet":"Estructura mensual Melilla","index":11,"n_rows":19,"n_cols":15,"rows_kept":19,"cut":false,"hidden":false,"merged":[[5,2,5,9],[17,1,17,14],[18,1,18,14]]}
[null,null,null,null,null,null,null,null,null,null,null,null,null,null,12]
[]
[]
[null,null,null,null,null,null,null,null,null,null,null,null,"Sistema eléctrico"]
[null,null,null,null,null,null,null,null,null,null,null,null,"Horizonte temporal"]
[null,null,null,null,null,null,null,null,null,null,null,null,"Periodo"]
[]
[null,null,"Ene.","Feb.","Mar.","Abr.","May.","Jun.","Jul.","Ago.","Sep.","Oct.","Nov.","Dic.",{"$f":"OFFSET(Año!B19,($O$1-1),0)","v":2018}]
[]
[null,"Motores diesel",{"$f":"OFFSET(Estructura!C56,0,($O$1-1)*12)","v":96.1},{"$f":"OFFSET(Estructura!D56,0,($O$1-1)*12)","v":"-"},{"$f":"OFFSET(Estructura!E56,0,($O$1-1)*12)","v":"-"},{"$f":"OFFSET(Estructura!F56,0,($O$1-1)*12)","v":"-"},{"$f":"OFFSET(Estructura!G56,0,($O$1-1)*12)","v":"-"},{"$f":"OFFSET(Estructura!H56,0,($O$1-1)*12)","v":"-"},{"$f":"OFFSET(Estructura!I56,0,($O$1-1)*12)","v":"-"},{"$f":"OFFSET(Estructura!J56,0,($O$1-1)*12)","v":"-"},{"$f":"OFFSET(Estructura!K56,0,($O$1-1)*12)","v":"-"},{"$f":"OFFSET(Estructura!L56,0,($O$1-1)*12)","v":"-"},{"$f":"OFFSET(Estructura!M56,0,($O$1-1)*12)","v":"-"},{"$f":"OFFSET(Estructura!N56,0,($O$1-1)*12)","v":"-"},{"$f":"OFFSET(Estructura!C137,0,($O$1-1))","v":96.1}]
[null,"Turbina de gas",{"$f":"OFFSET(Estructura!C57,0,($O$1-1)*12)","v":0.1},{"$f":"OFFSET(Estructura!D57,0,($O$1-1)*12)","v":"-"},{"$f":"OFFSET(Estructura!E57,0,($O$1-1)*12)","v":"-"},{"$f":"OFFSET(Estructura!F57,0,($O$1-1)*12)","v":"-"},{"$f":"OFFSET(Estructura!G57,0,($O$1-1)*12)","v":"-"},{"$f":"OFFSET(Estructura!H57,0,($O$1-1)*12)","v":"-"},{"$f":"OFFSET(Estructura!I57,0,($O$1-1)*12)","v":"-"},{"$f":"OFFSET(Estructura!J57,0,($O$1-1)*12)","v":"-"},{"$f":"OFFSET(Estructura!K57,0,($O$1-1)*12)","v":"-"},{"$f":"OFFSET(Estructura!L57,0,($O$1-1)*12)","v":"-"},{"$f":"OFFSET(Estructura!M57,0,($O$1-1)*12)","v":"-"},{"$f":"OFFSET(Estructura!N57,0,($O$1-1)*12)","v":"-"},{"$f":"OFFSET(Estructura!C138,0,($O$1-1))","v":0.1}]
[null,"Solar fotovoltaica",{"$f":"OFFSET(Estructura!C58,0,($O$1-1)*12)","v":"-"},{"$f":"OFFSET(Estructura!D58,0,($O$1-1)*12)","v":"-"},{"$f":"OFFSET(Estructura!E58,0,($O$1-1)*12)","v":"-"},{"$f":"OFFSET(Estructura!F58,0,($O$1-1)*12)","v":"-"},{"$f":"OFFSET(Estructura!G58,0,($O$1-1)*12)","v":"-"},{"$f":"OFFSET(Estructura!H58,0,($O$1-1)*12)","v":"-"},{"$f":"OFFSET(Estructura!I58,0,($O$1-1)*12)","v":"-"},{"$f":"OFFSET(Estructura!J58,0,($O$1-1)*12)","v":"-"},{"$f":"OFFSET(Estructura!K58,0,($O$1-1)*12)","v":"-"},{"$f":"OFFSET(Estructura!L58,0,($O$1-1)*12)","v":"-"},{"$f":"OFFSET(Estructura!M58,0,($O$1-1)*12)","v":"-"},{"$f":"OFFSET(Estructura!N58,0,($O$1-1)*12)","v":"-"},{"$f":"OFFSET(Estructura!C139,0,($O$1-1))","v":"-"}]
[null,"Cogeneración y resto/Cogeneración",{"$f":"OFFSET(Estructura!C59,0,($O$1-1)*12)","v":"-"},{"$f":"OFFSET(Estructura!D59,0,($O$1-1)*12)","v":"-"},{"$f":"OFFSET(Estructura!E59,0,($O$1-1)*12)","v":"-"},{"$f":"OFFSET(Estructura!F59,0,($O$1-1)*12)","v":"-"},{"$f":"OFFSET(Estructura!G59,0,($O$1-1)*12)","v":"-"},{"$f":"OFFSET(Estructura!H59,0,($O$1-1)*12)","v":"-"},{"$f":"OFFSET(Estructura!I59,0,($O$1-1)*12)","v":"-"},{"$f":"OFFSET(Estructura!J59,0,($O$1-1)*12)","v":"-"},{"$f":"OFFSET(Estructura!K59,0,($O$1-1)*12)","v":"-"},{"$f":"OFFSET(Estructura!L59,0,($O$1-1)*12)","v":"-"},{"$f":"OFFSET(Estructura!M59,0,($O$1-1)*12)","v":"-"},{"$f":"OFFSET(Estructura!N59,0,($O$1-1)*12)","v":"-"},{"$f":"OFFSET(Estructura!C140,0,($O$1-1))","v":"-"}]
[null,"Residuos no renovables",{"$f":"OFFSET(Estructura!C60,0,($O$1-1)*12)","v":1.9},{"$f":"OFFSET(Estructura!D60,0,($O$1-1)*12)","v":"-"},{"$f":"OFFSET(Estructura!E60,0,($O$1-1)*12)","v":"-"},{"$f":"OFFSET(Estructura!F60,0,($O$1-1)*12)","v":"-"},{"$f":"OFFSET(Estructura!G60,0,($O$1-1)*12)","v":"-"},{"$f":"OFFSET(Estructura!H60,0,($O$1-1)*12)","v":"-"},{"$f":"OFFSET(Estructura!I60,0,($O$1-1)*12)","v":"-"},{"$f":"OFFSET(Estructura!J60,0,($O$1-1)*12)","v":"-"},{"$f":"OFFSET(Estructura!K60,0,($O$1-1)*12)","v":"-"},{"$f":"OFFSET(Estructura!L60,0,($O$1-1)*12)","v":"-"},{"$f":"OFFSET(Estructura!M60,0,($O$1-1)*12)","v":"-"},{"$f":"OFFSET(Estructura!N60,0,($O$1-1)*12)","v":"-"},{"$f":"OFFSET(Estructura!C141,0,($O$1-1))","v":1.9}]
[null,"Residuos renovables",{"$f":"OFFSET(Estructura!C61,0,($O$1-1)*12)","v":1.9},{"$f":"OFFSET(Estructura!D61,0,($O$1-1)*12)","v":"-"},{"$f":"OFFSET(Estructura!E61,0,($O$1-1)*12)","v":"-"},{"$f":"OFFSET(Estructura!F61,0,($O$1-1)*12)","v":"-"},{"$f":"OFFSET(Estructura!G61,0,($O$1-1)*12)","v":"-"},{"$f":"OFFSET(Estructura!H61,0,($O$1-1)*12)","v":"-"},{"$f":"OFFSET(Estructura!I61,0,($O$1-1)*12)","v":"-"},{"$f":"OFFSET(Estructura!J61,0,($O$1-1)*12)","v":"-"},{"$f":"OFFSET(Estructura!K61,0,($O$1-1)*12)","v":"-"},{"$f":"OFFSET(Estructura!L61,0,($O$1-1)*12)","v":"-"},{"$f":"OFFSET(Estructura!M61,0,($O$1-1)*12)","v":"-"},{"$f":"OFFSET(Estructura!N61,0,($O$1-1)*12)","v":"-"},{"$f":"OFFSET(Estructura!C142,0,($O$1-1))","v":1.9}]
[null,"Generación renovable (2)",{"$f":"OFFSET(Estructura!C62,0,($O$1-1)*12)","v":1.9},{"$f":"OFFSET(Estructura!D62,0,($O$1-1)*12)","v":"-"},{"$f":"OFFSET(Estructura!E62,0,($O$1-1)*12)","v":"-"},{"$f":"OFFSET(Estructura!F62,0,($O$1-1)*12)","v":"-"},{"$f":"OFFSET(Estructura!G62,0,($O$1-1)*12)","v":"-"},{"$f":"OFFSET(Estructura!H62,0,($O$1-1)*12)","v":"-"},{"$f":"OFFSET(Estructura!I62,0,($O$1-1)*12)","v":"-"},{"$f":"OFFSET(Estructura!J62,0,($O$1-1)*12)","v":"-"},{"$f":"OFFSET(Estructura!K62,0,($O$1-1)*12)","v":"-"},{"$f":"OFFSET(Estructura!L62,0,($O$1-1)*12)","v":"-"},{"$f":"OFFSET(Estructura!M62,0,($O$1-1)*12)","v":"-"},{"$f":"OFFSET(Estructura!N62,0,($O$1-1)*12)","v":"-"},{"$f":"OFFSET(Estructura!C143,0,($O$1-1))","v":1.9}]
[null,"Generación no renovable",{"$f":"OFFSET(Estructura!C63,0,($O$1-1)*12)","v":98.1},{"$f":"OFFSET(Estructura!D63,0,($O$1-1)*12)","v":"-"},{"$f":"OFFSET(Estructura!E63,0,($O$1-1)*12)","v":"-"},{"$f":"OFFSET(Estructura!F63,0,($O$1-1)*12)","v":"-"},{"$f":"OFFSET(Estructura!G63,0,($O$1-1)*12)","v":"-"},{"$f":"OFFSET(Estructura!H63,0,($O$1-1)*12)","v":"-"},{"$f":"OFFSET(Estructura!I63,0,($O$1-1)*12)","v":"-"},{"$f":"OFFSET(Estructura!J63,0,($O$1-1)*12)","v":"-"},{"$f":"OFFSET(Estructura!K63,0,($O$1-1)*12)","v":"-"},{"$f":"OFFSET(Estructura!L63,0,($O$1-1)*12)","v":"-"},{"$f":"OFFSET(Estructura!M63,0,($O$1-1)*12)","v":"-"},{"$f":"OFFSET(Estructura!N63,0,($O$1-1)*12)","v":"-"},{"$f":"OFFSET(Estructura!C144,0,($O$1-1))","v":98.1}]
[null,"(1) Asignación de unidades de producción según combustible principal."]
[null,"(2) Incluye solar fotovoltaica y residuos renovables."]

{"sheet":"Estructura anual Melilla","index":12,"n_rows":20,"n_cols":9,"rows_kept":20,"cut":false,"hidden":false,"merged":[[17,1,17,8],[19,1,19,8],[18,1,18,14]]}
[null,null,null,null,null,null,null,null,2]
[]
[]
[null,null,null,null,null,null,"Sistema eléctrico"]
[null,null,null,null,null,null,"Horizonte temporal"]
[null,null,null,null,null,null,"Periodo"]
[]
[null,null,{"$f":"OFFSET(Estructura!C136,0,($I$1-1)*7)","v":2014},{"$f":"OFFSET(Estructura!D136,0,($I$1-1)*7)","v":2015},{"$f":"OFFSET(Estructura!E136,0,($I$1-1)*7)","v":2016},{"$f":"OFFSET(Estructura!F136,0,($I$1-1)*7)","v":2017},{"$f":"OFFSET(Estructura!G136,0,($I$1-1)*7)","v":2018},{"$f":"OFFSET(Estructura!H136,0,($I$1-1)*7)","v":2019},{"$f":"OFFSET(Estructura!I136,0,($I$1-1)*7)","v":2020}]
[]
[null,"Motores diesel",{"$f":"OFFSET(Estructura!C137,0,($I$1-1)*7)","v":95.5},{"$f":"OFFSET(Estructura!D137,0,($I$1-1)*7)","v":95.7},{"$f":"OFFSET(Estructura!E137,0,($I$1-1)*7)","v":95.3},{"$f":"OFFSET(Estructura!F137,0,($I$1-1)*7)","v":95.2},{"$f":"OFFSET(Estructura!G137,0,($I$1-1)*7)","v":96.1},{"$f":"OFFSET(Estructura!H137,0,($I$1-1)*7)","v":"-"},{"$f":"OFFSET(Estructura!I137,0,($I$1-1)*7)","v":"-"}]
[null,"Turbina de gas",{"$f":"OFFSET(Estructura!C138,0,($I$1-1)*7)","v":0.3},{"$f":"OFFSET(Estructura!D138,0,($I$1-1)*7)","v":0.3},{"$f":"OFFSET(Estructura!E138,0,($I$1-1)*7)","v":0.1},{"$f":"OFFSET(Estructura!F138,0,($I$1-1)*7)","v":0},{"$f":"OFFSET(Estructura!G138,0,($I$1-1)*7)","v":0.1},{"$f":"OFFSET(Estructura!H138,0,($I$1-1)*7)","v":"-"},{"$f":"OFFSET(Estructura!I138,0,($I$1-1)*7)","v":"-"}]
[null,"Solar fotovoltaica",{"$f":"OFFSET(Estructura!C139,0,($I$1-1)*7)","v":0},{"$f":"OFFSET(Estructura!D139,0,($I$1-1)*7)","v":0},{"$f":"OFFSET(Estructura!E139,0,($I$1-1)*7)","v":0},{"$f":"OFFSET(Estructura!F139,0,($I$1-1)*7)","v":0},{"$f":"OFFSET(Estructura!G139,0,($I$1-1)*7)","v":"-"},{"$f":"OFFSET(Estructura!H139,0,($I$1-1)*7)","v":"-"},{"$f":"OFFSET(Estructura!I139,0,($I$1-1)*7)","v":"-"}]
[null,"Cogeneración y resto/Cogeneración",{"$f":"OFFSET(Estructura!C140,0,($I$1-1)*7)","v":4.2},{"$f":"OFFSET(Estructura!D140,0,($I$1-1)*7)","v":"-"},{"$f":"OFFSET(Estructura!E140,0,($I$1-1)*7)","v":"-"},{"$f":"OFFSET(Estructura!F140,0,($I$1-1)*7)","v":"-"},{"$f":"OFFSET(Estructura!G140,0,($I$1-1)*7)","v":"-"},{"$f":"OFFSET(Estructura!H140,0,($I$1-1)*7)","v":"-"},{"$f":"OFFSET(Estructura!I140,0,($I$1-1)*7)","v":"-"}]
[null,"Residuos no renovables",{"$f":"OFFSET(Estructura!C141,0,($I$1-1)*7)","v":"-"},{"$f":"OFFSET(Estructura!D141,0,($I$1-1)*7)","v":2},{"$f":"OFFSET(Estructura!E141,0,($I$1-1)*7)","v":2.2999999999999998},{"$f":"OFFSET(Estructura!F141,0,($I$1-1)*7)","v":2.4},{"$f":"OFFSET(Estructura!G141,0,($I$1-1)*7)","v":1.9},{"$f":"OFFSET(Estructura!H141,0,($I$1-1)*7)","v":"-"},{"$f":"OFFSET(Estructura!I141,0,($I$1-1)*7)","v":"-"}]
[null,"Residuos renovables",{"$f":"OFFSET(Estructura!C142,0,($I$1-1)*7)","v":"-"},{"$f":"OFFSET(Estructura!D142,0,($I$1-1)*7)","v":2},{"$f":"OFFSET(Estructura!E142,0,($I$1-1)*7)","v":2.2999999999999998},{"$f":"OFFSET(Estructura!F142,0,($I$1-1)*7)","v":2.4},{"$f":"OFFSET(Estructura!G142,0,($I$1-1)*7)","v":1.9},{"$f":"OFFSET(Estructura!H142,0,($I$1-1)*7)","v":"-"},{"$f":"OFFSET(Estructura!I142,0,($I$1-1)*7)","v":"-"}]
[null,"Generación renovable (2)",{"$f":"OFFSET(Estructura!C143,0,($I$1-1)*7)","v":0},{"$f":"OFFSET(Estructura!D143,0,($I$1-1)*7)","v":2},{"$f":"OFFSET(Estructura!E143,0,($I$1-1)*7)","v":2.2999999999999998},{"$f":"OFFSET(Estructura!F143,0,($I$1-1)*7)","v":2.4},{"$f":"OFFSET(Estructura!G143,0,($I$1-1)*7)","v":1.9},{"$f":"OFFSET(Estructura!H143,0,($I$1-1)*7)","v":"-"},{"$f":"OFFSET(Estructura!I143,0,($I$1-1)*7)","v":"-"}]
[null,"Generación no renovable",{"$f":"OFFSET(Estructura!C144,0,($I$1-1)*7)","v":100},{"$f":"OFFSET(Estructura!D144,0,($I$1-1)*7)","v":98},{"$f":"OFFSET(Estructura!E144,0,($I$1-1)*7)","v":97.699999999999989},{"$f":"OFFSET(Estructura!F144,0,($I$1-1)*7)","v":97.600000000000009},{"$f":"IF(SUM(G10:G11,G13:G14)=0,\"-\",SUM(G10:G11,G13:G14))","v":98.1},"-","-"]
[null,"(1) Asignación de unidades de producción según combustible principal."]
[null,"(2) Incluye solar fotovoltaica y residuos renovables."]
[null,{"$f":"IF(I1<2,\"\",IF(MONTH(FACT)=1,\"\",CONCATENATE(\"    Para el año \",YEAR(FACT),\" valores acumulados hasta \",TEXT(FACT-30,\"mmmm\"),\" de \",YEAR(FACT),\".\")))","v":"    Para el año 2018 valores acumulados hasta enero de 2018."}]

{"sheet":"Estructura","index":13,"n_rows":162,"n_cols":350,"rows_kept":162,"cut":false,"hidden":true,"merged":[]}
[]
[null,"Estructura de generación mensual peninsular (%)","1990-01-01","1990-02-01","1990-03-01","1990-04-01","1990-05-01","1990-06-01","1990-07-01","1990-08-01","1990-09-01","1990-10-01","1990-11-01","1990-12-01","1991-01-01","1991-02-01","1991-03-01","1991-04-01","1991-05-01","1991-06-01","1991-07-01","1991-08-01","1991-09-01","1991-10-01","1991-11-01","1991-12-01","1992-01-01","1992-02-01","1992-03-01","1992-04-01","1992-05-01","1992-06-01","1992-07-01","1992-08-01","1992-09-01","1992-10-01","1992-11-01","1992-12-01","1993-01-01","1993-02-01","1993-03-01","1993-04-01","1993-05-01","1993-06-01","1993-07-01","1993-08-01","1993-09-01","1993-10-01","1993-11-01","1993-12-01","1994-01-01","1994-02-01","1994-03-01","1994-04-01","1994-05-01","1994-06-01","1994-07-01","1994-08-01","1994-09-01","1994-10-01","1994-11-01","1994-12-01","1995-01-01","1995-02-01","1995-03-01","1995-04-01","1995-05-01","1995-06-01","1995-07-01","1995-08-01","1995-09-01","1995-10-01","1995-11-01","1995-12-01","1996-01-01","1996-02-01","1996-03-01","1996-04-01","1996-05-01","1996-06-01","1996-07-01","1996-08-01","1996-09-01","1996-10-01","1996-11-01","1996-12-01","1997-01-01","1997-02-01","1997-03-01","1997-04-01","1997-05-01","1997-06-01","1997-07-01","1997-08-01","1997-09-01","1997-10-01","1997-11-01","1997-12-01","1998-01-01","1998-02-01","1998-03-01","1998-04-01","1998-05-01","1998-06-01","1998-07-01","1998-08-01","1998-09-01","1998-10-01","1998-11-01","1998-12-01","1999-01-01","1999-02-01","1999-03-01","1999-04-01","1999-05-01","1999-06-01","1999-07-01","1999-08-01","1999-09-01","1999-10-01","1999-11-01","1999-12-01","2000-01-01","2000-02-01","2000-03-01","2000-04-01","2000-05-01","2000-06-01","2000-07-01","2000-08-01","2000-09-01","2000-10-01","2000-11-01","2000-12-01","2001-01-01","2001-02-01","2001-03-01","2001-04-01","2001-05-01","2001-06-01","2001-07-01","2001-08-01","2001-09-01","2001-10-01","2001-11-01","2001-12-01","2002-01-01","2002-02-01","2002-03-01","2002-04-01","2002-05-01","2002-06-01","2002-07-01","2002-08-01","2002-09-01","2002-10-01","2002-11-01","2002-12-01","2003-01-01","2003-02-01","2003-03-01","2003-04-01","2003-05-01","2003-06-01","2003-07-01","2003-08-01","2003-09-01","2003-10-01","2003-11-01","2003-12-01","2004-01-01","2004-02-01","2004-03-01","2004-04-01","2004-05-01","2004-06-01","2004-07-01","2004-08-01","2004-09-01","2004-10-01","2004-11-01","2004-12-01","2005-01-01","2005-02-01","2005-03-01","2005-04-01","2005-05-01","2005-06-01","2005-07-01","2005-08-01","2005-09-01","2005-10-01","2005-11-01","2005-12-01","2006-01-01","2006-02-01","2006-03-01","2006-04-01","2006-05-01","2006-06-01","2006-07-01","2006-08-01","2006-09-01","2006-10-01","2006-11-01","2006-12-01","2007-01-01","2007-02-01","2007-03-01","2007-04-01","2007-05-01","2007-06-01","2007-07-01","2007-08-01","2007-09-01","2007-10-01","2007-11-01","2007-12-01","2008-01-01","2008-02-01","2008-03-01","2008-04-01","2008-05-01","2008-06-01","2008-07-01","2008-08-01","2008-09-01","2008-10-01","2008-11-01","2008-12-01","2009-01-01","2009-02-01","2009-03-01","2009-04-01","2009-05-01","2009-06-01","2009-07-01","2009-08-01","2009-09-01","2009-10-01","2009-11-01","2009-12-01","2010-01-01","2010-02-01","2010-03-01","2010-04-01","2010-05-01","2010-06-01","2010-07-01","2010-08-01","2010-09-01","2010-10-01","2010-11-01","2010-12-01","2011-01-01","2011-02-01","2011-03-01","2011-04-01","2011-05-01","2011-06-01","2011-07-01","2011-08-01","2011-09-01","2011-10-01","2011-11-01","2011-12-01","2012-01-01","2012-02-01","2012-03-01","2012-04-01","2012-05-01","2012-06-01","2012-07-01","2012-08-01","2012-09-01","2012-10-01","2012-11-01","2012-12-01","2013-01-01","2013-02-01","2013-03-01","2013-04-01","2013-05-01","2013-06-01","2013-07-01","2013-08-01","2013-09-01","2013-10-01","2013-11-01","2013-12-01","2014-01-01","2014-02-01","2014-03-01","2014-04-01","2014-05-01","2014-06-01","2014-07-01","2014-08-01","2014-09-01","2014-10-01","2014-11-01","2014-12-01","2015-01-01","2015-02-01","2015-03-01","2015-04-01","2015-05-01","2015-06-01","2015-07-01","2015-08-01","2015-09-01","2015-10-01","2015-11-01","2015-12-01","2016-01-01","2016-02-01","2016-03-01","2016-04-01","2016-05-01","2016-06-01","2016-07-01","2016-08-01","2016-09-01","2016-10-01","2016-11-01","2016-12-01","2017-01-01","2017-02-01","2017-03-01","2017-04-01","2017-05-01","2017-06-01","2017-07-01","2017-08-01","2017-09-01","2017-10-01","2017-11-01","2017-12-01","2018-01-01","2018-02-01","2018-03-01","2018-04-01","2018-05-01","2018-06-01","2018-07-01","2018-08-01","2018-09-01","2018-10-01","2018-11-01","2018-12-01"]
[null,"Hidráulica",{"$f":"IF(Balance!C3=\"-\",\"-\",ROUND((SUM(Balance!C3,Balance!C10)/Balance!C$19)*100,1))","v":30},{"$f":"IF(Balance!D3=\"-\",\"-\",ROUND((SUM(Balance!D3,Balance!D10)/Balance!D$19)*100,1))","v":31.1},{"$f":"IF(Balance!E3=\"-\",\"-\",ROUND((SUM(Balance!E3,Balance!E10)/Balance!E$19)*100,1))","v":21.3},{"$f":"IF(Balance!F3=\"-\",\"-\",ROUND((SUM(Balance!F3,Balance!F10)/Balance!F$19)*100,1))","v":16.600000000000001},{"$f":"IF(Balance!G3=\"-\",\"-\",ROUND((SUM(Balance!G3,Balance!G10)/Balance!G$19)*100,1))","v":17.399999999999999},{"$f":"IF(Balance!H3=\"-\",\"-\",ROUND((SUM(Balance!H3,Balance!H10)/Balance!H$19)*100,1))","v":16.8},{"$f":"IF(Balance!I3=\"-\",\"-\",ROUND((SUM(Balance!I3,Balance!I10)/Balance!I$19)*100,1))","v":13.8},{"$f":"IF(Balance!J3=\"-\",\"-\",ROUND((SUM(Balance!J3,Balance!J10)/Balance!J$19)*100,1))","v":12},{"$f":"IF(Balance!K3=\"-\",\"-\",ROUND((SUM(Balance!K3,Balance!K10)/Balance!K$19)*100,1))","v":11.1},{"$f":"IF(Balance!L3=\"-\",\"-\",ROUND((SUM(Balance!L3,Balance!L10)/Balance!L$19)*100,1))","v":12.7},{"$f":"IF(Balance!M3=\"-\",\"-\",ROUND((SUM(Balance!M3,Balance!M10)/Balance!M$19)*100,1))","v":16.8},{"$f":"IF(Balance!N3=\"-\",\"-\",ROUND((SUM(Balance!N3,Balance!N10)/Balance!N$19)*100,1))","v":15.2},{"$f":"IF(Balance!O3=\"-\",\"-\",ROUND((SUM(Balance!O3,Balance!O10)/Balance!O$19)*100,1))","v":19.600000000000001},{"$f":"IF(Balance!P3=\"-\",\"-\",ROUND((SUM(Balance!P3,Balance!P10)/Balance!P$19)*100,1))","v":16.600000000000001},{"$f":"IF(Balance!Q3=\"-\",\"-\",ROUND((SUM(Balance!Q3,Balance!Q10)/Balance!Q$19)*100,1))","v":32.6},{"$f":"IF(Balance!R3=\"-\",\"-\",ROUND((SUM(Balance!R3,Balance!R10)/Balance!R$19)*100,1))","v":31.1},{"$f":"IF(Balance!S3=\"-\",\"-\",ROUND((SUM(Balance!S3,Balance!S10)/Balance!S$19)*100,1))","v":25.3},{"$f":"IF(Balance!T3=\"-\",\"-\",ROUND((SUM(Balance!T3,Balance!T10)/Balance!T$19)*100,1))","v":19.2},{"$f":"IF(Balance!U3=\"-\",\"-\",ROUND((SUM(Balance!U3,Balance!U10)/Balance!U$19)*100,1))","v":14.4},{"$f":"IF(Balance!V3=\"-\",\"-\",ROUND((SUM(Balance!V3,Balance!V10)/Balance!V$19)*100,1))","v":10.8},{"$f":"IF(Balance!W3=\"-\",\"-\",ROUND((SUM(Balance!W3,Balance!W10)/Balance!W$19)*100,1))","v":9.8000000000000007},{"$f":"IF(Balance!X3=\"-\",\"-\",ROUND((SUM(Balance!X3,Balance!X10)/Balance!X$19)*100,1))","v":13.1},{"$f":"IF(Balance!Y3=\"-\",\"-\",ROUND((SUM(Balance!Y3,Balance!Y10)/Balance!Y$19)*100,1))","v":16.3},{"$f":"IF(Balance!Z3=\"-\",\"-\",ROUND((SUM(Balance!Z3,Balance!Z10)/Balance!Z$19)*100,1))","v":14.9},{"$f":"IF(Balance!AA3=\"-\",\"-\",ROUND((SUM(Balance!AA3,Balance!AA10)/Balance!AA$19)*100,1))","v":9.6999999999999993},{"$f":"IF(Balance!AB3=\"-\",\"-\",ROUND((SUM(Balance!AB3,Balance!AB10)/Balance!AB$19)*100,1))","v":6.3},{"$f":"IF(Balance!AC3=\"-\",\"-\",ROUND((SUM(Balance!AC3,Balance!AC10)/Balance!AC$19)*100,1))","v":6.4},{"$f":"IF(Balance!AD3=\"-\",\"-\",ROUND((SUM(Balance!AD3,Balance!AD10)/Balance!AD$19)*100,1))","v":14},{"$f":"IF(Balance!AE3=\"-\",\"-\",ROUND((SUM(Balance!AE3,Balance!AE10)/Balance!AE$19)*100,1))","v":13.3},{"$f":"IF(Balance!AF3=\"-\",\"-\",ROUND((SUM(Balance!AF3,Balance!AF10)/Balance!AF$19)*100,1))","v":14.9},{"$f":"IF(Balance!AG3=\"-\",\"-\",ROUND((SUM(Balance!AG3,Balance!AG10)/Balance!AG$19)*100,1))","v":13.7},{"$f":"IF(Balance!AH3=\"-\",\"-\",ROUND((SUM(Balance!AH3,Balance!AH10)/Balance!AH$19)*100,1))","v":10.6},{"$f":"IF(Balance!AI3=\"-\",\"-\",ROUND((SUM(Balance!AI3,Balance!AI10)/Balance!AI$19)*100,1))","v":10.7},{"$f":"IF(Balance!AJ3=\"-\",\"-\",ROUND((SUM(Balance!AJ3,Balance!AJ10)/Balance!AJ$19)*100,1))","v":15.7},{"$f":"IF(Balance!AK3=\"-\",\"-\",ROUND((SUM(Balance!AK3,Balance!AK10)/Balance!AK$19)*100,1))","v":18.8},{"$f":"IF(Balance!AL3=\"-\",\"-\",ROUND((SUM(Balance!AL3,Balance!AL10)/Balance!AL$19)*100,1))","v":23.3},{"$f":"IF(Balance!AM3=\"-\",\"-\",ROUND((SUM(Balance!AM3,Balance!AM10)/Balance!AM$19)*100,1))","v":16.5},{"$f":"IF(Balance!AN3=\"-\",\"-\",ROUND((SUM(Balance!AN3,Balance!AN10)/Balance!AN$19)*100,1))","v":12.7},{"$f":"IF(Balance!AO3=\"-\",\"-\",ROUND((SUM(Balance!AO3,Balance!AO10)/Balance!AO$19)*100,1))","v":11.7},{"$f":"IF(Balance!AP3=\"-\",\"-\",ROUND((SUM(Balance!AP3,Balance!AP10)/Balance!AP$19)*100,1))","v":10.5},{"$f":"IF(Balance!AQ3=\"-\",\"-\",ROUND((SUM(Balance!AQ3,Balance!AQ10)/Balance!AQ$19)*100,1))","v":17},{"$f":"IF(Balance!AR3=\"-\",\"-\",ROUND((SUM(Balance!AR3,Balance!AR10)/Balance!AR$19)*100,1))","v":19.899999999999999},{"$f":"IF(Balance!AS3=\"-\",\"-\",ROUND((SUM(Balance!AS3,Balance!AS10)/Balance!AS$19)*100,1))","v":16},{"$f":"IF(Balance!AT3=\"-\",\"-\",ROUND((SUM(Balance!AT3,Balance!AT10)/Balance!AT$19)*100,1))","v":11.4},{"$f":"IF(Balance!AU3=\"-\",\"-\",ROUND((SUM(Balance!AU3,Balance!AU10)/Balance!AU$19)*100,1))","v":10.6},{"$f":"IF(Balance!AV3=\"-\",\"-\",ROUND((SUM(Balance!AV3,Balance!AV10)/Balance!AV$19)*100,1))","v":23.9},{"$f":"IF(Balance!AW3=\"-\",\"-\",ROUND((SUM(Balance!AW3,Balance!AW10)/Balance!AW$19)*100,1))","v":27.9},{"$f":"IF(Balance!AX3=\"-\",\"-\",ROUND((SUM(Balance!AX3,Balance!AX10)/Balance!AX$19)*100,1))","v":21.3},{"$f":"IF(Balance!AY3=\"-\",\"-\",ROUND((SUM(Balance!AY3,Balance!AY10)/Balance!AY$19)*100,1))","v":28.6},{"$f":"IF(Balance!AZ3=\"-\",\"-\",ROUND((SUM(Balance!AZ3,Balance!AZ10)/Balance!AZ$19)*100,1))","v":25.7},{"$f":"IF(Balance!BA3=\"-\",\"-\",ROUND((SUM(Balance!BA3,Balance!BA10)/Balance!BA$19)*100,1))","v":23.4},{"$f":"IF(Balance!BB3=\"-\",\"-\",ROUND((SUM(Balance!BB3,Balance!BB10)/Balance!BB$19)*100,1))","v":20.7},{"$f":"IF(Balance!BC3=\"-\",\"-\",ROUND((SUM(Balance!BC3,Balance!BC10)/Balance!BC$19)*100,1))","v":22.7},{"$f":"IF(Balance!BD3=\"-\",\"-\",ROUND((SUM(Balance!BD3,Balance!BD10)/Balance!BD$19)*100,1))","v":20.399999999999999},{"$f":"IF(Balance!BE3=\"-\",\"-\",ROUND((SUM(Balance!BE3,Balance!BE10)/Balance!BE$19)*100,1))","v":14.4},{"$f":"IF(Balance!BF3=\"-\",\"-\",ROUND((SUM(Balance!BF3,Balance!BF10)/Balance!BF$19)*100,1))","v":11.6},{"$f":"IF(Balance!BG3=\"-\",\"-\",ROUND((SUM(Balance!BG3,Balance!BG10)/Balance!BG$19)*100,1))","v":10.7},{"$f":"IF(Balance!BH3=\"-\",\"-\",ROUND((SUM(Balance!BH3,Balance!BH10)/Balance!BH$19)*100,1))","v":13.3},{"$f":"IF(Balance!BI3=\"-\",\"-\",ROUND((SUM(Balance!BI3,Balance!BI10)/Balance!BI$19)*100,1))","v":19.399999999999999},{"$f":"IF(Balance!BJ3=\"-\",\"-\",ROUND((SUM(Balance!BJ3,Balance!BJ10)/Balance!BJ$19)*100,1))","v":14.5},{"$f":"IF(Balance!BK3=\"-\",\"-\",ROUND((SUM(Balance!BK3,Balance!BK10)/Balance!BK$19)*100,1))","v":20.7},{"$f":"IF(Balance!BL3=\"-\",\"-\",ROUND((SUM(Balance!BL3,Balance!BL10)/Balance!BL$19)*100,1))","v":22.9},{"$f":"IF(Balance!BM3=\"-\",\"-\",ROUND((SUM(Balance!BM3,Balance!BM10)/Balance!BM$19)*100,1))","v":24.7},{"$f":"IF(Balance!BN3=\"-\",\"-\",ROUND((SUM(Balance!BN3,Balance!BN10)/Balance!BN$19)*100,1))","v":16.399999999999999},{"$f":"IF(Balance!BO3=\"-\",\"-\",ROUND((SUM(Balance!BO3,Balance!BO10)/Balance!BO$19)*100,1))","v":14.4},{"$f":"IF(Balance!BP3=\"-\",\"-\",ROUND((SUM(Balance!BP3,Balance!BP10)/Balance!BP$19)*100,1))","v":14.4},{"$f":"IF(Balance!BQ3=\"-\",\"-\",ROUND((SUM(Balance!BQ3,Balance!BQ10)/Balance!BQ$19)*100,1))","v":12.6},{"$f":"IF(Balance!BR3=\"-\",\"-\",ROUND((SUM(Balance!BR3,Balance!BR10)/Balance!BR$19)*100,1))","v":9.1},{"$f":"IF(Balance!BS3=\"-\",\"-\",ROUND((SUM(Balance!BS3,Balance!BS10)/Balance!BS$19)*100,1))","v":7.7},{"$f":"IF(Balance!BT3=\"-\",\"-\",ROUND((SUM(Balance!BT3,Balance!BT10)/Balance!BT$19)*100,1))","v":8},{"$f":"IF(Balance!BU3=\"-\",\"-\",ROUND((SUM(Balance!BU3,Balance!BU10)/Balance!BU$19)*100,1))","v":10},{"$f":"IF(Balance!BV3=\"-\",\"-\",ROUND((SUM(Balance!BV3,Balance!BV10)/Balance!BV$19)*100,1))","v":18.3},{"$f":"IF(Balance!BW3=\"-\",\"-\",ROUND((SUM(Balance!BW3,Balance!BW10)/Balance!BW$19)*100,1))","v":39.6},{"$f":"IF(Balance!BX3=\"-\",\"-\",ROUND((SUM(Balance!BX3,Balance!BX10)/Balance!BX$19)*100,1))","v":40.200000000000003},{"$f":"IF(Balance!BY3=\"-\",\"-\",ROUND((SUM(Balance!BY3,Balance!BY10)/Balance!BY$19)*100,1))","v":27.2},{"$f":"IF(Balance!BZ3=\"-\",\"-\",ROUND((SUM(Balance!BZ3,Balance!BZ10)/Balance!BZ$19)*100,1))","v":32.200000000000003},{"$f":"IF(Balance!CA3=\"-\",\"-\",ROUND((SUM(Balance!CA3,Balance!CA10)/Balance!CA$19)*100,1))","v":31.7},{"$f":"IF(Balance!CB3=\"-\",\"-\",ROUND((SUM(Balance!CB3,Balance!CB10)/Balance!CB$19)*100,1))","v":23.6},{"$f":"IF(Balance!CC3=\"-\",\"-\",ROUND((SUM(Balance!CC3,Balance!CC10)/Balance!CC$19)*100,1))","v":17.600000000000001},{"$f":"IF(Balance!CD3=\"-\",\"-\",ROUND((SUM(Balance!CD3,Balance!CD10)/Balance!CD$19)*100,1))","v":13.4},{"$f":"IF(Balance!CE3=\"-\",\"-\",ROUND((SUM(Balance!CE3,Balance!CE10)/Balance!CE$19)*100,1))","v":14.8},{"$f":"IF(Balance!CF3=\"-\",\"-\",ROUND((SUM(Balance!CF3,Balance!CF10)/Balance!CF$19)*100,1))","v":14},{"$f":"IF(Balance!CG3=\"-\",\"-\",ROUND((SUM(Balance!CG3,Balance!CG10)/Balance!CG$19)*100,1))","v":17},{"$f":"IF(Balance!CH3=\"-\",\"-\",ROUND((SUM(Balance!CH3,Balance!CH10)/Balance!CH$19)*100,1))","v":30.6},{"$f":"IF(Balance!CI3=\"-\",\"-\",ROUND((SUM(Balance!CI3,Balance!CI10)/Balance!CI$19)*100,1))","v":36.6},{"$f":"IF(Balance!CJ3=\"-\",\"-\",ROUND((SUM(Balance!CJ3,Balance!CJ10)/Balance!CJ$19)*100,1))","v":28.1},{"$f":"IF(Balance!CK3=\"-\",\"-\",ROUND((SUM(Balance!CK3,Balance!CK10)/Balance!CK$19)*100,1))","v":20.7},{"$f":"IF(Balance!CL3=\"-\",\"-\",ROUND((SUM(Balance!CL3,Balance!CL10)/Balance!CL$19)*100,1))","v":17.7},{"$f":"IF(Balance!CM3=\"-\",\"-\",ROUND((SUM(Balance!CM3,Balance!CM10)/Balance!CM$19)*100,1))","v":17},{"$f":"IF(Balance!CN3=\"-\",\"-\",ROUND((SUM(Balance!CN3,Balance!CN10)/Balance!CN$19)*100,1))","v":18.2},{"$f":"IF(Balance!CO3=\"-\",\"-\",ROUND((SUM(Balance!CO3,Balance!CO10)/Balance!CO$19)*100,1))","v":14.7},{"$f":"IF(Balance!CP3=\"-\",\"-\",ROUND((SUM(Balance!CP3,Balance!CP10)/Balance!CP$19)*100,1))","v":13.1},{"$f":"IF(Balance!CQ3=\"-\",\"-\",ROUND((SUM(Balance!CQ3,Balance!CQ10)/Balance!CQ$19)*100,1))","v":11.9},{"$f":"IF(Balance!CR3=\"-\",\"-\",ROUND((SUM(Balance!CR3,Balance!CR10)/Balance!CR$19)*100,1))","v":10.9},{"$f":"IF(Balance!CS3=\"-\",\"-\",ROUND((SUM(Balance!CS3,Balance!CS10)/Balance!CS$19)*100,1))","v":24.8},{"$f":"IF(Balance!CT3=\"-\",\"-\",ROUND((SUM(Balance!CT3,Balance!CT10)/Balance!CT$19)*100,1))","v":35.200000000000003},{"$f":"IF(Balance!CU3=\"-\",\"-\",ROUND((SUM(Balance!CU3,Balance!CU10)/Balance!CU$19)*100,1))","v":39.5},{"$f":"IF(Balance!CV3=\"-\",\"-\",ROUND((SUM(Balance!CV3,Balance!CV10)/Balance!CV$19)*100,1))","v":30.2},{"$f":"IF(Balance!CW3=\"-\",\"-\",ROUND((SUM(Balance!CW3,Balance!CW10)/Balance!CW$19)*100,1))","v":19.600000000000001},{"$f":"IF(Balance!CX3=\"-\",\"-\",ROUND((SUM(Balance!CX3,Balance!CX10)/Balance!CX$19)*100,1))","v":26.2},{"$f":"IF(Balance!CY3=\"-\",\"-\",ROUND((SUM(Balance!CY3,Balance!CY10)/Balance!CY$19)*100,1))","v":30.4},{"$f":"IF(Balance!CZ3=\"-\",\"-\",ROUND((SUM(Balance!CZ3,Balance!CZ10)/Balance!CZ$19)*100,1))","v":25},{"$f":"IF(Balance!DA3=\"-\",\"-\",ROUND((SUM(Balance!DA3,Balance!DA10)/Balance!DA$19)*100,1))","v":17.100000000000001},{"$f":"IF(Balance!DB3=\"-\",\"-\",ROUND((SUM(Balance!DB3,Balance!DB10)/Balance!DB$19)*100,1))","v":15.1},{"$f":"IF(Balance!DC3=\"-\",\"-\",ROUND((SUM(Balance!DC3,Balance!DC10)/Balance!DC$19)*100,1))","v":13},{"$f":"IF(Balance!DD3=\"-\",\"-\",ROUND((SUM(Balance!DD3,Balance!DD10)/Balance!DD$19)*100,1))","v":14.3},{"$f":"IF(Balance!DE3=\"-\",\"-\",ROUND((SUM(Balance!DE3,Balance!DE10)/Balance!DE$19)*100,1))","v":10.6},{"$f":"IF(Balance!DF3=\"-\",\"-\",ROUND((SUM(Balance!DF3,Balance!DF10)/Balance!DF$19)*100,1))","v":8.3000000000000007},{"$f":"IF(Balance!DG3=\"-\",\"-\",ROUND((SUM(Balance!DG3,Balance!DG10)/Balance!DG$19)*100,1))","v":8.8000000000000007},{"$f":"IF(Balance!DH3=\"-\",\"-\",ROUND((SUM(Balance!DH3,Balance!DH10)/Balance!DH$19)*100,1))","v":9.1999999999999993},{"$f":"IF(Balance!DI3=\"-\",\"-\",ROUND((SUM(Balance!DI3,Balance!DI10)/Balance!DI$19)*100,1))","v":13.5},{"$f":"IF(Balance!DJ3=\"-\",\"-\",ROUND((SUM(Balance!DJ3,Balance!DJ10)/Balance!DJ$19)*100,1))","v":16.3},{"$f":"IF(Balance!DK3=\"-\",\"-\",ROUND((SUM(Balance!DK3,Balance!DK10)/Balance!DK$19)*100,1))","v":20.7},{"$f":"IF(Balance!DL3=\"-\",\"-\",ROUND((SUM(Balance!DL3,Balance!DL10)/Balance!DL$19)*100,1))","v":17.3},{"$f":"IF(Balance!DM3=\"-\",\"-\",ROUND((SUM(Balance!DM3,Balance!DM10)/Balance!DM$19)*100,1))","v":12.5},{"$f":"IF(Balance!DN3=\"-\",\"-\",ROUND((SUM(Balance!DN3,Balance!DN10)/Balance!DN$19)*100,1))","v":10.199999999999999},{"$f":"IF(Balance!DO3=\"-\",\"-\",ROUND((SUM(Balance!DO3,Balance!DO10)/Balance!DO$19)*100,1))","v":10.3},{"$f":"IF(Balance!DP3=\"-\",\"-\",ROUND((SUM(Balance!DP3,Balance!DP10)/Balance!DP$19)*100,1))","v":11.7},{"$f":"IF(Balance!DQ3=\"-\",\"-\",ROUND((SUM(Balance!DQ3,Balance!DQ10)/Balance!DQ$19)*100,1))","v":17.899999999999999},{"$f":"IF(Balance!DR3=\"-\",\"-\",ROUND((SUM(Balance!DR3,Balance!DR10)/Balance!DR$19)*100,1))","v":17.100000000000001},{"$f":"IF(Balance!DS3=\"-\",\"-\",ROUND((SUM(Balance!DS3,Balance!DS10)/Balance!DS$19)*100,1))","v":14.4},{"$f":"IF(Balance!DT3=\"-\",\"-\",ROUND((SUM(Balance!DT3,Balance!DT10)/Balance!DT$19)*100,1))","v":10.5},{"$f":"IF(Balance!DU3=\"-\",\"-\",ROUND((SUM(Balance!DU3,Balance!DU10)/Balance!DU$19)*100,1))","v":9.5},{"$f":"IF(Balance!DV3=\"-\",\"-\",ROUND((SUM(Balance!DV3,Balance!DV10)/Balance!DV$19)*100,1))","v":14.7},{"$f":"IF(Balance!DW3=\"-\",\"-\",ROUND((SUM(Balance!DW3,Balance!DW10)/Balance!DW$19)*100,1))","v":21.7},{"$f":"IF(Balance!DX3=\"-\",\"-\",ROUND((SUM(Balance!DX3,Balance!DX10)/Balance!DX$19)*100,1))","v":14.6},{"$f":"IF(Balance!DY3=\"-\",\"-\",ROUND((SUM(Balance!DY3,Balance!DY10)/Balance!DY$19)*100,1))","v":10.5},{"$f":"IF(Balance!DZ3=\"-\",\"-\",ROUND((SUM(Balance!DZ3,Balance!DZ10)/Balance!DZ$19)*100,1))","v":11.2},{"$f":"IF(Balance!EA3=\"-\",\"-\",ROUND((SUM(Balance!EA3,Balance!EA10)/Balance!EA$19)*100,1))","v":11.6},{"$f":"IF(Balance!EB3=\"-\",\"-\",ROUND((SUM(Balance!EB3,Balance!EB10)/Balance!EB$19)*100,1))","v":11},{"$f":"IF(Balance!EC3=\"-\",\"-\",ROUND((SUM(Balance!EC3,Balance!EC10)/Balance!EC$19)*100,1))","v":14.9},{"$f":"IF(Balance!ED3=\"-\",\"-\",ROUND((SUM(Balance!ED3,Balance!ED10)/Balance!ED$19)*100,1))","v":25.8},{"$f":"IF(Balance!EE3=\"-\",\"-\",ROUND((SUM(Balance!EE3,Balance!EE10)/Balance!EE$19)*100,1))","v":33.9},{"$f":"IF(Balance!EF3=\"-\",\"-\",ROUND((SUM(Balance!EF3,Balance!EF10)/Balance!EF$19)*100,1))","v":34.9},{"$f":"IF(Balance!EG3=\"-\",\"-\",ROUND((SUM(Balance!EG3,Balance!EG10)/Balance!EG$19)*100,1))","v":37.799999999999997},{"$f":"IF(Balance!EH3=\"-\",\"-\",ROUND((SUM(Balance!EH3,Balance!EH10)/Balance!EH$19)*100,1))","v":29.1},{"$f":"IF(Balance!EI3=\"-\",\"-\",ROUND((SUM(Balance!EI3,Balance!EI10)/Balance!EI$19)*100,1))","v":21.1},{"$f":"IF(Balance!EJ3=\"-\",\"-\",ROUND((SUM(Balance!EJ3,Balance!EJ10)/Balance!EJ$19)*100,1))","v":15.3},{"$f":"IF(Balance!EK3=\"-\",\"-\",ROUND((SUM(Balance!EK3,Balance!EK10)/Balance!EK$19)*100,1))","v":11.9},{"$f":"IF(Balance!EL3=\"-\",\"-\",ROUND((SUM(Balance!EL3,Balance!EL10)/Balance!EL$19)*100,1))","v":11.6},{"$f":"IF(Balance!EM3=\"-\",\"-\",ROUND((SUM(Balance!EM3,Balance!EM10)/Balance!EM$19)*100,1))","v":9.1},{"$f":"IF(Balance!EN3=\"-\",\"-\",ROUND((SUM(Balance!EN3,Balance!EN10)/Balance!EN$19)*100,1))","v":10.5},{"$f":"IF(Balance!EO3=\"-\",\"-\",ROUND((SUM(Balance!EO3,Balance!EO10)/Balance!EO$19)*100,1))","v":11.5},{"$f":"IF(Balance!EP3=\"-\",\"-\",ROUND((SUM(Balance!EP3,Balance!EP10)/Balance!EP$19)*100,1))","v":8.5},{"$f":"IF(Balance!EQ3=\"-\",\"-\",ROUND((SUM(Balance!EQ3,Balance!EQ10)/Balance!EQ$19)*100,1))","v":6.9},{"$f":"IF(Balance!ER3=\"-\",\"-\",ROUND((SUM(Balance!ER3,Balance!ER10)/Balance!ER$19)*100,1))","v":7.1},{"$f":"IF(Balance!ES3=\"-\",\"-\",ROUND((SUM(Balance!ES3,Balance!ES10)/Balance!ES$19)*100,1))","v":11},{"$f":"IF(Balance!ET3=\"-\",\"-\",ROUND((SUM(Balance!ET3,Balance!ET10)/Balance!ET$19)*100,1))","v":11.3},{"$f":"IF(Balance!EU3=\"-\",\"-\",ROUND((SUM(Balance!EU3,Balance!EU10)/Balance!EU$19)*100,1))","v":11.4},{"$f":"IF(Balance!EV3=\"-\",\"-\",ROUND((SUM(Balance!EV3,Balance!EV10)/Balance!EV$19)*100,1))","v":11},{"$f":"IF(Balance!EW3=\"-\",\"-\",ROUND((SUM(Balance!EW3,Balance!EW10)/Balance!EW$19)*100,1))","v":7.4},{"$f":"IF(Balance!EX3=\"-\",\"-\",ROUND((SUM(Balance!EX3,Balance!EX10)/Balance!EX$19)*100,1))","v":6.2},{"$f":"IF(Balance!EY3=\"-\",\"-\",ROUND((SUM(Balance!EY3,Balance!EY10)/Balance!EY$19)*100,1))","v":6.1},{"$f":"IF(Balance!EZ3=\"-\",\"-\",ROUND((SUM(Balance!EZ3,Balance!EZ10)/Balance!EZ$19)*100,1))","v":6.8},{"$f":"IF(Balance!FA3=\"-\",\"-\",ROUND((SUM(Balance!FA3,Balance!FA10)/Balance!FA$19)*100,1))","v":11.1},{"$f":"IF(Balance!FB3=\"-\",\"-\",ROUND((SUM(Balance!FB3,Balance!FB10)/Balance!FB$19)*100,1))","v":22.5},{"$f":"IF(Balance!FC3=\"-\",\"-\",ROUND((SUM(Balance!FC3,Balance!FC10)/Balance!FC$19)*100,1))","v":27.3},{"$f":"IF(Balance!FD3=\"-\",\"-\",ROUND((SUM(Balance!FD3,Balance!FD10)/Balance!FD$19)*100,1))","v":23.1},{"$f":"IF(Balance!FE3=\"-\",\"-\",ROUND((SUM(Balance!FE3,Balance!FE10)/Balance!FE$19)*100,1))","v":24.7},{"$f":"IF(Balance!FF3=\"-\",\"-\",ROUND((SUM(Balance!FF3,Balance!FF10)/Balance!FF$19)*100,1))","v":22.7},{"$f":"IF(Balance!FG3=\"-\",\"-\",ROUND((SUM(Balance!FG3,Balance!FG10)/Balance!FG$19)*100,1))","v":20.8},{"$f":"IF(Balance!FH3=\"-\",\"-\",ROUND((SUM(Balance!FH3,Balance!FH10)/Balance!FH$19)*100,1))","v":12.5},{"$f":"IF(Balance!FI3=\"-\",\"-\",ROUND((SUM(Balance!FI3,Balance!FI10)/Balance!FI$19)*100,1))","v":9.8000000000000007},{"$f":"IF(Balance!FJ3=\"-\",\"-\",ROUND((SUM(Balance!FJ3,Balance!FJ10)/Balance!FJ$19)*100,1))","v":7.7},{"$f":"IF(Balance!FK3=\"-\",\"-\",ROUND((SUM(Balance!FK3,Balance!FK10)/Balance!FK$19)*100,1))","v":9},{"$f":"IF(Balance!FL3=\"-\",\"-\",ROUND((SUM(Balance!FL3,Balance!FL10)/Balance!FL$19)*100,1))","v":10.6},{"$f":"IF(Balance!FM3=\"-\",\"-\",ROUND((SUM(Balance!FM3,Balance!FM10)/Balance!FM$19)*100,1))","v":17.100000000000001},{"$f":"IF(Balance!FN3=\"-\",\"-\",ROUND((SUM(Balance!FN3,Balance!FN10)/Balance!FN$19)*100,1))","v":24.2},{"$f":"IF(Balance!FO3=\"-\",\"-\",ROUND((SUM(Balance!FO3,Balance!FO10)/Balance!FO$19)*100,1))","v":18},{"$f":"IF(Balance!FP3=\"-\",\"-\",ROUND((SUM(Balance!FP3,Balance!FP10)/Balance!FP$19)*100,1))","v":16.899999999999999},{"$f":"IF(Balance!FQ3=\"-\",\"-\",ROUND((SUM(Balance!FQ3,Balance!FQ10)/Balance!FQ$19)*100,1))","v":15},{"$f":"IF(Balance!FR3=\"-\",\"-\",ROUND((SUM(Balance!FR3,Balance!FR10)/Balance!FR$19)*100,1))","v":15.8},{"$f":"IF(Balance!FS3=\"-\",\"-\",ROUND((SUM(Balance!FS3,Balance!FS10)/Balance!FS$19)*100,1))","v":17.5},{"$f":"IF(Balance!FT3=\"-\",\"-\",ROUND((SUM(Balance!FT3,Balance!FT10)/Balance!FT$19)*100,1))","v":13.7},{"$f":"IF(Balance!FU3=\"-\",\"-\",ROUND((SUM(Balance!FU3,Balance!FU10)/Balance!FU$19)*100,1))","v":9.9},{"$f":"IF(Balance!FV3=\"-\",\"-\",ROUND((SUM(Balance!FV3,Balance!FV10)/Balance!FV$19)*100,1))","v":8.9},{"$f":"IF(Balance!FW3=\"-\",\"-\",ROUND((SUM(Balance!FW3,Balance!FW10)/Balance!FW$19)*100,1))","v":7.8},{"$f":"IF(Balance!FX3=\"-\",\"-\",ROUND((SUM(Balance!FX3,Balance!FX10)/Balance!FX$19)*100,1))","v":8.8000000000000007},{"$f":"IF(Balance!FY3=\"-\",\"-\",ROUND((SUM(Balance!FY3,Balance!FY10)/Balance!FY$19)*100,1))","v":11.5},{"$f":"IF(Balance!FZ3=\"-\",\"-\",ROUND((SUM(Balance!FZ3,Balance!FZ10)/Balance!FZ$19)*100,1))","v":8.5},{"$f":"IF(Balance!GA3=\"-\",\"-\",ROUND((SUM(Balance!GA3,Balance!GA10)/Balance!GA$19)*100,1))","v":6.9},{"$f":"IF(Balance!GB3=\"-\",\"-\",ROUND((SUM(Balance!GB3,Balance!GB10)/Balance!GB$19)*100,1))","v":7.3},{"$f":"IF(Balance!GC3=\"-\",\"-\",ROUND((SUM(Balance!GC3,Balance!GC10)/Balance!GC$19)*100,1))","v":8.4},{"$f":"IF(Balance!GD3=\"-\",\"-\",ROUND((SUM(Balance!GD3,Balance!GD10)/Balance!GD$19)*100,1))","v":10.8},{"$f":"IF(Balance!GE3=\"-\",\"-\",ROUND((SUM(Balance!GE3,Balance!GE10)/Balance!GE$19)*100,1))","v":11.1},{"$f":"IF(Balance!GF3=\"-\",\"-\",ROUND((SUM(Balance!GF3,Balance!GF10)/Balance!GF$19)*100,1))","v":8.6999999999999993},{"$f":"IF(Balance!GG3=\"-\",\"-\",ROUND((SUM(Balance!GG3,Balance!GG10)/Balance!GG$19)*100,1))","v":5.9},{"$f":"IF(Balance!GH3=\"-\",\"-\",ROUND((SUM(Balance!GH3,Balance!GH10)/Balance!GH$19)*100,1))","v":5.6},{"$f":"IF(Balance!GI3=\"-\",\"-\",ROUND((SUM(Balance!GI3,Balance!GI10)/Balance!GI$19)*100,1))","v":4},{"$f":"IF(Balance!GJ3=\"-\",\"-\",ROUND((SUM(Balance!GJ3,Balance!GJ10)/Balance!GJ$19)*100,1))","v":4.2},{"$f":"IF(Balance!GK3=\"-\",\"-\",ROUND((SUM(Balance!GK3,Balance!GK10)/Balance!GK$19)*100,1))","v":6.4},{"$f":"IF(Balance!GL3=\"-\",\"-\",ROUND((SUM(Balance!GL3,Balance!GL10)/Balance!GL$19)*100,1))","v":7.3},{"$f":"IF(Balance!GM3=\"-\",\"-\",ROUND((SUM(Balance!GM3,Balance!GM10)/Balance!GM$19)*100,1))","v":6.7},{"$f":"IF(Balance!GN3=\"-\",\"-\",ROUND((SUM(Balance!GN3,Balance!GN10)/Balance!GN$19)*100,1))","v":5.3},{"$f":"IF(Balance!GO3=\"-\",\"-\",ROUND((SUM(Balance!GO3,Balance!GO10)/Balance!GO$19)*100,1))","v":13},{"$f":"IF(Balance!GP3=\"-\",\"-\",ROUND((SUM(Balance!GP3,Balance!GP10)/Balance!GP$19)*100,1))","v":14.4},{"$f":"IF(Balance!GQ3=\"-\",\"-\",ROUND((SUM(Balance!GQ3,Balance!GQ10)/Balance!GQ$19)*100,1))","v":10.3},{"$f":"IF(Balance!GR3=\"-\",\"-\",ROUND((SUM(Balance!GR3,Balance!GR10)/Balance!GR$19)*100,1))","v":7},{"$f":"IF(Balance!GS3=\"-\",\"-\",ROUND((SUM(Balance!GS3,Balance!GS10)/Balance!GS$19)*100,1))","v":6.3},{"$f":"IF(Balance!GT3=\"-\",\"-\",ROUND((SUM(Balance!GT3,Balance!GT10)/Balance!GT$19)*100,1))","v":4.9000000000000004},{"$f":"IF(Balance!GU3=\"-\",\"-\",ROUND((SUM(Balance!GU3,Balance!GU10)/Balance!GU$19)*100,1))","v":5.2},{"$f":"IF(Balance!GV3=\"-\",\"-\",ROUND((SUM(Balance!GV3,Balance!GV10)/Balance!GV$19)*100,1))","v":7.7},{"$f":"IF(Balance!GW3=\"-\",\"-\",ROUND((SUM(Balance!GW3,Balance!GW10)/Balance!GW$19)*100,1))","v":13.9},{"$f":"IF(Balance!GX3=\"-\",\"-\",ROUND((SUM(Balance!GX3,Balance!GX10)/Balance!GX$19)*100,1))","v":20.9},{"$f":"IF(Balance!GY3=\"-\",\"-\",ROUND((SUM(Balance!GY3,Balance!GY10)/Balance!GY$19)*100,1))","v":9.3000000000000007},{"$f":"IF(Balance!GZ3=\"-\",\"-\",ROUND((SUM(Balance!GZ3,Balance!GZ10)/Balance!GZ$19)*100,1))","v":13.8},{"$f":"IF(Balance!HA3=\"-\",\"-\",ROUND((SUM(Balance!HA3,Balance!HA10)/Balance!HA$19)*100,1))","v":16.899999999999999},{"$f":"IF(Balance!HB3=\"-\",\"-\",ROUND((SUM(Balance!HB3,Balance!HB10)/Balance!HB$19)*100,1))","v":13.8},{"$f":"IF(Balance!HC3=\"-\",\"-\",ROUND((SUM(Balance!HC3,Balance!HC10)/Balance!HC$19)*100,1))","v":13},{"$f":"IF(Balance!HD3=\"-\",\"-\",ROUND((SUM(Balance!HD3,Balance!HD10)/Balance!HD$19)*100,1))","v":10.7},{"$f":"IF(Balance!HE3=\"-\",\"-\",ROUND((SUM(Balance!HE3,Balance!HE10)/Balance!HE$19)*100,1))","v":10.5},{"$f":"IF(Balance!HF3=\"-\",\"-\",ROUND((SUM(Balance!HF3,Balance!HF10)/Balance!HF$19)*100,1))","v":8.1},{"$f":"IF(Balance!HG3=\"-\",\"-\",ROUND((SUM(Balance!HG3,Balance!HG10)/Balance!HG$19)*100,1))","v":6.2},{"$f":"IF(Balance!HH3=\"-\",\"-\",ROUND((SUM(Balance!HH3,Balance!HH10)/Balance!HH$19)*100,1))","v":7.5},{"$f":"IF(Balance!HI3=\"-\",\"-\",ROUND((SUM(Balance!HI3,Balance!HI10)/Balance!HI$19)*100,1))","v":5.6},{"$f":"IF(Balance!HJ3=\"-\",\"-\",ROUND((SUM(Balance!HJ3,Balance!HJ10)/Balance!HJ$19)*100,1))","v":4.9000000000000004},{"$f":"IF(Balance!HK3=\"-\",\"-\",ROUND((SUM(Balance!HK3,Balance!HK10)/Balance!HK$19)*100,1))","v":5.5},{"$f":"IF(Balance!HL3=\"-\",\"-\",ROUND((SUM(Balance!HL3,Balance!HL10)/Balance!HL$19)*100,1))","v":4.0999999999999996},{"$f":"IF(Balance!HM3=\"-\",\"-\",ROUND((SUM(Balance!HM3,Balance!HM10)/Balance!HM$19)*100,1))","v":4.5},{"$f":"IF(Balance!HN3=\"-\",\"-\",ROUND((SUM(Balance!HN3,Balance!HN10)/Balance!HN$19)*100,1))","v":11.9},{"$f":"IF(Balance!HO3=\"-\",\"-\",ROUND((SUM(Balance!HO3,Balance!HO10)/Balance!HO$19)*100,1))","v":15.4},{"$f":"IF(Balance!HP3=\"-\",\"-\",ROUND((SUM(Balance!HP3,Balance!HP10)/Balance!HP$19)*100,1))","v":14.2},{"$f":"IF(Balance!HQ3=\"-\",\"-\",ROUND((SUM(Balance!HQ3,Balance!HQ10)/Balance!HQ$19)*100,1))","v":8.9},{"$f":"IF(Balance!HR3=\"-\",\"-\",ROUND((SUM(Balance!HR3,Balance!HR10)/Balance!HR$19)*100,1))","v":6.8},{"$f":"IF(Balance!HS3=\"-\",\"-\",ROUND((SUM(Balance!HS3,Balance!HS10)/Balance!HS$19)*100,1))","v":5.9},{"$f":"IF(Balance!HT3=\"-\",\"-\",ROUND((SUM(Balance!HT3,Balance!HT10)/Balance!HT$19)*100,1))","v":4.9000000000000004},{"$f":"IF(Balance!HU3=\"-\",\"-\",ROUND((SUM(Balance!HU3,Balance!HU10)/Balance!HU$19)*100,1))","v":6.8},{"$f":"IF(Balance!HV3=\"-\",\"-\",ROUND((SUM(Balance!HV3,Balance!HV10)/Balance!HV$19)*100,1))","v":10.199999999999999},{"$f":"IF(Balance!HW3=\"-\",\"-\",ROUND((SUM(Balance!HW3,Balance!HW10)/Balance!HW$19)*100,1))","v":9},{"$f":"IF(Balance!HX3=\"-\",\"-\",ROUND((SUM(Balance!HX3,Balance!HX10)/Balance!HX$19)*100,1))","v":16},{"$f":"IF(Balance!HY3=\"-\",\"-\",ROUND((SUM(Balance!HY3,Balance!HY10)/Balance!HY$19)*100,1))","v":13.1},{"$f":"IF(Balance!HZ3=\"-\",\"-\",ROUND((SUM(Balance!HZ3,Balance!HZ10)/Balance!HZ$19)*100,1))","v":11},{"$f":"IF(Balance!IA3=\"-\",\"-\",ROUND((SUM(Balance!IA3,Balance!IA10)/Balance!IA$19)*100,1))","v":12.7},{"$f":"IF(Balance!IB3=\"-\",\"-\",ROUND((SUM(Balance!IB3,Balance!IB10)/Balance!IB$19)*100,1))","v":9.9},{"$f":"IF(Balance!IC3=\"-\",\"-\",ROUND((SUM(Balance!IC3,Balance!IC10)/Balance!IC$19)*100,1))","v":7.4},{"$f":"IF(Balance!ID3=\"-\",\"-\",ROUND((SUM(Balance!ID3,Balance!ID10)/Balance!ID$19)*100,1))","v":6.5},{"$f":"IF(Balance!IE3=\"-\",\"-\",ROUND((SUM(Balance!IE3,Balance!IE10)/Balance!IE$19)*100,1))","v":4.5999999999999996},{"$f":"IF(Balance!IF3=\"-\",\"-\",ROUND((SUM(Balance!IF3,Balance!IF10)/Balance!IF$19)*100,1))","v":5.8},{"$f":"IF(Balance!IG3=\"-\",\"-\",ROUND((SUM(Balance!IG3,Balance!IG10)/Balance!IG$19)*100,1))","v":9.1999999999999993},{"$f":"IF(Balance!IH3=\"-\",\"-\",ROUND((SUM(Balance!IH3,Balance!IH10)/Balance!IH$19)*100,1))","v":13.6},{"$f":"IF(Balance!II3=\"-\",\"-\",ROUND((SUM(Balance!II3,Balance!II10)/Balance!II$19)*100,1))","v":20.9},{"$f":"IF(Balance!IJ3=\"-\",\"-\",ROUND((SUM(Balance!IJ3,Balance!IJ10)/Balance!IJ$19)*100,1))","v":17.7},{"$f":"IF(Balance!IK3=\"-\",\"-\",ROUND((SUM(Balance!IK3,Balance!IK10)/Balance!IK$19)*100,1))","v":24.3},{"$f":"IF(Balance!IL3=\"-\",\"-\",ROUND((SUM(Balance!IL3,Balance!IL10)/Balance!IL$19)*100,1))","v":22.5},{"$f":"IF(Balance!IM3=\"-\",\"-\",ROUND((SUM(Balance!IM3,Balance!IM10)/Balance!IM$19)*100,1))","v":18.2},{"$f":"IF(Balance!IN3=\"-\",\"-\",ROUND((SUM(Balance!IN3,Balance!IN10)/Balance!IN$19)*100,1))","v":16.5},{"$f":"IF(Balance!IO3=\"-\",\"-\",ROUND((SUM(Balance!IO3,Balance!IO10)/Balance!IO$19)*100,1))","v":11.9},{"$f":"IF(Balance!IP3=\"-\",\"-\",ROUND((SUM(Balance!IP3,Balance!IP10)/Balance!IP$19)*100,1))","v":9.1},{"$f":"IF(Balance!IQ3=\"-\",\"-\",ROUND((SUM(Balance!IQ3,Balance!IQ10)/Balance!IQ$19)*100,1))","v":7},{"$f":"IF(Balance!IR3=\"-\",\"-\",ROUND((SUM(Balance!IR3,Balance!IR10)/Balance!IR$19)*100,1))","v":7.2},{"$f":"IF(Balance!IS3=\"-\",\"-\",ROUND((SUM(Balance!IS3,Balance!IS10)/Balance!IS$19)*100,1))","v":11.4},{"$f":"IF(Balance!IT3=\"-\",\"-\",ROUND((SUM(Balance!IT3,Balance!IT10)/Balance!IT$19)*100,1))","v":16.399999999999999},{"$f":"IF(Balance!IU3=\"-\",\"-\",ROUND((SUM(Balance!IU3,Balance!IU10)/Balance!IU$19)*100,1))","v":20.7},{"$f":"IF(Balance!IV3=\"-\",\"-\",ROUND((SUM(Balance!IV3,Balance!IV10)/Balance!IV$19)*100,1))","v":13.6},{"$f":"IF(Balance!IW3=\"-\",\"-\",ROUND((SUM(Balance!IW3,Balance!IW10)/Balance!IW$19)*100,1))","v":16.100000000000001},{"$f":"IF(Balance!IX3=\"-\",\"-\",ROUND((SUM(Balance!IX3,Balance!IX10)/Balance!IX$19)*100,1))","v":17.100000000000001},{"$f":"IF(Balance!IY3=\"-\",\"-\",ROUND((SUM(Balance!IY3,Balance!IY10)/Balance!IY$19)*100,1))","v":13.5},{"$f":"IF(Balance!IZ3=\"-\",\"-\",ROUND((SUM(Balance!IZ3,Balance!IZ10)/Balance!IZ$19)*100,1))","v":9.6999999999999993},{"$f":"IF(Balance!JA3=\"-\",\"-\",ROUND((SUM(Balance!JA3,Balance!JA10)/Balance!JA$19)*100,1))","v":7.3},{"$f":"IF(Balance!JB3=\"-\",\"-\",ROUND((SUM(Balance!JB3,Balance!JB10)/Balance!JB$19)*100,1))","v":7},{"$f":"IF(Balance!JC3=\"-\",\"-\",ROUND((SUM(Balance!JC3,Balance!JC10)/Balance!JC$19)*100,1))","v":5.6},{"$f":"IF(Balance!JD3=\"-\",\"-\",ROUND((SUM(Balance!JD3,Balance!JD10)/Balance!JD$19)*100,1))","v":5.9},{"$f":"IF(Balance!JE3=\"-\",\"-\",ROUND((SUM(Balance!JE3,Balance!JE10)/Balance!JE$19)*100,1))","v":10},{"$f":"IF(Balance!JF3=\"-\",\"-\",ROUND((SUM(Balance!JF3,Balance!JF10)/Balance!JF$19)*100,1))","v":9.6},{"$f":"IF(Balance!JG3=\"-\",\"-\",ROUND((SUM(Balance!JG3,Balance!JG10)/Balance!JG$19)*100,1))","v":6.8},{"$f":"IF(Balance!JH3=\"-\",\"-\",ROUND((SUM(Balance!JH3,Balance!JH10)/Balance!JH$19)*100,1))","v":4.9000000000000004},{"$f":"IF(Balance!JI3=\"-\",\"-\",ROUND((SUM(Balance!JI3,Balance!JI10)/Balance!JI$19)*100,1))","v":5.8},{"$f":"IF(Balance!JJ3=\"-\",\"-\",ROUND((SUM(Balance!JJ3,Balance!JJ10)/Balance!JJ$19)*100,1))","v":8.1999999999999993},{"$f":"IF(Balance!JK3=\"-\",\"-\",ROUND((SUM(Balance!JK3,Balance!JK10)/Balance!JK$19)*100,1))","v":11.8},{"$f":"IF(Balance!JL3=\"-\",\"-\",ROUND((SUM(Balance!JL3,Balance!JL10)/Balance!JL$19)*100,1))","v":9.6999999999999993},{"$f":"IF(Balance!JM3=\"-\",\"-\",ROUND((SUM(Balance!JM3,Balance!JM10)/Balance!JM$19)*100,1))","v":7.4},{"$f":"IF(Balance!JN3=\"-\",\"-\",ROUND((SUM(Balance!JN3,Balance!JN10)/Balance!JN$19)*100,1))","v":5.9},{"$f":"IF(Balance!JO3=\"-\",\"-\",ROUND((SUM(Balance!JO3,Balance!JO10)/Balance!JO$19)*100,1))","v":4.8},{"$f":"IF(Balance!JP3=\"-\",\"-\",ROUND((SUM(Balance!JP3,Balance!JP10)/Balance!JP$19)*100,1))","v":6.4},{"$f":"IF(Balance!JQ3=\"-\",\"-\",ROUND((SUM(Balance!JQ3,Balance!JQ10)/Balance!JQ$19)*100,1))","v":9.1999999999999993},{"$f":"IF(Balance!JR3=\"-\",\"-\",ROUND((SUM(Balance!JR3,Balance!JR10)/Balance!JR$19)*100,1))","v":11.5},{"$f":"IF(Balance!JS3=\"-\",\"-\",ROUND((SUM(Balance!JS3,Balance!JS10)/Balance!JS$19)*100,1))","v":12.7},{"$f":"IF(Balance!JT3=\"-\",\"-\",ROUND((SUM(Balance!JT3,Balance!JT10)/Balance!JT$19)*100,1))","v":16.3},{"$f":"IF(Balance!JU3=\"-\",\"-\",ROUND((SUM(Balance!JU3,Balance!JU10)/Balance!JU$19)*100,1))","v":20.3},{"$f":"IF(Balance!JV3=\"-\",\"-\",ROUND((SUM(Balance!JV3,Balance!JV10)/Balance!JV$19)*100,1))","v":25.8},{"$f":"IF(Balance!JW3=\"-\",\"-\",ROUND((SUM(Balance!JW3,Balance!JW10)/Balance!JW$19)*100,1))","v":18.899999999999999},{"$f":"IF(Balance!JX3=\"-\",\"-\",ROUND((SUM(Balance!JX3,Balance!JX10)/Balance!JX$19)*100,1))","v":16},{"$f":"IF(Balance!JY3=\"-\",\"-\",ROUND((SUM(Balance!JY3,Balance!JY10)/Balance!JY$19)*100,1))","v":11.8},{"$f":"IF(Balance!JZ3=\"-\",\"-\",ROUND((SUM(Balance!JZ3,Balance!JZ10)/Balance!JZ$19)*100,1))","v":10},{"$f":"IF(Balance!KA3=\"-\",\"-\",ROUND((SUM(Balance!KA3,Balance!KA10)/Balance!KA$19)*100,1))","v":8.8000000000000007},{"$f":"IF(Balance!KB3=\"-\",\"-\",ROUND((SUM(Balance!KB3,Balance!KB10)/Balance!KB$19)*100,1))","v":8.9},{"$f":"IF(Balance!KC3=\"-\",\"-\",ROUND((SUM(Balance!KC3,Balance!KC10)/Balance!KC$19)*100,1))","v":12.8},{"$f":"IF(Balance!KD3=\"-\",\"-\",ROUND((SUM(Balance!KD3,Balance!KD10)/Balance!KD$19)*100,1))","v":10.7},{"$f":"IF(Balance!KE3=\"-\",\"-\",ROUND((SUM(Balance!KE3,Balance!KE10)/Balance!KE$19)*100,1))","v":18.5},{"$f":"IF(Balance!KF3=\"-\",\"-\",ROUND((SUM(Balance!KF3,Balance!KF10)/Balance!KF$19)*100,1))","v":26.7},{"$f":"IF(Balance!KG3=\"-\",\"-\",ROUND((SUM(Balance!KG3,Balance!KG10)/Balance!KG$19)*100,1))","v":24.3},{"$f":"IF(Balance!KH3=\"-\",\"-\",ROUND((SUM(Balance!KH3,Balance!KH10)/Balance!KH$19)*100,1))","v":24.7},{"$f":"IF(Balance!KI3=\"-\",\"-\",ROUND((SUM(Balance!KI3,Balance!KI10)/Balance!KI$19)*100,1))","v":13.9},{"$f":"IF(Balance!KJ3=\"-\",\"-\",ROUND((SUM(Balance!KJ3,Balance!KJ10)/Balance!KJ$19)*100,1))","v":12.2},{"$f":"IF(Balance!KK3=\"-\",\"-\",ROUND((SUM(Balance!KK3,Balance!KK10)/Balance!KK$19)*100,1))","v":10.7},{"$f":"IF(Balance!KL3=\"-\",\"-\",ROUND((SUM(Balance!KL3,Balance!KL10)/Balance!KL$19)*100,1))","v":9.8000000000000007},{"$f":"IF(Balance!KM3=\"-\",\"-\",ROUND((SUM(Balance!KM3,Balance!KM10)/Balance!KM$19)*100,1))","v":8.6},{"$f":"IF(Balance!KN3=\"-\",\"-\",ROUND((SUM(Balance!KN3,Balance!KN10)/Balance!KN$19)*100,1))","v":8},{"$f":"IF(Balance!KO3=\"-\",\"-\",ROUND((SUM(Balance!KO3,Balance!KO10)/Balance!KO$19)*100,1))","v":12.1},{"$f":"IF(Balance!KP3=\"-\",\"-\",ROUND((SUM(Balance!KP3,Balance!KP10)/Balance!KP$19)*100,1))","v":14.8},{"$f":"IF(Balance!KQ3=\"-\",\"-\",ROUND((SUM(Balance!KQ3,Balance!KQ10)/Balance!KQ$19)*100,1))","v":10.9},{"$f":"IF(Balance!KR3=\"-\",\"-\",ROUND((SUM(Balance!KR3,Balance!KR10)/Balance!KR$19)*100,1))","v":16},{"$f":"IF(Balance!KS3=\"-\",\"-\",ROUND((SUM(Balance!KS3,Balance!KS10)/Balance!KS$19)*100,1))","v":17.3},{"$f":"IF(Balance!KT3=\"-\",\"-\",ROUND((SUM(Balance!KT3,Balance!KT10)/Balance!KT$19)*100,1))","v":13.5},{"$f":"IF(Balance!KU3=\"-\",\"-\",ROUND((SUM(Balance!KU3,Balance!KU10)/Balance!KU$19)*100,1))","v":14.6},{"$f":"IF(Balance!KV3=\"-\",\"-\",ROUND((SUM(Balance!KV3,Balance!KV10)/Balance!KV$19)*100,1))","v":12},{"$f":"IF(Balance!KW3=\"-\",\"-\",ROUND((SUM(Balance!KW3,Balance!KW10)/Balance!KW$19)*100,1))","v":8.6},{"$f":"IF(Balance!KX3=\"-\",\"-\",ROUND((SUM(Balance!KX3,Balance!KX10)/Balance!KX$19)*100,1))","v":7.6},{"$f":"IF(Balance!KY3=\"-\",\"-\",ROUND((SUM(Balance!KY3,Balance!KY10)/Balance!KY$19)*100,1))","v":8},{"$f":"IF(Balance!KZ3=\"-\",\"-\",ROUND((SUM(Balance!KZ3,Balance!KZ10)/Balance!KZ$19)*100,1))","v":8.3000000000000007},{"$f":"IF(Balance!LA3=\"-\",\"-\",ROUND((SUM(Balance!LA3,Balance!LA10)/Balance!LA$19)*100,1))","v":9.5},{"$f":"IF(Balance!LB3=\"-\",\"-\",ROUND((SUM(Balance!LB3,Balance!LB10)/Balance!LB$19)*100,1))","v":7},{"$f":"IF(Balance!LC3=\"-\",\"-\",ROUND((SUM(Balance!LC3,Balance!LC10)/Balance!LC$19)*100,1))","v":15.9},{"$f":"IF(Balance!LD3=\"-\",\"-\",ROUND((SUM(Balance!LD3,Balance!LD10)/Balance!LD$19)*100,1))","v":19.2},{"$f":"IF(Balance!LE3=\"-\",\"-\",ROUND((SUM(Balance!LE3,Balance!LE10)/Balance!LE$19)*100,1))","v":19.8},{"$f":"IF(Balance!LF3=\"-\",\"-\",ROUND((SUM(Balance!LF3,Balance!LF10)/Balance!LF$19)*100,1))","v":25.3},{"$f":"IF(Balance!LG3=\"-\",\"-\",ROUND((SUM(Balance!LG3,Balance!LG10)/Balance!LG$19)*100,1))","v":26},{"$f":"IF(Balance!LH3=\"-\",\"-\",ROUND((SUM(Balance!LH3,Balance!LH10)/Balance!LH$19)*100,1))","v":15.1},{"$f":"IF(Balance!LI3=\"-\",\"-\",ROUND((SUM(Balance!LI3,Balance!LI10)/Balance!LI$19)*100,1))","v":10.5},{"$f":"IF(Balance!LJ3=\"-\",\"-\",ROUND((SUM(Balance!LJ3,Balance!LJ10)/Balance!LJ$19)*100,1))","v":9.8000000000000007},{"$f":"IF(Balance!LK3=\"-\",\"-\",ROUND((SUM(Balance!LK3,Balance!LK10)/Balance!LK$19)*100,1))","v":8.3000000000000007},{"$f":"IF(Balance!LL3=\"-\",\"-\",ROUND((SUM(Balance!LL3,Balance!LL10)/Balance!LL$19)*100,1))","v":7.9},{"$f":"IF(Balance!LM3=\"-\",\"-\",ROUND((SUM(Balance!LM3,Balance!LM10)/Balance!LM$19)*100,1))","v":7.2},{"$f":"IF(Balance!LN3=\"-\",\"-\",ROUND((SUM(Balance!LN3,Balance!LN10)/Balance!LN$19)*100,1))","v":8.9},{"$f":"IF(Balance!LO3=\"-\",\"-\",ROUND((SUM(Balance!LO3,Balance!LO10)/Balance!LO$19)*100,1))","v":8.5},{"$f":"IF(Balance!LP3=\"-\",\"-\",ROUND((SUM(Balance!LP3,Balance!LP10)/Balance!LP$19)*100,1))","v":9.8000000000000007},{"$f":"IF(Balance!LQ3=\"-\",\"-\",ROUND((SUM(Balance!LQ3,Balance!LQ10)/Balance!LQ$19)*100,1))","v":13.4},{"$f":"IF(Balance!LR3=\"-\",\"-\",ROUND((SUM(Balance!LR3,Balance!LR10)/Balance!LR$19)*100,1))","v":9.4},{"$f":"IF(Balance!LS3=\"-\",\"-\",ROUND((SUM(Balance!LS3,Balance!LS10)/Balance!LS$19)*100,1))","v":10.1},{"$f":"IF(Balance!LT3=\"-\",\"-\",ROUND((SUM(Balance!LT3,Balance!LT10)/Balance!LT$19)*100,1))","v":7.8},{"$f":"IF(Balance!LU3=\"-\",\"-\",ROUND((SUM(Balance!LU3,Balance!LU10)/Balance!LU$19)*100,1))","v":5.6},{"$f":"IF(Balance!LV3=\"-\",\"-\",ROUND((SUM(Balance!LV3,Balance!LV10)/Balance!LV$19)*100,1))","v":5.3},{"$f":"IF(Balance!LW3=\"-\",\"-\",ROUND((SUM(Balance!LW3,Balance!LW10)/Balance!LW$19)*100,1))","v":6.2},{"$f":"IF(Balance!LX3=\"-\",\"-\",ROUND((SUM(Balance!LX3,Balance!LX10)/Balance!LX$19)*100,1))","v":4.0999999999999996},{"$f":"IF(Balance!LY3=\"-\",\"-\",ROUND((SUM(Balance!LY3,Balance!LY10)/Balance!LY$19)*100,1))","v":3.9},{"$f":"IF(Balance!LZ3=\"-\",\"-\",ROUND((SUM(Balance!LZ3,Balance!LZ10)/Balance!LZ$19)*100,1))","v":5.4},{"$f":"IF(Balance!MA3=\"-\",\"-\",ROUND((SUM(Balance!MA3,Balance!MA10)/Balance!MA$19)*100,1))","v":9.9},{"$f":"IF(Balance!MB3=\"-\",\"-\",ROUND((SUM(Balance!MB3,Balance!MB10)/Balance!MB$19)*100,1))","v":"-"},{"$f":"IF(Balance!MC3=\"-\",\"-\",ROUND((SUM(Balance!MC3,Balance!MC10)/Balance!MC$19)*100,1))","v":"-"},{"$f":"IF(Balance!MD3=\"-\",\"-\",ROUND((SUM(Balance!MD3,Balance!MD10)/Balance!MD$19)*100,1))","v":"-"},{"$f":"IF(Balance!ME3=\"-\",\"-\",ROUND((SUM(Balance!ME3,Balance!ME10)/Balance!ME$19)*100,1))","v":"-"},{"$f":"IF(Balance!MF3=\"-\",\"-\",ROUND((SUM(Balance!MF3,Balance!MF10)/Balance!MF$19)*100,1))","v":"-"},{"$f":"IF(Balance!MG3=\"-\",\"-\",ROUND((SUM(Balance!MG3,Balance!MG10)/Balance!MG$19)*100,1))","v":"-"},{"$f":"IF(Balance!MH3=\"-\",\"-\",ROUND((SUM(Balance!MH3,Balance!MH10)/Balance!MH$19)*100,1))","v":"-"},{"$f":"IF(Balance!MI3=\"-\",\"-\",ROUND((SUM(Balance!MI3,Balance!MI10)/Balance!MI$19)*100,1))","v":"-"},{"$f":"IF(Balance!MJ3=\"-\",\"-\",ROUND((SUM(Balance!MJ3,Balance!MJ10)/Balance!MJ$19)*100,1))","v":"-"},{"$f":"IF(Balance!MK3=\"-\",\"-\",ROUND((SUM(Balance!MK3,Balance!MK10)/Balance!MK$19)*100,1))","v":"-"},{"$f":"IF(Balance!ML3=\"-\",\"-\",ROUND((SUM(Balance!ML3,Balance!ML10)/Balance!ML$19)*100,1))","v":"-"}]
[null,"Turbinación bombeo",{"$f":"IF(Balance!C4=\"-\",\"-\",ROUND((Balance!C4/Balance!C$19)*100,1))","v":1.2},{"$f":"IF(Balance!D4=\"-\",\"-\",ROUND((Balance!D4/Balance!D$19)*100,1))","v":0.8},{"$f":"IF(Balance!E4=\"-\",\"-\",ROUND((Balance!E4/Balance!E$19)*100,1))","v":0.1},{"$f":"IF(Balance!F4=\"-\",\"-\",ROUND((Balance!F4/Balance!F$19)*100,1))","v":0.2},{"$f":"IF(Balance!G4=\"-\",\"-\",ROUND((Balance!G4/Balance!G$19)*100,1))","v":0.3},{"$f":"IF(Balance!H4=\"-\",\"-\",ROUND((Balance!H4/Balance!H$19)*100,1))","v":0.1},{"$f":"IF(Balance!I4=\"-\",\"-\",ROUND((Balance!I4/Balance!I$19)*100,1))","v":0.1},{"$f":"IF(Balance!J4=\"-\",\"-\",ROUND((Balance!J4/Balance!J$19)*100,1))","v":0.3},{"$f":"IF(Balance!K4=\"-\",\"-\",ROUND((Balance!K4/Balance!K$19)*100,1))","v":1},{"$f":"IF(Balance!L4=\"-\",\"-\",ROUND((Balance!L4/Balance!L$19)*100,1))","v":1},{"$f":"IF(Balance!M4=\"-\",\"-\",ROUND((Balance!M4/Balance!M$19)*100,1))","v":0.3},{"$f":"IF(Balance!N4=\"-\",\"-\",ROUND((Balance!N4/Balance!N$19)*100,1))","v":0.8},{"$f":"IF(Balance!O4=\"-\",\"-\",ROUND((Balance!O4/Balance!O$19)*100,1))","v":1.4},{"$f":"IF(Balance!P4=\"-\",\"-\",ROUND((Balance!P4/Balance!P$19)*100,1))","v":1.2},{"$f":"IF(Balance!Q4=\"-\",\"-\",ROUND((Balance!Q4/Balance!Q$19)*100,1))","v":1},{"$f":"IF(Balance!R4=\"-\",\"-\",ROUND((Balance!R4/Balance!R$19)*100,1))","v":0.1},{"$f":"IF(Balance!S4=\"-\",\"-\",ROUND((Balance!S4/Balance!S$19)*100,1))","v":0.1},{"$f":"IF(Balance!T4=\"-\",\"-\",ROUND((Balance!T4/Balance!T$19)*100,1))","v":0.3},{"$f":"IF(Balance!U4=\"-\",\"-\",ROUND((Balance!U4/Balance!U$19)*100,1))","v":0.3},{"$f":"IF(Balance!V4=\"-\",\"-\",ROUND((Balance!V4/Balance!V$19)*100,1))","v":0.5},{"$f":"IF(Balance!W4=\"-\",\"-\",ROUND((Balance!W4/Balance!W$19)*100,1))","v":0.7},{"$f":"IF(Balance!X4=\"-\",\"-\",ROUND((Balance!X4/Balance!X$19)*100,1))","v":0.5},{"$f":"IF(Balance!Y4=\"-\",\"-\",ROUND((Balance!Y4/Balance!Y$19)*100,1))","v":1.1000000000000001},{"$f":"IF(Balance!Z4=\"-\",\"-\",ROUND((Balance!Z4/Balance!Z$19)*100,1))","v":1.1000000000000001},{"$f":"IF(Balance!AA4=\"-\",\"-\",ROUND((Balance!AA4/Balance!AA$19)*100,1))","v":1.3},{"$f":"IF(Balance!AB4=\"-\",\"-\",ROUND((Balance!AB4/Balance!AB$19)*100,1))","v":0.8},{"$f":"IF(Balance!AC4=\"-\",\"-\",ROUND((Balance!AC4/Balance!AC$19)*100,1))","v":0.9},{"$f":"IF(Balance!AD4=\"-\",\"-\",ROUND((Balance!AD4/Balance!AD$19)*100,1))","v":1.8},{"$f":"IF(Balance!AE4=\"-\",\"-\",ROUND((Balance!AE4/Balance!AE$19)*100,1))","v":1.2},{"$f":"IF(Balance!AF4=\"-\",\"-\",ROUND((Balance!AF4/Balance!AF$19)*100,1))","v":1.6},{"$f":"IF(Balance!AG4=\"-\",\"-\",ROUND((Balance!AG4/Balance!AG$19)*100,1))","v":1.6},{"$f":"IF(Balance!AH4=\"-\",\"-\",ROUND((Balance!AH4/Balance!AH$19)*100,1))","v":1.8},{"$f":"IF(Balance!AI4=\"-\",\"-\",ROUND((Balance!AI4/Balance!AI$19)*100,1))","v":1.7},{"$f":"IF(Balance!AJ4=\"-\",\"-\",ROUND((Balance!AJ4/Balance!AJ$19)*100,1))","v":1.7},{"$f":"IF(Balance!AK4=\"-\",\"-\",ROUND((Balance!AK4/Balance!AK$19)*100,1))","v":1.1000000000000001},{"$f":"IF(Balance!AL4=\"-\",\"-\",ROUND((Balance!AL4/Balance!AL$19)*100,1))","v":1},{"$f":"IF(Balance!AM4=\"-\",\"-\",ROUND((Balance!AM4/Balance!AM$19)*100,1))","v":0.7},{"$f":"IF(Balance!AN4=\"-\",\"-\",ROUND((Balance!AN4/Balance!AN$19)*100,1))","v":0.7},{"$f":"IF(Balance!AO4=\"-\",\"-\",ROUND((Balance!AO4/Balance!AO$19)*100,1))","v":1.1000000000000001},{"$f":"IF(Balance!AP4=\"-\",\"-\",ROUND((Balance!AP4/Balance!AP$19)*100,1))","v":1.3},{"$f":"IF(Balance!AQ4=\"-\",\"-\",ROUND((Balance!AQ4/Balance!AQ$19)*100,1))","v":1.4},{"$f":"IF(Balance!AR4=\"-\",\"-\",ROUND((Balance!AR4/Balance!AR$19)*100,1))","v":0.8},{"$f":"IF(Balance!AS4=\"-\",\"-\",ROUND((Balance!AS4/Balance!AS$19)*100,1))","v":0.8},{"$f":"IF(Balance!AT4=\"-\",\"-\",ROUND((Balance!AT4/Balance!AT$19)*100,1))","v":1.2},{"$f":"IF(Balance!AU4=\"-\",\"-\",ROUND((Balance!AU4/Balance!AU$19)*100,1))","v":1.2},{"$f":"IF(Balance!AV4=\"-\",\"-\",ROUND((Balance!AV4/Balance!AV$19)*100,1))","v":1.1000000000000001},{"$f":"IF(Balance!AW4=\"-\",\"-\",ROUND((Balance!AW4/Balance!AW$19)*100,1))","v":0.5},{"$f":"IF(Balance!AX4=\"-\",\"-\",ROUND((Balance!AX4/Balance!AX$19)*100,1))","v":0.4},{"$f":"IF(Balance!AY4=\"-\",\"-\",ROUND((Balance!AY4/Balance!AY$19)*100,1))","v":1.6},{"$f":"IF(Balance!AZ4=\"-\",\"-\",ROUND((Balance!AZ4/Balance!AZ$19)*100,1))","v":0.7},{"$f":"IF(Balance!BA4=\"-\",\"-\",ROUND((Balance!BA4/Balance!BA$19)*100,1))","v":0.1},{"$f":"IF(Balance!BB4=\"-\",\"-\",ROUND((Balance!BB4/Balance!BB$19)*100,1))","v":0.2},{"$f":"IF(Balance!BC4=\"-\",\"-\",ROUND((Balance!BC4/Balance!BC$19)*100,1))","v":0.3},{"$f":"IF(Balance!BD4=\"-\",\"-\",ROUND((Balance!BD4/Balance!BD$19)*100,1))","v":0.2},{"$f":"IF(Balance!BE4=\"-\",\"-\",ROUND((Balance!BE4/Balance!BE$19)*100,1))","v":0.6},{"$f":"IF(Balance!BF4=\"-\",\"-\",ROUND((Balance!BF4/Balance!BF$19)*100,1))","v":0.2},{"$f":"IF(Balance!BG4=\"-\",\"-\",ROUND((Balance!BG4/Balance!BG$19)*100,1))","v":1},{"$f":"IF(Balance!BH4=\"-\",\"-\",ROUND((Balance!BH4/Balance!BH$19)*100,1))","v":1.1000000000000001},{"$f":"IF(Balance!BI4=\"-\",\"-\",ROUND((Balance!BI4/Balance!BI$19)*100,1))","v":0.7},{"$f":"IF(Balance!BJ4=\"-\",\"-\",ROUND((Balance!BJ4/Balance!BJ$19)*100,1))","v":0.9},{"$f":"IF(Balance!BK4=\"-\",\"-\",ROUND((Balance!BK4/Balance!BK$19)*100,1))","v":1.2},{"$f":"IF(Balance!BL4=\"-\",\"-\",ROUND((Balance!BL4/Balance!BL$19)*100,1))","v":0.9},{"$f":"IF(Balance!BM4=\"-\",\"-\",ROUND((Balance!BM4/Balance!BM$19)*100,1))","v":0.8},{"$f":"IF(Balance!BN4=\"-\",\"-\",ROUND((Balance!BN4/Balance!BN$19)*100,1))","v":0.8},{"$f":"IF(Balance!BO4=\"-\",\"-\",ROUND((Balance!BO4/Balance!BO$19)*100,1))","v":0.7},{"$f":"IF(Balance!BP4=\"-\",\"-\",ROUND((Balance!BP4/Balance!BP$19)*100,1))","v":0.7},{"$f":"IF(Balance!BQ4=\"-\",\"-\",ROUND((Balance!BQ4/Balance!BQ$19)*100,1))","v":0.9},{"$f":"IF(Balance!BR4=\"-\",\"-\",ROUND((Balance!BR4/Balance!BR$19)*100,1))","v":0.9},{"$f":"IF(Balance!BS4=\"-\",\"-\",ROUND((Balance!BS4/Balance!BS$19)*100,1))","v":1},{"$f":"IF(Balance!BT4=\"-\",\"-\",ROUND((Balance!BT4/Balance!BT$19)*100,1))","v":1},{"$f":"IF(Balance!BU4=\"-\",\"-\",ROUND((Balance!BU4/Balance!BU$19)*100,1))","v":0.9},{"$f":"IF(Balance!BV4=\"-\",\"-\",ROUND((Balance!BV4/Balance!BV$19)*100,1))","v":1.7},{"$f":"IF(Balance!BW4=\"-\",\"-\",ROUND((Balance!BW4/Balance!BW$19)*100,1))","v":3.6},{"$f":"IF(Balance!BX4=\"-\",\"-\",ROUND((Balance!BX4/Balance!BX$19)*100,1))","v":1},{"$f":"IF(Balance!BY4=\"-\",\"-\",ROUND((Balance!BY4/Balance!BY$19)*100,1))","v":0.2},{"$f":"IF(Balance!BZ4=\"-\",\"-\",ROUND((Balance!BZ4/Balance!BZ$19)*100,1))","v":0.2},{"$f":"IF(Balance!CA4=\"-\",\"-\",ROUND((Balance!CA4/Balance!CA$19)*100,1))","v":0.2},{"$f":"IF(Balance!CB4=\"-\",\"-\",ROUND((Balance!CB4/Balance!CB$19)*100,1))","v":0.4},{"$f":"IF(Balance!CC4=\"-\",\"-\",ROUND((Balance!CC4/Balance!CC$19)*100,1))","v":0.4},{"$f":"IF(Balance!CD4=\"-\",\"-\",ROUND((Balance!CD4/Balance!CD$19)*100,1))","v":0.1},{"$f":"IF(Balance!CE4=\"-\",\"-\",ROUND((Balance!CE4/Balance!CE$19)*100,1))","v":0.1},{"$f":"IF(Balance!CF4=\"-\",\"-\",ROUND((Balance!CF4/Balance!CF$19)*100,1))","v":0.2},{"$f":"IF(Balance!CG4=\"-\",\"-\",ROUND((Balance!CG4/Balance!CG$19)*100,1))","v":0.4},{"$f":"IF(Balance!CH4=\"-\",\"-\",ROUND((Balance!CH4/Balance!CH$19)*100,1))","v":0.9},{"$f":"IF(Balance!CI4=\"-\",\"-\",ROUND((Balance!CI4/Balance!CI$19)*100,1))","v":1.1000000000000001},{"$f":"IF(Balance!CJ4=\"-\",\"-\",ROUND((Balance!CJ4/Balance!CJ$19)*100,1))","v":0.2},{"$f":"IF(Balance!CK4=\"-\",\"-\",ROUND((Balance!CK4/Balance!CK$19)*100,1))","v":0.1},{"$f":"IF(Balance!CL4=\"-\",\"-\",ROUND((Balance!CL4/Balance!CL$19)*100,1))","v":0.1},{"$f":"IF(Balance!CM4=\"-\",\"-\",ROUND((Balance!CM4/Balance!CM$19)*100,1))","v":0.4},{"$f":"IF(Balance!CN4=\"-\",\"-\",ROUND((Balance!CN4/Balance!CN$19)*100,1))","v":0.4},{"$f":"IF(Balance!CO4=\"-\",\"-\",ROUND((Balance!CO4/Balance!CO$19)*100,1))","v":0.6},{"$f":"IF(Balance!CP4=\"-\",\"-\",ROUND((Balance!CP4/Balance!CP$19)*100,1))","v":0.9},{"$f":"IF(Balance!CQ4=\"-\",\"-\",ROUND((Balance!CQ4/Balance!CQ$19)*100,1))","v":1},{"$f":"IF(Balance!CR4=\"-\",\"-\",ROUND((Balance!CR4/Balance!CR$19)*100,1))","v":0.7},{"$f":"IF(Balance!CS4=\"-\",\"-\",ROUND((Balance!CS4/Balance!CS$19)*100,1))","v":1.3},{"$f":"IF(Balance!CT4=\"-\",\"-\",ROUND((Balance!CT4/Balance!CT$19)*100,1))","v":1.7},{"$f":"IF(Balance!CU4=\"-\",\"-\",ROUND((Balance!CU4/Balance!CU$19)*100,1))","v":1.3},{"$f":"IF(Balance!CV4=\"-\",\"-\",ROUND((Balance!CV4/Balance!CV$19)*100,1))","v":0.7},{"$f":"IF(Balance!CW4=\"-\",\"-\",ROUND((Balance!CW4/Balance!CW$19)*100,1))","v":0.6},{"$f":"IF(Balance!CX4=\"-\",\"-\",ROUND((Balance!CX4/Balance!CX$19)*100,1))","v":1.1000000000000001},{"$f":"IF(Balance!CY4=\"-\",\"-\",ROUND((Balance!CY4/Balance!CY$19)*100,1))","v":0.9},{"$f":"IF(Balance!CZ4=\"-\",\"-\",ROUND((Balance!CZ4/Balance!CZ$19)*100,1))","v":0.6},{"$f":"IF(Balance!DA4=\"-\",\"-\",ROUND((Balance!DA4/Balance!DA$19)*100,1))","v":0.9},{"$f":"IF(Balance!DB4=\"-\",\"-\",ROUND((Balance!DB4/Balance!DB$19)*100,1))","v":1.6},{"$f":"IF(Balance!DC4=\"-\",\"-\",ROUND((Balance!DC4/Balance!DC$19)*100,1))","v":0.9},{"$f":"IF(Balance!DD4=\"-\",\"-\",ROUND((Balance!DD4/Balance!DD$19)*100,1))","v":0.8},{"$f":"IF(Balance!DE4=\"-\",\"-\",ROUND((Balance!DE4/Balance!DE$19)*100,1))","v":1},{"$f":"IF(Balance!DF4=\"-\",\"-\",ROUND((Balance!DF4/Balance!DF$19)*100,1))","v":1.9},{"$f":"IF(Balance!DG4=\"-\",\"-\",ROUND((Balance!DG4/Balance!DG$19)*100,1))","v":2},{"$f":"IF(Balance!DH4=\"-\",\"-\",ROUND((Balance!DH4/Balance!DH$19)*100,1))","v":1.6},{"$f":"IF(Balance!DI4=\"-\",\"-\",ROUND((Balance!DI4/Balance!DI$19)*100,1))","v":1.1000000000000001},{"$f":"IF(Balance!DJ4=\"-\",\"-\",ROUND((Balance!DJ4/Balance!DJ$19)*100,1))","v":1.1000000000000001},{"$f":"IF(Balance!DK4=\"-\",\"-\",ROUND((Balance!DK4/Balance!DK$19)*100,1))","v":1.1000000000000001},{"$f":"IF(Balance!DL4=\"-\",\"-\",ROUND((Balance!DL4/Balance!DL$19)*100,1))","v":0.8},{"$f":"IF(Balance!DM4=\"-\",\"-\",ROUND((Balance!DM4/Balance!DM$19)*100,1))","v":0.9},{"$f":"IF(Balance!DN4=\"-\",\"-\",ROUND((Balance!DN4/Balance!DN$19)*100,1))","v":1.3},{"$f":"IF(Balance!DO4=\"-\",\"-\",ROUND((Balance!DO4/Balance!DO$19)*100,1))","v":1.6},{"$f":"IF(Balance!DP4=\"-\",\"-\",ROUND((Balance!DP4/Balance!DP$19)*100,1))","v":2.2999999999999998},{"$f":"IF(Balance!DQ4=\"-\",\"-\",ROUND((Balance!DQ4/Balance!DQ$19)*100,1))","v":1.4},{"$f":"IF(Balance!DR4=\"-\",\"-\",ROUND((Balance!DR4/Balance!DR$19)*100,1))","v":1.6},{"$f":"IF(Balance!DS4=\"-\",\"-\",ROUND((Balance!DS4/Balance!DS$19)*100,1))","v":1.4},{"$f":"IF(Balance!DT4=\"-\",\"-\",ROUND((Balance!DT4/Balance!DT$19)*100,1))","v":1.4},{"$f":"IF(Balance!DU4=\"-\",\"-\",ROUND((Balance!DU4/Balance!DU$19)*100,1))","v":1.5},{"$f":"IF(Balance!DV4=\"-\",\"-\",ROUND((Balance!DV4/Balance!DV$19)*100,1))","v":2.4},{"$f":"IF(Balance!DW4=\"-\",\"-\",ROUND((Balance!DW4/Balance!DW$19)*100,1))","v":2.8},{"$f":"IF(Balance!DX4=\"-\",\"-\",ROUND((Balance!DX4/Balance!DX$19)*100,1))","v":1.4},{"$f":"IF(Balance!DY4=\"-\",\"-\",ROUND((Balance!DY4/Balance!DY$19)*100,1))","v":1.4},{"$f":"IF(Balance!DZ4=\"-\",\"-\",ROUND((Balance!DZ4/Balance!DZ$19)*100,1))","v":1.1000000000000001},{"$f":"IF(Balance!EA4=\"-\",\"-\",ROUND((Balance!EA4/Balance!EA$19)*100,1))","v":1.1000000000000001},{"$f":"IF(Balance!EB4=\"-\",\"-\",ROUND((Balance!EB4/Balance!EB$19)*100,1))","v":1.6},{"$f":"IF(Balance!EC4=\"-\",\"-\",ROUND((Balance!EC4/Balance!EC$19)*100,1))","v":1.9},{"$f":"IF(Balance!ED4=\"-\",\"-\",ROUND((Balance!ED4/Balance!ED$19)*100,1))","v":3.1},{"$f":"IF(Balance!EE4=\"-\",\"-\",ROUND((Balance!EE4/Balance!EE$19)*100,1))","v":2},{"$f":"IF(Balance!EF4=\"-\",\"-\",ROUND((Balance!EF4/Balance!EF$19)*100,1))","v":1.3},{"$f":"IF(Balance!EG4=\"-\",\"-\",ROUND((Balance!EG4/Balance!EG$19)*100,1))","v":1.5},{"$f":"IF(Balance!EH4=\"-\",\"-\",ROUND((Balance!EH4/Balance!EH$19)*100,1))","v":0.9},{"$f":"IF(Balance!EI4=\"-\",\"-\",ROUND((Balance!EI4/Balance!EI$19)*100,1))","v":0.9},{"$f":"IF(Balance!EJ4=\"-\",\"-\",ROUND((Balance!EJ4/Balance!EJ$19)*100,1))","v":1.1000000000000001},{"$f":"IF(Balance!EK4=\"-\",\"-\",ROUND((Balance!EK4/Balance!EK$19)*100,1))","v":1.2},{"$f":"IF(Balance!EL4=\"-\",\"-\",ROUND((Balance!EL4/Balance!EL$19)*100,1))","v":1.2},{"$f":"IF(Balance!EM4=\"-\",\"-\",ROUND((Balance!EM4/Balance!EM$19)*100,1))","v":1.6},{"$f":"IF(Balance!EN4=\"-\",\"-\",ROUND((Balance!EN4/Balance!EN$19)*100,1))","v":1.5},{"$f":"IF(Balance!EO4=\"-\",\"-\",ROUND((Balance!EO4/Balance!EO$19)*100,1))","v":1.3},{"$f":"IF(Balance!EP4=\"-\",\"-\",ROUND((Balance!EP4/Balance!EP$19)*100,1))","v":2.1},{"$f":"IF(Balance!EQ4=\"-\",\"-\",ROUND((Balance!EQ4/Balance!EQ$19)*100,1))","v":2.2999999999999998},{"$f":"IF(Balance!ER4=\"-\",\"-\",ROUND((Balance!ER4/Balance!ER$19)*100,1))","v":2.1},{"$f":"IF(Balance!ES4=\"-\",\"-\",ROUND((Balance!ES4/Balance!ES$19)*100,1))","v":1.9},{"$f":"IF(Balance!ET4=\"-\",\"-\",ROUND((Balance!ET4/Balance!ET$19)*100,1))","v":1.9},{"$f":"IF(Balance!EU4=\"-\",\"-\",ROUND((Balance!EU4/Balance!EU$19)*100,1))","v":2.2000000000000002},{"$f":"IF(Balance!EV4=\"-\",\"-\",ROUND((Balance!EV4/Balance!EV$19)*100,1))","v":2.5},{"$f":"IF(Balance!EW4=\"-\",\"-\",ROUND((Balance!EW4/Balance!EW$19)*100,1))","v":2.6},{"$f":"IF(Balance!EX4=\"-\",\"-\",ROUND((Balance!EX4/Balance!EX$19)*100,1))","v":2.4},{"$f":"IF(Balance!EY4=\"-\",\"-\",ROUND((Balance!EY4/Balance!EY$19)*100,1))","v":2.4},{"$f":"IF(Balance!EZ4=\"-\",\"-\",ROUND((Balance!EZ4/Balance!EZ$19)*100,1))","v":2.2000000000000002},{"$f":"IF(Balance!FA4=\"-\",\"-\",ROUND((Balance!FA4/Balance!FA$19)*100,1))","v":2.2000000000000002},{"$f":"IF(Balance!FB4=\"-\",\"-\",ROUND((Balance!FB4/Balance!FB$19)*100,1))","v":2.5},{"$f":"IF(Balance!FC4=\"-\",\"-\",ROUND((Balance!FC4/Balance!FC$19)*100,1))","v":2},{"$f":"IF(Balance!FD4=\"-\",\"-\",ROUND((Balance!FD4/Balance!FD$19)*100,1))","v":1.4},{"$f":"IF(Balance!FE4=\"-\",\"-\",ROUND((Balance!FE4/Balance!FE$19)*100,1))","v":1.4},{"$f":"IF(Balance!FF4=\"-\",\"-\",ROUND((Balance!FF4/Balance!FF$19)*100,1))","v":0.9},{"$f":"IF(Balance!FG4=\"-\",\"-\",ROUND((Balance!FG4/Balance!FG$19)*100,1))","v":1},{"$f":"IF(Balance!FH4=\"-\",\"-\",ROUND((Balance!FH4/Balance!FH$19)*100,1))","v":1.5},{"$f":"IF(Balance!FI4=\"-\",\"-\",ROUND((Balance!FI4/Balance!FI$19)*100,1))","v":1.5},{"$f":"IF(Balance!FJ4=\"-\",\"-\",ROUND((Balance!FJ4/Balance!FJ$19)*100,1))","v":1.7},{"$f":"IF(Balance!FK4=\"-\",\"-\",ROUND((Balance!FK4/Balance!FK$19)*100,1))","v":1.7},{"$f":"IF(Balance!FL4=\"-\",\"-\",ROUND((Balance!FL4/Balance!FL$19)*100,1))","v":1.4},{"$f":"IF(Balance!FM4=\"-\",\"-\",ROUND((Balance!FM4/Balance!FM$19)*100,1))","v":1.2},{"$f":"IF(Balance!FN4=\"-\",\"-\",ROUND((Balance!FN4/Balance!FN$19)*100,1))","v":1.4},{"$f":"IF(Balance!FO4=\"-\",\"-\",ROUND((Balance!FO4/Balance!FO$19)*100,1))","v":1.3},{"$f":"IF(Balance!FP4=\"-\",\"-\",ROUND((Balance!FP4/Balance!FP$19)*100,1))","v":1},{"$f":"IF(Balance!FQ4=\"-\",\"-\",ROUND((Balance!FQ4/Balance!FQ$19)*100,1))","v":1.1000000000000001},{"$f":"IF(Balance!FR4=\"-\",\"-\",ROUND((Balance!FR4/Balance!FR$19)*100,1))","v":1.2},{"$f":"IF(Balance!FS4=\"-\",\"-\",ROUND((Balance!FS4/Balance!FS$19)*100,1))","v":1.4},{"$f":"IF(Balance!FT4=\"-\",\"-\",ROUND((Balance!FT4/Balance!FT$19)*100,1))","v":1.5},{"$f":"IF(Balance!FU4=\"-\",\"-\",ROUND((Balance!FU4/Balance!FU$19)*100,1))","v":1.3},{"$f":"IF(Balance!FV4=\"-\",\"-\",ROUND((Balance!FV4/Balance!FV$19)*100,1))","v":1.4},{"$f":"IF(Balance!FW4=\"-\",\"-\",ROUND((Balance!FW4/Balance!FW$19)*100,1))","v":1.4},{"$f":"IF(Balance!FX4=\"-\",\"-\",ROUND((Balance!FX4/Balance!FX$19)*100,1))","v":1.4},{"$f":"IF(Balance!FY4=\"-\",\"-\",ROUND((Balance!FY4/Balance!FY$19)*100,1))","v":1.2},{"$f":"IF(Balance!FZ4=\"-\",\"-\",ROUND((Balance!FZ4/Balance!FZ$19)*100,1))","v":1.6},{"$f":"IF(Balance!GA4=\"-\",\"-\",ROUND((Balance!GA4/Balance!GA$19)*100,1))","v":1.7},{"$f":"IF(Balance!GB4=\"-\",\"-\",ROUND((Balance!GB4/Balance!GB$19)*100,1))","v":1.4},{"$f":"IF(Balance!GC4=\"-\",\"-\",ROUND((Balance!GC4/Balance!GC$19)*100,1))","v":1.6},{"$f":"IF(Balance!GD4=\"-\",\"-\",ROUND((Balance!GD4/Balance!GD$19)*100,1))","v":1.6},{"$f":"IF(Balance!GE4=\"-\",\"-\",ROUND((Balance!GE4/Balance!GE$19)*100,1))","v":2.2999999999999998},{"$f":"IF(Balance!GF4=\"-\",\"-\",ROUND((Balance!GF4/Balance!GF$19)*100,1))","v":2.1},{"$f":"IF(Balance!GG4=\"-\",\"-\",ROUND((Balance!GG4/Balance!GG$19)*100,1))","v":2.2000000000000002},{"$f":"IF(Balance!GH4=\"-\",\"-\",ROUND((Balance!GH4/Balance!GH$19)*100,1))","v":1.5},{"$f":"IF(Balance!GI4=\"-\",\"-\",ROUND((Balance!GI4/Balance!GI$19)*100,1))","v":1.8},{"$f":"IF(Balance!GJ4=\"-\",\"-\",ROUND((Balance!GJ4/Balance!GJ$19)*100,1))","v":1.7},{"$f":"IF(Balance!GK4=\"-\",\"-\",ROUND((Balance!GK4/Balance!GK$19)*100,1))","v":1.5},{"$f":"IF(Balance!GL4=\"-\",\"-\",ROUND((Balance!GL4/Balance!GL$19)*100,1))","v":1.7},{"$f":"IF(Balance!GM4=\"-\",\"-\",ROUND((Balance!GM4/Balance!GM$19)*100,1))","v":1.7},{"$f":"IF(Balance!GN4=\"-\",\"-\",ROUND((Balance!GN4/Balance!GN$19)*100,1))","v":1.7},{"$f":"IF(Balance!GO4=\"-\",\"-\",ROUND((Balance!GO4/Balance!GO$19)*100,1))","v":1.1000000000000001},{"$f":"IF(Balance!GP4=\"-\",\"-\",ROUND((Balance!GP4/Balance!GP$19)*100,1))","v":1.1000000000000001},{"$f":"IF(Balance!GQ4=\"-\",\"-\",ROUND((Balance!GQ4/Balance!GQ$19)*100,1))","v":1.1000000000000001},{"$f":"IF(Balance!GR4=\"-\",\"-\",ROUND((Balance!GR4/Balance!GR$19)*100,1))","v":1.2},{"$f":"IF(Balance!GS4=\"-\",\"-\",ROUND((Balance!GS4/Balance!GS$19)*100,1))","v":1.5},{"$f":"IF(Balance!GT4=\"-\",\"-\",ROUND((Balance!GT4/Balance!GT$19)*100,1))","v":1.3},{"$f":"IF(Balance!GU4=\"-\",\"-\",ROUND((Balance!GU4/Balance!GU$19)*100,1))","v":1.6},{"$f":"IF(Balance!GV4=\"-\",\"-\",ROUND((Balance!GV4/Balance!GV$19)*100,1))","v":1.8},{"$f":"IF(Balance!GW4=\"-\",\"-\",ROUND((Balance!GW4/Balance!GW$19)*100,1))","v":1.8},{"$f":"IF(Balance!GX4=\"-\",\"-\",ROUND((Balance!GX4/Balance!GX$19)*100,1))","v":1.1000000000000001},{"$f":"IF(Balance!GY4=\"-\",\"-\",ROUND((Balance!GY4/Balance!GY$19)*100,1))","v":1.1000000000000001},{"$f":"IF(Balance!GZ4=\"-\",\"-\",ROUND((Balance!GZ4/Balance!GZ$19)*100,1))","v":1.3},{"$f":"IF(Balance!HA4=\"-\",\"-\",ROUND((Balance!HA4/Balance!HA$19)*100,1))","v":1.2},{"$f":"IF(Balance!HB4=\"-\",\"-\",ROUND((Balance!HB4/Balance!HB$19)*100,1))","v":1},{"$f":"IF(Balance!HC4=\"-\",\"-\",ROUND((Balance!HC4/Balance!HC$19)*100,1))","v":1.3},{"$f":"IF(Balance!HD4=\"-\",\"-\",ROUND((Balance!HD4/Balance!HD$19)*100,1))","v":1.2},{"$f":"IF(Balance!HE4=\"-\",\"-\",ROUND((Balance!HE4/Balance!HE$19)*100,1))","v":1},{"$f":"IF(Balance!HF4=\"-\",\"-\",ROUND((Balance!HF4/Balance!HF$19)*100,1))","v":1.2},{"$f":"IF(Balance!HG4=\"-\",\"-\",ROUND((Balance!HG4/Balance!HG$19)*100,1))","v":1.1000000000000001},{"$f":"IF(Balance!HH4=\"-\",\"-\",ROUND((Balance!HH4/Balance!HH$19)*100,1))","v":1},{"$f":"IF(Balance!HI4=\"-\",\"-\",ROUND((Balance!HI4/Balance!HI$19)*100,1))","v":1.1000000000000001},{"$f":"IF(Balance!HJ4=\"-\",\"-\",ROUND((Balance!HJ4/Balance!HJ$19)*100,1))","v":1.4},{"$f":"IF(Balance!HK4=\"-\",\"-\",ROUND((Balance!HK4/Balance!HK$19)*100,1))","v":1.2},{"$f":"IF(Balance!HL4=\"-\",\"-\",ROUND((Balance!HL4/Balance!HL$19)*100,1))","v":1.2},{"$f":"IF(Balance!HM4=\"-\",\"-\",ROUND((Balance!HM4/Balance!HM$19)*100,1))","v":1.2},{"$f":"IF(Balance!HN4=\"-\",\"-\",ROUND((Balance!HN4/Balance!HN$19)*100,1))","v":0.7},{"$f":"IF(Balance!HO4=\"-\",\"-\",ROUND((Balance!HO4/Balance!HO$19)*100,1))","v":0.7},{"$f":"IF(Balance!HP4=\"-\",\"-\",ROUND((Balance!HP4/Balance!HP$19)*100,1))","v":0.9},{"$f":"IF(Balance!HQ4=\"-\",\"-\",ROUND((Balance!HQ4/Balance!HQ$19)*100,1))","v":0.7},{"$f":"IF(Balance!HR4=\"-\",\"-\",ROUND((Balance!HR4/Balance!HR$19)*100,1))","v":0.6},{"$f":"IF(Balance!HS4=\"-\",\"-\",ROUND((Balance!HS4/Balance!HS$19)*100,1))","v":0.7},{"$f":"IF(Balance!HT4=\"-\",\"-\",ROUND((Balance!HT4/Balance!HT$19)*100,1))","v":0.9},{"$f":"IF(Balance!HU4=\"-\",\"-\",ROUND((Balance!HU4/Balance!HU$19)*100,1))","v":1.2},{"$f":"IF(Balance!HV4=\"-\",\"-\",ROUND((Balance!HV4/Balance!HV$19)*100,1))","v":1.3},{"$f":"IF(Balance!HW4=\"-\",\"-\",ROUND((Balance!HW4/Balance!HW$19)*100,1))","v":1.4},{"$f":"IF(Balance!HX4=\"-\",\"-\",ROUND((Balance!HX4/Balance!HX$19)*100,1))","v":1.3},{"$f":"IF(Balance!HY4=\"-\",\"-\",ROUND((Balance!HY4/Balance!HY$19)*100,1))","v":0.9},{"$f":"IF(Balance!HZ4=\"-\",\"-\",ROUND((Balance!HZ4/Balance!HZ$19)*100,1))","v":0.9},{"$f":"IF(Balance!IA4=\"-\",\"-\",ROUND((Balance!IA4/Balance!IA$19)*100,1))","v":0.9},{"$f":"IF(Balance!IB4=\"-\",\"-\",ROUND((Balance!IB4/Balance!IB$19)*100,1))","v":0.7},{"$f":"IF(Balance!IC4=\"-\",\"-\",ROUND((Balance!IC4/Balance!IC$19)*100,1))","v":0.7},{"$f":"IF(Balance!ID4=\"-\",\"-\",ROUND((Balance!ID4/Balance!ID$19)*100,1))","v":0.8},{"$f":"IF(Balance!IE4=\"-\",\"-\",ROUND((Balance!IE4/Balance!IE$19)*100,1))","v":0.8},{"$f":"IF(Balance!IF4=\"-\",\"-\",ROUND((Balance!IF4/Balance!IF$19)*100,1))","v":0.9},{"$f":"IF(Balance!IG4=\"-\",\"-\",ROUND((Balance!IG4/Balance!IG$19)*100,1))","v":1.3},{"$f":"IF(Balance!IH4=\"-\",\"-\",ROUND((Balance!IH4/Balance!IH$19)*100,1))","v":1.4},{"$f":"IF(Balance!II4=\"-\",\"-\",ROUND((Balance!II4/Balance!II$19)*100,1))","v":2.1},{"$f":"IF(Balance!IJ4=\"-\",\"-\",ROUND((Balance!IJ4/Balance!IJ$19)*100,1))","v":1.7},{"$f":"IF(Balance!IK4=\"-\",\"-\",ROUND((Balance!IK4/Balance!IK$19)*100,1))","v":1.6},{"$f":"IF(Balance!IL4=\"-\",\"-\",ROUND((Balance!IL4/Balance!IL$19)*100,1))","v":1},{"$f":"IF(Balance!IM4=\"-\",\"-\",ROUND((Balance!IM4/Balance!IM$19)*100,1))","v":0.9},{"$f":"IF(Balance!IN4=\"-\",\"-\",ROUND((Balance!IN4/Balance!IN$19)*100,1))","v":0.7},{"$f":"IF(Balance!IO4=\"-\",\"-\",ROUND((Balance!IO4/Balance!IO$19)*100,1))","v":0.6},{"$f":"IF(Balance!IP4=\"-\",\"-\",ROUND((Balance!IP4/Balance!IP$19)*100,1))","v":0.7},{"$f":"IF(Balance!IQ4=\"-\",\"-\",ROUND((Balance!IQ4/Balance!IQ$19)*100,1))","v":0.7},{"$f":"IF(Balance!IR4=\"-\",\"-\",ROUND((Balance!IR4/Balance!IR$19)*100,1))","v":1.1000000000000001},{"$f":"IF(Balance!IS4=\"-\",\"-\",ROUND((Balance!IS4/Balance!IS$19)*100,1))","v":1},{"$f":"IF(Balance!IT4=\"-\",\"-\",ROUND((Balance!IT4/Balance!IT$19)*100,1))","v":1.3},{"$f":"IF(Balance!IU4=\"-\",\"-\",ROUND((Balance!IU4/Balance!IU$19)*100,1))","v":1.1000000000000001},{"$f":"IF(Balance!IV4=\"-\",\"-\",ROUND((Balance!IV4/Balance!IV$19)*100,1))","v":0.8},{"$f":"IF(Balance!IW4=\"-\",\"-\",ROUND((Balance!IW4/Balance!IW$19)*100,1))","v":1},{"$f":"IF(Balance!IX4=\"-\",\"-\",ROUND((Balance!IX4/Balance!IX$19)*100,1))","v":1},{"$f":"IF(Balance!IY4=\"-\",\"-\",ROUND((Balance!IY4/Balance!IY$19)*100,1))","v":0.5},{"$f":"IF(Balance!IZ4=\"-\",\"-\",ROUND((Balance!IZ4/Balance!IZ$19)*100,1))","v":0.5},{"$f":"IF(Balance!JA4=\"-\",\"-\",ROUND((Balance!JA4/Balance!JA$19)*100,1))","v":0.5},{"$f":"IF(Balance!JB4=\"-\",\"-\",ROUND((Balance!JB4/Balance!JB$19)*100,1))","v":0.5},{"$f":"IF(Balance!JC4=\"-\",\"-\",ROUND((Balance!JC4/Balance!JC$19)*100,1))","v":0.6},{"$f":"IF(Balance!JD4=\"-\",\"-\",ROUND((Balance!JD4/Balance!JD$19)*100,1))","v":1},{"$f":"IF(Balance!JE4=\"-\",\"-\",ROUND((Balance!JE4/Balance!JE$19)*100,1))","v":1},{"$f":"IF(Balance!JF4=\"-\",\"-\",ROUND((Balance!JF4/Balance!JF$19)*100,1))","v":1.2},{"$f":"IF(Balance!JG4=\"-\",\"-\",ROUND((Balance!JG4/Balance!JG$19)*100,1))","v":1.3},{"$f":"IF(Balance!JH4=\"-\",\"-\",ROUND((Balance!JH4/Balance!JH$19)*100,1))","v":1.1000000000000001},{"$f":"IF(Balance!JI4=\"-\",\"-\",ROUND((Balance!JI4/Balance!JI$19)*100,1))","v":1.2},{"$f":"IF(Balance!JJ4=\"-\",\"-\",ROUND((Balance!JJ4/Balance!JJ$19)*100,1))","v":1.4},{"$f":"IF(Balance!JK4=\"-\",\"-\",ROUND((Balance!JK4/Balance!JK$19)*100,1))","v":1},{"$f":"IF(Balance!JL4=\"-\",\"-\",ROUND((Balance!JL4/Balance!JL$19)*100,1))","v":0.9},{"$f":"IF(Balance!JM4=\"-\",\"-\",ROUND((Balance!JM4/Balance!JM$19)*100,1))","v":0.9},{"$f":"IF(Balance!JN4=\"-\",\"-\",ROUND((Balance!JN4/Balance!JN$19)*100,1))","v":1.1000000000000001},{"$f":"IF(Balance!JO4=\"-\",\"-\",ROUND((Balance!JO4/Balance!JO$19)*100,1))","v":1.3},{"$f":"IF(Balance!JP4=\"-\",\"-\",ROUND((Balance!JP4/Balance!JP$19)*100,1))","v":1.3},{"$f":"IF(Balance!JQ4=\"-\",\"-\",ROUND((Balance!JQ4/Balance!JQ$19)*100,1))","v":1.3},{"$f":"IF(Balance!JR4=\"-\",\"-\",ROUND((Balance!JR4/Balance!JR$19)*100,1))","v":1.5},{"$f":"IF(Balance!JS4=\"-\",\"-\",ROUND((Balance!JS4/Balance!JS$19)*100,1))","v":1.6},{"$f":"IF(Balance!JT4=\"-\",\"-\",ROUND((Balance!JT4/Balance!JT$19)*100,1))","v":1.6},{"$f":"IF(Balance!JU4=\"-\",\"-\",ROUND((Balance!JU4/Balance!JU$19)*100,1))","v":2},{"$f":"IF(Balance!JV4=\"-\",\"-\",ROUND((Balance!JV4/Balance!JV$19)*100,1))","v":1.8},{"$f":"IF(Balance!JW4=\"-\",\"-\",ROUND((Balance!JW4/Balance!JW$19)*100,1))","v":1.2},{"$f":"IF(Balance!JX4=\"-\",\"-\",ROUND((Balance!JX4/Balance!JX$19)*100,1))","v":1.1000000000000001},{"$f":"IF(Balance!JY4=\"-\",\"-\",ROUND((Balance!JY4/Balance!JY$19)*100,1))","v":0.8},{"$f":"IF(Balance!JZ4=\"-\",\"-\",ROUND((Balance!JZ4/Balance!JZ$19)*100,1))","v":0.8},{"$f":"IF(Balance!KA4=\"-\",\"-\",ROUND((Balance!KA4/Balance!KA$19)*100,1))","v":0.7},{"$f":"IF(Balance!KB4=\"-\",\"-\",ROUND((Balance!KB4/Balance!KB$19)*100,1))","v":1},{"$f":"IF(Balance!KC4=\"-\",\"-\",ROUND((Balance!KC4/Balance!KC$19)*100,1))","v":1.1000000000000001},{"$f":"IF(Balance!KD4=\"-\",\"-\",ROUND((Balance!KD4/Balance!KD$19)*100,1))","v":1.5},{"$f":"IF(Balance!KE4=\"-\",\"-\",ROUND((Balance!KE4/Balance!KE$19)*100,1))","v":1.9},{"$f":"IF(Balance!KF4=\"-\",\"-\",ROUND((Balance!KF4/Balance!KF$19)*100,1))","v":1.7},{"$f":"IF(Balance!KG4=\"-\",\"-\",ROUND((Balance!KG4/Balance!KG$19)*100,1))","v":1.6},{"$f":"IF(Balance!KH4=\"-\",\"-\",ROUND((Balance!KH4/Balance!KH$19)*100,1))","v":1.8},{"$f":"IF(Balance!KI4=\"-\",\"-\",ROUND((Balance!KI4/Balance!KI$19)*100,1))","v":1.4},{"$f":"IF(Balance!KJ4=\"-\",\"-\",ROUND((Balance!KJ4/Balance!KJ$19)*100,1))","v":1},{"$f":"IF(Balance!KK4=\"-\",\"-\",ROUND((Balance!KK4/Balance!KK$19)*100,1))","v":0.8},{"$f":"IF(Balance!KL4=\"-\",\"-\",ROUND((Balance!KL4/Balance!KL$19)*100,1))","v":0.7},{"$f":"IF(Balance!KM4=\"-\",\"-\",ROUND((Balance!KM4/Balance!KM$19)*100,1))","v":0.8},{"$f":"IF(Balance!KN4=\"-\",\"-\",ROUND((Balance!KN4/Balance!KN$19)*100,1))","v":1.3},{"$f":"IF(Balance!KO4=\"-\",\"-\",ROUND((Balance!KO4/Balance!KO$19)*100,1))","v":1.6},{"$f":"IF(Balance!KP4=\"-\",\"-\",ROUND((Balance!KP4/Balance!KP$19)*100,1))","v":1.5},{"$f":"IF(Balance!KQ4=\"-\",\"-\",ROUND((Balance!KQ4/Balance!KQ$19)*100,1))","v":1.4},{"$f":"IF(Balance!KR4=\"-\",\"-\",ROUND((Balance!KR4/Balance!KR$19)*100,1))","v":1.3},{"$f":"IF(Balance!KS4=\"-\",\"-\",ROUND((Balance!KS4/Balance!KS$19)*100,1))","v":1.5},{"$f":"IF(Balance!KT4=\"-\",\"-\",ROUND((Balance!KT4/Balance!KT$19)*100,1))","v":1.3},{"$f":"IF(Balance!KU4=\"-\",\"-\",ROUND((Balance!KU4/Balance!KU$19)*100,1))","v":1.3},{"$f":"IF(Balance!KV4=\"-\",\"-\",ROUND((Balance!KV4/Balance!KV$19)*100,1))","v":0.6},{"$f":"IF(Balance!KW4=\"-\",\"-\",ROUND((Balance!KW4/Balance!KW$19)*100,1))","v":0.5},{"$f":"IF(Balance!KX4=\"-\",\"-\",ROUND((Balance!KX4/Balance!KX$19)*100,1))","v":0.9},{"$f":"IF(Balance!KY4=\"-\",\"-\",ROUND((Balance!KY4/Balance!KY$19)*100,1))","v":0.8},{"$f":"IF(Balance!KZ4=\"-\",\"-\",ROUND((Balance!KZ4/Balance!KZ$19)*100,1))","v":1.3},{"$f":"IF(Balance!LA4=\"-\",\"-\",ROUND((Balance!LA4/Balance!LA$19)*100,1))","v":1.4},{"$f":"IF(Balance!LB4=\"-\",\"-\",ROUND((Balance!LB4/Balance!LB$19)*100,1))","v":1.6},{"$f":"IF(Balance!LC4=\"-\",\"-\",ROUND((Balance!LC4/Balance!LC$19)*100,1))","v":2.1},{"$f":"IF(Balance!LD4=\"-\",\"-\",ROUND((Balance!LD4/Balance!LD$19)*100,1))","v":2.5},{"$f":"IF(Balance!LE4=\"-\",\"-\",ROUND((Balance!LE4/Balance!LE$19)*100,1))","v":1.6},{"$f":"IF(Balance!LF4=\"-\",\"-\",ROUND((Balance!LF4/Balance!LF$19)*100,1))","v":2.1},{"$f":"IF(Balance!LG4=\"-\",\"-\",ROUND((Balance!LG4/Balance!LG$19)*100,1))","v":1.6},{"$f":"IF(Balance!LH4=\"-\",\"-\",ROUND((Balance!LH4/Balance!LH$19)*100,1))","v":0.9},{"$f":"IF(Balance!LI4=\"-\",\"-\",ROUND((Balance!LI4/Balance!LI$19)*100,1))","v":0.4},{"$f":"IF(Balance!LJ4=\"-\",\"-\",ROUND((Balance!LJ4/Balance!LJ$19)*100,1))","v":0.5},{"$f":"IF(Balance!LK4=\"-\",\"-\",ROUND((Balance!LK4/Balance!LK$19)*100,1))","v":0.5},{"$f":"IF(Balance!LL4=\"-\",\"-\",ROUND((Balance!LL4/Balance!LL$19)*100,1))","v":0.8},{"$f":"IF(Balance!LM4=\"-\",\"-\",ROUND((Balance!LM4/Balance!LM$19)*100,1))","v":1.2},{"$f":"IF(Balance!LN4=\"-\",\"-\",ROUND((Balance!LN4/Balance!LN$19)*100,1))","v":1.2},{"$f":"IF(Balance!LO4=\"-\",\"-\",ROUND((Balance!LO4/Balance!LO$19)*100,1))","v":1.2},{"$f":"IF(Balance!LP4=\"-\",\"-\",ROUND((Balance!LP4/Balance!LP$19)*100,1))","v":1.3},{"$f":"IF(Balance!LQ4=\"-\",\"-\",ROUND((Balance!LQ4/Balance!LQ$19)*100,1))","v":1.2},{"$f":"IF(Balance!LR4=\"-\",\"-\",ROUND((Balance!LR4/Balance!LR$19)*100,1))","v":1.1000000000000001},{"$f":"IF(Balance!LS4=\"-\",\"-\",ROUND((Balance!LS4/Balance!LS$19)*100,1))","v":0.9},{"$f":"IF(Balance!LT4=\"-\",\"-\",ROUND((Balance!LT4/Balance!LT$19)*100,1))","v":0.4},{"$f":"IF(Balance!LU4=\"-\",\"-\",ROUND((Balance!LU4/Balance!LU$19)*100,1))","v":0.5},{"$f":"IF(Balance!LV4=\"-\",\"-\",ROUND((Balance!LV4/Balance!LV$19)*100,1))","v":0.6},{"$f":"IF(Balance!LW4=\"-\",\"-\",ROUND((Balance!LW4/Balance!LW$19)*100,1))","v":0.6},{"$f":"IF(Balance!LX4=\"-\",\"-\",ROUND((Balance!LX4/Balance!LX$19)*100,1))","v":0.7},{"$f":"IF(Balance!LY4=\"-\",\"-\",ROUND((Balance!LY4/Balance!LY$19)*100,1))","v":1},{"$f":"IF(Balance!LZ4=\"-\",\"-\",ROUND((Balance!LZ4/Balance!LZ$19)*100,1))","v":1.3},{"$f":"IF(Balance!MA4=\"-\",\"-\",ROUND((Balance!MA4/Balance!MA$19)*100,1))","v":1.2},{"$f":"IF(Balance!MB4=\"-\",\"-\",ROUND((Balance!MB4/Balance!MB$19)*100,1))","v":"-"},{"$f":"IF(Balance!MC4=\"-\",\"-\",ROUND((Balance!MC4/Balance!MC$19)*100,1))","v":"-"},{"$f":"IF(Balance!MD4=\"-\",\"-\",ROUND((Balance!MD4/Balance!MD$19)*100,1))","v":"-"},{"$f":"IF(Balance!ME4=\"-\",\"-\",ROUND((Balance!ME4/Balance!ME$19)*100,1))","v":"-"},{"$f":"IF(Balance!MF4=\"-\",\"-\",ROUND((Balance!MF4/Balance!MF$19)*100,1))","v":"-"},{"$f":"IF(Balance!MG4=\"-\",\"-\",ROUND((Balance!MG4/Balance!MG$19)*100,1))","v":"-"},{"$f":"IF(Balance!MH4=\"-\",\"-\",ROUND((Balance!MH4/Balance!MH$19)*100,1))","v":"-"},{"$f":"IF(Balance!MI4=\"-\",\"-\",ROUND((Balance!MI4/Balance!MI$19)*100,1))","v":"-"},{"$f":"IF(Balance!MJ4=\"-\",\"-\",ROUND((Balance!MJ4/Balance!MJ$19)*100,1))","v":"-"},{"$f":"IF(Balance!MK4=\"-\",\"-\",ROUND((Balance!MK4/Balance!MK$19)*100,1))","v":"-"},{"$f":"IF(Balance!ML4=\"-\",\"-\",ROUND((Balance!ML4/Balance!ML$19)*100,1))","v":"-"}]
[null,"Nuclear",{"$f":"IF(Balance!C5=\"-\",\"-\",ROUND((Balance!C5/Balance!C$19)*100,1))","v":39.700000000000003},{"$f":"IF(Balance!D5=\"-\",\"-\",ROUND((Balance!D5/Balance!D$19)*100,1))","v":40.5},{"$f":"IF(Balance!E5=\"-\",\"-\",ROUND((Balance!E5/Balance!E$19)*100,1))","v":36.9},{"$f":"IF(Balance!F5=\"-\",\"-\",ROUND((Balance!F5/Balance!F$19)*100,1))","v":43.1},{"$f":"IF(Balance!G5=\"-\",\"-\",ROUND((Balance!G5/Balance!G$19)*100,1))","v":36.700000000000003},{"$f":"IF(Balance!H5=\"-\",\"-\",ROUND((Balance!H5/Balance!H$19)*100,1))","v":30.6},{"$f":"IF(Balance!I5=\"-\",\"-\",ROUND((Balance!I5/Balance!I$19)*100,1))","v":36.6},{"$f":"IF(Balance!J5=\"-\",\"-\",ROUND((Balance!J5/Balance!J$19)*100,1))","v":46.9},{"$f":"IF(Balance!K5=\"-\",\"-\",ROUND((Balance!K5/Balance!K$19)*100,1))","v":35.799999999999997},{"$f":"IF(Balance!L5=\"-\",\"-\",ROUND((Balance!L5/Balance!L$19)*100,1))","v":33.5},{"$f":"IF(Balance!M5=\"-\",\"-\",ROUND((Balance!M5/Balance!M$19)*100,1))","v":38.200000000000003},{"$f":"IF(Balance!N5=\"-\",\"-\",ROUND((Balance!N5/Balance!N$19)*100,1))","v":39.6},{"$f":"IF(Balance!O5=\"-\",\"-\",ROUND((Balance!O5/Balance!O$19)*100,1))","v":37.799999999999997},{"$f":"IF(Balance!P5=\"-\",\"-\",ROUND((Balance!P5/Balance!P$19)*100,1))","v":35.6},{"$f":"IF(Balance!Q5=\"-\",\"-\",ROUND((Balance!Q5/Balance!Q$19)*100,1))","v":34.6},{"$f":"IF(Balance!R5=\"-\",\"-\",ROUND((Balance!R5/Balance!R$19)*100,1))","v":35.4},{"$f":"IF(Balance!S5=\"-\",\"-\",ROUND((Balance!S5/Balance!S$19)*100,1))","v":39.799999999999997},{"$f":"IF(Balance!T5=\"-\",\"-\",ROUND((Balance!T5/Balance!T$19)*100,1))","v":38.4},{"$f":"IF(Balance!U5=\"-\",\"-\",ROUND((Balance!U5/Balance!U$19)*100,1))","v":37},{"$f":"IF(Balance!V5=\"-\",\"-\",ROUND((Balance!V5/Balance!V$19)*100,1))","v":47.1},{"$f":"IF(Balance!W5=\"-\",\"-\",ROUND((Balance!W5/Balance!W$19)*100,1))","v":37.299999999999997},{"$f":"IF(Balance!X5=\"-\",\"-\",ROUND((Balance!X5/Balance!X$19)*100,1))","v":37.9},{"$f":"IF(Balance!Y5=\"-\",\"-\",ROUND((Balance!Y5/Balance!Y$19)*100,1))","v":34.6},{"$f":"IF(Balance!Z5=\"-\",\"-\",ROUND((Balance!Z5/Balance!Z$19)*100,1))","v":35.6},{"$f":"IF(Balance!AA5=\"-\",\"-\",ROUND((Balance!AA5/Balance!AA$19)*100,1))","v":36.700000000000003},{"$f":"IF(Balance!AB5=\"-\",\"-\",ROUND((Balance!AB5/Balance!AB$19)*100,1))","v":33.799999999999997},{"$f":"IF(Balance!AC5=\"-\",\"-\",ROUND((Balance!AC5/Balance!AC$19)*100,1))","v":31.8},{"$f":"IF(Balance!AD5=\"-\",\"-\",ROUND((Balance!AD5/Balance!AD$19)*100,1))","v":30.7},{"$f":"IF(Balance!AE5=\"-\",\"-\",ROUND((Balance!AE5/Balance!AE$19)*100,1))","v":36.5},{"$f":"IF(Balance!AF5=\"-\",\"-\",ROUND((Balance!AF5/Balance!AF$19)*100,1))","v":40.4},{"$f":"IF(Balance!AG5=\"-\",\"-\",ROUND((Balance!AG5/Balance!AG$19)*100,1))","v":38.9},{"$f":"IF(Balance!AH5=\"-\",\"-\",ROUND((Balance!AH5/Balance!AH$19)*100,1))","v":46.1},{"$f":"IF(Balance!AI5=\"-\",\"-\",ROUND((Balance!AI5/Balance!AI$19)*100,1))","v":35.200000000000003},{"$f":"IF(Balance!AJ5=\"-\",\"-\",ROUND((Balance!AJ5/Balance!AJ$19)*100,1))","v":40.5},{"$f":"IF(Balance!AK5=\"-\",\"-\",ROUND((Balance!AK5/Balance!AK$19)*100,1))","v":35.799999999999997},{"$f":"IF(Balance!AL5=\"-\",\"-\",ROUND((Balance!AL5/Balance!AL$19)*100,1))","v":42.1},{"$f":"IF(Balance!AM5=\"-\",\"-\",ROUND((Balance!AM5/Balance!AM$19)*100,1))","v":39.6},{"$f":"IF(Balance!AN5=\"-\",\"-\",ROUND((Balance!AN5/Balance!AN$19)*100,1))","v":35.200000000000003},{"$f":"IF(Balance!AO5=\"-\",\"-\",ROUND((Balance!AO5/Balance!AO$19)*100,1))","v":37.5},{"$f":"IF(Balance!AP5=\"-\",\"-\",ROUND((Balance!AP5/Balance!AP$19)*100,1))","v":36.799999999999997},{"$f":"IF(Balance!AQ5=\"-\",\"-\",ROUND((Balance!AQ5/Balance!AQ$19)*100,1))","v":35.200000000000003},{"$f":"IF(Balance!AR5=\"-\",\"-\",ROUND((Balance!AR5/Balance!AR$19)*100,1))","v":37.799999999999997},{"$f":"IF(Balance!AS5=\"-\",\"-\",ROUND((Balance!AS5/Balance!AS$19)*100,1))","v":40.299999999999997},{"$f":"IF(Balance!AT5=\"-\",\"-\",ROUND((Balance!AT5/Balance!AT$19)*100,1))","v":44.2},{"$f":"IF(Balance!AU5=\"-\",\"-\",ROUND((Balance!AU5/Balance!AU$19)*100,1))","v":38.5},{"$f":"IF(Balance!AV5=\"-\",\"-\",ROUND((Balance!AV5/Balance!AV$19)*100,1))","v":37.700000000000003},{"$f":"IF(Balance!AW5=\"-\",\"-\",ROUND((Balance!AW5/Balance!AW$19)*100,1))","v":32.700000000000003},{"$f":"IF(Balance!AX5=\"-\",\"-\",ROUND((Balance!AX5/Balance!AX$19)*100,1))","v":38.9},{"$f":"IF(Balance!AY5=\"-\",\"-\",ROUND((Balance!AY5/Balance!AY$19)*100,1))","v":36.299999999999997},{"$f":"IF(Balance!AZ5=\"-\",\"-\",ROUND((Balance!AZ5/Balance!AZ$19)*100,1))","v":32.299999999999997},{"$f":"IF(Balance!BA5=\"-\",\"-\",ROUND((Balance!BA5/Balance!BA$19)*100,1))","v":32.299999999999997},{"$f":"IF(Balance!BB5=\"-\",\"-\",ROUND((Balance!BB5/Balance!BB$19)*100,1))","v":36.1},{"$f":"IF(Balance!BC5=\"-\",\"-\",ROUND((Balance!BC5/Balance!BC$19)*100,1))","v":38.9},{"$f":"IF(Balance!BD5=\"-\",\"-\",ROUND((Balance!BD5/Balance!BD$19)*100,1))","v":33.1},{"$f":"IF(Balance!BE5=\"-\",\"-\",ROUND((Balance!BE5/Balance!BE$19)*100,1))","v":35.799999999999997},{"$f":"IF(Balance!BF5=\"-\",\"-\",ROUND((Balance!BF5/Balance!BF$19)*100,1))","v":43.4},{"$f":"IF(Balance!BG5=\"-\",\"-\",ROUND((Balance!BG5/Balance!BG$19)*100,1))","v":41.2},{"$f":"IF(Balance!BH5=\"-\",\"-\",ROUND((Balance!BH5/Balance!BH$19)*100,1))","v":34.799999999999997},{"$f":"IF(Balance!BI5=\"-\",\"-\",ROUND((Balance!BI5/Balance!BI$19)*100,1))","v":33.200000000000003},{"$f":"IF(Balance!BJ5=\"-\",\"-\",ROUND((Balance!BJ5/Balance!BJ$19)*100,1))","v":39.200000000000003},{"$f":"IF(Balance!BK5=\"-\",\"-\",ROUND((Balance!BK5/Balance!BK$19)*100,1))","v":37.200000000000003},{"$f":"IF(Balance!BL5=\"-\",\"-\",ROUND((Balance!BL5/Balance!BL$19)*100,1))","v":37},{"$f":"IF(Balance!BM5=\"-\",\"-\",ROUND((Balance!BM5/Balance!BM$19)*100,1))","v":34},{"$f":"IF(Balance!BN5=\"-\",\"-\",ROUND((Balance!BN5/Balance!BN$19)*100,1))","v":35.6},{"$f":"IF(Balance!BO5=\"-\",\"-\",ROUND((Balance!BO5/Balance!BO$19)*100,1))","v":39.1},{"$f":"IF(Balance!BP5=\"-\",\"-\",ROUND((Balance!BP5/Balance!BP$19)*100,1))","v":37},{"$f":"IF(Balance!BQ5=\"-\",\"-\",ROUND((Balance!BQ5/Balance!BQ$19)*100,1))","v":32},{"$f":"IF(Balance!BR5=\"-\",\"-\",ROUND((Balance!BR5/Balance!BR$19)*100,1))","v":34.9},{"$f":"IF(Balance!BS5=\"-\",\"-\",ROUND((Balance!BS5/Balance!BS$19)*100,1))","v":31.7},{"$f":"IF(Balance!BT5=\"-\",\"-\",ROUND((Balance!BT5/Balance!BT$19)*100,1))","v":34.799999999999997},{"$f":"IF(Balance!BU5=\"-\",\"-\",ROUND((Balance!BU5/Balance!BU$19)*100,1))","v":34.700000000000003},{"$f":"IF(Balance!BV5=\"-\",\"-\",ROUND((Balance!BV5/Balance!BV$19)*100,1))","v":38.700000000000003},{"$f":"IF(Balance!BW5=\"-\",\"-\",ROUND((Balance!BW5/Balance!BW$19)*100,1))","v":35.5},{"$f":"IF(Balance!BX5=\"-\",\"-\",ROUND((Balance!BX5/Balance!BX$19)*100,1))","v":34},{"$f":"IF(Balance!BY5=\"-\",\"-\",ROUND((Balance!BY5/Balance!BY$19)*100,1))","v":35.9},{"$f":"IF(Balance!BZ5=\"-\",\"-\",ROUND((Balance!BZ5/Balance!BZ$19)*100,1))","v":37.700000000000003},{"$f":"IF(Balance!CA5=\"-\",\"-\",ROUND((Balance!CA5/Balance!CA$19)*100,1))","v":41.4},{"$f":"IF(Balance!CB5=\"-\",\"-\",ROUND((Balance!CB5/Balance!CB$19)*100,1))","v":30},{"$f":"IF(Balance!CC5=\"-\",\"-\",ROUND((Balance!CC5/Balance!CC$19)*100,1))","v":27.7},{"$f":"IF(Balance!CD5=\"-\",\"-\",ROUND((Balance!CD5/Balance!CD$19)*100,1))","v":30.7},{"$f":"IF(Balance!CE5=\"-\",\"-\",ROUND((Balance!CE5/Balance!CE$19)*100,1))","v":31.7},{"$f":"IF(Balance!CF5=\"-\",\"-\",ROUND((Balance!CF5/Balance!CF$19)*100,1))","v":37.299999999999997},{"$f":"IF(Balance!CG5=\"-\",\"-\",ROUND((Balance!CG5/Balance!CG$19)*100,1))","v":34.4},{"$f":"IF(Balance!CH5=\"-\",\"-\",ROUND((Balance!CH5/Balance!CH$19)*100,1))","v":37.9},{"$f":"IF(Balance!CI5=\"-\",\"-\",ROUND((Balance!CI5/Balance!CI$19)*100,1))","v":32.4},{"$f":"IF(Balance!CJ5=\"-\",\"-\",ROUND((Balance!CJ5/Balance!CJ$19)*100,1))","v":34.6},{"$f":"IF(Balance!CK5=\"-\",\"-\",ROUND((Balance!CK5/Balance!CK$19)*100,1))","v":28},{"$f":"IF(Balance!CL5=\"-\",\"-\",ROUND((Balance!CL5/Balance!CL$19)*100,1))","v":30.4},{"$f":"IF(Balance!CM5=\"-\",\"-\",ROUND((Balance!CM5/Balance!CM$19)*100,1))","v":36.799999999999997},{"$f":"IF(Balance!CN5=\"-\",\"-\",ROUND((Balance!CN5/Balance!CN$19)*100,1))","v":34.200000000000003},{"$f":"IF(Balance!CO5=\"-\",\"-\",ROUND((Balance!CO5/Balance!CO$19)*100,1))","v":33},{"$f":"IF(Balance!CP5=\"-\",\"-\",ROUND((Balance!CP5/Balance!CP$19)*100,1))","v":34.200000000000003},{"$f":"IF(Balance!CQ5=\"-\",\"-\",ROUND((Balance!CQ5/Balance!CQ$19)*100,1))","v":30},{"$f":"IF(Balance!CR5=\"-\",\"-\",ROUND((Balance!CR5/Balance!CR$19)*100,1))","v":29.4},{"$f":"IF(Balance!CS5=\"-\",\"-\",ROUND((Balance!CS5/Balance!CS$19)*100,1))","v":29.9},{"$f":"IF(Balance!CT5=\"-\",\"-\",ROUND((Balance!CT5/Balance!CT$19)*100,1))","v":28.4},{"$f":"IF(Balance!CU5=\"-\",\"-\",ROUND((Balance!CU5/Balance!CU$19)*100,1))","v":32.1},{"$f":"IF(Balance!CV5=\"-\",\"-\",ROUND((Balance!CV5/Balance!CV$19)*100,1))","v":36.1},{"$f":"IF(Balance!CW5=\"-\",\"-\",ROUND((Balance!CW5/Balance!CW$19)*100,1))","v":31.7},{"$f":"IF(Balance!CX5=\"-\",\"-\",ROUND((Balance!CX5/Balance!CX$19)*100,1))","v":31.3},{"$f":"IF(Balance!CY5=\"-\",\"-\",ROUND((Balance!CY5/Balance!CY$19)*100,1))","v":34.4},{"$f":"IF(Balance!CZ5=\"-\",\"-\",ROUND((Balance!CZ5/Balance!CZ$19)*100,1))","v":35.299999999999997},{"$f":"IF(Balance!DA5=\"-\",\"-\",ROUND((Balance!DA5/Balance!DA$19)*100,1))","v":34.799999999999997},{"$f":"IF(Balance!DB5=\"-\",\"-\",ROUND((Balance!DB5/Balance!DB$19)*100,1))","v":38.299999999999997},{"$f":"IF(Balance!DC5=\"-\",\"-\",ROUND((Balance!DC5/Balance!DC$19)*100,1))","v":31.5},{"$f":"IF(Balance!DD5=\"-\",\"-\",ROUND((Balance!DD5/Balance!DD$19)*100,1))","v":29.6},{"$f":"IF(Balance!DE5=\"-\",\"-\",ROUND((Balance!DE5/Balance!DE$19)*100,1))","v":30.3},{"$f":"IF(Balance!DF5=\"-\",\"-\",ROUND((Balance!DF5/Balance!DF$19)*100,1))","v":29.7},{"$f":"IF(Balance!DG5=\"-\",\"-\",ROUND((Balance!DG5/Balance!DG$19)*100,1))","v":31.6},{"$f":"IF(Balance!DH5=\"-\",\"-\",ROUND((Balance!DH5/Balance!DH$19)*100,1))","v":26.3},{"$f":"IF(Balance!DI5=\"-\",\"-\",ROUND((Balance!DI5/Balance!DI$19)*100,1))","v":26.4},{"$f":"IF(Balance!DJ5=\"-\",\"-\",ROUND((Balance!DJ5/Balance!DJ$19)*100,1))","v":26},{"$f":"IF(Balance!DK5=\"-\",\"-\",ROUND((Balance!DK5/Balance!DK$19)*100,1))","v":34.299999999999997},{"$f":"IF(Balance!DL5=\"-\",\"-\",ROUND((Balance!DL5/Balance!DL$19)*100,1))","v":30.8},{"$f":"IF(Balance!DM5=\"-\",\"-\",ROUND((Balance!DM5/Balance!DM$19)*100,1))","v":29.3},{"$f":"IF(Balance!DN5=\"-\",\"-\",ROUND((Balance!DN5/Balance!DN$19)*100,1))","v":36.200000000000003},{"$f":"IF(Balance!DO5=\"-\",\"-\",ROUND((Balance!DO5/Balance!DO$19)*100,1))","v":31.2},{"$f":"IF(Balance!DP5=\"-\",\"-\",ROUND((Balance!DP5/Balance!DP$19)*100,1))","v":33.799999999999997},{"$f":"IF(Balance!DQ5=\"-\",\"-\",ROUND((Balance!DQ5/Balance!DQ$19)*100,1))","v":33.1},{"$f":"IF(Balance!DR5=\"-\",\"-\",ROUND((Balance!DR5/Balance!DR$19)*100,1))","v":31.9},{"$f":"IF(Balance!DS5=\"-\",\"-\",ROUND((Balance!DS5/Balance!DS$19)*100,1))","v":30.3},{"$f":"IF(Balance!DT5=\"-\",\"-\",ROUND((Balance!DT5/Balance!DT$19)*100,1))","v":32.9},{"$f":"IF(Balance!DU5=\"-\",\"-\",ROUND((Balance!DU5/Balance!DU$19)*100,1))","v":30.4},{"$f":"IF(Balance!DV5=\"-\",\"-\",ROUND((Balance!DV5/Balance!DV$19)*100,1))","v":29.4},{"$f":"IF(Balance!DW5=\"-\",\"-\",ROUND((Balance!DW5/Balance!DW$19)*100,1))","v":31.5},{"$f":"IF(Balance!DX5=\"-\",\"-\",ROUND((Balance!DX5/Balance!DX$19)*100,1))","v":32.200000000000003},{"$f":"IF(Balance!DY5=\"-\",\"-\",ROUND((Balance!DY5/Balance!DY$19)*100,1))","v":32.200000000000003},{"$f":"IF(Balance!DZ5=\"-\",\"-\",ROUND((Balance!DZ5/Balance!DZ$19)*100,1))","v":31.9},{"$f":"IF(Balance!EA5=\"-\",\"-\",ROUND((Balance!EA5/Balance!EA$19)*100,1))","v":25.3},{"$f":"IF(Balance!EB5=\"-\",\"-\",ROUND((Balance!EB5/Balance!EB$19)*100,1))","v":27.8},{"$f":"IF(Balance!EC5=\"-\",\"-\",ROUND((Balance!EC5/Balance!EC$19)*100,1))","v":30},{"$f":"IF(Balance!ED5=\"-\",\"-\",ROUND((Balance!ED5/Balance!ED$19)*100,1))","v":31.5},{"$f":"IF(Balance!EE5=\"-\",\"-\",ROUND((Balance!EE5/Balance!EE$19)*100,1))","v":29.2},{"$f":"IF(Balance!EF5=\"-\",\"-\",ROUND((Balance!EF5/Balance!EF$19)*100,1))","v":28.5},{"$f":"IF(Balance!EG5=\"-\",\"-\",ROUND((Balance!EG5/Balance!EG$19)*100,1))","v":26.4},{"$f":"IF(Balance!EH5=\"-\",\"-\",ROUND((Balance!EH5/Balance!EH$19)*100,1))","v":30},{"$f":"IF(Balance!EI5=\"-\",\"-\",ROUND((Balance!EI5/Balance!EI$19)*100,1))","v":33.799999999999997},{"$f":"IF(Balance!EJ5=\"-\",\"-\",ROUND((Balance!EJ5/Balance!EJ$19)*100,1))","v":30.3},{"$f":"IF(Balance!EK5=\"-\",\"-\",ROUND((Balance!EK5/Balance!EK$19)*100,1))","v":31},{"$f":"IF(Balance!EL5=\"-\",\"-\",ROUND((Balance!EL5/Balance!EL$19)*100,1))","v":31.7},{"$f":"IF(Balance!EM5=\"-\",\"-\",ROUND((Balance!EM5/Balance!EM$19)*100,1))","v":28.4},{"$f":"IF(Balance!EN5=\"-\",\"-\",ROUND((Balance!EN5/Balance!EN$19)*100,1))","v":27.9},{"$f":"IF(Balance!EO5=\"-\",\"-\",ROUND((Balance!EO5/Balance!EO$19)*100,1))","v":29.2},{"$f":"IF(Balance!EP5=\"-\",\"-\",ROUND((Balance!EP5/Balance!EP$19)*100,1))","v":28.9},{"$f":"IF(Balance!EQ5=\"-\",\"-\",ROUND((Balance!EQ5/Balance!EQ$19)*100,1))","v":28.4},{"$f":"IF(Balance!ER5=\"-\",\"-\",ROUND((Balance!ER5/Balance!ER$19)*100,1))","v":28.3},{"$f":"IF(Balance!ES5=\"-\",\"-\",ROUND((Balance!ES5/Balance!ES$19)*100,1))","v":24.2},{"$f":"IF(Balance!ET5=\"-\",\"-\",ROUND((Balance!ET5/Balance!ET$19)*100,1))","v":25.1},{"$f":"IF(Balance!EU5=\"-\",\"-\",ROUND((Balance!EU5/Balance!EU$19)*100,1))","v":27.3},{"$f":"IF(Balance!EV5=\"-\",\"-\",ROUND((Balance!EV5/Balance!EV$19)*100,1))","v":28.4},{"$f":"IF(Balance!EW5=\"-\",\"-\",ROUND((Balance!EW5/Balance!EW$19)*100,1))","v":29.4},{"$f":"IF(Balance!EX5=\"-\",\"-\",ROUND((Balance!EX5/Balance!EX$19)*100,1))","v":31.6},{"$f":"IF(Balance!EY5=\"-\",\"-\",ROUND((Balance!EY5/Balance!EY$19)*100,1))","v":26.8},{"$f":"IF(Balance!EZ5=\"-\",\"-\",ROUND((Balance!EZ5/Balance!EZ$19)*100,1))","v":30.1},{"$f":"IF(Balance!FA5=\"-\",\"-\",ROUND((Balance!FA5/Balance!FA$19)*100,1))","v":30},{"$f":"IF(Balance!FB5=\"-\",\"-\",ROUND((Balance!FB5/Balance!FB$19)*100,1))","v":29.4},{"$f":"IF(Balance!FC5=\"-\",\"-\",ROUND((Balance!FC5/Balance!FC$19)*100,1))","v":26.5},{"$f":"IF(Balance!FD5=\"-\",\"-\",ROUND((Balance!FD5/Balance!FD$19)*100,1))","v":25.8},{"$f":"IF(Balance!FE5=\"-\",\"-\",ROUND((Balance!FE5/Balance!FE$19)*100,1))","v":25.1},{"$f":"IF(Balance!FF5=\"-\",\"-\",ROUND((Balance!FF5/Balance!FF$19)*100,1))","v":27},{"$f":"IF(Balance!FG5=\"-\",\"-\",ROUND((Balance!FG5/Balance!FG$19)*100,1))","v":26.8},{"$f":"IF(Balance!FH5=\"-\",\"-\",ROUND((Balance!FH5/Balance!FH$19)*100,1))","v":23.6},{"$f":"IF(Balance!FI5=\"-\",\"-\",ROUND((Balance!FI5/Balance!FI$19)*100,1))","v":26.7},{"$f":"IF(Balance!FJ5=\"-\",\"-\",ROUND((Balance!FJ5/Balance!FJ$19)*100,1))","v":27.9},{"$f":"IF(Balance!FK5=\"-\",\"-\",ROUND((Balance!FK5/Balance!FK$19)*100,1))","v":22.3},{"$f":"IF(Balance!FL5=\"-\",\"-\",ROUND((Balance!FL5/Balance!FL$19)*100,1))","v":23.8},{"$f":"IF(Balance!FM5=\"-\",\"-\",ROUND((Balance!FM5/Balance!FM$19)*100,1))","v":27.6},{"$f":"IF(Balance!FN5=\"-\",\"-\",ROUND((Balance!FN5/Balance!FN$19)*100,1))","v":26.7},{"$f":"IF(Balance!FO5=\"-\",\"-\",ROUND((Balance!FO5/Balance!FO$19)*100,1))","v":25.9},{"$f":"IF(Balance!FP5=\"-\",\"-\",ROUND((Balance!FP5/Balance!FP$19)*100,1))","v":25.6},{"$f":"IF(Balance!FQ5=\"-\",\"-\",ROUND((Balance!FQ5/Balance!FQ$19)*100,1))","v":23.4},{"$f":"IF(Balance!FR5=\"-\",\"-\",ROUND((Balance!FR5/Balance!FR$19)*100,1))","v":26.7},{"$f":"IF(Balance!FS5=\"-\",\"-\",ROUND((Balance!FS5/Balance!FS$19)*100,1))","v":25.1},{"$f":"IF(Balance!FT5=\"-\",\"-\",ROUND((Balance!FT5/Balance!FT$19)*100,1))","v":25.4},{"$f":"IF(Balance!FU5=\"-\",\"-\",ROUND((Balance!FU5/Balance!FU$19)*100,1))","v":25.9},{"$f":"IF(Balance!FV5=\"-\",\"-\",ROUND((Balance!FV5/Balance!FV$19)*100,1))","v":27.2},{"$f":"IF(Balance!FW5=\"-\",\"-\",ROUND((Balance!FW5/Balance!FW$19)*100,1))","v":23.8},{"$f":"IF(Balance!FX5=\"-\",\"-\",ROUND((Balance!FX5/Balance!FX$19)*100,1))","v":22.4},{"$f":"IF(Balance!FY5=\"-\",\"-\",ROUND((Balance!FY5/Balance!FY$19)*100,1))","v":24.6},{"$f":"IF(Balance!FZ5=\"-\",\"-\",ROUND((Balance!FZ5/Balance!FZ$19)*100,1))","v":24},{"$f":"IF(Balance!GA5=\"-\",\"-\",ROUND((Balance!GA5/Balance!GA$19)*100,1))","v":24.5},{"$f":"IF(Balance!GB5=\"-\",\"-\",ROUND((Balance!GB5/Balance!GB$19)*100,1))","v":23.1},{"$f":"IF(Balance!GC5=\"-\",\"-\",ROUND((Balance!GC5/Balance!GC$19)*100,1))","v":20.5},{"$f":"IF(Balance!GD5=\"-\",\"-\",ROUND((Balance!GD5/Balance!GD$19)*100,1))","v":19.399999999999999},{"$f":"IF(Balance!GE5=\"-\",\"-\",ROUND((Balance!GE5/Balance!GE$19)*100,1))","v":18.399999999999999},{"$f":"IF(Balance!GF5=\"-\",\"-\",ROUND((Balance!GF5/Balance!GF$19)*100,1))","v":18},{"$f":"IF(Balance!GG5=\"-\",\"-\",ROUND((Balance!GG5/Balance!GG$19)*100,1))","v":17.5},{"$f":"IF(Balance!GH5=\"-\",\"-\",ROUND((Balance!GH5/Balance!GH$19)*100,1))","v":22.5},{"$f":"IF(Balance!GI5=\"-\",\"-\",ROUND((Balance!GI5/Balance!GI$19)*100,1))","v":24.9},{"$f":"IF(Balance!GJ5=\"-\",\"-\",ROUND((Balance!GJ5/Balance!GJ$19)*100,1))","v":23.1},{"$f":"IF(Balance!GK5=\"-\",\"-\",ROUND((Balance!GK5/Balance!GK$19)*100,1))","v":23.7},{"$f":"IF(Balance!GL5=\"-\",\"-\",ROUND((Balance!GL5/Balance!GL$19)*100,1))","v":23.3},{"$f":"IF(Balance!GM5=\"-\",\"-\",ROUND((Balance!GM5/Balance!GM$19)*100,1))","v":22.2},{"$f":"IF(Balance!GN5=\"-\",\"-\",ROUND((Balance!GN5/Balance!GN$19)*100,1))","v":21.8},{"$f":"IF(Balance!GO5=\"-\",\"-\",ROUND((Balance!GO5/Balance!GO$19)*100,1))","v":21.9},{"$f":"IF(Balance!GP5=\"-\",\"-\",ROUND((Balance!GP5/Balance!GP$19)*100,1))","v":18.600000000000001},{"$f":"IF(Balance!GQ5=\"-\",\"-\",ROUND((Balance!GQ5/Balance!GQ$19)*100,1))","v":20.8},{"$f":"IF(Balance!GR5=\"-\",\"-\",ROUND((Balance!GR5/Balance!GR$19)*100,1))","v":22.5},{"$f":"IF(Balance!GS5=\"-\",\"-\",ROUND((Balance!GS5/Balance!GS$19)*100,1))","v":20},{"$f":"IF(Balance!GT5=\"-\",\"-\",ROUND((Balance!GT5/Balance!GT$19)*100,1))","v":24.7},{"$f":"IF(Balance!GU5=\"-\",\"-\",ROUND((Balance!GU5/Balance!GU$19)*100,1))","v":19.899999999999999},{"$f":"IF(Balance!GV5=\"-\",\"-\",ROUND((Balance!GV5/Balance!GV$19)*100,1))","v":21.8},{"$f":"IF(Balance!GW5=\"-\",\"-\",ROUND((Balance!GW5/Balance!GW$19)*100,1))","v":23.7},{"$f":"IF(Balance!GX5=\"-\",\"-\",ROUND((Balance!GX5/Balance!GX$19)*100,1))","v":22.9},{"$f":"IF(Balance!GY5=\"-\",\"-\",ROUND((Balance!GY5/Balance!GY$19)*100,1))","v":21.8},{"$f":"IF(Balance!GZ5=\"-\",\"-\",ROUND((Balance!GZ5/Balance!GZ$19)*100,1))","v":21.9},{"$f":"IF(Balance!HA5=\"-\",\"-\",ROUND((Balance!HA5/Balance!HA$19)*100,1))","v":21.3},{"$f":"IF(Balance!HB5=\"-\",\"-\",ROUND((Balance!HB5/Balance!HB$19)*100,1))","v":20.9},{"$f":"IF(Balance!HC5=\"-\",\"-\",ROUND((Balance!HC5/Balance!HC$19)*100,1))","v":16},{"$f":"IF(Balance!HD5=\"-\",\"-\",ROUND((Balance!HD5/Balance!HD$19)*100,1))","v":14.6},{"$f":"IF(Balance!HE5=\"-\",\"-\",ROUND((Balance!HE5/Balance!HE$19)*100,1))","v":16.399999999999999},{"$f":"IF(Balance!HF5=\"-\",\"-\",ROUND((Balance!HF5/Balance!HF$19)*100,1))","v":18.2},{"$f":"IF(Balance!HG5=\"-\",\"-\",ROUND((Balance!HG5/Balance!HG$19)*100,1))","v":22.1},{"$f":"IF(Balance!HH5=\"-\",\"-\",ROUND((Balance!HH5/Balance!HH$19)*100,1))","v":21.6},{"$f":"IF(Balance!HI5=\"-\",\"-\",ROUND((Balance!HI5/Balance!HI$19)*100,1))","v":16.399999999999999},{"$f":"IF(Balance!HJ5=\"-\",\"-\",ROUND((Balance!HJ5/Balance!HJ$19)*100,1))","v":20.3},{"$f":"IF(Balance!HK5=\"-\",\"-\",ROUND((Balance!HK5/Balance!HK$19)*100,1))","v":21},{"$f":"IF(Balance!HL5=\"-\",\"-\",ROUND((Balance!HL5/Balance!HL$19)*100,1))","v":21.7},{"$f":"IF(Balance!HM5=\"-\",\"-\",ROUND((Balance!HM5/Balance!HM$19)*100,1))","v":22.4},{"$f":"IF(Balance!HN5=\"-\",\"-\",ROUND((Balance!HN5/Balance!HN$19)*100,1))","v":17.600000000000001},{"$f":"IF(Balance!HO5=\"-\",\"-\",ROUND((Balance!HO5/Balance!HO$19)*100,1))","v":21.4},{"$f":"IF(Balance!HP5=\"-\",\"-\",ROUND((Balance!HP5/Balance!HP$19)*100,1))","v":20.399999999999999},{"$f":"IF(Balance!HQ5=\"-\",\"-\",ROUND((Balance!HQ5/Balance!HQ$19)*100,1))","v":18.600000000000001},{"$f":"IF(Balance!HR5=\"-\",\"-\",ROUND((Balance!HR5/Balance!HR$19)*100,1))","v":22.1},{"$f":"IF(Balance!HS5=\"-\",\"-\",ROUND((Balance!HS5/Balance!HS$19)*100,1))","v":20.2},{"$f":"IF(Balance!HT5=\"-\",\"-\",ROUND((Balance!HT5/Balance!HT$19)*100,1))","v":19.2},{"$f":"IF(Balance!HU5=\"-\",\"-\",ROUND((Balance!HU5/Balance!HU$19)*100,1))","v":17.3},{"$f":"IF(Balance!HV5=\"-\",\"-\",ROUND((Balance!HV5/Balance!HV$19)*100,1))","v":20.2},{"$f":"IF(Balance!HW5=\"-\",\"-\",ROUND((Balance!HW5/Balance!HW$19)*100,1))","v":21.6},{"$f":"IF(Balance!HX5=\"-\",\"-\",ROUND((Balance!HX5/Balance!HX$19)*100,1))","v":19.899999999999999},{"$f":"IF(Balance!HY5=\"-\",\"-\",ROUND((Balance!HY5/Balance!HY$19)*100,1))","v":18.5},{"$f":"IF(Balance!HZ5=\"-\",\"-\",ROUND((Balance!HZ5/Balance!HZ$19)*100,1))","v":20.3},{"$f":"IF(Balance!IA5=\"-\",\"-\",ROUND((Balance!IA5/Balance!IA$19)*100,1))","v":18.100000000000001},{"$f":"IF(Balance!IB5=\"-\",\"-\",ROUND((Balance!IB5/Balance!IB$19)*100,1))","v":16.399999999999999},{"$f":"IF(Balance!IC5=\"-\",\"-\",ROUND((Balance!IC5/Balance!IC$19)*100,1))","v":16.899999999999999},{"$f":"IF(Balance!ID5=\"-\",\"-\",ROUND((Balance!ID5/Balance!ID$19)*100,1))","v":23.8},{"$f":"IF(Balance!IE5=\"-\",\"-\",ROUND((Balance!IE5/Balance!IE$19)*100,1))","v":20.5},{"$f":"IF(Balance!IF5=\"-\",\"-\",ROUND((Balance!IF5/Balance!IF$19)*100,1))","v":18.399999999999999},{"$f":"IF(Balance!IG5=\"-\",\"-\",ROUND((Balance!IG5/Balance!IG$19)*100,1))","v":18.100000000000001},{"$f":"IF(Balance!IH5=\"-\",\"-\",ROUND((Balance!IH5/Balance!IH$19)*100,1))","v":16.7},{"$f":"IF(Balance!II5=\"-\",\"-\",ROUND((Balance!II5/Balance!II$19)*100,1))","v":18.100000000000001},{"$f":"IF(Balance!IJ5=\"-\",\"-\",ROUND((Balance!IJ5/Balance!IJ$19)*100,1))","v":20.2},{"$f":"IF(Balance!IK5=\"-\",\"-\",ROUND((Balance!IK5/Balance!IK$19)*100,1))","v":20.399999999999999},{"$f":"IF(Balance!IL5=\"-\",\"-\",ROUND((Balance!IL5/Balance!IL$19)*100,1))","v":23.3},{"$f":"IF(Balance!IM5=\"-\",\"-\",ROUND((Balance!IM5/Balance!IM$19)*100,1))","v":20.8},{"$f":"IF(Balance!IN5=\"-\",\"-\",ROUND((Balance!IN5/Balance!IN$19)*100,1))","v":21.8},{"$f":"IF(Balance!IO5=\"-\",\"-\",ROUND((Balance!IO5/Balance!IO$19)*100,1))","v":22.2},{"$f":"IF(Balance!IP5=\"-\",\"-\",ROUND((Balance!IP5/Balance!IP$19)*100,1))","v":24.2},{"$f":"IF(Balance!IQ5=\"-\",\"-\",ROUND((Balance!IQ5/Balance!IQ$19)*100,1))","v":23.1},{"$f":"IF(Balance!IR5=\"-\",\"-\",ROUND((Balance!IR5/Balance!IR$19)*100,1))","v":24.5},{"$f":"IF(Balance!IS5=\"-\",\"-\",ROUND((Balance!IS5/Balance!IS$19)*100,1))","v":22.2},{"$f":"IF(Balance!IT5=\"-\",\"-\",ROUND((Balance!IT5/Balance!IT$19)*100,1))","v":20},{"$f":"IF(Balance!IU5=\"-\",\"-\",ROUND((Balance!IU5/Balance!IU$19)*100,1))","v":19.100000000000001},{"$f":"IF(Balance!IV5=\"-\",\"-\",ROUND((Balance!IV5/Balance!IV$19)*100,1))","v":19.399999999999999},{"$f":"IF(Balance!IW5=\"-\",\"-\",ROUND((Balance!IW5/Balance!IW$19)*100,1))","v":18.2},{"$f":"IF(Balance!IX5=\"-\",\"-\",ROUND((Balance!IX5/Balance!IX$19)*100,1))","v":21.6},{"$f":"IF(Balance!IY5=\"-\",\"-\",ROUND((Balance!IY5/Balance!IY$19)*100,1))","v":17.600000000000001},{"$f":"IF(Balance!IZ5=\"-\",\"-\",ROUND((Balance!IZ5/Balance!IZ$19)*100,1))","v":22.1},{"$f":"IF(Balance!JA5=\"-\",\"-\",ROUND((Balance!JA5/Balance!JA$19)*100,1))","v":21.3},{"$f":"IF(Balance!JB5=\"-\",\"-\",ROUND((Balance!JB5/Balance!JB$19)*100,1))","v":24},{"$f":"IF(Balance!JC5=\"-\",\"-\",ROUND((Balance!JC5/Balance!JC$19)*100,1))","v":22.9},{"$f":"IF(Balance!JD5=\"-\",\"-\",ROUND((Balance!JD5/Balance!JD$19)*100,1))","v":21.4},{"$f":"IF(Balance!JE5=\"-\",\"-\",ROUND((Balance!JE5/Balance!JE$19)*100,1))","v":21.1},{"$f":"IF(Balance!JF5=\"-\",\"-\",ROUND((Balance!JF5/Balance!JF$19)*100,1))","v":21.4},{"$f":"IF(Balance!JG5=\"-\",\"-\",ROUND((Balance!JG5/Balance!JG$19)*100,1))","v":21.5},{"$f":"IF(Balance!JH5=\"-\",\"-\",ROUND((Balance!JH5/Balance!JH$19)*100,1))","v":20.8},{"$f":"IF(Balance!JI5=\"-\",\"-\",ROUND((Balance!JI5/Balance!JI$19)*100,1))","v":24.1},{"$f":"IF(Balance!JJ5=\"-\",\"-\",ROUND((Balance!JJ5/Balance!JJ$19)*100,1))","v":24.4},{"$f":"IF(Balance!JK5=\"-\",\"-\",ROUND((Balance!JK5/Balance!JK$19)*100,1))","v":20.9},{"$f":"IF(Balance!JL5=\"-\",\"-\",ROUND((Balance!JL5/Balance!JL$19)*100,1))","v":16.100000000000001},{"$f":"IF(Balance!JM5=\"-\",\"-\",ROUND((Balance!JM5/Balance!JM$19)*100,1))","v":22.5},{"$f":"IF(Balance!JN5=\"-\",\"-\",ROUND((Balance!JN5/Balance!JN$19)*100,1))","v":24.2},{"$f":"IF(Balance!JO5=\"-\",\"-\",ROUND((Balance!JO5/Balance!JO$19)*100,1))","v":24.8},{"$f":"IF(Balance!JP5=\"-\",\"-\",ROUND((Balance!JP5/Balance!JP$19)*100,1))","v":24.9},{"$f":"IF(Balance!JQ5=\"-\",\"-\",ROUND((Balance!JQ5/Balance!JQ$19)*100,1))","v":18.899999999999999},{"$f":"IF(Balance!JR5=\"-\",\"-\",ROUND((Balance!JR5/Balance!JR$19)*100,1))","v":18.899999999999999},{"$f":"IF(Balance!JS5=\"-\",\"-\",ROUND((Balance!JS5/Balance!JS$19)*100,1))","v":19.3},{"$f":"IF(Balance!JT5=\"-\",\"-\",ROUND((Balance!JT5/Balance!JT$19)*100,1))","v":20.3},{"$f":"IF(Balance!JU5=\"-\",\"-\",ROUND((Balance!JU5/Balance!JU$19)*100,1))","v":22.9},{"$f":"IF(Balance!JV5=\"-\",\"-\",ROUND((Balance!JV5/Balance!JV$19)*100,1))","v":21.4},{"$f":"IF(Balance!JW5=\"-\",\"-\",ROUND((Balance!JW5/Balance!JW$19)*100,1))","v":19.899999999999999},{"$f":"IF(Balance!JX5=\"-\",\"-\",ROUND((Balance!JX5/Balance!JX$19)*100,1))","v":21.7},{"$f":"IF(Balance!JY5=\"-\",\"-\",ROUND((Balance!JY5/Balance!JY$19)*100,1))","v":22.2},{"$f":"IF(Balance!JZ5=\"-\",\"-\",ROUND((Balance!JZ5/Balance!JZ$19)*100,1))","v":23.4},{"$f":"IF(Balance!KA5=\"-\",\"-\",ROUND((Balance!KA5/Balance!KA$19)*100,1))","v":22.7},{"$f":"IF(Balance!KB5=\"-\",\"-\",ROUND((Balance!KB5/Balance!KB$19)*100,1))","v":20.8},{"$f":"IF(Balance!KC5=\"-\",\"-\",ROUND((Balance!KC5/Balance!KC$19)*100,1))","v":18.7},{"$f":"IF(Balance!KD5=\"-\",\"-\",ROUND((Balance!KD5/Balance!KD$19)*100,1))","v":17.5},{"$f":"IF(Balance!KE5=\"-\",\"-\",ROUND((Balance!KE5/Balance!KE$19)*100,1))","v":19.7},{"$f":"IF(Balance!KF5=\"-\",\"-\",ROUND((Balance!KF5/Balance!KF$19)*100,1))","v":21.9},{"$f":"IF(Balance!KG5=\"-\",\"-\",ROUND((Balance!KG5/Balance!KG$19)*100,1))","v":24.3},{"$f":"IF(Balance!KH5=\"-\",\"-\",ROUND((Balance!KH5/Balance!KH$19)*100,1))","v":25.3},{"$f":"IF(Balance!KI5=\"-\",\"-\",ROUND((Balance!KI5/Balance!KI$19)*100,1))","v":21.4},{"$f":"IF(Balance!KJ5=\"-\",\"-\",ROUND((Balance!KJ5/Balance!KJ$19)*100,1))","v":16.899999999999999},{"$f":"IF(Balance!KK5=\"-\",\"-\",ROUND((Balance!KK5/Balance!KK$19)*100,1))","v":19.399999999999999},{"$f":"IF(Balance!KL5=\"-\",\"-\",ROUND((Balance!KL5/Balance!KL$19)*100,1))","v":20.3},{"$f":"IF(Balance!KM5=\"-\",\"-\",ROUND((Balance!KM5/Balance!KM$19)*100,1))","v":22.9},{"$f":"IF(Balance!KN5=\"-\",\"-\",ROUND((Balance!KN5/Balance!KN$19)*100,1))","v":25},{"$f":"IF(Balance!KO5=\"-\",\"-\",ROUND((Balance!KO5/Balance!KO$19)*100,1))","v":21.6},{"$f":"IF(Balance!KP5=\"-\",\"-\",ROUND((Balance!KP5/Balance!KP$19)*100,1))","v":21.1},{"$f":"IF(Balance!KQ5=\"-\",\"-\",ROUND((Balance!KQ5/Balance!KQ$19)*100,1))","v":22.3},{"$f":"IF(Balance!KR5=\"-\",\"-\",ROUND((Balance!KR5/Balance!KR$19)*100,1))","v":21.2},{"$f":"IF(Balance!KS5=\"-\",\"-\",ROUND((Balance!KS5/Balance!KS$19)*100,1))","v":23.5},{"$f":"IF(Balance!KT5=\"-\",\"-\",ROUND((Balance!KT5/Balance!KT$19)*100,1))","v":23.9},{"$f":"IF(Balance!KU5=\"-\",\"-\",ROUND((Balance!KU5/Balance!KU$19)*100,1))","v":17.600000000000001},{"$f":"IF(Balance!KV5=\"-\",\"-\",ROUND((Balance!KV5/Balance!KV$19)*100,1))","v":18.3},{"$f":"IF(Balance!KW5=\"-\",\"-\",ROUND((Balance!KW5/Balance!KW$19)*100,1))","v":20},{"$f":"IF(Balance!KX5=\"-\",\"-\",ROUND((Balance!KX5/Balance!KX$19)*100,1))","v":23},{"$f":"IF(Balance!KY5=\"-\",\"-\",ROUND((Balance!KY5/Balance!KY$19)*100,1))","v":24.2},{"$f":"IF(Balance!KZ5=\"-\",\"-\",ROUND((Balance!KZ5/Balance!KZ$19)*100,1))","v":20.7},{"$f":"IF(Balance!LA5=\"-\",\"-\",ROUND((Balance!LA5/Balance!LA$19)*100,1))","v":19.899999999999999},{"$f":"IF(Balance!LB5=\"-\",\"-\",ROUND((Balance!LB5/Balance!LB$19)*100,1))","v":23.6},{"$f":"IF(Balance!LC5=\"-\",\"-\",ROUND((Balance!LC5/Balance!LC$19)*100,1))","v":21.4},{"$f":"IF(Balance!LD5=\"-\",\"-\",ROUND((Balance!LD5/Balance!LD$19)*100,1))","v":19.2},{"$f":"IF(Balance!LE5=\"-\",\"-\",ROUND((Balance!LE5/Balance!LE$19)*100,1))","v":23.6},{"$f":"IF(Balance!LF5=\"-\",\"-\",ROUND((Balance!LF5/Balance!LF$19)*100,1))","v":24.4},{"$f":"IF(Balance!LG5=\"-\",\"-\",ROUND((Balance!LG5/Balance!LG$19)*100,1))","v":19.899999999999999},{"$f":"IF(Balance!LH5=\"-\",\"-\",ROUND((Balance!LH5/Balance!LH$19)*100,1))","v":24.7},{"$f":"IF(Balance!LI5=\"-\",\"-\",ROUND((Balance!LI5/Balance!LI$19)*100,1))","v":24},{"$f":"IF(Balance!LJ5=\"-\",\"-\",ROUND((Balance!LJ5/Balance!LJ$19)*100,1))","v":24.8},{"$f":"IF(Balance!LK5=\"-\",\"-\",ROUND((Balance!LK5/Balance!LK$19)*100,1))","v":25.1},{"$f":"IF(Balance!LL5=\"-\",\"-\",ROUND((Balance!LL5/Balance!LL$19)*100,1))","v":24.7},{"$f":"IF(Balance!LM5=\"-\",\"-\",ROUND((Balance!LM5/Balance!LM$19)*100,1))","v":18.2},{"$f":"IF(Balance!LN5=\"-\",\"-\",ROUND((Balance!LN5/Balance!LN$19)*100,1))","v":20.8},{"$f":"IF(Balance!LO5=\"-\",\"-\",ROUND((Balance!LO5/Balance!LO$19)*100,1))","v":21.9},{"$f":"IF(Balance!LP5=\"-\",\"-\",ROUND((Balance!LP5/Balance!LP$19)*100,1))","v":23.8},{"$f":"IF(Balance!LQ5=\"-\",\"-\",ROUND((Balance!LQ5/Balance!LQ$19)*100,1))","v":26.2},{"$f":"IF(Balance!LR5=\"-\",\"-\",ROUND((Balance!LR5/Balance!LR$19)*100,1))","v":27.1},{"$f":"IF(Balance!LS5=\"-\",\"-\",ROUND((Balance!LS5/Balance!LS$19)*100,1))","v":21.7},{"$f":"IF(Balance!LT5=\"-\",\"-\",ROUND((Balance!LT5/Balance!LT$19)*100,1))","v":19.399999999999999},{"$f":"IF(Balance!LU5=\"-\",\"-\",ROUND((Balance!LU5/Balance!LU$19)*100,1))","v":20.5},{"$f":"IF(Balance!LV5=\"-\",\"-\",ROUND((Balance!LV5/Balance!LV$19)*100,1))","v":25},{"$f":"IF(Balance!LW5=\"-\",\"-\",ROUND((Balance!LW5/Balance!LW$19)*100,1))","v":24.7},{"$f":"IF(Balance!LX5=\"-\",\"-\",ROUND((Balance!LX5/Balance!LX$19)*100,1))","v":21.3},{"$f":"IF(Balance!LY5=\"-\",\"-\",ROUND((Balance!LY5/Balance!LY$19)*100,1))","v":16.7},{"$f":"IF(Balance!LZ5=\"-\",\"-\",ROUND((Balance!LZ5/Balance!LZ$19)*100,1))","v":21.7},{"$f":"IF(Balance!MA5=\"-\",\"-\",ROUND((Balance!MA5/Balance!MA$19)*100,1))","v":23.4},{"$f":"IF(Balance!MB5=\"-\",\"-\",ROUND((Balance!MB5/Balance!MB$19)*100,1))","v":"-"},{"$f":"IF(Balance!MC5=\"-\",\"-\",ROUND((Balance!MC5/Balance!MC$19)*100,1))","v":"-"},{"$f":"IF(Balance!MD5=\"-\",\"-\",ROUND((Balance!MD5/Balance!MD$19)*100,1))","v":"-"},{"$f":"IF(Balance!ME5=\"-\",\"-\",ROUND((Balance!ME5/Balance!ME$19)*100,1))","v":"-"},{"$f":"IF(Balance!MF5=\"-\",\"-\",ROUND((Balance!MF5/Balance!MF$19)*100,1))","v":"-"},{"$f":"IF(Balance!MG5=\"-\",\"-\",ROUND((Balance!MG5/Balance!MG$19)*100,1))","v":"-"},{"$f":"IF(Balance!MH5=\"-\",\"-\",ROUND((Balance!MH5/Balance!MH$19)*100,1))","v":"-"},{"$f":"IF(Balance!MI5=\"-\",\"-\",ROUND((Balance!MI5/Balance!MI$19)*100,1))","v":"-"},{"$f":"IF(Balance!MJ5=\"-\",\"-\",ROUND((Balance!MJ5/Balance!MJ$19)*100,1))","v":"-"},{"$f":"IF(Balance!MK5=\"-\",\"-\",ROUND((Balance!MK5/Balance!MK$19)*100,1))","v":"-"},{"$f":"IF(Balance!ML5=\"-\",\"-\",ROUND((Balance!ML5/Balance!ML$19)*100,1))","v":"-"}]
[null,"Carbón",{"$f":"IF(Balance!C6=\"-\",\"-\",ROUND((Balance!C6/Balance!C$19)*100,1))","v":27.2},{"$f":"IF(Balance!D6=\"-\",\"-\",ROUND((Balance!D6/Balance!D$19)*100,1))","v":26.2},{"$f":"IF(Balance!E6=\"-\",\"-\",ROUND((Balance!E6/Balance!E$19)*100,1))","v":40.4},{"$f":"IF(Balance!F6=\"-\",\"-\",ROUND((Balance!F6/Balance!F$19)*100,1))","v":39.1},{"$f":"IF(Balance!G6=\"-\",\"-\",ROUND((Balance!G6/Balance!G$19)*100,1))","v":43.3},{"$f":"IF(Balance!H6=\"-\",\"-\",ROUND((Balance!H6/Balance!H$19)*100,1))","v":48.7},{"$f":"IF(Balance!I6=\"-\",\"-\",ROUND((Balance!I6/Balance!I$19)*100,1))","v":45.4},{"$f":"IF(Balance!J6=\"-\",\"-\",ROUND((Balance!J6/Balance!J$19)*100,1))","v":38.700000000000003},{"$f":"IF(Balance!K6=\"-\",\"-\",ROUND((Balance!K6/Balance!K$19)*100,1))","v":49.2},{"$f":"IF(Balance!L6=\"-\",\"-\",ROUND((Balance!L6/Balance!L$19)*100,1))","v":49.6},{"$f":"IF(Balance!M6=\"-\",\"-\",ROUND((Balance!M6/Balance!M$19)*100,1))","v":41.7},{"$f":"IF(Balance!N6=\"-\",\"-\",ROUND((Balance!N6/Balance!N$19)*100,1))","v":40.5},{"$f":"IF(Balance!O6=\"-\",\"-\",ROUND((Balance!O6/Balance!O$19)*100,1))","v":38.700000000000003},{"$f":"IF(Balance!P6=\"-\",\"-\",ROUND((Balance!P6/Balance!P$19)*100,1))","v":43.1},{"$f":"IF(Balance!Q6=\"-\",\"-\",ROUND((Balance!Q6/Balance!Q$19)*100,1))","v":29.7},{"$f":"IF(Balance!R6=\"-\",\"-\",ROUND((Balance!R6/Balance!R$19)*100,1))","v":30.8},{"$f":"IF(Balance!S6=\"-\",\"-\",ROUND((Balance!S6/Balance!S$19)*100,1))","v":32.1},{"$f":"IF(Balance!T6=\"-\",\"-\",ROUND((Balance!T6/Balance!T$19)*100,1))","v":38.700000000000003},{"$f":"IF(Balance!U6=\"-\",\"-\",ROUND((Balance!U6/Balance!U$19)*100,1))","v":41.6},{"$f":"IF(Balance!V6=\"-\",\"-\",ROUND((Balance!V6/Balance!V$19)*100,1))","v":38.9},{"$f":"IF(Balance!W6=\"-\",\"-\",ROUND((Balance!W6/Balance!W$19)*100,1))","v":45.4},{"$f":"IF(Balance!X6=\"-\",\"-\",ROUND((Balance!X6/Balance!X$19)*100,1))","v":44.6},{"$f":"IF(Balance!Y6=\"-\",\"-\",ROUND((Balance!Y6/Balance!Y$19)*100,1))","v":43.8},{"$f":"IF(Balance!Z6=\"-\",\"-\",ROUND((Balance!Z6/Balance!Z$19)*100,1))","v":43.6},{"$f":"IF(Balance!AA6=\"-\",\"-\",ROUND((Balance!AA6/Balance!AA$19)*100,1))","v":42},{"$f":"IF(Balance!AB6=\"-\",\"-\",ROUND((Balance!AB6/Balance!AB$19)*100,1))","v":44.2},{"$f":"IF(Balance!AC6=\"-\",\"-\",ROUND((Balance!AC6/Balance!AC$19)*100,1))","v":48.2},{"$f":"IF(Balance!AD6=\"-\",\"-\",ROUND((Balance!AD6/Balance!AD$19)*100,1))","v":46.1},{"$f":"IF(Balance!AE6=\"-\",\"-\",ROUND((Balance!AE6/Balance!AE$19)*100,1))","v":42.1},{"$f":"IF(Balance!AF6=\"-\",\"-\",ROUND((Balance!AF6/Balance!AF$19)*100,1))","v":40.299999999999997},{"$f":"IF(Balance!AG6=\"-\",\"-\",ROUND((Balance!AG6/Balance!AG$19)*100,1))","v":41.1},{"$f":"IF(Balance!AH6=\"-\",\"-\",ROUND((Balance!AH6/Balance!AH$19)*100,1))","v":38},{"$f":"IF(Balance!AI6=\"-\",\"-\",ROUND((Balance!AI6/Balance!AI$19)*100,1))","v":46.4},{"$f":"IF(Balance!AJ6=\"-\",\"-\",ROUND((Balance!AJ6/Balance!AJ$19)*100,1))","v":39},{"$f":"IF(Balance!AK6=\"-\",\"-\",ROUND((Balance!AK6/Balance!AK$19)*100,1))","v":41.9},{"$f":"IF(Balance!AL6=\"-\",\"-\",ROUND((Balance!AL6/Balance!AL$19)*100,1))","v":31.7},{"$f":"IF(Balance!AM6=\"-\",\"-\",ROUND((Balance!AM6/Balance!AM$19)*100,1))","v":40.700000000000003},{"$f":"IF(Balance!AN6=\"-\",\"-\",ROUND((Balance!AN6/Balance!AN$19)*100,1))","v":46.7},{"$f":"IF(Balance!AO6=\"-\",\"-\",ROUND((Balance!AO6/Balance!AO$19)*100,1))","v":45},{"$f":"IF(Balance!AP6=\"-\",\"-\",ROUND((Balance!AP6/Balance!AP$19)*100,1))","v":46.8},{"$f":"IF(Balance!AQ6=\"-\",\"-\",ROUND((Balance!AQ6/Balance!AQ$19)*100,1))","v":43.2},{"$f":"IF(Balance!AR6=\"-\",\"-\",ROUND((Balance!AR6/Balance!AR$19)*100,1))","v":38},{"$f":"IF(Balance!AS6=\"-\",\"-\",ROUND((Balance!AS6/Balance!AS$19)*100,1))","v":40.1},{"$f":"IF(Balance!AT6=\"-\",\"-\",ROUND((Balance!AT6/Balance!AT$19)*100,1))","v":40.299999999999997},{"$f":"IF(Balance!AU6=\"-\",\"-\",ROUND((Balance!AU6/Balance!AU$19)*100,1))","v":45.4},{"$f":"IF(Balance!AV6=\"-\",\"-\",ROUND((Balance!AV6/Balance!AV$19)*100,1))","v":33.799999999999997},{"$f":"IF(Balance!AW6=\"-\",\"-\",ROUND((Balance!AW6/Balance!AW$19)*100,1))","v":35},{"$f":"IF(Balance!AX6=\"-\",\"-\",ROUND((Balance!AX6/Balance!AX$19)*100,1))","v":35.6},{"$f":"IF(Balance!AY6=\"-\",\"-\",ROUND((Balance!AY6/Balance!AY$19)*100,1))","v":29.5},{"$f":"IF(Balance!AZ6=\"-\",\"-\",ROUND((Balance!AZ6/Balance!AZ$19)*100,1))","v":37.299999999999997},{"$f":"IF(Balance!BA6=\"-\",\"-\",ROUND((Balance!BA6/Balance!BA$19)*100,1))","v":39.5},{"$f":"IF(Balance!BB6=\"-\",\"-\",ROUND((Balance!BB6/Balance!BB$19)*100,1))","v":38.1},{"$f":"IF(Balance!BC6=\"-\",\"-\",ROUND((Balance!BC6/Balance!BC$19)*100,1))","v":33.799999999999997},{"$f":"IF(Balance!BD6=\"-\",\"-\",ROUND((Balance!BD6/Balance!BD$19)*100,1))","v":41.6},{"$f":"IF(Balance!BE6=\"-\",\"-\",ROUND((Balance!BE6/Balance!BE$19)*100,1))","v":42.7},{"$f":"IF(Balance!BF6=\"-\",\"-\",ROUND((Balance!BF6/Balance!BF$19)*100,1))","v":40.299999999999997},{"$f":"IF(Balance!BG6=\"-\",\"-\",ROUND((Balance!BG6/Balance!BG$19)*100,1))","v":42.2},{"$f":"IF(Balance!BH6=\"-\",\"-\",ROUND((Balance!BH6/Balance!BH$19)*100,1))","v":45.4},{"$f":"IF(Balance!BI6=\"-\",\"-\",ROUND((Balance!BI6/Balance!BI$19)*100,1))","v":41.7},{"$f":"IF(Balance!BJ6=\"-\",\"-\",ROUND((Balance!BJ6/Balance!BJ$19)*100,1))","v":39.700000000000003},{"$f":"IF(Balance!BK6=\"-\",\"-\",ROUND((Balance!BK6/Balance!BK$19)*100,1))","v":35.9},{"$f":"IF(Balance!BL6=\"-\",\"-\",ROUND((Balance!BL6/Balance!BL$19)*100,1))","v":34.4},{"$f":"IF(Balance!BM6=\"-\",\"-\",ROUND((Balance!BM6/Balance!BM$19)*100,1))","v":34.799999999999997},{"$f":"IF(Balance!BN6=\"-\",\"-\",ROUND((Balance!BN6/Balance!BN$19)*100,1))","v":41.1},{"$f":"IF(Balance!BO6=\"-\",\"-\",ROUND((Balance!BO6/Balance!BO$19)*100,1))","v":39.9},{"$f":"IF(Balance!BP6=\"-\",\"-\",ROUND((Balance!BP6/Balance!BP$19)*100,1))","v":40.9},{"$f":"IF(Balance!BQ6=\"-\",\"-\",ROUND((Balance!BQ6/Balance!BQ$19)*100,1))","v":45.2},{"$f":"IF(Balance!BR6=\"-\",\"-\",ROUND((Balance!BR6/Balance!BR$19)*100,1))","v":48.2},{"$f":"IF(Balance!BS6=\"-\",\"-\",ROUND((Balance!BS6/Balance!BS$19)*100,1))","v":49.5},{"$f":"IF(Balance!BT6=\"-\",\"-\",ROUND((Balance!BT6/Balance!BT$19)*100,1))","v":45},{"$f":"IF(Balance!BU6=\"-\",\"-\",ROUND((Balance!BU6/Balance!BU$19)*100,1))","v":45.4},{"$f":"IF(Balance!BV6=\"-\",\"-\",ROUND((Balance!BV6/Balance!BV$19)*100,1))","v":33.5},{"$f":"IF(Balance!BW6=\"-\",\"-\",ROUND((Balance!BW6/Balance!BW$19)*100,1))","v":16.100000000000001},{"$f":"IF(Balance!BX6=\"-\",\"-\",ROUND((Balance!BX6/Balance!BX$19)*100,1))","v":18.100000000000001},{"$f":"IF(Balance!BY6=\"-\",\"-\",ROUND((Balance!BY6/Balance!BY$19)*100,1))","v":29},{"$f":"IF(Balance!BZ6=\"-\",\"-\",ROUND((Balance!BZ6/Balance!BZ$19)*100,1))","v":21.8},{"$f":"IF(Balance!CA6=\"-\",\"-\",ROUND((Balance!CA6/Balance!CA$19)*100,1))","v":20},{"$f":"IF(Balance!CB6=\"-\",\"-\",ROUND((Balance!CB6/Balance!CB$19)*100,1))","v":38.200000000000003},{"$f":"IF(Balance!CC6=\"-\",\"-\",ROUND((Balance!CC6/Balance!CC$19)*100,1))","v":45.9},{"$f":"IF(Balance!CD6=\"-\",\"-\",ROUND((Balance!CD6/Balance!CD$19)*100,1))","v":47.8},{"$f":"IF(Balance!CE6=\"-\",\"-\",ROUND((Balance!CE6/Balance!CE$19)*100,1))","v":44.7},{"$f":"IF(Balance!CF6=\"-\",\"-\",ROUND((Balance!CF6/Balance!CF$19)*100,1))","v":40.6},{"$f":"IF(Balance!CG6=\"-\",\"-\",ROUND((Balance!CG6/Balance!CG$19)*100,1))","v":39.200000000000003},{"$f":"IF(Balance!CH6=\"-\",\"-\",ROUND((Balance!CH6/Balance!CH$19)*100,1))","v":21.5},{"$f":"IF(Balance!CI6=\"-\",\"-\",ROUND((Balance!CI6/Balance!CI$19)*100,1))","v":21.7},{"$f":"IF(Balance!CJ6=\"-\",\"-\",ROUND((Balance!CJ6/Balance!CJ$19)*100,1))","v":27},{"$f":"IF(Balance!CK6=\"-\",\"-\",ROUND((Balance!CK6/Balance!CK$19)*100,1))","v":39.9},{"$f":"IF(Balance!CL6=\"-\",\"-\",ROUND((Balance!CL6/Balance!CL$19)*100,1))","v":40.4},{"$f":"IF(Balance!CM6=\"-\",\"-\",ROUND((Balance!CM6/Balance!CM$19)*100,1))","v":35},{"$f":"IF(Balance!CN6=\"-\",\"-\",ROUND((Balance!CN6/Balance!CN$19)*100,1))","v":36.200000000000003},{"$f":"IF(Balance!CO6=\"-\",\"-\",ROUND((Balance!CO6/Balance!CO$19)*100,1))","v":38.4},{"$f":"IF(Balance!CP6=\"-\",\"-\",ROUND((Balance!CP6/Balance!CP$19)*100,1))","v":40.1},{"$f":"IF(Balance!CQ6=\"-\",\"-\",ROUND((Balance!CQ6/Balance!CQ$19)*100,1))","v":44.4},{"$f":"IF(Balance!CR6=\"-\",\"-\",ROUND((Balance!CR6/Balance!CR$19)*100,1))","v":44.4},{"$f":"IF(Balance!CS6=\"-\",\"-\",ROUND((Balance!CS6/Balance!CS$19)*100,1))","v":31.8},{"$f":"IF(Balance!CT6=\"-\",\"-\",ROUND((Balance!CT6/Balance!CT$19)*100,1))","v":23.5},{"$f":"IF(Balance!CU6=\"-\",\"-\",ROUND((Balance!CU6/Balance!CU$19)*100,1))","v":18.399999999999999},{"$f":"IF(Balance!CV6=\"-\",\"-\",ROUND((Balance!CV6/Balance!CV$19)*100,1))","v":23.5},{"$f":"IF(Balance!CW6=\"-\",\"-\",ROUND((Balance!CW6/Balance!CW$19)*100,1))","v":37.6},{"$f":"IF(Balance!CX6=\"-\",\"-\",ROUND((Balance!CX6/Balance!CX$19)*100,1))","v":31.4},{"$f":"IF(Balance!CY6=\"-\",\"-\",ROUND((Balance!CY6/Balance!CY$19)*100,1))","v":24.4},{"$f":"IF(Balance!CZ6=\"-\",\"-\",ROUND((Balance!CZ6/Balance!CZ$19)*100,1))","v":29},{"$f":"IF(Balance!DA6=\"-\",\"-\",ROUND((Balance!DA6/Balance!DA$19)*100,1))","v":35.200000000000003},{"$f":"IF(Balance!DB6=\"-\",\"-\",ROUND((Balance!DB6/Balance!DB$19)*100,1))","v":32},{"$f":"IF(Balance!DC6=\"-\",\"-\",ROUND((Balance!DC6/Balance!DC$19)*100,1))","v":40.299999999999997},{"$f":"IF(Balance!DD6=\"-\",\"-\",ROUND((Balance!DD6/Balance!DD$19)*100,1))","v":42.1},{"$f":"IF(Balance!DE6=\"-\",\"-\",ROUND((Balance!DE6/Balance!DE$19)*100,1))","v":41},{"$f":"IF(Balance!DF6=\"-\",\"-\",ROUND((Balance!DF6/Balance!DF$19)*100,1))","v":40},{"$f":"IF(Balance!DG6=\"-\",\"-\",ROUND((Balance!DG6/Balance!DG$19)*100,1))","v":38.700000000000003},{"$f":"IF(Balance!DH6=\"-\",\"-\",ROUND((Balance!DH6/Balance!DH$19)*100,1))","v":39.700000000000003},{"$f":"IF(Balance!DI6=\"-\",\"-\",ROUND((Balance!DI6/Balance!DI$19)*100,1))","v":40.5},{"$f":"IF(Balance!DJ6=\"-\",\"-\",ROUND((Balance!DJ6/Balance!DJ$19)*100,1))","v":40.5},{"$f":"IF(Balance!DK6=\"-\",\"-\",ROUND((Balance!DK6/Balance!DK$19)*100,1))","v":31},{"$f":"IF(Balance!DL6=\"-\",\"-\",ROUND((Balance!DL6/Balance!DL$19)*100,1))","v":36.1},{"$f":"IF(Balance!DM6=\"-\",\"-\",ROUND((Balance!DM6/Balance!DM$19)*100,1))","v":39.6},{"$f":"IF(Balance!DN6=\"-\",\"-\",ROUND((Balance!DN6/Balance!DN$19)*100,1))","v":36.6},{"$f":"IF(Balance!DO6=\"-\",\"-\",ROUND((Balance!DO6/Balance!DO$19)*100,1))","v":42.1},{"$f":"IF(Balance!DP6=\"-\",\"-\",ROUND((Balance!DP6/Balance!DP$19)*100,1))","v":39},{"$f":"IF(Balance!DQ6=\"-\",\"-\",ROUND((Balance!DQ6/Balance!DQ$19)*100,1))","v":33.1},{"$f":"IF(Balance!DR6=\"-\",\"-\",ROUND((Balance!DR6/Balance!DR$19)*100,1))","v":33.799999999999997},{"$f":"IF(Balance!DS6=\"-\",\"-\",ROUND((Balance!DS6/Balance!DS$19)*100,1))","v":36.9},{"$f":"IF(Balance!DT6=\"-\",\"-\",ROUND((Balance!DT6/Balance!DT$19)*100,1))","v":40.5},{"$f":"IF(Balance!DU6=\"-\",\"-\",ROUND((Balance!DU6/Balance!DU$19)*100,1))","v":39.5},{"$f":"IF(Balance!DV6=\"-\",\"-\",ROUND((Balance!DV6/Balance!DV$19)*100,1))","v":35.799999999999997},{"$f":"IF(Balance!DW6=\"-\",\"-\",ROUND((Balance!DW6/Balance!DW$19)*100,1))","v":31.7},{"$f":"IF(Balance!DX6=\"-\",\"-\",ROUND((Balance!DX6/Balance!DX$19)*100,1))","v":36.200000000000003},{"$f":"IF(Balance!DY6=\"-\",\"-\",ROUND((Balance!DY6/Balance!DY$19)*100,1))","v":39.299999999999997},{"$f":"IF(Balance!DZ6=\"-\",\"-\",ROUND((Balance!DZ6/Balance!DZ$19)*100,1))","v":40},{"$f":"IF(Balance!EA6=\"-\",\"-\",ROUND((Balance!EA6/Balance!EA$19)*100,1))","v":41.9},{"$f":"IF(Balance!EB6=\"-\",\"-\",ROUND((Balance!EB6/Balance!EB$19)*100,1))","v":41.5},{"$f":"IF(Balance!EC6=\"-\",\"-\",ROUND((Balance!EC6/Balance!EC$19)*100,1))","v":36.9},{"$f":"IF(Balance!ED6=\"-\",\"-\",ROUND((Balance!ED6/Balance!ED$19)*100,1))","v":24.4},{"$f":"IF(Balance!EE6=\"-\",\"-\",ROUND((Balance!EE6/Balance!EE$19)*100,1))","v":20.5},{"$f":"IF(Balance!EF6=\"-\",\"-\",ROUND((Balance!EF6/Balance!EF$19)*100,1))","v":20.399999999999999},{"$f":"IF(Balance!EG6=\"-\",\"-\",ROUND((Balance!EG6/Balance!EG$19)*100,1))","v":19.2},{"$f":"IF(Balance!EH6=\"-\",\"-\",ROUND((Balance!EH6/Balance!EH$19)*100,1))","v":24.9},{"$f":"IF(Balance!EI6=\"-\",\"-\",ROUND((Balance!EI6/Balance!EI$19)*100,1))","v":29.8},{"$f":"IF(Balance!EJ6=\"-\",\"-\",ROUND((Balance!EJ6/Balance!EJ$19)*100,1))","v":34.700000000000003},{"$f":"IF(Balance!EK6=\"-\",\"-\",ROUND((Balance!EK6/Balance!EK$19)*100,1))","v":36.5},{"$f":"IF(Balance!EL6=\"-\",\"-\",ROUND((Balance!EL6/Balance!EL$19)*100,1))","v":37.4},{"$f":"IF(Balance!EM6=\"-\",\"-\",ROUND((Balance!EM6/Balance!EM$19)*100,1))","v":39.799999999999997},{"$f":"IF(Balance!EN6=\"-\",\"-\",ROUND((Balance!EN6/Balance!EN$19)*100,1))","v":38.799999999999997},{"$f":"IF(Balance!EO6=\"-\",\"-\",ROUND((Balance!EO6/Balance!EO$19)*100,1))","v":36.299999999999997},{"$f":"IF(Balance!EP6=\"-\",\"-\",ROUND((Balance!EP6/Balance!EP$19)*100,1))","v":36.9},{"$f":"IF(Balance!EQ6=\"-\",\"-\",ROUND((Balance!EQ6/Balance!EQ$19)*100,1))","v":35.799999999999997},{"$f":"IF(Balance!ER6=\"-\",\"-\",ROUND((Balance!ER6/Balance!ER$19)*100,1))","v":38},{"$f":"IF(Balance!ES6=\"-\",\"-\",ROUND((Balance!ES6/Balance!ES$19)*100,1))","v":39.5},{"$f":"IF(Balance!ET6=\"-\",\"-\",ROUND((Balance!ET6/Balance!ET$19)*100,1))","v":38.6},{"$f":"IF(Balance!EU6=\"-\",\"-\",ROUND((Balance!EU6/Balance!EU$19)*100,1))","v":36.799999999999997},{"$f":"IF(Balance!EV6=\"-\",\"-\",ROUND((Balance!EV6/Balance!EV$19)*100,1))","v":34},{"$f":"IF(Balance!EW6=\"-\",\"-\",ROUND((Balance!EW6/Balance!EW$19)*100,1))","v":33.9},{"$f":"IF(Balance!EX6=\"-\",\"-\",ROUND((Balance!EX6/Balance!EX$19)*100,1))","v":36.299999999999997},{"$f":"IF(Balance!EY6=\"-\",\"-\",ROUND((Balance!EY6/Balance!EY$19)*100,1))","v":37.4},{"$f":"IF(Balance!EZ6=\"-\",\"-\",ROUND((Balance!EZ6/Balance!EZ$19)*100,1))","v":33.299999999999997},{"$f":"IF(Balance!FA6=\"-\",\"-\",ROUND((Balance!FA6/Balance!FA$19)*100,1))","v":33.700000000000003},{"$f":"IF(Balance!FB6=\"-\",\"-\",ROUND((Balance!FB6/Balance!FB$19)*100,1))","v":23.9},{"$f":"IF(Balance!FC6=\"-\",\"-\",ROUND((Balance!FC6/Balance!FC$19)*100,1))","v":22.6},{"$f":"IF(Balance!FD6=\"-\",\"-\",ROUND((Balance!FD6/Balance!FD$19)*100,1))","v":27.3},{"$f":"IF(Balance!FE6=\"-\",\"-\",ROUND((Balance!FE6/Balance!FE$19)*100,1))","v":28.1},{"$f":"IF(Balance!FF6=\"-\",\"-\",ROUND((Balance!FF6/Balance!FF$19)*100,1))","v":28.5},{"$f":"IF(Balance!FG6=\"-\",\"-\",ROUND((Balance!FG6/Balance!FG$19)*100,1))","v":29.1},{"$f":"IF(Balance!FH6=\"-\",\"-\",ROUND((Balance!FH6/Balance!FH$19)*100,1))","v":32.5},{"$f":"IF(Balance!FI6=\"-\",\"-\",ROUND((Balance!FI6/Balance!FI$19)*100,1))","v":32.9},{"$f":"IF(Balance!FJ6=\"-\",\"-\",ROUND((Balance!FJ6/Balance!FJ$19)*100,1))","v":34.9},{"$f":"IF(Balance!FK6=\"-\",\"-\",ROUND((Balance!FK6/Balance!FK$19)*100,1))","v":35.5},{"$f":"IF(Balance!FL6=\"-\",\"-\",ROUND((Balance!FL6/Balance!FL$19)*100,1))","v":33.9},{"$f":"IF(Balance!FM6=\"-\",\"-\",ROUND((Balance!FM6/Balance!FM$19)*100,1))","v":29},{"$f":"IF(Balance!FN6=\"-\",\"-\",ROUND((Balance!FN6/Balance!FN$19)*100,1))","v":24.1},{"$f":"IF(Balance!FO6=\"-\",\"-\",ROUND((Balance!FO6/Balance!FO$19)*100,1))","v":26.9},{"$f":"IF(Balance!FP6=\"-\",\"-\",ROUND((Balance!FP6/Balance!FP$19)*100,1))","v":29.3},{"$f":"IF(Balance!FQ6=\"-\",\"-\",ROUND((Balance!FQ6/Balance!FQ$19)*100,1))","v":30},{"$f":"IF(Balance!FR6=\"-\",\"-\",ROUND((Balance!FR6/Balance!FR$19)*100,1))","v":26.9},{"$f":"IF(Balance!FS6=\"-\",\"-\",ROUND((Balance!FS6/Balance!FS$19)*100,1))","v":27.7},{"$f":"IF(Balance!FT6=\"-\",\"-\",ROUND((Balance!FT6/Balance!FT$19)*100,1))","v":29.2},{"$f":"IF(Balance!FU6=\"-\",\"-\",ROUND((Balance!FU6/Balance!FU$19)*100,1))","v":30.7},{"$f":"IF(Balance!FV6=\"-\",\"-\",ROUND((Balance!FV6/Balance!FV$19)*100,1))","v":31.9},{"$f":"IF(Balance!FW6=\"-\",\"-\",ROUND((Balance!FW6/Balance!FW$19)*100,1))","v":31.6},{"$f":"IF(Balance!FX6=\"-\",\"-\",ROUND((Balance!FX6/Balance!FX$19)*100,1))","v":31.1},{"$f":"IF(Balance!FY6=\"-\",\"-\",ROUND((Balance!FY6/Balance!FY$19)*100,1))","v":28.9},{"$f":"IF(Balance!FZ6=\"-\",\"-\",ROUND((Balance!FZ6/Balance!FZ$19)*100,1))","v":30.8},{"$f":"IF(Balance!GA6=\"-\",\"-\",ROUND((Balance!GA6/Balance!GA$19)*100,1))","v":30},{"$f":"IF(Balance!GB6=\"-\",\"-\",ROUND((Balance!GB6/Balance!GB$19)*100,1))","v":28.8},{"$f":"IF(Balance!GC6=\"-\",\"-\",ROUND((Balance!GC6/Balance!GC$19)*100,1))","v":28.7},{"$f":"IF(Balance!GD6=\"-\",\"-\",ROUND((Balance!GD6/Balance!GD$19)*100,1))","v":28.3},{"$f":"IF(Balance!GE6=\"-\",\"-\",ROUND((Balance!GE6/Balance!GE$19)*100,1))","v":28.9},{"$f":"IF(Balance!GF6=\"-\",\"-\",ROUND((Balance!GF6/Balance!GF$19)*100,1))","v":27.5},{"$f":"IF(Balance!GG6=\"-\",\"-\",ROUND((Balance!GG6/Balance!GG$19)*100,1))","v":28.2},{"$f":"IF(Balance!GH6=\"-\",\"-\",ROUND((Balance!GH6/Balance!GH$19)*100,1))","v":28.5},{"$f":"IF(Balance!GI6=\"-\",\"-\",ROUND((Balance!GI6/Balance!GI$19)*100,1))","v":28.8},{"$f":"IF(Balance!GJ6=\"-\",\"-\",ROUND((Balance!GJ6/Balance!GJ$19)*100,1))","v":30.1},{"$f":"IF(Balance!GK6=\"-\",\"-\",ROUND((Balance!GK6/Balance!GK$19)*100,1))","v":29},{"$f":"IF(Balance!GL6=\"-\",\"-\",ROUND((Balance!GL6/Balance!GL$19)*100,1))","v":28},{"$f":"IF(Balance!GM6=\"-\",\"-\",ROUND((Balance!GM6/Balance!GM$19)*100,1))","v":28.2},{"$f":"IF(Balance!GN6=\"-\",\"-\",ROUND((Balance!GN6/Balance!GN$19)*100,1))","v":25.8},{"$f":"IF(Balance!GO6=\"-\",\"-\",ROUND((Balance!GO6/Balance!GO$19)*100,1))","v":20.6},{"$f":"IF(Balance!GP6=\"-\",\"-\",ROUND((Balance!GP6/Balance!GP$19)*100,1))","v":18.5},{"$f":"IF(Balance!GQ6=\"-\",\"-\",ROUND((Balance!GQ6/Balance!GQ$19)*100,1))","v":24.6},{"$f":"IF(Balance!GR6=\"-\",\"-\",ROUND((Balance!GR6/Balance!GR$19)*100,1))","v":25.9},{"$f":"IF(Balance!GS6=\"-\",\"-\",ROUND((Balance!GS6/Balance!GS$19)*100,1))","v":27.2},{"$f":"IF(Balance!GT6=\"-\",\"-\",ROUND((Balance!GT6/Balance!GT$19)*100,1))","v":25.2},{"$f":"IF(Balance!GU6=\"-\",\"-\",ROUND((Balance!GU6/Balance!GU$19)*100,1))","v":25},{"$f":"IF(Balance!GV6=\"-\",\"-\",ROUND((Balance!GV6/Balance!GV$19)*100,1))","v":22.6},{"$f":"IF(Balance!GW6=\"-\",\"-\",ROUND((Balance!GW6/Balance!GW$19)*100,1))","v":19.899999999999999},{"$f":"IF(Balance!GX6=\"-\",\"-\",ROUND((Balance!GX6/Balance!GX$19)*100,1))","v":18.3},{"$f":"IF(Balance!GY6=\"-\",\"-\",ROUND((Balance!GY6/Balance!GY$19)*100,1))","v":25},{"$f":"IF(Balance!GZ6=\"-\",\"-\",ROUND((Balance!GZ6/Balance!GZ$19)*100,1))","v":22.4},{"$f":"IF(Balance!HA6=\"-\",\"-\",ROUND((Balance!HA6/Balance!HA$19)*100,1))","v":21},{"$f":"IF(Balance!HB6=\"-\",\"-\",ROUND((Balance!HB6/Balance!HB$19)*100,1))","v":28},{"$f":"IF(Balance!HC6=\"-\",\"-\",ROUND((Balance!HC6/Balance!HC$19)*100,1))","v":27.5},{"$f":"IF(Balance!HD6=\"-\",\"-\",ROUND((Balance!HD6/Balance!HD$19)*100,1))","v":26.7},{"$f":"IF(Balance!HE6=\"-\",\"-\",ROUND((Balance!HE6/Balance!HE$19)*100,1))","v":25.3},{"$f":"IF(Balance!HF6=\"-\",\"-\",ROUND((Balance!HF6/Balance!HF$19)*100,1))","v":27},{"$f":"IF(Balance!HG6=\"-\",\"-\",ROUND((Balance!HG6/Balance!HG$19)*100,1))","v":24.9},{"$f":"IF(Balance!HH6=\"-\",\"-\",ROUND((Balance!HH6/Balance!HH$19)*100,1))","v":23.6},{"$f":"IF(Balance!HI6=\"-\",\"-\",ROUND((Balance!HI6/Balance!HI$19)*100,1))","v":22.9},{"$f":"IF(Balance!HJ6=\"-\",\"-\",ROUND((Balance!HJ6/Balance!HJ$19)*100,1))","v":24.3},{"$f":"IF(Balance!HK6=\"-\",\"-\",ROUND((Balance!HK6/Balance!HK$19)*100,1))","v":19.7},{"$f":"IF(Balance!HL6=\"-\",\"-\",ROUND((Balance!HL6/Balance!HL$19)*100,1))","v":19.5},{"$f":"IF(Balance!HM6=\"-\",\"-\",ROUND((Balance!HM6/Balance!HM$19)*100,1))","v":15.3},{"$f":"IF(Balance!HN6=\"-\",\"-\",ROUND((Balance!HN6/Balance!HN$19)*100,1))","v":13.5},{"$f":"IF(Balance!HO6=\"-\",\"-\",ROUND((Balance!HO6/Balance!HO$19)*100,1))","v":9.9},{"$f":"IF(Balance!HP6=\"-\",\"-\",ROUND((Balance!HP6/Balance!HP$19)*100,1))","v":9.1},{"$f":"IF(Balance!HQ6=\"-\",\"-\",ROUND((Balance!HQ6/Balance!HQ$19)*100,1))","v":15.1},{"$f":"IF(Balance!HR6=\"-\",\"-\",ROUND((Balance!HR6/Balance!HR$19)*100,1))","v":13.5},{"$f":"IF(Balance!HS6=\"-\",\"-\",ROUND((Balance!HS6/Balance!HS$19)*100,1))","v":15.5},{"$f":"IF(Balance!HT6=\"-\",\"-\",ROUND((Balance!HT6/Balance!HT$19)*100,1))","v":18.2},{"$f":"IF(Balance!HU6=\"-\",\"-\",ROUND((Balance!HU6/Balance!HU$19)*100,1))","v":17.5},{"$f":"IF(Balance!HV6=\"-\",\"-\",ROUND((Balance!HV6/Balance!HV$19)*100,1))","v":18.100000000000001},{"$f":"IF(Balance!HW6=\"-\",\"-\",ROUND((Balance!HW6/Balance!HW$19)*100,1))","v":18.2},{"$f":"IF(Balance!HX6=\"-\",\"-\",ROUND((Balance!HX6/Balance!HX$19)*100,1))","v":13.9},{"$f":"IF(Balance!HY6=\"-\",\"-\",ROUND((Balance!HY6/Balance!HY$19)*100,1))","v":13.9},{"$f":"IF(Balance!HZ6=\"-\",\"-\",ROUND((Balance!HZ6/Balance!HZ$19)*100,1))","v":8.9},{"$f":"IF(Balance!IA6=\"-\",\"-\",ROUND((Balance!IA6/Balance!IA$19)*100,1))","v":11},{"$f":"IF(Balance!IB6=\"-\",\"-\",ROUND((Balance!IB6/Balance!IB$19)*100,1))","v":11.4},{"$f":"IF(Balance!IC6=\"-\",\"-\",ROUND((Balance!IC6/Balance!IC$19)*100,1))","v":13.6},{"$f":"IF(Balance!ID6=\"-\",\"-\",ROUND((Balance!ID6/Balance!ID$19)*100,1))","v":8.1},{"$f":"IF(Balance!IE6=\"-\",\"-\",ROUND((Balance!IE6/Balance!IE$19)*100,1))","v":12.6},{"$f":"IF(Balance!IF6=\"-\",\"-\",ROUND((Balance!IF6/Balance!IF$19)*100,1))","v":14.2},{"$f":"IF(Balance!IG6=\"-\",\"-\",ROUND((Balance!IG6/Balance!IG$19)*100,1))","v":9.1},{"$f":"IF(Balance!IH6=\"-\",\"-\",ROUND((Balance!IH6/Balance!IH$19)*100,1))","v":7.8},{"$f":"IF(Balance!II6=\"-\",\"-\",ROUND((Balance!II6/Balance!II$19)*100,1))","v":6.8},{"$f":"IF(Balance!IJ6=\"-\",\"-\",ROUND((Balance!IJ6/Balance!IJ$19)*100,1))","v":6},{"$f":"IF(Balance!IK6=\"-\",\"-\",ROUND((Balance!IK6/Balance!IK$19)*100,1))","v":3.5},{"$f":"IF(Balance!IL6=\"-\",\"-\",ROUND((Balance!IL6/Balance!IL$19)*100,1))","v":3},{"$f":"IF(Balance!IM6=\"-\",\"-\",ROUND((Balance!IM6/Balance!IM$19)*100,1))","v":3.9},{"$f":"IF(Balance!IN6=\"-\",\"-\",ROUND((Balance!IN6/Balance!IN$19)*100,1))","v":6.2},{"$f":"IF(Balance!IO6=\"-\",\"-\",ROUND((Balance!IO6/Balance!IO$19)*100,1))","v":10.1},{"$f":"IF(Balance!IP6=\"-\",\"-\",ROUND((Balance!IP6/Balance!IP$19)*100,1))","v":12.6},{"$f":"IF(Balance!IQ6=\"-\",\"-\",ROUND((Balance!IQ6/Balance!IQ$19)*100,1))","v":13.6},{"$f":"IF(Balance!IR6=\"-\",\"-\",ROUND((Balance!IR6/Balance!IR$19)*100,1))","v":9},{"$f":"IF(Balance!IS6=\"-\",\"-\",ROUND((Balance!IS6/Balance!IS$19)*100,1))","v":7.1},{"$f":"IF(Balance!IT6=\"-\",\"-\",ROUND((Balance!IT6/Balance!IT$19)*100,1))","v":8.4},{"$f":"IF(Balance!IU6=\"-\",\"-\",ROUND((Balance!IU6/Balance!IU$19)*100,1))","v":8.3000000000000007},{"$f":"IF(Balance!IV6=\"-\",\"-\",ROUND((Balance!IV6/Balance!IV$19)*100,1))","v":11.2},{"$f":"IF(Balance!IW6=\"-\",\"-\",ROUND((Balance!IW6/Balance!IW$19)*100,1))","v":12.5},{"$f":"IF(Balance!IX6=\"-\",\"-\",ROUND((Balance!IX6/Balance!IX$19)*100,1))","v":11.8},{"$f":"IF(Balance!IY6=\"-\",\"-\",ROUND((Balance!IY6/Balance!IY$19)*100,1))","v":14.3},{"$f":"IF(Balance!IZ6=\"-\",\"-\",ROUND((Balance!IZ6/Balance!IZ$19)*100,1))","v":12.8},{"$f":"IF(Balance!JA6=\"-\",\"-\",ROUND((Balance!JA6/Balance!JA$19)*100,1))","v":18.5},{"$f":"IF(Balance!JB6=\"-\",\"-\",ROUND((Balance!JB6/Balance!JB$19)*100,1))","v":18.5},{"$f":"IF(Balance!JC6=\"-\",\"-\",ROUND((Balance!JC6/Balance!JC$19)*100,1))","v":21.5},{"$f":"IF(Balance!JD6=\"-\",\"-\",ROUND((Balance!JD6/Balance!JD$19)*100,1))","v":20.399999999999999},{"$f":"IF(Balance!JE6=\"-\",\"-\",ROUND((Balance!JE6/Balance!JE$19)*100,1))","v":18},{"$f":"IF(Balance!JF6=\"-\",\"-\",ROUND((Balance!JF6/Balance!JF$19)*100,1))","v":16.7},{"$f":"IF(Balance!JG6=\"-\",\"-\",ROUND((Balance!JG6/Balance!JG$19)*100,1))","v":21.4},{"$f":"IF(Balance!JH6=\"-\",\"-\",ROUND((Balance!JH6/Balance!JH$19)*100,1))","v":21.3},{"$f":"IF(Balance!JI6=\"-\",\"-\",ROUND((Balance!JI6/Balance!JI$19)*100,1))","v":19.600000000000001},{"$f":"IF(Balance!JJ6=\"-\",\"-\",ROUND((Balance!JJ6/Balance!JJ$19)*100,1))","v":11.8},{"$f":"IF(Balance!JK6=\"-\",\"-\",ROUND((Balance!JK6/Balance!JK$19)*100,1))","v":17.600000000000001},{"$f":"IF(Balance!JL6=\"-\",\"-\",ROUND((Balance!JL6/Balance!JL$19)*100,1))","v":23.3},{"$f":"IF(Balance!JM6=\"-\",\"-\",ROUND((Balance!JM6/Balance!JM$19)*100,1))","v":20.7},{"$f":"IF(Balance!JN6=\"-\",\"-\",ROUND((Balance!JN6/Balance!JN$19)*100,1))","v":21.4},{"$f":"IF(Balance!JO6=\"-\",\"-\",ROUND((Balance!JO6/Balance!JO$19)*100,1))","v":17.8},{"$f":"IF(Balance!JP6=\"-\",\"-\",ROUND((Balance!JP6/Balance!JP$19)*100,1))","v":18.8},{"$f":"IF(Balance!JQ6=\"-\",\"-\",ROUND((Balance!JQ6/Balance!JQ$19)*100,1))","v":18.2},{"$f":"IF(Balance!JR6=\"-\",\"-\",ROUND((Balance!JR6/Balance!JR$19)*100,1))","v":15.6},{"$f":"IF(Balance!JS6=\"-\",\"-\",ROUND((Balance!JS6/Balance!JS$19)*100,1))","v":12.2},{"$f":"IF(Balance!JT6=\"-\",\"-\",ROUND((Balance!JT6/Balance!JT$19)*100,1))","v":11.1},{"$f":"IF(Balance!JU6=\"-\",\"-\",ROUND((Balance!JU6/Balance!JU$19)*100,1))","v":5.5},{"$f":"IF(Balance!JV6=\"-\",\"-\",ROUND((Balance!JV6/Balance!JV$19)*100,1))","v":4.3},{"$f":"IF(Balance!JW6=\"-\",\"-\",ROUND((Balance!JW6/Balance!JW$19)*100,1))","v":9.5},{"$f":"IF(Balance!JX6=\"-\",\"-\",ROUND((Balance!JX6/Balance!JX$19)*100,1))","v":12.3},{"$f":"IF(Balance!JY6=\"-\",\"-\",ROUND((Balance!JY6/Balance!JY$19)*100,1))","v":22.6},{"$f":"IF(Balance!JZ6=\"-\",\"-\",ROUND((Balance!JZ6/Balance!JZ$19)*100,1))","v":20.3},{"$f":"IF(Balance!KA6=\"-\",\"-\",ROUND((Balance!KA6/Balance!KA$19)*100,1))","v":21.8},{"$f":"IF(Balance!KB6=\"-\",\"-\",ROUND((Balance!KB6/Balance!KB$19)*100,1))","v":19.3},{"$f":"IF(Balance!KC6=\"-\",\"-\",ROUND((Balance!KC6/Balance!KC$19)*100,1))","v":11.5},{"$f":"IF(Balance!KD6=\"-\",\"-\",ROUND((Balance!KD6/Balance!KD$19)*100,1))","v":20.399999999999999},{"$f":"IF(Balance!KE6=\"-\",\"-\",ROUND((Balance!KE6/Balance!KE$19)*100,1))","v":9.1999999999999993},{"$f":"IF(Balance!KF6=\"-\",\"-\",ROUND((Balance!KF6/Balance!KF$19)*100,1))","v":3.5},{"$f":"IF(Balance!KG6=\"-\",\"-\",ROUND((Balance!KG6/Balance!KG$19)*100,1))","v":5.3},{"$f":"IF(Balance!KH6=\"-\",\"-\",ROUND((Balance!KH6/Balance!KH$19)*100,1))","v":6.1},{"$f":"IF(Balance!KI6=\"-\",\"-\",ROUND((Balance!KI6/Balance!KI$19)*100,1))","v":15.7},{"$f":"IF(Balance!KJ6=\"-\",\"-\",ROUND((Balance!KJ6/Balance!KJ$19)*100,1))","v":24.6},{"$f":"IF(Balance!KK6=\"-\",\"-\",ROUND((Balance!KK6/Balance!KK$19)*100,1))","v":24.4},{"$f":"IF(Balance!KL6=\"-\",\"-\",ROUND((Balance!KL6/Balance!KL$19)*100,1))","v":24.3},{"$f":"IF(Balance!KM6=\"-\",\"-\",ROUND((Balance!KM6/Balance!KM$19)*100,1))","v":27.1},{"$f":"IF(Balance!KN6=\"-\",\"-\",ROUND((Balance!KN6/Balance!KN$19)*100,1))","v":21.4},{"$f":"IF(Balance!KO6=\"-\",\"-\",ROUND((Balance!KO6/Balance!KO$19)*100,1))","v":15.6},{"$f":"IF(Balance!KP6=\"-\",\"-\",ROUND((Balance!KP6/Balance!KP$19)*100,1))","v":18.2},{"$f":"IF(Balance!KQ6=\"-\",\"-\",ROUND((Balance!KQ6/Balance!KQ$19)*100,1))","v":20.8},{"$f":"IF(Balance!KR6=\"-\",\"-\",ROUND((Balance!KR6/Balance!KR$19)*100,1))","v":13.2},{"$f":"IF(Balance!KS6=\"-\",\"-\",ROUND((Balance!KS6/Balance!KS$19)*100,1))","v":11.7},{"$f":"IF(Balance!KT6=\"-\",\"-\",ROUND((Balance!KT6/Balance!KT$19)*100,1))","v":15},{"$f":"IF(Balance!KU6=\"-\",\"-\",ROUND((Balance!KU6/Balance!KU$19)*100,1))","v":14},{"$f":"IF(Balance!KV6=\"-\",\"-\",ROUND((Balance!KV6/Balance!KV$19)*100,1))","v":25.8},{"$f":"IF(Balance!KW6=\"-\",\"-\",ROUND((Balance!KW6/Balance!KW$19)*100,1))","v":25.3},{"$f":"IF(Balance!KX6=\"-\",\"-\",ROUND((Balance!KX6/Balance!KX$19)*100,1))","v":24.1},{"$f":"IF(Balance!KY6=\"-\",\"-\",ROUND((Balance!KY6/Balance!KY$19)*100,1))","v":22.8},{"$f":"IF(Balance!KZ6=\"-\",\"-\",ROUND((Balance!KZ6/Balance!KZ$19)*100,1))","v":21.8},{"$f":"IF(Balance!LA6=\"-\",\"-\",ROUND((Balance!LA6/Balance!LA$19)*100,1))","v":23},{"$f":"IF(Balance!LB6=\"-\",\"-\",ROUND((Balance!LB6/Balance!LB$19)*100,1))","v":22.5},{"$f":"IF(Balance!LC6=\"-\",\"-\",ROUND((Balance!LC6/Balance!LC$19)*100,1))","v":11.9},{"$f":"IF(Balance!LD6=\"-\",\"-\",ROUND((Balance!LD6/Balance!LD$19)*100,1))","v":8.6999999999999993},{"$f":"IF(Balance!LE6=\"-\",\"-\",ROUND((Balance!LE6/Balance!LE$19)*100,1))","v":7.7},{"$f":"IF(Balance!LF6=\"-\",\"-\",ROUND((Balance!LF6/Balance!LF$19)*100,1))","v":4.4000000000000004},{"$f":"IF(Balance!LG6=\"-\",\"-\",ROUND((Balance!LG6/Balance!LG$19)*100,1))","v":5.3},{"$f":"IF(Balance!LH6=\"-\",\"-\",ROUND((Balance!LH6/Balance!LH$19)*100,1))","v":10.5},{"$f":"IF(Balance!LI6=\"-\",\"-\",ROUND((Balance!LI6/Balance!LI$19)*100,1))","v":16.899999999999999},{"$f":"IF(Balance!LJ6=\"-\",\"-\",ROUND((Balance!LJ6/Balance!LJ$19)*100,1))","v":16.399999999999999},{"$f":"IF(Balance!LK6=\"-\",\"-\",ROUND((Balance!LK6/Balance!LK$19)*100,1))","v":21.6},{"$f":"IF(Balance!LL6=\"-\",\"-\",ROUND((Balance!LL6/Balance!LL$19)*100,1))","v":20.8},{"$f":"IF(Balance!LM6=\"-\",\"-\",ROUND((Balance!LM6/Balance!LM$19)*100,1))","v":21.5},{"$f":"IF(Balance!LN6=\"-\",\"-\",ROUND((Balance!LN6/Balance!LN$19)*100,1))","v":24.2},{"$f":"IF(Balance!LO6=\"-\",\"-\",ROUND((Balance!LO6/Balance!LO$19)*100,1))","v":21.4},{"$f":"IF(Balance!LP6=\"-\",\"-\",ROUND((Balance!LP6/Balance!LP$19)*100,1))","v":16.600000000000001},{"$f":"IF(Balance!LQ6=\"-\",\"-\",ROUND((Balance!LQ6/Balance!LQ$19)*100,1))","v":8.9},{"$f":"IF(Balance!LR6=\"-\",\"-\",ROUND((Balance!LR6/Balance!LR$19)*100,1))","v":10.5},{"$f":"IF(Balance!LS6=\"-\",\"-\",ROUND((Balance!LS6/Balance!LS$19)*100,1))","v":18.5},{"$f":"IF(Balance!LT6=\"-\",\"-\",ROUND((Balance!LT6/Balance!LT$19)*100,1))","v":20.5},{"$f":"IF(Balance!LU6=\"-\",\"-\",ROUND((Balance!LU6/Balance!LU$19)*100,1))","v":18.8},{"$f":"IF(Balance!LV6=\"-\",\"-\",ROUND((Balance!LV6/Balance!LV$19)*100,1))","v":14.6},{"$f":"IF(Balance!LW6=\"-\",\"-\",ROUND((Balance!LW6/Balance!LW$19)*100,1))","v":14.8},{"$f":"IF(Balance!LX6=\"-\",\"-\",ROUND((Balance!LX6/Balance!LX$19)*100,1))","v":19.3},{"$f":"IF(Balance!LY6=\"-\",\"-\",ROUND((Balance!LY6/Balance!LY$19)*100,1))","v":21.6},{"$f":"IF(Balance!LZ6=\"-\",\"-\",ROUND((Balance!LZ6/Balance!LZ$19)*100,1))","v":17.899999999999999},{"$f":"IF(Balance!MA6=\"-\",\"-\",ROUND((Balance!MA6/Balance!MA$19)*100,1))","v":13.9},{"$f":"IF(Balance!MB6=\"-\",\"-\",ROUND((Balance!MB6/Balance!MB$19)*100,1))","v":"-"},{"$f":"IF(Balance!MC6=\"-\",\"-\",ROUND((Balance!MC6/Balance!MC$19)*100,1))","v":"-"},{"$f":"IF(Balance!MD6=\"-\",\"-\",ROUND((Balance!MD6/Balance!MD$19)*100,1))","v":"-"},{"$f":"IF(Balance!ME6=\"-\",\"-\",ROUND((Balance!ME6/Balance!ME$19)*100,1))","v":"-"},{"$f":"IF(Balance!MF6=\"-\",\"-\",ROUND((Balance!MF6/Balance!MF$19)*100,1))","v":"-"},{"$f":"IF(Balance!MG6=\"-\",\"-\",ROUND((Balance!MG6/Balance!MG$19)*100,1))","v":"-"},{"$f":"IF(Balance!MH6=\"-\",\"-\",ROUND((Balance!MH6/Balance!MH$19)*100,1))","v":"-"},{"$f":"IF(Balance!MI6=\"-\",\"-\",ROUND((Balance!MI6/Balance!MI$19)*100,1))","v":"-"},{"$f":"IF(Balance!MJ6=\"-\",\"-\",ROUND((Balance!MJ6/Balance!MJ$19)*100,1))","v":"-"},{"$f":"IF(Balance!MK6=\"-\",\"-\",ROUND((Balance!MK6/Balance!MK$19)*100,1))","v":"-"},{"$f":"IF(Balance!ML6=\"-\",\"-\",ROUND((Balance!ML6/Balance!ML$19)*100,1))","v":"-"}]
[null,"Fuel + Gas",{"$f":"IF(Balance!C7=\"-\",\"-\",ROUND((Balance!C7/Balance!C$19)*100,1))","v":1.6},{"$f":"IF(Balance!D7=\"-\",\"-\",ROUND((Balance!D7/Balance!D$19)*100,1))","v":1},{"$f":"IF(Balance!E7=\"-\",\"-\",ROUND((Balance!E7/Balance!E$19)*100,1))","v":0.9},{"$f":"IF(Balance!F7=\"-\",\"-\",ROUND((Balance!F7/Balance!F$19)*100,1))","v":0.8},{"$f":"IF(Balance!G7=\"-\",\"-\",ROUND((Balance!G7/Balance!G$19)*100,1))","v":1.9},{"$f":"IF(Balance!H7=\"-\",\"-\",ROUND((Balance!H7/Balance!H$19)*100,1))","v":3.5},{"$f":"IF(Balance!I7=\"-\",\"-\",ROUND((Balance!I7/Balance!I$19)*100,1))","v":3.6},{"$f":"IF(Balance!J7=\"-\",\"-\",ROUND((Balance!J7/Balance!J$19)*100,1))","v":1.5},{"$f":"IF(Balance!K7=\"-\",\"-\",ROUND((Balance!K7/Balance!K$19)*100,1))","v":2.2000000000000002},{"$f":"IF(Balance!L7=\"-\",\"-\",ROUND((Balance!L7/Balance!L$19)*100,1))","v":2.6},{"$f":"IF(Balance!M7=\"-\",\"-\",ROUND((Balance!M7/Balance!M$19)*100,1))","v":2.2999999999999998},{"$f":"IF(Balance!N7=\"-\",\"-\",ROUND((Balance!N7/Balance!N$19)*100,1))","v":3.2},{"$f":"IF(Balance!O7=\"-\",\"-\",ROUND((Balance!O7/Balance!O$19)*100,1))","v":1.9},{"$f":"IF(Balance!P7=\"-\",\"-\",ROUND((Balance!P7/Balance!P$19)*100,1))","v":2.7},{"$f":"IF(Balance!Q7=\"-\",\"-\",ROUND((Balance!Q7/Balance!Q$19)*100,1))","v":1.1000000000000001},{"$f":"IF(Balance!R7=\"-\",\"-\",ROUND((Balance!R7/Balance!R$19)*100,1))","v":1.6},{"$f":"IF(Balance!S7=\"-\",\"-\",ROUND((Balance!S7/Balance!S$19)*100,1))","v":1.8},{"$f":"IF(Balance!T7=\"-\",\"-\",ROUND((Balance!T7/Balance!T$19)*100,1))","v":2.5},{"$f":"IF(Balance!U7=\"-\",\"-\",ROUND((Balance!U7/Balance!U$19)*100,1))","v":5.7},{"$f":"IF(Balance!V7=\"-\",\"-\",ROUND((Balance!V7/Balance!V$19)*100,1))","v":1.7},{"$f":"IF(Balance!W7=\"-\",\"-\",ROUND((Balance!W7/Balance!W$19)*100,1))","v":5.7},{"$f":"IF(Balance!X7=\"-\",\"-\",ROUND((Balance!X7/Balance!X$19)*100,1))","v":2.6},{"$f":"IF(Balance!Y7=\"-\",\"-\",ROUND((Balance!Y7/Balance!Y$19)*100,1))","v":3},{"$f":"IF(Balance!Z7=\"-\",\"-\",ROUND((Balance!Z7/Balance!Z$19)*100,1))","v":3.7},{"$f":"IF(Balance!AA7=\"-\",\"-\",ROUND((Balance!AA7/Balance!AA$19)*100,1))","v":9.1999999999999993},{"$f":"IF(Balance!AB7=\"-\",\"-\",ROUND((Balance!AB7/Balance!AB$19)*100,1))","v":13.8},{"$f":"IF(Balance!AC7=\"-\",\"-\",ROUND((Balance!AC7/Balance!AC$19)*100,1))","v":11.3},{"$f":"IF(Balance!AD7=\"-\",\"-\",ROUND((Balance!AD7/Balance!AD$19)*100,1))","v":6.2},{"$f":"IF(Balance!AE7=\"-\",\"-\",ROUND((Balance!AE7/Balance!AE$19)*100,1))","v":5.5},{"$f":"IF(Balance!AF7=\"-\",\"-\",ROUND((Balance!AF7/Balance!AF$19)*100,1))","v":1.4},{"$f":"IF(Balance!AG7=\"-\",\"-\",ROUND((Balance!AG7/Balance!AG$19)*100,1))","v":3.4},{"$f":"IF(Balance!AH7=\"-\",\"-\",ROUND((Balance!AH7/Balance!AH$19)*100,1))","v":2.1},{"$f":"IF(Balance!AI7=\"-\",\"-\",ROUND((Balance!AI7/Balance!AI$19)*100,1))","v":4.5999999999999996},{"$f":"IF(Balance!AJ7=\"-\",\"-\",ROUND((Balance!AJ7/Balance!AJ$19)*100,1))","v":1.6},{"$f":"IF(Balance!AK7=\"-\",\"-\",ROUND((Balance!AK7/Balance!AK$19)*100,1))","v":0.7},{"$f":"IF(Balance!AL7=\"-\",\"-\",ROUND((Balance!AL7/Balance!AL$19)*100,1))","v":0.3},{"$f":"IF(Balance!AM7=\"-\",\"-\",ROUND((Balance!AM7/Balance!AM$19)*100,1))","v":0.7},{"$f":"IF(Balance!AN7=\"-\",\"-\",ROUND((Balance!AN7/Balance!AN$19)*100,1))","v":2.9},{"$f":"IF(Balance!AO7=\"-\",\"-\",ROUND((Balance!AO7/Balance!AO$19)*100,1))","v":2.8},{"$f":"IF(Balance!AP7=\"-\",\"-\",ROUND((Balance!AP7/Balance!AP$19)*100,1))","v":2.4},{"$f":"IF(Balance!AQ7=\"-\",\"-\",ROUND((Balance!AQ7/Balance!AQ$19)*100,1))","v":0.9},{"$f":"IF(Balance!AR7=\"-\",\"-\",ROUND((Balance!AR7/Balance!AR$19)*100,1))","v":1.1000000000000001},{"$f":"IF(Balance!AS7=\"-\",\"-\",ROUND((Balance!AS7/Balance!AS$19)*100,1))","v":0.3},{"$f":"IF(Balance!AT7=\"-\",\"-\",ROUND((Balance!AT7/Balance!AT$19)*100,1))","v":0.8},{"$f":"IF(Balance!AU7=\"-\",\"-\",ROUND((Balance!AU7/Balance!AU$19)*100,1))","v":1.6},{"$f":"IF(Balance!AV7=\"-\",\"-\",ROUND((Balance!AV7/Balance!AV$19)*100,1))","v":0.4},{"$f":"IF(Balance!AW7=\"-\",\"-\",ROUND((Balance!AW7/Balance!AW$19)*100,1))","v":0.6},{"$f":"IF(Balance!AX7=\"-\",\"-\",ROUND((Balance!AX7/Balance!AX$19)*100,1))","v":0.6},{"$f":"IF(Balance!AY7=\"-\",\"-\",ROUND((Balance!AY7/Balance!AY$19)*100,1))","v":0.7},{"$f":"IF(Balance!AZ7=\"-\",\"-\",ROUND((Balance!AZ7/Balance!AZ$19)*100,1))","v":0.7},{"$f":"IF(Balance!BA7=\"-\",\"-\",ROUND((Balance!BA7/Balance!BA$19)*100,1))","v":1},{"$f":"IF(Balance!BB7=\"-\",\"-\",ROUND((Balance!BB7/Balance!BB$19)*100,1))","v":1.1000000000000001},{"$f":"IF(Balance!BC7=\"-\",\"-\",ROUND((Balance!BC7/Balance!BC$19)*100,1))","v":0.2},{"$f":"IF(Balance!BD7=\"-\",\"-\",ROUND((Balance!BD7/Balance!BD$19)*100,1))","v":0.8},{"$f":"IF(Balance!BE7=\"-\",\"-\",ROUND((Balance!BE7/Balance!BE$19)*100,1))","v":3},{"$f":"IF(Balance!BF7=\"-\",\"-\",ROUND((Balance!BF7/Balance!BF$19)*100,1))","v":0.5},{"$f":"IF(Balance!BG7=\"-\",\"-\",ROUND((Balance!BG7/Balance!BG$19)*100,1))","v":0.7},{"$f":"IF(Balance!BH7=\"-\",\"-\",ROUND((Balance!BH7/Balance!BH$19)*100,1))","v":1},{"$f":"IF(Balance!BI7=\"-\",\"-\",ROUND((Balance!BI7/Balance!BI$19)*100,1))","v":0.5},{"$f":"IF(Balance!BJ7=\"-\",\"-\",ROUND((Balance!BJ7/Balance!BJ$19)*100,1))","v":1.3},{"$f":"IF(Balance!BK7=\"-\",\"-\",ROUND((Balance!BK7/Balance!BK$19)*100,1))","v":1.1000000000000001},{"$f":"IF(Balance!BL7=\"-\",\"-\",ROUND((Balance!BL7/Balance!BL$19)*100,1))","v":0.3},{"$f":"IF(Balance!BM7=\"-\",\"-\",ROUND((Balance!BM7/Balance!BM$19)*100,1))","v":1.1000000000000001},{"$f":"IF(Balance!BN7=\"-\",\"-\",ROUND((Balance!BN7/Balance!BN$19)*100,1))","v":1},{"$f":"IF(Balance!BO7=\"-\",\"-\",ROUND((Balance!BO7/Balance!BO$19)*100,1))","v":0.9},{"$f":"IF(Balance!BP7=\"-\",\"-\",ROUND((Balance!BP7/Balance!BP$19)*100,1))","v":2.4},{"$f":"IF(Balance!BQ7=\"-\",\"-\",ROUND((Balance!BQ7/Balance!BQ$19)*100,1))","v":4.5999999999999996},{"$f":"IF(Balance!BR7=\"-\",\"-\",ROUND((Balance!BR7/Balance!BR$19)*100,1))","v":2},{"$f":"IF(Balance!BS7=\"-\",\"-\",ROUND((Balance!BS7/Balance!BS$19)*100,1))","v":4.8},{"$f":"IF(Balance!BT7=\"-\",\"-\",ROUND((Balance!BT7/Balance!BT$19)*100,1))","v":5.4},{"$f":"IF(Balance!BU7=\"-\",\"-\",ROUND((Balance!BU7/Balance!BU$19)*100,1))","v":3.5},{"$f":"IF(Balance!BV7=\"-\",\"-\",ROUND((Balance!BV7/Balance!BV$19)*100,1))","v":2.4},{"$f":"IF(Balance!BW7=\"-\",\"-\",ROUND((Balance!BW7/Balance!BW$19)*100,1))","v":0.1},{"$f":"IF(Balance!BX7=\"-\",\"-\",ROUND((Balance!BX7/Balance!BX$19)*100,1))","v":1.3},{"$f":"IF(Balance!BY7=\"-\",\"-\",ROUND((Balance!BY7/Balance!BY$19)*100,1))","v":1.9},{"$f":"IF(Balance!BZ7=\"-\",\"-\",ROUND((Balance!BZ7/Balance!BZ$19)*100,1))","v":1.2},{"$f":"IF(Balance!CA7=\"-\",\"-\",ROUND((Balance!CA7/Balance!CA$19)*100,1))","v":0.2},{"$f":"IF(Balance!CB7=\"-\",\"-\",ROUND((Balance!CB7/Balance!CB$19)*100,1))","v":1.3},{"$f":"IF(Balance!CC7=\"-\",\"-\",ROUND((Balance!CC7/Balance!CC$19)*100,1))","v":2},{"$f":"IF(Balance!CD7=\"-\",\"-\",ROUND((Balance!CD7/Balance!CD$19)*100,1))","v":1.2},{"$f":"IF(Balance!CE7=\"-\",\"-\",ROUND((Balance!CE7/Balance!CE$19)*100,1))","v":1.9},{"$f":"IF(Balance!CF7=\"-\",\"-\",ROUND((Balance!CF7/Balance!CF$19)*100,1))","v":0.7},{"$f":"IF(Balance!CG7=\"-\",\"-\",ROUND((Balance!CG7/Balance!CG$19)*100,1))","v":1.8},{"$f":"IF(Balance!CH7=\"-\",\"-\",ROUND((Balance!CH7/Balance!CH$19)*100,1))","v":2},{"$f":"IF(Balance!CI7=\"-\",\"-\",ROUND((Balance!CI7/Balance!CI$19)*100,1))","v":1.7},{"$f":"IF(Balance!CJ7=\"-\",\"-\",ROUND((Balance!CJ7/Balance!CJ$19)*100,1))","v":3},{"$f":"IF(Balance!CK7=\"-\",\"-\",ROUND((Balance!CK7/Balance!CK$19)*100,1))","v":3.4},{"$f":"IF(Balance!CL7=\"-\",\"-\",ROUND((Balance!CL7/Balance!CL$19)*100,1))","v":3.7},{"$f":"IF(Balance!CM7=\"-\",\"-\",ROUND((Balance!CM7/Balance!CM$19)*100,1))","v":3.2},{"$f":"IF(Balance!CN7=\"-\",\"-\",ROUND((Balance!CN7/Balance!CN$19)*100,1))","v":3.7},{"$f":"IF(Balance!CO7=\"-\",\"-\",ROUND((Balance!CO7/Balance!CO$19)*100,1))","v":5.7},{"$f":"IF(Balance!CP7=\"-\",\"-\",ROUND((Balance!CP7/Balance!CP$19)*100,1))","v":4.3},{"$f":"IF(Balance!CQ7=\"-\",\"-\",ROUND((Balance!CQ7/Balance!CQ$19)*100,1))","v":5.3},{"$f":"IF(Balance!CR7=\"-\",\"-\",ROUND((Balance!CR7/Balance!CR$19)*100,1))","v":5.9},{"$f":"IF(Balance!CS7=\"-\",\"-\",ROUND((Balance!CS7/Balance!CS$19)*100,1))","v":3.8},{"$f":"IF(Balance!CT7=\"-\",\"-\",ROUND((Balance!CT7/Balance!CT$19)*100,1))","v":3.4},{"$f":"IF(Balance!CU7=\"-\",\"-\",ROUND((Balance!CU7/Balance!CU$19)*100,1))","v":0.5},{"$f":"IF(Balance!CV7=\"-\",\"-\",ROUND((Balance!CV7/Balance!CV$19)*100,1))","v":0.7},{"$f":"IF(Balance!CW7=\"-\",\"-\",ROUND((Balance!CW7/Balance!CW$19)*100,1))","v":1.1000000000000001},{"$f":"IF(Balance!CX7=\"-\",\"-\",ROUND((Balance!CX7/Balance!CX$19)*100,1))","v":0.4},{"$f":"IF(Balance!CY7=\"-\",\"-\",ROUND((Balance!CY7/Balance!CY$19)*100,1))","v":0.3},{"$f":"IF(Balance!CZ7=\"-\",\"-\",ROUND((Balance!CZ7/Balance!CZ$19)*100,1))","v":1.4},{"$f":"IF(Balance!DA7=\"-\",\"-\",ROUND((Balance!DA7/Balance!DA$19)*100,1))","v":3.1},{"$f":"IF(Balance!DB7=\"-\",\"-\",ROUND((Balance!DB7/Balance!DB$19)*100,1))","v":3.7},{"$f":"IF(Balance!DC7=\"-\",\"-\",ROUND((Balance!DC7/Balance!DC$19)*100,1))","v":5},{"$f":"IF(Balance!DD7=\"-\",\"-\",ROUND((Balance!DD7/Balance!DD$19)*100,1))","v":2.7},{"$f":"IF(Balance!DE7=\"-\",\"-\",ROUND((Balance!DE7/Balance!DE$19)*100,1))","v":6.8},{"$f":"IF(Balance!DF7=\"-\",\"-\",ROUND((Balance!DF7/Balance!DF$19)*100,1))","v":10.199999999999999},{"$f":"IF(Balance!DG7=\"-\",\"-\",ROUND((Balance!DG7/Balance!DG$19)*100,1))","v":9.1999999999999993},{"$f":"IF(Balance!DH7=\"-\",\"-\",ROUND((Balance!DH7/Balance!DH$19)*100,1))","v":12.5},{"$f":"IF(Balance!DI7=\"-\",\"-\",ROUND((Balance!DI7/Balance!DI$19)*100,1))","v":7.2},{"$f":"IF(Balance!DJ7=\"-\",\"-\",ROUND((Balance!DJ7/Balance!DJ$19)*100,1))","v":3.9},{"$f":"IF(Balance!DK7=\"-\",\"-\",ROUND((Balance!DK7/Balance!DK$19)*100,1))","v":1.2},{"$f":"IF(Balance!DL7=\"-\",\"-\",ROUND((Balance!DL7/Balance!DL$19)*100,1))","v":3.6},{"$f":"IF(Balance!DM7=\"-\",\"-\",ROUND((Balance!DM7/Balance!DM$19)*100,1))","v":7.1},{"$f":"IF(Balance!DN7=\"-\",\"-\",ROUND((Balance!DN7/Balance!DN$19)*100,1))","v":4.8},{"$f":"IF(Balance!DO7=\"-\",\"-\",ROUND((Balance!DO7/Balance!DO$19)*100,1))","v":3.9},{"$f":"IF(Balance!DP7=\"-\",\"-\",ROUND((Balance!DP7/Balance!DP$19)*100,1))","v":1},{"$f":"IF(Balance!DQ7=\"-\",\"-\",ROUND((Balance!DQ7/Balance!DQ$19)*100,1))","v":2.6},{"$f":"IF(Balance!DR7=\"-\",\"-\",ROUND((Balance!DR7/Balance!DR$19)*100,1))","v":4.0999999999999996},{"$f":"IF(Balance!DS7=\"-\",\"-\",ROUND((Balance!DS7/Balance!DS$19)*100,1))","v":6.2},{"$f":"IF(Balance!DT7=\"-\",\"-\",ROUND((Balance!DT7/Balance!DT$19)*100,1))","v":3.2},{"$f":"IF(Balance!DU7=\"-\",\"-\",ROUND((Balance!DU7/Balance!DU$19)*100,1))","v":6.9},{"$f":"IF(Balance!DV7=\"-\",\"-\",ROUND((Balance!DV7/Balance!DV$19)*100,1))","v":4.8},{"$f":"IF(Balance!DW7=\"-\",\"-\",ROUND((Balance!DW7/Balance!DW$19)*100,1))","v":1.1000000000000001},{"$f":"IF(Balance!DX7=\"-\",\"-\",ROUND((Balance!DX7/Balance!DX$19)*100,1))","v":4.0999999999999996},{"$f":"IF(Balance!DY7=\"-\",\"-\",ROUND((Balance!DY7/Balance!DY$19)*100,1))","v":5.4},{"$f":"IF(Balance!DZ7=\"-\",\"-\",ROUND((Balance!DZ7/Balance!DZ$19)*100,1))","v":4.7},{"$f":"IF(Balance!EA7=\"-\",\"-\",ROUND((Balance!EA7/Balance!EA$19)*100,1))","v":9.1},{"$f":"IF(Balance!EB7=\"-\",\"-\",ROUND((Balance!EB7/Balance!EB$19)*100,1))","v":5.9},{"$f":"IF(Balance!EC7=\"-\",\"-\",ROUND((Balance!EC7/Balance!EC$19)*100,1))","v":4.5},{"$f":"IF(Balance!ED7=\"-\",\"-\",ROUND((Balance!ED7/Balance!ED$19)*100,1))","v":2.8},{"$f":"IF(Balance!EE7=\"-\",\"-\",ROUND((Balance!EE7/Balance!EE$19)*100,1))","v":2.7},{"$f":"IF(Balance!EF7=\"-\",\"-\",ROUND((Balance!EF7/Balance!EF$19)*100,1))","v":2.4},{"$f":"IF(Balance!EG7=\"-\",\"-\",ROUND((Balance!EG7/Balance!EG$19)*100,1))","v":2.2999999999999998},{"$f":"IF(Balance!EH7=\"-\",\"-\",ROUND((Balance!EH7/Balance!EH$19)*100,1))","v":1.1000000000000001},{"$f":"IF(Balance!EI7=\"-\",\"-\",ROUND((Balance!EI7/Balance!EI$19)*100,1))","v":2},{"$f":"IF(Balance!EJ7=\"-\",\"-\",ROUND((Balance!EJ7/Balance!EJ$19)*100,1))","v":6.8},{"$f":"IF(Balance!EK7=\"-\",\"-\",ROUND((Balance!EK7/Balance!EK$19)*100,1))","v":7.7},{"$f":"IF(Balance!EL7=\"-\",\"-\",ROUND((Balance!EL7/Balance!EL$19)*100,1))","v":7.2},{"$f":"IF(Balance!EM7=\"-\",\"-\",ROUND((Balance!EM7/Balance!EM$19)*100,1))","v":7.8},{"$f":"IF(Balance!EN7=\"-\",\"-\",ROUND((Balance!EN7/Balance!EN$19)*100,1))","v":7.6},{"$f":"IF(Balance!EO7=\"-\",\"-\",ROUND((Balance!EO7/Balance!EO$19)*100,1))","v":7.4},{"$f":"IF(Balance!EP7=\"-\",\"-\",ROUND((Balance!EP7/Balance!EP$19)*100,1))","v":11.4},{"$f":"IF(Balance!EQ7=\"-\",\"-\",ROUND((Balance!EQ7/Balance!EQ$19)*100,1))","v":13.7},{"$f":"IF(Balance!ER7=\"-\",\"-\",ROUND((Balance!ER7/Balance!ER$19)*100,1))","v":9.6},{"$f":"IF(Balance!ES7=\"-\",\"-\",ROUND((Balance!ES7/Balance!ES$19)*100,1))","v":8.1999999999999993},{"$f":"IF(Balance!ET7=\"-\",\"-\",ROUND((Balance!ET7/Balance!ET$19)*100,1))","v":8.3000000000000007},{"$f":"IF(Balance!EU7=\"-\",\"-\",ROUND((Balance!EU7/Balance!EU$19)*100,1))","v":6.2},{"$f":"IF(Balance!EV7=\"-\",\"-\",ROUND((Balance!EV7/Balance!EV$19)*100,1))","v":9.1999999999999993},{"$f":"IF(Balance!EW7=\"-\",\"-\",ROUND((Balance!EW7/Balance!EW$19)*100,1))","v":10.199999999999999},{"$f":"IF(Balance!EX7=\"-\",\"-\",ROUND((Balance!EX7/Balance!EX$19)*100,1))","v":5.3},{"$f":"IF(Balance!EY7=\"-\",\"-\",ROUND((Balance!EY7/Balance!EY$19)*100,1))","v":7},{"$f":"IF(Balance!EZ7=\"-\",\"-\",ROUND((Balance!EZ7/Balance!EZ$19)*100,1))","v":4.9000000000000004},{"$f":"IF(Balance!FA7=\"-\",\"-\",ROUND((Balance!FA7/Balance!FA$19)*100,1))","v":2.7},{"$f":"IF(Balance!FB7=\"-\",\"-\",ROUND((Balance!FB7/Balance!FB$19)*100,1))","v":2},{"$f":"IF(Balance!FC7=\"-\",\"-\",ROUND((Balance!FC7/Balance!FC$19)*100,1))","v":2.8},{"$f":"IF(Balance!FD7=\"-\",\"-\",ROUND((Balance!FD7/Balance!FD$19)*100,1))","v":2.6},{"$f":"IF(Balance!FE7=\"-\",\"-\",ROUND((Balance!FE7/Balance!FE$19)*100,1))","v":1.1000000000000001},{"$f":"IF(Balance!FF7=\"-\",\"-\",ROUND((Balance!FF7/Balance!FF$19)*100,1))","v":0.5},{"$f":"IF(Balance!FG7=\"-\",\"-\",ROUND((Balance!FG7/Balance!FG$19)*100,1))","v":1.3},{"$f":"IF(Balance!FH7=\"-\",\"-\",ROUND((Balance!FH7/Balance!FH$19)*100,1))","v":6.5},{"$f":"IF(Balance!FI7=\"-\",\"-\",ROUND((Balance!FI7/Balance!FI$19)*100,1))","v":5.9},{"$f":"IF(Balance!FJ7=\"-\",\"-\",ROUND((Balance!FJ7/Balance!FJ$19)*100,1))","v":5.6},{"$f":"IF(Balance!FK7=\"-\",\"-\",ROUND((Balance!FK7/Balance!FK$19)*100,1))","v":5.0999999999999996},{"$f":"IF(Balance!FL7=\"-\",\"-\",ROUND((Balance!FL7/Balance!FL$19)*100,1))","v":3.4},{"$f":"IF(Balance!FM7=\"-\",\"-\",ROUND((Balance!FM7/Balance!FM$19)*100,1))","v":1.8},{"$f":"IF(Balance!FN7=\"-\",\"-\",ROUND((Balance!FN7/Balance!FN$19)*100,1))","v":2},{"$f":"IF(Balance!FO7=\"-\",\"-\",ROUND((Balance!FO7/Balance!FO$19)*100,1))","v":2},{"$f":"IF(Balance!FP7=\"-\",\"-\",ROUND((Balance!FP7/Balance!FP$19)*100,1))","v":1.7},{"$f":"IF(Balance!FQ7=\"-\",\"-\",ROUND((Balance!FQ7/Balance!FQ$19)*100,1))","v":2.9},{"$f":"IF(Balance!FR7=\"-\",\"-\",ROUND((Balance!FR7/Balance!FR$19)*100,1))","v":0.9},{"$f":"IF(Balance!FS7=\"-\",\"-\",ROUND((Balance!FS7/Balance!FS$19)*100,1))","v":1.6},{"$f":"IF(Balance!FT7=\"-\",\"-\",ROUND((Balance!FT7/Balance!FT$19)*100,1))","v":3.7},{"$f":"IF(Balance!FU7=\"-\",\"-\",ROUND((Balance!FU7/Balance!FU$19)*100,1))","v":5.0999999999999996},{"$f":"IF(Balance!FV7=\"-\",\"-\",ROUND((Balance!FV7/Balance!FV$19)*100,1))","v":3.6},{"$f":"IF(Balance!FW7=\"-\",\"-\",ROUND((Balance!FW7/Balance!FW$19)*100,1))","v":4.8},{"$f":"IF(Balance!FX7=\"-\",\"-\",ROUND((Balance!FX7/Balance!FX$19)*100,1))","v":2.9},{"$f":"IF(Balance!FY7=\"-\",\"-\",ROUND((Balance!FY7/Balance!FY$19)*100,1))","v":2.2999999999999998},{"$f":"IF(Balance!FZ7=\"-\",\"-\",ROUND((Balance!FZ7/Balance!FZ$19)*100,1))","v":3.2},{"$f":"IF(Balance!GA7=\"-\",\"-\",ROUND((Balance!GA7/Balance!GA$19)*100,1))","v":4},{"$f":"IF(Balance!GB7=\"-\",\"-\",ROUND((Balance!GB7/Balance!GB$19)*100,1))","v":5.2},{"$f":"IF(Balance!GC7=\"-\",\"-\",ROUND((Balance!GC7/Balance!GC$19)*100,1))","v":6.4},{"$f":"IF(Balance!GD7=\"-\",\"-\",ROUND((Balance!GD7/Balance!GD$19)*100,1))","v":1.9},{"$f":"IF(Balance!GE7=\"-\",\"-\",ROUND((Balance!GE7/Balance!GE$19)*100,1))","v":2.7},{"$f":"IF(Balance!GF7=\"-\",\"-\",ROUND((Balance!GF7/Balance!GF$19)*100,1))","v":5.5},{"$f":"IF(Balance!GG7=\"-\",\"-\",ROUND((Balance!GG7/Balance!GG$19)*100,1))","v":6.1},{"$f":"IF(Balance!GH7=\"-\",\"-\",ROUND((Balance!GH7/Balance!GH$19)*100,1))","v":2},{"$f":"IF(Balance!GI7=\"-\",\"-\",ROUND((Balance!GI7/Balance!GI$19)*100,1))","v":2.5},{"$f":"IF(Balance!GJ7=\"-\",\"-\",ROUND((Balance!GJ7/Balance!GJ$19)*100,1))","v":1.8},{"$f":"IF(Balance!GK7=\"-\",\"-\",ROUND((Balance!GK7/Balance!GK$19)*100,1))","v":1.9},{"$f":"IF(Balance!GL7=\"-\",\"-\",ROUND((Balance!GL7/Balance!GL$19)*100,1))","v":3.4},{"$f":"IF(Balance!GM7=\"-\",\"-\",ROUND((Balance!GM7/Balance!GM$19)*100,1))","v":3.1},{"$f":"IF(Balance!GN7=\"-\",\"-\",ROUND((Balance!GN7/Balance!GN$19)*100,1))","v":2.8},{"$f":"IF(Balance!GO7=\"-\",\"-\",ROUND((Balance!GO7/Balance!GO$19)*100,1))","v":1.3},{"$f":"IF(Balance!GP7=\"-\",\"-\",ROUND((Balance!GP7/Balance!GP$19)*100,1))","v":1.5},{"$f":"IF(Balance!GQ7=\"-\",\"-\",ROUND((Balance!GQ7/Balance!GQ$19)*100,1))","v":1.1000000000000001},{"$f":"IF(Balance!GR7=\"-\",\"-\",ROUND((Balance!GR7/Balance!GR$19)*100,1))","v":2.4},{"$f":"IF(Balance!GS7=\"-\",\"-\",ROUND((Balance!GS7/Balance!GS$19)*100,1))","v":4.2},{"$f":"IF(Balance!GT7=\"-\",\"-\",ROUND((Balance!GT7/Balance!GT$19)*100,1))","v":1.6},{"$f":"IF(Balance!GU7=\"-\",\"-\",ROUND((Balance!GU7/Balance!GU$19)*100,1))","v":3.5},{"$f":"IF(Balance!GV7=\"-\",\"-\",ROUND((Balance!GV7/Balance!GV$19)*100,1))","v":1.6},{"$f":"IF(Balance!GW7=\"-\",\"-\",ROUND((Balance!GW7/Balance!GW$19)*100,1))","v":0.6},{"$f":"IF(Balance!GX7=\"-\",\"-\",ROUND((Balance!GX7/Balance!GX$19)*100,1))","v":0.5},{"$f":"IF(Balance!GY7=\"-\",\"-\",ROUND((Balance!GY7/Balance!GY$19)*100,1))","v":0.4},{"$f":"IF(Balance!GZ7=\"-\",\"-\",ROUND((Balance!GZ7/Balance!GZ$19)*100,1))","v":1},{"$f":"IF(Balance!HA7=\"-\",\"-\",ROUND((Balance!HA7/Balance!HA$19)*100,1))","v":0.8},{"$f":"IF(Balance!HB7=\"-\",\"-\",ROUND((Balance!HB7/Balance!HB$19)*100,1))","v":0.5},{"$f":"IF(Balance!HC7=\"-\",\"-\",ROUND((Balance!HC7/Balance!HC$19)*100,1))","v":0.8},{"$f":"IF(Balance!HD7=\"-\",\"-\",ROUND((Balance!HD7/Balance!HD$19)*100,1))","v":0.4},{"$f":"IF(Balance!HE7=\"-\",\"-\",ROUND((Balance!HE7/Balance!HE$19)*100,1))","v":1.2},{"$f":"IF(Balance!HF7=\"-\",\"-\",ROUND((Balance!HF7/Balance!HF$19)*100,1))","v":1},{"$f":"IF(Balance!HG7=\"-\",\"-\",ROUND((Balance!HG7/Balance!HG$19)*100,1))","v":1.1000000000000001},{"$f":"IF(Balance!HH7=\"-\",\"-\",ROUND((Balance!HH7/Balance!HH$19)*100,1))","v":0.6},{"$f":"IF(Balance!HI7=\"-\",\"-\",ROUND((Balance!HI7/Balance!HI$19)*100,1))","v":0.8},{"$f":"IF(Balance!HJ7=\"-\",\"-\",ROUND((Balance!HJ7/Balance!HJ$19)*100,1))","v":0.7},{"$f":"IF(Balance!HK7=\"-\",\"-\",ROUND((Balance!HK7/Balance!HK$19)*100,1))","v":0.6},{"$f":"IF(Balance!HL7=\"-\",\"-\",ROUND((Balance!HL7/Balance!HL$19)*100,1))","v":0.5},{"$f":"IF(Balance!HM7=\"-\",\"-\",ROUND((Balance!HM7/Balance!HM$19)*100,1))","v":0.3},{"$f":"IF(Balance!HN7=\"-\",\"-\",ROUND((Balance!HN7/Balance!HN$19)*100,1))","v":0.6},{"$f":"IF(Balance!HO7=\"-\",\"-\",ROUND((Balance!HO7/Balance!HO$19)*100,1))","v":0.7},{"$f":"IF(Balance!HP7=\"-\",\"-\",ROUND((Balance!HP7/Balance!HP$19)*100,1))","v":1.1000000000000001},{"$f":"IF(Balance!HQ7=\"-\",\"-\",ROUND((Balance!HQ7/Balance!HQ$19)*100,1))","v":0.6},{"$f":"IF(Balance!HR7=\"-\",\"-\",ROUND((Balance!HR7/Balance!HR$19)*100,1))","v":1.1000000000000001},{"$f":"IF(Balance!HS7=\"-\",\"-\",ROUND((Balance!HS7/Balance!HS$19)*100,1))","v":0.8},{"$f":"IF(Balance!HT7=\"-\",\"-\",ROUND((Balance!HT7/Balance!HT$19)*100,1))","v":0.9},{"$f":"IF(Balance!HU7=\"-\",\"-\",ROUND((Balance!HU7/Balance!HU$19)*100,1))","v":1},{"$f":"IF(Balance!HV7=\"-\",\"-\",ROUND((Balance!HV7/Balance!HV$19)*100,1))","v":0.8},{"$f":"IF(Balance!HW7=\"-\",\"-\",ROUND((Balance!HW7/Balance!HW$19)*100,1))","v":0.5},{"$f":"IF(Balance!HX7=\"-\",\"-\",ROUND((Balance!HX7/Balance!HX$19)*100,1))","v":0.5},{"$f":"IF(Balance!HY7=\"-\",\"-\",ROUND((Balance!HY7/Balance!HY$19)*100,1))","v":0.9},{"$f":"IF(Balance!HZ7=\"-\",\"-\",ROUND((Balance!HZ7/Balance!HZ$19)*100,1))","v":0.7},{"$f":"IF(Balance!IA7=\"-\",\"-\",ROUND((Balance!IA7/Balance!IA$19)*100,1))","v":0.5},{"$f":"IF(Balance!IB7=\"-\",\"-\",ROUND((Balance!IB7/Balance!IB$19)*100,1))","v":0.7},{"$f":"IF(Balance!IC7=\"-\",\"-\",ROUND((Balance!IC7/Balance!IC$19)*100,1))","v":0.9},{"$f":"IF(Balance!ID7=\"-\",\"-\",ROUND((Balance!ID7/Balance!ID$19)*100,1))","v":0.8},{"$f":"IF(Balance!IE7=\"-\",\"-\",ROUND((Balance!IE7/Balance!IE$19)*100,1))","v":0.7},{"$f":"IF(Balance!IF7=\"-\",\"-\",ROUND((Balance!IF7/Balance!IF$19)*100,1))","v":0.5},{"$f":"IF(Balance!IG7=\"-\",\"-\",ROUND((Balance!IG7/Balance!IG$19)*100,1))","v":0.8},{"$f":"IF(Balance!IH7=\"-\",\"-\",ROUND((Balance!IH7/Balance!IH$19)*100,1))","v":0.7},{"$f":"IF(Balance!II7=\"-\",\"-\",ROUND((Balance!II7/Balance!II$19)*100,1))","v":0.6},{"$f":"IF(Balance!IJ7=\"-\",\"-\",ROUND((Balance!IJ7/Balance!IJ$19)*100,1))","v":0.6},{"$f":"IF(Balance!IK7=\"-\",\"-\",ROUND((Balance!IK7/Balance!IK$19)*100,1))","v":0.1},{"$f":"IF(Balance!IL7=\"-\",\"-\",ROUND((Balance!IL7/Balance!IL$19)*100,1))","v":0.5},{"$f":"IF(Balance!IM7=\"-\",\"-\",ROUND((Balance!IM7/Balance!IM$19)*100,1))","v":0.8},{"$f":"IF(Balance!IN7=\"-\",\"-\",ROUND((Balance!IN7/Balance!IN$19)*100,1))","v":0.8},{"$f":"IF(Balance!IO7=\"-\",\"-\",ROUND((Balance!IO7/Balance!IO$19)*100,1))","v":0.6},{"$f":"IF(Balance!IP7=\"-\",\"-\",ROUND((Balance!IP7/Balance!IP$19)*100,1))","v":0.5},{"$f":"IF(Balance!IQ7=\"-\",\"-\",ROUND((Balance!IQ7/Balance!IQ$19)*100,1))","v":0.6},{"$f":"IF(Balance!IR7=\"-\",\"-\",ROUND((Balance!IR7/Balance!IR$19)*100,1))","v":0.6},{"$f":"IF(Balance!IS7=\"-\",\"-\",ROUND((Balance!IS7/Balance!IS$19)*100,1))","v":0.7},{"$f":"IF(Balance!IT7=\"-\",\"-\",ROUND((Balance!IT7/Balance!IT$19)*100,1))","v":0.6},{"$f":"IF(Balance!IU7=\"-\",\"-\",ROUND((Balance!IU7/Balance!IU$19)*100,1))","v":0},{"$f":"IF(Balance!IV7=\"-\",\"-\",ROUND((Balance!IV7/Balance!IV$19)*100,1))","v":0},{"$f":"IF(Balance!IW7=\"-\",\"-\",ROUND((Balance!IW7/Balance!IW$19)*100,1))","v":0},{"$f":"IF(Balance!IX7=\"-\",\"-\",ROUND((Balance!IX7/Balance!IX$19)*100,1))","v":0},{"$f":"IF(Balance!IY7=\"-\",\"-\",ROUND((Balance!IY7/Balance!IY$19)*100,1))","v":0},{"$f":"IF(Balance!IZ7=\"-\",\"-\",ROUND((Balance!IZ7/Balance!IZ$19)*100,1))","v":0},{"$f":"IF(Balance!JA7=\"-\",\"-\",ROUND((Balance!JA7/Balance!JA$19)*100,1))","v":0},{"$f":"IF(Balance!JB7=\"-\",\"-\",ROUND((Balance!JB7/Balance!JB$19)*100,1))","v":0},{"$f":"IF(Balance!JC7=\"-\",\"-\",ROUND((Balance!JC7/Balance!JC$19)*100,1))","v":0},{"$f":"IF(Balance!JD7=\"-\",\"-\",ROUND((Balance!JD7/Balance!JD$19)*100,1))","v":0},{"$f":"IF(Balance!JE7=\"-\",\"-\",ROUND((Balance!JE7/Balance!JE$19)*100,1))","v":0},{"$f":"IF(Balance!JF7=\"-\",\"-\",ROUND((Balance!JF7/Balance!JF$19)*100,1))","v":0},{"$f":"IF(Balance!JG7=\"-\",\"-\",ROUND((Balance!JG7/Balance!JG$19)*100,1))","v":0},{"$f":"IF(Balance!JH7=\"-\",\"-\",ROUND((Balance!JH7/Balance!JH$19)*100,1))","v":0},{"$f":"IF(Balance!JI7=\"-\",\"-\",ROUND((Balance!JI7/Balance!JI$19)*100,1))","v":0},{"$f":"IF(Balance!JJ7=\"-\",\"-\",ROUND((Balance!JJ7/Balance!JJ$19)*100,1))","v":0},{"$f":"IF(Balance!JK7=\"-\",\"-\",ROUND((Balance!JK7/Balance!JK$19)*100,1))","v":0},{"$f":"IF(Balance!JL7=\"-\",\"-\",ROUND((Balance!JL7/Balance!JL$19)*100,1))","v":0},{"$f":"IF(Balance!JM7=\"-\",\"-\",ROUND((Balance!JM7/Balance!JM$19)*100,1))","v":0},{"$f":"IF(Balance!JN7=\"-\",\"-\",ROUND((Balance!JN7/Balance!JN$19)*100,1))","v":0},{"$f":"IF(Balance!JO7=\"-\",\"-\",ROUND((Balance!JO7/Balance!JO$19)*100,1))","v":0},{"$f":"IF(Balance!JP7=\"-\",\"-\",ROUND((Balance!JP7/Balance!JP$19)*100,1))","v":0},{"$f":"IF(Balance!JQ7=\"-\",\"-\",ROUND((Balance!JQ7/Balance!JQ$19)*100,1))","v":0},{"$f":"IF(Balance!JR7=\"-\",\"-\",ROUND((Balance!JR7/Balance!JR$19)*100,1))","v":0},{"$f":"IF(Balance!JS7=\"-\",\"-\",ROUND((Balance!JS7/Balance!JS$19)*100,1))","v":0},{"$f":"IF(Balance!JT7=\"-\",\"-\",ROUND((Balance!JT7/Balance!JT$19)*100,1))","v":0},{"$f":"IF(Balance!JU7=\"-\",\"-\",ROUND((Balance!JU7/Balance!JU$19)*100,1))","v":0},{"$f":"IF(Balance!JV7=\"-\",\"-\",ROUND((Balance!JV7/Balance!JV$19)*100,1))","v":0},{"$f":"IF(Balance!JW7=\"-\",\"-\",ROUND((Balance!JW7/Balance!JW$19)*100,1))","v":0},{"$f":"IF(Balance!JX7=\"-\",\"-\",ROUND((Balance!JX7/Balance!JX$19)*100,1))","v":0},{"$f":"IF(Balance!JY7=\"-\",\"-\",ROUND((Balance!JY7/Balance!JY$19)*100,1))","v":0},{"$f":"IF(Balance!JZ7=\"-\",\"-\",ROUND((Balance!JZ7/Balance!JZ$19)*100,1))","v":0},{"$f":"IF(Balance!KA7=\"-\",\"-\",ROUND((Balance!KA7/Balance!KA$19)*100,1))","v":0},{"$f":"IF(Balance!KB7=\"-\",\"-\",ROUND((Balance!KB7/Balance!KB$19)*100,1))","v":0},{"$f":"IF(Balance!KC7=\"-\",\"-\",ROUND((Balance!KC7/Balance!KC$19)*100,1))","v":0},{"$f":"IF(Balance!KD7=\"-\",\"-\",ROUND((Balance!KD7/Balance!KD$19)*100,1))","v":0},{"$f":"IF(Balance!KE7=\"-\",\"-\",ROUND((Balance!KE7/Balance!KE$19)*100,1))","v":0},{"$f":"IF(Balance!KF7=\"-\",\"-\",ROUND((Balance!KF7/Balance!KF$19)*100,1))","v":0},{"$f":"IF(Balance!KG7=\"-\",\"-\",ROUND((Balance!KG7/Balance!KG$19)*100,1))","v":0},{"$f":"IF(Balance!KH7=\"-\",\"-\",ROUND((Balance!KH7/Balance!KH$19)*100,1))","v":0},{"$f":"IF(Balance!KI7=\"-\",\"-\",ROUND((Balance!KI7/Balance!KI$19)*100,1))","v":0},{"$f":"IF(Balance!KJ7=\"-\",\"-\",ROUND((Balance!KJ7/Balance!KJ$19)*100,1))","v":0},{"$f":"IF(Balance!KK7=\"-\",\"-\",ROUND((Balance!KK7/Balance!KK$19)*100,1))","v":0},{"$f":"IF(Balance!KL7=\"-\",\"-\",ROUND((Balance!KL7/Balance!KL$19)*100,1))","v":0},{"$f":"IF(Balance!KM7=\"-\",\"-\",ROUND((Balance!KM7/Balance!KM$19)*100,1))","v":0},{"$f":"IF(Balance!KN7=\"-\",\"-\",ROUND((Balance!KN7/Balance!KN$19)*100,1))","v":0},{"$f":"IF(Balance!KO7=\"-\",\"-\",ROUND((Balance!KO7/Balance!KO$19)*100,1))","v":0},{"$f":"IF(Balance!KP7=\"-\",\"-\",ROUND((Balance!KP7/Balance!KP$19)*100,1))","v":0},{"$f":"IF(Balance!KQ7=\"-\",\"-\",ROUND((Balance!KQ7/Balance!KQ$19)*100,1))","v":0},{"$f":"IF(Balance!KR7=\"-\",\"-\",ROUND((Balance!KR7/Balance!KR$19)*100,1))","v":0},{"$f":"IF(Balance!KS7=\"-\",\"-\",ROUND((Balance!KS7/Balance!KS$19)*100,1))","v":0},{"$f":"IF(Balance!KT7=\"-\",\"-\",ROUND((Balance!KT7/Balance!KT$19)*100,1))","v":0},{"$f":"IF(Balance!KU7=\"-\",\"-\",ROUND((Balance!KU7/Balance!KU$19)*100,1))","v":0},{"$f":"IF(Balance!KV7=\"-\",\"-\",ROUND((Balance!KV7/Balance!KV$19)*100,1))","v":0},{"$f":"IF(Balance!KW7=\"-\",\"-\",ROUND((Balance!KW7/Balance!KW$19)*100,1))","v":0},{"$f":"IF(Balance!KX7=\"-\",\"-\",ROUND((Balance!KX7/Balance!KX$19)*100,1))","v":0},{"$f":"IF(Balance!KY7=\"-\",\"-\",ROUND((Balance!KY7/Balance!KY$19)*100,1))","v":0},{"$f":"IF(Balance!KZ7=\"-\",\"-\",ROUND((Balance!KZ7/Balance!KZ$19)*100,1))","v":0},{"$f":"IF(Balance!LA7=\"-\",\"-\",ROUND((Balance!LA7/Balance!LA$19)*100,1))","v":0},{"$f":"IF(Balance!LB7=\"-\",\"-\",ROUND((Balance!LB7/Balance!LB$19)*100,1))","v":0},{"$f":"IF(Balance!LC7=\"-\",\"-\",ROUND((Balance!LC7/Balance!LC$19)*100,1))","v":0},{"$f":"IF(Balance!LD7=\"-\",\"-\",ROUND((Balance!LD7/Balance!LD$19)*100,1))","v":0},{"$f":"IF(Balance!LE7=\"-\",\"-\",ROUND((Balance!LE7/Balance!LE$19)*100,1))","v":0},{"$f":"IF(Balance!LF7=\"-\",\"-\",ROUND((Balance!LF7/Balance!LF$19)*100,1))","v":0},{"$f":"IF(Balance!LG7=\"-\",\"-\",ROUND((Balance!LG7/Balance!LG$19)*100,1))","v":0},{"$f":"IF(Balance!LH7=\"-\",\"-\",ROUND((Balance!LH7/Balance!LH$19)*100,1))","v":0},{"$f":"IF(Balance!LI7=\"-\",\"-\",ROUND((Balance!LI7/Balance!LI$19)*100,1))","v":0},{"$f":"IF(Balance!LJ7=\"-\",\"-\",ROUND((Balance!LJ7/Balance!LJ$19)*100,1))","v":0},{"$f":"IF(Balance!LK7=\"-\",\"-\",ROUND((Balance!LK7/Balance!LK$19)*100,1))","v":0},{"$f":"IF(Balance!LL7=\"-\",\"-\",ROUND((Balance!LL7/Balance!LL$19)*100,1))","v":0},{"$f":"IF(Balance!LM7=\"-\",\"-\",ROUND((Balance!LM7/Balance!LM$19)*100,1))","v":0},{"$f":"IF(Balance!LN7=\"-\",\"-\",ROUND((Balance!LN7/Balance!LN$19)*100,1))","v":0},{"$f":"IF(Balance!LO7=\"-\",\"-\",ROUND((Balance!LO7/Balance!LO$19)*100,1))","v":0},{"$f":"IF(Balance!LP7=\"-\",\"-\",ROUND((Balance!LP7/Balance!LP$19)*100,1))","v":0},{"$f":"IF(Balance!LQ7=\"-\",\"-\",ROUND((Balance!LQ7/Balance!LQ$19)*100,1))","v":0},{"$f":"IF(Balance!LR7=\"-\",\"-\",ROUND((Balance!LR7/Balance!LR$19)*100,1))","v":0},{"$f":"IF(Balance!LS7=\"-\",\"-\",ROUND((Balance!LS7/Balance!LS$19)*100,1))","v":0},{"$f":"IF(Balance!LT7=\"-\",\"-\",ROUND((Balance!LT7/Balance!LT$19)*100,1))","v":0},{"$f":"IF(Balance!LU7=\"-\",\"-\",ROUND((Balance!LU7/Balance!LU$19)*100,1))","v":0},{"$f":"IF(Balance!LV7=\"-\",\"-\",ROUND((Balance!LV7/Balance!LV$19)*100,1))","v":0},{"$f":"IF(Balance!LW7=\"-\",\"-\",ROUND((Balance!LW7/Balance!LW$19)*100,1))","v":0},{"$f":"IF(Balance!LX7=\"-\",\"-\",ROUND((Balance!LX7/Balance!LX$19)*100,1))","v":0},{"$f":"IF(Balance!LY7=\"-\",\"-\",ROUND((Balance!LY7/Balance!LY$19)*100,1))","v":0},{"$f":"IF(Balance!LZ7=\"-\",\"-\",ROUND((Balance!LZ7/Balance!LZ$19)*100,1))","v":0},{"$f":"IF(Balance!MA7=\"-\",\"-\",ROUND((Balance!MA7/Balance!MA$19)*100,1))","v":0},{"$f":"IF(Balance!MB7=\"-\",\"-\",ROUND((Balance!MB7/Balance!MB$19)*100,1))","v":"-"},{"$f":"IF(Balance!MC7=\"-\",\"-\",ROUND((Balance!MC7/Balance!MC$19)*100,1))","v":"-"},{"$f":"IF(Balance!MD7=\"-\",\"-\",ROUND((Balance!MD7/Balance!MD$19)*100,1))","v":"-"},{"$f":"IF(Balance!ME7=\"-\",\"-\",ROUND((Balance!ME7/Balance!ME$19)*100,1))","v":"-"},{"$f":"IF(Balance!MF7=\"-\",\"-\",ROUND((Balance!MF7/Balance!MF$19)*100,1))","v":"-"},{"$f":"IF(Balance!MG7=\"-\",\"-\",ROUND((Balance!MG7/Balance!MG$19)*100,1))","v":"-"},{"$f":"IF(Balance!MH7=\"-\",\"-\",ROUND((Balance!MH7/Balance!MH$19)*100,1))","v":"-"},{"$f":"IF(Balance!MI7=\"-\",\"-\",ROUND((Balance!MI7/Balance!MI$19)*100,1))","v":"-"},{"$f":"IF(Balance!MJ7=\"-\",\"-\",ROUND((Balance!MJ7/Balance!MJ$19)*100,1))","v":"-"},{"$f":"IF(Balance!MK7=\"-\",\"-\",ROUND((Balance!MK7/Balance!MK$19)*100,1))","v":"-"},{"$f":"IF(Balance!ML7=\"-\",\"-\",ROUND((Balance!ML7/Balance!ML$19)*100,1))","v":"-"}]
[null,"Ciclo combinado",{"$f":"IF(Balance!C8=\"-\",\"-\",ROUND((Balance!C8/Balance!C$19)*100,1))","v":"-"},{"$f":"IF(Balance!D8=\"-\",\"-\",ROUND((Balance!D8/Balance!D$19)*100,1))","v":"-"},{"$f":"IF(Balance!E8=\"-\",\"-\",ROUND((Balance!E8/Balance!E$19)*100,1))","v":"-"},{"$f":"IF(Balance!F8=\"-\",\"-\",ROUND((Balance!F8/Balance!F$19)*100,1))","v":"-"},{"$f":"IF(Balance!G8=\"-\",\"-\",ROUND((Balance!G8/Balance!G$19)*100,1))","v":"-"},{"$f":"IF(Balance!H8=\"-\",\"-\",ROUND((Balance!H8/Balance!H$19)*100,1))","v":"-"},{"$f":"IF(Balance!I8=\"-\",\"-\",ROUND((Balance!I8/Balance!I$19)*100,1))","v":"-"},{"$f":"IF(Balance!J8=\"-\",\"-\",ROUND((Balance!J8/Balance!J$19)*100,1))","v":"-"},{"$f":"IF(Balance!K8=\"-\",\"-\",ROUND((Balance!K8/Balance!K$19)*100,1))","v":"-"},{"$f":"IF(Balance!L8=\"-\",\"-\",ROUND((Balance!L8/Balance!L$19)*100,1))","v":"-"},{"$f":"IF(Balance!M8=\"-\",\"-\",ROUND((Balance!M8/Balance!M$19)*100,1))","v":"-"},{"$f":"IF(Balance!N8=\"-\",\"-\",ROUND((Balance!N8/Balance!N$19)*100,1))","v":"-"},{"$f":"IF(Balance!O8=\"-\",\"-\",ROUND((Balance!O8/Balance!O$19)*100,1))","v":"-"},{"$f":"IF(Balance!P8=\"-\",\"-\",ROUND((Balance!P8/Balance!P$19)*100,1))","v":"-"},{"$f":"IF(Balance!Q8=\"-\",\"-\",ROUND((Balance!Q8/Balance!Q$19)*100,1))","v":"-"},{"$f":"IF(Balance!R8=\"-\",\"-\",ROUND((Balance!R8/Balance!R$19)*100,1))","v":"-"},{"$f":"IF(Balance!S8=\"-\",\"-\",ROUND((Balance!S8/Balance!S$19)*100,1))","v":"-"},{"$f":"IF(Balance!T8=\"-\",\"-\",ROUND((Balance!T8/Balance!T$19)*100,1))","v":"-"},{"$f":"IF(Balance!U8=\"-\",\"-\",ROUND((Balance!U8/Balance!U$19)*100,1))","v":"-"},{"$f":"IF(Balance!V8=\"-\",\"-\",ROUND((Balance!V8/Balance!V$19)*100,1))","v":"-"},{"$f":"IF(Balance!W8=\"-\",\"-\",ROUND((Balance!W8/Balance!W$19)*100,1))","v":"-"},{"$f":"IF(Balance!X8=\"-\",\"-\",ROUND((Balance!X8/Balance!X$19)*100,1))","v":"-"},{"$f":"IF(Balance!Y8=\"-\",\"-\",ROUND((Balance!Y8/Balance!Y$19)*100,1))","v":"-"},{"$f":"IF(Balance!Z8=\"-\",\"-\",ROUND((Balance!Z8/Balance!Z$19)*100,1))","v":"-"},{"$f":"IF(Balance!AA8=\"-\",\"-\",ROUND((Balance!AA8/Balance!AA$19)*100,1))","v":"-"},{"$f":"IF(Balance!AB8=\"-\",\"-\",ROUND((Balance!AB8/Balance!AB$19)*100,1))","v":"-"},{"$f":"IF(Balance!AC8=\"-\",\"-\",ROUND((Balance!AC8/Balance!AC$19)*100,1))","v":"-"},{"$f":"IF(Balance!AD8=\"-\",\"-\",ROUND((Balance!AD8/Balance!AD$19)*100,1))","v":"-"},{"$f":"IF(Balance!AE8=\"-\",\"-\",ROUND((Balance!AE8/Balance!AE$19)*100,1))","v":"-"},{"$f":"IF(Balance!AF8=\"-\",\"-\",ROUND((Balance!AF8/Balance!AF$19)*100,1))","v":"-"},{"$f":"IF(Balance!AG8=\"-\",\"-\",ROUND((Balance!AG8/Balance!AG$19)*100,1))","v":"-"},{"$f":"IF(Balance!AH8=\"-\",\"-\",ROUND((Balance!AH8/Balance!AH$19)*100,1))","v":"-"},{"$f":"IF(Balance!AI8=\"-\",\"-\",ROUND((Balance!AI8/Balance!AI$19)*100,1))","v":"-"},{"$f":"IF(Balance!AJ8=\"-\",\"-\",ROUND((Balance!AJ8/Balance!AJ$19)*100,1))","v":"-"},{"$f":"IF(Balance!AK8=\"-\",\"-\",ROUND((Balance!AK8/Balance!AK$19)*100,1))","v":"-"},{"$f":"IF(Balance!AL8=\"-\",\"-\",ROUND((Balance!AL8/Balance!AL$19)*100,1))","v":"-"},{"$f":"IF(Balance!AM8=\"-\",\"-\",ROUND((Balance!AM8/Balance!AM$19)*100,1))","v":0},{"$f":"IF(Balance!AN8=\"-\",\"-\",ROUND((Balance!AN8/Balance!AN$19)*100,1))","v":"-"},{"$f":"IF(Balance!AO8=\"-\",\"-\",ROUND((Balance!AO8/Balance!AO$19)*100,1))","v":"-"},{"$f":"IF(Balance!AP8=\"-\",\"-\",ROUND((Balance!AP8/Balance!AP$19)*100,1))","v":"-"},{"$f":"IF(Balance!AQ8=\"-\",\"-\",ROUND((Balance!AQ8/Balance!AQ$19)*100,1))","v":"-"},{"$f":"IF(Balance!AR8=\"-\",\"-\",ROUND((Balance!AR8/Balance!AR$19)*100,1))","v":"-"},{"$f":"IF(Balance!AS8=\"-\",\"-\",ROUND((Balance!AS8/Balance!AS$19)*100,1))","v":"-"},{"$f":"IF(Balance!AT8=\"-\",\"-\",ROUND((Balance!AT8/Balance!AT$19)*100,1))","v":"-"},{"$f":"IF(Balance!AU8=\"-\",\"-\",ROUND((Balance!AU8/Balance!AU$19)*100,1))","v":"-"},{"$f":"IF(Balance!AV8=\"-\",\"-\",ROUND((Balance!AV8/Balance!AV$19)*100,1))","v":"-"},{"$f":"IF(Balance!AW8=\"-\",\"-\",ROUND((Balance!AW8/Balance!AW$19)*100,1))","v":"-"},{"$f":"IF(Balance!AX8=\"-\",\"-\",ROUND((Balance!AX8/Balance!AX$19)*100,1))","v":"-"},{"$f":"IF(Balance!AY8=\"-\",\"-\",ROUND((Balance!AY8/Balance!AY$19)*100,1))","v":"-"},{"$f":"IF(Balance!AZ8=\"-\",\"-\",ROUND((Balance!AZ8/Balance!AZ$19)*100,1))","v":"-"},{"$f":"IF(Balance!BA8=\"-\",\"-\",ROUND((Balance!BA8/Balance!BA$19)*100,1))","v":"-"},{"$f":"IF(Balance!BB8=\"-\",\"-\",ROUND((Balance!BB8/Balance!BB$19)*100,1))","v":"-"},{"$f":"IF(Balance!BC8=\"-\",\"-\",ROUND((Balance!BC8/Balance!BC$19)*100,1))","v":"-"},{"$f":"IF(Balance!BD8=\"-\",\"-\",ROUND((Balance!BD8/Balance!BD$19)*100,1))","v":"-"},{"$f":"IF(Balance!BE8=\"-\",\"-\",ROUND((Balance!BE8/Balance!BE$19)*100,1))","v":"-"},{"$f":"IF(Balance!BF8=\"-\",\"-\",ROUND((Balance!BF8/Balance!BF$19)*100,1))","v":"-"},{"$f":"IF(Balance!BG8=\"-\",\"-\",ROUND((Balance!BG8/Balance!BG$19)*100,1))","v":"-"},{"$f":"IF(Balance!BH8=\"-\",\"-\",ROUND((Balance!BH8/Balance!BH$19)*100,1))","v":"-"},{"$f":"IF(Balance!BI8=\"-\",\"-\",ROUND((Balance!BI8/Balance!BI$19)*100,1))","v":"-"},{"$f":"IF(Balance!BJ8=\"-\",\"-\",ROUND((Balance!BJ8/Balance!BJ$19)*100,1))","v":"-"},{"$f":"IF(Balance!BK8=\"-\",\"-\",ROUND((Balance!BK8/Balance!BK$19)*100,1))","v":"-"},{"$f":"IF(Balance!BL8=\"-\",\"-\",ROUND((Balance!BL8/Balance!BL$19)*100,1))","v":"-"},{"$f":"IF(Balance!BM8=\"-\",\"-\",ROUND((Balance!BM8/Balance!BM$19)*100,1))","v":"-"},{"$f":"IF(Balance!BN8=\"-\",\"-\",ROUND((Balance!BN8/Balance!BN$19)*100,1))","v":"-"},{"$f":"IF(Balance!BO8=\"-\",\"-\",ROUND((Balance!BO8/Balance!BO$19)*100,1))","v":"-"},{"$f":"IF(Balance!BP8=\"-\",\"-\",ROUND((Balance!BP8/Balance!BP$19)*100,1))","v":"-"},{"$f":"IF(Balance!BQ8=\"-\",\"-\",ROUND((Balance!BQ8/Balance!BQ$19)*100,1))","v":"-"},{"$f":"IF(Balance!BR8=\"-\",\"-\",ROUND((Balance!BR8/Balance!BR$19)*100,1))","v":"-"},{"$f":"IF(Balance!BS8=\"-\",\"-\",ROUND((Balance!BS8/Balance!BS$19)*100,1))","v":"-"},{"$f":"IF(Balance!BT8=\"-\",\"-\",ROUND((Balance!BT8/Balance!BT$19)*100,1))","v":"-"},{"$f":"IF(Balance!BU8=\"-\",\"-\",ROUND((Balance!BU8/Balance!BU$19)*100,1))","v":"-"},{"$f":"IF(Balance!BV8=\"-\",\"-\",ROUND((Balance!BV8/Balance!BV$19)*100,1))","v":"-"},{"$f":"IF(Balance!BW8=\"-\",\"-\",ROUND((Balance!BW8/Balance!BW$19)*100,1))","v":"-"},{"$f":"IF(Balance!BX8=\"-\",\"-\",ROUND((Balance!BX8/Balance!BX$19)*100,1))","v":"-"},{"$f":"IF(Balance!BY8=\"-\",\"-\",ROUND((Balance!BY8/Balance!BY$19)*100,1))","v":"-"},{"$f":"IF(Balance!BZ8=\"-\",\"-\",ROUND((Balance!BZ8/Balance!BZ$19)*100,1))","v":"-"},{"$f":"IF(Balance!CA8=\"-\",\"-\",ROUND((Balance!CA8/Balance!CA$19)*100,1))","v":"-"},{"$f":"IF(Balance!CB8=\"-\",\"-\",ROUND((Balance!CB8/Balance!CB$19)*100,1))","v":"-"},{"$f":"IF(Balance!CC8=\"-\",\"-\",ROUND((Balance!CC8/Balance!CC$19)*100,1))","v":"-"},{"$f":"IF(Balance!CD8=\"-\",\"-\",ROUND((Balance!CD8/Balance!CD$19)*100,1))","v":"-"},{"$f":"IF(Balance!CE8=\"-\",\"-\",ROUND((Balance!CE8/Balance!CE$19)*100,1))","v":"-"},{"$f":"IF(Balance!CF8=\"-\",\"-\",ROUND((Balance!CF8/Balance!CF$19)*100,1))","v":"-"},{"$f":"IF(Balance!CG8=\"-\",\"-\",ROUND((Balance!CG8/Balance!CG$19)*100,1))","v":"-"},{"$f":"IF(Balance!CH8=\"-\",\"-\",ROUND((Balance!CH8/Balance!CH$19)*100,1))","v":"-"},{"$f":"IF(Balance!CI8=\"-\",\"-\",ROUND((Balance!CI8/Balance!CI$19)*100,1))","v":"-"},{"$f":"IF(Balance!CJ8=\"-\",\"-\",ROUND((Balance!CJ8/Balance!CJ$19)*100,1))","v":"-"},{"$f":"IF(Balance!CK8=\"-\",\"-\",ROUND((Balance!CK8/Balance!CK$19)*100,1))","v":"-"},{"$f":"IF(Balance!CL8=\"-\",\"-\",ROUND((Balance!CL8/Balance!CL$19)*100,1))","v":"-"},{"$f":"IF(Balance!CM8=\"-\",\"-\",ROUND((Balance!CM8/Balance!CM$19)*100,1))","v":"-"},{"$f":"IF(Balance!CN8=\"-\",\"-\",ROUND((Balance!CN8/Balance!CN$19)*100,1))","v":"-"},{"$f":"IF(Balance!CO8=\"-\",\"-\",ROUND((Balance!CO8/Balance!CO$19)*100,1))","v":"-"},{"$f":"IF(Balance!CP8=\"-\",\"-\",ROUND((Balance!CP8/Balance!CP$19)*100,1))","v":"-"},{"$f":"IF(Balance!CQ8=\"-\",\"-\",ROUND((Balance!CQ8/Balance!CQ$19)*100,1))","v":"-"},{"$f":"IF(Balance!CR8=\"-\",\"-\",ROUND((Balance!CR8/Balance!CR$19)*100,1))","v":"-"},{"$f":"IF(Balance!CS8=\"-\",\"-\",ROUND((Balance!CS8/Balance!CS$19)*100,1))","v":"-"},{"$f":"IF(Balance!CT8=\"-\",\"-\",ROUND((Balance!CT8/Balance!CT$19)*100,1))","v":"-"},{"$f":"IF(Balance!CU8=\"-\",\"-\",ROUND((Balance!CU8/Balance!CU$19)*100,1))","v":"-"},{"$f":"IF(Balance!CV8=\"-\",\"-\",ROUND((Balance!CV8/Balance!CV$19)*100,1))","v":"-"},{"$f":"IF(Balance!CW8=\"-\",\"-\",ROUND((Balance!CW8/Balance!CW$19)*100,1))","v":"-"},{"$f":"IF(Balance!CX8=\"-\",\"-\",ROUND((Balance!CX8/Balance!CX$19)*100,1))","v":"-"},{"$f":"IF(Balance!CY8=\"-\",\"-\",ROUND((Balance!CY8/Balance!CY$19)*100,1))","v":"-"},{"$f":"IF(Balance!CZ8=\"-\",\"-\",ROUND((Balance!CZ8/Balance!CZ$19)*100,1))","v":"-"},{"$f":"IF(Balance!DA8=\"-\",\"-\",ROUND((Balance!DA8/Balance!DA$19)*100,1))","v":"-"},{"$f":"IF(Balance!DB8=\"-\",\"-\",ROUND((Balance!DB8/Balance!DB$19)*100,1))","v":"-"},{"$f":"IF(Balance!DC8=\"-\",\"-\",ROUND((Balance!DC8/Balance!DC$19)*100,1))","v":"-"},{"$f":"IF(Balance!DD8=\"-\",\"-\",ROUND((Balance!DD8/Balance!DD$19)*100,1))","v":"-"},{"$f":"IF(Balance!DE8=\"-\",\"-\",ROUND((Balance!DE8/Balance!DE$19)*100,1))","v":"-"},{"$f":"IF(Balance!DF8=\"-\",\"-\",ROUND((Balance!DF8/Balance!DF$19)*100,1))","v":"-"},{"$f":"IF(Balance!DG8=\"-\",\"-\",ROUND((Balance!DG8/Balance!DG$19)*100,1))","v":"-"},{"$f":"IF(Balance!DH8=\"-\",\"-\",ROUND((Balance!DH8/Balance!DH$19)*100,1))","v":"-"},{"$f":"IF(Balance!DI8=\"-\",\"-\",ROUND((Balance!DI8/Balance!DI$19)*100,1))","v":"-"},{"$f":"IF(Balance!DJ8=\"-\",\"-\",ROUND((Balance!DJ8/Balance!DJ$19)*100,1))","v":"-"},{"$f":"IF(Balance!DK8=\"-\",\"-\",ROUND((Balance!DK8/Balance!DK$19)*100,1))","v":"-"},{"$f":"IF(Balance!DL8=\"-\",\"-\",ROUND((Balance!DL8/Balance!DL$19)*100,1))","v":"-"},{"$f":"IF(Balance!DM8=\"-\",\"-\",ROUND((Balance!DM8/Balance!DM$19)*100,1))","v":"-"},{"$f":"IF(Balance!DN8=\"-\",\"-\",ROUND((Balance!DN8/Balance!DN$19)*100,1))","v":"-"},{"$f":"IF(Balance!DO8=\"-\",\"-\",ROUND((Balance!DO8/Balance!DO$19)*100,1))","v":"-"},{"$f":"IF(Balance!DP8=\"-\",\"-\",ROUND((Balance!DP8/Balance!DP$19)*100,1))","v":"-"},{"$f":"IF(Balance!DQ8=\"-\",\"-\",ROUND((Balance!DQ8/Balance!DQ$19)*100,1))","v":"-"},{"$f":"IF(Balance!DR8=\"-\",\"-\",ROUND((Balance!DR8/Balance!DR$19)*100,1))","v":"-"},{"$f":"IF(Balance!DS8=\"-\",\"-\",ROUND((Balance!DS8/Balance!DS$19)*100,1))","v":"-"},{"$f":"IF(Balance!DT8=\"-\",\"-\",ROUND((Balance!DT8/Balance!DT$19)*100,1))","v":"-"},{"$f":"IF(Balance!DU8=\"-\",\"-\",ROUND((Balance!DU8/Balance!DU$19)*100,1))","v":"-"},{"$f":"IF(Balance!DV8=\"-\",\"-\",ROUND((Balance!DV8/Balance!DV$19)*100,1))","v":"-"},{"$f":"IF(Balance!DW8=\"-\",\"-\",ROUND((Balance!DW8/Balance!DW$19)*100,1))","v":"-"},{"$f":"IF(Balance!DX8=\"-\",\"-\",ROUND((Balance!DX8/Balance!DX$19)*100,1))","v":"-"},{"$f":"IF(Balance!DY8=\"-\",\"-\",ROUND((Balance!DY8/Balance!DY$19)*100,1))","v":"-"},{"$f":"IF(Balance!DZ8=\"-\",\"-\",ROUND((Balance!DZ8/Balance!DZ$19)*100,1))","v":"-"},{"$f":"IF(Balance!EA8=\"-\",\"-\",ROUND((Balance!EA8/Balance!EA$19)*100,1))","v":"-"},{"$f":"IF(Balance!EB8=\"-\",\"-\",ROUND((Balance!EB8/Balance!EB$19)*100,1))","v":"-"},{"$f":"IF(Balance!EC8=\"-\",\"-\",ROUND((Balance!EC8/Balance!EC$19)*100,1))","v":"-"},{"$f":"IF(Balance!ED8=\"-\",\"-\",ROUND((Balance!ED8/Balance!ED$19)*100,1))","v":"-"},{"$f":"IF(Balance!EE8=\"-\",\"-\",ROUND((Balance!EE8/Balance!EE$19)*100,1))","v":"-"},{"$f":"IF(Balance!EF8=\"-\",\"-\",ROUND((Balance!EF8/Balance!EF$19)*100,1))","v":"-"},{"$f":"IF(Balance!EG8=\"-\",\"-\",ROUND((Balance!EG8/Balance!EG$19)*100,1))","v":"-"},{"$f":"IF(Balance!EH8=\"-\",\"-\",ROUND((Balance!EH8/Balance!EH$19)*100,1))","v":"-"},{"$f":"IF(Balance!EI8=\"-\",\"-\",ROUND((Balance!EI8/Balance!EI$19)*100,1))","v":"-"},{"$f":"IF(Balance!EJ8=\"-\",\"-\",ROUND((Balance!EJ8/Balance!EJ$19)*100,1))","v":"-"},{"$f":"IF(Balance!EK8=\"-\",\"-\",ROUND((Balance!EK8/Balance!EK$19)*100,1))","v":"-"},{"$f":"IF(Balance!EL8=\"-\",\"-\",ROUND((Balance!EL8/Balance!EL$19)*100,1))","v":"-"},{"$f":"IF(Balance!EM8=\"-\",\"-\",ROUND((Balance!EM8/Balance!EM$19)*100,1))","v":"-"},{"$f":"IF(Balance!EN8=\"-\",\"-\",ROUND((Balance!EN8/Balance!EN$19)*100,1))","v":"-"},{"$f":"IF(Balance!EO8=\"-\",\"-\",ROUND((Balance!EO8/Balance!EO$19)*100,1))","v":"-"},{"$f":"IF(Balance!EP8=\"-\",\"-\",ROUND((Balance!EP8/Balance!EP$19)*100,1))","v":"-"},{"$f":"IF(Balance!EQ8=\"-\",\"-\",ROUND((Balance!EQ8/Balance!EQ$19)*100,1))","v":"-"},{"$f":"IF(Balance!ER8=\"-\",\"-\",ROUND((Balance!ER8/Balance!ER$19)*100,1))","v":"-"},{"$f":"IF(Balance!ES8=\"-\",\"-\",ROUND((Balance!ES8/Balance!ES$19)*100,1))","v":"-"},{"$f":"IF(Balance!ET8=\"-\",\"-\",ROUND((Balance!ET8/Balance!ET$19)*100,1))","v":"-"},{"$f":"IF(Balance!EU8=\"-\",\"-\",ROUND((Balance!EU8/Balance!EU$19)*100,1))","v":0.7},{"$f":"IF(Balance!EV8=\"-\",\"-\",ROUND((Balance!EV8/Balance!EV$19)*100,1))","v":1.7},{"$f":"IF(Balance!EW8=\"-\",\"-\",ROUND((Balance!EW8/Balance!EW$19)*100,1))","v":2.8},{"$f":"IF(Balance!EX8=\"-\",\"-\",ROUND((Balance!EX8/Balance!EX$19)*100,1))","v":4.5},{"$f":"IF(Balance!EY8=\"-\",\"-\",ROUND((Balance!EY8/Balance!EY$19)*100,1))","v":6.8},{"$f":"IF(Balance!EZ8=\"-\",\"-\",ROUND((Balance!EZ8/Balance!EZ$19)*100,1))","v":6.4},{"$f":"IF(Balance!FA8=\"-\",\"-\",ROUND((Balance!FA8/Balance!FA$19)*100,1))","v":3.4},{"$f":"IF(Balance!FB8=\"-\",\"-\",ROUND((Balance!FB8/Balance!FB$19)*100,1))","v":2.7},{"$f":"IF(Balance!FC8=\"-\",\"-\",ROUND((Balance!FC8/Balance!FC$19)*100,1))","v":2.1},{"$f":"IF(Balance!FD8=\"-\",\"-\",ROUND((Balance!FD8/Balance!FD$19)*100,1))","v":4.4000000000000004},{"$f":"IF(Balance!FE8=\"-\",\"-\",ROUND((Balance!FE8/Balance!FE$19)*100,1))","v":4.0999999999999996},{"$f":"IF(Balance!FF8=\"-\",\"-\",ROUND((Balance!FF8/Balance!FF$19)*100,1))","v":2.2000000000000002},{"$f":"IF(Balance!FG8=\"-\",\"-\",ROUND((Balance!FG8/Balance!FG$19)*100,1))","v":4.5},{"$f":"IF(Balance!FH8=\"-\",\"-\",ROUND((Balance!FH8/Balance!FH$19)*100,1))","v":9.4},{"$f":"IF(Balance!FI8=\"-\",\"-\",ROUND((Balance!FI8/Balance!FI$19)*100,1))","v":9.5},{"$f":"IF(Balance!FJ8=\"-\",\"-\",ROUND((Balance!FJ8/Balance!FJ$19)*100,1))","v":9.4},{"$f":"IF(Balance!FK8=\"-\",\"-\",ROUND((Balance!FK8/Balance!FK$19)*100,1))","v":11},{"$f":"IF(Balance!FL8=\"-\",\"-\",ROUND((Balance!FL8/Balance!FL$19)*100,1))","v":9.4},{"$f":"IF(Balance!FM8=\"-\",\"-\",ROUND((Balance!FM8/Balance!FM$19)*100,1))","v":6.3},{"$f":"IF(Balance!FN8=\"-\",\"-\",ROUND((Balance!FN8/Balance!FN$19)*100,1))","v":4.2},{"$f":"IF(Balance!FO8=\"-\",\"-\",ROUND((Balance!FO8/Balance!FO$19)*100,1))","v":7.3},{"$f":"IF(Balance!FP8=\"-\",\"-\",ROUND((Balance!FP8/Balance!FP$19)*100,1))","v":9.6999999999999993},{"$f":"IF(Balance!FQ8=\"-\",\"-\",ROUND((Balance!FQ8/Balance!FQ$19)*100,1))","v":10.7},{"$f":"IF(Balance!FR8=\"-\",\"-\",ROUND((Balance!FR8/Balance!FR$19)*100,1))","v":9.5},{"$f":"IF(Balance!FS8=\"-\",\"-\",ROUND((Balance!FS8/Balance!FS$19)*100,1))","v":10.5},{"$f":"IF(Balance!FT8=\"-\",\"-\",ROUND((Balance!FT8/Balance!FT$19)*100,1))","v":11.5},{"$f":"IF(Balance!FU8=\"-\",\"-\",ROUND((Balance!FU8/Balance!FU$19)*100,1))","v":12.8},{"$f":"IF(Balance!FV8=\"-\",\"-\",ROUND((Balance!FV8/Balance!FV$19)*100,1))","v":11.8},{"$f":"IF(Balance!FW8=\"-\",\"-\",ROUND((Balance!FW8/Balance!FW$19)*100,1))","v":14.8},{"$f":"IF(Balance!FX8=\"-\",\"-\",ROUND((Balance!FX8/Balance!FX$19)*100,1))","v":14.3},{"$f":"IF(Balance!FY8=\"-\",\"-\",ROUND((Balance!FY8/Balance!FY$19)*100,1))","v":13.4},{"$f":"IF(Balance!FZ8=\"-\",\"-\",ROUND((Balance!FZ8/Balance!FZ$19)*100,1))","v":13.2},{"$f":"IF(Balance!GA8=\"-\",\"-\",ROUND((Balance!GA8/Balance!GA$19)*100,1))","v":14.8},{"$f":"IF(Balance!GB8=\"-\",\"-\",ROUND((Balance!GB8/Balance!GB$19)*100,1))","v":15.9},{"$f":"IF(Balance!GC8=\"-\",\"-\",ROUND((Balance!GC8/Balance!GC$19)*100,1))","v":15.6},{"$f":"IF(Balance!GD8=\"-\",\"-\",ROUND((Balance!GD8/Balance!GD$19)*100,1))","v":16.7},{"$f":"IF(Balance!GE8=\"-\",\"-\",ROUND((Balance!GE8/Balance!GE$19)*100,1))","v":17.8},{"$f":"IF(Balance!GF8=\"-\",\"-\",ROUND((Balance!GF8/Balance!GF$19)*100,1))","v":22.2},{"$f":"IF(Balance!GG8=\"-\",\"-\",ROUND((Balance!GG8/Balance!GG$19)*100,1))","v":23.4},{"$f":"IF(Balance!GH8=\"-\",\"-\",ROUND((Balance!GH8/Balance!GH$19)*100,1))","v":21.9},{"$f":"IF(Balance!GI8=\"-\",\"-\",ROUND((Balance!GI8/Balance!GI$19)*100,1))","v":21.6},{"$f":"IF(Balance!GJ8=\"-\",\"-\",ROUND((Balance!GJ8/Balance!GJ$19)*100,1))","v":20},{"$f":"IF(Balance!GK8=\"-\",\"-\",ROUND((Balance!GK8/Balance!GK$19)*100,1))","v":19.100000000000001},{"$f":"IF(Balance!GL8=\"-\",\"-\",ROUND((Balance!GL8/Balance!GL$19)*100,1))","v":17.5},{"$f":"IF(Balance!GM8=\"-\",\"-\",ROUND((Balance!GM8/Balance!GM$19)*100,1))","v":22.7},{"$f":"IF(Balance!GN8=\"-\",\"-\",ROUND((Balance!GN8/Balance!GN$19)*100,1))","v":24.5},{"$f":"IF(Balance!GO8=\"-\",\"-\",ROUND((Balance!GO8/Balance!GO$19)*100,1))","v":20.3},{"$f":"IF(Balance!GP8=\"-\",\"-\",ROUND((Balance!GP8/Balance!GP$19)*100,1))","v":24.5},{"$f":"IF(Balance!GQ8=\"-\",\"-\",ROUND((Balance!GQ8/Balance!GQ$19)*100,1))","v":23.9},{"$f":"IF(Balance!GR8=\"-\",\"-\",ROUND((Balance!GR8/Balance!GR$19)*100,1))","v":25.5},{"$f":"IF(Balance!GS8=\"-\",\"-\",ROUND((Balance!GS8/Balance!GS$19)*100,1))","v":27.9},{"$f":"IF(Balance!GT8=\"-\",\"-\",ROUND((Balance!GT8/Balance!GT$19)*100,1))","v":23.1},{"$f":"IF(Balance!GU8=\"-\",\"-\",ROUND((Balance!GU8/Balance!GU$19)*100,1))","v":29.2},{"$f":"IF(Balance!GV8=\"-\",\"-\",ROUND((Balance!GV8/Balance!GV$19)*100,1))","v":23.8},{"$f":"IF(Balance!GW8=\"-\",\"-\",ROUND((Balance!GW8/Balance!GW$19)*100,1))","v":19.899999999999999},{"$f":"IF(Balance!GX8=\"-\",\"-\",ROUND((Balance!GX8/Balance!GX$19)*100,1))","v":18},{"$f":"IF(Balance!GY8=\"-\",\"-\",ROUND((Balance!GY8/Balance!GY$19)*100,1))","v":24.7},{"$f":"IF(Balance!GZ8=\"-\",\"-\",ROUND((Balance!GZ8/Balance!GZ$19)*100,1))","v":17.5},{"$f":"IF(Balance!HA8=\"-\",\"-\",ROUND((Balance!HA8/Balance!HA$19)*100,1))","v":16.5},{"$f":"IF(Balance!HB8=\"-\",\"-\",ROUND((Balance!HB8/Balance!HB$19)*100,1))","v":19.5},{"$f":"IF(Balance!HC8=\"-\",\"-\",ROUND((Balance!HC8/Balance!HC$19)*100,1))","v":19.899999999999999},{"$f":"IF(Balance!HD8=\"-\",\"-\",ROUND((Balance!HD8/Balance!HD$19)*100,1))","v":28.5},{"$f":"IF(Balance!HE8=\"-\",\"-\",ROUND((Balance!HE8/Balance!HE$19)*100,1))","v":28},{"$f":"IF(Balance!HF8=\"-\",\"-\",ROUND((Balance!HF8/Balance!HF$19)*100,1))","v":23.6},{"$f":"IF(Balance!HG8=\"-\",\"-\",ROUND((Balance!HG8/Balance!HG$19)*100,1))","v":25.5},{"$f":"IF(Balance!HH8=\"-\",\"-\",ROUND((Balance!HH8/Balance!HH$19)*100,1))","v":26.9},{"$f":"IF(Balance!HI8=\"-\",\"-\",ROUND((Balance!HI8/Balance!HI$19)*100,1))","v":31.8},{"$f":"IF(Balance!HJ8=\"-\",\"-\",ROUND((Balance!HJ8/Balance!HJ$19)*100,1))","v":29.1},{"$f":"IF(Balance!HK8=\"-\",\"-\",ROUND((Balance!HK8/Balance!HK$19)*100,1))","v":31.6},{"$f":"IF(Balance!HL8=\"-\",\"-\",ROUND((Balance!HL8/Balance!HL$19)*100,1))","v":33.799999999999997},{"$f":"IF(Balance!HM8=\"-\",\"-\",ROUND((Balance!HM8/Balance!HM$19)*100,1))","v":28.3},{"$f":"IF(Balance!HN8=\"-\",\"-\",ROUND((Balance!HN8/Balance!HN$19)*100,1))","v":30},{"$f":"IF(Balance!HO8=\"-\",\"-\",ROUND((Balance!HO8/Balance!HO$19)*100,1))","v":32.799999999999997},{"$f":"IF(Balance!HP8=\"-\",\"-\",ROUND((Balance!HP8/Balance!HP$19)*100,1))","v":33.9},{"$f":"IF(Balance!HQ8=\"-\",\"-\",ROUND((Balance!HQ8/Balance!HQ$19)*100,1))","v":36.299999999999997},{"$f":"IF(Balance!HR8=\"-\",\"-\",ROUND((Balance!HR8/Balance!HR$19)*100,1))","v":36.200000000000003},{"$f":"IF(Balance!HS8=\"-\",\"-\",ROUND((Balance!HS8/Balance!HS$19)*100,1))","v":35.1},{"$f":"IF(Balance!HT8=\"-\",\"-\",ROUND((Balance!HT8/Balance!HT$19)*100,1))","v":32},{"$f":"IF(Balance!HU8=\"-\",\"-\",ROUND((Balance!HU8/Balance!HU$19)*100,1))","v":29.2},{"$f":"IF(Balance!HV8=\"-\",\"-\",ROUND((Balance!HV8/Balance!HV$19)*100,1))","v":23.2},{"$f":"IF(Balance!HW8=\"-\",\"-\",ROUND((Balance!HW8/Balance!HW$19)*100,1))","v":23.7},{"$f":"IF(Balance!HX8=\"-\",\"-\",ROUND((Balance!HX8/Balance!HX$19)*100,1))","v":20.399999999999999},{"$f":"IF(Balance!HY8=\"-\",\"-\",ROUND((Balance!HY8/Balance!HY$19)*100,1))","v":23.5},{"$f":"IF(Balance!HZ8=\"-\",\"-\",ROUND((Balance!HZ8/Balance!HZ$19)*100,1))","v":27.1},{"$f":"IF(Balance!IA8=\"-\",\"-\",ROUND((Balance!IA8/Balance!IA$19)*100,1))","v":27.6},{"$f":"IF(Balance!IB8=\"-\",\"-\",ROUND((Balance!IB8/Balance!IB$19)*100,1))","v":35.4},{"$f":"IF(Balance!IC8=\"-\",\"-\",ROUND((Balance!IC8/Balance!IC$19)*100,1))","v":36},{"$f":"IF(Balance!ID8=\"-\",\"-\",ROUND((Balance!ID8/Balance!ID$19)*100,1))","v":36.799999999999997},{"$f":"IF(Balance!IE8=\"-\",\"-\",ROUND((Balance!IE8/Balance!IE$19)*100,1))","v":34.6},{"$f":"IF(Balance!IF8=\"-\",\"-\",ROUND((Balance!IF8/Balance!IF$19)*100,1))","v":30.4},{"$f":"IF(Balance!IG8=\"-\",\"-\",ROUND((Balance!IG8/Balance!IG$19)*100,1))","v":25.2},{"$f":"IF(Balance!IH8=\"-\",\"-\",ROUND((Balance!IH8/Balance!IH$19)*100,1))","v":25.9},{"$f":"IF(Balance!II8=\"-\",\"-\",ROUND((Balance!II8/Balance!II$19)*100,1))","v":21.4},{"$f":"IF(Balance!IJ8=\"-\",\"-\",ROUND((Balance!IJ8/Balance!IJ$19)*100,1))","v":20.7},{"$f":"IF(Balance!IK8=\"-\",\"-\",ROUND((Balance!IK8/Balance!IK$19)*100,1))","v":17.100000000000001},{"$f":"IF(Balance!IL8=\"-\",\"-\",ROUND((Balance!IL8/Balance!IL$19)*100,1))","v":20.8},{"$f":"IF(Balance!IM8=\"-\",\"-\",ROUND((Balance!IM8/Balance!IM$19)*100,1))","v":21.4},{"$f":"IF(Balance!IN8=\"-\",\"-\",ROUND((Balance!IN8/Balance!IN$19)*100,1))","v":25.5},{"$f":"IF(Balance!IO8=\"-\",\"-\",ROUND((Balance!IO8/Balance!IO$19)*100,1))","v":27.9},{"$f":"IF(Balance!IP8=\"-\",\"-\",ROUND((Balance!IP8/Balance!IP$19)*100,1))","v":25.6},{"$f":"IF(Balance!IQ8=\"-\",\"-\",ROUND((Balance!IQ8/Balance!IQ$19)*100,1))","v":28.5},{"$f":"IF(Balance!IR8=\"-\",\"-\",ROUND((Balance!IR8/Balance!IR$19)*100,1))","v":23.8},{"$f":"IF(Balance!IS8=\"-\",\"-\",ROUND((Balance!IS8/Balance!IS$19)*100,1))","v":24.1},{"$f":"IF(Balance!IT8=\"-\",\"-\",ROUND((Balance!IT8/Balance!IT$19)*100,1))","v":20.100000000000001},{"$f":"IF(Balance!IU8=\"-\",\"-\",ROUND((Balance!IU8/Balance!IU$19)*100,1))","v":20.3},{"$f":"IF(Balance!IV8=\"-\",\"-\",ROUND((Balance!IV8/Balance!IV$19)*100,1))","v":21},{"$f":"IF(Balance!IW8=\"-\",\"-\",ROUND((Balance!IW8/Balance!IW$19)*100,1))","v":16.5},{"$f":"IF(Balance!IX8=\"-\",\"-\",ROUND((Balance!IX8/Balance!IX$19)*100,1))","v":13.5},{"$f":"IF(Balance!IY8=\"-\",\"-\",ROUND((Balance!IY8/Balance!IY$19)*100,1))","v":20},{"$f":"IF(Balance!IZ8=\"-\",\"-\",ROUND((Balance!IZ8/Balance!IZ$19)*100,1))","v":22.7},{"$f":"IF(Balance!JA8=\"-\",\"-\",ROUND((Balance!JA8/Balance!JA$19)*100,1))","v":19.899999999999999},{"$f":"IF(Balance!JB8=\"-\",\"-\",ROUND((Balance!JB8/Balance!JB$19)*100,1))","v":21.3},{"$f":"IF(Balance!JC8=\"-\",\"-\",ROUND((Balance!JC8/Balance!JC$19)*100,1))","v":20.6},{"$f":"IF(Balance!JD8=\"-\",\"-\",ROUND((Balance!JD8/Balance!JD$19)*100,1))","v":17.600000000000001},{"$f":"IF(Balance!JE8=\"-\",\"-\",ROUND((Balance!JE8/Balance!JE$19)*100,1))","v":15.6},{"$f":"IF(Balance!JF8=\"-\",\"-\",ROUND((Balance!JF8/Balance!JF$19)*100,1))","v":14.7},{"$f":"IF(Balance!JG8=\"-\",\"-\",ROUND((Balance!JG8/Balance!JG$19)*100,1))","v":17.5},{"$f":"IF(Balance!JH8=\"-\",\"-\",ROUND((Balance!JH8/Balance!JH$19)*100,1))","v":15.6},{"$f":"IF(Balance!JI8=\"-\",\"-\",ROUND((Balance!JI8/Balance!JI$19)*100,1))","v":13.5},{"$f":"IF(Balance!JJ8=\"-\",\"-\",ROUND((Balance!JJ8/Balance!JJ$19)*100,1))","v":10.4},{"$f":"IF(Balance!JK8=\"-\",\"-\",ROUND((Balance!JK8/Balance!JK$19)*100,1))","v":11.1},{"$f":"IF(Balance!JL8=\"-\",\"-\",ROUND((Balance!JL8/Balance!JL$19)*100,1))","v":14.2},{"$f":"IF(Balance!JM8=\"-\",\"-\",ROUND((Balance!JM8/Balance!JM$19)*100,1))","v":14.8},{"$f":"IF(Balance!JN8=\"-\",\"-\",ROUND((Balance!JN8/Balance!JN$19)*100,1))","v":15.4},{"$f":"IF(Balance!JO8=\"-\",\"-\",ROUND((Balance!JO8/Balance!JO$19)*100,1))","v":13.5},{"$f":"IF(Balance!JP8=\"-\",\"-\",ROUND((Balance!JP8/Balance!JP$19)*100,1))","v":14.9},{"$f":"IF(Balance!JQ8=\"-\",\"-\",ROUND((Balance!JQ8/Balance!JQ$19)*100,1))","v":13.7},{"$f":"IF(Balance!JR8=\"-\",\"-\",ROUND((Balance!JR8/Balance!JR$19)*100,1))","v":12.1},{"$f":"IF(Balance!JS8=\"-\",\"-\",ROUND((Balance!JS8/Balance!JS$19)*100,1))","v":11},{"$f":"IF(Balance!JT8=\"-\",\"-\",ROUND((Balance!JT8/Balance!JT$19)*100,1))","v":9},{"$f":"IF(Balance!JU8=\"-\",\"-\",ROUND((Balance!JU8/Balance!JU$19)*100,1))","v":6.6},{"$f":"IF(Balance!JV8=\"-\",\"-\",ROUND((Balance!JV8/Balance!JV$19)*100,1))","v":5.4},{"$f":"IF(Balance!JW8=\"-\",\"-\",ROUND((Balance!JW8/Balance!JW$19)*100,1))","v":8.1},{"$f":"IF(Balance!JX8=\"-\",\"-\",ROUND((Balance!JX8/Balance!JX$19)*100,1))","v":6.9},{"$f":"IF(Balance!JY8=\"-\",\"-\",ROUND((Balance!JY8/Balance!JY$19)*100,1))","v":9.6},{"$f":"IF(Balance!JZ8=\"-\",\"-\",ROUND((Balance!JZ8/Balance!JZ$19)*100,1))","v":11},{"$f":"IF(Balance!KA8=\"-\",\"-\",ROUND((Balance!KA8/Balance!KA$19)*100,1))","v":10.7},{"$f":"IF(Balance!KB8=\"-\",\"-\",ROUND((Balance!KB8/Balance!KB$19)*100,1))","v":12.1},{"$f":"IF(Balance!KC8=\"-\",\"-\",ROUND((Balance!KC8/Balance!KC$19)*100,1))","v":9.3000000000000007},{"$f":"IF(Balance!KD8=\"-\",\"-\",ROUND((Balance!KD8/Balance!KD$19)*100,1))","v":12.1},{"$f":"IF(Balance!KE8=\"-\",\"-\",ROUND((Balance!KE8/Balance!KE$19)*100,1))","v":6.7},{"$f":"IF(Balance!KF8=\"-\",\"-\",ROUND((Balance!KF8/Balance!KF$19)*100,1))","v":5.9},{"$f":"IF(Balance!KG8=\"-\",\"-\",ROUND((Balance!KG8/Balance!KG$19)*100,1))","v":5.9},{"$f":"IF(Balance!KH8=\"-\",\"-\",ROUND((Balance!KH8/Balance!KH$19)*100,1))","v":6.1},{"$f":"IF(Balance!KI8=\"-\",\"-\",ROUND((Balance!KI8/Balance!KI$19)*100,1))","v":7},{"$f":"IF(Balance!KJ8=\"-\",\"-\",ROUND((Balance!KJ8/Balance!KJ$19)*100,1))","v":8.6999999999999993},{"$f":"IF(Balance!KK8=\"-\",\"-\",ROUND((Balance!KK8/Balance!KK$19)*100,1))","v":8.5},{"$f":"IF(Balance!KL8=\"-\",\"-\",ROUND((Balance!KL8/Balance!KL$19)*100,1))","v":10.7},{"$f":"IF(Balance!KM8=\"-\",\"-\",ROUND((Balance!KM8/Balance!KM$19)*100,1))","v":12.7},{"$f":"IF(Balance!KN8=\"-\",\"-\",ROUND((Balance!KN8/Balance!KN$19)*100,1))","v":10.4},{"$f":"IF(Balance!KO8=\"-\",\"-\",ROUND((Balance!KO8/Balance!KO$19)*100,1))","v":9.6},{"$f":"IF(Balance!KP8=\"-\",\"-\",ROUND((Balance!KP8/Balance!KP$19)*100,1))","v":9},{"$f":"IF(Balance!KQ8=\"-\",\"-\",ROUND((Balance!KQ8/Balance!KQ$19)*100,1))","v":9.5},{"$f":"IF(Balance!KR8=\"-\",\"-\",ROUND((Balance!KR8/Balance!KR$19)*100,1))","v":7.7},{"$f":"IF(Balance!KS8=\"-\",\"-\",ROUND((Balance!KS8/Balance!KS$19)*100,1))","v":7.3},{"$f":"IF(Balance!KT8=\"-\",\"-\",ROUND((Balance!KT8/Balance!KT$19)*100,1))","v":8.5},{"$f":"IF(Balance!KU8=\"-\",\"-\",ROUND((Balance!KU8/Balance!KU$19)*100,1))","v":7.9},{"$f":"IF(Balance!KV8=\"-\",\"-\",ROUND((Balance!KV8/Balance!KV$19)*100,1))","v":9.1},{"$f":"IF(Balance!KW8=\"-\",\"-\",ROUND((Balance!KW8/Balance!KW$19)*100,1))","v":14.2},{"$f":"IF(Balance!KX8=\"-\",\"-\",ROUND((Balance!KX8/Balance!KX$19)*100,1))","v":10.8},{"$f":"IF(Balance!KY8=\"-\",\"-\",ROUND((Balance!KY8/Balance!KY$19)*100,1))","v":9.9},{"$f":"IF(Balance!KZ8=\"-\",\"-\",ROUND((Balance!KZ8/Balance!KZ$19)*100,1))","v":10.5},{"$f":"IF(Balance!LA8=\"-\",\"-\",ROUND((Balance!LA8/Balance!LA$19)*100,1))","v":10.5},{"$f":"IF(Balance!LB8=\"-\",\"-\",ROUND((Balance!LB8/Balance!LB$19)*100,1))","v":12.8},{"$f":"IF(Balance!LC8=\"-\",\"-\",ROUND((Balance!LC8/Balance!LC$19)*100,1))","v":8.6999999999999993},{"$f":"IF(Balance!LD8=\"-\",\"-\",ROUND((Balance!LD8/Balance!LD$19)*100,1))","v":6.3},{"$f":"IF(Balance!LE8=\"-\",\"-\",ROUND((Balance!LE8/Balance!LE$19)*100,1))","v":6.1},{"$f":"IF(Balance!LF8=\"-\",\"-\",ROUND((Balance!LF8/Balance!LF$19)*100,1))","v":5.7},{"$f":"IF(Balance!LG8=\"-\",\"-\",ROUND((Balance!LG8/Balance!LG$19)*100,1))","v":7.7},{"$f":"IF(Balance!LH8=\"-\",\"-\",ROUND((Balance!LH8/Balance!LH$19)*100,1))","v":9.6999999999999993},{"$f":"IF(Balance!LI8=\"-\",\"-\",ROUND((Balance!LI8/Balance!LI$19)*100,1))","v":11},{"$f":"IF(Balance!LJ8=\"-\",\"-\",ROUND((Balance!LJ8/Balance!LJ$19)*100,1))","v":9.8000000000000007},{"$f":"IF(Balance!LK8=\"-\",\"-\",ROUND((Balance!LK8/Balance!LK$19)*100,1))","v":10.7},{"$f":"IF(Balance!LL8=\"-\",\"-\",ROUND((Balance!LL8/Balance!LL$19)*100,1))","v":16},{"$f":"IF(Balance!LM8=\"-\",\"-\",ROUND((Balance!LM8/Balance!LM$19)*100,1))","v":16.600000000000001},{"$f":"IF(Balance!LN8=\"-\",\"-\",ROUND((Balance!LN8/Balance!LN$19)*100,1))","v":15.9},{"$f":"IF(Balance!LO8=\"-\",\"-\",ROUND((Balance!LO8/Balance!LO$19)*100,1))","v":12.1},{"$f":"IF(Balance!LP8=\"-\",\"-\",ROUND((Balance!LP8/Balance!LP$19)*100,1))","v":7.6},{"$f":"IF(Balance!LQ8=\"-\",\"-\",ROUND((Balance!LQ8/Balance!LQ$19)*100,1))","v":7.2},{"$f":"IF(Balance!LR8=\"-\",\"-\",ROUND((Balance!LR8/Balance!LR$19)*100,1))","v":6.9},{"$f":"IF(Balance!LS8=\"-\",\"-\",ROUND((Balance!LS8/Balance!LS$19)*100,1))","v":8.5},{"$f":"IF(Balance!LT8=\"-\",\"-\",ROUND((Balance!LT8/Balance!LT$19)*100,1))","v":15.2},{"$f":"IF(Balance!LU8=\"-\",\"-\",ROUND((Balance!LU8/Balance!LU$19)*100,1))","v":17.3},{"$f":"IF(Balance!LV8=\"-\",\"-\",ROUND((Balance!LV8/Balance!LV$19)*100,1))","v":17.100000000000001},{"$f":"IF(Balance!LW8=\"-\",\"-\",ROUND((Balance!LW8/Balance!LW$19)*100,1))","v":16.8},{"$f":"IF(Balance!LX8=\"-\",\"-\",ROUND((Balance!LX8/Balance!LX$19)*100,1))","v":19.100000000000001},{"$f":"IF(Balance!LY8=\"-\",\"-\",ROUND((Balance!LY8/Balance!LY$19)*100,1))","v":21.1},{"$f":"IF(Balance!LZ8=\"-\",\"-\",ROUND((Balance!LZ8/Balance!LZ$19)*100,1))","v":13.2},{"$f":"IF(Balance!MA8=\"-\",\"-\",ROUND((Balance!MA8/Balance!MA$19)*100,1))","v":10.5},{"$f":"IF(Balance!MB8=\"-\",\"-\",ROUND((Balance!MB8/Balance!MB$19)*100,1))","v":"-"},{"$f":"IF(Balance!MC8=\"-\",\"-\",ROUND((Balance!MC8/Balance!MC$19)*100,1))","v":"-"},{"$f":"IF(Balance!MD8=\"-\",\"-\",ROUND((Balance!MD8/Balance!MD$19)*100,1))","v":"-"},{"$f":"IF(Balance!ME8=\"-\",\"-\",ROUND((Balance!ME8/Balance!ME$19)*100,1))","v":"-"},{"$f":"IF(Balance!MF8=\"-\",\"-\",ROUND((Balance!MF8/Balance!MF$19)*100,1))","v":"-"},{"$f":"IF(Balance!MG8=\"-\",\"-\",ROUND((Balance!MG8/Balance!MG$19)*100,1))","v":"-"},{"$f":"IF(Balance!MH8=\"-\",\"-\",ROUND((Balance!MH8/Balance!MH$19)*100,1))","v":"-"},{"$f":"IF(Balance!MI8=\"-\",\"-\",ROUND((Balance!MI8/Balance!MI$19)*100,1))","v":"-"},{"$f":"IF(Balance!MJ8=\"-\",\"-\",ROUND((Balance!MJ8/Balance!MJ$19)*100,1))","v":"-"},{"$f":"IF(Balance!MK8=\"-\",\"-\",ROUND((Balance!MK8/Balance!MK$19)*100,1))","v":"-"},{"$f":"IF(Balance!ML8=\"-\",\"-\",ROUND((Balance!ML8/Balance!ML$19)*100,1))","v":"-"}]
[null,"Eólica",{"$f":"IF(Balance!C11=\"-\",\"-\",ROUND((Balance!C11/Balance!C$19)*100,1))","v":0},{"$f":"IF(Balance!D11=\"-\",\"-\",ROUND((Balance!D11/Balance!D$19)*100,1))","v":0},{"$f":"IF(Balance!E11=\"-\",\"-\",ROUND((Balance!E11/Balance!E$19)*100,1))","v":0},{"$f":"IF(Balance!F11=\"-\",\"-\",ROUND((Balance!F11/Balance!F$19)*100,1))","v":0},{"$f":"IF(Balance!G11=\"-\",\"-\",ROUND((Balance!G11/Balance!G$19)*100,1))","v":0},{"$f":"IF(Balance!H11=\"-\",\"-\",ROUND((Balance!H11/Balance!H$19)*100,1))","v":0},{"$f":"IF(Balance!I11=\"-\",\"-\",ROUND((Balance!I11/Balance!I$19)*100,1))","v":0},{"$f":"IF(Balance!J11=\"-\",\"-\",ROUND((Balance!J11/Balance!J$19)*100,1))","v":0},{"$f":"IF(Balance!K11=\"-\",\"-\",ROUND((Balance!K11/Balance!K$19)*100,1))","v":0},{"$f":"IF(Balance!L11=\"-\",\"-\",ROUND((Balance!L11/Balance!L$19)*100,1))","v":0},{"$f":"IF(Balance!M11=\"-\",\"-\",ROUND((Balance!M11/Balance!M$19)*100,1))","v":0},{"$f":"IF(Balance!N11=\"-\",\"-\",ROUND((Balance!N11/Balance!N$19)*100,1))","v":0},{"$f":"IF(Balance!O11=\"-\",\"-\",ROUND((Balance!O11/Balance!O$19)*100,1))","v":0},{"$f":"IF(Balance!P11=\"-\",\"-\",ROUND((Balance!P11/Balance!P$19)*100,1))","v":0},{"$f":"IF(Balance!Q11=\"-\",\"-\",ROUND((Balance!Q11/Balance!Q$19)*100,1))","v":0},{"$f":"IF(Balance!R11=\"-\",\"-\",ROUND((Balance!R11/Balance!R$19)*100,1))","v":0},{"$f":"IF(Balance!S11=\"-\",\"-\",ROUND((Balance!S11/Balance!S$19)*100,1))","v":0},{"$f":"IF(Balance!T11=\"-\",\"-\",ROUND((Balance!T11/Balance!T$19)*100,1))","v":0},{"$f":"IF(Balance!U11=\"-\",\"-\",ROUND((Balance!U11/Balance!U$19)*100,1))","v":0},{"$f":"IF(Balance!V11=\"-\",\"-\",ROUND((Balance!V11/Balance!V$19)*100,1))","v":0},{"$f":"IF(Balance!W11=\"-\",\"-\",ROUND((Balance!W11/Balance!W$19)*100,1))","v":0},{"$f":"IF(Balance!X11=\"-\",\"-\",ROUND((Balance!X11/Balance!X$19)*100,1))","v":0},{"$f":"IF(Balance!Y11=\"-\",\"-\",ROUND((Balance!Y11/Balance!Y$19)*100,1))","v":0},{"$f":"IF(Balance!Z11=\"-\",\"-\",ROUND((Balance!Z11/Balance!Z$19)*100,1))","v":0},{"$f":"IF(Balance!AA11=\"-\",\"-\",ROUND((Balance!AA11/Balance!AA$19)*100,1))","v":0},{"$f":"IF(Balance!AB11=\"-\",\"-\",ROUND((Balance!AB11/Balance!AB$19)*100,1))","v":0},{"$f":"IF(Balance!AC11=\"-\",\"-\",ROUND((Balance!AC11/Balance!AC$19)*100,1))","v":0},{"$f":"IF(Balance!AD11=\"-\",\"-\",ROUND((Balance!AD11/Balance!AD$19)*100,1))","v":0},{"$f":"IF(Balance!AE11=\"-\",\"-\",ROUND((Balance!AE11/Balance!AE$19)*100,1))","v":0},{"$f":"IF(Balance!AF11=\"-\",\"-\",ROUND((Balance!AF11/Balance!AF$19)*100,1))","v":0},{"$f":"IF(Balance!AG11=\"-\",\"-\",ROUND((Balance!AG11/Balance!AG$19)*100,1))","v":0},{"$f":"IF(Balance!AH11=\"-\",\"-\",ROUND((Balance!AH11/Balance!AH$19)*100,1))","v":0},{"$f":"IF(Balance!AI11=\"-\",\"-\",ROUND((Balance!AI11/Balance!AI$19)*100,1))","v":0},{"$f":"IF(Balance!AJ11=\"-\",\"-\",ROUND((Balance!AJ11/Balance!AJ$19)*100,1))","v":0},{"$f":"IF(Balance!AK11=\"-\",\"-\",ROUND((Balance!AK11/Balance!AK$19)*100,1))","v":0},{"$f":"IF(Balance!AL11=\"-\",\"-\",ROUND((Balance!AL11/Balance!AL$19)*100,1))","v":0.1},{"$f":"IF(Balance!AM11=\"-\",\"-\",ROUND((Balance!AM11/Balance!AM$19)*100,1))","v":0.1},{"$f":"IF(Balance!AN11=\"-\",\"-\",ROUND((Balance!AN11/Balance!AN$19)*100,1))","v":0.1},{"$f":"IF(Balance!AO11=\"-\",\"-\",ROUND((Balance!AO11/Balance!AO$19)*100,1))","v":0.1},{"$f":"IF(Balance!AP11=\"-\",\"-\",ROUND((Balance!AP11/Balance!AP$19)*100,1))","v":0.1},{"$f":"IF(Balance!AQ11=\"-\",\"-\",ROUND((Balance!AQ11/Balance!AQ$19)*100,1))","v":0},{"$f":"IF(Balance!AR11=\"-\",\"-\",ROUND((Balance!AR11/Balance!AR$19)*100,1))","v":0.1},{"$f":"IF(Balance!AS11=\"-\",\"-\",ROUND((Balance!AS11/Balance!AS$19)*100,1))","v":0.1},{"$f":"IF(Balance!AT11=\"-\",\"-\",ROUND((Balance!AT11/Balance!AT$19)*100,1))","v":0.1},{"$f":"IF(Balance!AU11=\"-\",\"-\",ROUND((Balance!AU11/Balance!AU$19)*100,1))","v":0},{"$f":"IF(Balance!AV11=\"-\",\"-\",ROUND((Balance!AV11/Balance!AV$19)*100,1))","v":0.1},{"$f":"IF(Balance!AW11=\"-\",\"-\",ROUND((Balance!AW11/Balance!AW$19)*100,1))","v":0.1},{"$f":"IF(Balance!AX11=\"-\",\"-\",ROUND((Balance!AX11/Balance!AX$19)*100,1))","v":0},{"$f":"IF(Balance!AY11=\"-\",\"-\",ROUND((Balance!AY11/Balance!AY$19)*100,1))","v":0.1},{"$f":"IF(Balance!AZ11=\"-\",\"-\",ROUND((Balance!AZ11/Balance!AZ$19)*100,1))","v":0},{"$f":"IF(Balance!BA11=\"-\",\"-\",ROUND((Balance!BA11/Balance!BA$19)*100,1))","v":0.1},{"$f":"IF(Balance!BB11=\"-\",\"-\",ROUND((Balance!BB11/Balance!BB$19)*100,1))","v":0.1},{"$f":"IF(Balance!BC11=\"-\",\"-\",ROUND((Balance!BC11/Balance!BC$19)*100,1))","v":0},{"$f":"IF(Balance!BD11=\"-\",\"-\",ROUND((Balance!BD11/Balance!BD$19)*100,1))","v":0.1},{"$f":"IF(Balance!BE11=\"-\",\"-\",ROUND((Balance!BE11/Balance!BE$19)*100,1))","v":0},{"$f":"IF(Balance!BF11=\"-\",\"-\",ROUND((Balance!BF11/Balance!BF$19)*100,1))","v":0},{"$f":"IF(Balance!BG11=\"-\",\"-\",ROUND((Balance!BG11/Balance!BG$19)*100,1))","v":0},{"$f":"IF(Balance!BH11=\"-\",\"-\",ROUND((Balance!BH11/Balance!BH$19)*100,1))","v":0.1},{"$f":"IF(Balance!BI11=\"-\",\"-\",ROUND((Balance!BI11/Balance!BI$19)*100,1))","v":0.1},{"$f":"IF(Balance!BJ11=\"-\",\"-\",ROUND((Balance!BJ11/Balance!BJ$19)*100,1))","v":0},{"$f":"IF(Balance!BK11=\"-\",\"-\",ROUND((Balance!BK11/Balance!BK$19)*100,1))","v":0.1},{"$f":"IF(Balance!BL11=\"-\",\"-\",ROUND((Balance!BL11/Balance!BL$19)*100,1))","v":0.1},{"$f":"IF(Balance!BM11=\"-\",\"-\",ROUND((Balance!BM11/Balance!BM$19)*100,1))","v":0.1},{"$f":"IF(Balance!BN11=\"-\",\"-\",ROUND((Balance!BN11/Balance!BN$19)*100,1))","v":0.1},{"$f":"IF(Balance!BO11=\"-\",\"-\",ROUND((Balance!BO11/Balance!BO$19)*100,1))","v":0.1},{"$f":"IF(Balance!BP11=\"-\",\"-\",ROUND((Balance!BP11/Balance!BP$19)*100,1))","v":0.1},{"$f":"IF(Balance!BQ11=\"-\",\"-\",ROUND((Balance!BQ11/Balance!BQ$19)*100,1))","v":0.1},{"$f":"IF(Balance!BR11=\"-\",\"-\",ROUND((Balance!BR11/Balance!BR$19)*100,1))","v":0.1},{"$f":"IF(Balance!BS11=\"-\",\"-\",ROUND((Balance!BS11/Balance!BS$19)*100,1))","v":0.1},{"$f":"IF(Balance!BT11=\"-\",\"-\",ROUND((Balance!BT11/Balance!BT$19)*100,1))","v":0.2},{"$f":"IF(Balance!BU11=\"-\",\"-\",ROUND((Balance!BU11/Balance!BU$19)*100,1))","v":0.1},{"$f":"IF(Balance!BV11=\"-\",\"-\",ROUND((Balance!BV11/Balance!BV$19)*100,1))","v":0.1},{"$f":"IF(Balance!BW11=\"-\",\"-\",ROUND((Balance!BW11/Balance!BW$19)*100,1))","v":0.1},{"$f":"IF(Balance!BX11=\"-\",\"-\",ROUND((Balance!BX11/Balance!BX$19)*100,1))","v":0.2},{"$f":"IF(Balance!BY11=\"-\",\"-\",ROUND((Balance!BY11/Balance!BY$19)*100,1))","v":0.2},{"$f":"IF(Balance!BZ11=\"-\",\"-\",ROUND((Balance!BZ11/Balance!BZ$19)*100,1))","v":0.2},{"$f":"IF(Balance!CA11=\"-\",\"-\",ROUND((Balance!CA11/Balance!CA$19)*100,1))","v":0.2},{"$f":"IF(Balance!CB11=\"-\",\"-\",ROUND((Balance!CB11/Balance!CB$19)*100,1))","v":0.2},{"$f":"IF(Balance!CC11=\"-\",\"-\",ROUND((Balance!CC11/Balance!CC$19)*100,1))","v":0.2},{"$f":"IF(Balance!CD11=\"-\",\"-\",ROUND((Balance!CD11/Balance!CD$19)*100,1))","v":0.1},{"$f":"IF(Balance!CE11=\"-\",\"-\",ROUND((Balance!CE11/Balance!CE$19)*100,1))","v":0.2},{"$f":"IF(Balance!CF11=\"-\",\"-\",ROUND((Balance!CF11/Balance!CF$19)*100,1))","v":0.2},{"$f":"IF(Balance!CG11=\"-\",\"-\",ROUND((Balance!CG11/Balance!CG$19)*100,1))","v":0.2},{"$f":"IF(Balance!CH11=\"-\",\"-\",ROUND((Balance!CH11/Balance!CH$19)*100,1))","v":0.3},{"$f":"IF(Balance!CI11=\"-\",\"-\",ROUND((Balance!CI11/Balance!CI$19)*100,1))","v":0.3},{"$f":"IF(Balance!CJ11=\"-\",\"-\",ROUND((Balance!CJ11/Balance!CJ$19)*100,1))","v":0.3},{"$f":"IF(Balance!CK11=\"-\",\"-\",ROUND((Balance!CK11/Balance!CK$19)*100,1))","v":0.3},{"$f":"IF(Balance!CL11=\"-\",\"-\",ROUND((Balance!CL11/Balance!CL$19)*100,1))","v":0.4},{"$f":"IF(Balance!CM11=\"-\",\"-\",ROUND((Balance!CM11/Balance!CM$19)*100,1))","v":0.3},{"$f":"IF(Balance!CN11=\"-\",\"-\",ROUND((Balance!CN11/Balance!CN$19)*100,1))","v":0.3},{"$f":"IF(Balance!CO11=\"-\",\"-\",ROUND((Balance!CO11/Balance!CO$19)*100,1))","v":0.4},{"$f":"IF(Balance!CP11=\"-\",\"-\",ROUND((Balance!CP11/Balance!CP$19)*100,1))","v":0.3},{"$f":"IF(Balance!CQ11=\"-\",\"-\",ROUND((Balance!CQ11/Balance!CQ$19)*100,1))","v":0.3},{"$f":"IF(Balance!CR11=\"-\",\"-\",ROUND((Balance!CR11/Balance!CR$19)*100,1))","v":0.5},{"$f":"IF(Balance!CS11=\"-\",\"-\",ROUND((Balance!CS11/Balance!CS$19)*100,1))","v":0.5},{"$f":"IF(Balance!CT11=\"-\",\"-\",ROUND((Balance!CT11/Balance!CT$19)*100,1))","v":0.5},{"$f":"IF(Balance!CU11=\"-\",\"-\",ROUND((Balance!CU11/Balance!CU$19)*100,1))","v":0.6},{"$f":"IF(Balance!CV11=\"-\",\"-\",ROUND((Balance!CV11/Balance!CV$19)*100,1))","v":0.5},{"$f":"IF(Balance!CW11=\"-\",\"-\",ROUND((Balance!CW11/Balance!CW$19)*100,1))","v":0.7},{"$f":"IF(Balance!CX11=\"-\",\"-\",ROUND((Balance!CX11/Balance!CX$19)*100,1))","v":0.7},{"$f":"IF(Balance!CY11=\"-\",\"-\",ROUND((Balance!CY11/Balance!CY$19)*100,1))","v":0.6},{"$f":"IF(Balance!CZ11=\"-\",\"-\",ROUND((Balance!CZ11/Balance!CZ$19)*100,1))","v":0.5},{"$f":"IF(Balance!DA11=\"-\",\"-\",ROUND((Balance!DA11/Balance!DA$19)*100,1))","v":0.7},{"$f":"IF(Balance!DB11=\"-\",\"-\",ROUND((Balance!DB11/Balance!DB$19)*100,1))","v":0.9},{"$f":"IF(Balance!DC11=\"-\",\"-\",ROUND((Balance!DC11/Balance!DC$19)*100,1))","v":0.7},{"$f":"IF(Balance!DD11=\"-\",\"-\",ROUND((Balance!DD11/Balance!DD$19)*100,1))","v":0.7},{"$f":"IF(Balance!DE11=\"-\",\"-\",ROUND((Balance!DE11/Balance!DE$19)*100,1))","v":0.9},{"$f":"IF(Balance!DF11=\"-\",\"-\",ROUND((Balance!DF11/Balance!DF$19)*100,1))","v":0.9},{"$f":"IF(Balance!DG11=\"-\",\"-\",ROUND((Balance!DG11/Balance!DG$19)*100,1))","v":1},{"$f":"IF(Balance!DH11=\"-\",\"-\",ROUND((Balance!DH11/Balance!DH$19)*100,1))","v":1.4},{"$f":"IF(Balance!DI11=\"-\",\"-\",ROUND((Balance!DI11/Balance!DI$19)*100,1))","v":1.4},{"$f":"IF(Balance!DJ11=\"-\",\"-\",ROUND((Balance!DJ11/Balance!DJ$19)*100,1))","v":1.4},{"$f":"IF(Balance!DK11=\"-\",\"-\",ROUND((Balance!DK11/Balance!DK$19)*100,1))","v":1.2},{"$f":"IF(Balance!DL11=\"-\",\"-\",ROUND((Balance!DL11/Balance!DL$19)*100,1))","v":1.4},{"$f":"IF(Balance!DM11=\"-\",\"-\",ROUND((Balance!DM11/Balance!DM$19)*100,1))","v":1.1000000000000001},{"$f":"IF(Balance!DN11=\"-\",\"-\",ROUND((Balance!DN11/Balance!DN$19)*100,1))","v":1},{"$f":"IF(Balance!DO11=\"-\",\"-\",ROUND((Balance!DO11/Balance!DO$19)*100,1))","v":1.1000000000000001},{"$f":"IF(Balance!DP11=\"-\",\"-\",ROUND((Balance!DP11/Balance!DP$19)*100,1))","v":1.3},{"$f":"IF(Balance!DQ11=\"-\",\"-\",ROUND((Balance!DQ11/Balance!DQ$19)*100,1))","v":2},{"$f":"IF(Balance!DR11=\"-\",\"-\",ROUND((Balance!DR11/Balance!DR$19)*100,1))","v":1.9},{"$f":"IF(Balance!DS11=\"-\",\"-\",ROUND((Balance!DS11/Balance!DS$19)*100,1))","v":1.7},{"$f":"IF(Balance!DT11=\"-\",\"-\",ROUND((Balance!DT11/Balance!DT$19)*100,1))","v":1.9},{"$f":"IF(Balance!DU11=\"-\",\"-\",ROUND((Balance!DU11/Balance!DU$19)*100,1))","v":2.1},{"$f":"IF(Balance!DV11=\"-\",\"-\",ROUND((Balance!DV11/Balance!DV$19)*100,1))","v":2.7},{"$f":"IF(Balance!DW11=\"-\",\"-\",ROUND((Balance!DW11/Balance!DW$19)*100,1))","v":1.5},{"$f":"IF(Balance!DX11=\"-\",\"-\",ROUND((Balance!DX11/Balance!DX$19)*100,1))","v":2.2999999999999998},{"$f":"IF(Balance!DY11=\"-\",\"-\",ROUND((Balance!DY11/Balance!DY$19)*100,1))","v":2.2000000000000002},{"$f":"IF(Balance!DZ11=\"-\",\"-\",ROUND((Balance!DZ11/Balance!DZ$19)*100,1))","v":2},{"$f":"IF(Balance!EA11=\"-\",\"-\",ROUND((Balance!EA11/Balance!EA$19)*100,1))","v":1.7},{"$f":"IF(Balance!EB11=\"-\",\"-\",ROUND((Balance!EB11/Balance!EB$19)*100,1))","v":2.6},{"$f":"IF(Balance!EC11=\"-\",\"-\",ROUND((Balance!EC11/Balance!EC$19)*100,1))","v":3.2},{"$f":"IF(Balance!ED11=\"-\",\"-\",ROUND((Balance!ED11/Balance!ED$19)*100,1))","v":3.5},{"$f":"IF(Balance!EE11=\"-\",\"-\",ROUND((Balance!EE11/Balance!EE$19)*100,1))","v":3.2},{"$f":"IF(Balance!EF11=\"-\",\"-\",ROUND((Balance!EF11/Balance!EF$19)*100,1))","v":3.4},{"$f":"IF(Balance!EG11=\"-\",\"-\",ROUND((Balance!EG11/Balance!EG$19)*100,1))","v":3.7},{"$f":"IF(Balance!EH11=\"-\",\"-\",ROUND((Balance!EH11/Balance!EH$19)*100,1))","v":4.3},{"$f":"IF(Balance!EI11=\"-\",\"-\",ROUND((Balance!EI11/Balance!EI$19)*100,1))","v":2.6},{"$f":"IF(Balance!EJ11=\"-\",\"-\",ROUND((Balance!EJ11/Balance!EJ$19)*100,1))","v":2.4},{"$f":"IF(Balance!EK11=\"-\",\"-\",ROUND((Balance!EK11/Balance!EK$19)*100,1))","v":2.2999999999999998},{"$f":"IF(Balance!EL11=\"-\",\"-\",ROUND((Balance!EL11/Balance!EL$19)*100,1))","v":2.2000000000000002},{"$f":"IF(Balance!EM11=\"-\",\"-\",ROUND((Balance!EM11/Balance!EM$19)*100,1))","v":3.7},{"$f":"IF(Balance!EN11=\"-\",\"-\",ROUND((Balance!EN11/Balance!EN$19)*100,1))","v":3.4},{"$f":"IF(Balance!EO11=\"-\",\"-\",ROUND((Balance!EO11/Balance!EO$19)*100,1))","v":4.3},{"$f":"IF(Balance!EP11=\"-\",\"-\",ROUND((Balance!EP11/Balance!EP$19)*100,1))","v":2.9},{"$f":"IF(Balance!EQ11=\"-\",\"-\",ROUND((Balance!EQ11/Balance!EQ$19)*100,1))","v":3.4},{"$f":"IF(Balance!ER11=\"-\",\"-\",ROUND((Balance!ER11/Balance!ER$19)*100,1))","v":4.5999999999999996},{"$f":"IF(Balance!ES11=\"-\",\"-\",ROUND((Balance!ES11/Balance!ES$19)*100,1))","v":4.5999999999999996},{"$f":"IF(Balance!ET11=\"-\",\"-\",ROUND((Balance!ET11/Balance!ET$19)*100,1))","v":3.7},{"$f":"IF(Balance!EU11=\"-\",\"-\",ROUND((Balance!EU11/Balance!EU$19)*100,1))","v":4.7},{"$f":"IF(Balance!EV11=\"-\",\"-\",ROUND((Balance!EV11/Balance!EV$19)*100,1))","v":3.6},{"$f":"IF(Balance!EW11=\"-\",\"-\",ROUND((Balance!EW11/Balance!EW$19)*100,1))","v":3.7},{"$f":"IF(Balance!EX11=\"-\",\"-\",ROUND((Balance!EX11/Balance!EX$19)*100,1))","v":3.5},{"$f":"IF(Balance!EY11=\"-\",\"-\",ROUND((Balance!EY11/Balance!EY$19)*100,1))","v":2.9},{"$f":"IF(Balance!EZ11=\"-\",\"-\",ROUND((Balance!EZ11/Balance!EZ$19)*100,1))","v":4.9000000000000004},{"$f":"IF(Balance!FA11=\"-\",\"-\",ROUND((Balance!FA11/Balance!FA$19)*100,1))","v":5.9},{"$f":"IF(Balance!FB11=\"-\",\"-\",ROUND((Balance!FB11/Balance!FB$19)*100,1))","v":6.4},{"$f":"IF(Balance!FC11=\"-\",\"-\",ROUND((Balance!FC11/Balance!FC$19)*100,1))","v":6.7},{"$f":"IF(Balance!FD11=\"-\",\"-\",ROUND((Balance!FD11/Balance!FD$19)*100,1))","v":5.2},{"$f":"IF(Balance!FE11=\"-\",\"-\",ROUND((Balance!FE11/Balance!FE$19)*100,1))","v":4.5},{"$f":"IF(Balance!FF11=\"-\",\"-\",ROUND((Balance!FF11/Balance!FF$19)*100,1))","v":6.6},{"$f":"IF(Balance!FG11=\"-\",\"-\",ROUND((Balance!FG11/Balance!FG$19)*100,1))","v":5},{"$f":"IF(Balance!FH11=\"-\",\"-\",ROUND((Balance!FH11/Balance!FH$19)*100,1))","v":3.7},{"$f":"IF(Balance!FI11=\"-\",\"-\",ROUND((Balance!FI11/Balance!FI$19)*100,1))","v":3.6},{"$f":"IF(Balance!FJ11=\"-\",\"-\",ROUND((Balance!FJ11/Balance!FJ$19)*100,1))","v":2.9},{"$f":"IF(Balance!FK11=\"-\",\"-\",ROUND((Balance!FK11/Balance!FK$19)*100,1))","v":4.2},{"$f":"IF(Balance!FL11=\"-\",\"-\",ROUND((Balance!FL11/Balance!FL$19)*100,1))","v":5.7},{"$f":"IF(Balance!FM11=\"-\",\"-\",ROUND((Balance!FM11/Balance!FM$19)*100,1))","v":6.1},{"$f":"IF(Balance!FN11=\"-\",\"-\",ROUND((Balance!FN11/Balance!FN$19)*100,1))","v":6.9},{"$f":"IF(Balance!FO11=\"-\",\"-\",ROUND((Balance!FO11/Balance!FO$19)*100,1))","v":8},{"$f":"IF(Balance!FP11=\"-\",\"-\",ROUND((Balance!FP11/Balance!FP$19)*100,1))","v":5.4},{"$f":"IF(Balance!FQ11=\"-\",\"-\",ROUND((Balance!FQ11/Balance!FQ$19)*100,1))","v":6.1},{"$f":"IF(Balance!FR11=\"-\",\"-\",ROUND((Balance!FR11/Balance!FR$19)*100,1))","v":7.9},{"$f":"IF(Balance!FS11=\"-\",\"-\",ROUND((Balance!FS11/Balance!FS$19)*100,1))","v":5.3},{"$f":"IF(Balance!FT11=\"-\",\"-\",ROUND((Balance!FT11/Balance!FT$19)*100,1))","v":5.2},{"$f":"IF(Balance!FU11=\"-\",\"-\",ROUND((Balance!FU11/Balance!FU$19)*100,1))","v":4.5999999999999996},{"$f":"IF(Balance!FV11=\"-\",\"-\",ROUND((Balance!FV11/Balance!FV$19)*100,1))","v":5.6},{"$f":"IF(Balance!FW11=\"-\",\"-\",ROUND((Balance!FW11/Balance!FW$19)*100,1))","v":5.8},{"$f":"IF(Balance!FX11=\"-\",\"-\",ROUND((Balance!FX11/Balance!FX$19)*100,1))","v":8.1999999999999993},{"$f":"IF(Balance!FY11=\"-\",\"-\",ROUND((Balance!FY11/Balance!FY$19)*100,1))","v":7.3},{"$f":"IF(Balance!FZ11=\"-\",\"-\",ROUND((Balance!FZ11/Balance!FZ$19)*100,1))","v":8.1999999999999993},{"$f":"IF(Balance!GA11=\"-\",\"-\",ROUND((Balance!GA11/Balance!GA$19)*100,1))","v":8.3000000000000007},{"$f":"IF(Balance!GB11=\"-\",\"-\",ROUND((Balance!GB11/Balance!GB$19)*100,1))","v":8.3000000000000007},{"$f":"IF(Balance!GC11=\"-\",\"-\",ROUND((Balance!GC11/Balance!GC$19)*100,1))","v":8.1999999999999993},{"$f":"IF(Balance!GD11=\"-\",\"-\",ROUND((Balance!GD11/Balance!GD$19)*100,1))","v":9.9},{"$f":"IF(Balance!GE11=\"-\",\"-\",ROUND((Balance!GE11/Balance!GE$19)*100,1))","v":7.6},{"$f":"IF(Balance!GF11=\"-\",\"-\",ROUND((Balance!GF11/Balance!GF$19)*100,1))","v":6},{"$f":"IF(Balance!GG11=\"-\",\"-\",ROUND((Balance!GG11/Balance!GG$19)*100,1))","v":7.3},{"$f":"IF(Balance!GH11=\"-\",\"-\",ROUND((Balance!GH11/Balance!GH$19)*100,1))","v":8.1},{"$f":"IF(Balance!GI11=\"-\",\"-\",ROUND((Balance!GI11/Balance!GI$19)*100,1))","v":6.2},{"$f":"IF(Balance!GJ11=\"-\",\"-\",ROUND((Balance!GJ11/Balance!GJ$19)*100,1))","v":9.3000000000000007},{"$f":"IF(Balance!GK11=\"-\",\"-\",ROUND((Balance!GK11/Balance!GK$19)*100,1))","v":9},{"$f":"IF(Balance!GL11=\"-\",\"-\",ROUND((Balance!GL11/Balance!GL$19)*100,1))","v":10.199999999999999},{"$f":"IF(Balance!GM11=\"-\",\"-\",ROUND((Balance!GM11/Balance!GM$19)*100,1))","v":6.4},{"$f":"IF(Balance!GN11=\"-\",\"-\",ROUND((Balance!GN11/Balance!GN$19)*100,1))","v":8.6},{"$f":"IF(Balance!GO11=\"-\",\"-\",ROUND((Balance!GO11/Balance!GO$19)*100,1))","v":12},{"$f":"IF(Balance!GP11=\"-\",\"-\",ROUND((Balance!GP11/Balance!GP$19)*100,1))","v":10.3},{"$f":"IF(Balance!GQ11=\"-\",\"-\",ROUND((Balance!GQ11/Balance!GQ$19)*100,1))","v":8.1},{"$f":"IF(Balance!GR11=\"-\",\"-\",ROUND((Balance!GR11/Balance!GR$19)*100,1))","v":6.4},{"$f":"IF(Balance!GS11=\"-\",\"-\",ROUND((Balance!GS11/Balance!GS$19)*100,1))","v":4.9000000000000004},{"$f":"IF(Balance!GT11=\"-\",\"-\",ROUND((Balance!GT11/Balance!GT$19)*100,1))","v":10.4},{"$f":"IF(Balance!GU11=\"-\",\"-\",ROUND((Balance!GU11/Balance!GU$19)*100,1))","v":6.8},{"$f":"IF(Balance!GV11=\"-\",\"-\",ROUND((Balance!GV11/Balance!GV$19)*100,1))","v":11},{"$f":"IF(Balance!GW11=\"-\",\"-\",ROUND((Balance!GW11/Balance!GW$19)*100,1))","v":10.6},{"$f":"IF(Balance!GX11=\"-\",\"-\",ROUND((Balance!GX11/Balance!GX$19)*100,1))","v":9.3000000000000007},{"$f":"IF(Balance!GY11=\"-\",\"-\",ROUND((Balance!GY11/Balance!GY$19)*100,1))","v":8.8000000000000007},{"$f":"IF(Balance!GZ11=\"-\",\"-\",ROUND((Balance!GZ11/Balance!GZ$19)*100,1))","v":13.2},{"$f":"IF(Balance!HA11=\"-\",\"-\",ROUND((Balance!HA11/Balance!HA$19)*100,1))","v":13.3},{"$f":"IF(Balance!HB11=\"-\",\"-\",ROUND((Balance!HB11/Balance!HB$19)*100,1))","v":6.5},{"$f":"IF(Balance!HC11=\"-\",\"-\",ROUND((Balance!HC11/Balance!HC$19)*100,1))","v":12},{"$f":"IF(Balance!HD11=\"-\",\"-\",ROUND((Balance!HD11/Balance!HD$19)*100,1))","v":8.1999999999999993},{"$f":"IF(Balance!HE11=\"-\",\"-\",ROUND((Balance!HE11/Balance!HE$19)*100,1))","v":8},{"$f":"IF(Balance!HF11=\"-\",\"-\",ROUND((Balance!HF11/Balance!HF$19)*100,1))","v":11.1},{"$f":"IF(Balance!HG11=\"-\",\"-\",ROUND((Balance!HG11/Balance!HG$19)*100,1))","v":9.1999999999999993},{"$f":"IF(Balance!HH11=\"-\",\"-\",ROUND((Balance!HH11/Balance!HH$19)*100,1))","v":8.4},{"$f":"IF(Balance!HI11=\"-\",\"-\",ROUND((Balance!HI11/Balance!HI$19)*100,1))","v":11.5},{"$f":"IF(Balance!HJ11=\"-\",\"-\",ROUND((Balance!HJ11/Balance!HJ$19)*100,1))","v":9.6},{"$f":"IF(Balance!HK11=\"-\",\"-\",ROUND((Balance!HK11/Balance!HK$19)*100,1))","v":10.5},{"$f":"IF(Balance!HL11=\"-\",\"-\",ROUND((Balance!HL11/Balance!HL$19)*100,1))","v":8.5},{"$f":"IF(Balance!HM11=\"-\",\"-\",ROUND((Balance!HM11/Balance!HM$19)*100,1))","v":17.100000000000001},{"$f":"IF(Balance!HN11=\"-\",\"-\",ROUND((Balance!HN11/Balance!HN$19)*100,1))","v":14.6},{"$f":"IF(Balance!HO11=\"-\",\"-\",ROUND((Balance!HO11/Balance!HO$19)*100,1))","v":7.9},{"$f":"IF(Balance!HP11=\"-\",\"-\",ROUND((Balance!HP11/Balance!HP$19)*100,1))","v":9.3000000000000007},{"$f":"IF(Balance!HQ11=\"-\",\"-\",ROUND((Balance!HQ11/Balance!HQ$19)*100,1))","v":8.6999999999999993},{"$f":"IF(Balance!HR11=\"-\",\"-\",ROUND((Balance!HR11/Balance!HR$19)*100,1))","v":8.6999999999999993},{"$f":"IF(Balance!HS11=\"-\",\"-\",ROUND((Balance!HS11/Balance!HS$19)*100,1))","v":9.6},{"$f":"IF(Balance!HT11=\"-\",\"-\",ROUND((Balance!HT11/Balance!HT$19)*100,1))","v":11},{"$f":"IF(Balance!HU11=\"-\",\"-\",ROUND((Balance!HU11/Balance!HU$19)*100,1))","v":14.8},{"$f":"IF(Balance!HV11=\"-\",\"-\",ROUND((Balance!HV11/Balance!HV$19)*100,1))","v":14.9},{"$f":"IF(Balance!HW11=\"-\",\"-\",ROUND((Balance!HW11/Balance!HW$19)*100,1))","v":13.9},{"$f":"IF(Balance!HX11=\"-\",\"-\",ROUND((Balance!HX11/Balance!HX$19)*100,1))","v":14.8},{"$f":"IF(Balance!HY11=\"-\",\"-\",ROUND((Balance!HY11/Balance!HY$19)*100,1))","v":14.5},{"$f":"IF(Balance!HZ11=\"-\",\"-\",ROUND((Balance!HZ11/Balance!HZ$19)*100,1))","v":15.3},{"$f":"IF(Balance!IA11=\"-\",\"-\",ROUND((Balance!IA11/Balance!IA$19)*100,1))","v":13.3},{"$f":"IF(Balance!IB11=\"-\",\"-\",ROUND((Balance!IB11/Balance!IB$19)*100,1))","v":10.8},{"$f":"IF(Balance!IC11=\"-\",\"-\",ROUND((Balance!IC11/Balance!IC$19)*100,1))","v":10.3},{"$f":"IF(Balance!ID11=\"-\",\"-\",ROUND((Balance!ID11/Balance!ID$19)*100,1))","v":10.1},{"$f":"IF(Balance!IE11=\"-\",\"-\",ROUND((Balance!IE11/Balance!IE$19)*100,1))","v":11.5},{"$f":"IF(Balance!IF11=\"-\",\"-\",ROUND((Balance!IF11/Balance!IF$19)*100,1))","v":14.5},{"$f":"IF(Balance!IG11=\"-\",\"-\",ROUND((Balance!IG11/Balance!IG$19)*100,1))","v":21.8},{"$f":"IF(Balance!IH11=\"-\",\"-\",ROUND((Balance!IH11/Balance!IH$19)*100,1))","v":20.8},{"$f":"IF(Balance!II11=\"-\",\"-\",ROUND((Balance!II11/Balance!II$19)*100,1))","v":17.3},{"$f":"IF(Balance!IJ11=\"-\",\"-\",ROUND((Balance!IJ11/Balance!IJ$19)*100,1))","v":20.100000000000001},{"$f":"IF(Balance!IK11=\"-\",\"-\",ROUND((Balance!IK11/Balance!IK$19)*100,1))","v":19},{"$f":"IF(Balance!IL11=\"-\",\"-\",ROUND((Balance!IL11/Balance!IL$19)*100,1))","v":12.6},{"$f":"IF(Balance!IM11=\"-\",\"-\",ROUND((Balance!IM11/Balance!IM$19)*100,1))","v":17},{"$f":"IF(Balance!IN11=\"-\",\"-\",ROUND((Balance!IN11/Balance!IN$19)*100,1))","v":12},{"$f":"IF(Balance!IO11=\"-\",\"-\",ROUND((Balance!IO11/Balance!IO$19)*100,1))","v":11.5},{"$f":"IF(Balance!IP11=\"-\",\"-\",ROUND((Balance!IP11/Balance!IP$19)*100,1))","v":12.9},{"$f":"IF(Balance!IQ11=\"-\",\"-\",ROUND((Balance!IQ11/Balance!IQ$19)*100,1))","v":10.5},{"$f":"IF(Balance!IR11=\"-\",\"-\",ROUND((Balance!IR11/Balance!IR$19)*100,1))","v":17.899999999999999},{"$f":"IF(Balance!IS11=\"-\",\"-\",ROUND((Balance!IS11/Balance!IS$19)*100,1))","v":19},{"$f":"IF(Balance!IT11=\"-\",\"-\",ROUND((Balance!IT11/Balance!IT$19)*100,1))","v":19.100000000000001},{"$f":"IF(Balance!IU11=\"-\",\"-\",ROUND((Balance!IU11/Balance!IU$19)*100,1))","v":16.3},{"$f":"IF(Balance!IV11=\"-\",\"-\",ROUND((Balance!IV11/Balance!IV$19)*100,1))","v":18.3},{"$f":"IF(Balance!IW11=\"-\",\"-\",ROUND((Balance!IW11/Balance!IW$19)*100,1))","v":19.7},{"$f":"IF(Balance!IX11=\"-\",\"-\",ROUND((Balance!IX11/Balance!IX$19)*100,1))","v":16.5},{"$f":"IF(Balance!IY11=\"-\",\"-\",ROUND((Balance!IY11/Balance!IY$19)*100,1))","v":15.3},{"$f":"IF(Balance!IZ11=\"-\",\"-\",ROUND((Balance!IZ11/Balance!IZ$19)*100,1))","v":13.8},{"$f":"IF(Balance!JA11=\"-\",\"-\",ROUND((Balance!JA11/Balance!JA$19)*100,1))","v":14.4},{"$f":"IF(Balance!JB11=\"-\",\"-\",ROUND((Balance!JB11/Balance!JB$19)*100,1))","v":12.4},{"$f":"IF(Balance!JC11=\"-\",\"-\",ROUND((Balance!JC11/Balance!JC$19)*100,1))","v":10.7},{"$f":"IF(Balance!JD11=\"-\",\"-\",ROUND((Balance!JD11/Balance!JD$19)*100,1))","v":15},{"$f":"IF(Balance!JE11=\"-\",\"-\",ROUND((Balance!JE11/Balance!JE$19)*100,1))","v":17.8},{"$f":"IF(Balance!JF11=\"-\",\"-\",ROUND((Balance!JF11/Balance!JF$19)*100,1))","v":20.2},{"$f":"IF(Balance!JG11=\"-\",\"-\",ROUND((Balance!JG11/Balance!JG$19)*100,1))","v":15.1},{"$f":"IF(Balance!JH11=\"-\",\"-\",ROUND((Balance!JH11/Balance!JH$19)*100,1))","v":20.2},{"$f":"IF(Balance!JI11=\"-\",\"-\",ROUND((Balance!JI11/Balance!JI$19)*100,1))","v":16.8},{"$f":"IF(Balance!JJ11=\"-\",\"-\",ROUND((Balance!JJ11/Balance!JJ$19)*100,1))","v":24.9},{"$f":"IF(Balance!JK11=\"-\",\"-\",ROUND((Balance!JK11/Balance!JK$19)*100,1))","v":17.2},{"$f":"IF(Balance!JL11=\"-\",\"-\",ROUND((Balance!JL11/Balance!JL$19)*100,1))","v":15.8},{"$f":"IF(Balance!JM11=\"-\",\"-\",ROUND((Balance!JM11/Balance!JM$19)*100,1))","v":13.2},{"$f":"IF(Balance!JN11=\"-\",\"-\",ROUND((Balance!JN11/Balance!JN$19)*100,1))","v":13.9},{"$f":"IF(Balance!JO11=\"-\",\"-\",ROUND((Balance!JO11/Balance!JO$19)*100,1))","v":18.399999999999999},{"$f":"IF(Balance!JP11=\"-\",\"-\",ROUND((Balance!JP11/Balance!JP$19)*100,1))","v":14.5},{"$f":"IF(Balance!JQ11=\"-\",\"-\",ROUND((Balance!JQ11/Balance!JQ$19)*100,1))","v":21.4},{"$f":"IF(Balance!JR11=\"-\",\"-\",ROUND((Balance!JR11/Balance!JR$19)*100,1))","v":23.6},{"$f":"IF(Balance!JS11=\"-\",\"-\",ROUND((Balance!JS11/Balance!JS$19)*100,1))","v":26.5},{"$f":"IF(Balance!JT11=\"-\",\"-\",ROUND((Balance!JT11/Balance!JT$19)*100,1))","v":24.4},{"$f":"IF(Balance!JU11=\"-\",\"-\",ROUND((Balance!JU11/Balance!JU$19)*100,1))","v":25.2},{"$f":"IF(Balance!JV11=\"-\",\"-\",ROUND((Balance!JV11/Balance!JV$19)*100,1))","v":21.1},{"$f":"IF(Balance!JW11=\"-\",\"-\",ROUND((Balance!JW11/Balance!JW$19)*100,1))","v":19.5},{"$f":"IF(Balance!JX11=\"-\",\"-\",ROUND((Balance!JX11/Balance!JX$19)*100,1))","v":19.100000000000001},{"$f":"IF(Balance!JY11=\"-\",\"-\",ROUND((Balance!JY11/Balance!JY$19)*100,1))","v":12.3},{"$f":"IF(Balance!JZ11=\"-\",\"-\",ROUND((Balance!JZ11/Balance!JZ$19)*100,1))","v":15.9},{"$f":"IF(Balance!KA11=\"-\",\"-\",ROUND((Balance!KA11/Balance!KA$19)*100,1))","v":15.4},{"$f":"IF(Balance!KB11=\"-\",\"-\",ROUND((Balance!KB11/Balance!KB$19)*100,1))","v":19},{"$f":"IF(Balance!KC11=\"-\",\"-\",ROUND((Balance!KC11/Balance!KC$19)*100,1))","v":29.5},{"$f":"IF(Balance!KD11=\"-\",\"-\",ROUND((Balance!KD11/Balance!KD$19)*100,1))","v":21.6},{"$f":"IF(Balance!KE11=\"-\",\"-\",ROUND((Balance!KE11/Balance!KE$19)*100,1))","v":28.5},{"$f":"IF(Balance!KF11=\"-\",\"-\",ROUND((Balance!KF11/Balance!KF$19)*100,1))","v":27.3},{"$f":"IF(Balance!KG11=\"-\",\"-\",ROUND((Balance!KG11/Balance!KG$19)*100,1))","v":23.2},{"$f":"IF(Balance!KH11=\"-\",\"-\",ROUND((Balance!KH11/Balance!KH$19)*100,1))","v":19.7},{"$f":"IF(Balance!KI11=\"-\",\"-\",ROUND((Balance!KI11/Balance!KI$19)*100,1))","v":20.399999999999999},{"$f":"IF(Balance!KJ11=\"-\",\"-\",ROUND((Balance!KJ11/Balance!KJ$19)*100,1))","v":16.100000000000001},{"$f":"IF(Balance!KK11=\"-\",\"-\",ROUND((Balance!KK11/Balance!KK$19)*100,1))","v":16.3},{"$f":"IF(Balance!KL11=\"-\",\"-\",ROUND((Balance!KL11/Balance!KL$19)*100,1))","v":13.7},{"$f":"IF(Balance!KM11=\"-\",\"-\",ROUND((Balance!KM11/Balance!KM$19)*100,1))","v":10.199999999999999},{"$f":"IF(Balance!KN11=\"-\",\"-\",ROUND((Balance!KN11/Balance!KN$19)*100,1))","v":16.5},{"$f":"IF(Balance!KO11=\"-\",\"-\",ROUND((Balance!KO11/Balance!KO$19)*100,1))","v":25.1},{"$f":"IF(Balance!KP11=\"-\",\"-\",ROUND((Balance!KP11/Balance!KP$19)*100,1))","v":21.4},{"$f":"IF(Balance!KQ11=\"-\",\"-\",ROUND((Balance!KQ11/Balance!KQ$19)*100,1))","v":20.9},{"$f":"IF(Balance!KR11=\"-\",\"-\",ROUND((Balance!KR11/Balance!KR$19)*100,1))","v":26.8},{"$f":"IF(Balance!KS11=\"-\",\"-\",ROUND((Balance!KS11/Balance!KS$19)*100,1))","v":22},{"$f":"IF(Balance!KT11=\"-\",\"-\",ROUND((Balance!KT11/Balance!KT$19)*100,1))","v":19.899999999999999},{"$f":"IF(Balance!KU11=\"-\",\"-\",ROUND((Balance!KU11/Balance!KU$19)*100,1))","v":23.8},{"$f":"IF(Balance!KV11=\"-\",\"-\",ROUND((Balance!KV11/Balance!KV$19)*100,1))","v":13.9},{"$f":"IF(Balance!KW11=\"-\",\"-\",ROUND((Balance!KW11/Balance!KW$19)*100,1))","v":12.7},{"$f":"IF(Balance!KX11=\"-\",\"-\",ROUND((Balance!KX11/Balance!KX$19)*100,1))","v":15},{"$f":"IF(Balance!KY11=\"-\",\"-\",ROUND((Balance!KY11/Balance!KY$19)*100,1))","v":14.9},{"$f":"IF(Balance!KZ11=\"-\",\"-\",ROUND((Balance!KZ11/Balance!KZ$19)*100,1))","v":19.7},{"$f":"IF(Balance!LA11=\"-\",\"-\",ROUND((Balance!LA11/Balance!LA$19)*100,1))","v":18.600000000000001},{"$f":"IF(Balance!LB11=\"-\",\"-\",ROUND((Balance!LB11/Balance!LB$19)*100,1))","v":17.100000000000001},{"$f":"IF(Balance!LC11=\"-\",\"-\",ROUND((Balance!LC11/Balance!LC$19)*100,1))","v":25.9},{"$f":"IF(Balance!LD11=\"-\",\"-\",ROUND((Balance!LD11/Balance!LD$19)*100,1))","v":29.3},{"$f":"IF(Balance!LE11=\"-\",\"-\",ROUND((Balance!LE11/Balance!LE$19)*100,1))","v":24.6},{"$f":"IF(Balance!LF11=\"-\",\"-\",ROUND((Balance!LF11/Balance!LF$19)*100,1))","v":21.3},{"$f":"IF(Balance!LG11=\"-\",\"-\",ROUND((Balance!LG11/Balance!LG$19)*100,1))","v":20},{"$f":"IF(Balance!LH11=\"-\",\"-\",ROUND((Balance!LH11/Balance!LH$19)*100,1))","v":16.5},{"$f":"IF(Balance!LI11=\"-\",\"-\",ROUND((Balance!LI11/Balance!LI$19)*100,1))","v":16},{"$f":"IF(Balance!LJ11=\"-\",\"-\",ROUND((Balance!LJ11/Balance!LJ$19)*100,1))","v":17.399999999999999},{"$f":"IF(Balance!LK11=\"-\",\"-\",ROUND((Balance!LK11/Balance!LK$19)*100,1))","v":13.4},{"$f":"IF(Balance!LL11=\"-\",\"-\",ROUND((Balance!LL11/Balance!LL$19)*100,1))","v":11.5},{"$f":"IF(Balance!LM11=\"-\",\"-\",ROUND((Balance!LM11/Balance!LM$19)*100,1))","v":18.8},{"$f":"IF(Balance!LN11=\"-\",\"-\",ROUND((Balance!LN11/Balance!LN$19)*100,1))","v":12.8},{"$f":"IF(Balance!LO11=\"-\",\"-\",ROUND((Balance!LO11/Balance!LO$19)*100,1))","v":19.8},{"$f":"IF(Balance!LP11=\"-\",\"-\",ROUND((Balance!LP11/Balance!LP$19)*100,1))","v":24.5},{"$f":"IF(Balance!LQ11=\"-\",\"-\",ROUND((Balance!LQ11/Balance!LQ$19)*100,1))","v":23.3},{"$f":"IF(Balance!LR11=\"-\",\"-\",ROUND((Balance!LR11/Balance!LR$19)*100,1))","v":23},{"$f":"IF(Balance!LS11=\"-\",\"-\",ROUND((Balance!LS11/Balance!LS$19)*100,1))","v":18},{"$f":"IF(Balance!LT11=\"-\",\"-\",ROUND((Balance!LT11/Balance!LT$19)*100,1))","v":15.1},{"$f":"IF(Balance!LU11=\"-\",\"-\",ROUND((Balance!LU11/Balance!LU$19)*100,1))","v":15.6},{"$f":"IF(Balance!LV11=\"-\",\"-\",ROUND((Balance!LV11/Balance!LV$19)*100,1))","v":16.2},{"$f":"IF(Balance!LW11=\"-\",\"-\",ROUND((Balance!LW11/Balance!LW$19)*100,1))","v":14.8},{"$f":"IF(Balance!LX11=\"-\",\"-\",ROUND((Balance!LX11/Balance!LX$19)*100,1))","v":15.7},{"$f":"IF(Balance!LY11=\"-\",\"-\",ROUND((Balance!LY11/Balance!LY$19)*100,1))","v":18.3},{"$f":"IF(Balance!LZ11=\"-\",\"-\",ROUND((Balance!LZ11/Balance!LZ$19)*100,1))","v":24.8},{"$f":"IF(Balance!MA11=\"-\",\"-\",ROUND((Balance!MA11/Balance!MA$19)*100,1))","v":24.3},{"$f":"IF(Balance!MB11=\"-\",\"-\",ROUND((Balance!MB11/Balance!MB$19)*100,1))","v":"-"},{"$f":"IF(Balance!MC11=\"-\",\"-\",ROUND((Balance!MC11/Balance!MC$19)*100,1))","v":"-"},{"$f":"IF(Balance!MD11=\"-\",\"-\",ROUND((Balance!MD11/Balance!MD$19)*100,1))","v":"-"},{"$f":"IF(Balance!ME11=\"-\",\"-\",ROUND((Balance!ME11/Balance!ME$19)*100,1))","v":"-"},{"$f":"IF(Balance!MF11=\"-\",\"-\",ROUND((Balance!MF11/Balance!MF$19)*100,1))","v":"-"},{"$f":"IF(Balance!MG11=\"-\",\"-\",ROUND((Balance!MG11/Balance!MG$19)*100,1))","v":"-"},{"$f":"IF(Balance!MH11=\"-\",\"-\",ROUND((Balance!MH11/Balance!MH$19)*100,1))","v":"-"},{"$f":"IF(Balance!MI11=\"-\",\"-\",ROUND((Balance!MI11/Balance!MI$19)*100,1))","v":"-"},{"$f":"IF(Balance!MJ11=\"-\",\"-\",ROUND((Balance!MJ11/Balance!MJ$19)*100,1))","v":"-"},{"$f":"IF(Balance!MK11=\"-\",\"-\",ROUND((Balance!MK11/Balance!MK$19)*100,1))","v":"-"},{"$f":"IF(Balance!ML11=\"-\",\"-\",ROUND((Balance!ML11/Balance!ML$19)*100,1))","v":"-"}]
[null,"Solar fotovoltaica",{"$f":"IF(Balance!C12=\"-\",\"-\",ROUND((Balance!C12/Balance!C$19)*100,1))","v":0},{"$f":"IF(Balance!D12=\"-\",\"-\",ROUND((Balance!D12/Balance!D$19)*100,1))","v":0},{"$f":"IF(Balance!E12=\"-\",\"-\",ROUND((Balance!E12/Balance!E$19)*100,1))","v":0},{"$f":"IF(Balance!F12=\"-\",\"-\",ROUND((Balance!F12/Balance!F$19)*100,1))","v":0},{"$f":"IF(Balance!G12=\"-\",\"-\",ROUND((Balance!G12/Balance!G$19)*100,1))","v":0},{"$f":"IF(Balance!H12=\"-\",\"-\",ROUND((Balance!H12/Balance!H$19)*100,1))","v":0},{"$f":"IF(Balance!I12=\"-\",\"-\",ROUND((Balance!I12/Balance!I$19)*100,1))","v":0},{"$f":"IF(Balance!J12=\"-\",\"-\",ROUND((Balance!J12/Balance!J$19)*100,1))","v":0},{"$f":"IF(Balance!K12=\"-\",\"-\",ROUND((Balance!K12/Balance!K$19)*100,1))","v":0},{"$f":"IF(Balance!L12=\"-\",\"-\",ROUND((Balance!L12/Balance!L$19)*100,1))","v":0},{"$f":"IF(Balance!M12=\"-\",\"-\",ROUND((Balance!M12/Balance!M$19)*100,1))","v":0},{"$f":"IF(Balance!N12=\"-\",\"-\",ROUND((Balance!N12/Balance!N$19)*100,1))","v":0},{"$f":"IF(Balance!O12=\"-\",\"-\",ROUND((Balance!O12/Balance!O$19)*100,1))","v":0},{"$f":"IF(Balance!P12=\"-\",\"-\",ROUND((Balance!P12/Balance!P$19)*100,1))","v":0},{"$f":"IF(Balance!Q12=\"-\",\"-\",ROUND((Balance!Q12/Balance!Q$19)*100,1))","v":0},{"$f":"IF(Balance!R12=\"-\",\"-\",ROUND((Balance!R12/Balance!R$19)*100,1))","v":0},{"$f":"IF(Balance!S12=\"-\",\"-\",ROUND((Balance!S12/Balance!S$19)*100,1))","v":0},{"$f":"IF(Balance!T12=\"-\",\"-\",ROUND((Balance!T12/Balance!T$19)*100,1))","v":0},{"$f":"IF(Balance!U12=\"-\",\"-\",ROUND((Balance!U12/Balance!U$19)*100,1))","v":0},{"$f":"IF(Balance!V12=\"-\",\"-\",ROUND((Balance!V12/Balance!V$19)*100,1))","v":0},{"$f":"IF(Balance!W12=\"-\",\"-\",ROUND((Balance!W12/Balance!W$19)*100,1))","v":0},{"$f":"IF(Balance!X12=\"-\",\"-\",ROUND((Balance!X12/Balance!X$19)*100,1))","v":0},{"$f":"IF(Balance!Y12=\"-\",\"-\",ROUND((Balance!Y12/Balance!Y$19)*100,1))","v":0},{"$f":"IF(Balance!Z12=\"-\",\"-\",ROUND((Balance!Z12/Balance!Z$19)*100,1))","v":0},{"$f":"IF(Balance!AA12=\"-\",\"-\",ROUND((Balance!AA12/Balance!AA$19)*100,1))","v":0},{"$f":"IF(Balance!AB12=\"-\",\"-\",ROUND((Balance!AB12/Balance!AB$19)*100,1))","v":0},{"$f":"IF(Balance!AC12=\"-\",\"-\",ROUND((Balance!AC12/Balance!AC$19)*100,1))","v":0},{"$f":"IF(Balance!AD12=\"-\",\"-\",ROUND((Balance!AD12/Balance!AD$19)*100,1))","v":0},{"$f":"IF(Balance!AE12=\"-\",\"-\",ROUND((Balance!AE12/Balance!AE$19)*100,1))","v":0},{"$f":"IF(Balance!AF12=\"-\",\"-\",ROUND((Balance!AF12/Balance!AF$19)*100,1))","v":0},{"$f":"IF(Balance!AG12=\"-\",\"-\",ROUND((Balance!AG12/Balance!AG$19)*100,1))","v":0},{"$f":"IF(Balance!AH12=\"-\",\"-\",ROUND((Balance!AH12/Balance!AH$19)*100,1))","v":0},{"$f":"IF(Balance!AI12=\"-\",\"-\",ROUND((Balance!AI12/Balance!AI$19)*100,1))","v":0},{"$f":"IF(Balance!AJ12=\"-\",\"-\",ROUND((Balance!AJ12/Balance!AJ$19)*100,1))","v":0},{"$f":"IF(Balance!AK12=\"-\",\"-\",ROUND((Balance!AK12/Balance!AK$19)*100,1))","v":0},{"$f":"IF(Balance!AL12=\"-\",\"-\",ROUND((Balance!AL12/Balance!AL$19)*100,1))","v":0},{"$f":"IF(Balance!AM12=\"-\",\"-\",ROUND((Balance!AM12/Balance!AM$19)*100,1))","v":0},{"$f":"IF(Balance!AN12=\"-\",\"-\",ROUND((Balance!AN12/Balance!AN$19)*100,1))","v":0},{"$f":"IF(Balance!AO12=\"-\",\"-\",ROUND((Balance!AO12/Balance!AO$19)*100,1))","v":0},{"$f":"IF(Balance!AP12=\"-\",\"-\",ROUND((Balance!AP12/Balance!AP$19)*100,1))","v":0},{"$f":"IF(Balance!AQ12=\"-\",\"-\",ROUND((Balance!AQ12/Balance!AQ$19)*100,1))","v":0},{"$f":"IF(Balance!AR12=\"-\",\"-\",ROUND((Balance!AR12/Balance!AR$19)*100,1))","v":0},{"$f":"IF(Balance!AS12=\"-\",\"-\",ROUND((Balance!AS12/Balance!AS$19)*100,1))","v":0},{"$f":"IF(Balance!AT12=\"-\",\"-\",ROUND((Balance!AT12/Balance!AT$19)*100,1))","v":0},{"$f":"IF(Balance!AU12=\"-\",\"-\",ROUND((Balance!AU12/Balance!AU$19)*100,1))","v":0},{"$f":"IF(Balance!AV12=\"-\",\"-\",ROUND((Balance!AV12/Balance!AV$19)*100,1))","v":0},{"$f":"IF(Balance!AW12=\"-\",\"-\",ROUND((Balance!AW12/Balance!AW$19)*100,1))","v":0},{"$f":"IF(Balance!AX12=\"-\",\"-\",ROUND((Balance!AX12/Balance!AX$19)*100,1))","v":0},{"$f":"IF(Balance!AY12=\"-\",\"-\",ROUND((Balance!AY12/Balance!AY$19)*100,1))","v":0},{"$f":"IF(Balance!AZ12=\"-\",\"-\",ROUND((Balance!AZ12/Balance!AZ$19)*100,1))","v":0},{"$f":"IF(Balance!BA12=\"-\",\"-\",ROUND((Balance!BA12/Balance!BA$19)*100,1))","v":0},{"$f":"IF(Balance!BB12=\"-\",\"-\",ROUND((Balance!BB12/Balance!BB$19)*100,1))","v":0},{"$f":"IF(Balance!BC12=\"-\",\"-\",ROUND((Balance!BC12/Balance!BC$19)*100,1))","v":0},{"$f":"IF(Balance!BD12=\"-\",\"-\",ROUND((Balance!BD12/Balance!BD$19)*100,1))","v":0},{"$f":"IF(Balance!BE12=\"-\",\"-\",ROUND((Balance!BE12/Balance!BE$19)*100,1))","v":0},{"$f":"IF(Balance!BF12=\"-\",\"-\",ROUND((Balance!BF12/Balance!BF$19)*100,1))","v":0},{"$f":"IF(Balance!BG12=\"-\",\"-\",ROUND((Balance!BG12/Balance!BG$19)*100,1))","v":0},{"$f":"IF(Balance!BH12=\"-\",\"-\",ROUND((Balance!BH12/Balance!BH$19)*100,1))","v":0},{"$f":"IF(Balance!BI12=\"-\",\"-\",ROUND((Balance!BI12/Balance!BI$19)*100,1))","v":0},{"$f":"IF(Balance!BJ12=\"-\",\"-\",ROUND((Balance!BJ12/Balance!BJ$19)*100,1))","v":0},{"$f":"IF(Balance!BK12=\"-\",\"-\",ROUND((Balance!BK12/Balance!BK$19)*100,1))","v":0},{"$f":"IF(Balance!BL12=\"-\",\"-\",ROUND((Balance!BL12/Balance!BL$19)*100,1))","v":0},{"$f":"IF(Balance!BM12=\"-\",\"-\",ROUND((Balance!BM12/Balance!BM$19)*100,1))","v":0},{"$f":"IF(Balance!BN12=\"-\",\"-\",ROUND((Balance!BN12/Balance!BN$19)*100,1))","v":0},{"$f":"IF(Balance!BO12=\"-\",\"-\",ROUND((Balance!BO12/Balance!BO$19)*100,1))","v":0},{"$f":"IF(Balance!BP12=\"-\",\"-\",ROUND((Balance!BP12/Balance!BP$19)*100,1))","v":0},{"$f":"IF(Balance!BQ12=\"-\",\"-\",ROUND((Balance!BQ12/Balance!BQ$19)*100,1))","v":0},{"$f":"IF(Balance!BR12=\"-\",\"-\",ROUND((Balance!BR12/Balance!BR$19)*100,1))","v":0},{"$f":"IF(Balance!BS12=\"-\",\"-\",ROUND((Balance!BS12/Balance!BS$19)*100,1))","v":0},{"$f":"IF(Balance!BT12=\"-\",\"-\",ROUND((Balance!BT12/Balance!BT$19)*100,1))","v":0},{"$f":"IF(Balance!BU12=\"-\",\"-\",ROUND((Balance!BU12/Balance!BU$19)*100,1))","v":0},{"$f":"IF(Balance!BV12=\"-\",\"-\",ROUND((Balance!BV12/Balance!BV$19)*100,1))","v":0},{"$f":"IF(Balance!BW12=\"-\",\"-\",ROUND((Balance!BW12/Balance!BW$19)*100,1))","v":0},{"$f":"IF(Balance!BX12=\"-\",\"-\",ROUND((Balance!BX12/Balance!BX$19)*100,1))","v":0},{"$f":"IF(Balance!BY12=\"-\",\"-\",ROUND((Balance!BY12/Balance!BY$19)*100,1))","v":0},{"$f":"IF(Balance!BZ12=\"-\",\"-\",ROUND((Balance!BZ12/Balance!BZ$19)*100,1))","v":0},{"$f":"IF(Balance!CA12=\"-\",\"-\",ROUND((Balance!CA12/Balance!CA$19)*100,1))","v":0},{"$f":"IF(Balance!CB12=\"-\",\"-\",ROUND((Balance!CB12/Balance!CB$19)*100,1))","v":0},{"$f":"IF(Balance!CC12=\"-\",\"-\",ROUND((Balance!CC12/Balance!CC$19)*100,1))","v":0},{"$f":"IF(Balance!CD12=\"-\",\"-\",ROUND((Balance!CD12/Balance!CD$19)*100,1))","v":0},{"$f":"IF(Balance!CE12=\"-\",\"-\",ROUND((Balance!CE12/Balance!CE$19)*100,1))","v":0},{"$f":"IF(Balance!CF12=\"-\",\"-\",ROUND((Balance!CF12/Balance!CF$19)*100,1))","v":0},{"$f":"IF(Balance!CG12=\"-\",\"-\",ROUND((Balance!CG12/Balance!CG$19)*100,1))","v":0},{"$f":"IF(Balance!CH12=\"-\",\"-\",ROUND((Balance!CH12/Balance!CH$19)*100,1))","v":0},{"$f":"IF(Balance!CI12=\"-\",\"-\",ROUND((Balance!CI12/Balance!CI$19)*100,1))","v":0},{"$f":"IF(Balance!CJ12=\"-\",\"-\",ROUND((Balance!CJ12/Balance!CJ$19)*100,1))","v":0},{"$f":"IF(Balance!CK12=\"-\",\"-\",ROUND((Balance!CK12/Balance!CK$19)*100,1))","v":0},{"$f":"IF(Balance!CL12=\"-\",\"-\",ROUND((Balance!CL12/Balance!CL$19)*100,1))","v":0},{"$f":"IF(Balance!CM12=\"-\",\"-\",ROUND((Balance!CM12/Balance!CM$19)*100,1))","v":0},{"$f":"IF(Balance!CN12=\"-\",\"-\",ROUND((Balance!CN12/Balance!CN$19)*100,1))","v":0},{"$f":"IF(Balance!CO12=\"-\",\"-\",ROUND((Balance!CO12/Balance!CO$19)*100,1))","v":0},{"$f":"IF(Balance!CP12=\"-\",\"-\",ROUND((Balance!CP12/Balance!CP$19)*100,1))","v":0},{"$f":"IF(Balance!CQ12=\"-\",\"-\",ROUND((Balance!CQ12/Balance!CQ$19)*100,1))","v":0},{"$f":"IF(Balance!CR12=\"-\",\"-\",ROUND((Balance!CR12/Balance!CR$19)*100,1))","v":0},{"$f":"IF(Balance!CS12=\"-\",\"-\",ROUND((Balance!CS12/Balance!CS$19)*100,1))","v":0},{"$f":"IF(Balance!CT12=\"-\",\"-\",ROUND((Balance!CT12/Balance!CT$19)*100,1))","v":0},{"$f":"IF(Balance!CU12=\"-\",\"-\",ROUND((Balance!CU12/Balance!CU$19)*100,1))","v":0},{"$f":"IF(Balance!CV12=\"-\",\"-\",ROUND((Balance!CV12/Balance!CV$19)*100,1))","v":0},{"$f":"IF(Balance!CW12=\"-\",\"-\",ROUND((Balance!CW12/Balance!CW$19)*100,1))","v":0},{"$f":"IF(Balance!CX12=\"-\",\"-\",ROUND((Balance!CX12/Balance!CX$19)*100,1))","v":0},{"$f":"IF(Balance!CY12=\"-\",\"-\",ROUND((Balance!CY12/Balance!CY$19)*100,1))","v":0},{"$f":"IF(Balance!CZ12=\"-\",\"-\",ROUND((Balance!CZ12/Balance!CZ$19)*100,1))","v":0},{"$f":"IF(Balance!DA12=\"-\",\"-\",ROUND((Balance!DA12/Balance!DA$19)*100,1))","v":0},{"$f":"IF(Balance!DB12=\"-\",\"-\",ROUND((Balance!DB12/Balance!DB$19)*100,1))","v":0},{"$f":"IF(Balance!DC12=\"-\",\"-\",ROUND((Balance!DC12/Balance!DC$19)*100,1))","v":0},{"$f":"IF(Balance!DD12=\"-\",\"-\",ROUND((Balance!DD12/Balance!DD$19)*100,1))","v":0},{"$f":"IF(Balance!DE12=\"-\",\"-\",ROUND((Balance!DE12/Balance!DE$19)*100,1))","v":0},{"$f":"IF(Balance!DF12=\"-\",\"-\",ROUND((Balance!DF12/Balance!DF$19)*100,1))","v":0},{"$f":"IF(Balance!DG12=\"-\",\"-\",ROUND((Balance!DG12/Balance!DG$19)*100,1))","v":0},{"$f":"IF(Balance!DH12=\"-\",\"-\",ROUND((Balance!DH12/Balance!DH$19)*100,1))","v":0},{"$f":"IF(Balance!DI12=\"-\",\"-\",ROUND((Balance!DI12/Balance!DI$19)*100,1))","v":0},{"$f":"IF(Balance!DJ12=\"-\",\"-\",ROUND((Balance!DJ12/Balance!DJ$19)*100,1))","v":0},{"$f":"IF(Balance!DK12=\"-\",\"-\",ROUND((Balance!DK12/Balance!DK$19)*100,1))","v":0},{"$f":"IF(Balance!DL12=\"-\",\"-\",ROUND((Balance!DL12/Balance!DL$19)*100,1))","v":0},{"$f":"IF(Balance!DM12=\"-\",\"-\",ROUND((Balance!DM12/Balance!DM$19)*100,1))","v":0},{"$f":"IF(Balance!DN12=\"-\",\"-\",ROUND((Balance!DN12/Balance!DN$19)*100,1))","v":0},{"$f":"IF(Balance!DO12=\"-\",\"-\",ROUND((Balance!DO12/Balance!DO$19)*100,1))","v":0},{"$f":"IF(Balance!DP12=\"-\",\"-\",ROUND((Balance!DP12/Balance!DP$19)*100,1))","v":0},{"$f":"IF(Balance!DQ12=\"-\",\"-\",ROUND((Balance!DQ12/Balance!DQ$19)*100,1))","v":0},{"$f":"IF(Balance!DR12=\"-\",\"-\",ROUND((Balance!DR12/Balance!DR$19)*100,1))","v":0},{"$f":"IF(Balance!DS12=\"-\",\"-\",ROUND((Balance!DS12/Balance!DS$19)*100,1))","v":0},{"$f":"IF(Balance!DT12=\"-\",\"-\",ROUND((Balance!DT12/Balance!DT$19)*100,1))","v":0},{"$f":"IF(Balance!DU12=\"-\",\"-\",ROUND((Balance!DU12/Balance!DU$19)*100,1))","v":0},{"$f":"IF(Balance!DV12=\"-\",\"-\",ROUND((Balance!DV12/Balance!DV$19)*100,1))","v":0},{"$f":"IF(Balance!DW12=\"-\",\"-\",ROUND((Balance!DW12/Balance!DW$19)*100,1))","v":0},{"$f":"IF(Balance!DX12=\"-\",\"-\",ROUND((Balance!DX12/Balance!DX$19)*100,1))","v":0},{"$f":"IF(Balance!DY12=\"-\",\"-\",ROUND((Balance!DY12/Balance!DY$19)*100,1))","v":0},{"$f":"IF(Balance!DZ12=\"-\",\"-\",ROUND((Balance!DZ12/Balance!DZ$19)*100,1))","v":0},{"$f":"IF(Balance!EA12=\"-\",\"-\",ROUND((Balance!EA12/Balance!EA$19)*100,1))","v":0},{"$f":"IF(Balance!EB12=\"-\",\"-\",ROUND((Balance!EB12/Balance!EB$19)*100,1))","v":0},{"$f":"IF(Balance!EC12=\"-\",\"-\",ROUND((Balance!EC12/Balance!EC$19)*100,1))","v":0},{"$f":"IF(Balance!ED12=\"-\",\"-\",ROUND((Balance!ED12/Balance!ED$19)*100,1))","v":0},{"$f":"IF(Balance!EE12=\"-\",\"-\",ROUND((Balance!EE12/Balance!EE$19)*100,1))","v":0},{"$f":"IF(Balance!EF12=\"-\",\"-\",ROUND((Balance!EF12/Balance!EF$19)*100,1))","v":0},{"$f":"IF(Balance!EG12=\"-\",\"-\",ROUND((Balance!EG12/Balance!EG$19)*100,1))","v":0},{"$f":"IF(Balance!EH12=\"-\",\"-\",ROUND((Balance!EH12/Balance!EH$19)*100,1))","v":0},{"$f":"IF(Balance!EI12=\"-\",\"-\",ROUND((Balance!EI12/Balance!EI$19)*100,1))","v":0},{"$f":"IF(Balance!EJ12=\"-\",\"-\",ROUND((Balance!EJ12/Balance!EJ$19)*100,1))","v":0},{"$f":"IF(Balance!EK12=\"-\",\"-\",ROUND((Balance!EK12/Balance!EK$19)*100,1))","v":0},{"$f":"IF(Balance!EL12=\"-\",\"-\",ROUND((Balance!EL12/Balance!EL$19)*100,1))","v":0},{"$f":"IF(Balance!EM12=\"-\",\"-\",ROUND((Balance!EM12/Balance!EM$19)*100,1))","v":0},{"$f":"IF(Balance!EN12=\"-\",\"-\",ROUND((Balance!EN12/Balance!EN$19)*100,1))","v":0},{"$f":"IF(Balance!EO12=\"-\",\"-\",ROUND((Balance!EO12/Balance!EO$19)*100,1))","v":0},{"$f":"IF(Balance!EP12=\"-\",\"-\",ROUND((Balance!EP12/Balance!EP$19)*100,1))","v":0},{"$f":"IF(Balance!EQ12=\"-\",\"-\",ROUND((Balance!EQ12/Balance!EQ$19)*100,1))","v":0},{"$f":"IF(Balance!ER12=\"-\",\"-\",ROUND((Balance!ER12/Balance!ER$19)*100,1))","v":0},{"$f":"IF(Balance!ES12=\"-\",\"-\",ROUND((Balance!ES12/Balance!ES$19)*100,1))","v":0},{"$f":"IF(Balance!ET12=\"-\",\"-\",ROUND((Balance!ET12/Balance!ET$19)*100,1))","v":0},{"$f":"IF(Balance!EU12=\"-\",\"-\",ROUND((Balance!EU12/Balance!EU$19)*100,1))","v":0},{"$f":"IF(Balance!EV12=\"-\",\"-\",ROUND((Balance!EV12/Balance!EV$19)*100,1))","v":0},{"$f":"IF(Balance!EW12=\"-\",\"-\",ROUND((Balance!EW12/Balance!EW$19)*100,1))","v":0},{"$f":"IF(Balance!EX12=\"-\",\"-\",ROUND((Balance!EX12/Balance!EX$19)*100,1))","v":0},{"$f":"IF(Balance!EY12=\"-\",\"-\",ROUND((Balance!EY12/Balance!EY$19)*100,1))","v":0},{"$f":"IF(Balance!EZ12=\"-\",\"-\",ROUND((Balance!EZ12/Balance!EZ$19)*100,1))","v":0},{"$f":"IF(Balance!FA12=\"-\",\"-\",ROUND((Balance!FA12/Balance!FA$19)*100,1))","v":0},{"$f":"IF(Balance!FB12=\"-\",\"-\",ROUND((Balance!FB12/Balance!FB$19)*100,1))","v":0},{"$f":"IF(Balance!FC12=\"-\",\"-\",ROUND((Balance!FC12/Balance!FC$19)*100,1))","v":0},{"$f":"IF(Balance!FD12=\"-\",\"-\",ROUND((Balance!FD12/Balance!FD$19)*100,1))","v":0},{"$f":"IF(Balance!FE12=\"-\",\"-\",ROUND((Balance!FE12/Balance!FE$19)*100,1))","v":0},{"$f":"IF(Balance!FF12=\"-\",\"-\",ROUND((Balance!FF12/Balance!FF$19)*100,1))","v":0},{"$f":"IF(Balance!FG12=\"-\",\"-\",ROUND((Balance!FG12/Balance!FG$19)*100,1))","v":0},{"$f":"IF(Balance!FH12=\"-\",\"-\",ROUND((Balance!FH12/Balance!FH$19)*100,1))","v":0},{"$f":"IF(Balance!FI12=\"-\",\"-\",ROUND((Balance!FI12/Balance!FI$19)*100,1))","v":0},{"$f":"IF(Balance!FJ12=\"-\",\"-\",ROUND((Balance!FJ12/Balance!FJ$19)*100,1))","v":0},{"$f":"IF(Balance!FK12=\"-\",\"-\",ROUND((Balance!FK12/Balance!FK$19)*100,1))","v":0},{"$f":"IF(Balance!FL12=\"-\",\"-\",ROUND((Balance!FL12/Balance!FL$19)*100,1))","v":0},{"$f":"IF(Balance!FM12=\"-\",\"-\",ROUND((Balance!FM12/Balance!FM$19)*100,1))","v":0},{"$f":"IF(Balance!FN12=\"-\",\"-\",ROUND((Balance!FN12/Balance!FN$19)*100,1))","v":0},{"$f":"IF(Balance!FO12=\"-\",\"-\",ROUND((Balance!FO12/Balance!FO$19)*100,1))","v":0},{"$f":"IF(Balance!FP12=\"-\",\"-\",ROUND((Balance!FP12/Balance!FP$19)*100,1))","v":0},{"$f":"IF(Balance!FQ12=\"-\",\"-\",ROUND((Balance!FQ12/Balance!FQ$19)*100,1))","v":0},{"$f":"IF(Balance!FR12=\"-\",\"-\",ROUND((Balance!FR12/Balance!FR$19)*100,1))","v":0},{"$f":"IF(Balance!FS12=\"-\",\"-\",ROUND((Balance!FS12/Balance!FS$19)*100,1))","v":0},{"$f":"IF(Balance!FT12=\"-\",\"-\",ROUND((Balance!FT12/Balance!FT$19)*100,1))","v":0},{"$f":"IF(Balance!FU12=\"-\",\"-\",ROUND((Balance!FU12/Balance!FU$19)*100,1))","v":0},{"$f":"IF(Balance!FV12=\"-\",\"-\",ROUND((Balance!FV12/Balance!FV$19)*100,1))","v":0},{"$f":"IF(Balance!FW12=\"-\",\"-\",ROUND((Balance!FW12/Balance!FW$19)*100,1))","v":0},{"$f":"IF(Balance!FX12=\"-\",\"-\",ROUND((Balance!FX12/Balance!FX$19)*100,1))","v":0},{"$f":"IF(Balance!FY12=\"-\",\"-\",ROUND((Balance!FY12/Balance!FY$19)*100,1))","v":0},{"$f":"IF(Balance!FZ12=\"-\",\"-\",ROUND((Balance!FZ12/Balance!FZ$19)*100,1))","v":0},{"$f":"IF(Balance!GA12=\"-\",\"-\",ROUND((Balance!GA12/Balance!GA$19)*100,1))","v":0},{"$f":"IF(Balance!GB12=\"-\",\"-\",ROUND((Balance!GB12/Balance!GB$19)*100,1))","v":0},{"$f":"IF(Balance!GC12=\"-\",\"-\",ROUND((Balance!GC12/Balance!GC$19)*100,1))","v":0},{"$f":"IF(Balance!GD12=\"-\",\"-\",ROUND((Balance!GD12/Balance!GD$19)*100,1))","v":0},{"$f":"IF(Balance!GE12=\"-\",\"-\",ROUND((Balance!GE12/Balance!GE$19)*100,1))","v":0},{"$f":"IF(Balance!GF12=\"-\",\"-\",ROUND((Balance!GF12/Balance!GF$19)*100,1))","v":0},{"$f":"IF(Balance!GG12=\"-\",\"-\",ROUND((Balance!GG12/Balance!GG$19)*100,1))","v":0},{"$f":"IF(Balance!GH12=\"-\",\"-\",ROUND((Balance!GH12/Balance!GH$19)*100,1))","v":0},{"$f":"IF(Balance!GI12=\"-\",\"-\",ROUND((Balance!GI12/Balance!GI$19)*100,1))","v":0},{"$f":"IF(Balance!GJ12=\"-\",\"-\",ROUND((Balance!GJ12/Balance!GJ$19)*100,1))","v":0},{"$f":"IF(Balance!GK12=\"-\",\"-\",ROUND((Balance!GK12/Balance!GK$19)*100,1))","v":0},{"$f":"IF(Balance!GL12=\"-\",\"-\",ROUND((Balance!GL12/Balance!GL$19)*100,1))","v":0},{"$f":"IF(Balance!GM12=\"-\",\"-\",ROUND((Balance!GM12/Balance!GM$19)*100,1))","v":0},{"$f":"IF(Balance!GN12=\"-\",\"-\",ROUND((Balance!GN12/Balance!GN$19)*100,1))","v":0},{"$f":"IF(Balance!GO12=\"-\",\"-\",ROUND((Balance!GO12/Balance!GO$19)*100,1))","v":0},{"$f":"IF(Balance!GP12=\"-\",\"-\",ROUND((Balance!GP12/Balance!GP$19)*100,1))","v":0},{"$f":"IF(Balance!GQ12=\"-\",\"-\",ROUND((Balance!GQ12/Balance!GQ$19)*100,1))","v":0},{"$f":"IF(Balance!GR12=\"-\",\"-\",ROUND((Balance!GR12/Balance!GR$19)*100,1))","v":0},{"$f":"IF(Balance!GS12=\"-\",\"-\",ROUND((Balance!GS12/Balance!GS$19)*100,1))","v":0},{"$f":"IF(Balance!GT12=\"-\",\"-\",ROUND((Balance!GT12/Balance!GT$19)*100,1))","v":0.1},{"$f":"IF(Balance!GU12=\"-\",\"-\",ROUND((Balance!GU12/Balance!GU$19)*100,1))","v":0.1},{"$f":"IF(Balance!GV12=\"-\",\"-\",ROUND((Balance!GV12/Balance!GV$19)*100,1))","v":0},{"$f":"IF(Balance!GW12=\"-\",\"-\",ROUND((Balance!GW12/Balance!GW$19)*100,1))","v":0},{"$f":"IF(Balance!GX12=\"-\",\"-\",ROUND((Balance!GX12/Balance!GX$19)*100,1))","v":0},{"$f":"IF(Balance!GY12=\"-\",\"-\",ROUND((Balance!GY12/Balance!GY$19)*100,1))","v":0},{"$f":"IF(Balance!GZ12=\"-\",\"-\",ROUND((Balance!GZ12/Balance!GZ$19)*100,1))","v":0.1},{"$f":"IF(Balance!HA12=\"-\",\"-\",ROUND((Balance!HA12/Balance!HA$19)*100,1))","v":0.1},{"$f":"IF(Balance!HB12=\"-\",\"-\",ROUND((Balance!HB12/Balance!HB$19)*100,1))","v":0.1},{"$f":"IF(Balance!HC12=\"-\",\"-\",ROUND((Balance!HC12/Balance!HC$19)*100,1))","v":0.2},{"$f":"IF(Balance!HD12=\"-\",\"-\",ROUND((Balance!HD12/Balance!HD$19)*100,1))","v":0.2},{"$f":"IF(Balance!HE12=\"-\",\"-\",ROUND((Balance!HE12/Balance!HE$19)*100,1))","v":0.2},{"$f":"IF(Balance!HF12=\"-\",\"-\",ROUND((Balance!HF12/Balance!HF$19)*100,1))","v":0.2},{"$f":"IF(Balance!HG12=\"-\",\"-\",ROUND((Balance!HG12/Balance!HG$19)*100,1))","v":0.3},{"$f":"IF(Balance!HH12=\"-\",\"-\",ROUND((Balance!HH12/Balance!HH$19)*100,1))","v":0.2},{"$f":"IF(Balance!HI12=\"-\",\"-\",ROUND((Balance!HI12/Balance!HI$19)*100,1))","v":0.2},{"$f":"IF(Balance!HJ12=\"-\",\"-\",ROUND((Balance!HJ12/Balance!HJ$19)*100,1))","v":0.2},{"$f":"IF(Balance!HK12=\"-\",\"-\",ROUND((Balance!HK12/Balance!HK$19)*100,1))","v":0.2},{"$f":"IF(Balance!HL12=\"-\",\"-\",ROUND((Balance!HL12/Balance!HL$19)*100,1))","v":0.3},{"$f":"IF(Balance!HM12=\"-\",\"-\",ROUND((Balance!HM12/Balance!HM$19)*100,1))","v":0.4},{"$f":"IF(Balance!HN12=\"-\",\"-\",ROUND((Balance!HN12/Balance!HN$19)*100,1))","v":0.5},{"$f":"IF(Balance!HO12=\"-\",\"-\",ROUND((Balance!HO12/Balance!HO$19)*100,1))","v":0.6},{"$f":"IF(Balance!HP12=\"-\",\"-\",ROUND((Balance!HP12/Balance!HP$19)*100,1))","v":0.8},{"$f":"IF(Balance!HQ12=\"-\",\"-\",ROUND((Balance!HQ12/Balance!HQ$19)*100,1))","v":1},{"$f":"IF(Balance!HR12=\"-\",\"-\",ROUND((Balance!HR12/Balance!HR$19)*100,1))","v":1.3},{"$f":"IF(Balance!HS12=\"-\",\"-\",ROUND((Balance!HS12/Balance!HS$19)*100,1))","v":1.4},{"$f":"IF(Balance!HT12=\"-\",\"-\",ROUND((Balance!HT12/Balance!HT$19)*100,1))","v":1.4},{"$f":"IF(Balance!HU12=\"-\",\"-\",ROUND((Balance!HU12/Balance!HU$19)*100,1))","v":1.4},{"$f":"IF(Balance!HV12=\"-\",\"-\",ROUND((Balance!HV12/Balance!HV$19)*100,1))","v":1},{"$f":"IF(Balance!HW12=\"-\",\"-\",ROUND((Balance!HW12/Balance!HW$19)*100,1))","v":1},{"$f":"IF(Balance!HX12=\"-\",\"-\",ROUND((Balance!HX12/Balance!HX$19)*100,1))","v":1.7},{"$f":"IF(Balance!HY12=\"-\",\"-\",ROUND((Balance!HY12/Balance!HY$19)*100,1))","v":2.4},{"$f":"IF(Balance!HZ12=\"-\",\"-\",ROUND((Balance!HZ12/Balance!HZ$19)*100,1))","v":2.7},{"$f":"IF(Balance!IA12=\"-\",\"-\",ROUND((Balance!IA12/Balance!IA$19)*100,1))","v":3.2},{"$f":"IF(Balance!IB12=\"-\",\"-\",ROUND((Balance!IB12/Balance!IB$19)*100,1))","v":2.9},{"$f":"IF(Balance!IC12=\"-\",\"-\",ROUND((Balance!IC12/Balance!IC$19)*100,1))","v":2.9},{"$f":"IF(Balance!ID12=\"-\",\"-\",ROUND((Balance!ID12/Balance!ID$19)*100,1))","v":2.9},{"$f":"IF(Balance!IE12=\"-\",\"-\",ROUND((Balance!IE12/Balance!IE$19)*100,1))","v":2.2999999999999998},{"$f":"IF(Balance!IF12=\"-\",\"-\",ROUND((Balance!IF12/Balance!IF$19)*100,1))","v":2.2000000000000002},{"$f":"IF(Balance!IG12=\"-\",\"-\",ROUND((Balance!IG12/Balance!IG$19)*100,1))","v":1.6},{"$f":"IF(Balance!IH12=\"-\",\"-\",ROUND((Balance!IH12/Balance!IH$19)*100,1))","v":1},{"$f":"IF(Balance!II12=\"-\",\"-\",ROUND((Balance!II12/Balance!II$19)*100,1))","v":1},{"$f":"IF(Balance!IJ12=\"-\",\"-\",ROUND((Balance!IJ12/Balance!IJ$19)*100,1))","v":1.3},{"$f":"IF(Balance!IK12=\"-\",\"-\",ROUND((Balance!IK12/Balance!IK$19)*100,1))","v":1.9},{"$f":"IF(Balance!IL12=\"-\",\"-\",ROUND((Balance!IL12/Balance!IL$19)*100,1))","v":2.7},{"$f":"IF(Balance!IM12=\"-\",\"-\",ROUND((Balance!IM12/Balance!IM$19)*100,1))","v":3.2},{"$f":"IF(Balance!IN12=\"-\",\"-\",ROUND((Balance!IN12/Balance!IN$19)*100,1))","v":3.1},{"$f":"IF(Balance!IO12=\"-\",\"-\",ROUND((Balance!IO12/Balance!IO$19)*100,1))","v":3.1},{"$f":"IF(Balance!IP12=\"-\",\"-\",ROUND((Balance!IP12/Balance!IP$19)*100,1))","v":3.1},{"$f":"IF(Balance!IQ12=\"-\",\"-\",ROUND((Balance!IQ12/Balance!IQ$19)*100,1))","v":2.8},{"$f":"IF(Balance!IR12=\"-\",\"-\",ROUND((Balance!IR12/Balance!IR$19)*100,1))","v":2.4},{"$f":"IF(Balance!IS12=\"-\",\"-\",ROUND((Balance!IS12/Balance!IS$19)*100,1))","v":1.6},{"$f":"IF(Balance!IT12=\"-\",\"-\",ROUND((Balance!IT12/Balance!IT$19)*100,1))","v":1.2},{"$f":"IF(Balance!IU12=\"-\",\"-\",ROUND((Balance!IU12/Balance!IU$19)*100,1))","v":1.4},{"$f":"IF(Balance!IV12=\"-\",\"-\",ROUND((Balance!IV12/Balance!IV$19)*100,1))","v":2.2000000000000002},{"$f":"IF(Balance!IW12=\"-\",\"-\",ROUND((Balance!IW12/Balance!IW$19)*100,1))","v":2.1},{"$f":"IF(Balance!IX12=\"-\",\"-\",ROUND((Balance!IX12/Balance!IX$19)*100,1))","v":3.1},{"$f":"IF(Balance!IY12=\"-\",\"-\",ROUND((Balance!IY12/Balance!IY$19)*100,1))","v":3.5},{"$f":"IF(Balance!IZ12=\"-\",\"-\",ROUND((Balance!IZ12/Balance!IZ$19)*100,1))","v":3.6},{"$f":"IF(Balance!JA12=\"-\",\"-\",ROUND((Balance!JA12/Balance!JA$19)*100,1))","v":3.6},{"$f":"IF(Balance!JB12=\"-\",\"-\",ROUND((Balance!JB12/Balance!JB$19)*100,1))","v":3.5},{"$f":"IF(Balance!JC12=\"-\",\"-\",ROUND((Balance!JC12/Balance!JC$19)*100,1))","v":3.2},{"$f":"IF(Balance!JD12=\"-\",\"-\",ROUND((Balance!JD12/Balance!JD$19)*100,1))","v":2.9},{"$f":"IF(Balance!JE12=\"-\",\"-\",ROUND((Balance!JE12/Balance!JE$19)*100,1))","v":1.6},{"$f":"IF(Balance!JF12=\"-\",\"-\",ROUND((Balance!JF12/Balance!JF$19)*100,1))","v":1.8},{"$f":"IF(Balance!JG12=\"-\",\"-\",ROUND((Balance!JG12/Balance!JG$19)*100,1))","v":2},{"$f":"IF(Balance!JH12=\"-\",\"-\",ROUND((Balance!JH12/Balance!JH$19)*100,1))","v":2.6},{"$f":"IF(Balance!JI12=\"-\",\"-\",ROUND((Balance!JI12/Balance!JI$19)*100,1))","v":3.3},{"$f":"IF(Balance!JJ12=\"-\",\"-\",ROUND((Balance!JJ12/Balance!JJ$19)*100,1))","v":2.9},{"$f":"IF(Balance!JK12=\"-\",\"-\",ROUND((Balance!JK12/Balance!JK$19)*100,1))","v":3.8},{"$f":"IF(Balance!JL12=\"-\",\"-\",ROUND((Balance!JL12/Balance!JL$19)*100,1))","v":3.9},{"$f":"IF(Balance!JM12=\"-\",\"-\",ROUND((Balance!JM12/Balance!JM$19)*100,1))","v":4},{"$f":"IF(Balance!JN12=\"-\",\"-\",ROUND((Balance!JN12/Balance!JN$19)*100,1))","v":3.7},{"$f":"IF(Balance!JO12=\"-\",\"-\",ROUND((Balance!JO12/Balance!JO$19)*100,1))","v":3.1},{"$f":"IF(Balance!JP12=\"-\",\"-\",ROUND((Balance!JP12/Balance!JP$19)*100,1))","v":2.6},{"$f":"IF(Balance!JQ12=\"-\",\"-\",ROUND((Balance!JQ12/Balance!JQ$19)*100,1))","v":1.6},{"$f":"IF(Balance!JR12=\"-\",\"-\",ROUND((Balance!JR12/Balance!JR$19)*100,1))","v":1.6},{"$f":"IF(Balance!JS12=\"-\",\"-\",ROUND((Balance!JS12/Balance!JS$19)*100,1))","v":1.8},{"$f":"IF(Balance!JT12=\"-\",\"-\",ROUND((Balance!JT12/Balance!JT$19)*100,1))","v":2.2999999999999998},{"$f":"IF(Balance!JU12=\"-\",\"-\",ROUND((Balance!JU12/Balance!JU$19)*100,1))","v":2.2999999999999998},{"$f":"IF(Balance!JV12=\"-\",\"-\",ROUND((Balance!JV12/Balance!JV$19)*100,1))","v":3.5},{"$f":"IF(Balance!JW12=\"-\",\"-\",ROUND((Balance!JW12/Balance!JW$19)*100,1))","v":4.0999999999999996},{"$f":"IF(Balance!JX12=\"-\",\"-\",ROUND((Balance!JX12/Balance!JX$19)*100,1))","v":4.4000000000000004},{"$f":"IF(Balance!JY12=\"-\",\"-\",ROUND((Balance!JY12/Balance!JY$19)*100,1))","v":4},{"$f":"IF(Balance!JZ12=\"-\",\"-\",ROUND((Balance!JZ12/Balance!JZ$19)*100,1))","v":4},{"$f":"IF(Balance!KA12=\"-\",\"-\",ROUND((Balance!KA12/Balance!KA$19)*100,1))","v":3.5},{"$f":"IF(Balance!KB12=\"-\",\"-\",ROUND((Balance!KB12/Balance!KB$19)*100,1))","v":2.9},{"$f":"IF(Balance!KC12=\"-\",\"-\",ROUND((Balance!KC12/Balance!KC$19)*100,1))","v":2.2000000000000002},{"$f":"IF(Balance!KD12=\"-\",\"-\",ROUND((Balance!KD12/Balance!KD$19)*100,1))","v":1.8},{"$f":"IF(Balance!KE12=\"-\",\"-\",ROUND((Balance!KE12/Balance!KE$19)*100,1))","v":1.5},{"$f":"IF(Balance!KF12=\"-\",\"-\",ROUND((Balance!KF12/Balance!KF$19)*100,1))","v":1.9},{"$f":"IF(Balance!KG12=\"-\",\"-\",ROUND((Balance!KG12/Balance!KG$19)*100,1))","v":3.2},{"$f":"IF(Balance!KH12=\"-\",\"-\",ROUND((Balance!KH12/Balance!KH$19)*100,1))","v":3.8},{"$f":"IF(Balance!KI12=\"-\",\"-\",ROUND((Balance!KI12/Balance!KI$19)*100,1))","v":4.4000000000000004},{"$f":"IF(Balance!KJ12=\"-\",\"-\",ROUND((Balance!KJ12/Balance!KJ$19)*100,1))","v":4.2},{"$f":"IF(Balance!KK12=\"-\",\"-\",ROUND((Balance!KK12/Balance!KK$19)*100,1))","v":4.0999999999999996},{"$f":"IF(Balance!KL12=\"-\",\"-\",ROUND((Balance!KL12/Balance!KL$19)*100,1))","v":4.2},{"$f":"IF(Balance!KM12=\"-\",\"-\",ROUND((Balance!KM12/Balance!KM$19)*100,1))","v":3.1},{"$f":"IF(Balance!KN12=\"-\",\"-\",ROUND((Balance!KN12/Balance!KN$19)*100,1))","v":3},{"$f":"IF(Balance!KO12=\"-\",\"-\",ROUND((Balance!KO12/Balance!KO$19)*100,1))","v":1.8},{"$f":"IF(Balance!KP12=\"-\",\"-\",ROUND((Balance!KP12/Balance!KP$19)*100,1))","v":1.9},{"$f":"IF(Balance!KQ12=\"-\",\"-\",ROUND((Balance!KQ12/Balance!KQ$19)*100,1))","v":2.1},{"$f":"IF(Balance!KR12=\"-\",\"-\",ROUND((Balance!KR12/Balance!KR$19)*100,1))","v":2.1},{"$f":"IF(Balance!KS12=\"-\",\"-\",ROUND((Balance!KS12/Balance!KS$19)*100,1))","v":3.1},{"$f":"IF(Balance!KT12=\"-\",\"-\",ROUND((Balance!KT12/Balance!KT$19)*100,1))","v":3.7},{"$f":"IF(Balance!KU12=\"-\",\"-\",ROUND((Balance!KU12/Balance!KU$19)*100,1))","v":4.4000000000000004},{"$f":"IF(Balance!KV12=\"-\",\"-\",ROUND((Balance!KV12/Balance!KV$19)*100,1))","v":4.0999999999999996},{"$f":"IF(Balance!KW12=\"-\",\"-\",ROUND((Balance!KW12/Balance!KW$19)*100,1))","v":3.7},{"$f":"IF(Balance!KX12=\"-\",\"-\",ROUND((Balance!KX12/Balance!KX$19)*100,1))","v":3.7},{"$f":"IF(Balance!KY12=\"-\",\"-\",ROUND((Balance!KY12/Balance!KY$19)*100,1))","v":3.4},{"$f":"IF(Balance!KZ12=\"-\",\"-\",ROUND((Balance!KZ12/Balance!KZ$19)*100,1))","v":2.6},{"$f":"IF(Balance!LA12=\"-\",\"-\",ROUND((Balance!LA12/Balance!LA$19)*100,1))","v":2.5},{"$f":"IF(Balance!LB12=\"-\",\"-\",ROUND((Balance!LB12/Balance!LB$19)*100,1))","v":1.8},{"$f":"IF(Balance!LC12=\"-\",\"-\",ROUND((Balance!LC12/Balance!LC$19)*100,1))","v":1.6},{"$f":"IF(Balance!LD12=\"-\",\"-\",ROUND((Balance!LD12/Balance!LD$19)*100,1))","v":2.2000000000000002},{"$f":"IF(Balance!LE12=\"-\",\"-\",ROUND((Balance!LE12/Balance!LE$19)*100,1))","v":3.1},{"$f":"IF(Balance!LF12=\"-\",\"-\",ROUND((Balance!LF12/Balance!LF$19)*100,1))","v":3.3},{"$f":"IF(Balance!LG12=\"-\",\"-\",ROUND((Balance!LG12/Balance!LG$19)*100,1))","v":3.9},{"$f":"IF(Balance!LH12=\"-\",\"-\",ROUND((Balance!LH12/Balance!LH$19)*100,1))","v":4.5},{"$f":"IF(Balance!LI12=\"-\",\"-\",ROUND((Balance!LI12/Balance!LI$19)*100,1))","v":4.0999999999999996},{"$f":"IF(Balance!LJ12=\"-\",\"-\",ROUND((Balance!LJ12/Balance!LJ$19)*100,1))","v":4.0999999999999996},{"$f":"IF(Balance!LK12=\"-\",\"-\",ROUND((Balance!LK12/Balance!LK$19)*100,1))","v":3.7},{"$f":"IF(Balance!LL12=\"-\",\"-\",ROUND((Balance!LL12/Balance!LL$19)*100,1))","v":2.7},{"$f":"IF(Balance!LM12=\"-\",\"-\",ROUND((Balance!LM12/Balance!LM$19)*100,1))","v":1.9},{"$f":"IF(Balance!LN12=\"-\",\"-\",ROUND((Balance!LN12/Balance!LN$19)*100,1))","v":1.7},{"$f":"IF(Balance!LO12=\"-\",\"-\",ROUND((Balance!LO12/Balance!LO$19)*100,1))","v":1.9},{"$f":"IF(Balance!LP12=\"-\",\"-\",ROUND((Balance!LP12/Balance!LP$19)*100,1))","v":2.1},{"$f":"IF(Balance!LQ12=\"-\",\"-\",ROUND((Balance!LQ12/Balance!LQ$19)*100,1))","v":3.4},{"$f":"IF(Balance!LR12=\"-\",\"-\",ROUND((Balance!LR12/Balance!LR$19)*100,1))","v":4.4000000000000004},{"$f":"IF(Balance!LS12=\"-\",\"-\",ROUND((Balance!LS12/Balance!LS$19)*100,1))","v":4.4000000000000004},{"$f":"IF(Balance!LT12=\"-\",\"-\",ROUND((Balance!LT12/Balance!LT$19)*100,1))","v":4},{"$f":"IF(Balance!LU12=\"-\",\"-\",ROUND((Balance!LU12/Balance!LU$19)*100,1))","v":4.0999999999999996},{"$f":"IF(Balance!LV12=\"-\",\"-\",ROUND((Balance!LV12/Balance!LV$19)*100,1))","v":3.8},{"$f":"IF(Balance!LW12=\"-\",\"-\",ROUND((Balance!LW12/Balance!LW$19)*100,1))","v":3.9},{"$f":"IF(Balance!LX12=\"-\",\"-\",ROUND((Balance!LX12/Balance!LX$19)*100,1))","v":3.2},{"$f":"IF(Balance!LY12=\"-\",\"-\",ROUND((Balance!LY12/Balance!LY$19)*100,1))","v":2.4},{"$f":"IF(Balance!LZ12=\"-\",\"-\",ROUND((Balance!LZ12/Balance!LZ$19)*100,1))","v":1.8},{"$f":"IF(Balance!MA12=\"-\",\"-\",ROUND((Balance!MA12/Balance!MA$19)*100,1))","v":1.9},{"$f":"IF(Balance!MB12=\"-\",\"-\",ROUND((Balance!MB12/Balance!MB$19)*100,1))","v":"-"},{"$f":"IF(Balance!MC12=\"-\",\"-\",ROUND((Balance!MC12/Balance!MC$19)*100,1))","v":"-"},{"$f":"IF(Balance!MD12=\"-\",\"-\",ROUND((Balance!MD12/Balance!MD$19)*100,1))","v":"-"},{"$f":"IF(Balance!ME12=\"-\",\"-\",ROUND((Balance!ME12/Balance!ME$19)*100,1))","v":"-"},{"$f":"IF(Balance!MF12=\"-\",\"-\",ROUND((Balance!MF12/Balance!MF$19)*100,1))","v":"-"},{"$f":"IF(Balance!MG12=\"-\",\"-\",ROUND((Balance!MG12/Balance!MG$19)*100,1))","v":"-"},{"$f":"IF(Balance!MH12=\"-\",\"-\",ROUND((Balance!MH12/Balance!MH$19)*100,1))","v":"-"},{"$f":"IF(Balance!MI12=\"-\",\"-\",ROUND((Balance!MI12/Balance!MI$19)*100,1))","v":"-"},{"$f":"IF(Balance!MJ12=\"-\",\"-\",ROUND((Balance!MJ12/Balance!MJ$19)*100,1))","v":"-"},{"$f":"IF(Balance!MK12=\"-\",\"-\",ROUND((Balance!MK12/Balance!MK$19)*100,1))","v":"-"},{"$f":"IF(Balance!ML12=\"-\",\"-\",ROUND((Balance!ML12/Balance!ML$19)*100,1))","v":"-"}]
[null,"Solar térmica",{"$f":"IF(Balance!C13=\"-\",\"-\",ROUND((Balance!C13/Balance!C$19)*100,1))","v":"-"},{"$f":"IF(Balance!D13=\"-\",\"-\",ROUND((Balance!D13/Balance!D$19)*100,1))","v":"-"},{"$f":"IF(Balance!E13=\"-\",\"-\",ROUND((Balance!E13/Balance!E$19)*100,1))","v":"-"},{"$f":"IF(Balance!F13=\"-\",\"-\",ROUND((Balance!F13/Balance!F$19)*100,1))","v":"-"},{"$f":"IF(Balance!G13=\"-\",\"-\",ROUND((Balance!G13/Balance!G$19)*100,1))","v":"-"},{"$f":"IF(Balance!H13=\"-\",\"-\",ROUND((Balance!H13/Balance!H$19)*100,1))","v":"-"},{"$f":"IF(Balance!I13=\"-\",\"-\",ROUND((Balance!I13/Balance!I$19)*100,1))","v":"-"},{"$f":"IF(Balance!J13=\"-\",\"-\",ROUND((Balance!J13/Balance!J$19)*100,1))","v":"-"},{"$f":"IF(Balance!K13=\"-\",\"-\",ROUND((Balance!K13/Balance!K$19)*100,1))","v":"-"},{"$f":"IF(Balance!L13=\"-\",\"-\",ROUND((Balance!L13/Balance!L$19)*100,1))","v":"-"},{"$f":"IF(Balance!M13=\"-\",\"-\",ROUND((Balance!M13/Balance!M$19)*100,1))","v":"-"},{"$f":"IF(Balance!N13=\"-\",\"-\",ROUND((Balance!N13/Balance!N$19)*100,1))","v":"-"},{"$f":"IF(Balance!O13=\"-\",\"-\",ROUND((Balance!O13/Balance!O$19)*100,1))","v":"-"},{"$f":"IF(Balance!P13=\"-\",\"-\",ROUND((Balance!P13/Balance!P$19)*100,1))","v":"-"},{"$f":"IF(Balance!Q13=\"-\",\"-\",ROUND((Balance!Q13/Balance!Q$19)*100,1))","v":"-"},{"$f":"IF(Balance!R13=\"-\",\"-\",ROUND((Balance!R13/Balance!R$19)*100,1))","v":"-"},{"$f":"IF(Balance!S13=\"-\",\"-\",ROUND((Balance!S13/Balance!S$19)*100,1))","v":"-"},{"$f":"IF(Balance!T13=\"-\",\"-\",ROUND((Balance!T13/Balance!T$19)*100,1))","v":"-"},{"$f":"IF(Balance!U13=\"-\",\"-\",ROUND((Balance!U13/Balance!U$19)*100,1))","v":"-"},{"$f":"IF(Balance!V13=\"-\",\"-\",ROUND((Balance!V13/Balance!V$19)*100,1))","v":"-"},{"$f":"IF(Balance!W13=\"-\",\"-\",ROUND((Balance!W13/Balance!W$19)*100,1))","v":"-"},{"$f":"IF(Balance!X13=\"-\",\"-\",ROUND((Balance!X13/Balance!X$19)*100,1))","v":"-"},{"$f":"IF(Balance!Y13=\"-\",\"-\",ROUND((Balance!Y13/Balance!Y$19)*100,1))","v":"-"},{"$f":"IF(Balance!Z13=\"-\",\"-\",ROUND((Balance!Z13/Balance!Z$19)*100,1))","v":"-"},{"$f":"IF(Balance!AA13=\"-\",\"-\",ROUND((Balance!AA13/Balance!AA$19)*100,1))","v":"-"},{"$f":"IF(Balance!AB13=\"-\",\"-\",ROUND((Balance!AB13/Balance!AB$19)*100,1))","v":"-"},{"$f":"IF(Balance!AC13=\"-\",\"-\",ROUND((Balance!AC13/Balance!AC$19)*100,1))","v":"-"},{"$f":"IF(Balance!AD13=\"-\",\"-\",ROUND((Balance!AD13/Balance!AD$19)*100,1))","v":"-"},{"$f":"IF(Balance!AE13=\"-\",\"-\",ROUND((Balance!AE13/Balance!AE$19)*100,1))","v":"-"},{"$f":"IF(Balance!AF13=\"-\",\"-\",ROUND((Balance!AF13/Balance!AF$19)*100,1))","v":"-"},{"$f":"IF(Balance!AG13=\"-\",\"-\",ROUND((Balance!AG13/Balance!AG$19)*100,1))","v":"-"},{"$f":"IF(Balance!AH13=\"-\",\"-\",ROUND((Balance!AH13/Balance!AH$19)*100,1))","v":"-"},{"$f":"IF(Balance!AI13=\"-\",\"-\",ROUND((Balance!AI13/Balance!AI$19)*100,1))","v":"-"},{"$f":"IF(Balance!AJ13=\"-\",\"-\",ROUND((Balance!AJ13/Balance!AJ$19)*100,1))","v":"-"},{"$f":"IF(Balance!AK13=\"-\",\"-\",ROUND((Balance!AK13/Balance!AK$19)*100,1))","v":"-"},{"$f":"IF(Balance!AL13=\"-\",\"-\",ROUND((Balance!AL13/Balance!AL$19)*100,1))","v":"-"},{"$f":"IF(Balance!AM13=\"-\",\"-\",ROUND((Balance!AM13/Balance!AM$19)*100,1))","v":"-"},{"$f":"IF(Balance!AN13=\"-\",\"-\",ROUND((Balance!AN13/Balance!AN$19)*100,1))","v":"-"},{"$f":"IF(Balance!AO13=\"-\",\"-\",ROUND((Balance!AO13/Balance!AO$19)*100,1))","v":"-"},{"$f":"IF(Balance!AP13=\"-\",\"-\",ROUND((Balance!AP13/Balance!AP$19)*100,1))","v":"-"},{"$f":"IF(Balance!AQ13=\"-\",\"-\",ROUND((Balance!AQ13/Balance!AQ$19)*100,1))","v":"-"},{"$f":"IF(Balance!AR13=\"-\",\"-\",ROUND((Balance!AR13/Balance!AR$19)*100,1))","v":"-"},{"$f":"IF(Balance!AS13=\"-\",\"-\",ROUND((Balance!AS13/Balance!AS$19)*100,1))","v":"-"},{"$f":"IF(Balance!AT13=\"-\",\"-\",ROUND((Balance!AT13/Balance!AT$19)*100,1))","v":"-"},{"$f":"IF(Balance!AU13=\"-\",\"-\",ROUND((Balance!AU13/Balance!AU$19)*100,1))","v":"-"},{"$f":"IF(Balance!AV13=\"-\",\"-\",ROUND((Balance!AV13/Balance!AV$19)*100,1))","v":"-"},{"$f":"IF(Balance!AW13=\"-\",\"-\",ROUND((Balance!AW13/Balance!AW$19)*100,1))","v":"-"},{"$f":"IF(Balance!AX13=\"-\",\"-\",ROUND((Balance!AX13/Balance!AX$19)*100,1))","v":"-"},{"$f":"IF(Balance!AY13=\"-\",\"-\",ROUND((Balance!AY13/Balance!AY$19)*100,1))","v":"-"},{"$f":"IF(Balance!AZ13=\"-\",\"-\",ROUND((Balance!AZ13/Balance!AZ$19)*100,1))","v":"-"},{"$f":"IF(Balance!BA13=\"-\",\"-\",ROUND((Balance!BA13/Balance!BA$19)*100,1))","v":"-"},{"$f":"IF(Balance!BB13=\"-\",\"-\",ROUND((Balance!BB13/Balance!BB$19)*100,1))","v":"-"},{"$f":"IF(Balance!BC13=\"-\",\"-\",ROUND((Balance!BC13/Balance!BC$19)*100,1))","v":"-"},{"$f":"IF(Balance!BD13=\"-\",\"-\",ROUND((Balance!BD13/Balance!BD$19)*100,1))","v":"-"},{"$f":"IF(Balance!BE13=\"-\",\"-\",ROUND((Balance!BE13/Balance!BE$19)*100,1))","v":"-"},{"$f":"IF(Balance!BF13=\"-\",\"-\",ROUND((Balance!BF13/Balance!BF$19)*100,1))","v":"-"},{"$f":"IF(Balance!BG13=\"-\",\"-\",ROUND((Balance!BG13/Balance!BG$19)*100,1))","v":"-"},{"$f":"IF(Balance!BH13=\"-\",\"-\",ROUND((Balance!BH13/Balance!BH$19)*100,1))","v":"-"},{"$f":"IF(Balance!BI13=\"-\",\"-\",ROUND((Balance!BI13/Balance!BI$19)*100,1))","v":"-"},{"$f":"IF(Balance!BJ13=\"-\",\"-\",ROUND((Balance!BJ13/Balance!BJ$19)*100,1))","v":"-"},{"$f":"IF(Balance!BK13=\"-\",\"-\",ROUND((Balance!BK13/Balance!BK$19)*100,1))","v":"-"},{"$f":"IF(Balance!BL13=\"-\",\"-\",ROUND((Balance!BL13/Balance!BL$19)*100,1))","v":"-"},{"$f":"IF(Balance!BM13=\"-\",\"-\",ROUND((Balance!BM13/Balance!BM$19)*100,1))","v":"-"},{"$f":"IF(Balance!BN13=\"-\",\"-\",ROUND((Balance!BN13/Balance!BN$19)*100,1))","v":"-"},{"$f":"IF(Balance!BO13=\"-\",\"-\",ROUND((Balance!BO13/Balance!BO$19)*100,1))","v":"-"},{"$f":"IF(Balance!BP13=\"-\",\"-\",ROUND((Balance!BP13/Balance!BP$19)*100,1))","v":"-"},{"$f":"IF(Balance!BQ13=\"-\",\"-\",ROUND((Balance!BQ13/Balance!BQ$19)*100,1))","v":"-"},{"$f":"IF(Balance!BR13=\"-\",\"-\",ROUND((Balance!BR13/Balance!BR$19)*100,1))","v":"-"},{"$f":"IF(Balance!BS13=\"-\",\"-\",ROUND((Balance!BS13/Balance!BS$19)*100,1))","v":"-"},{"$f":"IF(Balance!BT13=\"-\",\"-\",ROUND((Balance!BT13/Balance!BT$19)*100,1))","v":"-"},{"$f":"IF(Balance!BU13=\"-\",\"-\",ROUND((Balance!BU13/Balance!BU$19)*100,1))","v":"-"},{"$f":"IF(Balance!BV13=\"-\",\"-\",ROUND((Balance!BV13/Balance!BV$19)*100,1))","v":"-"},{"$f":"IF(Balance!BW13=\"-\",\"-\",ROUND((Balance!BW13/Balance!BW$19)*100,1))","v":"-"},{"$f":"IF(Balance!BX13=\"-\",\"-\",ROUND((Balance!BX13/Balance!BX$19)*100,1))","v":"-"},{"$f":"IF(Balance!BY13=\"-\",\"-\",ROUND((Balance!BY13/Balance!BY$19)*100,1))","v":"-"},{"$f":"IF(Balance!BZ13=\"-\",\"-\",ROUND((Balance!BZ13/Balance!BZ$19)*100,1))","v":"-"},{"$f":"IF(Balance!CA13=\"-\",\"-\",ROUND((Balance!CA13/Balance!CA$19)*100,1))","v":"-"},{"$f":"IF(Balance!CB13=\"-\",\"-\",ROUND((Balance!CB13/Balance!CB$19)*100,1))","v":"-"},{"$f":"IF(Balance!CC13=\"-\",\"-\",ROUND((Balance!CC13/Balance!CC$19)*100,1))","v":"-"},{"$f":"IF(Balance!CD13=\"-\",\"-\",ROUND((Balance!CD13/Balance!CD$19)*100,1))","v":"-"},{"$f":"IF(Balance!CE13=\"-\",\"-\",ROUND((Balance!CE13/Balance!CE$19)*100,1))","v":"-"},{"$f":"IF(Balance!CF13=\"-\",\"-\",ROUND((Balance!CF13/Balance!CF$19)*100,1))","v":"-"},{"$f":"IF(Balance!CG13=\"-\",\"-\",ROUND((Balance!CG13/Balance!CG$19)*100,1))","v":"-"},{"$f":"IF(Balance!CH13=\"-\",\"-\",ROUND((Balance!CH13/Balance!CH$19)*100,1))","v":"-"},{"$f":"IF(Balance!CI13=\"-\",\"-\",ROUND((Balance!CI13/Balance!CI$19)*100,1))","v":"-"},{"$f":"IF(Balance!CJ13=\"-\",\"-\",ROUND((Balance!CJ13/Balance!CJ$19)*100,1))","v":"-"},{"$f":"IF(Balance!CK13=\"-\",\"-\",ROUND((Balance!CK13/Balance!CK$19)*100,1))","v":"-"},{"$f":"IF(Balance!CL13=\"-\",\"-\",ROUND((Balance!CL13/Balance!CL$19)*100,1))","v":"-"},{"$f":"IF(Balance!CM13=\"-\",\"-\",ROUND((Balance!CM13/Balance!CM$19)*100,1))","v":"-"},{"$f":"IF(Balance!CN13=\"-\",\"-\",ROUND((Balance!CN13/Balance!CN$19)*100,1))","v":"-"},{"$f":"IF(Balance!CO13=\"-\",\"-\",ROUND((Balance!CO13/Balance!CO$19)*100,1))","v":"-"},{"$f":"IF(Balance!CP13=\"-\",\"-\",ROUND((Balance!CP13/Balance!CP$19)*100,1))","v":"-"},{"$f":"IF(Balance!CQ13=\"-\",\"-\",ROUND((Balance!CQ13/Balance!CQ$19)*100,1))","v":"-"},{"$f":"IF(Balance!CR13=\"-\",\"-\",ROUND((Balance!CR13/Balance!CR$19)*100,1))","v":"-"},{"$f":"IF(Balance!CS13=\"-\",\"-\",ROUND((Balance!CS13/Balance!CS$19)*100,1))","v":"-"},{"$f":"IF(Balance!CT13=\"-\",\"-\",ROUND((Balance!CT13/Balance!CT$19)*100,1))","v":"-"},{"$f":"IF(Balance!CU13=\"-\",\"-\",ROUND((Balance!CU13/Balance!CU$19)*100,1))","v":"-"},{"$f":"IF(Balance!CV13=\"-\",\"-\",ROUND((Balance!CV13/Balance!CV$19)*100,1))","v":"-"},{"$f":"IF(Balance!CW13=\"-\",\"-\",ROUND((Balance!CW13/Balance!CW$19)*100,1))","v":"-"},{"$f":"IF(Balance!CX13=\"-\",\"-\",ROUND((Balance!CX13/Balance!CX$19)*100,1))","v":"-"},{"$f":"IF(Balance!CY13=\"-\",\"-\",ROUND((Balance!CY13/Balance!CY$19)*100,1))","v":"-"},{"$f":"IF(Balance!CZ13=\"-\",\"-\",ROUND((Balance!CZ13/Balance!CZ$19)*100,1))","v":"-"},{"$f":"IF(Balance!DA13=\"-\",\"-\",ROUND((Balance!DA13/Balance!DA$19)*100,1))","v":"-"},{"$f":"IF(Balance!DB13=\"-\",\"-\",ROUND((Balance!DB13/Balance!DB$19)*100,1))","v":"-"},{"$f":"IF(Balance!DC13=\"-\",\"-\",ROUND((Balance!DC13/Balance!DC$19)*100,1))","v":"-"},{"$f":"IF(Balance!DD13=\"-\",\"-\",ROUND((Balance!DD13/Balance!DD$19)*100,1))","v":"-"},{"$f":"IF(Balance!DE13=\"-\",\"-\",ROUND((Balance!DE13/Balance!DE$19)*100,1))","v":"-"},{"$f":"IF(Balance!DF13=\"-\",\"-\",ROUND((Balance!DF13/Balance!DF$19)*100,1))","v":"-"},{"$f":"IF(Balance!DG13=\"-\",\"-\",ROUND((Balance!DG13/Balance!DG$19)*100,1))","v":"-"},{"$f":"IF(Balance!DH13=\"-\",\"-\",ROUND((Balance!DH13/Balance!DH$19)*100,1))","v":"-"},{"$f":"IF(Balance!DI13=\"-\",\"-\",ROUND((Balance!DI13/Balance!DI$19)*100,1))","v":"-"},{"$f":"IF(Balance!DJ13=\"-\",\"-\",ROUND((Balance!DJ13/Balance!DJ$19)*100,1))","v":"-"},{"$f":"IF(Balance!DK13=\"-\",\"-\",ROUND((Balance!DK13/Balance!DK$19)*100,1))","v":"-"},{"$f":"IF(Balance!DL13=\"-\",\"-\",ROUND((Balance!DL13/Balance!DL$19)*100,1))","v":"-"},{"$f":"IF(Balance!DM13=\"-\",\"-\",ROUND((Balance!DM13/Balance!DM$19)*100,1))","v":"-"},{"$f":"IF(Balance!DN13=\"-\",\"-\",ROUND((Balance!DN13/Balance!DN$19)*100,1))","v":"-"},{"$f":"IF(Balance!DO13=\"-\",\"-\",ROUND((Balance!DO13/Balance!DO$19)*100,1))","v":"-"},{"$f":"IF(Balance!DP13=\"-\",\"-\",ROUND((Balance!DP13/Balance!DP$19)*100,1))","v":"-"},{"$f":"IF(Balance!DQ13=\"-\",\"-\",ROUND((Balance!DQ13/Balance!DQ$19)*100,1))","v":"-"},{"$f":"IF(Balance!DR13=\"-\",\"-\",ROUND((Balance!DR13/Balance!DR$19)*100,1))","v":"-"},{"$f":"IF(Balance!DS13=\"-\",\"-\",ROUND((Balance!DS13/Balance!DS$19)*100,1))","v":"-"},{"$f":"IF(Balance!DT13=\"-\",\"-\",ROUND((Balance!DT13/Balance!DT$19)*100,1))","v":"-"},{"$f":"IF(Balance!DU13=\"-\",\"-\",ROUND((Balance!DU13/Balance!DU$19)*100,1))","v":"-"},{"$f":"IF(Balance!DV13=\"-\",\"-\",ROUND((Balance!DV13/Balance!DV$19)*100,1))","v":"-"},{"$f":"IF(Balance!DW13=\"-\",\"-\",ROUND((Balance!DW13/Balance!DW$19)*100,1))","v":"-"},{"$f":"IF(Balance!DX13=\"-\",\"-\",ROUND((Balance!DX13/Balance!DX$19)*100,1))","v":"-"},{"$f":"IF(Balance!DY13=\"-\",\"-\",ROUND((Balance!DY13/Balance!DY$19)*100,1))","v":"-"},{"$f":"IF(Balance!DZ13=\"-\",\"-\",ROUND((Balance!DZ13/Balance!DZ$19)*100,1))","v":"-"},{"$f":"IF(Balance!EA13=\"-\",\"-\",ROUND((Balance!EA13/Balance!EA$19)*100,1))","v":"-"},{"$f":"IF(Balance!EB13=\"-\",\"-\",ROUND((Balance!EB13/Balance!EB$19)*100,1))","v":"-"},{"$f":"IF(Balance!EC13=\"-\",\"-\",ROUND((Balance!EC13/Balance!EC$19)*100,1))","v":"-"},{"$f":"IF(Balance!ED13=\"-\",\"-\",ROUND((Balance!ED13/Balance!ED$19)*100,1))","v":"-"},{"$f":"IF(Balance!EE13=\"-\",\"-\",ROUND((Balance!EE13/Balance!EE$19)*100,1))","v":"-"},{"$f":"IF(Balance!EF13=\"-\",\"-\",ROUND((Balance!EF13/Balance!EF$19)*100,1))","v":"-"},{"$f":"IF(Balance!EG13=\"-\",\"-\",ROUND((Balance!EG13/Balance!EG$19)*100,1))","v":"-"},{"$f":"IF(Balance!EH13=\"-\",\"-\",ROUND((Balance!EH13/Balance!EH$19)*100,1))","v":"-"},{"$f":"IF(Balance!EI13=\"-\",\"-\",ROUND((Balance!EI13/Balance!EI$19)*100,1))","v":"-"},{"$f":"IF(Balance!EJ13=\"-\",\"-\",ROUND((Balance!EJ13/Balance!EJ$19)*100,1))","v":"-"},{"$f":"IF(Balance!EK13=\"-\",\"-\",ROUND((Balance!EK13/Balance!EK$19)*100,1))","v":"-"},{"$f":"IF(Balance!EL13=\"-\",\"-\",ROUND((Balance!EL13/Balance!EL$19)*100,1))","v":"-"},{"$f":"IF(Balance!EM13=\"-\",\"-\",ROUND((Balance!EM13/Balance!EM$19)*100,1))","v":"-"},{"$f":"IF(Balance!EN13=\"-\",\"-\",ROUND((Balance!EN13/Balance!EN$19)*100,1))","v":"-"},{"$f":"IF(Balance!EO13=\"-\",\"-\",ROUND((Balance!EO13/Balance!EO$19)*100,1))","v":"-"},{"$f":"IF(Balance!EP13=\"-\",\"-\",ROUND((Balance!EP13/Balance!EP$19)*100,1))","v":"-"},{"$f":"IF(Balance!EQ13=\"-\",\"-\",ROUND((Balance!EQ13/Balance!EQ$19)*100,1))","v":"-"},{"$f":"IF(Balance!ER13=\"-\",\"-\",ROUND((Balance!ER13/Balance!ER$19)*100,1))","v":"-"},{"$f":"IF(Balance!ES13=\"-\",\"-\",ROUND((Balance!ES13/Balance!ES$19)*100,1))","v":"-"},{"$f":"IF(Balance!ET13=\"-\",\"-\",ROUND((Balance!ET13/Balance!ET$19)*100,1))","v":"-"},{"$f":"IF(Balance!EU13=\"-\",\"-\",ROUND((Balance!EU13/Balance!EU$19)*100,1))","v":"-"},{"$f":"IF(Balance!EV13=\"-\",\"-\",ROUND((Balance!EV13/Balance!EV$19)*100,1))","v":"-"},{"$f":"IF(Balance!EW13=\"-\",\"-\",ROUND((Balance!EW13/Balance!EW$19)*100,1))","v":"-"},{"$f":"IF(Balance!EX13=\"-\",\"-\",ROUND((Balance!EX13/Balance!EX$19)*100,1))","v":"-"},{"$f":"IF(Balance!EY13=\"-\",\"-\",ROUND((Balance!EY13/Balance!EY$19)*100,1))","v":"-"},{"$f":"IF(Balance!EZ13=\"-\",\"-\",ROUND((Balance!EZ13/Balance!EZ$19)*100,1))","v":"-"},{"$f":"IF(Balance!FA13=\"-\",\"-\",ROUND((Balance!FA13/Balance!FA$19)*100,1))","v":"-"},{"$f":"IF(Balance!FB13=\"-\",\"-\",ROUND((Balance!FB13/Balance!FB$19)*100,1))","v":"-"},{"$f":"IF(Balance!FC13=\"-\",\"-\",ROUND((Balance!FC13/Balance!FC$19)*100,1))","v":"-"},{"$f":"IF(Balance!FD13=\"-\",\"-\",ROUND((Balance!FD13/Balance!FD$19)*100,1))","v":"-"},{"$f":"IF(Balance!FE13=\"-\",\"-\",ROUND((Balance!FE13/Balance!FE$19)*100,1))","v":"-"},{"$f":"IF(Balance!FF13=\"-\",\"-\",ROUND((Balance!FF13/Balance!FF$19)*100,1))","v":"-"},{"$f":"IF(Balance!FG13=\"-\",\"-\",ROUND((Balance!FG13/Balance!FG$19)*100,1))","v":"-"},{"$f":"IF(Balance!FH13=\"-\",\"-\",ROUND((Balance!FH13/Balance!FH$19)*100,1))","v":"-"},{"$f":"IF(Balance!FI13=\"-\",\"-\",ROUND((Balance!FI13/Balance!FI$19)*100,1))","v":"-"},{"$f":"IF(Balance!FJ13=\"-\",\"-\",ROUND((Balance!FJ13/Balance!FJ$19)*100,1))","v":"-"},{"$f":"IF(Balance!FK13=\"-\",\"-\",ROUND((Balance!FK13/Balance!FK$19)*100,1))","v":"-"},{"$f":"IF(Balance!FL13=\"-\",\"-\",ROUND((Balance!FL13/Balance!FL$19)*100,1))","v":"-"},{"$f":"IF(Balance!FM13=\"-\",\"-\",ROUND((Balance!FM13/Balance!FM$19)*100,1))","v":"-"},{"$f":"IF(Balance!FN13=\"-\",\"-\",ROUND((Balance!FN13/Balance!FN$19)*100,1))","v":"-"},{"$f":"IF(Balance!FO13=\"-\",\"-\",ROUND((Balance!FO13/Balance!FO$19)*100,1))","v":"-"},{"$f":"IF(Balance!FP13=\"-\",\"-\",ROUND((Balance!FP13/Balance!FP$19)*100,1))","v":"-"},{"$f":"IF(Balance!FQ13=\"-\",\"-\",ROUND((Balance!FQ13/Balance!FQ$19)*100,1))","v":"-"},{"$f":"IF(Balance!FR13=\"-\",\"-\",ROUND((Balance!FR13/Balance!FR$19)*100,1))","v":"-"},{"$f":"IF(Balance!FS13=\"-\",\"-\",ROUND((Balance!FS13/Balance!FS$19)*100,1))","v":"-"},{"$f":"IF(Balance!FT13=\"-\",\"-\",ROUND((Balance!FT13/Balance!FT$19)*100,1))","v":"-"},{"$f":"IF(Balance!FU13=\"-\",\"-\",ROUND((Balance!FU13/Balance!FU$19)*100,1))","v":"-"},{"$f":"IF(Balance!FV13=\"-\",\"-\",ROUND((Balance!FV13/Balance!FV$19)*100,1))","v":"-"},{"$f":"IF(Balance!FW13=\"-\",\"-\",ROUND((Balance!FW13/Balance!FW$19)*100,1))","v":"-"},{"$f":"IF(Balance!FX13=\"-\",\"-\",ROUND((Balance!FX13/Balance!FX$19)*100,1))","v":"-"},{"$f":"IF(Balance!FY13=\"-\",\"-\",ROUND((Balance!FY13/Balance!FY$19)*100,1))","v":"-"},{"$f":"IF(Balance!FZ13=\"-\",\"-\",ROUND((Balance!FZ13/Balance!FZ$19)*100,1))","v":"-"},{"$f":"IF(Balance!GA13=\"-\",\"-\",ROUND((Balance!GA13/Balance!GA$19)*100,1))","v":"-"},{"$f":"IF(Balance!GB13=\"-\",\"-\",ROUND((Balance!GB13/Balance!GB$19)*100,1))","v":"-"},{"$f":"IF(Balance!GC13=\"-\",\"-\",ROUND((Balance!GC13/Balance!GC$19)*100,1))","v":"-"},{"$f":"IF(Balance!GD13=\"-\",\"-\",ROUND((Balance!GD13/Balance!GD$19)*100,1))","v":"-"},{"$f":"IF(Balance!GE13=\"-\",\"-\",ROUND((Balance!GE13/Balance!GE$19)*100,1))","v":"-"},{"$f":"IF(Balance!GF13=\"-\",\"-\",ROUND((Balance!GF13/Balance!GF$19)*100,1))","v":"-"},{"$f":"IF(Balance!GG13=\"-\",\"-\",ROUND((Balance!GG13/Balance!GG$19)*100,1))","v":"-"},{"$f":"IF(Balance!GH13=\"-\",\"-\",ROUND((Balance!GH13/Balance!GH$19)*100,1))","v":"-"},{"$f":"IF(Balance!GI13=\"-\",\"-\",ROUND((Balance!GI13/Balance!GI$19)*100,1))","v":"-"},{"$f":"IF(Balance!GJ13=\"-\",\"-\",ROUND((Balance!GJ13/Balance!GJ$19)*100,1))","v":"-"},{"$f":"IF(Balance!GK13=\"-\",\"-\",ROUND((Balance!GK13/Balance!GK$19)*100,1))","v":"-"},{"$f":"IF(Balance!GL13=\"-\",\"-\",ROUND((Balance!GL13/Balance!GL$19)*100,1))","v":"-"},{"$f":"IF(Balance!GM13=\"-\",\"-\",ROUND((Balance!GM13/Balance!GM$19)*100,1))","v":0},{"$f":"IF(Balance!GN13=\"-\",\"-\",ROUND((Balance!GN13/Balance!GN$19)*100,1))","v":0},{"$f":"IF(Balance!GO13=\"-\",\"-\",ROUND((Balance!GO13/Balance!GO$19)*100,1))","v":0},{"$f":"IF(Balance!GP13=\"-\",\"-\",ROUND((Balance!GP13/Balance!GP$19)*100,1))","v":0},{"$f":"IF(Balance!GQ13=\"-\",\"-\",ROUND((Balance!GQ13/Balance!GQ$19)*100,1))","v":0},{"$f":"IF(Balance!GR13=\"-\",\"-\",ROUND((Balance!GR13/Balance!GR$19)*100,1))","v":0},{"$f":"IF(Balance!GS13=\"-\",\"-\",ROUND((Balance!GS13/Balance!GS$19)*100,1))","v":0},{"$f":"IF(Balance!GT13=\"-\",\"-\",ROUND((Balance!GT13/Balance!GT$19)*100,1))","v":0},{"$f":"IF(Balance!GU13=\"-\",\"-\",ROUND((Balance!GU13/Balance!GU$19)*100,1))","v":0},{"$f":"IF(Balance!GV13=\"-\",\"-\",ROUND((Balance!GV13/Balance!GV$19)*100,1))","v":0},{"$f":"IF(Balance!GW13=\"-\",\"-\",ROUND((Balance!GW13/Balance!GW$19)*100,1))","v":0},{"$f":"IF(Balance!GX13=\"-\",\"-\",ROUND((Balance!GX13/Balance!GX$19)*100,1))","v":0},{"$f":"IF(Balance!GY13=\"-\",\"-\",ROUND((Balance!GY13/Balance!GY$19)*100,1))","v":0},{"$f":"IF(Balance!GZ13=\"-\",\"-\",ROUND((Balance!GZ13/Balance!GZ$19)*100,1))","v":0},{"$f":"IF(Balance!HA13=\"-\",\"-\",ROUND((Balance!HA13/Balance!HA$19)*100,1))","v":0},{"$f":"IF(Balance!HB13=\"-\",\"-\",ROUND((Balance!HB13/Balance!HB$19)*100,1))","v":0},{"$f":"IF(Balance!HC13=\"-\",\"-\",ROUND((Balance!HC13/Balance!HC$19)*100,1))","v":0},{"$f":"IF(Balance!HD13=\"-\",\"-\",ROUND((Balance!HD13/Balance!HD$19)*100,1))","v":0},{"$f":"IF(Balance!HE13=\"-\",\"-\",ROUND((Balance!HE13/Balance!HE$19)*100,1))","v":0},{"$f":"IF(Balance!HF13=\"-\",\"-\",ROUND((Balance!HF13/Balance!HF$19)*100,1))","v":0},{"$f":"IF(Balance!HG13=\"-\",\"-\",ROUND((Balance!HG13/Balance!HG$19)*100,1))","v":0},{"$f":"IF(Balance!HH13=\"-\",\"-\",ROUND((Balance!HH13/Balance!HH$19)*100,1))","v":0},{"$f":"IF(Balance!HI13=\"-\",\"-\",ROUND((Balance!HI13/Balance!HI$19)*100,1))","v":0},{"$f":"IF(Balance!HJ13=\"-\",\"-\",ROUND((Balance!HJ13/Balance!HJ$19)*100,1))","v":0},{"$f":"IF(Balance!HK13=\"-\",\"-\",ROUND((Balance!HK13/Balance!HK$19)*100,1))","v":0},{"$f":"IF(Balance!HL13=\"-\",\"-\",ROUND((Balance!HL13/Balance!HL$19)*100,1))","v":0},{"$f":"IF(Balance!HM13=\"-\",\"-\",ROUND((Balance!HM13/Balance!HM$19)*100,1))","v":0},{"$f":"IF(Balance!HN13=\"-\",\"-\",ROUND((Balance!HN13/Balance!HN$19)*100,1))","v":0},{"$f":"IF(Balance!HO13=\"-\",\"-\",ROUND((Balance!HO13/Balance!HO$19)*100,1))","v":0},{"$f":"IF(Balance!HP13=\"-\",\"-\",ROUND((Balance!HP13/Balance!HP$19)*100,1))","v":0},{"$f":"IF(Balance!HQ13=\"-\",\"-\",ROUND((Balance!HQ13/Balance!HQ$19)*100,1))","v":0},{"$f":"IF(Balance!HR13=\"-\",\"-\",ROUND((Balance!HR13/Balance!HR$19)*100,1))","v":0},{"$f":"IF(Balance!HS13=\"-\",\"-\",ROUND((Balance!HS13/Balance!HS$19)*100,1))","v":0},{"$f":"IF(Balance!HT13=\"-\",\"-\",ROUND((Balance!HT13/Balance!HT$19)*100,1))","v":0},{"$f":"IF(Balance!HU13=\"-\",\"-\",ROUND((Balance!HU13/Balance!HU$19)*100,1))","v":0},{"$f":"IF(Balance!HV13=\"-\",\"-\",ROUND((Balance!HV13/Balance!HV$19)*100,1))","v":0},{"$f":"IF(Balance!HW13=\"-\",\"-\",ROUND((Balance!HW13/Balance!HW$19)*100,1))","v":0},{"$f":"IF(Balance!HX13=\"-\",\"-\",ROUND((Balance!HX13/Balance!HX$19)*100,1))","v":0},{"$f":"IF(Balance!HY13=\"-\",\"-\",ROUND((Balance!HY13/Balance!HY$19)*100,1))","v":0},{"$f":"IF(Balance!HZ13=\"-\",\"-\",ROUND((Balance!HZ13/Balance!HZ$19)*100,1))","v":0},{"$f":"IF(Balance!IA13=\"-\",\"-\",ROUND((Balance!IA13/Balance!IA$19)*100,1))","v":0},{"$f":"IF(Balance!IB13=\"-\",\"-\",ROUND((Balance!IB13/Balance!IB$19)*100,1))","v":0},{"$f":"IF(Balance!IC13=\"-\",\"-\",ROUND((Balance!IC13/Balance!IC$19)*100,1))","v":0.1},{"$f":"IF(Balance!ID13=\"-\",\"-\",ROUND((Balance!ID13/Balance!ID$19)*100,1))","v":0.1},{"$f":"IF(Balance!IE13=\"-\",\"-\",ROUND((Balance!IE13/Balance!IE$19)*100,1))","v":0.1},{"$f":"IF(Balance!IF13=\"-\",\"-\",ROUND((Balance!IF13/Balance!IF$19)*100,1))","v":0.1},{"$f":"IF(Balance!IG13=\"-\",\"-\",ROUND((Balance!IG13/Balance!IG$19)*100,1))","v":0.1},{"$f":"IF(Balance!IH13=\"-\",\"-\",ROUND((Balance!IH13/Balance!IH$19)*100,1))","v":0},{"$f":"IF(Balance!II13=\"-\",\"-\",ROUND((Balance!II13/Balance!II$19)*100,1))","v":0.1},{"$f":"IF(Balance!IJ13=\"-\",\"-\",ROUND((Balance!IJ13/Balance!IJ$19)*100,1))","v":0.1},{"$f":"IF(Balance!IK13=\"-\",\"-\",ROUND((Balance!IK13/Balance!IK$19)*100,1))","v":0.1},{"$f":"IF(Balance!IL13=\"-\",\"-\",ROUND((Balance!IL13/Balance!IL$19)*100,1))","v":0.2},{"$f":"IF(Balance!IM13=\"-\",\"-\",ROUND((Balance!IM13/Balance!IM$19)*100,1))","v":0.3},{"$f":"IF(Balance!IN13=\"-\",\"-\",ROUND((Balance!IN13/Balance!IN$19)*100,1))","v":0.3},{"$f":"IF(Balance!IO13=\"-\",\"-\",ROUND((Balance!IO13/Balance!IO$19)*100,1))","v":0.4},{"$f":"IF(Balance!IP13=\"-\",\"-\",ROUND((Balance!IP13/Balance!IP$19)*100,1))","v":0.5},{"$f":"IF(Balance!IQ13=\"-\",\"-\",ROUND((Balance!IQ13/Balance!IQ$19)*100,1))","v":0.5},{"$f":"IF(Balance!IR13=\"-\",\"-\",ROUND((Balance!IR13/Balance!IR$19)*100,1))","v":0.3},{"$f":"IF(Balance!IS13=\"-\",\"-\",ROUND((Balance!IS13/Balance!IS$19)*100,1))","v":0.1},{"$f":"IF(Balance!IT13=\"-\",\"-\",ROUND((Balance!IT13/Balance!IT$19)*100,1))","v":0.1},{"$f":"IF(Balance!IU13=\"-\",\"-\",ROUND((Balance!IU13/Balance!IU$19)*100,1))","v":0.1},{"$f":"IF(Balance!IV13=\"-\",\"-\",ROUND((Balance!IV13/Balance!IV$19)*100,1))","v":0.4},{"$f":"IF(Balance!IW13=\"-\",\"-\",ROUND((Balance!IW13/Balance!IW$19)*100,1))","v":0.4},{"$f":"IF(Balance!IX13=\"-\",\"-\",ROUND((Balance!IX13/Balance!IX$19)*100,1))","v":0.7},{"$f":"IF(Balance!IY13=\"-\",\"-\",ROUND((Balance!IY13/Balance!IY$19)*100,1))","v":0.7},{"$f":"IF(Balance!IZ13=\"-\",\"-\",ROUND((Balance!IZ13/Balance!IZ$19)*100,1))","v":1.1000000000000001},{"$f":"IF(Balance!JA13=\"-\",\"-\",ROUND((Balance!JA13/Balance!JA$19)*100,1))","v":1.3},{"$f":"IF(Balance!JB13=\"-\",\"-\",ROUND((Balance!JB13/Balance!JB$19)*100,1))","v":1.1000000000000001},{"$f":"IF(Balance!JC13=\"-\",\"-\",ROUND((Balance!JC13/Balance!JC$19)*100,1))","v":1.1000000000000001},{"$f":"IF(Balance!JD13=\"-\",\"-\",ROUND((Balance!JD13/Balance!JD$19)*100,1))","v":0.8},{"$f":"IF(Balance!JE13=\"-\",\"-\",ROUND((Balance!JE13/Balance!JE$19)*100,1))","v":0.4},{"$f":"IF(Balance!JF13=\"-\",\"-\",ROUND((Balance!JF13/Balance!JF$19)*100,1))","v":0.4},{"$f":"IF(Balance!JG13=\"-\",\"-\",ROUND((Balance!JG13/Balance!JG$19)*100,1))","v":0.5},{"$f":"IF(Balance!JH13=\"-\",\"-\",ROUND((Balance!JH13/Balance!JH$19)*100,1))","v":0.8},{"$f":"IF(Balance!JI13=\"-\",\"-\",ROUND((Balance!JI13/Balance!JI$19)*100,1))","v":1},{"$f":"IF(Balance!JJ13=\"-\",\"-\",ROUND((Balance!JJ13/Balance!JJ$19)*100,1))","v":0.8},{"$f":"IF(Balance!JK13=\"-\",\"-\",ROUND((Balance!JK13/Balance!JK$19)*100,1))","v":1.6},{"$f":"IF(Balance!JL13=\"-\",\"-\",ROUND((Balance!JL13/Balance!JL$19)*100,1))","v":1.9},{"$f":"IF(Balance!JM13=\"-\",\"-\",ROUND((Balance!JM13/Balance!JM$19)*100,1))","v":2.4},{"$f":"IF(Balance!JN13=\"-\",\"-\",ROUND((Balance!JN13/Balance!JN$19)*100,1))","v":2.2000000000000002},{"$f":"IF(Balance!JO13=\"-\",\"-\",ROUND((Balance!JO13/Balance!JO$19)*100,1))","v":1.7},{"$f":"IF(Balance!JP13=\"-\",\"-\",ROUND((Balance!JP13/Balance!JP$19)*100,1))","v":1.3},{"$f":"IF(Balance!JQ13=\"-\",\"-\",ROUND((Balance!JQ13/Balance!JQ$19)*100,1))","v":0.6},{"$f":"IF(Balance!JR13=\"-\",\"-\",ROUND((Balance!JR13/Balance!JR$19)*100,1))","v":0.6},{"$f":"IF(Balance!JS13=\"-\",\"-\",ROUND((Balance!JS13/Balance!JS$19)*100,1))","v":0.5},{"$f":"IF(Balance!JT13=\"-\",\"-\",ROUND((Balance!JT13/Balance!JT$19)*100,1))","v":0.9},{"$f":"IF(Balance!JU13=\"-\",\"-\",ROUND((Balance!JU13/Balance!JU$19)*100,1))","v":0.6},{"$f":"IF(Balance!JV13=\"-\",\"-\",ROUND((Balance!JV13/Balance!JV$19)*100,1))","v":1.4},{"$f":"IF(Balance!JW13=\"-\",\"-\",ROUND((Balance!JW13/Balance!JW$19)*100,1))","v":2.5},{"$f":"IF(Balance!JX13=\"-\",\"-\",ROUND((Balance!JX13/Balance!JX$19)*100,1))","v":3.2},{"$f":"IF(Balance!JY13=\"-\",\"-\",ROUND((Balance!JY13/Balance!JY$19)*100,1))","v":3.3},{"$f":"IF(Balance!JZ13=\"-\",\"-\",ROUND((Balance!JZ13/Balance!JZ$19)*100,1))","v":3.1},{"$f":"IF(Balance!KA13=\"-\",\"-\",ROUND((Balance!KA13/Balance!KA$19)*100,1))","v":2.2999999999999998},{"$f":"IF(Balance!KB13=\"-\",\"-\",ROUND((Balance!KB13/Balance!KB$19)*100,1))","v":1.4},{"$f":"IF(Balance!KC13=\"-\",\"-\",ROUND((Balance!KC13/Balance!KC$19)*100,1))","v":0.9},{"$f":"IF(Balance!KD13=\"-\",\"-\",ROUND((Balance!KD13/Balance!KD$19)*100,1))","v":0.7},{"$f":"IF(Balance!KE13=\"-\",\"-\",ROUND((Balance!KE13/Balance!KE$19)*100,1))","v":0.3},{"$f":"IF(Balance!KF13=\"-\",\"-\",ROUND((Balance!KF13/Balance!KF$19)*100,1))","v":0.5},{"$f":"IF(Balance!KG13=\"-\",\"-\",ROUND((Balance!KG13/Balance!KG$19)*100,1))","v":1.8},{"$f":"IF(Balance!KH13=\"-\",\"-\",ROUND((Balance!KH13/Balance!KH$19)*100,1))","v":2.2000000000000002},{"$f":"IF(Balance!KI13=\"-\",\"-\",ROUND((Balance!KI13/Balance!KI$19)*100,1))","v":3.6},{"$f":"IF(Balance!KJ13=\"-\",\"-\",ROUND((Balance!KJ13/Balance!KJ$19)*100,1))","v":3.4},{"$f":"IF(Balance!KK13=\"-\",\"-\",ROUND((Balance!KK13/Balance!KK$19)*100,1))","v":3.7},{"$f":"IF(Balance!KL13=\"-\",\"-\",ROUND((Balance!KL13/Balance!KL$19)*100,1))","v":4},{"$f":"IF(Balance!KM13=\"-\",\"-\",ROUND((Balance!KM13/Balance!KM$19)*100,1))","v":1.9},{"$f":"IF(Balance!KN13=\"-\",\"-\",ROUND((Balance!KN13/Balance!KN$19)*100,1))","v":1.4},{"$f":"IF(Balance!KO13=\"-\",\"-\",ROUND((Balance!KO13/Balance!KO$19)*100,1))","v":0.4},{"$f":"IF(Balance!KP13=\"-\",\"-\",ROUND((Balance!KP13/Balance!KP$19)*100,1))","v":0.6},{"$f":"IF(Balance!KQ13=\"-\",\"-\",ROUND((Balance!KQ13/Balance!KQ$19)*100,1))","v":0.8},{"$f":"IF(Balance!KR13=\"-\",\"-\",ROUND((Balance!KR13/Balance!KR$19)*100,1))","v":0.9},{"$f":"IF(Balance!KS13=\"-\",\"-\",ROUND((Balance!KS13/Balance!KS$19)*100,1))","v":1.9},{"$f":"IF(Balance!KT13=\"-\",\"-\",ROUND((Balance!KT13/Balance!KT$19)*100,1))","v":2},{"$f":"IF(Balance!KU13=\"-\",\"-\",ROUND((Balance!KU13/Balance!KU$19)*100,1))","v":3.5},{"$f":"IF(Balance!KV13=\"-\",\"-\",ROUND((Balance!KV13/Balance!KV$19)*100,1))","v":3.6},{"$f":"IF(Balance!KW13=\"-\",\"-\",ROUND((Balance!KW13/Balance!KW$19)*100,1))","v":3.7},{"$f":"IF(Balance!KX13=\"-\",\"-\",ROUND((Balance!KX13/Balance!KX$19)*100,1))","v":2.8},{"$f":"IF(Balance!KY13=\"-\",\"-\",ROUND((Balance!KY13/Balance!KY$19)*100,1))","v":2.4},{"$f":"IF(Balance!KZ13=\"-\",\"-\",ROUND((Balance!KZ13/Balance!KZ$19)*100,1))","v":1},{"$f":"IF(Balance!LA13=\"-\",\"-\",ROUND((Balance!LA13/Balance!LA$19)*100,1))","v":1.1000000000000001},{"$f":"IF(Balance!LB13=\"-\",\"-\",ROUND((Balance!LB13/Balance!LB$19)*100,1))","v":0.4},{"$f":"IF(Balance!LC13=\"-\",\"-\",ROUND((Balance!LC13/Balance!LC$19)*100,1))","v":0.3},{"$f":"IF(Balance!LD13=\"-\",\"-\",ROUND((Balance!LD13/Balance!LD$19)*100,1))","v":0.6},{"$f":"IF(Balance!LE13=\"-\",\"-\",ROUND((Balance!LE13/Balance!LE$19)*100,1))","v":1.8},{"$f":"IF(Balance!LF13=\"-\",\"-\",ROUND((Balance!LF13/Balance!LF$19)*100,1))","v":2},{"$f":"IF(Balance!LG13=\"-\",\"-\",ROUND((Balance!LG13/Balance!LG$19)*100,1))","v":2.6},{"$f":"IF(Balance!LH13=\"-\",\"-\",ROUND((Balance!LH13/Balance!LH$19)*100,1))","v":4.2},{"$f":"IF(Balance!LI13=\"-\",\"-\",ROUND((Balance!LI13/Balance!LI$19)*100,1))","v":3.8},{"$f":"IF(Balance!LJ13=\"-\",\"-\",ROUND((Balance!LJ13/Balance!LJ$19)*100,1))","v":3.9},{"$f":"IF(Balance!LK13=\"-\",\"-\",ROUND((Balance!LK13/Balance!LK$19)*100,1))","v":3},{"$f":"IF(Balance!LL13=\"-\",\"-\",ROUND((Balance!LL13/Balance!LL$19)*100,1))","v":1.4},{"$f":"IF(Balance!LM13=\"-\",\"-\",ROUND((Balance!LM13/Balance!LM$19)*100,1))","v":0.7},{"$f":"IF(Balance!LN13=\"-\",\"-\",ROUND((Balance!LN13/Balance!LN$19)*100,1))","v":0.6},{"$f":"IF(Balance!LO13=\"-\",\"-\",ROUND((Balance!LO13/Balance!LO$19)*100,1))","v":0.6},{"$f":"IF(Balance!LP13=\"-\",\"-\",ROUND((Balance!LP13/Balance!LP$19)*100,1))","v":0.4},{"$f":"IF(Balance!LQ13=\"-\",\"-\",ROUND((Balance!LQ13/Balance!LQ$19)*100,1))","v":1.7},{"$f":"IF(Balance!LR13=\"-\",\"-\",ROUND((Balance!LR13/Balance!LR$19)*100,1))","v":2.9},{"$f":"IF(Balance!LS13=\"-\",\"-\",ROUND((Balance!LS13/Balance!LS$19)*100,1))","v":3.2},{"$f":"IF(Balance!LT13=\"-\",\"-\",ROUND((Balance!LT13/Balance!LT$19)*100,1))","v":3.6},{"$f":"IF(Balance!LU13=\"-\",\"-\",ROUND((Balance!LU13/Balance!LU$19)*100,1))","v":3.8},{"$f":"IF(Balance!LV13=\"-\",\"-\",ROUND((Balance!LV13/Balance!LV$19)*100,1))","v":3.4},{"$f":"IF(Balance!LW13=\"-\",\"-\",ROUND((Balance!LW13/Balance!LW$19)*100,1))","v":3.2},{"$f":"IF(Balance!LX13=\"-\",\"-\",ROUND((Balance!LX13/Balance!LX$19)*100,1))","v":2},{"$f":"IF(Balance!LY13=\"-\",\"-\",ROUND((Balance!LY13/Balance!LY$19)*100,1))","v":1},{"$f":"IF(Balance!LZ13=\"-\",\"-\",ROUND((Balance!LZ13/Balance!LZ$19)*100,1))","v":0.6},{"$f":"IF(Balance!MA13=\"-\",\"-\",ROUND((Balance!MA13/Balance!MA$19)*100,1))","v":0.6},{"$f":"IF(Balance!MB13=\"-\",\"-\",ROUND((Balance!MB13/Balance!MB$19)*100,1))","v":"-"},{"$f":"IF(Balance!MC13=\"-\",\"-\",ROUND((Balance!MC13/Balance!MC$19)*100,1))","v":"-"},{"$f":"IF(Balance!MD13=\"-\",\"-\",ROUND((Balance!MD13/Balance!MD$19)*100,1))","v":"-"},{"$f":"IF(Balance!ME13=\"-\",\"-\",ROUND((Balance!ME13/Balance!ME$19)*100,1))","v":"-"},{"$f":"IF(Balance!MF13=\"-\",\"-\",ROUND((Balance!MF13/Balance!MF$19)*100,1))","v":"-"},{"$f":"IF(Balance!MG13=\"-\",\"-\",ROUND((Balance!MG13/Balance!MG$19)*100,1))","v":"-"},{"$f":"IF(Balance!MH13=\"-\",\"-\",ROUND((Balance!MH13/Balance!MH$19)*100,1))","v":"-"},{"$f":"IF(Balance!MI13=\"-\",\"-\",ROUND((Balance!MI13/Balance!MI$19)*100,1))","v":"-"},{"$f":"IF(Balance!MJ13=\"-\",\"-\",ROUND((Balance!MJ13/Balance!MJ$19)*100,1))","v":"-"},{"$f":"IF(Balance!MK13=\"-\",\"-\",ROUND((Balance!MK13/Balance!MK$19)*100,1))","v":"-"},{"$f":"IF(Balance!ML13=\"-\",\"-\",ROUND((Balance!ML13/Balance!ML$19)*100,1))","v":"-"}]
[null,"Térmica renovable/Otras renovables",{"$f":"IF(Balance!C14=\"-\",\"-\",ROUND((Balance!C14/Balance!C$19)*100,1))","v":"-"},{"$f":"IF(Balance!D14=\"-\",\"-\",ROUND((Balance!D14/Balance!D$19)*100,1))","v":"-"},{"$f":"IF(Balance!E14=\"-\",\"-\",ROUND((Balance!E14/Balance!E$19)*100,1))","v":"-"},{"$f":"IF(Balance!F14=\"-\",\"-\",ROUND((Balance!F14/Balance!F$19)*100,1))","v":"-"},{"$f":"IF(Balance!G14=\"-\",\"-\",ROUND((Balance!G14/Balance!G$19)*100,1))","v":"-"},{"$f":"IF(Balance!H14=\"-\",\"-\",ROUND((Balance!H14/Balance!H$19)*100,1))","v":"-"},{"$f":"IF(Balance!I14=\"-\",\"-\",ROUND((Balance!I14/Balance!I$19)*100,1))","v":"-"},{"$f":"IF(Balance!J14=\"-\",\"-\",ROUND((Balance!J14/Balance!J$19)*100,1))","v":"-"},{"$f":"IF(Balance!K14=\"-\",\"-\",ROUND((Balance!K14/Balance!K$19)*100,1))","v":"-"},{"$f":"IF(Balance!L14=\"-\",\"-\",ROUND((Balance!L14/Balance!L$19)*100,1))","v":"-"},{"$f":"IF(Balance!M14=\"-\",\"-\",ROUND((Balance!M14/Balance!M$19)*100,1))","v":"-"},{"$f":"IF(Balance!N14=\"-\",\"-\",ROUND((Balance!N14/Balance!N$19)*100,1))","v":"-"},{"$f":"IF(Balance!O14=\"-\",\"-\",ROUND((Balance!O14/Balance!O$19)*100,1))","v":"-"},{"$f":"IF(Balance!P14=\"-\",\"-\",ROUND((Balance!P14/Balance!P$19)*100,1))","v":"-"},{"$f":"IF(Balance!Q14=\"-\",\"-\",ROUND((Balance!Q14/Balance!Q$19)*100,1))","v":"-"},{"$f":"IF(Balance!R14=\"-\",\"-\",ROUND((Balance!R14/Balance!R$19)*100,1))","v":"-"},{"$f":"IF(Balance!S14=\"-\",\"-\",ROUND((Balance!S14/Balance!S$19)*100,1))","v":"-"},{"$f":"IF(Balance!T14=\"-\",\"-\",ROUND((Balance!T14/Balance!T$19)*100,1))","v":"-"},{"$f":"IF(Balance!U14=\"-\",\"-\",ROUND((Balance!U14/Balance!U$19)*100,1))","v":"-"},{"$f":"IF(Balance!V14=\"-\",\"-\",ROUND((Balance!V14/Balance!V$19)*100,1))","v":"-"},{"$f":"IF(Balance!W14=\"-\",\"-\",ROUND((Balance!W14/Balance!W$19)*100,1))","v":"-"},{"$f":"IF(Balance!X14=\"-\",\"-\",ROUND((Balance!X14/Balance!X$19)*100,1))","v":0},{"$f":"IF(Balance!Y14=\"-\",\"-\",ROUND((Balance!Y14/Balance!Y$19)*100,1))","v":0},{"$f":"IF(Balance!Z14=\"-\",\"-\",ROUND((Balance!Z14/Balance!Z$19)*100,1))","v":0},{"$f":"IF(Balance!AA14=\"-\",\"-\",ROUND((Balance!AA14/Balance!AA$19)*100,1))","v":0},{"$f":"IF(Balance!AB14=\"-\",\"-\",ROUND((Balance!AB14/Balance!AB$19)*100,1))","v":0},{"$f":"IF(Balance!AC14=\"-\",\"-\",ROUND((Balance!AC14/Balance!AC$19)*100,1))","v":0},{"$f":"IF(Balance!AD14=\"-\",\"-\",ROUND((Balance!AD14/Balance!AD$19)*100,1))","v":0},{"$f":"IF(Balance!AE14=\"-\",\"-\",ROUND((Balance!AE14/Balance!AE$19)*100,1))","v":0},{"$f":"IF(Balance!AF14=\"-\",\"-\",ROUND((Balance!AF14/Balance!AF$19)*100,1))","v":0},{"$f":"IF(Balance!AG14=\"-\",\"-\",ROUND((Balance!AG14/Balance!AG$19)*100,1))","v":0},{"$f":"IF(Balance!AH14=\"-\",\"-\",ROUND((Balance!AH14/Balance!AH$19)*100,1))","v":0},{"$f":"IF(Balance!AI14=\"-\",\"-\",ROUND((Balance!AI14/Balance!AI$19)*100,1))","v":0},{"$f":"IF(Balance!AJ14=\"-\",\"-\",ROUND((Balance!AJ14/Balance!AJ$19)*100,1))","v":0},{"$f":"IF(Balance!AK14=\"-\",\"-\",ROUND((Balance!AK14/Balance!AK$19)*100,1))","v":0},{"$f":"IF(Balance!AL14=\"-\",\"-\",ROUND((Balance!AL14/Balance!AL$19)*100,1))","v":0},{"$f":"IF(Balance!AM14=\"-\",\"-\",ROUND((Balance!AM14/Balance!AM$19)*100,1))","v":0},{"$f":"IF(Balance!AN14=\"-\",\"-\",ROUND((Balance!AN14/Balance!AN$19)*100,1))","v":0},{"$f":"IF(Balance!AO14=\"-\",\"-\",ROUND((Balance!AO14/Balance!AO$19)*100,1))","v":0},{"$f":"IF(Balance!AP14=\"-\",\"-\",ROUND((Balance!AP14/Balance!AP$19)*100,1))","v":0},{"$f":"IF(Balance!AQ14=\"-\",\"-\",ROUND((Balance!AQ14/Balance!AQ$19)*100,1))","v":0},{"$f":"IF(Balance!AR14=\"-\",\"-\",ROUND((Balance!AR14/Balance!AR$19)*100,1))","v":0},{"$f":"IF(Balance!AS14=\"-\",\"-\",ROUND((Balance!AS14/Balance!AS$19)*100,1))","v":0},{"$f":"IF(Balance!AT14=\"-\",\"-\",ROUND((Balance!AT14/Balance!AT$19)*100,1))","v":0},{"$f":"IF(Balance!AU14=\"-\",\"-\",ROUND((Balance!AU14/Balance!AU$19)*100,1))","v":0},{"$f":"IF(Balance!AV14=\"-\",\"-\",ROUND((Balance!AV14/Balance!AV$19)*100,1))","v":0.1},{"$f":"IF(Balance!AW14=\"-\",\"-\",ROUND((Balance!AW14/Balance!AW$19)*100,1))","v":0.1},{"$f":"IF(Balance!AX14=\"-\",\"-\",ROUND((Balance!AX14/Balance!AX$19)*100,1))","v":0},{"$f":"IF(Balance!AY14=\"-\",\"-\",ROUND((Balance!AY14/Balance!AY$19)*100,1))","v":0},{"$f":"IF(Balance!AZ14=\"-\",\"-\",ROUND((Balance!AZ14/Balance!AZ$19)*100,1))","v":0},{"$f":"IF(Balance!BA14=\"-\",\"-\",ROUND((Balance!BA14/Balance!BA$19)*100,1))","v":0.1},{"$f":"IF(Balance!BB14=\"-\",\"-\",ROUND((Balance!BB14/Balance!BB$19)*100,1))","v":0.1},{"$f":"IF(Balance!BC14=\"-\",\"-\",ROUND((Balance!BC14/Balance!BC$19)*100,1))","v":0.2},{"$f":"IF(Balance!BD14=\"-\",\"-\",ROUND((Balance!BD14/Balance!BD$19)*100,1))","v":0.1},{"$f":"IF(Balance!BE14=\"-\",\"-\",ROUND((Balance!BE14/Balance!BE$19)*100,1))","v":0.2},{"$f":"IF(Balance!BF14=\"-\",\"-\",ROUND((Balance!BF14/Balance!BF$19)*100,1))","v":0.3},{"$f":"IF(Balance!BG14=\"-\",\"-\",ROUND((Balance!BG14/Balance!BG$19)*100,1))","v":0.3},{"$f":"IF(Balance!BH14=\"-\",\"-\",ROUND((Balance!BH14/Balance!BH$19)*100,1))","v":0.3},{"$f":"IF(Balance!BI14=\"-\",\"-\",ROUND((Balance!BI14/Balance!BI$19)*100,1))","v":0.5},{"$f":"IF(Balance!BJ14=\"-\",\"-\",ROUND((Balance!BJ14/Balance!BJ$19)*100,1))","v":0.5},{"$f":"IF(Balance!BK14=\"-\",\"-\",ROUND((Balance!BK14/Balance!BK$19)*100,1))","v":0.4},{"$f":"IF(Balance!BL14=\"-\",\"-\",ROUND((Balance!BL14/Balance!BL$19)*100,1))","v":0.5},{"$f":"IF(Balance!BM14=\"-\",\"-\",ROUND((Balance!BM14/Balance!BM$19)*100,1))","v":0.5},{"$f":"IF(Balance!BN14=\"-\",\"-\",ROUND((Balance!BN14/Balance!BN$19)*100,1))","v":0.5},{"$f":"IF(Balance!BO14=\"-\",\"-\",ROUND((Balance!BO14/Balance!BO$19)*100,1))","v":0.5},{"$f":"IF(Balance!BP14=\"-\",\"-\",ROUND((Balance!BP14/Balance!BP$19)*100,1))","v":0.3},{"$f":"IF(Balance!BQ14=\"-\",\"-\",ROUND((Balance!BQ14/Balance!BQ$19)*100,1))","v":0.4},{"$f":"IF(Balance!BR14=\"-\",\"-\",ROUND((Balance!BR14/Balance!BR$19)*100,1))","v":0.5},{"$f":"IF(Balance!BS14=\"-\",\"-\",ROUND((Balance!BS14/Balance!BS$19)*100,1))","v":0.5},{"$f":"IF(Balance!BT14=\"-\",\"-\",ROUND((Balance!BT14/Balance!BT$19)*100,1))","v":0.5},{"$f":"IF(Balance!BU14=\"-\",\"-\",ROUND((Balance!BU14/Balance!BU$19)*100,1))","v":0.4},{"$f":"IF(Balance!BV14=\"-\",\"-\",ROUND((Balance!BV14/Balance!BV$19)*100,1))","v":0.5},{"$f":"IF(Balance!BW14=\"-\",\"-\",ROUND((Balance!BW14/Balance!BW$19)*100,1))","v":0.4},{"$f":"IF(Balance!BX14=\"-\",\"-\",ROUND((Balance!BX14/Balance!BX$19)*100,1))","v":0.4},{"$f":"IF(Balance!BY14=\"-\",\"-\",ROUND((Balance!BY14/Balance!BY$19)*100,1))","v":0.5},{"$f":"IF(Balance!BZ14=\"-\",\"-\",ROUND((Balance!BZ14/Balance!BZ$19)*100,1))","v":0.6},{"$f":"IF(Balance!CA14=\"-\",\"-\",ROUND((Balance!CA14/Balance!CA$19)*100,1))","v":0.5},{"$f":"IF(Balance!CB14=\"-\",\"-\",ROUND((Balance!CB14/Balance!CB$19)*100,1))","v":0.6},{"$f":"IF(Balance!CC14=\"-\",\"-\",ROUND((Balance!CC14/Balance!CC$19)*100,1))","v":0.6},{"$f":"IF(Balance!CD14=\"-\",\"-\",ROUND((Balance!CD14/Balance!CD$19)*100,1))","v":0.6},{"$f":"IF(Balance!CE14=\"-\",\"-\",ROUND((Balance!CE14/Balance!CE$19)*100,1))","v":0.6},{"$f":"IF(Balance!CF14=\"-\",\"-\",ROUND((Balance!CF14/Balance!CF$19)*100,1))","v":0.5},{"$f":"IF(Balance!CG14=\"-\",\"-\",ROUND((Balance!CG14/Balance!CG$19)*100,1))","v":0.4},{"$f":"IF(Balance!CH14=\"-\",\"-\",ROUND((Balance!CH14/Balance!CH$19)*100,1))","v":0.4},{"$f":"IF(Balance!CI14=\"-\",\"-\",ROUND((Balance!CI14/Balance!CI$19)*100,1))","v":0.4},{"$f":"IF(Balance!CJ14=\"-\",\"-\",ROUND((Balance!CJ14/Balance!CJ$19)*100,1))","v":0.4},{"$f":"IF(Balance!CK14=\"-\",\"-\",ROUND((Balance!CK14/Balance!CK$19)*100,1))","v":0.4},{"$f":"IF(Balance!CL14=\"-\",\"-\",ROUND((Balance!CL14/Balance!CL$19)*100,1))","v":0.4},{"$f":"IF(Balance!CM14=\"-\",\"-\",ROUND((Balance!CM14/Balance!CM$19)*100,1))","v":0.4},{"$f":"IF(Balance!CN14=\"-\",\"-\",ROUND((Balance!CN14/Balance!CN$19)*100,1))","v":0.3},{"$f":"IF(Balance!CO14=\"-\",\"-\",ROUND((Balance!CO14/Balance!CO$19)*100,1))","v":0.4},{"$f":"IF(Balance!CP14=\"-\",\"-\",ROUND((Balance!CP14/Balance!CP$19)*100,1))","v":0.4},{"$f":"IF(Balance!CQ14=\"-\",\"-\",ROUND((Balance!CQ14/Balance!CQ$19)*100,1))","v":0.4},{"$f":"IF(Balance!CR14=\"-\",\"-\",ROUND((Balance!CR14/Balance!CR$19)*100,1))","v":0.4},{"$f":"IF(Balance!CS14=\"-\",\"-\",ROUND((Balance!CS14/Balance!CS$19)*100,1))","v":0.4},{"$f":"IF(Balance!CT14=\"-\",\"-\",ROUND((Balance!CT14/Balance!CT$19)*100,1))","v":0.4},{"$f":"IF(Balance!CU14=\"-\",\"-\",ROUND((Balance!CU14/Balance!CU$19)*100,1))","v":0.2},{"$f":"IF(Balance!CV14=\"-\",\"-\",ROUND((Balance!CV14/Balance!CV$19)*100,1))","v":0.4},{"$f":"IF(Balance!CW14=\"-\",\"-\",ROUND((Balance!CW14/Balance!CW$19)*100,1))","v":0.4},{"$f":"IF(Balance!CX14=\"-\",\"-\",ROUND((Balance!CX14/Balance!CX$19)*100,1))","v":0.5},{"$f":"IF(Balance!CY14=\"-\",\"-\",ROUND((Balance!CY14/Balance!CY$19)*100,1))","v":0.5},{"$f":"IF(Balance!CZ14=\"-\",\"-\",ROUND((Balance!CZ14/Balance!CZ$19)*100,1))","v":0.5},{"$f":"IF(Balance!DA14=\"-\",\"-\",ROUND((Balance!DA14/Balance!DA$19)*100,1))","v":0.5},{"$f":"IF(Balance!DB14=\"-\",\"-\",ROUND((Balance!DB14/Balance!DB$19)*100,1))","v":0.5},{"$f":"IF(Balance!DC14=\"-\",\"-\",ROUND((Balance!DC14/Balance!DC$19)*100,1))","v":0.4},{"$f":"IF(Balance!DD14=\"-\",\"-\",ROUND((Balance!DD14/Balance!DD$19)*100,1))","v":0.5},{"$f":"IF(Balance!DE14=\"-\",\"-\",ROUND((Balance!DE14/Balance!DE$19)*100,1))","v":0.5},{"$f":"IF(Balance!DF14=\"-\",\"-\",ROUND((Balance!DF14/Balance!DF$19)*100,1))","v":0.4},{"$f":"IF(Balance!DG14=\"-\",\"-\",ROUND((Balance!DG14/Balance!DG$19)*100,1))","v":0.4},{"$f":"IF(Balance!DH14=\"-\",\"-\",ROUND((Balance!DH14/Balance!DH$19)*100,1))","v":0.5},{"$f":"IF(Balance!DI14=\"-\",\"-\",ROUND((Balance!DI14/Balance!DI$19)*100,1))","v":0.5},{"$f":"IF(Balance!DJ14=\"-\",\"-\",ROUND((Balance!DJ14/Balance!DJ$19)*100,1))","v":0.5},{"$f":"IF(Balance!DK14=\"-\",\"-\",ROUND((Balance!DK14/Balance!DK$19)*100,1))","v":0.5},{"$f":"IF(Balance!DL14=\"-\",\"-\",ROUND((Balance!DL14/Balance!DL$19)*100,1))","v":0.4},{"$f":"IF(Balance!DM14=\"-\",\"-\",ROUND((Balance!DM14/Balance!DM$19)*100,1))","v":0.5},{"$f":"IF(Balance!DN14=\"-\",\"-\",ROUND((Balance!DN14/Balance!DN$19)*100,1))","v":0.5},{"$f":"IF(Balance!DO14=\"-\",\"-\",ROUND((Balance!DO14/Balance!DO$19)*100,1))","v":0.6},{"$f":"IF(Balance!DP14=\"-\",\"-\",ROUND((Balance!DP14/Balance!DP$19)*100,1))","v":0.6},{"$f":"IF(Balance!DQ14=\"-\",\"-\",ROUND((Balance!DQ14/Balance!DQ$19)*100,1))","v":0.5},{"$f":"IF(Balance!DR14=\"-\",\"-\",ROUND((Balance!DR14/Balance!DR$19)*100,1))","v":0.4},{"$f":"IF(Balance!DS14=\"-\",\"-\",ROUND((Balance!DS14/Balance!DS$19)*100,1))","v":0.4},{"$f":"IF(Balance!DT14=\"-\",\"-\",ROUND((Balance!DT14/Balance!DT$19)*100,1))","v":0.5},{"$f":"IF(Balance!DU14=\"-\",\"-\",ROUND((Balance!DU14/Balance!DU$19)*100,1))","v":0.5},{"$f":"IF(Balance!DV14=\"-\",\"-\",ROUND((Balance!DV14/Balance!DV$19)*100,1))","v":0.5},{"$f":"IF(Balance!DW14=\"-\",\"-\",ROUND((Balance!DW14/Balance!DW$19)*100,1))","v":0.4},{"$f":"IF(Balance!DX14=\"-\",\"-\",ROUND((Balance!DX14/Balance!DX$19)*100,1))","v":0.4},{"$f":"IF(Balance!DY14=\"-\",\"-\",ROUND((Balance!DY14/Balance!DY$19)*100,1))","v":0.5},{"$f":"IF(Balance!DZ14=\"-\",\"-\",ROUND((Balance!DZ14/Balance!DZ$19)*100,1))","v":0.5},{"$f":"IF(Balance!EA14=\"-\",\"-\",ROUND((Balance!EA14/Balance!EA$19)*100,1))","v":0.5},{"$f":"IF(Balance!EB14=\"-\",\"-\",ROUND((Balance!EB14/Balance!EB$19)*100,1))","v":0.6},{"$f":"IF(Balance!EC14=\"-\",\"-\",ROUND((Balance!EC14/Balance!EC$19)*100,1))","v":0.6},{"$f":"IF(Balance!ED14=\"-\",\"-\",ROUND((Balance!ED14/Balance!ED$19)*100,1))","v":0.6},{"$f":"IF(Balance!EE14=\"-\",\"-\",ROUND((Balance!EE14/Balance!EE$19)*100,1))","v":0.6},{"$f":"IF(Balance!EF14=\"-\",\"-\",ROUND((Balance!EF14/Balance!EF$19)*100,1))","v":0.6},{"$f":"IF(Balance!EG14=\"-\",\"-\",ROUND((Balance!EG14/Balance!EG$19)*100,1))","v":0.7},{"$f":"IF(Balance!EH14=\"-\",\"-\",ROUND((Balance!EH14/Balance!EH$19)*100,1))","v":0.7},{"$f":"IF(Balance!EI14=\"-\",\"-\",ROUND((Balance!EI14/Balance!EI$19)*100,1))","v":0.7},{"$f":"IF(Balance!EJ14=\"-\",\"-\",ROUND((Balance!EJ14/Balance!EJ$19)*100,1))","v":1},{"$f":"IF(Balance!EK14=\"-\",\"-\",ROUND((Balance!EK14/Balance!EK$19)*100,1))","v":0.9},{"$f":"IF(Balance!EL14=\"-\",\"-\",ROUND((Balance!EL14/Balance!EL$19)*100,1))","v":0.9},{"$f":"IF(Balance!EM14=\"-\",\"-\",ROUND((Balance!EM14/Balance!EM$19)*100,1))","v":1.1000000000000001},{"$f":"IF(Balance!EN14=\"-\",\"-\",ROUND((Balance!EN14/Balance!EN$19)*100,1))","v":1.1000000000000001},{"$f":"IF(Balance!EO14=\"-\",\"-\",ROUND((Balance!EO14/Balance!EO$19)*100,1))","v":1},{"$f":"IF(Balance!EP14=\"-\",\"-\",ROUND((Balance!EP14/Balance!EP$19)*100,1))","v":1},{"$f":"IF(Balance!EQ14=\"-\",\"-\",ROUND((Balance!EQ14/Balance!EQ$19)*100,1))","v":0.5},{"$f":"IF(Balance!ER14=\"-\",\"-\",ROUND((Balance!ER14/Balance!ER$19)*100,1))","v":0.6},{"$f":"IF(Balance!ES14=\"-\",\"-\",ROUND((Balance!ES14/Balance!ES$19)*100,1))","v":0.7},{"$f":"IF(Balance!ET14=\"-\",\"-\",ROUND((Balance!ET14/Balance!ET$19)*100,1))","v":0.7},{"$f":"IF(Balance!EU14=\"-\",\"-\",ROUND((Balance!EU14/Balance!EU$19)*100,1))","v":0.7},{"$f":"IF(Balance!EV14=\"-\",\"-\",ROUND((Balance!EV14/Balance!EV$19)*100,1))","v":0.6},{"$f":"IF(Balance!EW14=\"-\",\"-\",ROUND((Balance!EW14/Balance!EW$19)*100,1))","v":0.7},{"$f":"IF(Balance!EX14=\"-\",\"-\",ROUND((Balance!EX14/Balance!EX$19)*100,1))","v":0.8},{"$f":"IF(Balance!EY14=\"-\",\"-\",ROUND((Balance!EY14/Balance!EY$19)*100,1))","v":0.7},{"$f":"IF(Balance!EZ14=\"-\",\"-\",ROUND((Balance!EZ14/Balance!EZ$19)*100,1))","v":0.7},{"$f":"IF(Balance!FA14=\"-\",\"-\",ROUND((Balance!FA14/Balance!FA$19)*100,1))","v":0.7},{"$f":"IF(Balance!FB14=\"-\",\"-\",ROUND((Balance!FB14/Balance!FB$19)*100,1))","v":0.8},{"$f":"IF(Balance!FC14=\"-\",\"-\",ROUND((Balance!FC14/Balance!FC$19)*100,1))","v":0.6},{"$f":"IF(Balance!FD14=\"-\",\"-\",ROUND((Balance!FD14/Balance!FD$19)*100,1))","v":0.7},{"$f":"IF(Balance!FE14=\"-\",\"-\",ROUND((Balance!FE14/Balance!FE$19)*100,1))","v":0.8},{"$f":"IF(Balance!FF14=\"-\",\"-\",ROUND((Balance!FF14/Balance!FF$19)*100,1))","v":0.8},{"$f":"IF(Balance!FG14=\"-\",\"-\",ROUND((Balance!FG14/Balance!FG$19)*100,1))","v":0.8},{"$f":"IF(Balance!FH14=\"-\",\"-\",ROUND((Balance!FH14/Balance!FH$19)*100,1))","v":0.7},{"$f":"IF(Balance!FI14=\"-\",\"-\",ROUND((Balance!FI14/Balance!FI$19)*100,1))","v":0.7},{"$f":"IF(Balance!FJ14=\"-\",\"-\",ROUND((Balance!FJ14/Balance!FJ$19)*100,1))","v":0.8},{"$f":"IF(Balance!FK14=\"-\",\"-\",ROUND((Balance!FK14/Balance!FK$19)*100,1))","v":0.8},{"$f":"IF(Balance!FL14=\"-\",\"-\",ROUND((Balance!FL14/Balance!FL$19)*100,1))","v":0.9},{"$f":"IF(Balance!FM14=\"-\",\"-\",ROUND((Balance!FM14/Balance!FM$19)*100,1))","v":0.8},{"$f":"IF(Balance!FN14=\"-\",\"-\",ROUND((Balance!FN14/Balance!FN$19)*100,1))","v":0.8},{"$f":"IF(Balance!FO14=\"-\",\"-\",ROUND((Balance!FO14/Balance!FO$19)*100,1))","v":0.8},{"$f":"IF(Balance!FP14=\"-\",\"-\",ROUND((Balance!FP14/Balance!FP$19)*100,1))","v":0.7},{"$f":"IF(Balance!FQ14=\"-\",\"-\",ROUND((Balance!FQ14/Balance!FQ$19)*100,1))","v":0.8},{"$f":"IF(Balance!FR14=\"-\",\"-\",ROUND((Balance!FR14/Balance!FR$19)*100,1))","v":0.8},{"$f":"IF(Balance!FS14=\"-\",\"-\",ROUND((Balance!FS14/Balance!FS$19)*100,1))","v":0.8},{"$f":"IF(Balance!FT14=\"-\",\"-\",ROUND((Balance!FT14/Balance!FT$19)*100,1))","v":0.7},{"$f":"IF(Balance!FU14=\"-\",\"-\",ROUND((Balance!FU14/Balance!FU$19)*100,1))","v":0.7},{"$f":"IF(Balance!FV14=\"-\",\"-\",ROUND((Balance!FV14/Balance!FV$19)*100,1))","v":0.7},{"$f":"IF(Balance!FW14=\"-\",\"-\",ROUND((Balance!FW14/Balance!FW$19)*100,1))","v":0.8},{"$f":"IF(Balance!FX14=\"-\",\"-\",ROUND((Balance!FX14/Balance!FX$19)*100,1))","v":0.8},{"$f":"IF(Balance!FY14=\"-\",\"-\",ROUND((Balance!FY14/Balance!FY$19)*100,1))","v":0.7},{"$f":"IF(Balance!FZ14=\"-\",\"-\",ROUND((Balance!FZ14/Balance!FZ$19)*100,1))","v":0.7},{"$f":"IF(Balance!GA14=\"-\",\"-\",ROUND((Balance!GA14/Balance!GA$19)*100,1))","v":0.8},{"$f":"IF(Balance!GB14=\"-\",\"-\",ROUND((Balance!GB14/Balance!GB$19)*100,1))","v":0.7},{"$f":"IF(Balance!GC14=\"-\",\"-\",ROUND((Balance!GC14/Balance!GC$19)*100,1))","v":0.8},{"$f":"IF(Balance!GD14=\"-\",\"-\",ROUND((Balance!GD14/Balance!GD$19)*100,1))","v":0.8},{"$f":"IF(Balance!GE14=\"-\",\"-\",ROUND((Balance!GE14/Balance!GE$19)*100,1))","v":0.9},{"$f":"IF(Balance!GF14=\"-\",\"-\",ROUND((Balance!GF14/Balance!GF$19)*100,1))","v":0.8},{"$f":"IF(Balance!GG14=\"-\",\"-\",ROUND((Balance!GG14/Balance!GG$19)*100,1))","v":0.8},{"$f":"IF(Balance!GH14=\"-\",\"-\",ROUND((Balance!GH14/Balance!GH$19)*100,1))","v":0.9},{"$f":"IF(Balance!GI14=\"-\",\"-\",ROUND((Balance!GI14/Balance!GI$19)*100,1))","v":0.8},{"$f":"IF(Balance!GJ14=\"-\",\"-\",ROUND((Balance!GJ14/Balance!GJ$19)*100,1))","v":0.8},{"$f":"IF(Balance!GK14=\"-\",\"-\",ROUND((Balance!GK14/Balance!GK$19)*100,1))","v":0.8},{"$f":"IF(Balance!GL14=\"-\",\"-\",ROUND((Balance!GL14/Balance!GL$19)*100,1))","v":0.7},{"$f":"IF(Balance!GM14=\"-\",\"-\",ROUND((Balance!GM14/Balance!GM$19)*100,1))","v":0.7},{"$f":"IF(Balance!GN14=\"-\",\"-\",ROUND((Balance!GN14/Balance!GN$19)*100,1))","v":0.7},{"$f":"IF(Balance!GO14=\"-\",\"-\",ROUND((Balance!GO14/Balance!GO$19)*100,1))","v":0.8},{"$f":"IF(Balance!GP14=\"-\",\"-\",ROUND((Balance!GP14/Balance!GP$19)*100,1))","v":0.9},{"$f":"IF(Balance!GQ14=\"-\",\"-\",ROUND((Balance!GQ14/Balance!GQ$19)*100,1))","v":0.9},{"$f":"IF(Balance!GR14=\"-\",\"-\",ROUND((Balance!GR14/Balance!GR$19)*100,1))","v":0.9},{"$f":"IF(Balance!GS14=\"-\",\"-\",ROUND((Balance!GS14/Balance!GS$19)*100,1))","v":0.8},{"$f":"IF(Balance!GT14=\"-\",\"-\",ROUND((Balance!GT14/Balance!GT$19)*100,1))","v":0.9},{"$f":"IF(Balance!GU14=\"-\",\"-\",ROUND((Balance!GU14/Balance!GU$19)*100,1))","v":0.8},{"$f":"IF(Balance!GV14=\"-\",\"-\",ROUND((Balance!GV14/Balance!GV$19)*100,1))","v":0.9},{"$f":"IF(Balance!GW14=\"-\",\"-\",ROUND((Balance!GW14/Balance!GW$19)*100,1))","v":0.8},{"$f":"IF(Balance!GX14=\"-\",\"-\",ROUND((Balance!GX14/Balance!GX$19)*100,1))","v":0.8},{"$f":"IF(Balance!GY14=\"-\",\"-\",ROUND((Balance!GY14/Balance!GY$19)*100,1))","v":0.8},{"$f":"IF(Balance!GZ14=\"-\",\"-\",ROUND((Balance!GZ14/Balance!GZ$19)*100,1))","v":0.8},{"$f":"IF(Balance!HA14=\"-\",\"-\",ROUND((Balance!HA14/Balance!HA$19)*100,1))","v":0.8},{"$f":"IF(Balance!HB14=\"-\",\"-\",ROUND((Balance!HB14/Balance!HB$19)*100,1))","v":0.9},{"$f":"IF(Balance!HC14=\"-\",\"-\",ROUND((Balance!HC14/Balance!HC$19)*100,1))","v":0.9},{"$f":"IF(Balance!HD14=\"-\",\"-\",ROUND((Balance!HD14/Balance!HD$19)*100,1))","v":0.9},{"$f":"IF(Balance!HE14=\"-\",\"-\",ROUND((Balance!HE14/Balance!HE$19)*100,1))","v":0.9},{"$f":"IF(Balance!HF14=\"-\",\"-\",ROUND((Balance!HF14/Balance!HF$19)*100,1))","v":0.9},{"$f":"IF(Balance!HG14=\"-\",\"-\",ROUND((Balance!HG14/Balance!HG$19)*100,1))","v":0.9},{"$f":"IF(Balance!HH14=\"-\",\"-\",ROUND((Balance!HH14/Balance!HH$19)*100,1))","v":1},{"$f":"IF(Balance!HI14=\"-\",\"-\",ROUND((Balance!HI14/Balance!HI$19)*100,1))","v":0.9},{"$f":"IF(Balance!HJ14=\"-\",\"-\",ROUND((Balance!HJ14/Balance!HJ$19)*100,1))","v":0.9},{"$f":"IF(Balance!HK14=\"-\",\"-\",ROUND((Balance!HK14/Balance!HK$19)*100,1))","v":0.9},{"$f":"IF(Balance!HL14=\"-\",\"-\",ROUND((Balance!HL14/Balance!HL$19)*100,1))","v":0.9},{"$f":"IF(Balance!HM14=\"-\",\"-\",ROUND((Balance!HM14/Balance!HM$19)*100,1))","v":0.9},{"$f":"IF(Balance!HN14=\"-\",\"-\",ROUND((Balance!HN14/Balance!HN$19)*100,1))","v":1},{"$f":"IF(Balance!HO14=\"-\",\"-\",ROUND((Balance!HO14/Balance!HO$19)*100,1))","v":1},{"$f":"IF(Balance!HP14=\"-\",\"-\",ROUND((Balance!HP14/Balance!HP$19)*100,1))","v":1},{"$f":"IF(Balance!HQ14=\"-\",\"-\",ROUND((Balance!HQ14/Balance!HQ$19)*100,1))","v":0.9},{"$f":"IF(Balance!HR14=\"-\",\"-\",ROUND((Balance!HR14/Balance!HR$19)*100,1))","v":1},{"$f":"IF(Balance!HS14=\"-\",\"-\",ROUND((Balance!HS14/Balance!HS$19)*100,1))","v":1},{"$f":"IF(Balance!HT14=\"-\",\"-\",ROUND((Balance!HT14/Balance!HT$19)*100,1))","v":1},{"$f":"IF(Balance!HU14=\"-\",\"-\",ROUND((Balance!HU14/Balance!HU$19)*100,1))","v":1},{"$f":"IF(Balance!HV14=\"-\",\"-\",ROUND((Balance!HV14/Balance!HV$19)*100,1))","v":0.9},{"$f":"IF(Balance!HW14=\"-\",\"-\",ROUND((Balance!HW14/Balance!HW$19)*100,1))","v":1},{"$f":"IF(Balance!HX14=\"-\",\"-\",ROUND((Balance!HX14/Balance!HX$19)*100,1))","v":1.1000000000000001},{"$f":"IF(Balance!HY14=\"-\",\"-\",ROUND((Balance!HY14/Balance!HY$19)*100,1))","v":1.2},{"$f":"IF(Balance!HZ14=\"-\",\"-\",ROUND((Balance!HZ14/Balance!HZ$19)*100,1))","v":1.4},{"$f":"IF(Balance!IA14=\"-\",\"-\",ROUND((Balance!IA14/Balance!IA$19)*100,1))","v":1.2},{"$f":"IF(Balance!IB14=\"-\",\"-\",ROUND((Balance!IB14/Balance!IB$19)*100,1))","v":1.1000000000000001},{"$f":"IF(Balance!IC14=\"-\",\"-\",ROUND((Balance!IC14/Balance!IC$19)*100,1))","v":1},{"$f":"IF(Balance!ID14=\"-\",\"-\",ROUND((Balance!ID14/Balance!ID$19)*100,1))","v":1.1000000000000001},{"$f":"IF(Balance!IE14=\"-\",\"-\",ROUND((Balance!IE14/Balance!IE$19)*100,1))","v":1.2},{"$f":"IF(Balance!IF14=\"-\",\"-\",ROUND((Balance!IF14/Balance!IF$19)*100,1))","v":1.5},{"$f":"IF(Balance!IG14=\"-\",\"-\",ROUND((Balance!IG14/Balance!IG$19)*100,1))","v":1.1000000000000001},{"$f":"IF(Balance!IH14=\"-\",\"-\",ROUND((Balance!IH14/Balance!IH$19)*100,1))","v":1.1000000000000001},{"$f":"IF(Balance!II14=\"-\",\"-\",ROUND((Balance!II14/Balance!II$19)*100,1))","v":1},{"$f":"IF(Balance!IJ14=\"-\",\"-\",ROUND((Balance!IJ14/Balance!IJ$19)*100,1))","v":1},{"$f":"IF(Balance!IK14=\"-\",\"-\",ROUND((Balance!IK14/Balance!IK$19)*100,1))","v":1},{"$f":"IF(Balance!IL14=\"-\",\"-\",ROUND((Balance!IL14/Balance!IL$19)*100,1))","v":1.2},{"$f":"IF(Balance!IM14=\"-\",\"-\",ROUND((Balance!IM14/Balance!IM$19)*100,1))","v":1.3},{"$f":"IF(Balance!IN14=\"-\",\"-\",ROUND((Balance!IN14/Balance!IN$19)*100,1))","v":1.3},{"$f":"IF(Balance!IO14=\"-\",\"-\",ROUND((Balance!IO14/Balance!IO$19)*100,1))","v":1.1000000000000001},{"$f":"IF(Balance!IP14=\"-\",\"-\",ROUND((Balance!IP14/Balance!IP$19)*100,1))","v":1.2},{"$f":"IF(Balance!IQ14=\"-\",\"-\",ROUND((Balance!IQ14/Balance!IQ$19)*100,1))","v":1.2},{"$f":"IF(Balance!IR14=\"-\",\"-\",ROUND((Balance!IR14/Balance!IR$19)*100,1))","v":1.3},{"$f":"IF(Balance!IS14=\"-\",\"-\",ROUND((Balance!IS14/Balance!IS$19)*100,1))","v":1.2},{"$f":"IF(Balance!IT14=\"-\",\"-\",ROUND((Balance!IT14/Balance!IT$19)*100,1))","v":1.2},{"$f":"IF(Balance!IU14=\"-\",\"-\",ROUND((Balance!IU14/Balance!IU$19)*100,1))","v":1.4},{"$f":"IF(Balance!IV14=\"-\",\"-\",ROUND((Balance!IV14/Balance!IV$19)*100,1))","v":1.5},{"$f":"IF(Balance!IW14=\"-\",\"-\",ROUND((Balance!IW14/Balance!IW$19)*100,1))","v":1.5},{"$f":"IF(Balance!IX14=\"-\",\"-\",ROUND((Balance!IX14/Balance!IX$19)*100,1))","v":1.7},{"$f":"IF(Balance!IY14=\"-\",\"-\",ROUND((Balance!IY14/Balance!IY$19)*100,1))","v":1.6},{"$f":"IF(Balance!IZ14=\"-\",\"-\",ROUND((Balance!IZ14/Balance!IZ$19)*100,1))","v":1.6},{"$f":"IF(Balance!JA14=\"-\",\"-\",ROUND((Balance!JA14/Balance!JA$19)*100,1))","v":1.6},{"$f":"IF(Balance!JB14=\"-\",\"-\",ROUND((Balance!JB14/Balance!JB$19)*100,1))","v":1.6},{"$f":"IF(Balance!JC14=\"-\",\"-\",ROUND((Balance!JC14/Balance!JC$19)*100,1))","v":1.7},{"$f":"IF(Balance!JD14=\"-\",\"-\",ROUND((Balance!JD14/Balance!JD$19)*100,1))","v":1.8},{"$f":"IF(Balance!JE14=\"-\",\"-\",ROUND((Balance!JE14/Balance!JE$19)*100,1))","v":1.7},{"$f":"IF(Balance!JF14=\"-\",\"-\",ROUND((Balance!JF14/Balance!JF$19)*100,1))","v":1.7},{"$f":"IF(Balance!JG14=\"-\",\"-\",ROUND((Balance!JG14/Balance!JG$19)*100,1))","v":1.6},{"$f":"IF(Balance!JH14=\"-\",\"-\",ROUND((Balance!JH14/Balance!JH$19)*100,1))","v":1.5},{"$f":"IF(Balance!JI14=\"-\",\"-\",ROUND((Balance!JI14/Balance!JI$19)*100,1))","v":1.8},{"$f":"IF(Balance!JJ14=\"-\",\"-\",ROUND((Balance!JJ14/Balance!JJ$19)*100,1))","v":1.7},{"$f":"IF(Balance!JK14=\"-\",\"-\",ROUND((Balance!JK14/Balance!JK$19)*100,1))","v":1.7},{"$f":"IF(Balance!JL14=\"-\",\"-\",ROUND((Balance!JL14/Balance!JL$19)*100,1))","v":1.9},{"$f":"IF(Balance!JM14=\"-\",\"-\",ROUND((Balance!JM14/Balance!JM$19)*100,1))","v":1.9},{"$f":"IF(Balance!JN14=\"-\",\"-\",ROUND((Balance!JN14/Balance!JN$19)*100,1))","v":1.8},{"$f":"IF(Balance!JO14=\"-\",\"-\",ROUND((Balance!JO14/Balance!JO$19)*100,1))","v":1.7},{"$f":"IF(Balance!JP14=\"-\",\"-\",ROUND((Balance!JP14/Balance!JP$19)*100,1))","v":1.9},{"$f":"IF(Balance!JQ14=\"-\",\"-\",ROUND((Balance!JQ14/Balance!JQ$19)*100,1))","v":1.9},{"$f":"IF(Balance!JR14=\"-\",\"-\",ROUND((Balance!JR14/Balance!JR$19)*100,1))","v":1.9},{"$f":"IF(Balance!JS14=\"-\",\"-\",ROUND((Balance!JS14/Balance!JS$19)*100,1))","v":1.8},{"$f":"IF(Balance!JT14=\"-\",\"-\",ROUND((Balance!JT14/Balance!JT$19)*100,1))","v":1.9},{"$f":"IF(Balance!JU14=\"-\",\"-\",ROUND((Balance!JU14/Balance!JU$19)*100,1))","v":2},{"$f":"IF(Balance!JV14=\"-\",\"-\",ROUND((Balance!JV14/Balance!JV$19)*100,1))","v":2},{"$f":"IF(Balance!JW14=\"-\",\"-\",ROUND((Balance!JW14/Balance!JW$19)*100,1))","v":2.2000000000000002},{"$f":"IF(Balance!JX14=\"-\",\"-\",ROUND((Balance!JX14/Balance!JX$19)*100,1))","v":2},{"$f":"IF(Balance!JY14=\"-\",\"-\",ROUND((Balance!JY14/Balance!JY$19)*100,1))","v":1.9},{"$f":"IF(Balance!JZ14=\"-\",\"-\",ROUND((Balance!JZ14/Balance!JZ$19)*100,1))","v":1.9},{"$f":"IF(Balance!KA14=\"-\",\"-\",ROUND((Balance!KA14/Balance!KA$19)*100,1))","v":1.9},{"$f":"IF(Balance!KB14=\"-\",\"-\",ROUND((Balance!KB14/Balance!KB$19)*100,1))","v":1.9},{"$f":"IF(Balance!KC14=\"-\",\"-\",ROUND((Balance!KC14/Balance!KC$19)*100,1))","v":1.9},{"$f":"IF(Balance!KD14=\"-\",\"-\",ROUND((Balance!KD14/Balance!KD$19)*100,1))","v":1.9},{"$f":"IF(Balance!KE14=\"-\",\"-\",ROUND((Balance!KE14/Balance!KE$19)*100,1))","v":1.8},{"$f":"IF(Balance!KF14=\"-\",\"-\",ROUND((Balance!KF14/Balance!KF$19)*100,1))","v":1.5},{"$f":"IF(Balance!KG14=\"-\",\"-\",ROUND((Balance!KG14/Balance!KG$19)*100,1))","v":1.7},{"$f":"IF(Balance!KH14=\"-\",\"-\",ROUND((Balance!KH14/Balance!KH$19)*100,1))","v":1.7},{"$f":"IF(Balance!KI14=\"-\",\"-\",ROUND((Balance!KI14/Balance!KI$19)*100,1))","v":2},{"$f":"IF(Balance!KJ14=\"-\",\"-\",ROUND((Balance!KJ14/Balance!KJ$19)*100,1))","v":2},{"$f":"IF(Balance!KK14=\"-\",\"-\",ROUND((Balance!KK14/Balance!KK$19)*100,1))","v":1.9},{"$f":"IF(Balance!KL14=\"-\",\"-\",ROUND((Balance!KL14/Balance!KL$19)*100,1))","v":2.1},{"$f":"IF(Balance!KM14=\"-\",\"-\",ROUND((Balance!KM14/Balance!KM$19)*100,1))","v":2},{"$f":"IF(Balance!KN14=\"-\",\"-\",ROUND((Balance!KN14/Balance!KN$19)*100,1))","v":1.9},{"$f":"IF(Balance!KO14=\"-\",\"-\",ROUND((Balance!KO14/Balance!KO$19)*100,1))","v":1.8},{"$f":"IF(Balance!KP14=\"-\",\"-\",ROUND((Balance!KP14/Balance!KP$19)*100,1))","v":1.8},{"$f":"IF(Balance!KQ14=\"-\",\"-\",ROUND((Balance!KQ14/Balance!KQ$19)*100,1))","v":1},{"$f":"IF(Balance!KR14=\"-\",\"-\",ROUND((Balance!KR14/Balance!KR$19)*100,1))","v":0.9},{"$f":"IF(Balance!KS14=\"-\",\"-\",ROUND((Balance!KS14/Balance!KS$19)*100,1))","v":1.1000000000000001},{"$f":"IF(Balance!KT14=\"-\",\"-\",ROUND((Balance!KT14/Balance!KT$19)*100,1))","v":0.9},{"$f":"IF(Balance!KU14=\"-\",\"-\",ROUND((Balance!KU14/Balance!KU$19)*100,1))","v":1.1000000000000001},{"$f":"IF(Balance!KV14=\"-\",\"-\",ROUND((Balance!KV14/Balance!KV$19)*100,1))","v":1.3},{"$f":"IF(Balance!KW14=\"-\",\"-\",ROUND((Balance!KW14/Balance!KW$19)*100,1))","v":1.2},{"$f":"IF(Balance!KX14=\"-\",\"-\",ROUND((Balance!KX14/Balance!KX$19)*100,1))","v":1.4},{"$f":"IF(Balance!KY14=\"-\",\"-\",ROUND((Balance!KY14/Balance!KY$19)*100,1))","v":1.5},{"$f":"IF(Balance!KZ14=\"-\",\"-\",ROUND((Balance!KZ14/Balance!KZ$19)*100,1))","v":1.6},{"$f":"IF(Balance!LA14=\"-\",\"-\",ROUND((Balance!LA14/Balance!LA$19)*100,1))","v":1.5},{"$f":"IF(Balance!LB14=\"-\",\"-\",ROUND((Balance!LB14/Balance!LB$19)*100,1))","v":1.4},{"$f":"IF(Balance!LC14=\"-\",\"-\",ROUND((Balance!LC14/Balance!LC$19)*100,1))","v":1.2},{"$f":"IF(Balance!LD14=\"-\",\"-\",ROUND((Balance!LD14/Balance!LD$19)*100,1))","v":1.3},{"$f":"IF(Balance!LE14=\"-\",\"-\",ROUND((Balance!LE14/Balance!LE$19)*100,1))","v":1.2},{"$f":"IF(Balance!LF14=\"-\",\"-\",ROUND((Balance!LF14/Balance!LF$19)*100,1))","v":1},{"$f":"IF(Balance!LG14=\"-\",\"-\",ROUND((Balance!LG14/Balance!LG$19)*100,1))","v":1.4},{"$f":"IF(Balance!LH14=\"-\",\"-\",ROUND((Balance!LH14/Balance!LH$19)*100,1))","v":1.5},{"$f":"IF(Balance!LI14=\"-\",\"-\",ROUND((Balance!LI14/Balance!LI$19)*100,1))","v":1.4},{"$f":"IF(Balance!LJ14=\"-\",\"-\",ROUND((Balance!LJ14/Balance!LJ$19)*100,1))","v":1.6},{"$f":"IF(Balance!LK14=\"-\",\"-\",ROUND((Balance!LK14/Balance!LK$19)*100,1))","v":1.5},{"$f":"IF(Balance!LL14=\"-\",\"-\",ROUND((Balance!LL14/Balance!LL$19)*100,1))","v":1.5},{"$f":"IF(Balance!LM14=\"-\",\"-\",ROUND((Balance!LM14/Balance!LM$19)*100,1))","v":1.5},{"$f":"IF(Balance!LN14=\"-\",\"-\",ROUND((Balance!LN14/Balance!LN$19)*100,1))","v":1.5},{"$f":"IF(Balance!LO14=\"-\",\"-\",ROUND((Balance!LO14/Balance!LO$19)*100,1))","v":1.3},{"$f":"IF(Balance!LP14=\"-\",\"-\",ROUND((Balance!LP14/Balance!LP$19)*100,1))","v":1.4},{"$f":"IF(Balance!LQ14=\"-\",\"-\",ROUND((Balance!LQ14/Balance!LQ$19)*100,1))","v":1.3},{"$f":"IF(Balance!LR14=\"-\",\"-\",ROUND((Balance!LR14/Balance!LR$19)*100,1))","v":1.3},{"$f":"IF(Balance!LS14=\"-\",\"-\",ROUND((Balance!LS14/Balance!LS$19)*100,1))","v":1.6},{"$f":"IF(Balance!LT14=\"-\",\"-\",ROUND((Balance!LT14/Balance!LT$19)*100,1))","v":1.4},{"$f":"IF(Balance!LU14=\"-\",\"-\",ROUND((Balance!LU14/Balance!LU$19)*100,1))","v":1.6},{"$f":"IF(Balance!LV14=\"-\",\"-\",ROUND((Balance!LV14/Balance!LV$19)*100,1))","v":1.6},{"$f":"IF(Balance!LW14=\"-\",\"-\",ROUND((Balance!LW14/Balance!LW$19)*100,1))","v":1.6},{"$f":"IF(Balance!LX14=\"-\",\"-\",ROUND((Balance!LX14/Balance!LX$19)*100,1))","v":1.5},{"$f":"IF(Balance!LY14=\"-\",\"-\",ROUND((Balance!LY14/Balance!LY$19)*100,1))","v":1.4},{"$f":"IF(Balance!LZ14=\"-\",\"-\",ROUND((Balance!LZ14/Balance!LZ$19)*100,1))","v":1.3},{"$f":"IF(Balance!MA14=\"-\",\"-\",ROUND((Balance!MA14/Balance!MA$19)*100,1))","v":1.4},{"$f":"IF(Balance!MB14=\"-\",\"-\",ROUND((Balance!MB14/Balance!MB$19)*100,1))","v":"-"},{"$f":"IF(Balance!MC14=\"-\",\"-\",ROUND((Balance!MC14/Balance!MC$19)*100,1))","v":"-"},{"$f":"IF(Balance!MD14=\"-\",\"-\",ROUND((Balance!MD14/Balance!MD$19)*100,1))","v":"-"},{"$f":"IF(Balance!ME14=\"-\",\"-\",ROUND((Balance!ME14/Balance!ME$19)*100,1))","v":"-"},{"$f":"IF(Balance!MF14=\"-\",\"-\",ROUND((Balance!MF14/Balance!MF$19)*100,1))","v":"-"},{"$f":"IF(Balance!MG14=\"-\",\"-\",ROUND((Balance!MG14/Balance!MG$19)*100,1))","v":"-"},{"$f":"IF(Balance!MH14=\"-\",\"-\",ROUND((Balance!MH14/Balance!MH$19)*100,1))","v":"-"},{"$f":"IF(Balance!MI14=\"-\",\"-\",ROUND((Balance!MI14/Balance!MI$19)*100,1))","v":"-"},{"$f":"IF(Balance!MJ14=\"-\",\"-\",ROUND((Balance!MJ14/Balance!MJ$19)*100,1))","v":"-"},{"$f":"IF(Balance!MK14=\"-\",\"-\",ROUND((Balance!MK14/Balance!MK$19)*100,1))","v":"-"},{"$f":"IF(Balance!ML14=\"-\",\"-\",ROUND((Balance!ML14/Balance!ML$19)*100,1))","v":"-"}]
[null,"Térmica no renovable/Cogeneración y resto/Cogeneración",{"$f":"100-SUM(C3:C12,C14:C15)","v":0.29999999999999716},{"$f":"100-SUM(D3:D12,D14:D15)","v":0.39999999999999147},0.40000000000000568,0.20000000000000284,0.39999999999999147,0.29999999999999716,0.5,0.59999999999999432,0.70000000000000284,0.59999999999999432,0.70000000000000284,0.70000000000000284,0.59999999999999432,0.79999999999999716,1,1.0000000000000142,0.89999999999999147,0.90000000000000568,0.99999999999998579,0.99999999999998579,1.1000000000000085,1.3000000000000114,1.2000000000000028,1.0999999999999943,1.0999999999999943,1.1000000000000085,1.3999999999999915,1.2000000000000028,1.4000000000000057,1.4000000000000057,1.2999999999999972,1.4000000000000057,1.4000000000000057,1.5,1.7000000000000028,1.5,1.7000000000000028,1.6999999999999886,1.8000000000000114,2.1000000000000085,2.2999999999999829,2.3000000000000114,2.4000000000000199,2.0000000000000142,2.7000000000000171,2.9000000000000057,3.1000000000000227,3.2000000000000171,3.2000000000000028,3.2999999999999972,3.5000000000000142,3.6000000000000227,3.9000000000000057,3.7000000000000028,3.2999999999999972,3.7000000000000028,3.8999999999999915,4.0000000000000142,3.9000000000000057,3.8999999999999915,3.4000000000000057,3.9000000000000199,4.0000000000000142,4.5,4.4000000000000057,{"$f":"100-SUM(BP3:BP12,BP14:BP15)","v":4.2000000000000028},4.2000000000000028,4.3000000000000114,4.7000000000000028,5.0999999999999943,5,4.7999999999999972,4.5999999999999943,4.7999999999999829,5.0999999999999943,6.0999999999999943,5.7999999999999972,5.7000000000000028,5.6000000000000085,6.1000000000000085,5.9999999999999858,6.5,6.5999999999999943,6.3999999999999915,5.7999999999999972,6.3999999999999915,7.2000000000000028,6.8999999999999915,6.9000000000000057,6.7000000000000028,6.7999999999999972,6.6999999999999886,6.7000000000000028,7.7999999999999829,7.5,6.8999999999999773,7.3999999999999915,7.8999999999999915,8.2999999999999972,8.3999999999999915,8.5000000000000142,7.6999999999999886,7.7000000000000028,7.8999999999999915,8.2000000000000028,9.2999999999999829,8.8999999999999915,8.5999999999999801,8.2999999999999829,8.7999999999999829,9.3999999999999915,10.299999999999983,10,9.5999999999999943,9,9.3999999999999915,9.2000000000000028,10.300000000000011,9.4000000000000057,9.1999999999999886,8.6999999999999886,9.0999999999999943,9.5999999999999943,9.7000000000000028,9.2999999999999972,8.7999999999999972,8.4999999999999858,8.6000000000000085,8.7999999999999972,{"$f":"100-SUM(EB3:EB12,EB14:EB15)","v":9},8.0000000000000142,8.2999999999999972,7.9000000000000057,8.5,8.4000000000000057,9,9.1000000000000085,8.3999999999999915,8.5,7.7999999999999829,8.5000000000000142,9.2000000000000171,9,8.2999999999999829,9,9.7000000000000171,9.9000000000000057,10.399999999999991,9.9999999999999858,9,9.2999999999999972,9.4000000000000057,9.9000000000000057,10.699999999999974,10.299999999999983,9.7999999999999972,9.4000000000000057,9.5,10.200000000000003,10.800000000000011,10.700000000000003,9.5999999999999943,9.3999999999999915,9.1000000000000085,10.400000000000006,10.899999999999991,10.100000000000009,9.6999999999999886,9.8000000000000114,9.6999999999999886,10,10.299999999999997,10.100000000000009,9.0999999999999943,9.0000000000000142,8.9000000000000057,9.2000000000000171,10.099999999999994,10.100000000000009,9.7999999999999829,9.0000000000000142,9.2999999999999972,9.7999999999999972,10.600000000000009,10.299999999999997,9.2000000000000028,8.6000000000000085,9,9.4000000000000057,9,8.6000000000000085,7.9000000000000057,8.2999999999999972,{"$f":"100-SUM(GN3:GN12,GN14:GN15)","v":8.7999999999999972},9,10.200000000000003,9.1999999999999886,8.1999999999999886,7.2000000000000028,7.7999999999999972,7.9000000000000057,8.7999999999999829,8.8000000000000114,8.2000000000000028,8.1000000000000085,8,8.1000000000000227,8.7999999999999972,8.3999999999999915,8.5999999999999943,8.4999999999999858,8.7000000000000028,8.6999999999999886,9.1999999999999886,8.7999999999999972,8.5999999999999801,8.7999999999999972,9.5,9.5999999999999943,9.5999999999999943,9.5999999999999943,9.3000000000000114,9.1999999999999886,8.6999999999999886,9.8000000000000114,10.5,9.7999999999999972,9.3999999999999915,9.6999999999999886,10.400000000000006,11.099999999999994,11.699999999999989,11.499999999999986,10.700000000000003,10.200000000000003,9.0000000000000142,11.099999999999994,11.500000000000014,11.700000000000017,11.000000000000014,10.700000000000003,10.600000000000009,11,12.200000000000003,12.200000000000003,11.800000000000011,10.599999999999994,9.5999999999999943,11.5,11.900000000000006,11.600000000000009,11.599999999999994,11.299999999999997,11.599999999999994,12,13,13,{"$f":"100-SUM(IZ3:IZ12,IZ14:IZ15)","v":12.100000000000023},11.600000000000009,10.100000000000009,12.100000000000009,13.200000000000003,12.799999999999997,12.299999999999997,12.300000000000011,11.200000000000003,12.900000000000006,13.5,13.299999999999997,12.299999999999983,12.199999999999989,10.399999999999991,12.900000000000006,13.399999999999991,13.200000000000017,12.700000000000003,12.600000000000009,12.199999999999989,12.600000000000009,13.299999999999997,14.100000000000009,13.299999999999997,11.5,9.5999999999999943,12.199999999999989,12.699999999999989,12.09999999999998,11.799999999999997,11.900000000000006,9.0999999999999943,8.7000000000000028,8.5999999999999943,10.199999999999989,10.899999999999991,10.200000000000003,10.200000000000003,10.700000000000003,11.099999999999994,10.400000000000006,9.7000000000000028,9.2999999999999972,8.8999999999999915,9.4000000000000057,10.299999999999997,10.599999999999994,10.000000000000014,8.9999999999999716,9.3999999999999915,10.799999999999983,11.100000000000023,10.700000000000003,10.599999999999994,9.7999999999999972,9.6000000000000085,9.2000000000000028,9.5,10.799999999999997,11.099999999999994,10.500000000000014,10.200000000000017,10.699999999999989,{"$f":"100-SUM(LL3:LL12,LL14:LL15)","v":11.299999999999997},11.099999999999994,11.100000000000009,10.100000000000009,11.199999999999989,12.099999999999994,12.199999999999989,11.999999999999986,11.300000000000011,11.000000000000014,11.000000000000014,12.000000000000014,11.700000000000003,11.299999999999983,10.800000000000011,{"$f":"100-SUM(MA3:MA12,MA14:MA15)","v":11.599999999999994},{"$f":"IF(Balance!MB15=\"-\",\"-\",ROUND((Balance!MB15/Balance!MB$19)*100,1))","v":"-"},{"$f":"IF(Balance!MC15=\"-\",\"-\",ROUND((Balance!MC15/Balance!MC$19)*100,1))","v":"-"},{"$f":"IF(Balance!MD15=\"-\",\"-\",ROUND((Balance!MD15/Balance!MD$19)*100,1))","v":"-"},{"$f":"IF(Balance!ME15=\"-\",\"-\",ROUND((Balance!ME15/Balance!ME$19)*100,1))","v":"-"},{"$f":"IF(Balance!MF15=\"-\",\"-\",ROUND((Balance!MF15/Balance!MF$19)*100,1))","v":"-"},{"$f":"IF(Balance!MG15=\"-\",\"-\",ROUND((Balance!MG15/Balance!MG$19)*100,1))","v":"-"},{"$f":"IF(Balance!MH15=\"-\",\"-\",ROUND((Balance!MH15/Balance!MH$19)*100,1))","v":"-"},{"$f":"IF(Balance!MI15=\"-\",\"-\",ROUND((Balance!MI15/Balance!MI$19)*100,1))","v":"-"},{"$f":"IF(Balance!MJ15=\"-\",\"-\",ROUND((Balance!MJ15/Balance!MJ$19)*100,1))","v":"-"},{"$f":"IF(Balance!MK15=\"-\",\"-\",ROUND((Balance!MK15/Balance!MK$19)*100,1))","v":"-"},{"$f":"IF(Balance!ML15=\"-\",\"-\",ROUND((Balance!ML15/Balance!ML$19)*100,1))","v":"-"}]
[null,"Residuos no renovables",{"$f":"IF(Balance!C16=\"-\",\"-\",ROUND((Balance!C16/Balance!C$19)*100,1))","v":"-"},{"$f":"IF(Balance!D16=\"-\",\"-\",ROUND((Balance!D16/Balance!D$19)*100,1))","v":"-"},{"$f":"IF(Balance!E16=\"-\",\"-\",ROUND((Balance!E16/Balance!E$19)*100,1))","v":"-"},{"$f":"IF(Balance!F16=\"-\",\"-\",ROUND((Balance!F16/Balance!F$19)*100,1))","v":"-"},{"$f":"IF(Balance!G16=\"-\",\"-\",ROUND((Balance!G16/Balance!G$19)*100,1))","v":"-"},{"$f":"IF(Balance!H16=\"-\",\"-\",ROUND((Balance!H16/Balance!H$19)*100,1))","v":"-"},{"$f":"IF(Balance!I16=\"-\",\"-\",ROUND((Balance!I16/Balance!I$19)*100,1))","v":"-"},{"$f":"IF(Balance!J16=\"-\",\"-\",ROUND((Balance!J16/Balance!J$19)*100,1))","v":"-"},{"$f":"IF(Balance!K16=\"-\",\"-\",ROUND((Balance!K16/Balance!K$19)*100,1))","v":"-"},{"$f":"IF(Balance!L16=\"-\",\"-\",ROUND((Balance!L16/Balance!L$19)*100,1))","v":"-"},{"$f":"IF(Balance!M16=\"-\",\"-\",ROUND((Balance!M16/Balance!M$19)*100,1))","v":"-"},{"$f":"IF(Balance!N16=\"-\",\"-\",ROUND((Balance!N16/Balance!N$19)*100,1))","v":"-"},{"$f":"IF(Balance!O16=\"-\",\"-\",ROUND((Balance!O16/Balance!O$19)*100,1))","v":"-"},{"$f":"IF(Balance!P16=\"-\",\"-\",ROUND((Balance!P16/Balance!P$19)*100,1))","v":"-"},{"$f":"IF(Balance!Q16=\"-\",\"-\",ROUND((Balance!Q16/Balance!Q$19)*100,1))","v":"-"},{"$f":"IF(Balance!R16=\"-\",\"-\",ROUND((Balance!R16/Balance!R$19)*100,1))","v":"-"},{"$f":"IF(Balance!S16=\"-\",\"-\",ROUND((Balance!S16/Balance!S$19)*100,1))","v":"-"},{"$f":"IF(Balance!T16=\"-\",\"-\",ROUND((Balance!T16/Balance!T$19)*100,1))","v":"-"},{"$f":"IF(Balance!U16=\"-\",\"-\",ROUND((Balance!U16/Balance!U$19)*100,1))","v":"-"},{"$f":"IF(Balance!V16=\"-\",\"-\",ROUND((Balance!V16/Balance!V$19)*100,1))","v":"-"},{"$f":"IF(Balance!W16=\"-\",\"-\",ROUND((Balance!W16/Balance!W$19)*100,1))","v":"-"},{"$f":"IF(Balance!X16=\"-\",\"-\",ROUND((Balance!X16/Balance!X$19)*100,1))","v":"-"},{"$f":"IF(Balance!Y16=\"-\",\"-\",ROUND((Balance!Y16/Balance!Y$19)*100,1))","v":"-"},{"$f":"IF(Balance!Z16=\"-\",\"-\",ROUND((Balance!Z16/Balance!Z$19)*100,1))","v":"-"},{"$f":"IF(Balance!AA16=\"-\",\"-\",ROUND((Balance!AA16/Balance!AA$19)*100,1))","v":"-"},{"$f":"IF(Balance!AB16=\"-\",\"-\",ROUND((Balance!AB16/Balance!AB$19)*100,1))","v":"-"},{"$f":"IF(Balance!AC16=\"-\",\"-\",ROUND((Balance!AC16/Balance!AC$19)*100,1))","v":"-"},{"$f":"IF(Balance!AD16=\"-\",\"-\",ROUND((Balance!AD16/Balance!AD$19)*100,1))","v":"-"},{"$f":"IF(Balance!AE16=\"-\",\"-\",ROUND((Balance!AE16/Balance!AE$19)*100,1))","v":"-"},{"$f":"IF(Balance!AF16=\"-\",\"-\",ROUND((Balance!AF16/Balance!AF$19)*100,1))","v":"-"},{"$f":"IF(Balance!AG16=\"-\",\"-\",ROUND((Balance!AG16/Balance!AG$19)*100,1))","v":"-"},{"$f":"IF(Balance!AH16=\"-\",\"-\",ROUND((Balance!AH16/Balance!AH$19)*100,1))","v":"-"},{"$f":"IF(Balance!AI16=\"-\",\"-\",ROUND((Balance!AI16/Balance!AI$19)*100,1))","v":"-"},{"$f":"IF(Balance!AJ16=\"-\",\"-\",ROUND((Balance!AJ16/Balance!AJ$19)*100,1))","v":"-"},{"$f":"IF(Balance!AK16=\"-\",\"-\",ROUND((Balance!AK16/Balance!AK$19)*100,1))","v":"-"},{"$f":"IF(Balance!AL16=\"-\",\"-\",ROUND((Balance!AL16/Balance!AL$19)*100,1))","v":"-"},{"$f":"IF(Balance!AM16=\"-\",\"-\",ROUND((Balance!AM16/Balance!AM$19)*100,1))","v":"-"},{"$f":"IF(Balance!AN16=\"-\",\"-\",ROUND((Balance!AN16/Balance!AN$19)*100,1))","v":"-"},{"$f":"IF(Balance!AO16=\"-\",\"-\",ROUND((Balance!AO16/Balance!AO$19)*100,1))","v":"-"},{"$f":"IF(Balance!AP16=\"-\",\"-\",ROUND((Balance!AP16/Balance!AP$19)*100,1))","v":"-"},{"$f":"IF(Balance!AQ16=\"-\",\"-\",ROUND((Balance!AQ16/Balance!AQ$19)*100,1))","v":"-"},{"$f":"IF(Balance!AR16=\"-\",\"-\",ROUND((Balance!AR16/Balance!AR$19)*100,1))","v":"-"},{"$f":"IF(Balance!AS16=\"-\",\"-\",ROUND((Balance!AS16/Balance!AS$19)*100,1))","v":"-"},{"$f":"IF(Balance!AT16=\"-\",\"-\",ROUND((Balance!AT16/Balance!AT$19)*100,1))","v":"-"},{"$f":"IF(Balance!AU16=\"-\",\"-\",ROUND((Balance!AU16/Balance!AU$19)*100,1))","v":"-"},{"$f":"IF(Balance!AV16=\"-\",\"-\",ROUND((Balance!AV16/Balance!AV$19)*100,1))","v":"-"},{"$f":"IF(Balance!AW16=\"-\",\"-\",ROUND((Balance!AW16/Balance!AW$19)*100,1))","v":"-"},{"$f":"IF(Balance!AX16=\"-\",\"-\",ROUND((Balance!AX16/Balance!AX$19)*100,1))","v":"-"},{"$f":"IF(Balance!AY16=\"-\",\"-\",ROUND((Balance!AY16/Balance!AY$19)*100,1))","v":"-"},{"$f":"IF(Balance!AZ16=\"-\",\"-\",ROUND((Balance!AZ16/Balance!AZ$19)*100,1))","v":"-"},{"$f":"IF(Balance!BA16=\"-\",\"-\",ROUND((Balance!BA16/Balance!BA$19)*100,1))","v":"-"},{"$f":"IF(Balance!BB16=\"-\",\"-\",ROUND((Balance!BB16/Balance!BB$19)*100,1))","v":"-"},{"$f":"IF(Balance!BC16=\"-\",\"-\",ROUND((Balance!BC16/Balance!BC$19)*100,1))","v":"-"},{"$f":"IF(Balance!BD16=\"-\",\"-\",ROUND((Balance!BD16/Balance!BD$19)*100,1))","v":"-"},{"$f":"IF(Balance!BE16=\"-\",\"-\",ROUND((Balance!BE16/Balance!BE$19)*100,1))","v":"-"},{"$f":"IF(Balance!BF16=\"-\",\"-\",ROUND((Balance!BF16/Balance!BF$19)*100,1))","v":"-"},{"$f":"IF(Balance!BG16=\"-\",\"-\",ROUND((Balance!BG16/Balance!BG$19)*100,1))","v":"-"},{"$f":"IF(Balance!BH16=\"-\",\"-\",ROUND((Balance!BH16/Balance!BH$19)*100,1))","v":"-"},{"$f":"IF(Balance!BI16=\"-\",\"-\",ROUND((Balance!BI16/Balance!BI$19)*100,1))","v":"-"},{"$f":"IF(Balance!BJ16=\"-\",\"-\",ROUND((Balance!BJ16/Balance!BJ$19)*100,1))","v":"-"},{"$f":"IF(Balance!BK16=\"-\",\"-\",ROUND((Balance!BK16/Balance!BK$19)*100,1))","v":"-"},{"$f":"IF(Balance!BL16=\"-\",\"-\",ROUND((Balance!BL16/Balance!BL$19)*100,1))","v":"-"},{"$f":"IF(Balance!BM16=\"-\",\"-\",ROUND((Balance!BM16/Balance!BM$19)*100,1))","v":"-"},{"$f":"IF(Balance!BN16=\"-\",\"-\",ROUND((Balance!BN16/Balance!BN$19)*100,1))","v":"-"},{"$f":"IF(Balance!BO16=\"-\",\"-\",ROUND((Balance!BO16/Balance!BO$19)*100,1))","v":"-"},{"$f":"IF(Balance!BP16=\"-\",\"-\",ROUND((Balance!BP16/Balance!BP$19)*100,1))","v":"-"},{"$f":"IF(Balance!BQ16=\"-\",\"-\",ROUND((Balance!BQ16/Balance!BQ$19)*100,1))","v":"-"},{"$f":"IF(Balance!BR16=\"-\",\"-\",ROUND((Balance!BR16/Balance!BR$19)*100,1))","v":"-"},{"$f":"IF(Balance!BS16=\"-\",\"-\",ROUND((Balance!BS16/Balance!BS$19)*100,1))","v":"-"},{"$f":"IF(Balance!BT16=\"-\",\"-\",ROUND((Balance!BT16/Balance!BT$19)*100,1))","v":"-"},{"$f":"IF(Balance!BU16=\"-\",\"-\",ROUND((Balance!BU16/Balance!BU$19)*100,1))","v":"-"},{"$f":"IF(Balance!BV16=\"-\",\"-\",ROUND((Balance!BV16/Balance!BV$19)*100,1))","v":"-"},{"$f":"IF(Balance!BW16=\"-\",\"-\",ROUND((Balance!BW16/Balance!BW$19)*100,1))","v":"-"},{"$f":"IF(Balance!BX16=\"-\",\"-\",ROUND((Balance!BX16/Balance!BX$19)*100,1))","v":"-"},{"$f":"IF(Balance!BY16=\"-\",\"-\",ROUND((Balance!BY16/Balance!BY$19)*100,1))","v":"-"},{"$f":"IF(Balance!BZ16=\"-\",\"-\",ROUND((Balance!BZ16/Balance!BZ$19)*100,1))","v":"-"},{"$f":"IF(Balance!CA16=\"-\",\"-\",ROUND((Balance!CA16/Balance!CA$19)*100,1))","v":"-"},{"$f":"IF(Balance!CB16=\"-\",\"-\",ROUND((Balance!CB16/Balance!CB$19)*100,1))","v":"-"},{"$f":"IF(Balance!CC16=\"-\",\"-\",ROUND((Balance!CC16/Balance!CC$19)*100,1))","v":"-"},{"$f":"IF(Balance!CD16=\"-\",\"-\",ROUND((Balance!CD16/Balance!CD$19)*100,1))","v":"-"},{"$f":"IF(Balance!CE16=\"-\",\"-\",ROUND((Balance!CE16/Balance!CE$19)*100,1))","v":"-"},{"$f":"IF(Balance!CF16=\"-\",\"-\",ROUND((Balance!CF16/Balance!CF$19)*100,1))","v":"-"},{"$f":"IF(Balance!CG16=\"-\",\"-\",ROUND((Balance!CG16/Balance!CG$19)*100,1))","v":"-"},{"$f":"IF(Balance!CH16=\"-\",\"-\",ROUND((Balance!CH16/Balance!CH$19)*100,1))","v":"-"},{"$f":"IF(Balance!CI16=\"-\",\"-\",ROUND((Balance!CI16/Balance!CI$19)*100,1))","v":"-"},{"$f":"IF(Balance!CJ16=\"-\",\"-\",ROUND((Balance!CJ16/Balance!CJ$19)*100,1))","v":"-"},{"$f":"IF(Balance!CK16=\"-\",\"-\",ROUND((Balance!CK16/Balance!CK$19)*100,1))","v":"-"},{"$f":"IF(Balance!CL16=\"-\",\"-\",ROUND((Balance!CL16/Balance!CL$19)*100,1))","v":"-"},{"$f":"IF(Balance!CM16=\"-\",\"-\",ROUND((Balance!CM16/Balance!CM$19)*100,1))","v":"-"},{"$f":"IF(Balance!CN16=\"-\",\"-\",ROUND((Balance!CN16/Balance!CN$19)*100,1))","v":"-"},{"$f":"IF(Balance!CO16=\"-\",\"-\",ROUND((Balance!CO16/Balance!CO$19)*100,1))","v":"-"},{"$f":"IF(Balance!CP16=\"-\",\"-\",ROUND((Balance!CP16/Balance!CP$19)*100,1))","v":"-"},{"$f":"IF(Balance!CQ16=\"-\",\"-\",ROUND((Balance!CQ16/Balance!CQ$19)*100,1))","v":"-"},{"$f":"IF(Balance!CR16=\"-\",\"-\",ROUND((Balance!CR16/Balance!CR$19)*100,1))","v":"-"},{"$f":"IF(Balance!CS16=\"-\",\"-\",ROUND((Balance!CS16/Balance!CS$19)*100,1))","v":"-"},{"$f":"IF(Balance!CT16=\"-\",\"-\",ROUND((Balance!CT16/Balance!CT$19)*100,1))","v":"-"},{"$f":"IF(Balance!CU16=\"-\",\"-\",ROUND((Balance!CU16/Balance!CU$19)*100,1))","v":"-"},{"$f":"IF(Balance!CV16=\"-\",\"-\",ROUND((Balance!CV16/Balance!CV$19)*100,1))","v":"-"},{"$f":"IF(Balance!CW16=\"-\",\"-\",ROUND((Balance!CW16/Balance!CW$19)*100,1))","v":"-"},{"$f":"IF(Balance!CX16=\"-\",\"-\",ROUND((Balance!CX16/Balance!CX$19)*100,1))","v":"-"},{"$f":"IF(Balance!CY16=\"-\",\"-\",ROUND((Balance!CY16/Balance!CY$19)*100,1))","v":"-"},{"$f":"IF(Balance!CZ16=\"-\",\"-\",ROUND((Balance!CZ16/Balance!CZ$19)*100,1))","v":"-"},{"$f":"IF(Balance!DA16=\"-\",\"-\",ROUND((Balance!DA16/Balance!DA$19)*100,1))","v":"-"},{"$f":"IF(Balance!DB16=\"-\",\"-\",ROUND((Balance!DB16/Balance!DB$19)*100,1))","v":"-"},{"$f":"IF(Balance!DC16=\"-\",\"-\",ROUND((Balance!DC16/Balance!DC$19)*100,1))","v":"-"},{"$f":"IF(Balance!DD16=\"-\",\"-\",ROUND((Balance!DD16/Balance!DD$19)*100,1))","v":"-"},{"$f":"IF(Balance!DE16=\"-\",\"-\",ROUND((Balance!DE16/Balance!DE$19)*100,1))","v":"-"},{"$f":"IF(Balance!DF16=\"-\",\"-\",ROUND((Balance!DF16/Balance!DF$19)*100,1))","v":"-"},{"$f":"IF(Balance!DG16=\"-\",\"-\",ROUND((Balance!DG16/Balance!DG$19)*100,1))","v":"-"},{"$f":"IF(Balance!DH16=\"-\",\"-\",ROUND((Balance!DH16/Balance!DH$19)*100,1))","v":"-"},{"$f":"IF(Balance!DI16=\"-\",\"-\",ROUND((Balance!DI16/Balance!DI$19)*100,1))","v":"-"},{"$f":"IF(Balance!DJ16=\"-\",\"-\",ROUND((Balance!DJ16/Balance!DJ$19)*100,1))","v":"-"},{"$f":"IF(Balance!DK16=\"-\",\"-\",ROUND((Balance!DK16/Balance!DK$19)*100,1))","v":"-"},{"$f":"IF(Balance!DL16=\"-\",\"-\",ROUND((Balance!DL16/Balance!DL$19)*100,1))","v":"-"},{"$f":"IF(Balance!DM16=\"-\",\"-\",ROUND((Balance!DM16/Balance!DM$19)*100,1))","v":"-"},{"$f":"IF(Balance!DN16=\"-\",\"-\",ROUND((Balance!DN16/Balance!DN$19)*100,1))","v":"-"},{"$f":"IF(Balance!DO16=\"-\",\"-\",ROUND((Balance!DO16/Balance!DO$19)*100,1))","v":"-"},{"$f":"IF(Balance!DP16=\"-\",\"-\",ROUND((Balance!DP16/Balance!DP$19)*100,1))","v":"-"},{"$f":"IF(Balance!DQ16=\"-\",\"-\",ROUND((Balance!DQ16/Balance!DQ$19)*100,1))","v":"-"},{"$f":"IF(Balance!DR16=\"-\",\"-\",ROUND((Balance!DR16/Balance!DR$19)*100,1))","v":"-"},{"$f":"IF(Balance!DS16=\"-\",\"-\",ROUND((Balance!DS16/Balance!DS$19)*100,1))","v":"-"},{"$f":"IF(Balance!DT16=\"-\",\"-\",ROUND((Balance!DT16/Balance!DT$19)*100,1))","v":"-"},{"$f":"IF(Balance!DU16=\"-\",\"-\",ROUND((Balance!DU16/Balance!DU$19)*100,1))","v":"-"},{"$f":"IF(Balance!DV16=\"-\",\"-\",ROUND((Balance!DV16/Balance!DV$19)*100,1))","v":"-"},{"$f":"IF(Balance!DW16=\"-\",\"-\",ROUND((Balance!DW16/Balance!DW$19)*100,1))","v":"-"},{"$f":"IF(Balance!DX16=\"-\",\"-\",ROUND((Balance!DX16/Balance!DX$19)*100,1))","v":"-"},{"$f":"IF(Balance!DY16=\"-\",\"-\",ROUND((Balance!DY16/Balance!DY$19)*100,1))","v":"-"},{"$f":"IF(Balance!DZ16=\"-\",\"-\",ROUND((Balance!DZ16/Balance!DZ$19)*100,1))","v":"-"},{"$f":"IF(Balance!EA16=\"-\",\"-\",ROUND((Balance!EA16/Balance!EA$19)*100,1))","v":"-"},{"$f":"IF(Balance!EB16=\"-\",\"-\",ROUND((Balance!EB16/Balance!EB$19)*100,1))","v":"-"},{"$f":"IF(Balance!EC16=\"-\",\"-\",ROUND((Balance!EC16/Balance!EC$19)*100,1))","v":"-"},{"$f":"IF(Balance!ED16=\"-\",\"-\",ROUND((Balance!ED16/Balance!ED$19)*100,1))","v":"-"},{"$f":"IF(Balance!EE16=\"-\",\"-\",ROUND((Balance!EE16/Balance!EE$19)*100,1))","v":"-"},{"$f":"IF(Balance!EF16=\"-\",\"-\",ROUND((Balance!EF16/Balance!EF$19)*100,1))","v":"-"},{"$f":"IF(Balance!EG16=\"-\",\"-\",ROUND((Balance!EG16/Balance!EG$19)*100,1))","v":"-"},{"$f":"IF(Balance!EH16=\"-\",\"-\",ROUND((Balance!EH16/Balance!EH$19)*100,1))","v":"-"},{"$f":"IF(Balance!EI16=\"-\",\"-\",ROUND((Balance!EI16/Balance!EI$19)*100,1))","v":"-"},{"$f":"IF(Balance!EJ16=\"-\",\"-\",ROUND((Balance!EJ16/Balance!EJ$19)*100,1))","v":"-"},{"$f":"IF(Balance!EK16=\"-\",\"-\",ROUND((Balance!EK16/Balance!EK$19)*100,1))","v":"-"},{"$f":"IF(Balance!EL16=\"-\",\"-\",ROUND((Balance!EL16/Balance!EL$19)*100,1))","v":"-"},{"$f":"IF(Balance!EM16=\"-\",\"-\",ROUND((Balance!EM16/Balance!EM$19)*100,1))","v":"-"},{"$f":"IF(Balance!EN16=\"-\",\"-\",ROUND((Balance!EN16/Balance!EN$19)*100,1))","v":"-"},{"$f":"IF(Balance!EO16=\"-\",\"-\",ROUND((Balance!EO16/Balance!EO$19)*100,1))","v":"-"},{"$f":"IF(Balance!EP16=\"-\",\"-\",ROUND((Balance!EP16/Balance!EP$19)*100,1))","v":"-"},{"$f":"IF(Balance!EQ16=\"-\",\"-\",ROUND((Balance!EQ16/Balance!EQ$19)*100,1))","v":"-"},{"$f":"IF(Balance!ER16=\"-\",\"-\",ROUND((Balance!ER16/Balance!ER$19)*100,1))","v":"-"},{"$f":"IF(Balance!ES16=\"-\",\"-\",ROUND((Balance!ES16/Balance!ES$19)*100,1))","v":"-"},{"$f":"IF(Balance!ET16=\"-\",\"-\",ROUND((Balance!ET16/Balance!ET$19)*100,1))","v":"-"},{"$f":"IF(Balance!EU16=\"-\",\"-\",ROUND((Balance!EU16/Balance!EU$19)*100,1))","v":"-"},{"$f":"IF(Balance!EV16=\"-\",\"-\",ROUND((Balance!EV16/Balance!EV$19)*100,1))","v":"-"},{"$f":"IF(Balance!EW16=\"-\",\"-\",ROUND((Balance!EW16/Balance!EW$19)*100,1))","v":"-"},{"$f":"IF(Balance!EX16=\"-\",\"-\",ROUND((Balance!EX16/Balance!EX$19)*100,1))","v":"-"},{"$f":"IF(Balance!EY16=\"-\",\"-\",ROUND((Balance!EY16/Balance!EY$19)*100,1))","v":"-"},{"$f":"IF(Balance!EZ16=\"-\",\"-\",ROUND((Balance!EZ16/Balance!EZ$19)*100,1))","v":"-"},{"$f":"IF(Balance!FA16=\"-\",\"-\",ROUND((Balance!FA16/Balance!FA$19)*100,1))","v":"-"},{"$f":"IF(Balance!FB16=\"-\",\"-\",ROUND((Balance!FB16/Balance!FB$19)*100,1))","v":"-"},{"$f":"IF(Balance!FC16=\"-\",\"-\",ROUND((Balance!FC16/Balance!FC$19)*100,1))","v":"-"},{"$f":"IF(Balance!FD16=\"-\",\"-\",ROUND((Balance!FD16/Balance!FD$19)*100,1))","v":"-"},{"$f":"IF(Balance!FE16=\"-\",\"-\",ROUND((Balance!FE16/Balance!FE$19)*100,1))","v":"-"},{"$f":"IF(Balance!FF16=\"-\",\"-\",ROUND((Balance!FF16/Balance!FF$19)*100,1))","v":"-"},{"$f":"IF(Balance!FG16=\"-\",\"-\",ROUND((Balance!FG16/Balance!FG$19)*100,1))","v":"-"},{"$f":"IF(Balance!FH16=\"-\",\"-\",ROUND((Balance!FH16/Balance!FH$19)*100,1))","v":"-"},{"$f":"IF(Balance!FI16=\"-\",\"-\",ROUND((Balance!FI16/Balance!FI$19)*100,1))","v":"-"},{"$f":"IF(Balance!FJ16=\"-\",\"-\",ROUND((Balance!FJ16/Balance!FJ$19)*100,1))","v":"-"},{"$f":"IF(Balance!FK16=\"-\",\"-\",ROUND((Balance!FK16/Balance!FK$19)*100,1))","v":"-"},{"$f":"IF(Balance!FL16=\"-\",\"-\",ROUND((Balance!FL16/Balance!FL$19)*100,1))","v":"-"},{"$f":"IF(Balance!FM16=\"-\",\"-\",ROUND((Balance!FM16/Balance!FM$19)*100,1))","v":"-"},{"$f":"IF(Balance!FN16=\"-\",\"-\",ROUND((Balance!FN16/Balance!FN$19)*100,1))","v":"-"},{"$f":"IF(Balance!FO16=\"-\",\"-\",ROUND((Balance!FO16/Balance!FO$19)*100,1))","v":"-"},{"$f":"IF(Balance!FP16=\"-\",\"-\",ROUND((Balance!FP16/Balance!FP$19)*100,1))","v":"-"},{"$f":"IF(Balance!FQ16=\"-\",\"-\",ROUND((Balance!FQ16/Balance!FQ$19)*100,1))","v":"-"},{"$f":"IF(Balance!FR16=\"-\",\"-\",ROUND((Balance!FR16/Balance!FR$19)*100,1))","v":"-"},{"$f":"IF(Balance!FS16=\"-\",\"-\",ROUND((Balance!FS16/Balance!FS$19)*100,1))","v":"-"},{"$f":"IF(Balance!FT16=\"-\",\"-\",ROUND((Balance!FT16/Balance!FT$19)*100,1))","v":"-"},{"$f":"IF(Balance!FU16=\"-\",\"-\",ROUND((Balance!FU16/Balance!FU$19)*100,1))","v":"-"},{"$f":"IF(Balance!FV16=\"-\",\"-\",ROUND((Balance!FV16/Balance!FV$19)*100,1))","v":"-"},{"$f":"IF(Balance!FW16=\"-\",\"-\",ROUND((Balance!FW16/Balance!FW$19)*100,1))","v":"-"},{"$f":"IF(Balance!FX16=\"-\",\"-\",ROUND((Balance!FX16/Balance!FX$19)*100,1))","v":"-"},{"$f":"IF(Balance!FY16=\"-\",\"-\",ROUND((Balance!FY16/Balance!FY$19)*100,1))","v":"-"},{"$f":"IF(Balance!FZ16=\"-\",\"-\",ROUND((Balance!FZ16/Balance!FZ$19)*100,1))","v":"-"},{"$f":"IF(Balance!GA16=\"-\",\"-\",ROUND((Balance!GA16/Balance!GA$19)*100,1))","v":"-"},{"$f":"IF(Balance!GB16=\"-\",\"-\",ROUND((Balance!GB16/Balance!GB$19)*100,1))","v":"-"},{"$f":"IF(Balance!GC16=\"-\",\"-\",ROUND((Balance!GC16/Balance!GC$19)*100,1))","v":"-"},{"$f":"IF(Balance!GD16=\"-\",\"-\",ROUND((Balance!GD16/Balance!GD$19)*100,1))","v":"-"},{"$f":"IF(Balance!GE16=\"-\",\"-\",ROUND((Balance!GE16/Balance!GE$19)*100,1))","v":"-"},{"$f":"IF(Balance!GF16=\"-\",\"-\",ROUND((Balance!GF16/Balance!GF$19)*100,1))","v":"-"},{"$f":"IF(Balance!GG16=\"-\",\"-\",ROUND((Balance!GG16/Balance!GG$19)*100,1))","v":"-"},{"$f":"IF(Balance!GH16=\"-\",\"-\",ROUND((Balance!GH16/Balance!GH$19)*100,1))","v":"-"},{"$f":"IF(Balance!GI16=\"-\",\"-\",ROUND((Balance!GI16/Balance!GI$19)*100,1))","v":"-"},{"$f":"IF(Balance!GJ16=\"-\",\"-\",ROUND((Balance!GJ16/Balance!GJ$19)*100,1))","v":"-"},{"$f":"IF(Balance!GK16=\"-\",\"-\",ROUND((Balance!GK16/Balance!GK$19)*100,1))","v":"-"},{"$f":"IF(Balance!GL16=\"-\",\"-\",ROUND((Balance!GL16/Balance!GL$19)*100,1))","v":"-"},{"$f":"IF(Balance!GM16=\"-\",\"-\",ROUND((Balance!GM16/Balance!GM$19)*100,1))","v":"-"},{"$f":"IF(Balance!GN16=\"-\",\"-\",ROUND((Balance!GN16/Balance!GN$19)*100,1))","v":"-"},{"$f":"IF(Balance!GO16=\"-\",\"-\",ROUND((Balance!GO16/Balance!GO$19)*100,1))","v":"-"},{"$f":"IF(Balance!GP16=\"-\",\"-\",ROUND((Balance!GP16/Balance!GP$19)*100,1))","v":"-"},{"$f":"IF(Balance!GQ16=\"-\",\"-\",ROUND((Balance!GQ16/Balance!GQ$19)*100,1))","v":"-"},{"$f":"IF(Balance!GR16=\"-\",\"-\",ROUND((Balance!GR16/Balance!GR$19)*100,1))","v":"-"},{"$f":"IF(Balance!GS16=\"-\",\"-\",ROUND((Balance!GS16/Balance!GS$19)*100,1))","v":"-"},{"$f":"IF(Balance!GT16=\"-\",\"-\",ROUND((Balance!GT16/Balance!GT$19)*100,1))","v":"-"},{"$f":"IF(Balance!GU16=\"-\",\"-\",ROUND((Balance!GU16/Balance!GU$19)*100,1))","v":"-"},{"$f":"IF(Balance!GV16=\"-\",\"-\",ROUND((Balance!GV16/Balance!GV$19)*100,1))","v":"-"},{"$f":"IF(Balance!GW16=\"-\",\"-\",ROUND((Balance!GW16/Balance!GW$19)*100,1))","v":"-"},{"$f":"IF(Balance!GX16=\"-\",\"-\",ROUND((Balance!GX16/Balance!GX$19)*100,1))","v":"-"},{"$f":"IF(Balance!GY16=\"-\",\"-\",ROUND((Balance!GY16/Balance!GY$19)*100,1))","v":"-"},{"$f":"IF(Balance!GZ16=\"-\",\"-\",ROUND((Balance!GZ16/Balance!GZ$19)*100,1))","v":"-"},{"$f":"IF(Balance!HA16=\"-\",\"-\",ROUND((Balance!HA16/Balance!HA$19)*100,1))","v":"-"},{"$f":"IF(Balance!HB16=\"-\",\"-\",ROUND((Balance!HB16/Balance!HB$19)*100,1))","v":"-"},{"$f":"IF(Balance!HC16=\"-\",\"-\",ROUND((Balance!HC16/Balance!HC$19)*100,1))","v":"-"},{"$f":"IF(Balance!HD16=\"-\",\"-\",ROUND((Balance!HD16/Balance!HD$19)*100,1))","v":"-"},{"$f":"IF(Balance!HE16=\"-\",\"-\",ROUND((Balance!HE16/Balance!HE$19)*100,1))","v":"-"},{"$f":"IF(Balance!HF16=\"-\",\"-\",ROUND((Balance!HF16/Balance!HF$19)*100,1))","v":"-"},{"$f":"IF(Balance!HG16=\"-\",\"-\",ROUND((Balance!HG16/Balance!HG$19)*100,1))","v":"-"},{"$f":"IF(Balance!HH16=\"-\",\"-\",ROUND((Balance!HH16/Balance!HH$19)*100,1))","v":"-"},{"$f":"IF(Balance!HI16=\"-\",\"-\",ROUND((Balance!HI16/Balance!HI$19)*100,1))","v":"-"},{"$f":"IF(Balance!HJ16=\"-\",\"-\",ROUND((Balance!HJ16/Balance!HJ$19)*100,1))","v":"-"},{"$f":"IF(Balance!HK16=\"-\",\"-\",ROUND((Balance!HK16/Balance!HK$19)*100,1))","v":"-"},{"$f":"IF(Balance!HL16=\"-\",\"-\",ROUND((Balance!HL16/Balance!HL$19)*100,1))","v":"-"},{"$f":"IF(Balance!HM16=\"-\",\"-\",ROUND((Balance!HM16/Balance!HM$19)*100,1))","v":"-"},{"$f":"IF(Balance!HN16=\"-\",\"-\",ROUND((Balance!HN16/Balance!HN$19)*100,1))","v":"-"},{"$f":"IF(Balance!HO16=\"-\",\"-\",ROUND((Balance!HO16/Balance!HO$19)*100,1))","v":"-"},{"$f":"IF(Balance!HP16=\"-\",\"-\",ROUND((Balance!HP16/Balance!HP$19)*100,1))","v":"-"},{"$f":"IF(Balance!HQ16=\"-\",\"-\",ROUND((Balance!HQ16/Balance!HQ$19)*100,1))","v":"-"},{"$f":"IF(Balance!HR16=\"-\",\"-\",ROUND((Balance!HR16/Balance!HR$19)*100,1))","v":"-"},{"$f":"IF(Balance!HS16=\"-\",\"-\",ROUND((Balance!HS16/Balance!HS$19)*100,1))","v":"-"},{"$f":"IF(Balance!HT16=\"-\",\"-\",ROUND((Balance!HT16/Balance!HT$19)*100,1))","v":"-"},{"$f":"IF(Balance!HU16=\"-\",\"-\",ROUND((Balance!HU16/Balance!HU$19)*100,1))","v":"-"},{"$f":"IF(Balance!HV16=\"-\",\"-\",ROUND((Balance!HV16/Balance!HV$19)*100,1))","v":"-"},{"$f":"IF(Balance!HW16=\"-\",\"-\",ROUND((Balance!HW16/Balance!HW$19)*100,1))","v":"-"},{"$f":"IF(Balance!HX16=\"-\",\"-\",ROUND((Balance!HX16/Balance!HX$19)*100,1))","v":"-"},{"$f":"IF(Balance!HY16=\"-\",\"-\",ROUND((Balance!HY16/Balance!HY$19)*100,1))","v":"-"},{"$f":"IF(Balance!HZ16=\"-\",\"-\",ROUND((Balance!HZ16/Balance!HZ$19)*100,1))","v":"-"},{"$f":"IF(Balance!IA16=\"-\",\"-\",ROUND((Balance!IA16/Balance!IA$19)*100,1))","v":"-"},{"$f":"IF(Balance!IB16=\"-\",\"-\",ROUND((Balance!IB16/Balance!IB$19)*100,1))","v":"-"},{"$f":"IF(Balance!IC16=\"-\",\"-\",ROUND((Balance!IC16/Balance!IC$19)*100,1))","v":"-"},{"$f":"IF(Balance!ID16=\"-\",\"-\",ROUND((Balance!ID16/Balance!ID$19)*100,1))","v":"-"},{"$f":"IF(Balance!IE16=\"-\",\"-\",ROUND((Balance!IE16/Balance!IE$19)*100,1))","v":"-"},{"$f":"IF(Balance!IF16=\"-\",\"-\",ROUND((Balance!IF16/Balance!IF$19)*100,1))","v":"-"},{"$f":"IF(Balance!IG16=\"-\",\"-\",ROUND((Balance!IG16/Balance!IG$19)*100,1))","v":"-"},{"$f":"IF(Balance!IH16=\"-\",\"-\",ROUND((Balance!IH16/Balance!IH$19)*100,1))","v":"-"},{"$f":"IF(Balance!II16=\"-\",\"-\",ROUND((Balance!II16/Balance!II$19)*100,1))","v":"-"},{"$f":"IF(Balance!IJ16=\"-\",\"-\",ROUND((Balance!IJ16/Balance!IJ$19)*100,1))","v":"-"},{"$f":"IF(Balance!IK16=\"-\",\"-\",ROUND((Balance!IK16/Balance!IK$19)*100,1))","v":"-"},{"$f":"IF(Balance!IL16=\"-\",\"-\",ROUND((Balance!IL16/Balance!IL$19)*100,1))","v":"-"},{"$f":"IF(Balance!IM16=\"-\",\"-\",ROUND((Balance!IM16/Balance!IM$19)*100,1))","v":"-"},{"$f":"IF(Balance!IN16=\"-\",\"-\",ROUND((Balance!IN16/Balance!IN$19)*100,1))","v":"-"},{"$f":"IF(Balance!IO16=\"-\",\"-\",ROUND((Balance!IO16/Balance!IO$19)*100,1))","v":"-"},{"$f":"IF(Balance!IP16=\"-\",\"-\",ROUND((Balance!IP16/Balance!IP$19)*100,1))","v":"-"},{"$f":"IF(Balance!IQ16=\"-\",\"-\",ROUND((Balance!IQ16/Balance!IQ$19)*100,1))","v":"-"},{"$f":"IF(Balance!IR16=\"-\",\"-\",ROUND((Balance!IR16/Balance!IR$19)*100,1))","v":"-"},{"$f":"IF(Balance!IS16=\"-\",\"-\",ROUND((Balance!IS16/Balance!IS$19)*100,1))","v":"-"},{"$f":"IF(Balance!IT16=\"-\",\"-\",ROUND((Balance!IT16/Balance!IT$19)*100,1))","v":"-"},{"$f":"IF(Balance!IU16=\"-\",\"-\",ROUND((Balance!IU16/Balance!IU$19)*100,1))","v":"-"},{"$f":"IF(Balance!IV16=\"-\",\"-\",ROUND((Balance!IV16/Balance!IV$19)*100,1))","v":"-"},{"$f":"IF(Balance!IW16=\"-\",\"-\",ROUND((Balance!IW16/Balance!IW$19)*100,1))","v":"-"},{"$f":"IF(Balance!IX16=\"-\",\"-\",ROUND((Balance!IX16/Balance!IX$19)*100,1))","v":"-"},{"$f":"IF(Balance!IY16=\"-\",\"-\",ROUND((Balance!IY16/Balance!IY$19)*100,1))","v":"-"},{"$f":"IF(Balance!IZ16=\"-\",\"-\",ROUND((Balance!IZ16/Balance!IZ$19)*100,1))","v":"-"},{"$f":"IF(Balance!JA16=\"-\",\"-\",ROUND((Balance!JA16/Balance!JA$19)*100,1))","v":"-"},{"$f":"IF(Balance!JB16=\"-\",\"-\",ROUND((Balance!JB16/Balance!JB$19)*100,1))","v":"-"},{"$f":"IF(Balance!JC16=\"-\",\"-\",ROUND((Balance!JC16/Balance!JC$19)*100,1))","v":"-"},{"$f":"IF(Balance!JD16=\"-\",\"-\",ROUND((Balance!JD16/Balance!JD$19)*100,1))","v":"-"},{"$f":"IF(Balance!JE16=\"-\",\"-\",ROUND((Balance!JE16/Balance!JE$19)*100,1))","v":"-"},{"$f":"IF(Balance!JF16=\"-\",\"-\",ROUND((Balance!JF16/Balance!JF$19)*100,1))","v":"-"},{"$f":"IF(Balance!JG16=\"-\",\"-\",ROUND((Balance!JG16/Balance!JG$19)*100,1))","v":"-"},{"$f":"IF(Balance!JH16=\"-\",\"-\",ROUND((Balance!JH16/Balance!JH$19)*100,1))","v":"-"},{"$f":"IF(Balance!JI16=\"-\",\"-\",ROUND((Balance!JI16/Balance!JI$19)*100,1))","v":"-"},{"$f":"IF(Balance!JJ16=\"-\",\"-\",ROUND((Balance!JJ16/Balance!JJ$19)*100,1))","v":"-"},{"$f":"IF(Balance!JK16=\"-\",\"-\",ROUND((Balance!JK16/Balance!JK$19)*100,1))","v":"-"},{"$f":"IF(Balance!JL16=\"-\",\"-\",ROUND((Balance!JL16/Balance!JL$19)*100,1))","v":"-"},{"$f":"IF(Balance!JM16=\"-\",\"-\",ROUND((Balance!JM16/Balance!JM$19)*100,1))","v":"-"},{"$f":"IF(Balance!JN16=\"-\",\"-\",ROUND((Balance!JN16/Balance!JN$19)*100,1))","v":"-"},{"$f":"IF(Balance!JO16=\"-\",\"-\",ROUND((Balance!JO16/Balance!JO$19)*100,1))","v":"-"},{"$f":"IF(Balance!JP16=\"-\",\"-\",ROUND((Balance!JP16/Balance!JP$19)*100,1))","v":"-"},{"$f":"IF(Balance!JQ16=\"-\",\"-\",ROUND((Balance!JQ16/Balance!JQ$19)*100,1))","v":"-"},{"$f":"IF(Balance!JR16=\"-\",\"-\",ROUND((Balance!JR16/Balance!JR$19)*100,1))","v":"-"},{"$f":"IF(Balance!JS16=\"-\",\"-\",ROUND((Balance!JS16/Balance!JS$19)*100,1))","v":"-"},{"$f":"IF(Balance!JT16=\"-\",\"-\",ROUND((Balance!JT16/Balance!JT$19)*100,1))","v":"-"},{"$f":"IF(Balance!JU16=\"-\",\"-\",ROUND((Balance!JU16/Balance!JU$19)*100,1))","v":"-"},{"$f":"IF(Balance!JV16=\"-\",\"-\",ROUND((Balance!JV16/Balance!JV$19)*100,1))","v":"-"},{"$f":"IF(Balance!JW16=\"-\",\"-\",ROUND((Balance!JW16/Balance!JW$19)*100,1))","v":"-"},{"$f":"IF(Balance!JX16=\"-\",\"-\",ROUND((Balance!JX16/Balance!JX$19)*100,1))","v":"-"},{"$f":"IF(Balance!JY16=\"-\",\"-\",ROUND((Balance!JY16/Balance!JY$19)*100,1))","v":"-"},{"$f":"IF(Balance!JZ16=\"-\",\"-\",ROUND((Balance!JZ16/Balance!JZ$19)*100,1))","v":"-"},{"$f":"IF(Balance!KA16=\"-\",\"-\",ROUND((Balance!KA16/Balance!KA$19)*100,1))","v":"-"},{"$f":"IF(Balance!KB16=\"-\",\"-\",ROUND((Balance!KB16/Balance!KB$19)*100,1))","v":"-"},{"$f":"IF(Balance!KC16=\"-\",\"-\",ROUND((Balance!KC16/Balance!KC$19)*100,1))","v":"-"},{"$f":"IF(Balance!KD16=\"-\",\"-\",ROUND((Balance!KD16/Balance!KD$19)*100,1))","v":"-"},{"$f":"IF(Balance!KE16=\"-\",\"-\",ROUND((Balance!KE16/Balance!KE$19)*100,1))","v":"-"},{"$f":"IF(Balance!KF16=\"-\",\"-\",ROUND((Balance!KF16/Balance!KF$19)*100,1))","v":"-"},{"$f":"IF(Balance!KG16=\"-\",\"-\",ROUND((Balance!KG16/Balance!KG$19)*100,1))","v":"-"},{"$f":"IF(Balance!KH16=\"-\",\"-\",ROUND((Balance!KH16/Balance!KH$19)*100,1))","v":"-"},{"$f":"IF(Balance!KI16=\"-\",\"-\",ROUND((Balance!KI16/Balance!KI$19)*100,1))","v":"-"},{"$f":"IF(Balance!KJ16=\"-\",\"-\",ROUND((Balance!KJ16/Balance!KJ$19)*100,1))","v":"-"},{"$f":"IF(Balance!KK16=\"-\",\"-\",ROUND((Balance!KK16/Balance!KK$19)*100,1))","v":"-"},{"$f":"IF(Balance!KL16=\"-\",\"-\",ROUND((Balance!KL16/Balance!KL$19)*100,1))","v":"-"},{"$f":"IF(Balance!KM16=\"-\",\"-\",ROUND((Balance!KM16/Balance!KM$19)*100,1))","v":"-"},{"$f":"IF(Balance!KN16=\"-\",\"-\",ROUND((Balance!KN16/Balance!KN$19)*100,1))","v":"-"},{"$f":"IF(Balance!KO16=\"-\",\"-\",ROUND((Balance!KO16/Balance!KO$19)*100,1))","v":"-"},{"$f":"IF(Balance!KP16=\"-\",\"-\",ROUND((Balance!KP16/Balance!KP$19)*100,1))","v":"-"},{"$f":"IF(Balance!KQ16=\"-\",\"-\",ROUND((Balance!KQ16/Balance!KQ$19)*100,1))","v":0.8},{"$f":"IF(Balance!KR16=\"-\",\"-\",ROUND((Balance!KR16/Balance!KR$19)*100,1))","v":0.8},{"$f":"IF(Balance!KS16=\"-\",\"-\",ROUND((Balance!KS16/Balance!KS$19)*100,1))","v":0.9},{"$f":"IF(Balance!KT16=\"-\",\"-\",ROUND((Balance!KT16/Balance!KT$19)*100,1))","v":0.8},{"$f":"IF(Balance!KU16=\"-\",\"-\",ROUND((Balance!KU16/Balance!KU$19)*100,1))","v":1},{"$f":"IF(Balance!KV16=\"-\",\"-\",ROUND((Balance!KV16/Balance!KV$19)*100,1))","v":1},{"$f":"IF(Balance!KW16=\"-\",\"-\",ROUND((Balance!KW16/Balance!KW$19)*100,1))","v":0.9},{"$f":"IF(Balance!KX16=\"-\",\"-\",ROUND((Balance!KX16/Balance!KX$19)*100,1))","v":1},{"$f":"IF(Balance!KY16=\"-\",\"-\",ROUND((Balance!KY16/Balance!KY$19)*100,1))","v":1},{"$f":"IF(Balance!KZ16=\"-\",\"-\",ROUND((Balance!KZ16/Balance!KZ$19)*100,1))","v":1.1000000000000001},{"$f":"IF(Balance!LA16=\"-\",\"-\",ROUND((Balance!LA16/Balance!LA$19)*100,1))","v":1},{"$f":"IF(Balance!LB16=\"-\",\"-\",ROUND((Balance!LB16/Balance!LB$19)*100,1))","v":0.9},{"$f":"IF(Balance!LC16=\"-\",\"-\",ROUND((Balance!LC16/Balance!LC$19)*100,1))","v":0.9},{"$f":"IF(Balance!LD16=\"-\",\"-\",ROUND((Balance!LD16/Balance!LD$19)*100,1))","v":0.9},{"$f":"IF(Balance!LE16=\"-\",\"-\",ROUND((Balance!LE16/Balance!LE$19)*100,1))","v":1},{"$f":"IF(Balance!LF16=\"-\",\"-\",ROUND((Balance!LF16/Balance!LF$19)*100,1))","v":0.9},{"$f":"IF(Balance!LG16=\"-\",\"-\",ROUND((Balance!LG16/Balance!LG$19)*100,1))","v":0.7},{"$f":"IF(Balance!LH16=\"-\",\"-\",ROUND((Balance!LH16/Balance!LH$19)*100,1))","v":1},{"$f":"IF(Balance!LI16=\"-\",\"-\",ROUND((Balance!LI16/Balance!LI$19)*100,1))","v":1.1000000000000001},{"$f":"IF(Balance!LJ16=\"-\",\"-\",ROUND((Balance!LJ16/Balance!LJ$19)*100,1))","v":1.2},{"$f":"IF(Balance!LK16=\"-\",\"-\",ROUND((Balance!LK16/Balance!LK$19)*100,1))","v":1.2},{"$f":"IF(Balance!LL16=\"-\",\"-\",ROUND((Balance!LL16/Balance!LL$19)*100,1))","v":1.1000000000000001},{"$f":"IF(Balance!LM16=\"-\",\"-\",ROUND((Balance!LM16/Balance!LM$19)*100,1))","v":1},{"$f":"IF(Balance!LN16=\"-\",\"-\",ROUND((Balance!LN16/Balance!LN$19)*100,1))","v":1},{"$f":"IF(Balance!LO16=\"-\",\"-\",ROUND((Balance!LO16/Balance!LO$19)*100,1))","v":0.9},{"$f":"IF(Balance!LP16=\"-\",\"-\",ROUND((Balance!LP16/Balance!LP$19)*100,1))","v":1},{"$f":"IF(Balance!LQ16=\"-\",\"-\",ROUND((Balance!LQ16/Balance!LQ$19)*100,1))","v":1},{"$f":"IF(Balance!LR16=\"-\",\"-\",ROUND((Balance!LR16/Balance!LR$19)*100,1))","v":0.9},{"$f":"IF(Balance!LS16=\"-\",\"-\",ROUND((Balance!LS16/Balance!LS$19)*100,1))","v":0.9},{"$f":"IF(Balance!LT16=\"-\",\"-\",ROUND((Balance!LT16/Balance!LT$19)*100,1))","v":1},{"$f":"IF(Balance!LU16=\"-\",\"-\",ROUND((Balance!LU16/Balance!LU$19)*100,1))","v":0.9},{"$f":"IF(Balance!LV16=\"-\",\"-\",ROUND((Balance!LV16/Balance!LV$19)*100,1))","v":1.1000000000000001},{"$f":"IF(Balance!LW16=\"-\",\"-\",ROUND((Balance!LW16/Balance!LW$19)*100,1))","v":1.1000000000000001},{"$f":"IF(Balance!LX16=\"-\",\"-\",ROUND((Balance!LX16/Balance!LX$19)*100,1))","v":1.1000000000000001},{"$f":"IF(Balance!LY16=\"-\",\"-\",ROUND((Balance!LY16/Balance!LY$19)*100,1))","v":1},{"$f":"IF(Balance!LZ16=\"-\",\"-\",ROUND((Balance!LZ16/Balance!LZ$19)*100,1))","v":0.9},{"$f":"IF(Balance!MA16=\"-\",\"-\",ROUND((Balance!MA16/Balance!MA$19)*100,1))","v":1},{"$f":"IF(Balance!MB16=\"-\",\"-\",ROUND((Balance!MB16/Balance!MB$19)*100,1))","v":"-"},{"$f":"IF(Balance!MC16=\"-\",\"-\",ROUND((Balance!MC16/Balance!MC$19)*100,1))","v":"-"},{"$f":"IF(Balance!MD16=\"-\",\"-\",ROUND((Balance!MD16/Balance!MD$19)*100,1))","v":"-"},{"$f":"IF(Balance!ME16=\"-\",\"-\",ROUND((Balance!ME16/Balance!ME$19)*100,1))","v":"-"},{"$f":"IF(Balance!MF16=\"-\",\"-\",ROUND((Balance!MF16/Balance!MF$19)*100,1))","v":"-"},{"$f":"IF(Balance!MG16=\"-\",\"-\",ROUND((Balance!MG16/Balance!MG$19)*100,1))","v":"-"},{"$f":"IF(Balance!MH16=\"-\",\"-\",ROUND((Balance!MH16/Balance!MH$19)*100,1))","v":"-"},{"$f":"IF(Balance!MI16=\"-\",\"-\",ROUND((Balance!MI16/Balance!MI$19)*100,1))","v":"-"},{"$f":"IF(Balance!MJ16=\"-\",\"-\",ROUND((Balance!MJ16/Balance!MJ$19)*100,1))","v":"-"},{"$f":"IF(Balance!MK16=\"-\",\"-\",ROUND((Balance!MK16/Balance!MK$19)*100,1))","v":"-"},{"$f":"IF(Balance!ML16=\"-\",\"-\",ROUND((Balance!ML16/Balance!ML$19)*100,1))","v":"-"}]
[null,"Residuos renovables",{"$f":"IF(Balance!C17=\"-\",\"-\",ROUND((Balance!C17/Balance!C$19)*100,1))","v":"-"},{"$f":"IF(Balance!D17=\"-\",\"-\",ROUND((Balance!D17/Balance!D$19)*100,1))","v":"-"},{"$f":"IF(Balance!E17=\"-\",\"-\",ROUND((Balance!E17/Balance!E$19)*100,1))","v":"-"},{"$f":"IF(Balance!F17=\"-\",\"-\",ROUND((Balance!F17/Balance!F$19)*100,1))","v":"-"},{"$f":"IF(Balance!G17=\"-\",\"-\",ROUND((Balance!G17/Balance!G$19)*100,1))","v":"-"},{"$f":"IF(Balance!H17=\"-\",\"-\",ROUND((Balance!H17/Balance!H$19)*100,1))","v":"-"},{"$f":"IF(Balance!I17=\"-\",\"-\",ROUND((Balance!I17/Balance!I$19)*100,1))","v":"-"},{"$f":"IF(Balance!J17=\"-\",\"-\",ROUND((Balance!J17/Balance!J$19)*100,1))","v":"-"},{"$f":"IF(Balance!K17=\"-\",\"-\",ROUND((Balance!K17/Balance!K$19)*100,1))","v":"-"},{"$f":"IF(Balance!L17=\"-\",\"-\",ROUND((Balance!L17/Balance!L$19)*100,1))","v":"-"},{"$f":"IF(Balance!M17=\"-\",\"-\",ROUND((Balance!M17/Balance!M$19)*100,1))","v":"-"},{"$f":"IF(Balance!N17=\"-\",\"-\",ROUND((Balance!N17/Balance!N$19)*100,1))","v":"-"},{"$f":"IF(Balance!O17=\"-\",\"-\",ROUND((Balance!O17/Balance!O$19)*100,1))","v":"-"},{"$f":"IF(Balance!P17=\"-\",\"-\",ROUND((Balance!P17/Balance!P$19)*100,1))","v":"-"},{"$f":"IF(Balance!Q17=\"-\",\"-\",ROUND((Balance!Q17/Balance!Q$19)*100,1))","v":"-"},{"$f":"IF(Balance!R17=\"-\",\"-\",ROUND((Balance!R17/Balance!R$19)*100,1))","v":"-"},{"$f":"IF(Balance!S17=\"-\",\"-\",ROUND((Balance!S17/Balance!S$19)*100,1))","v":"-"},{"$f":"IF(Balance!T17=\"-\",\"-\",ROUND((Balance!T17/Balance!T$19)*100,1))","v":"-"},{"$f":"IF(Balance!U17=\"-\",\"-\",ROUND((Balance!U17/Balance!U$19)*100,1))","v":"-"},{"$f":"IF(Balance!V17=\"-\",\"-\",ROUND((Balance!V17/Balance!V$19)*100,1))","v":"-"},{"$f":"IF(Balance!W17=\"-\",\"-\",ROUND((Balance!W17/Balance!W$19)*100,1))","v":"-"},{"$f":"IF(Balance!X17=\"-\",\"-\",ROUND((Balance!X17/Balance!X$19)*100,1))","v":"-"},{"$f":"IF(Balance!Y17=\"-\",\"-\",ROUND((Balance!Y17/Balance!Y$19)*100,1))","v":"-"},{"$f":"IF(Balance!Z17=\"-\",\"-\",ROUND((Balance!Z17/Balance!Z$19)*100,1))","v":"-"},{"$f":"IF(Balance!AA17=\"-\",\"-\",ROUND((Balance!AA17/Balance!AA$19)*100,1))","v":"-"},{"$f":"IF(Balance!AB17=\"-\",\"-\",ROUND((Balance!AB17/Balance!AB$19)*100,1))","v":"-"},{"$f":"IF(Balance!AC17=\"-\",\"-\",ROUND((Balance!AC17/Balance!AC$19)*100,1))","v":"-"},{"$f":"IF(Balance!AD17=\"-\",\"-\",ROUND((Balance!AD17/Balance!AD$19)*100,1))","v":"-"},{"$f":"IF(Balance!AE17=\"-\",\"-\",ROUND((Balance!AE17/Balance!AE$19)*100,1))","v":"-"},{"$f":"IF(Balance!AF17=\"-\",\"-\",ROUND((Balance!AF17/Balance!AF$19)*100,1))","v":"-"},{"$f":"IF(Balance!AG17=\"-\",\"-\",ROUND((Balance!AG17/Balance!AG$19)*100,1))","v":"-"},{"$f":"IF(Balance!AH17=\"-\",\"-\",ROUND((Balance!AH17/Balance!AH$19)*100,1))","v":"-"},{"$f":"IF(Balance!AI17=\"-\",\"-\",ROUND((Balance!AI17/Balance!AI$19)*100,1))","v":"-"},{"$f":"IF(Balance!AJ17=\"-\",\"-\",ROUND((Balance!AJ17/Balance!AJ$19)*100,1))","v":"-"},{"$f":"IF(Balance!AK17=\"-\",\"-\",ROUND((Balance!AK17/Balance!AK$19)*100,1))","v":"-"},{"$f":"IF(Balance!AL17=\"-\",\"-\",ROUND((Balance!AL17/Balance!AL$19)*100,1))","v":"-"},{"$f":"IF(Balance!AM17=\"-\",\"-\",ROUND((Balance!AM17/Balance!AM$19)*100,1))","v":"-"},{"$f":"IF(Balance!AN17=\"-\",\"-\",ROUND((Balance!AN17/Balance!AN$19)*100,1))","v":"-"},{"$f":"IF(Balance!AO17=\"-\",\"-\",ROUND((Balance!AO17/Balance!AO$19)*100,1))","v":"-"},{"$f":"IF(Balance!AP17=\"-\",\"-\",ROUND((Balance!AP17/Balance!AP$19)*100,1))","v":"-"},{"$f":"IF(Balance!AQ17=\"-\",\"-\",ROUND((Balance!AQ17/Balance!AQ$19)*100,1))","v":"-"},{"$f":"IF(Balance!AR17=\"-\",\"-\",ROUND((Balance!AR17/Balance!AR$19)*100,1))","v":"-"},{"$f":"IF(Balance!AS17=\"-\",\"-\",ROUND((Balance!AS17/Balance!AS$19)*100,1))","v":"-"},{"$f":"IF(Balance!AT17=\"-\",\"-\",ROUND((Balance!AT17/Balance!AT$19)*100,1))","v":"-"},{"$f":"IF(Balance!AU17=\"-\",\"-\",ROUND((Balance!AU17/Balance!AU$19)*100,1))","v":"-"},{"$f":"IF(Balance!AV17=\"-\",\"-\",ROUND((Balance!AV17/Balance!AV$19)*100,1))","v":"-"},{"$f":"IF(Balance!AW17=\"-\",\"-\",ROUND((Balance!AW17/Balance!AW$19)*100,1))","v":"-"},{"$f":"IF(Balance!AX17=\"-\",\"-\",ROUND((Balance!AX17/Balance!AX$19)*100,1))","v":"-"},{"$f":"IF(Balance!AY17=\"-\",\"-\",ROUND((Balance!AY17/Balance!AY$19)*100,1))","v":"-"},{"$f":"IF(Balance!AZ17=\"-\",\"-\",ROUND((Balance!AZ17/Balance!AZ$19)*100,1))","v":"-"},{"$f":"IF(Balance!BA17=\"-\",\"-\",ROUND((Balance!BA17/Balance!BA$19)*100,1))","v":"-"},{"$f":"IF(Balance!BB17=\"-\",\"-\",ROUND((Balance!BB17/Balance!BB$19)*100,1))","v":"-"},{"$f":"IF(Balance!BC17=\"-\",\"-\",ROUND((Balance!BC17/Balance!BC$19)*100,1))","v":"-"},{"$f":"IF(Balance!BD17=\"-\",\"-\",ROUND((Balance!BD17/Balance!BD$19)*100,1))","v":"-"},{"$f":"IF(Balance!BE17=\"-\",\"-\",ROUND((Balance!BE17/Balance!BE$19)*100,1))","v":"-"},{"$f":"IF(Balance!BF17=\"-\",\"-\",ROUND((Balance!BF17/Balance!BF$19)*100,1))","v":"-"},{"$f":"IF(Balance!BG17=\"-\",\"-\",ROUND((Balance!BG17/Balance!BG$19)*100,1))","v":"-"},{"$f":"IF(Balance!BH17=\"-\",\"-\",ROUND((Balance!BH17/Balance!BH$19)*100,1))","v":"-"},{"$f":"IF(Balance!BI17=\"-\",\"-\",ROUND((Balance!BI17/Balance!BI$19)*100,1))","v":"-"},{"$f":"IF(Balance!BJ17=\"-\",\"-\",ROUND((Balance!BJ17/Balance!BJ$19)*100,1))","v":"-"},{"$f":"IF(Balance!BK17=\"-\",\"-\",ROUND((Balance!BK17/Balance!BK$19)*100,1))","v":"-"},{"$f":"IF(Balance!BL17=\"-\",\"-\",ROUND((Balance!BL17/Balance!BL$19)*100,1))","v":"-"},{"$f":"IF(Balance!BM17=\"-\",\"-\",ROUND((Balance!BM17/Balance!BM$19)*100,1))","v":"-"},{"$f":"IF(Balance!BN17=\"-\",\"-\",ROUND((Balance!BN17/Balance!BN$19)*100,1))","v":"-"},{"$f":"IF(Balance!BO17=\"-\",\"-\",ROUND((Balance!BO17/Balance!BO$19)*100,1))","v":"-"},{"$f":"IF(Balance!BP17=\"-\",\"-\",ROUND((Balance!BP17/Balance!BP$19)*100,1))","v":"-"},{"$f":"IF(Balance!BQ17=\"-\",\"-\",ROUND((Balance!BQ17/Balance!BQ$19)*100,1))","v":"-"},{"$f":"IF(Balance!BR17=\"-\",\"-\",ROUND((Balance!BR17/Balance!BR$19)*100,1))","v":"-"},{"$f":"IF(Balance!BS17=\"-\",\"-\",ROUND((Balance!BS17/Balance!BS$19)*100,1))","v":"-"},{"$f":"IF(Balance!BT17=\"-\",\"-\",ROUND((Balance!BT17/Balance!BT$19)*100,1))","v":"-"},{"$f":"IF(Balance!BU17=\"-\",\"-\",ROUND((Balance!BU17/Balance!BU$19)*100,1))","v":"-"},{"$f":"IF(Balance!BV17=\"-\",\"-\",ROUND((Balance!BV17/Balance!BV$19)*100,1))","v":"-"},{"$f":"IF(Balance!BW17=\"-\",\"-\",ROUND((Balance!BW17/Balance!BW$19)*100,1))","v":"-"},{"$f":"IF(Balance!BX17=\"-\",\"-\",ROUND((Balance!BX17/Balance!BX$19)*100,1))","v":"-"},{"$f":"IF(Balance!BY17=\"-\",\"-\",ROUND((Balance!BY17/Balance!BY$19)*100,1))","v":"-"},{"$f":"IF(Balance!BZ17=\"-\",\"-\",ROUND((Balance!BZ17/Balance!BZ$19)*100,1))","v":"-"},{"$f":"IF(Balance!CA17=\"-\",\"-\",ROUND((Balance!CA17/Balance!CA$19)*100,1))","v":"-"},{"$f":"IF(Balance!CB17=\"-\",\"-\",ROUND((Balance!CB17/Balance!CB$19)*100,1))","v":"-"},{"$f":"IF(Balance!CC17=\"-\",\"-\",ROUND((Balance!CC17/Balance!CC$19)*100,1))","v":"-"},{"$f":"IF(Balance!CD17=\"-\",\"-\",ROUND((Balance!CD17/Balance!CD$19)*100,1))","v":"-"},{"$f":"IF(Balance!CE17=\"-\",\"-\",ROUND((Balance!CE17/Balance!CE$19)*100,1))","v":"-"},{"$f":"IF(Balance!CF17=\"-\",\"-\",ROUND((Balance!CF17/Balance!CF$19)*100,1))","v":"-"},{"$f":"IF(Balance!CG17=\"-\",\"-\",ROUND((Balance!CG17/Balance!CG$19)*100,1))","v":"-"},{"$f":"IF(Balance!CH17=\"-\",\"-\",ROUND((Balance!CH17/Balance!CH$19)*100,1))","v":"-"},{"$f":"IF(Balance!CI17=\"-\",\"-\",ROUND((Balance!CI17/Balance!CI$19)*100,1))","v":"-"},{"$f":"IF(Balance!CJ17=\"-\",\"-\",ROUND((Balance!CJ17/Balance!CJ$19)*100,1))","v":"-"},{"$f":"IF(Balance!CK17=\"-\",\"-\",ROUND((Balance!CK17/Balance!CK$19)*100,1))","v":"-"},{"$f":"IF(Balance!CL17=\"-\",\"-\",ROUND((Balance!CL17/Balance!CL$19)*100,1))","v":"-"},{"$f":"IF(Balance!CM17=\"-\",\"-\",ROUND((Balance!CM17/Balance!CM$19)*100,1))","v":"-"},{"$f":"IF(Balance!CN17=\"-\",\"-\",ROUND((Balance!CN17/Balance!CN$19)*100,1))","v":"-"},{"$f":"IF(Balance!CO17=\"-\",\"-\",ROUND((Balance!CO17/Balance!CO$19)*100,1))","v":"-"},{"$f":"IF(Balance!CP17=\"-\",\"-\",ROUND((Balance!CP17/Balance!CP$19)*100,1))","v":"-"},{"$f":"IF(Balance!CQ17=\"-\",\"-\",ROUND((Balance!CQ17/Balance!CQ$19)*100,1))","v":"-"},{"$f":"IF(Balance!CR17=\"-\",\"-\",ROUND((Balance!CR17/Balance!CR$19)*100,1))","v":"-"},{"$f":"IF(Balance!CS17=\"-\",\"-\",ROUND((Balance!CS17/Balance!CS$19)*100,1))","v":"-"},{"$f":"IF(Balance!CT17=\"-\",\"-\",ROUND((Balance!CT17/Balance!CT$19)*100,1))","v":"-"},{"$f":"IF(Balance!CU17=\"-\",\"-\",ROUND((Balance!CU17/Balance!CU$19)*100,1))","v":"-"},{"$f":"IF(Balance!CV17=\"-\",\"-\",ROUND((Balance!CV17/Balance!CV$19)*100,1))","v":"-"},{"$f":"IF(Balance!CW17=\"-\",\"-\",ROUND((Balance!CW17/Balance!CW$19)*100,1))","v":"-"},{"$f":"IF(Balance!CX17=\"-\",\"-\",ROUND((Balance!CX17/Balance!CX$19)*100,1))","v":"-"},{"$f":"IF(Balance!CY17=\"-\",\"-\",ROUND((Balance!CY17/Balance!CY$19)*100,1))","v":"-"},{"$f":"IF(Balance!CZ17=\"-\",\"-\",ROUND((Balance!CZ17/Balance!CZ$19)*100,1))","v":"-"},{"$f":"IF(Balance!DA17=\"-\",\"-\",ROUND((Balance!DA17/Balance!DA$19)*100,1))","v":"-"},{"$f":"IF(Balance!DB17=\"-\",\"-\",ROUND((Balance!DB17/Balance!DB$19)*100,1))","v":"-"},{"$f":"IF(Balance!DC17=\"-\",\"-\",ROUND((Balance!DC17/Balance!DC$19)*100,1))","v":"-"},{"$f":"IF(Balance!DD17=\"-\",\"-\",ROUND((Balance!DD17/Balance!DD$19)*100,1))","v":"-"},{"$f":"IF(Balance!DE17=\"-\",\"-\",ROUND((Balance!DE17/Balance!DE$19)*100,1))","v":"-"},{"$f":"IF(Balance!DF17=\"-\",\"-\",ROUND((Balance!DF17/Balance!DF$19)*100,1))","v":"-"},{"$f":"IF(Balance!DG17=\"-\",\"-\",ROUND((Balance!DG17/Balance!DG$19)*100,1))","v":"-"},{"$f":"IF(Balance!DH17=\"-\",\"-\",ROUND((Balance!DH17/Balance!DH$19)*100,1))","v":"-"},{"$f":"IF(Balance!DI17=\"-\",\"-\",ROUND((Balance!DI17/Balance!DI$19)*100,1))","v":"-"},{"$f":"IF(Balance!DJ17=\"-\",\"-\",ROUND((Balance!DJ17/Balance!DJ$19)*100,1))","v":"-"},{"$f":"IF(Balance!DK17=\"-\",\"-\",ROUND((Balance!DK17/Balance!DK$19)*100,1))","v":"-"},{"$f":"IF(Balance!DL17=\"-\",\"-\",ROUND((Balance!DL17/Balance!DL$19)*100,1))","v":"-"},{"$f":"IF(Balance!DM17=\"-\",\"-\",ROUND((Balance!DM17/Balance!DM$19)*100,1))","v":"-"},{"$f":"IF(Balance!DN17=\"-\",\"-\",ROUND((Balance!DN17/Balance!DN$19)*100,1))","v":"-"},{"$f":"IF(Balance!DO17=\"-\",\"-\",ROUND((Balance!DO17/Balance!DO$19)*100,1))","v":"-"},{"$f":"IF(Balance!DP17=\"-\",\"-\",ROUND((Balance!DP17/Balance!DP$19)*100,1))","v":"-"},{"$f":"IF(Balance!DQ17=\"-\",\"-\",ROUND((Balance!DQ17/Balance!DQ$19)*100,1))","v":"-"},{"$f":"IF(Balance!DR17=\"-\",\"-\",ROUND((Balance!DR17/Balance!DR$19)*100,1))","v":"-"},{"$f":"IF(Balance!DS17=\"-\",\"-\",ROUND((Balance!DS17/Balance!DS$19)*100,1))","v":"-"},{"$f":"IF(Balance!DT17=\"-\",\"-\",ROUND((Balance!DT17/Balance!DT$19)*100,1))","v":"-"},{"$f":"IF(Balance!DU17=\"-\",\"-\",ROUND((Balance!DU17/Balance!DU$19)*100,1))","v":"-"},{"$f":"IF(Balance!DV17=\"-\",\"-\",ROUND((Balance!DV17/Balance!DV$19)*100,1))","v":"-"},{"$f":"IF(Balance!DW17=\"-\",\"-\",ROUND((Balance!DW17/Balance!DW$19)*100,1))","v":"-"},{"$f":"IF(Balance!DX17=\"-\",\"-\",ROUND((Balance!DX17/Balance!DX$19)*100,1))","v":"-"},{"$f":"IF(Balance!DY17=\"-\",\"-\",ROUND((Balance!DY17/Balance!DY$19)*100,1))","v":"-"},{"$f":"IF(Balance!DZ17=\"-\",\"-\",ROUND((Balance!DZ17/Balance!DZ$19)*100,1))","v":"-"},{"$f":"IF(Balance!EA17=\"-\",\"-\",ROUND((Balance!EA17/Balance!EA$19)*100,1))","v":"-"},{"$f":"IF(Balance!EB17=\"-\",\"-\",ROUND((Balance!EB17/Balance!EB$19)*100,1))","v":"-"},{"$f":"IF(Balance!EC17=\"-\",\"-\",ROUND((Balance!EC17/Balance!EC$19)*100,1))","v":"-"},{"$f":"IF(Balance!ED17=\"-\",\"-\",ROUND((Balance!ED17/Balance!ED$19)*100,1))","v":"-"},{"$f":"IF(Balance!EE17=\"-\",\"-\",ROUND((Balance!EE17/Balance!EE$19)*100,1))","v":"-"},{"$f":"IF(Balance!EF17=\"-\",\"-\",ROUND((Balance!EF17/Balance!EF$19)*100,1))","v":"-"},{"$f":"IF(Balance!EG17=\"-\",\"-\",ROUND((Balance!EG17/Balance!EG$19)*100,1))","v":"-"},{"$f":"IF(Balance!EH17=\"-\",\"-\",ROUND((Balance!EH17/Balance!EH$19)*100,1))","v":"-"},{"$f":"IF(Balance!EI17=\"-\",\"-\",ROUND((Balance!EI17/Balance!EI$19)*100,1))","v":"-"},{"$f":"IF(Balance!EJ17=\"-\",\"-\",ROUND((Balance!EJ17/Balance!EJ$19)*100,1))","v":"-"},{"$f":"IF(Balance!EK17=\"-\",\"-\",ROUND((Balance!EK17/Balance!EK$19)*100,1))","v":"-"},{"$f":"IF(Balance!EL17=\"-\",\"-\",ROUND((Balance!EL17/Balance!EL$19)*100,1))","v":"-"},{"$f":"IF(Balance!EM17=\"-\",\"-\",ROUND((Balance!EM17/Balance!EM$19)*100,1))","v":"-"},{"$f":"IF(Balance!EN17=\"-\",\"-\",ROUND((Balance!EN17/Balance!EN$19)*100,1))","v":"-"},{"$f":"IF(Balance!EO17=\"-\",\"-\",ROUND((Balance!EO17/Balance!EO$19)*100,1))","v":"-"},{"$f":"IF(Balance!EP17=\"-\",\"-\",ROUND((Balance!EP17/Balance!EP$19)*100,1))","v":"-"},{"$f":"IF(Balance!EQ17=\"-\",\"-\",ROUND((Balance!EQ17/Balance!EQ$19)*100,1))","v":"-"},{"$f":"IF(Balance!ER17=\"-\",\"-\",ROUND((Balance!ER17/Balance!ER$19)*100,1))","v":"-"},{"$f":"IF(Balance!ES17=\"-\",\"-\",ROUND((Balance!ES17/Balance!ES$19)*100,1))","v":"-"},{"$f":"IF(Balance!ET17=\"-\",\"-\",ROUND((Balance!ET17/Balance!ET$19)*100,1))","v":"-"},{"$f":"IF(Balance!EU17=\"-\",\"-\",ROUND((Balance!EU17/Balance!EU$19)*100,1))","v":"-"},{"$f":"IF(Balance!EV17=\"-\",\"-\",ROUND((Balance!EV17/Balance!EV$19)*100,1))","v":"-"},{"$f":"IF(Balance!EW17=\"-\",\"-\",ROUND((Balance!EW17/Balance!EW$19)*100,1))","v":"-"},{"$f":"IF(Balance!EX17=\"-\",\"-\",ROUND((Balance!EX17/Balance!EX$19)*100,1))","v":"-"},{"$f":"IF(Balance!EY17=\"-\",\"-\",ROUND((Balance!EY17/Balance!EY$19)*100,1))","v":"-"},{"$f":"IF(Balance!EZ17=\"-\",\"-\",ROUND((Balance!EZ17/Balance!EZ$19)*100,1))","v":"-"},{"$f":"IF(Balance!FA17=\"-\",\"-\",ROUND((Balance!FA17/Balance!FA$19)*100,1))","v":"-"},{"$f":"IF(Balance!FB17=\"-\",\"-\",ROUND((Balance!FB17/Balance!FB$19)*100,1))","v":"-"},{"$f":"IF(Balance!FC17=\"-\",\"-\",ROUND((Balance!FC17/Balance!FC$19)*100,1))","v":"-"},{"$f":"IF(Balance!FD17=\"-\",\"-\",ROUND((Balance!FD17/Balance!FD$19)*100,1))","v":"-"},{"$f":"IF(Balance!FE17=\"-\",\"-\",ROUND((Balance!FE17/Balance!FE$19)*100,1))","v":"-"},{"$f":"IF(Balance!FF17=\"-\",\"-\",ROUND((Balance!FF17/Balance!FF$19)*100,1))","v":"-"},{"$f":"IF(Balance!FG17=\"-\",\"-\",ROUND((Balance!FG17/Balance!FG$19)*100,1))","v":"-"},{"$f":"IF(Balance!FH17=\"-\",\"-\",ROUND((Balance!FH17/Balance!FH$19)*100,1))","v":"-"},{"$f":"IF(Balance!FI17=\"-\",\"-\",ROUND((Balance!FI17/Balance!FI$19)*100,1))","v":"-"},{"$f":"IF(Balance!FJ17=\"-\",\"-\",ROUND((Balance!FJ17/Balance!FJ$19)*100,1))","v":"-"},{"$f":"IF(Balance!FK17=\"-\",\"-\",ROUND((Balance!FK17/Balance!FK$19)*100,1))","v":"-"},{"$f":"IF(Balance!FL17=\"-\",\"-\",ROUND((Balance!FL17/Balance!FL$19)*100,1))","v":"-"},{"$f":"IF(Balance!FM17=\"-\",\"-\",ROUND((Balance!FM17/Balance!FM$19)*100,1))","v":"-"},{"$f":"IF(Balance!FN17=\"-\",\"-\",ROUND((Balance!FN17/Balance!FN$19)*100,1))","v":"-"},{"$f":"IF(Balance!FO17=\"-\",\"-\",ROUND((Balance!FO17/Balance!FO$19)*100,1))","v":"-"},{"$f":"IF(Balance!FP17=\"-\",\"-\",ROUND((Balance!FP17/Balance!FP$19)*100,1))","v":"-"},{"$f":"IF(Balance!FQ17=\"-\",\"-\",ROUND((Balance!FQ17/Balance!FQ$19)*100,1))","v":"-"},{"$f":"IF(Balance!FR17=\"-\",\"-\",ROUND((Balance!FR17/Balance!FR$19)*100,1))","v":"-"},{"$f":"IF(Balance!FS17=\"-\",\"-\",ROUND((Balance!FS17/Balance!FS$19)*100,1))","v":"-"},{"$f":"IF(Balance!FT17=\"-\",\"-\",ROUND((Balance!FT17/Balance!FT$19)*100,1))","v":"-"},{"$f":"IF(Balance!FU17=\"-\",\"-\",ROUND((Balance!FU17/Balance!FU$19)*100,1))","v":"-"},{"$f":"IF(Balance!FV17=\"-\",\"-\",ROUND((Balance!FV17/Balance!FV$19)*100,1))","v":"-"},{"$f":"IF(Balance!FW17=\"-\",\"-\",ROUND((Balance!FW17/Balance!FW$19)*100,1))","v":"-"},{"$f":"IF(Balance!FX17=\"-\",\"-\",ROUND((Balance!FX17/Balance!FX$19)*100,1))","v":"-"},{"$f":"IF(Balance!FY17=\"-\",\"-\",ROUND((Balance!FY17/Balance!FY$19)*100,1))","v":"-"},{"$f":"IF(Balance!FZ17=\"-\",\"-\",ROUND((Balance!FZ17/Balance!FZ$19)*100,1))","v":"-"},{"$f":"IF(Balance!GA17=\"-\",\"-\",ROUND((Balance!GA17/Balance!GA$19)*100,1))","v":"-"},{"$f":"IF(Balance!GB17=\"-\",\"-\",ROUND((Balance!GB17/Balance!GB$19)*100,1))","v":"-"},{"$f":"IF(Balance!GC17=\"-\",\"-\",ROUND((Balance!GC17/Balance!GC$19)*100,1))","v":"-"},{"$f":"IF(Balance!GD17=\"-\",\"-\",ROUND((Balance!GD17/Balance!GD$19)*100,1))","v":"-"},{"$f":"IF(Balance!GE17=\"-\",\"-\",ROUND((Balance!GE17/Balance!GE$19)*100,1))","v":"-"},{"$f":"IF(Balance!GF17=\"-\",\"-\",ROUND((Balance!GF17/Balance!GF$19)*100,1))","v":"-"},{"$f":"IF(Balance!GG17=\"-\",\"-\",ROUND((Balance!GG17/Balance!GG$19)*100,1))","v":"-"},{"$f":"IF(Balance!GH17=\"-\",\"-\",ROUND((Balance!GH17/Balance!GH$19)*100,1))","v":"-"},{"$f":"IF(Balance!GI17=\"-\",\"-\",ROUND((Balance!GI17/Balance!GI$19)*100,1))","v":"-"},{"$f":"IF(Balance!GJ17=\"-\",\"-\",ROUND((Balance!GJ17/Balance!GJ$19)*100,1))","v":"-"},{"$f":"IF(Balance!GK17=\"-\",\"-\",ROUND((Balance!GK17/Balance!GK$19)*100,1))","v":"-"},{"$f":"IF(Balance!GL17=\"-\",\"-\",ROUND((Balance!GL17/Balance!GL$19)*100,1))","v":"-"},{"$f":"IF(Balance!GM17=\"-\",\"-\",ROUND((Balance!GM17/Balance!GM$19)*100,1))","v":"-"},{"$f":"IF(Balance!GN17=\"-\",\"-\",ROUND((Balance!GN17/Balance!GN$19)*100,1))","v":"-"},{"$f":"IF(Balance!GO17=\"-\",\"-\",ROUND((Balance!GO17/Balance!GO$19)*100,1))","v":"-"},{"$f":"IF(Balance!GP17=\"-\",\"-\",ROUND((Balance!GP17/Balance!GP$19)*100,1))","v":"-"},{"$f":"IF(Balance!GQ17=\"-\",\"-\",ROUND((Balance!GQ17/Balance!GQ$19)*100,1))","v":"-"},{"$f":"IF(Balance!GR17=\"-\",\"-\",ROUND((Balance!GR17/Balance!GR$19)*100,1))","v":"-"},{"$f":"IF(Balance!GS17=\"-\",\"-\",ROUND((Balance!GS17/Balance!GS$19)*100,1))","v":"-"},{"$f":"IF(Balance!GT17=\"-\",\"-\",ROUND((Balance!GT17/Balance!GT$19)*100,1))","v":"-"},{"$f":"IF(Balance!GU17=\"-\",\"-\",ROUND((Balance!GU17/Balance!GU$19)*100,1))","v":"-"},{"$f":"IF(Balance!GV17=\"-\",\"-\",ROUND((Balance!GV17/Balance!GV$19)*100,1))","v":"-"},{"$f":"IF(Balance!GW17=\"-\",\"-\",ROUND((Balance!GW17/Balance!GW$19)*100,1))","v":"-"},{"$f":"IF(Balance!GX17=\"-\",\"-\",ROUND((Balance!GX17/Balance!GX$19)*100,1))","v":"-"},{"$f":"IF(Balance!GY17=\"-\",\"-\",ROUND((Balance!GY17/Balance!GY$19)*100,1))","v":"-"},{"$f":"IF(Balance!GZ17=\"-\",\"-\",ROUND((Balance!GZ17/Balance!GZ$19)*100,1))","v":"-"},{"$f":"IF(Balance!HA17=\"-\",\"-\",ROUND((Balance!HA17/Balance!HA$19)*100,1))","v":"-"},{"$f":"IF(Balance!HB17=\"-\",\"-\",ROUND((Balance!HB17/Balance!HB$19)*100,1))","v":"-"},{"$f":"IF(Balance!HC17=\"-\",\"-\",ROUND((Balance!HC17/Balance!HC$19)*100,1))","v":"-"},{"$f":"IF(Balance!HD17=\"-\",\"-\",ROUND((Balance!HD17/Balance!HD$19)*100,1))","v":"-"},{"$f":"IF(Balance!HE17=\"-\",\"-\",ROUND((Balance!HE17/Balance!HE$19)*100,1))","v":"-"},{"$f":"IF(Balance!HF17=\"-\",\"-\",ROUND((Balance!HF17/Balance!HF$19)*100,1))","v":"-"},{"$f":"IF(Balance!HG17=\"-\",\"-\",ROUND((Balance!HG17/Balance!HG$19)*100,1))","v":"-"},{"$f":"IF(Balance!HH17=\"-\",\"-\",ROUND((Balance!HH17/Balance!HH$19)*100,1))","v":"-"},{"$f":"IF(Balance!HI17=\"-\",\"-\",ROUND((Balance!HI17/Balance!HI$19)*100,1))","v":"-"},{"$f":"IF(Balance!HJ17=\"-\",\"-\",ROUND((Balance!HJ17/Balance!HJ$19)*100,1))","v":"-"},{"$f":"IF(Balance!HK17=\"-\",\"-\",ROUND((Balance!HK17/Balance!HK$19)*100,1))","v":"-"},{"$f":"IF(Balance!HL17=\"-\",\"-\",ROUND((Balance!HL17/Balance!HL$19)*100,1))","v":"-"},{"$f":"IF(Balance!HM17=\"-\",\"-\",ROUND((Balance!HM17/Balance!HM$19)*100,1))","v":"-"},{"$f":"IF(Balance!HN17=\"-\",\"-\",ROUND((Balance!HN17/Balance!HN$19)*100,1))","v":"-"},{"$f":"IF(Balance!HO17=\"-\",\"-\",ROUND((Balance!HO17/Balance!HO$19)*100,1))","v":"-"},{"$f":"IF(Balance!HP17=\"-\",\"-\",ROUND((Balance!HP17/Balance!HP$19)*100,1))","v":"-"},{"$f":"IF(Balance!HQ17=\"-\",\"-\",ROUND((Balance!HQ17/Balance!HQ$19)*100,1))","v":"-"},{"$f":"IF(Balance!HR17=\"-\",\"-\",ROUND((Balance!HR17/Balance!HR$19)*100,1))","v":"-"},{"$f":"IF(Balance!HS17=\"-\",\"-\",ROUND((Balance!HS17/Balance!HS$19)*100,1))","v":"-"},{"$f":"IF(Balance!HT17=\"-\",\"-\",ROUND((Balance!HT17/Balance!HT$19)*100,1))","v":"-"},{"$f":"IF(Balance!HU17=\"-\",\"-\",ROUND((Balance!HU17/Balance!HU$19)*100,1))","v":"-"},{"$f":"IF(Balance!HV17=\"-\",\"-\",ROUND((Balance!HV17/Balance!HV$19)*100,1))","v":"-"},{"$f":"IF(Balance!HW17=\"-\",\"-\",ROUND((Balance!HW17/Balance!HW$19)*100,1))","v":"-"},{"$f":"IF(Balance!HX17=\"-\",\"-\",ROUND((Balance!HX17/Balance!HX$19)*100,1))","v":"-"},{"$f":"IF(Balance!HY17=\"-\",\"-\",ROUND((Balance!HY17/Balance!HY$19)*100,1))","v":"-"},{"$f":"IF(Balance!HZ17=\"-\",\"-\",ROUND((Balance!HZ17/Balance!HZ$19)*100,1))","v":"-"},{"$f":"IF(Balance!IA17=\"-\",\"-\",ROUND((Balance!IA17/Balance!IA$19)*100,1))","v":"-"},{"$f":"IF(Balance!IB17=\"-\",\"-\",ROUND((Balance!IB17/Balance!IB$19)*100,1))","v":"-"},{"$f":"IF(Balance!IC17=\"-\",\"-\",ROUND((Balance!IC17/Balance!IC$19)*100,1))","v":"-"},{"$f":"IF(Balance!ID17=\"-\",\"-\",ROUND((Balance!ID17/Balance!ID$19)*100,1))","v":"-"},{"$f":"IF(Balance!IE17=\"-\",\"-\",ROUND((Balance!IE17/Balance!IE$19)*100,1))","v":"-"},{"$f":"IF(Balance!IF17=\"-\",\"-\",ROUND((Balance!IF17/Balance!IF$19)*100,1))","v":"-"},{"$f":"IF(Balance!IG17=\"-\",\"-\",ROUND((Balance!IG17/Balance!IG$19)*100,1))","v":"-"},{"$f":"IF(Balance!IH17=\"-\",\"-\",ROUND((Balance!IH17/Balance!IH$19)*100,1))","v":"-"},{"$f":"IF(Balance!II17=\"-\",\"-\",ROUND((Balance!II17/Balance!II$19)*100,1))","v":"-"},{"$f":"IF(Balance!IJ17=\"-\",\"-\",ROUND((Balance!IJ17/Balance!IJ$19)*100,1))","v":"-"},{"$f":"IF(Balance!IK17=\"-\",\"-\",ROUND((Balance!IK17/Balance!IK$19)*100,1))","v":"-"},{"$f":"IF(Balance!IL17=\"-\",\"-\",ROUND((Balance!IL17/Balance!IL$19)*100,1))","v":"-"},{"$f":"IF(Balance!IM17=\"-\",\"-\",ROUND((Balance!IM17/Balance!IM$19)*100,1))","v":"-"},{"$f":"IF(Balance!IN17=\"-\",\"-\",ROUND((Balance!IN17/Balance!IN$19)*100,1))","v":"-"},{"$f":"IF(Balance!IO17=\"-\",\"-\",ROUND((Balance!IO17/Balance!IO$19)*100,1))","v":"-"},{"$f":"IF(Balance!IP17=\"-\",\"-\",ROUND((Balance!IP17/Balance!IP$19)*100,1))","v":"-"},{"$f":"IF(Balance!IQ17=\"-\",\"-\",ROUND((Balance!IQ17/Balance!IQ$19)*100,1))","v":"-"},{"$f":"IF(Balance!IR17=\"-\",\"-\",ROUND((Balance!IR17/Balance!IR$19)*100,1))","v":"-"},{"$f":"IF(Balance!IS17=\"-\",\"-\",ROUND((Balance!IS17/Balance!IS$19)*100,1))","v":"-"},{"$f":"IF(Balance!IT17=\"-\",\"-\",ROUND((Balance!IT17/Balance!IT$19)*100,1))","v":"-"},{"$f":"IF(Balance!IU17=\"-\",\"-\",ROUND((Balance!IU17/Balance!IU$19)*100,1))","v":"-"},{"$f":"IF(Balance!IV17=\"-\",\"-\",ROUND((Balance!IV17/Balance!IV$19)*100,1))","v":"-"},{"$f":"IF(Balance!IW17=\"-\",\"-\",ROUND((Balance!IW17/Balance!IW$19)*100,1))","v":"-"},{"$f":"IF(Balance!IX17=\"-\",\"-\",ROUND((Balance!IX17/Balance!IX$19)*100,1))","v":"-"},{"$f":"IF(Balance!IY17=\"-\",\"-\",ROUND((Balance!IY17/Balance!IY$19)*100,1))","v":"-"},{"$f":"IF(Balance!IZ17=\"-\",\"-\",ROUND((Balance!IZ17/Balance!IZ$19)*100,1))","v":"-"},{"$f":"IF(Balance!JA17=\"-\",\"-\",ROUND((Balance!JA17/Balance!JA$19)*100,1))","v":"-"},{"$f":"IF(Balance!JB17=\"-\",\"-\",ROUND((Balance!JB17/Balance!JB$19)*100,1))","v":"-"},{"$f":"IF(Balance!JC17=\"-\",\"-\",ROUND((Balance!JC17/Balance!JC$19)*100,1))","v":"-"},{"$f":"IF(Balance!JD17=\"-\",\"-\",ROUND((Balance!JD17/Balance!JD$19)*100,1))","v":"-"},{"$f":"IF(Balance!JE17=\"-\",\"-\",ROUND((Balance!JE17/Balance!JE$19)*100,1))","v":"-"},{"$f":"IF(Balance!JF17=\"-\",\"-\",ROUND((Balance!JF17/Balance!JF$19)*100,1))","v":"-"},{"$f":"IF(Balance!JG17=\"-\",\"-\",ROUND((Balance!JG17/Balance!JG$19)*100,1))","v":"-"},{"$f":"IF(Balance!JH17=\"-\",\"-\",ROUND((Balance!JH17/Balance!JH$19)*100,1))","v":"-"},{"$f":"IF(Balance!JI17=\"-\",\"-\",ROUND((Balance!JI17/Balance!JI$19)*100,1))","v":"-"},{"$f":"IF(Balance!JJ17=\"-\",\"-\",ROUND((Balance!JJ17/Balance!JJ$19)*100,1))","v":"-"},{"$f":"IF(Balance!JK17=\"-\",\"-\",ROUND((Balance!JK17/Balance!JK$19)*100,1))","v":"-"},{"$f":"IF(Balance!JL17=\"-\",\"-\",ROUND((Balance!JL17/Balance!JL$19)*100,1))","v":"-"},{"$f":"IF(Balance!JM17=\"-\",\"-\",ROUND((Balance!JM17/Balance!JM$19)*100,1))","v":"-"},{"$f":"IF(Balance!JN17=\"-\",\"-\",ROUND((Balance!JN17/Balance!JN$19)*100,1))","v":"-"},{"$f":"IF(Balance!JO17=\"-\",\"-\",ROUND((Balance!JO17/Balance!JO$19)*100,1))","v":"-"},{"$f":"IF(Balance!JP17=\"-\",\"-\",ROUND((Balance!JP17/Balance!JP$19)*100,1))","v":"-"},{"$f":"IF(Balance!JQ17=\"-\",\"-\",ROUND((Balance!JQ17/Balance!JQ$19)*100,1))","v":"-"},{"$f":"IF(Balance!JR17=\"-\",\"-\",ROUND((Balance!JR17/Balance!JR$19)*100,1))","v":"-"},{"$f":"IF(Balance!JS17=\"-\",\"-\",ROUND((Balance!JS17/Balance!JS$19)*100,1))","v":"-"},{"$f":"IF(Balance!JT17=\"-\",\"-\",ROUND((Balance!JT17/Balance!JT$19)*100,1))","v":"-"},{"$f":"IF(Balance!JU17=\"-\",\"-\",ROUND((Balance!JU17/Balance!JU$19)*100,1))","v":"-"},{"$f":"IF(Balance!JV17=\"-\",\"-\",ROUND((Balance!JV17/Balance!JV$19)*100,1))","v":"-"},{"$f":"IF(Balance!JW17=\"-\",\"-\",ROUND((Balance!JW17/Balance!JW$19)*100,1))","v":"-"},{"$f":"IF(Balance!JX17=\"-\",\"-\",ROUND((Balance!JX17/Balance!JX$19)*100,1))","v":"-"},{"$f":"IF(Balance!JY17=\"-\",\"-\",ROUND((Balance!JY17/Balance!JY$19)*100,1))","v":"-"},{"$f":"IF(Balance!JZ17=\"-\",\"-\",ROUND((Balance!JZ17/Balance!JZ$19)*100,1))","v":"-"},{"$f":"IF(Balance!KA17=\"-\",\"-\",ROUND((Balance!KA17/Balance!KA$19)*100,1))","v":"-"},{"$f":"IF(Balance!KB17=\"-\",\"-\",ROUND((Balance!KB17/Balance!KB$19)*100,1))","v":"-"},{"$f":"IF(Balance!KC17=\"-\",\"-\",ROUND((Balance!KC17/Balance!KC$19)*100,1))","v":"-"},{"$f":"IF(Balance!KD17=\"-\",\"-\",ROUND((Balance!KD17/Balance!KD$19)*100,1))","v":"-"},{"$f":"IF(Balance!KE17=\"-\",\"-\",ROUND((Balance!KE17/Balance!KE$19)*100,1))","v":"-"},{"$f":"IF(Balance!KF17=\"-\",\"-\",ROUND((Balance!KF17/Balance!KF$19)*100,1))","v":"-"},{"$f":"IF(Balance!KG17=\"-\",\"-\",ROUND((Balance!KG17/Balance!KG$19)*100,1))","v":"-"},{"$f":"IF(Balance!KH17=\"-\",\"-\",ROUND((Balance!KH17/Balance!KH$19)*100,1))","v":"-"},{"$f":"IF(Balance!KI17=\"-\",\"-\",ROUND((Balance!KI17/Balance!KI$19)*100,1))","v":"-"},{"$f":"IF(Balance!KJ17=\"-\",\"-\",ROUND((Balance!KJ17/Balance!KJ$19)*100,1))","v":"-"},{"$f":"IF(Balance!KK17=\"-\",\"-\",ROUND((Balance!KK17/Balance!KK$19)*100,1))","v":"-"},{"$f":"IF(Balance!KL17=\"-\",\"-\",ROUND((Balance!KL17/Balance!KL$19)*100,1))","v":"-"},{"$f":"IF(Balance!KM17=\"-\",\"-\",ROUND((Balance!KM17/Balance!KM$19)*100,1))","v":"-"},{"$f":"IF(Balance!KN17=\"-\",\"-\",ROUND((Balance!KN17/Balance!KN$19)*100,1))","v":"-"},{"$f":"IF(Balance!KO17=\"-\",\"-\",ROUND((Balance!KO17/Balance!KO$19)*100,1))","v":"-"},{"$f":"IF(Balance!KP17=\"-\",\"-\",ROUND((Balance!KP17/Balance!KP$19)*100,1))","v":"-"},{"$f":"IF(Balance!KQ17=\"-\",\"-\",ROUND((Balance!KQ17/Balance!KQ$19)*100,1))","v":0.2},{"$f":"IF(Balance!KR17=\"-\",\"-\",ROUND((Balance!KR17/Balance!KR$19)*100,1))","v":0.2},{"$f":"IF(Balance!KS17=\"-\",\"-\",ROUND((Balance!KS17/Balance!KS$19)*100,1))","v":0.3},{"$f":"IF(Balance!KT17=\"-\",\"-\",ROUND((Balance!KT17/Balance!KT$19)*100,1))","v":0.2},{"$f":"IF(Balance!KU17=\"-\",\"-\",ROUND((Balance!KU17/Balance!KU$19)*100,1))","v":0.2},{"$f":"IF(Balance!KV17=\"-\",\"-\",ROUND((Balance!KV17/Balance!KV$19)*100,1))","v":0.3},{"$f":"IF(Balance!KW17=\"-\",\"-\",ROUND((Balance!KW17/Balance!KW$19)*100,1))","v":0.2},{"$f":"IF(Balance!KX17=\"-\",\"-\",ROUND((Balance!KX17/Balance!KX$19)*100,1))","v":0.3},{"$f":"IF(Balance!KY17=\"-\",\"-\",ROUND((Balance!KY17/Balance!KY$19)*100,1))","v":0.3},{"$f":"IF(Balance!KZ17=\"-\",\"-\",ROUND((Balance!KZ17/Balance!KZ$19)*100,1))","v":0.3},{"$f":"IF(Balance!LA17=\"-\",\"-\",ROUND((Balance!LA17/Balance!LA$19)*100,1))","v":0.3},{"$f":"IF(Balance!LB17=\"-\",\"-\",ROUND((Balance!LB17/Balance!LB$19)*100,1))","v":0.3},{"$f":"IF(Balance!LC17=\"-\",\"-\",ROUND((Balance!LC17/Balance!LC$19)*100,1))","v":0.3},{"$f":"IF(Balance!LD17=\"-\",\"-\",ROUND((Balance!LD17/Balance!LD$19)*100,1))","v":0.2},{"$f":"IF(Balance!LE17=\"-\",\"-\",ROUND((Balance!LE17/Balance!LE$19)*100,1))","v":0.3},{"$f":"IF(Balance!LF17=\"-\",\"-\",ROUND((Balance!LF17/Balance!LF$19)*100,1))","v":0.1},{"$f":"IF(Balance!LG17=\"-\",\"-\",ROUND((Balance!LG17/Balance!LG$19)*100,1))","v":0.1},{"$f":"IF(Balance!LH17=\"-\",\"-\",ROUND((Balance!LH17/Balance!LH$19)*100,1))","v":0.3},{"$f":"IF(Balance!LI17=\"-\",\"-\",ROUND((Balance!LI17/Balance!LI$19)*100,1))","v":0.3},{"$f":"IF(Balance!LJ17=\"-\",\"-\",ROUND((Balance!LJ17/Balance!LJ$19)*100,1))","v":0.3},{"$f":"IF(Balance!LK17=\"-\",\"-\",ROUND((Balance!LK17/Balance!LK$19)*100,1))","v":0.3},{"$f":"IF(Balance!LL17=\"-\",\"-\",ROUND((Balance!LL17/Balance!LL$19)*100,1))","v":0.3},{"$f":"IF(Balance!LM17=\"-\",\"-\",ROUND((Balance!LM17/Balance!LM$19)*100,1))","v":0.3},{"$f":"IF(Balance!LN17=\"-\",\"-\",ROUND((Balance!LN17/Balance!LN$19)*100,1))","v":0.3},{"$f":"IF(Balance!LO17=\"-\",\"-\",ROUND((Balance!LO17/Balance!LO$19)*100,1))","v":0.3},{"$f":"IF(Balance!LP17=\"-\",\"-\",ROUND((Balance!LP17/Balance!LP$19)*100,1))","v":0.3},{"$f":"IF(Balance!LQ17=\"-\",\"-\",ROUND((Balance!LQ17/Balance!LQ$19)*100,1))","v":0.3},{"$f":"IF(Balance!LR17=\"-\",\"-\",ROUND((Balance!LR17/Balance!LR$19)*100,1))","v":0.3},{"$f":"IF(Balance!LS17=\"-\",\"-\",ROUND((Balance!LS17/Balance!LS$19)*100,1))","v":0.2},{"$f":"IF(Balance!LT17=\"-\",\"-\",ROUND((Balance!LT17/Balance!LT$19)*100,1))","v":0.3},{"$f":"IF(Balance!LU17=\"-\",\"-\",ROUND((Balance!LU17/Balance!LU$19)*100,1))","v":0.3},{"$f":"IF(Balance!LV17=\"-\",\"-\",ROUND((Balance!LV17/Balance!LV$19)*100,1))","v":0.3},{"$f":"IF(Balance!LW17=\"-\",\"-\",ROUND((Balance!LW17/Balance!LW$19)*100,1))","v":0.3},{"$f":"IF(Balance!LX17=\"-\",\"-\",ROUND((Balance!LX17/Balance!LX$19)*100,1))","v":0.3},{"$f":"IF(Balance!LY17=\"-\",\"-\",ROUND((Balance!LY17/Balance!LY$19)*100,1))","v":0.3},{"$f":"IF(Balance!LZ17=\"-\",\"-\",ROUND((Balance!LZ17/Balance!LZ$19)*100,1))","v":0.3},{"$f":"IF(Balance!MA17=\"-\",\"-\",ROUND((Balance!MA17/Balance!MA$19)*100,1))","v":0.3},{"$f":"IF(Balance!MB17=\"-\",\"-\",ROUND((Balance!MB17/Balance!MB$19)*100,1))","v":"-"},{"$f":"IF(Balance!MC17=\"-\",\"-\",ROUND((Balance!MC17/Balance!MC$19)*100,1))","v":"-"},{"$f":"IF(Balance!MD17=\"-\",\"-\",ROUND((Balance!MD17/Balance!MD$19)*100,1))","v":"-"},{"$f":"IF(Balance!ME17=\"-\",\"-\",ROUND((Balance!ME17/Balance!ME$19)*100,1))","v":"-"},{"$f":"IF(Balance!MF17=\"-\",\"-\",ROUND((Balance!MF17/Balance!MF$19)*100,1))","v":"-"},{"$f":"IF(Balance!MG17=\"-\",\"-\",ROUND((Balance!MG17/Balance!MG$19)*100,1))","v":"-"},{"$f":"IF(Balance!MH17=\"-\",\"-\",ROUND((Balance!MH17/Balance!MH$19)*100,1))","v":"-"},{"$f":"IF(Balance!MI17=\"-\",\"-\",ROUND((Balance!MI17/Balance!MI$19)*100,1))","v":"-"},{"$f":"IF(Balance!MJ17=\"-\",\"-\",ROUND((Balance!MJ17/Balance!MJ$19)*100,1))","v":"-"},{"$f":"IF(Balance!MK17=\"-\",\"-\",ROUND((Balance!MK17/Balance!MK$19)*100,1))","v":"-"},{"$f":"IF(Balance!ML17=\"-\",\"-\",ROUND((Balance!ML17/Balance!ML$19)*100,1))","v":"-"}]
[null,"Generación renovable",{"$f":"SUM(C3,C9:C12,C15)","v":30},{"$f":"SUM(D3,D9:D12,D15)","v":31.1},21.3,16.600000000000001,17.399999999999999,16.8,13.8,12,11.1,12.7,16.8,15.2,19.600000000000001,16.600000000000001,32.6,31.1,25.3,19.2,14.4,10.8,9.8000000000000007,13.1,16.3,14.9,9.6999999999999993,6.3,6.4,14,13.3,14.9,13.7,10.6,10.7,15.7,18.8,23.400000000000002,16.600000000000001,12.799999999999999,11.799999999999999,10.6,17,20,16.100000000000001,11.5,10.6,24.1,28.1,21.3,28.700000000000003,25.7,23.6,20.900000000000002,22.9,20.6,14.6,11.9,11,13.700000000000001,20,15,21.2,23.5,25.3,17,15,{"$f":"SUM(BP3,BP9:BP12,BP15)","v":14.8},13.1,9.6999999999999993,8.3000000000000007,8.6999999999999993,10.5,18.900000000000002,40.1,40.800000000000004,27.9,33.000000000000007,32.4,24.400000000000002,18.400000000000002,14.1,15.6,14.7,17.599999999999998,31.3,37.299999999999997,28.8,21.4,18.499999999999996,17.7,18.8,15.5,13.8,12.600000000000001,11.8,25.7,36.1,40.300000000000004,31.099999999999998,20.7,27.4,31.5,26,18.3,16.5,14.1,15.5,12,9.6000000000000014,10.200000000000001,11.1,15.4,18.2,22.4,19.099999999999998,14.1,11.7,12,13.6,20.399999999999999,19.399999999999999,16.5,12.9,12.1,17.899999999999999,23.599999999999998,17.299999999999997,13.2,13.7,13.799999999999999,{"$f":"SUM(EB3,EB9:EB12,EB15)","v":14.2},18.700000000000003,29.900000000000002,37.700000000000003,38.9,42.2,34.1,24.400000000000002,18.7,15.1,14.700000000000001,13.9,15,16.8,12.4,10.8,12.299999999999999,16.3,15.7,16.8,15.2,11.8,10.5,9.6999999999999993,12.399999999999999,17.7,29.7,34.6,29,30,30.099999999999998,26.6,16.899999999999999,14.1,11.4,14,17.2,24.000000000000004,31.900000000000002,26.8,22.999999999999996,21.900000000000002,24.500000000000004,23.6,19.599999999999998,15.2,15.2,14.4,17.8,19.5,17.399999999999999,16,16.3,17.400000000000002,21.500000000000004,19.599999999999998,15.5,14,14.6,11,14.3,16.2,18.2,13.8,{"$f":"SUM(GN3,GN9:GN12,GN15)","v":14.599999999999998},25.8,25.6,19.299999999999997,14.3,12,16.3,12.9,19.599999999999998,25.3,31,18.900000000000002,27.900000000000002,31.1,21.3,26.099999999999998,19.999999999999996,19.599999999999998,20.299999999999997,16.599999999999998,17.100000000000001,18.2,15.6,17.099999999999998,13.8,22.9,28,24.900000000000002,25.3,19.5,17.8,17.899999999999999,18.3,24,27,24.9,33.6,31.2,30.4,30.4,24.700000000000003,21.700000000000003,20.700000000000003,19.700000000000003,24.1,33.800000000000004,36.5,40.300000000000004,40.199999999999996,46.3,39.20000000000001,40,33.200000000000003,28,26.8,22,29.099999999999998,33.300000000000004,38.000000000000007,39.9,36,39.799999999999997,39.100000000000009,34.6,{"$f":"SUM(IZ3,IZ9:IZ12,IZ15)","v":29.800000000000004},28.200000000000003,25.6,22.299999999999997,26.4,31.5,33.699999999999996,26,30.000000000000004,28.700000000000003,38.499999999999993,36.1,33.199999999999996,28.9,27.5,29.7,26.7,34.699999999999996,39.200000000000003,43.3,45.8,50.4,53.800000000000004,47.2,44.7,33.300000000000004,34.9,31.900000000000002,34.099999999999994,47.3,36.699999999999996,50.599999999999994,57.9,54.2,52.1,44.3,37.9,36.700000000000003,33.799999999999997,25.799999999999997,30.799999999999997,41.199999999999996,40.5,35.9,46.9,45.699999999999996,40.200000000000003,47.6,35.199999999999996,30.099999999999994,30.8,30.499999999999996,33.5,33.5,28,45.199999999999996,52.800000000000004,50.800000000000004,53,54,42.1,36.099999999999994,37.099999999999994,30.200000000000003,{"$f":"SUM(LL3,LL9:LL12,LL15)","v":25.299999999999997},30.4,25.800000000000004,32.4,38.499999999999993,43.4,41.29999999999999,37.500000000000007,32.199999999999996,31,30.6,30,26.799999999999997,27.299999999999997,34.199999999999996,{"$f":"SUM(MA3,MA9:MA12,MA15)","v":38.4},"-","-","-","-","-","-","-","-","-","-","-"]
[null,"Generación no renovable",{"$f":"SUM(C4:C8,C13:C14)","v":70},{"$f":"SUM(D4:D8,D13:D14)","v":68.899999999999991},78.700000000000017,83.4,82.6,83.2,86.199999999999989,88,88.9,87.299999999999983,83.2,84.800000000000011,80.400000000000006,83.4,67.399999999999991,68.900000000000006,74.699999999999989,80.800000000000011,85.6,89.199999999999989,90.200000000000017,86.9,83.7,85.100000000000009,90.3,93.7,93.6,86,86.700000000000017,85.100000000000009,86.3,89.4,89.300000000000011,84.3,81.2,76.599999999999994,83.4,87.2,88.2,89.4,83,80,83.9,88.500000000000014,89.4,75.900000000000006,71.90000000000002,78.700000000000017,71.300000000000011,74.3,76.40000000000002,79.100000000000023,77.100000000000009,79.400000000000006,85.399999999999991,88.100000000000009,89,86.300000000000011,80.000000000000014,85,78.800000000000011,76.500000000000014,74.7,83,85.000000000000014,{"$f":"SUM(BP4:BP8,BP13:BP14)","v":85.2},86.899999999999991,90.300000000000011,91.7,91.3,89.5,81.100000000000009,59.9,59.199999999999982,72.099999999999994,67,67.599999999999994,75.599999999999994,81.600000000000009,85.9,84.399999999999991,85.3,82.399999999999991,68.699999999999989,62.7,71.2,78.600000000000009,81.5,82.3,81.200000000000017,84.5,86.199999999999989,87.4,88.199999999999989,74.3,63.89999999999997,59.699999999999989,68.900000000000006,79.3,72.599999999999994,68.5,74,81.7,83.5,85.899999999999991,84.499999999999986,87.999999999999986,90.399999999999977,89.8,88.899999999999991,84.6,81.799999999999983,77.600000000000009,80.899999999999991,85.899999999999991,88.299999999999983,88.000000000000014,86.4,79.599999999999994,80.59999999999998,83.499999999999986,87.1,87.9,82.1,76.399999999999991,82.7,86.8,86.300000000000011,86.199999999999989,{"$f":"SUM(EB4:EB8,EB13:EB14)","v":85.800000000000011},81.300000000000011,70.099999999999994,62.300000000000011,61.1,57.8,65.900000000000006,75.600000000000009,81.3,84.9,85.299999999999983,86.100000000000009,85,83.2,87.6,89.2,87.700000000000017,83.7,84.299999999999983,83.199999999999989,84.800000000000011,88.2,89.5,90.3,87.59999999999998,82.3,70.3,65.400000000000006,71,70,69.900000000000006,73.400000000000006,83.1,85.899999999999991,88.600000000000009,86,82.799999999999983,76,68.099999999999994,73.2,77,78.099999999999994,75.499999999999986,76.40000000000002,80.399999999999991,84.800000000000011,84.8,85.600000000000009,82.199999999999989,80.500000000000014,82.6,84.000000000000014,83.7,82.6,78.5,80.399999999999991,84.5,86.000000000000014,85.4,89,85.7,83.800000000000011,81.800000000000011,86.199999999999989,{"$f":"SUM(GN4:GN8,GN13:GN14)","v":85.399999999999991},74.2,74.400000000000006,80.699999999999989,85.699999999999989,88.000000000000014,83.7,87.100000000000009,80.399999999999991,74.700000000000017,69,81.100000000000009,72.099999999999994,68.90000000000002,78.7,73.899999999999991,80,80.399999999999991,79.7,83.399999999999991,82.899999999999991,81.8,84.399999999999991,82.899999999999991,86.199999999999989,77.099999999999994,72,75.099999999999994,74.700000000000017,80.499999999999986,82.199999999999989,82.100000000000009,81.699999999999989,76,72.999999999999986,75.099999999999994,66.400000000000006,68.799999999999983,69.599999999999994,69.599999999999994,75.3,78.3,79.300000000000011,80.3,75.90000000000002,66.200000000000017,63.500000000000014,59.7,59.800000000000011,53.7,60.800000000000004,60,66.800000000000011,72,73.199999999999989,78,70.900000000000006,66.7,62,60.1,63.999999999999993,60.2,60.900000000000006,65.400000000000006,{"$f":"SUM(IZ4:IZ8,IZ13:IZ14)","v":70.200000000000031},71.800000000000011,74.400000000000006,77.7,73.599999999999994,68.5,66.3,74.000000000000014,70,71.300000000000011,61.499999999999993,63.9,66.799999999999983,71.09999999999998,72.5,70.300000000000011,73.299999999999983,65.300000000000011,60.800000000000004,56.70000000000001,54.199999999999989,49.600000000000009,46.199999999999996,52.800000000000004,55.3,66.7,65.099999999999994,68.099999999999994,65.899999999999991,52.699999999999982,63.3,49.400000000000006,42.099999999999994,45.800000000000004,47.9,55.699999999999989,62.099999999999994,63.3,66.2,74.2,69.199999999999989,58.800000000000011,59.5,64.099999999999994,53.099999999999994,54.300000000000004,59.8,52.4,64.800000000000011,69.899999999999977,69.199999999999989,69.499999999999972,66.500000000000014,66.5,72,54.79999999999999,47.2,49.20000000000001,47,46,57.899999999999991,63.900000000000013,62.90000000000002,69.8,{"$f":"SUM(LL4:LL8,LL13:LL14)","v":74.699999999999989},69.599999999999994,74.200000000000017,67.600000000000023,61.499999999999993,56.599999999999994,58.699999999999989,62.499999999999979,67.800000000000011,69.000000000000014,69.400000000000006,70.000000000000014,73.199999999999989,72.699999999999989,65.800000000000011,{"$f":"SUM(MA4:MA8,MA13:MA14)","v":61.599999999999994},"-","-","-","-","-","-","-","-","-","-","-"]
[]
[null,"Estructura de generación mensual Islas Baleares (%)","2006-01-01","2006-02-01","2006-03-01","2006-04-01","2006-05-01","2006-06-01","2006-07-01","2006-08-01","2006-09-01","2006-10-01","2006-11-01","2006-12-01","2007-01-01","2007-02-01","2007-03-01","2007-04-01","2007-05-01","2007-06-01","2007-07-01","2007-08-01","2007-09-01","2007-10-01","2007-11-01","2007-12-01","2008-01-01","2008-02-01","2008-03-01","2008-04-01","2008-05-01","2008-06-01","2008-07-01","2008-08-01","2008-09-01","2008-10-01","2008-11-01","2008-12-01","2009-01-01","2009-02-01","2009-03-01","2009-04-01","2009-05-01","2009-06-01","2009-07-01","2009-08-01","2009-09-01","2009-10-01","2009-11-01","2009-12-01","2010-01-01","2010-02-01","2010-03-01","2010-04-01","2010-05-01","2010-06-01","2010-07-01","2010-08-01","2010-09-01","2010-10-01","2010-11-01","2010-12-01","2011-01-01","2011-02-01","2011-03-01","2011-04-01","2011-05-01","2011-06-01","2011-07-01","2011-08-01","2011-09-01","2011-10-01","2011-11-01","2011-12-01","2012-01-01","2012-02-01","2012-03-01","2012-04-01","2012-05-01","2012-06-01","2012-07-01","2012-08-01","2012-09-01","2012-10-01","2012-11-01","2012-12-01","2013-01-01","2013-02-01","2013-03-01","2013-04-01","2013-05-01","2013-06-01","2013-07-01","2013-08-01","2013-09-01","2013-10-01","2013-11-01","2013-12-01","2014-01-01","2014-02-01","2014-03-01","2014-04-01","2014-05-01","2014-06-01","2014-07-01","2014-08-01","2014-09-01","2014-10-01","2014-11-01","2014-12-01","2015-01-01","2015-02-01","2015-03-01","2015-04-01","2015-05-01","2015-06-01","2015-07-01","2015-08-01","2015-09-01","2015-10-01","2015-11-01","2015-12-01","2016-01-01","2016-02-01","2016-03-01","2016-04-01","2016-05-01","2016-06-01","2016-07-01","2016-08-01","2016-09-01","2016-10-01","2016-11-01","2016-12-01","2017-01-01","2017-02-01","2017-03-01","2017-04-01","2017-05-01","2017-06-01","2017-07-01","2017-08-01","2017-09-01","2017-10-01","2017-11-01","2017-12-01","2018-01-01","2018-02-01","2018-03-01","2018-04-01","2018-05-01","2018-06-01","2018-07-01","2018-08-01","2018-09-01","2018-10-01","2018-11-01","2018-12-01"]
[null,"Carbón",{"$f":"100-SUM(C21:C30)","v":56.7},{"$f":"100-SUM(D21:D30)","v":54.599999999999994},61.1,61.699999999999996,59.6,55.199999999999996,45.900000000000006,46.4,48.3,38.199999999999996,53.800000000000004,59,53.3,53.699999999999996,47.699999999999996,61.1,48.499999999999993,41.800000000000004,44.9,46.9,49.300000000000004,48.29999999999999,45.8,53.9,58.8,58.099999999999994,56.4,49.699999999999996,52.099999999999994,53.8,46.000000000000007,46.099999999999994,51.6,51.8,49.9,37.200000000000003,36.29999999999999,59.099999999999994,49.8,55.4,58.5,54.399999999999991,45.699999999999996,47.000000000000007,49.599999999999994,62.3,66.3,61.2,58.699999999999996,55.6,60,65.5,52.499999999999993,58.599999999999994,46.3,45.8,54.8,48.8,47.699999999999996,47.1,56.699999999999989,51.8,29.300000000000011,49.199999999999996,52.800000000000004,{"$f":"100-SUM(BP21:BP30)","v":50.599999999999994},48.9,44.5,48.7,44.3,45,56.6,57.9,45.699999999999996,56.199999999999996,55.699999999999996,54.5,48.9,47.3,44.8,53.400000000000006,48.8,53,52.5,54,51.9,54.6,56.8,52.5,54.699999999999996,51.9,52.3,57.499999999999993,48.199999999999996,54.8,52.499999999999993,55.900000000000006,50.400000000000006,49.2,56.300000000000004,55.3,53.800000000000004,52.499999999999993,51.499999999999993,53.699999999999996,44.2,31.5,53.29999999999999,53.099999999999994,53.399999999999991,51.400000000000006,22.899999999999991,33.299999999999997,46.300000000000004,42.399999999999991,51.599999999999994,49.3,23.700000000000003,34.700000000000003,31.699999999999989,35.599999999999994,31.900000000000006,30.900000000000006,46.399999999999991,53.8,55.1,57.300000000000004,53.199999999999989,55.899999999999991,{"$f":"100-SUM(EB21:EB30)","v":57.999999999999993},55.5,58.79999999999999,58,56.999999999999993,53.29999999999999,52.899999999999991,55.1,58,52.29999999999999,49.1,56.4,51.29999999999999,45.8,55.599999999999987,{"$f":"100-SUM(EQ21:EQ30)","v":55.6},{"$f":"IF(Balance!ER28=\"-\",\"-\",ROUND((Balance!ER28/Balance!ER$40)*100,1))","v":"-"},{"$f":"IF(Balance!ES28=\"-\",\"-\",ROUND((Balance!ES28/Balance!ES$40)*100,1))","v":"-"},{"$f":"IF(Balance!ET28=\"-\",\"-\",ROUND((Balance!ET28/Balance!ET$40)*100,1))","v":"-"},{"$f":"IF(Balance!EU28=\"-\",\"-\",ROUND((Balance!EU28/Balance!EU$40)*100,1))","v":"-"},{"$f":"IF(Balance!EV28=\"-\",\"-\",ROUND((Balance!EV28/Balance!EV$40)*100,1))","v":"-"},{"$f":"IF(Balance!EW28=\"-\",\"-\",ROUND((Balance!EW28/Balance!EW$40)*100,1))","v":"-"},{"$f":"IF(Balance!EX28=\"-\",\"-\",ROUND((Balance!EX28/Balance!EX$40)*100,1))","v":"-"},{"$f":"IF(Balance!EY28=\"-\",\"-\",ROUND((Balance!EY28/Balance!EY$40)*100,1))","v":"-"},{"$f":"IF(Balance!EZ28=\"-\",\"-\",ROUND((Balance!EZ28/Balance!EZ$40)*100,1))","v":"-"},{"$f":"IF(Balance!FA28=\"-\",\"-\",ROUND((Balance!FA28/Balance!FA$40)*100,1))","v":"-"},{"$f":"IF(Balance!FB28=\"-\",\"-\",ROUND((Balance!FB28/Balance!FB$40)*100,1))","v":"-"}]
[null,"Motores diesel",{"$f":"IF(Balance!C27=0,\"-\",ROUND((Balance!C27/Balance!C$40)*100,1))","v":16},{"$f":"IF(Balance!D27=0,\"-\",ROUND((Balance!D27/Balance!D$40)*100,1))","v":15.2},{"$f":"IF(Balance!E27=0,\"-\",ROUND((Balance!E27/Balance!E$40)*100,1))","v":15.4},{"$f":"IF(Balance!F27=0,\"-\",ROUND((Balance!F27/Balance!F$40)*100,1))","v":16.600000000000001},{"$f":"IF(Balance!G27=0,\"-\",ROUND((Balance!G27/Balance!G$40)*100,1))","v":17.399999999999999},{"$f":"IF(Balance!H27=0,\"-\",ROUND((Balance!H27/Balance!H$40)*100,1))","v":16.3},{"$f":"IF(Balance!I27=0,\"-\",ROUND((Balance!I27/Balance!I$40)*100,1))","v":16.3},{"$f":"IF(Balance!J27=0,\"-\",ROUND((Balance!J27/Balance!J$40)*100,1))","v":16.7},{"$f":"IF(Balance!K27=0,\"-\",ROUND((Balance!K27/Balance!K$40)*100,1))","v":17.8},{"$f":"IF(Balance!L27=0,\"-\",ROUND((Balance!L27/Balance!L$40)*100,1))","v":17.3},{"$f":"IF(Balance!M27=0,\"-\",ROUND((Balance!M27/Balance!M$40)*100,1))","v":17},{"$f":"IF(Balance!N27=0,\"-\",ROUND((Balance!N27/Balance!N$40)*100,1))","v":16.7},{"$f":"IF(Balance!O27=0,\"-\",ROUND((Balance!O27/Balance!O$40)*100,1))","v":16.399999999999999},{"$f":"IF(Balance!P27=0,\"-\",ROUND((Balance!P27/Balance!P$40)*100,1))","v":15.6},{"$f":"IF(Balance!Q27=0,\"-\",ROUND((Balance!Q27/Balance!Q$40)*100,1))","v":16.2},{"$f":"IF(Balance!R27=0,\"-\",ROUND((Balance!R27/Balance!R$40)*100,1))","v":16.600000000000001},{"$f":"IF(Balance!S27=0,\"-\",ROUND((Balance!S27/Balance!S$40)*100,1))","v":17.899999999999999},{"$f":"IF(Balance!T27=0,\"-\",ROUND((Balance!T27/Balance!T$40)*100,1))","v":17.399999999999999},{"$f":"IF(Balance!U27=0,\"-\",ROUND((Balance!U27/Balance!U$40)*100,1))","v":16.5},{"$f":"IF(Balance!V27=0,\"-\",ROUND((Balance!V27/Balance!V$40)*100,1))","v":16.899999999999999},{"$f":"IF(Balance!W27=0,\"-\",ROUND((Balance!W27/Balance!W$40)*100,1))","v":18.100000000000001},{"$f":"IF(Balance!X27=0,\"-\",ROUND((Balance!X27/Balance!X$40)*100,1))","v":16.7},{"$f":"IF(Balance!Y27=0,\"-\",ROUND((Balance!Y27/Balance!Y$40)*100,1))","v":16.8},{"$f":"IF(Balance!Z27=0,\"-\",ROUND((Balance!Z27/Balance!Z$40)*100,1))","v":16.5},{"$f":"IF(Balance!AA27=0,\"-\",ROUND((Balance!AA27/Balance!AA$40)*100,1))","v":16.399999999999999},{"$f":"IF(Balance!AB27=0,\"-\",ROUND((Balance!AB27/Balance!AB$40)*100,1))","v":15.2},{"$f":"IF(Balance!AC27=0,\"-\",ROUND((Balance!AC27/Balance!AC$40)*100,1))","v":16},{"$f":"IF(Balance!AD27=0,\"-\",ROUND((Balance!AD27/Balance!AD$40)*100,1))","v":16.7},{"$f":"IF(Balance!AE27=0,\"-\",ROUND((Balance!AE27/Balance!AE$40)*100,1))","v":18.2},{"$f":"IF(Balance!AF27=0,\"-\",ROUND((Balance!AF27/Balance!AF$40)*100,1))","v":18.600000000000001},{"$f":"IF(Balance!AG27=0,\"-\",ROUND((Balance!AG27/Balance!AG$40)*100,1))","v":18.100000000000001},{"$f":"IF(Balance!AH27=0,\"-\",ROUND((Balance!AH27/Balance!AH$40)*100,1))","v":18.100000000000001},{"$f":"IF(Balance!AI27=0,\"-\",ROUND((Balance!AI27/Balance!AI$40)*100,1))","v":17.7},{"$f":"IF(Balance!AJ27=0,\"-\",ROUND((Balance!AJ27/Balance!AJ$40)*100,1))","v":16.600000000000001},{"$f":"IF(Balance!AK27=0,\"-\",ROUND((Balance!AK27/Balance!AK$40)*100,1))","v":16.600000000000001},{"$f":"IF(Balance!AL27=0,\"-\",ROUND((Balance!AL27/Balance!AL$40)*100,1))","v":16},{"$f":"IF(Balance!AM27=0,\"-\",ROUND((Balance!AM27/Balance!AM$40)*100,1))","v":16.5},{"$f":"IF(Balance!AN27=0,\"-\",ROUND((Balance!AN27/Balance!AN$40)*100,1))","v":15},{"$f":"IF(Balance!AO27=0,\"-\",ROUND((Balance!AO27/Balance!AO$40)*100,1))","v":15.4},{"$f":"IF(Balance!AP27=0,\"-\",ROUND((Balance!AP27/Balance!AP$40)*100,1))","v":17},{"$f":"IF(Balance!AQ27=0,\"-\",ROUND((Balance!AQ27/Balance!AQ$40)*100,1))","v":16.399999999999999},{"$f":"IF(Balance!AR27=0,\"-\",ROUND((Balance!AR27/Balance!AR$40)*100,1))","v":17.2},{"$f":"IF(Balance!AS27=0,\"-\",ROUND((Balance!AS27/Balance!AS$40)*100,1))","v":16.100000000000001},{"$f":"IF(Balance!AT27=0,\"-\",ROUND((Balance!AT27/Balance!AT$40)*100,1))","v":16.2},{"$f":"IF(Balance!AU27=0,\"-\",ROUND((Balance!AU27/Balance!AU$40)*100,1))","v":16.399999999999999},{"$f":"IF(Balance!AV27=0,\"-\",ROUND((Balance!AV27/Balance!AV$40)*100,1))","v":15.6},{"$f":"IF(Balance!AW27=0,\"-\",ROUND((Balance!AW27/Balance!AW$40)*100,1))","v":16.100000000000001},{"$f":"IF(Balance!AX27=0,\"-\",ROUND((Balance!AX27/Balance!AX$40)*100,1))","v":16.3},{"$f":"IF(Balance!AY27=0,\"-\",ROUND((Balance!AY27/Balance!AY$40)*100,1))","v":16.399999999999999},{"$f":"IF(Balance!AZ27=0,\"-\",ROUND((Balance!AZ27/Balance!AZ$40)*100,1))","v":15.6},{"$f":"IF(Balance!BA27=0,\"-\",ROUND((Balance!BA27/Balance!BA$40)*100,1))","v":16.5},{"$f":"IF(Balance!BB27=0,\"-\",ROUND((Balance!BB27/Balance!BB$40)*100,1))","v":17},{"$f":"IF(Balance!BC27=0,\"-\",ROUND((Balance!BC27/Balance!BC$40)*100,1))","v":19.100000000000001},{"$f":"IF(Balance!BD27=0,\"-\",ROUND((Balance!BD27/Balance!BD$40)*100,1))","v":19.899999999999999},{"$f":"IF(Balance!BE27=0,\"-\",ROUND((Balance!BE27/Balance!BE$40)*100,1))","v":17.899999999999999},{"$f":"IF(Balance!BF27=0,\"-\",ROUND((Balance!BF27/Balance!BF$40)*100,1))","v":18.2},{"$f":"IF(Balance!BG27=0,\"-\",ROUND((Balance!BG27/Balance!BG$40)*100,1))","v":18.8},{"$f":"IF(Balance!BH27=0,\"-\",ROUND((Balance!BH27/Balance!BH$40)*100,1))","v":17.3},{"$f":"IF(Balance!BI27=0,\"-\",ROUND((Balance!BI27/Balance!BI$40)*100,1))","v":16.600000000000001},{"$f":"IF(Balance!BJ27=0,\"-\",ROUND((Balance!BJ27/Balance!BJ$40)*100,1))","v":17.3},{"$f":"IF(Balance!BK27=0,\"-\",ROUND((Balance!BK27/Balance!BK$40)*100,1))","v":17},{"$f":"IF(Balance!BL27=0,\"-\",ROUND((Balance!BL27/Balance!BL$40)*100,1))","v":15.1},{"$f":"IF(Balance!BM27=0,\"-\",ROUND((Balance!BM27/Balance!BM$40)*100,1))","v":17},{"$f":"IF(Balance!BN27=0,\"-\",ROUND((Balance!BN27/Balance!BN$40)*100,1))","v":18.2},{"$f":"IF(Balance!BO27=0,\"-\",ROUND((Balance!BO27/Balance!BO$40)*100,1))","v":18.399999999999999},{"$f":"IF(Balance!BP27=0,\"-\",ROUND((Balance!BP27/Balance!BP$40)*100,1))","v":17.8},{"$f":"IF(Balance!BQ27=0,\"-\",ROUND((Balance!BQ27/Balance!BQ$40)*100,1))","v":16.100000000000001},{"$f":"IF(Balance!BR27=0,\"-\",ROUND((Balance!BR27/Balance!BR$40)*100,1))","v":15.4},{"$f":"IF(Balance!BS27=0,\"-\",ROUND((Balance!BS27/Balance!BS$40)*100,1))","v":14.7},{"$f":"IF(Balance!BT27=0,\"-\",ROUND((Balance!BT27/Balance!BT$40)*100,1))","v":12.4},{"$f":"IF(Balance!BU27=0,\"-\",ROUND((Balance!BU27/Balance!BU$40)*100,1))","v":13.4},{"$f":"IF(Balance!BV27=0,\"-\",ROUND((Balance!BV27/Balance!BV$40)*100,1))","v":17.899999999999999},{"$f":"IF(Balance!BW27=0,\"-\",ROUND((Balance!BW27/Balance!BW$40)*100,1))","v":17.600000000000001},{"$f":"IF(Balance!BX27=0,\"-\",ROUND((Balance!BX27/Balance!BX$40)*100,1))","v":15.6},{"$f":"IF(Balance!BY27=0,\"-\",ROUND((Balance!BY27/Balance!BY$40)*100,1))","v":18.5},{"$f":"IF(Balance!BZ27=0,\"-\",ROUND((Balance!BZ27/Balance!BZ$40)*100,1))","v":19.8},{"$f":"IF(Balance!CA27=0,\"-\",ROUND((Balance!CA27/Balance!CA$40)*100,1))","v":20},{"$f":"IF(Balance!CB27=0,\"-\",ROUND((Balance!CB27/Balance!CB$40)*100,1))","v":19},{"$f":"IF(Balance!CC27=0,\"-\",ROUND((Balance!CC27/Balance!CC$40)*100,1))","v":18.2},{"$f":"IF(Balance!CD27=0,\"-\",ROUND((Balance!CD27/Balance!CD$40)*100,1))","v":17.100000000000001},{"$f":"IF(Balance!CE27=0,\"-\",ROUND((Balance!CE27/Balance!CE$40)*100,1))","v":18.600000000000001},{"$f":"IF(Balance!CF27=0,\"-\",ROUND((Balance!CF27/Balance!CF$40)*100,1))","v":16.399999999999999},{"$f":"IF(Balance!CG27=0,\"-\",ROUND((Balance!CG27/Balance!CG$40)*100,1))","v":15.6},{"$f":"IF(Balance!CH27=0,\"-\",ROUND((Balance!CH27/Balance!CH$40)*100,1))","v":16.8},{"$f":"IF(Balance!CI27=0,\"-\",ROUND((Balance!CI27/Balance!CI$40)*100,1))","v":17.5},{"$f":"IF(Balance!CJ27=0,\"-\",ROUND((Balance!CJ27/Balance!CJ$40)*100,1))","v":16},{"$f":"IF(Balance!CK27=0,\"-\",ROUND((Balance!CK27/Balance!CK$40)*100,1))","v":15.5},{"$f":"IF(Balance!CL27=0,\"-\",ROUND((Balance!CL27/Balance!CL$40)*100,1))","v":17.8},{"$f":"IF(Balance!CM27=0,\"-\",ROUND((Balance!CM27/Balance!CM$40)*100,1))","v":18.8},{"$f":"IF(Balance!CN27=0,\"-\",ROUND((Balance!CN27/Balance!CN$40)*100,1))","v":19},{"$f":"IF(Balance!CO27=0,\"-\",ROUND((Balance!CO27/Balance!CO$40)*100,1))","v":19},{"$f":"IF(Balance!CP27=0,\"-\",ROUND((Balance!CP27/Balance!CP$40)*100,1))","v":18.2},{"$f":"IF(Balance!CQ27=0,\"-\",ROUND((Balance!CQ27/Balance!CQ$40)*100,1))","v":16.5},{"$f":"IF(Balance!CR27=0,\"-\",ROUND((Balance!CR27/Balance!CR$40)*100,1))","v":14.2},{"$f":"IF(Balance!CS27=0,\"-\",ROUND((Balance!CS27/Balance!CS$40)*100,1))","v":12.5},{"$f":"IF(Balance!CT27=0,\"-\",ROUND((Balance!CT27/Balance!CT$40)*100,1))","v":15.8},{"$f":"IF(Balance!CU27=0,\"-\",ROUND((Balance!CU27/Balance!CU$40)*100,1))","v":17.7},{"$f":"IF(Balance!CV27=0,\"-\",ROUND((Balance!CV27/Balance!CV$40)*100,1))","v":18.399999999999999},{"$f":"IF(Balance!CW27=0,\"-\",ROUND((Balance!CW27/Balance!CW$40)*100,1))","v":11.8},{"$f":"IF(Balance!CX27=0,\"-\",ROUND((Balance!CX27/Balance!CX$40)*100,1))","v":12.1},{"$f":"IF(Balance!CY27=0,\"-\",ROUND((Balance!CY27/Balance!CY$40)*100,1))","v":14.6},{"$f":"IF(Balance!CZ27=0,\"-\",ROUND((Balance!CZ27/Balance!CZ$40)*100,1))","v":15.9},{"$f":"IF(Balance!DA27=0,\"-\",ROUND((Balance!DA27/Balance!DA$40)*100,1))","v":15.6},{"$f":"IF(Balance!DB27=0,\"-\",ROUND((Balance!DB27/Balance!DB$40)*100,1))","v":16.600000000000001},{"$f":"IF(Balance!DC27=0,\"-\",ROUND((Balance!DC27/Balance!DC$40)*100,1))","v":16.5},{"$f":"IF(Balance!DD27=0,\"-\",ROUND((Balance!DD27/Balance!DD$40)*100,1))","v":14.4},{"$f":"IF(Balance!DE27=0,\"-\",ROUND((Balance!DE27/Balance!DE$40)*100,1))","v":18.600000000000001},{"$f":"IF(Balance!DF27=0,\"-\",ROUND((Balance!DF27/Balance!DF$40)*100,1))","v":15.6},{"$f":"IF(Balance!DG27=0,\"-\",ROUND((Balance!DG27/Balance!DG$40)*100,1))","v":16.600000000000001},{"$f":"IF(Balance!DH27=0,\"-\",ROUND((Balance!DH27/Balance!DH$40)*100,1))","v":17},{"$f":"IF(Balance!DI27=0,\"-\",ROUND((Balance!DI27/Balance!DI$40)*100,1))","v":15.2},{"$f":"IF(Balance!DJ27=0,\"-\",ROUND((Balance!DJ27/Balance!DJ$40)*100,1))","v":17.3},{"$f":"IF(Balance!DK27=0,\"-\",ROUND((Balance!DK27/Balance!DK$40)*100,1))","v":16.600000000000001},{"$f":"IF(Balance!DL27=0,\"-\",ROUND((Balance!DL27/Balance!DL$40)*100,1))","v":16.3},{"$f":"IF(Balance!DM27=0,\"-\",ROUND((Balance!DM27/Balance!DM$40)*100,1))","v":18.100000000000001},{"$f":"IF(Balance!DN27=0,\"-\",ROUND((Balance!DN27/Balance!DN$40)*100,1))","v":17.2},{"$f":"IF(Balance!DO27=0,\"-\",ROUND((Balance!DO27/Balance!DO$40)*100,1))","v":16.7},{"$f":"IF(Balance!DP27=0,\"-\",ROUND((Balance!DP27/Balance!DP$40)*100,1))","v":15.2},{"$f":"IF(Balance!DQ27=0,\"-\",ROUND((Balance!DQ27/Balance!DQ$40)*100,1))","v":12.7},{"$f":"IF(Balance!DR27=0,\"-\",ROUND((Balance!DR27/Balance!DR$40)*100,1))","v":15.9},{"$f":"IF(Balance!DS27=0,\"-\",ROUND((Balance!DS27/Balance!DS$40)*100,1))","v":11.9},{"$f":"IF(Balance!DT27=0,\"-\",ROUND((Balance!DT27/Balance!DT$40)*100,1))","v":20.2},{"$f":"IF(Balance!DU27=0,\"-\",ROUND((Balance!DU27/Balance!DU$40)*100,1))","v":22.9},{"$f":"IF(Balance!DV27=0,\"-\",ROUND((Balance!DV27/Balance!DV$40)*100,1))","v":23},{"$f":"IF(Balance!DW27=0,\"-\",ROUND((Balance!DW27/Balance!DW$40)*100,1))","v":23.8},{"$f":"IF(Balance!DX27=0,\"-\",ROUND((Balance!DX27/Balance!DX$40)*100,1))","v":22.6},{"$f":"IF(Balance!DY27=0,\"-\",ROUND((Balance!DY27/Balance!DY$40)*100,1))","v":21.6},{"$f":"IF(Balance!DZ27=0,\"-\",ROUND((Balance!DZ27/Balance!DZ$40)*100,1))","v":21.6},{"$f":"IF(Balance!EA27=0,\"-\",ROUND((Balance!EA27/Balance!EA$40)*100,1))","v":20.100000000000001},{"$f":"IF(Balance!EB27=0,\"-\",ROUND((Balance!EB27/Balance!EB$40)*100,1))","v":22.9},{"$f":"IF(Balance!EC27=0,\"-\",ROUND((Balance!EC27/Balance!EC$40)*100,1))","v":19.100000000000001},{"$f":"IF(Balance!ED27=0,\"-\",ROUND((Balance!ED27/Balance!ED$40)*100,1))","v":21.1},{"$f":"IF(Balance!EE27=0,\"-\",ROUND((Balance!EE27/Balance!EE$40)*100,1))","v":22.1},{"$f":"IF(Balance!EF27=0,\"-\",ROUND((Balance!EF27/Balance!EF$40)*100,1))","v":21.4},{"$f":"IF(Balance!EG27=0,\"-\",ROUND((Balance!EG27/Balance!EG$40)*100,1))","v":18.8},{"$f":"IF(Balance!EH27=0,\"-\",ROUND((Balance!EH27/Balance!EH$40)*100,1))","v":20.3},{"$f":"IF(Balance!EI27=0,\"-\",ROUND((Balance!EI27/Balance!EI$40)*100,1))","v":21.5},{"$f":"IF(Balance!EJ27=0,\"-\",ROUND((Balance!EJ27/Balance!EJ$40)*100,1))","v":20.8},{"$f":"IF(Balance!EK27=0,\"-\",ROUND((Balance!EK27/Balance!EK$40)*100,1))","v":20.5},{"$f":"IF(Balance!EL27=0,\"-\",ROUND((Balance!EL27/Balance!EL$40)*100,1))","v":16.399999999999999},{"$f":"IF(Balance!EM27=0,\"-\",ROUND((Balance!EM27/Balance!EM$40)*100,1))","v":10.1},{"$f":"IF(Balance!EN27=0,\"-\",ROUND((Balance!EN27/Balance!EN$40)*100,1))","v":7.1},{"$f":"IF(Balance!EO27=0,\"-\",ROUND((Balance!EO27/Balance!EO$40)*100,1))","v":7.5},{"$f":"IF(Balance!EP27=0,\"-\",ROUND((Balance!EP27/Balance!EP$40)*100,1))","v":9},{"$f":"IF(Balance!EQ27=0,\"-\",ROUND((Balance!EQ27/Balance!EQ$40)*100,1))","v":10.9},{"$f":"IF(Balance!ER29=\"-\",\"-\",ROUND((Balance!ER29/Balance!ER$40)*100,1))","v":"-"},{"$f":"IF(Balance!ES29=\"-\",\"-\",ROUND((Balance!ES29/Balance!ES$40)*100,1))","v":"-"},{"$f":"IF(Balance!ET29=\"-\",\"-\",ROUND((Balance!ET29/Balance!ET$40)*100,1))","v":"-"},{"$f":"IF(Balance!EU29=\"-\",\"-\",ROUND((Balance!EU29/Balance!EU$40)*100,1))","v":"-"},{"$f":"IF(Balance!EV29=\"-\",\"-\",ROUND((Balance!EV29/Balance!EV$40)*100,1))","v":"-"},{"$f":"IF(Balance!EW29=\"-\",\"-\",ROUND((Balance!EW29/Balance!EW$40)*100,1))","v":"-"},{"$f":"IF(Balance!EX29=\"-\",\"-\",ROUND((Balance!EX29/Balance!EX$40)*100,1))","v":"-"},{"$f":"IF(Balance!EY29=\"-\",\"-\",ROUND((Balance!EY29/Balance!EY$40)*100,1))","v":"-"},{"$f":"IF(Balance!EZ29=\"-\",\"-\",ROUND((Balance!EZ29/Balance!EZ$40)*100,1))","v":"-"},{"$f":"IF(Balance!FA29=\"-\",\"-\",ROUND((Balance!FA29/Balance!FA$40)*100,1))","v":"-"},{"$f":"IF(Balance!FB29=\"-\",\"-\",ROUND((Balance!FB29/Balance!FB$40)*100,1))","v":"-"}]
[null,"Turbina de gas",{"$f":"IF(Balance!C28=0,\"-\",ROUND((Balance!C28/Balance!C$40)*100,1))","v":1.4},{"$f":"IF(Balance!D28=0,\"-\",ROUND((Balance!D28/Balance!D$40)*100,1))","v":2.4},{"$f":"IF(Balance!E28=0,\"-\",ROUND((Balance!E28/Balance!E$40)*100,1))","v":5},{"$f":"IF(Balance!F28=0,\"-\",ROUND((Balance!F28/Balance!F$40)*100,1))","v":3.5},{"$f":"IF(Balance!G28=0,\"-\",ROUND((Balance!G28/Balance!G$40)*100,1))","v":3.4},{"$f":"IF(Balance!H28=0,\"-\",ROUND((Balance!H28/Balance!H$40)*100,1))","v":5.6},{"$f":"IF(Balance!I28=0,\"-\",ROUND((Balance!I28/Balance!I$40)*100,1))","v":8.8000000000000007},{"$f":"IF(Balance!J28=0,\"-\",ROUND((Balance!J28/Balance!J$40)*100,1))","v":6.7},{"$f":"IF(Balance!K28=0,\"-\",ROUND((Balance!K28/Balance!K$40)*100,1))","v":6},{"$f":"IF(Balance!L28=0,\"-\",ROUND((Balance!L28/Balance!L$40)*100,1))","v":6.4},{"$f":"IF(Balance!M28=0,\"-\",ROUND((Balance!M28/Balance!M$40)*100,1))","v":4.9000000000000004},{"$f":"IF(Balance!N28=0,\"-\",ROUND((Balance!N28/Balance!N$40)*100,1))","v":3.8},{"$f":"IF(Balance!O28=0,\"-\",ROUND((Balance!O28/Balance!O$40)*100,1))","v":5},{"$f":"IF(Balance!P28=0,\"-\",ROUND((Balance!P28/Balance!P$40)*100,1))","v":4.9000000000000004},{"$f":"IF(Balance!Q28=0,\"-\",ROUND((Balance!Q28/Balance!Q$40)*100,1))","v":4.4000000000000004},{"$f":"IF(Balance!R28=0,\"-\",ROUND((Balance!R28/Balance!R$40)*100,1))","v":3.9},{"$f":"IF(Balance!S28=0,\"-\",ROUND((Balance!S28/Balance!S$40)*100,1))","v":7.8},{"$f":"IF(Balance!T28=0,\"-\",ROUND((Balance!T28/Balance!T$40)*100,1))","v":6},{"$f":"IF(Balance!U28=0,\"-\",ROUND((Balance!U28/Balance!U$40)*100,1))","v":6.7},{"$f":"IF(Balance!V28=0,\"-\",ROUND((Balance!V28/Balance!V$40)*100,1))","v":6.1},{"$f":"IF(Balance!W28=0,\"-\",ROUND((Balance!W28/Balance!W$40)*100,1))","v":4},{"$f":"IF(Balance!X28=0,\"-\",ROUND((Balance!X28/Balance!X$40)*100,1))","v":4.4000000000000004},{"$f":"IF(Balance!Y28=0,\"-\",ROUND((Balance!Y28/Balance!Y$40)*100,1))","v":4.7},{"$f":"IF(Balance!Z28=0,\"-\",ROUND((Balance!Z28/Balance!Z$40)*100,1))","v":3.7},{"$f":"IF(Balance!AA28=0,\"-\",ROUND((Balance!AA28/Balance!AA$40)*100,1))","v":3.6},{"$f":"IF(Balance!AB28=0,\"-\",ROUND((Balance!AB28/Balance!AB$40)*100,1))","v":4.3},{"$f":"IF(Balance!AC28=0,\"-\",ROUND((Balance!AC28/Balance!AC$40)*100,1))","v":4.2},{"$f":"IF(Balance!AD28=0,\"-\",ROUND((Balance!AD28/Balance!AD$40)*100,1))","v":2.9},{"$f":"IF(Balance!AE28=0,\"-\",ROUND((Balance!AE28/Balance!AE$40)*100,1))","v":2.8},{"$f":"IF(Balance!AF28=0,\"-\",ROUND((Balance!AF28/Balance!AF$40)*100,1))","v":4.4000000000000004},{"$f":"IF(Balance!AG28=0,\"-\",ROUND((Balance!AG28/Balance!AG$40)*100,1))","v":5.4},{"$f":"IF(Balance!AH28=0,\"-\",ROUND((Balance!AH28/Balance!AH$40)*100,1))","v":5.8},{"$f":"IF(Balance!AI28=0,\"-\",ROUND((Balance!AI28/Balance!AI$40)*100,1))","v":5.7},{"$f":"IF(Balance!AJ28=0,\"-\",ROUND((Balance!AJ28/Balance!AJ$40)*100,1))","v":4.4000000000000004},{"$f":"IF(Balance!AK28=0,\"-\",ROUND((Balance!AK28/Balance!AK$40)*100,1))","v":4.4000000000000004},{"$f":"IF(Balance!AL28=0,\"-\",ROUND((Balance!AL28/Balance!AL$40)*100,1))","v":4.3},{"$f":"IF(Balance!AM28=0,\"-\",ROUND((Balance!AM28/Balance!AM$40)*100,1))","v":3.7},{"$f":"IF(Balance!AN28=0,\"-\",ROUND((Balance!AN28/Balance!AN$40)*100,1))","v":4.5},{"$f":"IF(Balance!AO28=0,\"-\",ROUND((Balance!AO28/Balance!AO$40)*100,1))","v":4.2},{"$f":"IF(Balance!AP28=0,\"-\",ROUND((Balance!AP28/Balance!AP$40)*100,1))","v":2.8},{"$f":"IF(Balance!AQ28=0,\"-\",ROUND((Balance!AQ28/Balance!AQ$40)*100,1))","v":5.3},{"$f":"IF(Balance!AR28=0,\"-\",ROUND((Balance!AR28/Balance!AR$40)*100,1))","v":6.3},{"$f":"IF(Balance!AS28=0,\"-\",ROUND((Balance!AS28/Balance!AS$40)*100,1))","v":8.1},{"$f":"IF(Balance!AT28=0,\"-\",ROUND((Balance!AT28/Balance!AT$40)*100,1))","v":8},{"$f":"IF(Balance!AU28=0,\"-\",ROUND((Balance!AU28/Balance!AU$40)*100,1))","v":7.1},{"$f":"IF(Balance!AV28=0,\"-\",ROUND((Balance!AV28/Balance!AV$40)*100,1))","v":5.4},{"$f":"IF(Balance!AW28=0,\"-\",ROUND((Balance!AW28/Balance!AW$40)*100,1))","v":5.5},{"$f":"IF(Balance!AX28=0,\"-\",ROUND((Balance!AX28/Balance!AX$40)*100,1))","v":4.5999999999999996},{"$f":"IF(Balance!AY28=0,\"-\",ROUND((Balance!AY28/Balance!AY$40)*100,1))","v":4.7},{"$f":"IF(Balance!AZ28=0,\"-\",ROUND((Balance!AZ28/Balance!AZ$40)*100,1))","v":5.6},{"$f":"IF(Balance!BA28=0,\"-\",ROUND((Balance!BA28/Balance!BA$40)*100,1))","v":4.7},{"$f":"IF(Balance!BB28=0,\"-\",ROUND((Balance!BB28/Balance!BB$40)*100,1))","v":4.0999999999999996},{"$f":"IF(Balance!BC28=0,\"-\",ROUND((Balance!BC28/Balance!BC$40)*100,1))","v":3.6},{"$f":"IF(Balance!BD28=0,\"-\",ROUND((Balance!BD28/Balance!BD$40)*100,1))","v":4.3},{"$f":"IF(Balance!BE28=0,\"-\",ROUND((Balance!BE28/Balance!BE$40)*100,1))","v":6.6},{"$f":"IF(Balance!BF28=0,\"-\",ROUND((Balance!BF28/Balance!BF$40)*100,1))","v":6.7},{"$f":"IF(Balance!BG28=0,\"-\",ROUND((Balance!BG28/Balance!BG$40)*100,1))","v":5.2},{"$f":"IF(Balance!BH28=0,\"-\",ROUND((Balance!BH28/Balance!BH$40)*100,1))","v":5.0999999999999996},{"$f":"IF(Balance!BI28=0,\"-\",ROUND((Balance!BI28/Balance!BI$40)*100,1))","v":5.3},{"$f":"IF(Balance!BJ28=0,\"-\",ROUND((Balance!BJ28/Balance!BJ$40)*100,1))","v":4.5999999999999996},{"$f":"IF(Balance!BK28=0,\"-\",ROUND((Balance!BK28/Balance!BK$40)*100,1))","v":3.6},{"$f":"IF(Balance!BL28=0,\"-\",ROUND((Balance!BL28/Balance!BL$40)*100,1))","v":4.8},{"$f":"IF(Balance!BM28=0,\"-\",ROUND((Balance!BM28/Balance!BM$40)*100,1))","v":3.9},{"$f":"IF(Balance!BN28=0,\"-\",ROUND((Balance!BN28/Balance!BN$40)*100,1))","v":3.4},{"$f":"IF(Balance!BO28=0,\"-\",ROUND((Balance!BO28/Balance!BO$40)*100,1))","v":3.8},{"$f":"IF(Balance!BP28=0,\"-\",ROUND((Balance!BP28/Balance!BP$40)*100,1))","v":5.6},{"$f":"IF(Balance!BQ28=0,\"-\",ROUND((Balance!BQ28/Balance!BQ$40)*100,1))","v":8.4},{"$f":"IF(Balance!BR28=0,\"-\",ROUND((Balance!BR28/Balance!BR$40)*100,1))","v":9.3000000000000007},{"$f":"IF(Balance!BS28=0,\"-\",ROUND((Balance!BS28/Balance!BS$40)*100,1))","v":8.6},{"$f":"IF(Balance!BT28=0,\"-\",ROUND((Balance!BT28/Balance!BT$40)*100,1))","v":8.6999999999999993},{"$f":"IF(Balance!BU28=0,\"-\",ROUND((Balance!BU28/Balance!BU$40)*100,1))","v":8.4},{"$f":"IF(Balance!BV28=0,\"-\",ROUND((Balance!BV28/Balance!BV$40)*100,1))","v":2.5},{"$f":"IF(Balance!BW28=0,\"-\",ROUND((Balance!BW28/Balance!BW$40)*100,1))","v":2.8},{"$f":"IF(Balance!BX28=0,\"-\",ROUND((Balance!BX28/Balance!BX$40)*100,1))","v":5.0999999999999996},{"$f":"IF(Balance!BY28=0,\"-\",ROUND((Balance!BY28/Balance!BY$40)*100,1))","v":3.7},{"$f":"IF(Balance!BZ28=0,\"-\",ROUND((Balance!BZ28/Balance!BZ$40)*100,1))","v":2.2000000000000002},{"$f":"IF(Balance!CA28=0,\"-\",ROUND((Balance!CA28/Balance!CA$40)*100,1))","v":3},{"$f":"IF(Balance!CB28=0,\"-\",ROUND((Balance!CB28/Balance!CB$40)*100,1))","v":6},{"$f":"IF(Balance!CC28=0,\"-\",ROUND((Balance!CC28/Balance!CC$40)*100,1))","v":7.5},{"$f":"IF(Balance!CD28=0,\"-\",ROUND((Balance!CD28/Balance!CD$40)*100,1))","v":10.199999999999999},{"$f":"IF(Balance!CE28=0,\"-\",ROUND((Balance!CE28/Balance!CE$40)*100,1))","v":8.9},{"$f":"IF(Balance!CF28=0,\"-\",ROUND((Balance!CF28/Balance!CF$40)*100,1))","v":9},{"$f":"IF(Balance!CG28=0,\"-\",ROUND((Balance!CG28/Balance!CG$40)*100,1))","v":9.6},{"$f":"IF(Balance!CH28=0,\"-\",ROUND((Balance!CH28/Balance!CH$40)*100,1))","v":9.6},{"$f":"IF(Balance!CI28=0,\"-\",ROUND((Balance!CI28/Balance!CI$40)*100,1))","v":9.1},{"$f":"IF(Balance!CJ28=0,\"-\",ROUND((Balance!CJ28/Balance!CJ$40)*100,1))","v":9.9},{"$f":"IF(Balance!CK28=0,\"-\",ROUND((Balance!CK28/Balance!CK$40)*100,1))","v":9.4},{"$f":"IF(Balance!CL28=0,\"-\",ROUND((Balance!CL28/Balance!CL$40)*100,1))","v":8.1999999999999993},{"$f":"IF(Balance!CM28=0,\"-\",ROUND((Balance!CM28/Balance!CM$40)*100,1))","v":9},{"$f":"IF(Balance!CN28=0,\"-\",ROUND((Balance!CN28/Balance!CN$40)*100,1))","v":10.7},{"$f":"IF(Balance!CO28=0,\"-\",ROUND((Balance!CO28/Balance!CO$40)*100,1))","v":12.9},{"$f":"IF(Balance!CP28=0,\"-\",ROUND((Balance!CP28/Balance!CP$40)*100,1))","v":14.4},{"$f":"IF(Balance!CQ28=0,\"-\",ROUND((Balance!CQ28/Balance!CQ$40)*100,1))","v":14.4},{"$f":"IF(Balance!CR28=0,\"-\",ROUND((Balance!CR28/Balance!CR$40)*100,1))","v":14.3},{"$f":"IF(Balance!CS28=0,\"-\",ROUND((Balance!CS28/Balance!CS$40)*100,1))","v":13.6},{"$f":"IF(Balance!CT28=0,\"-\",ROUND((Balance!CT28/Balance!CT$40)*100,1))","v":10.8},{"$f":"IF(Balance!CU28=0,\"-\",ROUND((Balance!CU28/Balance!CU$40)*100,1))","v":8.6999999999999993},{"$f":"IF(Balance!CV28=0,\"-\",ROUND((Balance!CV28/Balance!CV$40)*100,1))","v":8.1999999999999993},{"$f":"IF(Balance!CW28=0,\"-\",ROUND((Balance!CW28/Balance!CW$40)*100,1))","v":13.1},{"$f":"IF(Balance!CX28=0,\"-\",ROUND((Balance!CX28/Balance!CX$40)*100,1))","v":14.3},{"$f":"IF(Balance!CY28=0,\"-\",ROUND((Balance!CY28/Balance!CY$40)*100,1))","v":13.4},{"$f":"IF(Balance!CZ28=0,\"-\",ROUND((Balance!CZ28/Balance!CZ$40)*100,1))","v":15.1},{"$f":"IF(Balance!DA28=0,\"-\",ROUND((Balance!DA28/Balance!DA$40)*100,1))","v":16.899999999999999},{"$f":"IF(Balance!DB28=0,\"-\",ROUND((Balance!DB28/Balance!DB$40)*100,1))","v":17.100000000000001},{"$f":"IF(Balance!DC28=0,\"-\",ROUND((Balance!DC28/Balance!DC$40)*100,1))","v":15.6},{"$f":"IF(Balance!DD28=0,\"-\",ROUND((Balance!DD28/Balance!DD$40)*100,1))","v":14.7},{"$f":"IF(Balance!DE28=0,\"-\",ROUND((Balance!DE28/Balance!DE$40)*100,1))","v":10.1},{"$f":"IF(Balance!DF28=0,\"-\",ROUND((Balance!DF28/Balance!DF$40)*100,1))","v":11},{"$f":"IF(Balance!DG28=0,\"-\",ROUND((Balance!DG28/Balance!DG$40)*100,1))","v":10.7},{"$f":"IF(Balance!DH28=0,\"-\",ROUND((Balance!DH28/Balance!DH$40)*100,1))","v":10.199999999999999},{"$f":"IF(Balance!DI28=0,\"-\",ROUND((Balance!DI28/Balance!DI$40)*100,1))","v":11.3},{"$f":"IF(Balance!DJ28=0,\"-\",ROUND((Balance!DJ28/Balance!DJ$40)*100,1))","v":10.3},{"$f":"IF(Balance!DK28=0,\"-\",ROUND((Balance!DK28/Balance!DK$40)*100,1))","v":11.3},{"$f":"IF(Balance!DL28=0,\"-\",ROUND((Balance!DL28/Balance!DL$40)*100,1))","v":14.7},{"$f":"IF(Balance!DM28=0,\"-\",ROUND((Balance!DM28/Balance!DM$40)*100,1))","v":15},{"$f":"IF(Balance!DN28=0,\"-\",ROUND((Balance!DN28/Balance!DN$40)*100,1))","v":16.5},{"$f":"IF(Balance!DO28=0,\"-\",ROUND((Balance!DO28/Balance!DO$40)*100,1))","v":14.3},{"$f":"IF(Balance!DP28=0,\"-\",ROUND((Balance!DP28/Balance!DP$40)*100,1))","v":13.6},{"$f":"IF(Balance!DQ28=0,\"-\",ROUND((Balance!DQ28/Balance!DQ$40)*100,1))","v":13.7},{"$f":"IF(Balance!DR28=0,\"-\",ROUND((Balance!DR28/Balance!DR$40)*100,1))","v":11.7},{"$f":"IF(Balance!DS28=0,\"-\",ROUND((Balance!DS28/Balance!DS$40)*100,1))","v":14.8},{"$f":"IF(Balance!DT28=0,\"-\",ROUND((Balance!DT28/Balance!DT$40)*100,1))","v":6.3},{"$f":"IF(Balance!DU28=0,\"-\",ROUND((Balance!DU28/Balance!DU$40)*100,1))","v":4},{"$f":"IF(Balance!DV28=0,\"-\",ROUND((Balance!DV28/Balance!DV$40)*100,1))","v":2.8},{"$f":"IF(Balance!DW28=0,\"-\",ROUND((Balance!DW28/Balance!DW$40)*100,1))","v":5},{"$f":"IF(Balance!DX28=0,\"-\",ROUND((Balance!DX28/Balance!DX$40)*100,1))","v":8.1},{"$f":"IF(Balance!DY28=0,\"-\",ROUND((Balance!DY28/Balance!DY$40)*100,1))","v":9.3000000000000007},{"$f":"IF(Balance!DZ28=0,\"-\",ROUND((Balance!DZ28/Balance!DZ$40)*100,1))","v":11.1},{"$f":"IF(Balance!EA28=0,\"-\",ROUND((Balance!EA28/Balance!EA$40)*100,1))","v":9.4},{"$f":"IF(Balance!EB28=0,\"-\",ROUND((Balance!EB28/Balance!EB$40)*100,1))","v":4.7},{"$f":"IF(Balance!EC28=0,\"-\",ROUND((Balance!EC28/Balance!EC$40)*100,1))","v":6.2},{"$f":"IF(Balance!ED28=0,\"-\",ROUND((Balance!ED28/Balance!ED$40)*100,1))","v":4},{"$f":"IF(Balance!EE28=0,\"-\",ROUND((Balance!EE28/Balance!EE$40)*100,1))","v":3.5},{"$f":"IF(Balance!EF28=0,\"-\",ROUND((Balance!EF28/Balance!EF$40)*100,1))","v":3.2},{"$f":"IF(Balance!EG28=0,\"-\",ROUND((Balance!EG28/Balance!EG$40)*100,1))","v":6.7},{"$f":"IF(Balance!EH28=0,\"-\",ROUND((Balance!EH28/Balance!EH$40)*100,1))","v":4},{"$f":"IF(Balance!EI28=0,\"-\",ROUND((Balance!EI28/Balance!EI$40)*100,1))","v":7.2},{"$f":"IF(Balance!EJ28=0,\"-\",ROUND((Balance!EJ28/Balance!EJ$40)*100,1))","v":8.5},{"$f":"IF(Balance!EK28=0,\"-\",ROUND((Balance!EK28/Balance!EK$40)*100,1))","v":11.3},{"$f":"IF(Balance!EL28=0,\"-\",ROUND((Balance!EL28/Balance!EL$40)*100,1))","v":15.2},{"$f":"IF(Balance!EM28=0,\"-\",ROUND((Balance!EM28/Balance!EM$40)*100,1))","v":19.3},{"$f":"IF(Balance!EN28=0,\"-\",ROUND((Balance!EN28/Balance!EN$40)*100,1))","v":19.600000000000001},{"$f":"IF(Balance!EO28=0,\"-\",ROUND((Balance!EO28/Balance!EO$40)*100,1))","v":18.600000000000001},{"$f":"IF(Balance!EP28=0,\"-\",ROUND((Balance!EP28/Balance!EP$40)*100,1))","v":17.600000000000001},{"$f":"IF(Balance!EQ28=0,\"-\",ROUND((Balance!EQ28/Balance!EQ$40)*100,1))","v":17},{"$f":"IF(Balance!ER30=\"-\",\"-\",ROUND((Balance!ER30/Balance!ER$40)*100,1))","v":"-"},{"$f":"IF(Balance!ES30=\"-\",\"-\",ROUND((Balance!ES30/Balance!ES$40)*100,1))","v":"-"},{"$f":"IF(Balance!ET30=\"-\",\"-\",ROUND((Balance!ET30/Balance!ET$40)*100,1))","v":"-"},{"$f":"IF(Balance!EU30=\"-\",\"-\",ROUND((Balance!EU30/Balance!EU$40)*100,1))","v":"-"},{"$f":"IF(Balance!EV30=\"-\",\"-\",ROUND((Balance!EV30/Balance!EV$40)*100,1))","v":"-"},{"$f":"IF(Balance!EW30=\"-\",\"-\",ROUND((Balance!EW30/Balance!EW$40)*100,1))","v":"-"},{"$f":"IF(Balance!EX30=\"-\",\"-\",ROUND((Balance!EX30/Balance!EX$40)*100,1))","v":"-"},{"$f":"IF(Balance!EY30=\"-\",\"-\",ROUND((Balance!EY30/Balance!EY$40)*100,1))","v":"-"},{"$f":"IF(Balance!EZ30=\"-\",\"-\",ROUND((Balance!EZ30/Balance!EZ$40)*100,1))","v":"-"},{"$f":"IF(Balance!FA30=\"-\",\"-\",ROUND((Balance!FA30/Balance!FA$40)*100,1))","v":"-"},{"$f":"IF(Balance!FB30=\"-\",\"-\",ROUND((Balance!FB30/Balance!FB$40)*100,1))","v":"-"}]
[null,"Ciclo combinado",{"$f":"IF(Balance!C30=0,\"-\",ROUND((Balance!C30/Balance!C$40)*100,1))","v":23.2},{"$f":"IF(Balance!D30=0,\"-\",ROUND((Balance!D30/Balance!D$40)*100,1))","v":25.1},{"$f":"IF(Balance!E30=0,\"-\",ROUND((Balance!E30/Balance!E$40)*100,1))","v":15.6},{"$f":"IF(Balance!F30=0,\"-\",ROUND((Balance!F30/Balance!F$40)*100,1))","v":15},{"$f":"IF(Balance!G30=0,\"-\",ROUND((Balance!G30/Balance!G$40)*100,1))","v":17.5},{"$f":"IF(Balance!H30=0,\"-\",ROUND((Balance!H30/Balance!H$40)*100,1))","v":20.6},{"$f":"IF(Balance!I30=0,\"-\",ROUND((Balance!I30/Balance!I$40)*100,1))","v":27.2},{"$f":"IF(Balance!J30=0,\"-\",ROUND((Balance!J30/Balance!J$40)*100,1))","v":27.6},{"$f":"IF(Balance!K30=0,\"-\",ROUND((Balance!K30/Balance!K$40)*100,1))","v":25.2},{"$f":"IF(Balance!L30=0,\"-\",ROUND((Balance!L30/Balance!L$40)*100,1))","v":35.4},{"$f":"IF(Balance!M30=0,\"-\",ROUND((Balance!M30/Balance!M$40)*100,1))","v":21.4},{"$f":"IF(Balance!N30=0,\"-\",ROUND((Balance!N30/Balance!N$40)*100,1))","v":17.600000000000001},{"$f":"IF(Balance!O30=0,\"-\",ROUND((Balance!O30/Balance!O$40)*100,1))","v":23},{"$f":"IF(Balance!P30=0,\"-\",ROUND((Balance!P30/Balance!P$40)*100,1))","v":23},{"$f":"IF(Balance!Q30=0,\"-\",ROUND((Balance!Q30/Balance!Q$40)*100,1))","v":28.8},{"$f":"IF(Balance!R30=0,\"-\",ROUND((Balance!R30/Balance!R$40)*100,1))","v":15.5},{"$f":"IF(Balance!S30=0,\"-\",ROUND((Balance!S30/Balance!S$40)*100,1))","v":24},{"$f":"IF(Balance!T30=0,\"-\",ROUND((Balance!T30/Balance!T$40)*100,1))","v":32.799999999999997},{"$f":"IF(Balance!U30=0,\"-\",ROUND((Balance!U30/Balance!U$40)*100,1))","v":30},{"$f":"IF(Balance!V30=0,\"-\",ROUND((Balance!V30/Balance!V$40)*100,1))","v":27.1},{"$f":"IF(Balance!W30=0,\"-\",ROUND((Balance!W30/Balance!W$40)*100,1))","v":26.4},{"$f":"IF(Balance!X30=0,\"-\",ROUND((Balance!X30/Balance!X$40)*100,1))","v":30.3},{"$f":"IF(Balance!Y30=0,\"-\",ROUND((Balance!Y30/Balance!Y$40)*100,1))","v":30.7},{"$f":"IF(Balance!Z30=0,\"-\",ROUND((Balance!Z30/Balance!Z$40)*100,1))","v":23.2},{"$f":"IF(Balance!AA30=0,\"-\",ROUND((Balance!AA30/Balance!AA$40)*100,1))","v":18.899999999999999},{"$f":"IF(Balance!AB30=0,\"-\",ROUND((Balance!AB30/Balance!AB$40)*100,1))","v":19.7},{"$f":"IF(Balance!AC30=0,\"-\",ROUND((Balance!AC30/Balance!AC$40)*100,1))","v":20.6},{"$f":"IF(Balance!AD30=0,\"-\",ROUND((Balance!AD30/Balance!AD$40)*100,1))","v":27.7},{"$f":"IF(Balance!AE30=0,\"-\",ROUND((Balance!AE30/Balance!AE$40)*100,1))","v":24.2},{"$f":"IF(Balance!AF30=0,\"-\",ROUND((Balance!AF30/Balance!AF$40)*100,1))","v":20.6},{"$f":"IF(Balance!AG30=0,\"-\",ROUND((Balance!AG30/Balance!AG$40)*100,1))","v":27.9},{"$f":"IF(Balance!AH30=0,\"-\",ROUND((Balance!AH30/Balance!AH$40)*100,1))","v":27.1},{"$f":"IF(Balance!AI30=0,\"-\",ROUND((Balance!AI30/Balance!AI$40)*100,1))","v":21.9},{"$f":"IF(Balance!AJ30=0,\"-\",ROUND((Balance!AJ30/Balance!AJ$40)*100,1))","v":23.7},{"$f":"IF(Balance!AK30=0,\"-\",ROUND((Balance!AK30/Balance!AK$40)*100,1))","v":25.5},{"$f":"IF(Balance!AL30=0,\"-\",ROUND((Balance!AL30/Balance!AL$40)*100,1))","v":39.200000000000003},{"$f":"IF(Balance!AM30=0,\"-\",ROUND((Balance!AM30/Balance!AM$40)*100,1))","v":40.200000000000003},{"$f":"IF(Balance!AN30=0,\"-\",ROUND((Balance!AN30/Balance!AN$40)*100,1))","v":18},{"$f":"IF(Balance!AO30=0,\"-\",ROUND((Balance!AO30/Balance!AO$40)*100,1))","v":28.7},{"$f":"IF(Balance!AP30=0,\"-\",ROUND((Balance!AP30/Balance!AP$40)*100,1))","v":20.5},{"$f":"IF(Balance!AQ30=0,\"-\",ROUND((Balance!AQ30/Balance!AQ$40)*100,1))","v":15.1},{"$f":"IF(Balance!AR30=0,\"-\",ROUND((Balance!AR30/Balance!AR$40)*100,1))","v":18.2},{"$f":"IF(Balance!AS30=0,\"-\",ROUND((Balance!AS30/Balance!AS$40)*100,1))","v":26.8},{"$f":"IF(Balance!AT30=0,\"-\",ROUND((Balance!AT30/Balance!AT$40)*100,1))","v":25.4},{"$f":"IF(Balance!AU30=0,\"-\",ROUND((Balance!AU30/Balance!AU$40)*100,1))","v":23.1},{"$f":"IF(Balance!AV30=0,\"-\",ROUND((Balance!AV30/Balance!AV$40)*100,1))","v":12.7},{"$f":"IF(Balance!AW30=0,\"-\",ROUND((Balance!AW30/Balance!AW$40)*100,1))","v":7.6},{"$f":"IF(Balance!AX30=0,\"-\",ROUND((Balance!AX30/Balance!AX$40)*100,1))","v":14.2},{"$f":"IF(Balance!AY30=0,\"-\",ROUND((Balance!AY30/Balance!AY$40)*100,1))","v":17.100000000000001},{"$f":"IF(Balance!AZ30=0,\"-\",ROUND((Balance!AZ30/Balance!AZ$40)*100,1))","v":19.899999999999999},{"$f":"IF(Balance!BA30=0,\"-\",ROUND((Balance!BA30/Balance!BA$40)*100,1))","v":14.8},{"$f":"IF(Balance!BB30=0,\"-\",ROUND((Balance!BB30/Balance!BB$40)*100,1))","v":8.6},{"$f":"IF(Balance!BC30=0,\"-\",ROUND((Balance!BC30/Balance!BC$40)*100,1))","v":20.100000000000001},{"$f":"IF(Balance!BD30=0,\"-\",ROUND((Balance!BD30/Balance!BD$40)*100,1))","v":13},{"$f":"IF(Balance!BE30=0,\"-\",ROUND((Balance!BE30/Balance!BE$40)*100,1))","v":25.2},{"$f":"IF(Balance!BF30=0,\"-\",ROUND((Balance!BF30/Balance!BF$40)*100,1))","v":23.4},{"$f":"IF(Balance!BG30=0,\"-\",ROUND((Balance!BG30/Balance!BG$40)*100,1))","v":14.3},{"$f":"IF(Balance!BH30=0,\"-\",ROUND((Balance!BH30/Balance!BH$40)*100,1))","v":24.1},{"$f":"IF(Balance!BI30=0,\"-\",ROUND((Balance!BI30/Balance!BI$40)*100,1))","v":24.5},{"$f":"IF(Balance!BJ30=0,\"-\",ROUND((Balance!BJ30/Balance!BJ$40)*100,1))","v":25.5},{"$f":"IF(Balance!BK30=0,\"-\",ROUND((Balance!BK30/Balance!BK$40)*100,1))","v":18.3},{"$f":"IF(Balance!BL30=0,\"-\",ROUND((Balance!BL30/Balance!BL$40)*100,1))","v":23.5},{"$f":"IF(Balance!BM30=0,\"-\",ROUND((Balance!BM30/Balance!BM$40)*100,1))","v":44.9},{"$f":"IF(Balance!BN30=0,\"-\",ROUND((Balance!BN30/Balance!BN$40)*100,1))","v":22.1},{"$f":"IF(Balance!BO30=0,\"-\",ROUND((Balance!BO30/Balance!BO$40)*100,1))","v":19.7},{"$f":"IF(Balance!BP30=0,\"-\",ROUND((Balance!BP30/Balance!BP$40)*100,1))","v":18.8},{"$f":"IF(Balance!BQ30=0,\"-\",ROUND((Balance!BQ30/Balance!BQ$40)*100,1))","v":19.8},{"$f":"IF(Balance!BR30=0,\"-\",ROUND((Balance!BR30/Balance!BR$40)*100,1))","v":23.8},{"$f":"IF(Balance!BS30=0,\"-\",ROUND((Balance!BS30/Balance!BS$40)*100,1))","v":20.7},{"$f":"IF(Balance!BT30=0,\"-\",ROUND((Balance!BT30/Balance!BT$40)*100,1))","v":26.4},{"$f":"IF(Balance!BU30=0,\"-\",ROUND((Balance!BU30/Balance!BU$40)*100,1))","v":25.8},{"$f":"IF(Balance!BV30=0,\"-\",ROUND((Balance!BV30/Balance!BV$40)*100,1))","v":15.1},{"$f":"IF(Balance!BW30=0,\"-\",ROUND((Balance!BW30/Balance!BW$40)*100,1))","v":15.1},{"$f":"IF(Balance!BX30=0,\"-\",ROUND((Balance!BX30/Balance!BX$40)*100,1))","v":28},{"$f":"IF(Balance!BY30=0,\"-\",ROUND((Balance!BY30/Balance!BY$40)*100,1))","v":13.5},{"$f":"IF(Balance!BZ30=0,\"-\",ROUND((Balance!BZ30/Balance!BZ$40)*100,1))","v":14.2},{"$f":"IF(Balance!CA30=0,\"-\",ROUND((Balance!CA30/Balance!CA$40)*100,1))","v":13.5},{"$f":"IF(Balance!CB30=0,\"-\",ROUND((Balance!CB30/Balance!CB$40)*100,1))","v":19},{"$f":"IF(Balance!CC30=0,\"-\",ROUND((Balance!CC30/Balance!CC$40)*100,1))","v":19.100000000000001},{"$f":"IF(Balance!CD30=0,\"-\",ROUND((Balance!CD30/Balance!CD$40)*100,1))","v":20.399999999999999},{"$f":"IF(Balance!CE30=0,\"-\",ROUND((Balance!CE30/Balance!CE$40)*100,1))","v":10.8},{"$f":"IF(Balance!CF30=0,\"-\",ROUND((Balance!CF30/Balance!CF$40)*100,1))","v":18.8},{"$f":"IF(Balance!CG30=0,\"-\",ROUND((Balance!CG30/Balance!CG$40)*100,1))","v":14.3},{"$f":"IF(Balance!CH30=0,\"-\",ROUND((Balance!CH30/Balance!CH$40)*100,1))","v":10.6},{"$f":"IF(Balance!CI30=0,\"-\",ROUND((Balance!CI30/Balance!CI$40)*100,1))","v":11.2},{"$f":"IF(Balance!CJ30=0,\"-\",ROUND((Balance!CJ30/Balance!CJ$40)*100,1))","v":15.5},{"$f":"IF(Balance!CK30=0,\"-\",ROUND((Balance!CK30/Balance!CK$40)*100,1))","v":11.6},{"$f":"IF(Balance!CL30=0,\"-\",ROUND((Balance!CL30/Balance!CL$40)*100,1))","v":8.3000000000000007},{"$f":"IF(Balance!CM30=0,\"-\",ROUND((Balance!CM30/Balance!CM$40)*100,1))","v":10.8},{"$f":"IF(Balance!CN30=0,\"-\",ROUND((Balance!CN30/Balance!CN$40)*100,1))","v":4.4000000000000004},{"$f":"IF(Balance!CO30=0,\"-\",ROUND((Balance!CO30/Balance!CO$40)*100,1))","v":7.5},{"$f":"IF(Balance!CP30=0,\"-\",ROUND((Balance!CP30/Balance!CP$40)*100,1))","v":6.3},{"$f":"IF(Balance!CQ30=0,\"-\",ROUND((Balance!CQ30/Balance!CQ$40)*100,1))","v":1},{"$f":"IF(Balance!CR30=0,\"-\",ROUND((Balance!CR30/Balance!CR$40)*100,1))","v":15.1},{"$f":"IF(Balance!CS30=0,\"-\",ROUND((Balance!CS30/Balance!CS$40)*100,1))","v":11.3},{"$f":"IF(Balance!CT30=0,\"-\",ROUND((Balance!CT30/Balance!CT$40)*100,1))","v":13.4},{"$f":"IF(Balance!CU30=0,\"-\",ROUND((Balance!CU30/Balance!CU$40)*100,1))","v":10.199999999999999},{"$f":"IF(Balance!CV30=0,\"-\",ROUND((Balance!CV30/Balance!CV$40)*100,1))","v":15},{"$f":"IF(Balance!CW30=0,\"-\",ROUND((Balance!CW30/Balance!CW$40)*100,1))","v":15.9},{"$f":"IF(Balance!CX30=0,\"-\",ROUND((Balance!CX30/Balance!CX$40)*100,1))","v":5.2},{"$f":"IF(Balance!CY30=0,\"-\",ROUND((Balance!CY30/Balance!CY$40)*100,1))","v":9.5},{"$f":"IF(Balance!CZ30=0,\"-\",ROUND((Balance!CZ30/Balance!CZ$40)*100,1))","v":4.3},{"$f":"IF(Balance!DA30=0,\"-\",ROUND((Balance!DA30/Balance!DA$40)*100,1))","v":4.0999999999999996},{"$f":"IF(Balance!DB30=0,\"-\",ROUND((Balance!DB30/Balance!DB$40)*100,1))","v":5.9},{"$f":"IF(Balance!DC30=0,\"-\",ROUND((Balance!DC30/Balance!DC$40)*100,1))","v":4},{"$f":"IF(Balance!DD30=0,\"-\",ROUND((Balance!DD30/Balance!DD$40)*100,1))","v":15},{"$f":"IF(Balance!DE30=0,\"-\",ROUND((Balance!DE30/Balance!DE$40)*100,1))","v":29.9},{"$f":"IF(Balance!DF30=0,\"-\",ROUND((Balance!DF30/Balance!DF$40)*100,1))","v":10.3},{"$f":"IF(Balance!DG30=0,\"-\",ROUND((Balance!DG30/Balance!DG$40)*100,1))","v":11},{"$f":"IF(Balance!DH30=0,\"-\",ROUND((Balance!DH30/Balance!DH$40)*100,1))","v":11.7},{"$f":"IF(Balance!DI30=0,\"-\",ROUND((Balance!DI30/Balance!DI$40)*100,1))","v":11.3},{"$f":"IF(Balance!DJ30=0,\"-\",ROUND((Balance!DJ30/Balance!DJ$40)*100,1))","v":35.9},{"$f":"IF(Balance!DK30=0,\"-\",ROUND((Balance!DK30/Balance!DK$40)*100,1))","v":26.9},{"$f":"IF(Balance!DL30=0,\"-\",ROUND((Balance!DL30/Balance!DL$40)*100,1))","v":12},{"$f":"IF(Balance!DM30=0,\"-\",ROUND((Balance!DM30/Balance!DM$40)*100,1))","v":15.4},{"$f":"IF(Balance!DN30=0,\"-\",ROUND((Balance!DN30/Balance!DN$40)*100,1))","v":5.5},{"$f":"IF(Balance!DO30=0,\"-\",ROUND((Balance!DO30/Balance!DO$40)*100,1))","v":8.8000000000000007},{"$f":"IF(Balance!DP30=0,\"-\",ROUND((Balance!DP30/Balance!DP$40)*100,1))","v":35.4},{"$f":"IF(Balance!DQ30=0,\"-\",ROUND((Balance!DQ30/Balance!DQ$40)*100,1))","v":25.4},{"$f":"IF(Balance!DR30=0,\"-\",ROUND((Balance!DR30/Balance!DR$40)*100,1))","v":29.7},{"$f":"IF(Balance!DS30=0,\"-\",ROUND((Balance!DS30/Balance!DS$40)*100,1))","v":28.8},{"$f":"IF(Balance!DT30=0,\"-\",ROUND((Balance!DT30/Balance!DT$40)*100,1))","v":34.700000000000003},{"$f":"IF(Balance!DU30=0,\"-\",ROUND((Balance!DU30/Balance!DU$40)*100,1))","v":32.6},{"$f":"IF(Balance!DV30=0,\"-\",ROUND((Balance!DV30/Balance!DV$40)*100,1))","v":15.9},{"$f":"IF(Balance!DW30=0,\"-\",ROUND((Balance!DW30/Balance!DW$40)*100,1))","v":5.3},{"$f":"IF(Balance!DX30=0,\"-\",ROUND((Balance!DX30/Balance!DX$40)*100,1))","v":3.2},{"$f":"IF(Balance!DY30=0,\"-\",ROUND((Balance!DY30/Balance!DY$40)*100,1))","v":3.1},{"$f":"IF(Balance!DZ30=0,\"-\",ROUND((Balance!DZ30/Balance!DZ$40)*100,1))","v":5},{"$f":"IF(Balance!EA30=0,\"-\",ROUND((Balance!EA30/Balance!EA$40)*100,1))","v":5.9},{"$f":"IF(Balance!EB30=0,\"-\",ROUND((Balance!EB30/Balance!EB$40)*100,1))","v":4.3},{"$f":"IF(Balance!EC30=0,\"-\",ROUND((Balance!EC30/Balance!EC$40)*100,1))","v":10.8},{"$f":"IF(Balance!ED30=0,\"-\",ROUND((Balance!ED30/Balance!ED$40)*100,1))","v":8.1},{"$f":"IF(Balance!EE30=0,\"-\",ROUND((Balance!EE30/Balance!EE$40)*100,1))","v":10},{"$f":"IF(Balance!EF30=0,\"-\",ROUND((Balance!EF30/Balance!EF$40)*100,1))","v":10.7},{"$f":"IF(Balance!EG30=0,\"-\",ROUND((Balance!EG30/Balance!EG$40)*100,1))","v":9.9},{"$f":"IF(Balance!EH30=0,\"-\",ROUND((Balance!EH30/Balance!EH$40)*100,1))","v":10.4},{"$f":"IF(Balance!EI30=0,\"-\",ROUND((Balance!EI30/Balance!EI$40)*100,1))","v":6.6},{"$f":"IF(Balance!EJ30=0,\"-\",ROUND((Balance!EJ30/Balance!EJ$40)*100,1))","v":2.8},{"$f":"IF(Balance!EK30=0,\"-\",ROUND((Balance!EK30/Balance!EK$40)*100,1))","v":6.8},{"$f":"IF(Balance!EL30=0,\"-\",ROUND((Balance!EL30/Balance!EL$40)*100,1))","v":10.4},{"$f":"IF(Balance!EM30=0,\"-\",ROUND((Balance!EM30/Balance!EM$40)*100,1))","v":3.2},{"$f":"IF(Balance!EN30=0,\"-\",ROUND((Balance!EN30/Balance!EN$40)*100,1))","v":10.7},{"$f":"IF(Balance!EO30=0,\"-\",ROUND((Balance!EO30/Balance!EO$40)*100,1))","v":18.100000000000001},{"$f":"IF(Balance!EP30=0,\"-\",ROUND((Balance!EP30/Balance!EP$40)*100,1))","v":9.8000000000000007},{"$f":"IF(Balance!EQ30=0,\"-\",ROUND((Balance!EQ30/Balance!EQ$40)*100,1))","v":9.1999999999999993},{"$f":"IF(Balance!ER31=\"-\",\"-\",ROUND((Balance!ER31/Balance!ER$40)*100,1))","v":"-"},{"$f":"IF(Balance!ES31=\"-\",\"-\",ROUND((Balance!ES31/Balance!ES$40)*100,1))","v":"-"},{"$f":"IF(Balance!ET31=\"-\",\"-\",ROUND((Balance!ET31/Balance!ET$40)*100,1))","v":"-"},{"$f":"IF(Balance!EU31=\"-\",\"-\",ROUND((Balance!EU31/Balance!EU$40)*100,1))","v":"-"},{"$f":"IF(Balance!EV31=\"-\",\"-\",ROUND((Balance!EV31/Balance!EV$40)*100,1))","v":"-"},{"$f":"IF(Balance!EW31=\"-\",\"-\",ROUND((Balance!EW31/Balance!EW$40)*100,1))","v":"-"},{"$f":"IF(Balance!EX31=\"-\",\"-\",ROUND((Balance!EX31/Balance!EX$40)*100,1))","v":"-"},{"$f":"IF(Balance!EY31=\"-\",\"-\",ROUND((Balance!EY31/Balance!EY$40)*100,1))","v":"-"},{"$f":"IF(Balance!EZ31=\"-\",\"-\",ROUND((Balance!EZ31/Balance!EZ$40)*100,1))","v":"-"},{"$f":"IF(Balance!FA31=\"-\",\"-\",ROUND((Balance!FA31/Balance!FA$40)*100,1))","v":"-"},{"$f":"IF(Balance!FB31=\"-\",\"-\",ROUND((Balance!FB31/Balance!FB$40)*100,1))","v":"-"}]
[null,"Generación auxiliar",{"$f":"IF(Balance!C31=0,\"-\",ROUND((Balance!C31/Balance!C$40)*100,1))","v":"-"},{"$f":"IF(Balance!D31=0,\"-\",ROUND((Balance!D31/Balance!D$40)*100,1))","v":"-"},{"$f":"IF(Balance!E31=0,\"-\",ROUND((Balance!E31/Balance!E$40)*100,1))","v":"-"},{"$f":"IF(Balance!F31=0,\"-\",ROUND((Balance!F31/Balance!F$40)*100,1))","v":"-"},{"$f":"IF(Balance!G31=0,\"-\",ROUND((Balance!G31/Balance!G$40)*100,1))","v":"-"},{"$f":"IF(Balance!H31=0,\"-\",ROUND((Balance!H31/Balance!H$40)*100,1))","v":"-"},{"$f":"IF(Balance!I31=0,\"-\",ROUND((Balance!I31/Balance!I$40)*100,1))","v":0},{"$f":"IF(Balance!J31=0,\"-\",ROUND((Balance!J31/Balance!J$40)*100,1))","v":0.6},{"$f":"IF(Balance!K31=0,\"-\",ROUND((Balance!K31/Balance!K$40)*100,1))","v":0.5},{"$f":"IF(Balance!L31=0,\"-\",ROUND((Balance!L31/Balance!L$40)*100,1))","v":0},{"$f":"IF(Balance!M31=0,\"-\",ROUND((Balance!M31/Balance!M$40)*100,1))","v":"-"},{"$f":"IF(Balance!N31=0,\"-\",ROUND((Balance!N31/Balance!N$40)*100,1))","v":0},{"$f":"IF(Balance!O31=0,\"-\",ROUND((Balance!O31/Balance!O$40)*100,1))","v":"-"},{"$f":"IF(Balance!P31=0,\"-\",ROUND((Balance!P31/Balance!P$40)*100,1))","v":"-"},{"$f":"IF(Balance!Q31=0,\"-\",ROUND((Balance!Q31/Balance!Q$40)*100,1))","v":"-"},{"$f":"IF(Balance!R31=0,\"-\",ROUND((Balance!R31/Balance!R$40)*100,1))","v":"-"},{"$f":"IF(Balance!S31=0,\"-\",ROUND((Balance!S31/Balance!S$40)*100,1))","v":"-"},{"$f":"IF(Balance!T31=0,\"-\",ROUND((Balance!T31/Balance!T$40)*100,1))","v":"-"},{"$f":"IF(Balance!U31=0,\"-\",ROUND((Balance!U31/Balance!U$40)*100,1))","v":0.4},{"$f":"IF(Balance!V31=0,\"-\",ROUND((Balance!V31/Balance!V$40)*100,1))","v":1.4},{"$f":"IF(Balance!W31=0,\"-\",ROUND((Balance!W31/Balance!W$40)*100,1))","v":0.3},{"$f":"IF(Balance!X31=0,\"-\",ROUND((Balance!X31/Balance!X$40)*100,1))","v":"-"},{"$f":"IF(Balance!Y31=0,\"-\",ROUND((Balance!Y31/Balance!Y$40)*100,1))","v":"-"},{"$f":"IF(Balance!Z31=0,\"-\",ROUND((Balance!Z31/Balance!Z$40)*100,1))","v":"-"},{"$f":"IF(Balance!AA31=0,\"-\",ROUND((Balance!AA31/Balance!AA$40)*100,1))","v":"-"},{"$f":"IF(Balance!AB31=0,\"-\",ROUND((Balance!AB31/Balance!AB$40)*100,1))","v":"-"},{"$f":"IF(Balance!AC31=0,\"-\",ROUND((Balance!AC31/Balance!AC$40)*100,1))","v":"-"},{"$f":"IF(Balance!AD31=0,\"-\",ROUND((Balance!AD31/Balance!AD$40)*100,1))","v":"-"},{"$f":"IF(Balance!AE31=0,\"-\",ROUND((Balance!AE31/Balance!AE$40)*100,1))","v":"-"},{"$f":"IF(Balance!AF31=0,\"-\",ROUND((Balance!AF31/Balance!AF$40)*100,1))","v":"-"},{"$f":"IF(Balance!AG31=0,\"-\",ROUND((Balance!AG31/Balance!AG$40)*100,1))","v":0.3},{"$f":"IF(Balance!AH31=0,\"-\",ROUND((Balance!AH31/Balance!AH$40)*100,1))","v":0.4},{"$f":"IF(Balance!AI31=0,\"-\",ROUND((Balance!AI31/Balance!AI$40)*100,1))","v":0.2},{"$f":"IF(Balance!AJ31=0,\"-\",ROUND((Balance!AJ31/Balance!AJ$40)*100,1))","v":0},{"$f":"IF(Balance!AK31=0,\"-\",ROUND((Balance!AK31/Balance!AK$40)*100,1))","v":"-"},{"$f":"IF(Balance!AL31=0,\"-\",ROUND((Balance!AL31/Balance!AL$40)*100,1))","v":"-"},{"$f":"IF(Balance!AM31=0,\"-\",ROUND((Balance!AM31/Balance!AM$40)*100,1))","v":"-"},{"$f":"IF(Balance!AN31=0,\"-\",ROUND((Balance!AN31/Balance!AN$40)*100,1))","v":"-"},{"$f":"IF(Balance!AO31=0,\"-\",ROUND((Balance!AO31/Balance!AO$40)*100,1))","v":"-"},{"$f":"IF(Balance!AP31=0,\"-\",ROUND((Balance!AP31/Balance!AP$40)*100,1))","v":"-"},{"$f":"IF(Balance!AQ31=0,\"-\",ROUND((Balance!AQ31/Balance!AQ$40)*100,1))","v":"-"},{"$f":"IF(Balance!AR31=0,\"-\",ROUND((Balance!AR31/Balance!AR$40)*100,1))","v":"-"},{"$f":"IF(Balance!AS31=0,\"-\",ROUND((Balance!AS31/Balance!AS$40)*100,1))","v":0.2},{"$f":"IF(Balance!AT31=0,\"-\",ROUND((Balance!AT31/Balance!AT$40)*100,1))","v":0.5},{"$f":"IF(Balance!AU31=0,\"-\",ROUND((Balance!AU31/Balance!AU$40)*100,1))","v":0.2},{"$f":"IF(Balance!AV31=0,\"-\",ROUND((Balance!AV31/Balance!AV$40)*100,1))","v":0},{"$f":"IF(Balance!AW31=0,\"-\",ROUND((Balance!AW31/Balance!AW$40)*100,1))","v":"-"},{"$f":"IF(Balance!AX31=0,\"-\",ROUND((Balance!AX31/Balance!AX$40)*100,1))","v":"-"},{"$f":"IF(Balance!AY31=0,\"-\",ROUND((Balance!AY31/Balance!AY$40)*100,1))","v":"-"},{"$f":"IF(Balance!AZ31=0,\"-\",ROUND((Balance!AZ31/Balance!AZ$40)*100,1))","v":"-"},{"$f":"IF(Balance!BA31=0,\"-\",ROUND((Balance!BA31/Balance!BA$40)*100,1))","v":"-"},{"$f":"IF(Balance!BB31=0,\"-\",ROUND((Balance!BB31/Balance!BB$40)*100,1))","v":"-"},{"$f":"IF(Balance!BC31=0,\"-\",ROUND((Balance!BC31/Balance!BC$40)*100,1))","v":"-"},{"$f":"IF(Balance!BD31=0,\"-\",ROUND((Balance!BD31/Balance!BD$40)*100,1))","v":0},{"$f":"IF(Balance!BE31=0,\"-\",ROUND((Balance!BE31/Balance!BE$40)*100,1))","v":0.4},{"$f":"IF(Balance!BF31=0,\"-\",ROUND((Balance!BF31/Balance!BF$40)*100,1))","v":0.5},{"$f":"IF(Balance!BG31=0,\"-\",ROUND((Balance!BG31/Balance!BG$40)*100,1))","v":0.2},{"$f":"IF(Balance!BH31=0,\"-\",ROUND((Balance!BH31/Balance!BH$40)*100,1))","v":0},{"$f":"IF(Balance!BI31=0,\"-\",ROUND((Balance!BI31/Balance!BI$40)*100,1))","v":"-"},{"$f":"IF(Balance!BJ31=0,\"-\",ROUND((Balance!BJ31/Balance!BJ$40)*100,1))","v":"-"},{"$f":"IF(Balance!BK31=0,\"-\",ROUND((Balance!BK31/Balance!BK$40)*100,1))","v":"-"},{"$f":"IF(Balance!BL31=0,\"-\",ROUND((Balance!BL31/Balance!BL$40)*100,1))","v":"-"},{"$f":"IF(Balance!BM31=0,\"-\",ROUND((Balance!BM31/Balance!BM$40)*100,1))","v":"-"},{"$f":"IF(Balance!BN31=0,\"-\",ROUND((Balance!BN31/Balance!BN$40)*100,1))","v":"-"},{"$f":"IF(Balance!BO31=0,\"-\",ROUND((Balance!BO31/Balance!BO$40)*100,1))","v":"-"},{"$f":"IF(Balance!BP31=0,\"-\",ROUND((Balance!BP31/Balance!BP$40)*100,1))","v":0.2},{"$f":"IF(Balance!BQ31=0,\"-\",ROUND((Balance!BQ31/Balance!BQ$40)*100,1))","v":0.4},{"$f":"IF(Balance!BR31=0,\"-\",ROUND((Balance!BR31/Balance!BR$40)*100,1))","v":0.6},{"$f":"IF(Balance!BS31=0,\"-\",ROUND((Balance!BS31/Balance!BS$40)*100,1))","v":0.3},{"$f":"IF(Balance!BT31=0,\"-\",ROUND((Balance!BT31/Balance!BT$40)*100,1))","v":"-"},{"$f":"IF(Balance!BU31=0,\"-\",ROUND((Balance!BU31/Balance!BU$40)*100,1))","v":"-"},{"$f":"IF(Balance!BV31=0,\"-\",ROUND((Balance!BV31/Balance!BV$40)*100,1))","v":"-"},{"$f":"IF(Balance!BW31=0,\"-\",ROUND((Balance!BW31/Balance!BW$40)*100,1))","v":"-"},{"$f":"IF(Balance!BX31=0,\"-\",ROUND((Balance!BX31/Balance!BX$40)*100,1))","v":"-"},{"$f":"IF(Balance!BY31=0,\"-\",ROUND((Balance!BY31/Balance!BY$40)*100,1))","v":"-"},{"$f":"IF(Balance!BZ31=0,\"-\",ROUND((Balance!BZ31/Balance!BZ$40)*100,1))","v":"-"},{"$f":"IF(Balance!CA31=0,\"-\",ROUND((Balance!CA31/Balance!CA$40)*100,1))","v":"-"},{"$f":"IF(Balance!CB31=0,\"-\",ROUND((Balance!CB31/Balance!CB$40)*100,1))","v":0.2},{"$f":"IF(Balance!CC31=0,\"-\",ROUND((Balance!CC31/Balance!CC$40)*100,1))","v":0.4},{"$f":"IF(Balance!CD31=0,\"-\",ROUND((Balance!CD31/Balance!CD$40)*100,1))","v":0.7},{"$f":"IF(Balance!CE31=0,\"-\",ROUND((Balance!CE31/Balance!CE$40)*100,1))","v":0.3},{"$f":"IF(Balance!CF31=0,\"-\",ROUND((Balance!CF31/Balance!CF$40)*100,1))","v":0},{"$f":"IF(Balance!CG31=0,\"-\",ROUND((Balance!CG31/Balance!CG$40)*100,1))","v":"-"},{"$f":"IF(Balance!CH31=0,\"-\",ROUND((Balance!CH31/Balance!CH$40)*100,1))","v":"-"},{"$f":"IF(Balance!CI31=0,\"-\",ROUND((Balance!CI31/Balance!CI$40)*100,1))","v":"-"},{"$f":"IF(Balance!CJ31=0,\"-\",ROUND((Balance!CJ31/Balance!CJ$40)*100,1))","v":"-"},{"$f":"IF(Balance!CK31=0,\"-\",ROUND((Balance!CK31/Balance!CK$40)*100,1))","v":"-"},{"$f":"IF(Balance!CL31=0,\"-\",ROUND((Balance!CL31/Balance!CL$40)*100,1))","v":"-"},{"$f":"IF(Balance!CM31=0,\"-\",ROUND((Balance!CM31/Balance!CM$40)*100,1))","v":0},{"$f":"IF(Balance!CN31=0,\"-\",ROUND((Balance!CN31/Balance!CN$40)*100,1))","v":0.2},{"$f":"IF(Balance!CO31=0,\"-\",ROUND((Balance!CO31/Balance!CO$40)*100,1))","v":0.5},{"$f":"IF(Balance!CP31=0,\"-\",ROUND((Balance!CP31/Balance!CP$40)*100,1))","v":0.6},{"$f":"IF(Balance!CQ31=0,\"-\",ROUND((Balance!CQ31/Balance!CQ$40)*100,1))","v":0.2},{"$f":"IF(Balance!CR31=0,\"-\",ROUND((Balance!CR31/Balance!CR$40)*100,1))","v":0},{"$f":"IF(Balance!CS31=0,\"-\",ROUND((Balance!CS31/Balance!CS$40)*100,1))","v":"-"},{"$f":"IF(Balance!CT31=0,\"-\",ROUND((Balance!CT31/Balance!CT$40)*100,1))","v":"-"},{"$f":"IF(Balance!CU31=0,\"-\",ROUND((Balance!CU31/Balance!CU$40)*100,1))","v":"-"},{"$f":"IF(Balance!CV31=0,\"-\",ROUND((Balance!CV31/Balance!CV$40)*100,1))","v":"-"},{"$f":"IF(Balance!CW31=0,\"-\",ROUND((Balance!CW31/Balance!CW$40)*100,1))","v":"-"},{"$f":"IF(Balance!CX31=0,\"-\",ROUND((Balance!CX31/Balance!CX$40)*100,1))","v":"-"},{"$f":"IF(Balance!CY31=0,\"-\",ROUND((Balance!CY31/Balance!CY$40)*100,1))","v":"-"},{"$f":"IF(Balance!CZ31=0,\"-\",ROUND((Balance!CZ31/Balance!CZ$40)*100,1))","v":"-"},{"$f":"IF(Balance!DA31=0,\"-\",ROUND((Balance!DA31/Balance!DA$40)*100,1))","v":0.6},{"$f":"IF(Balance!DB31=0,\"-\",ROUND((Balance!DB31/Balance!DB$40)*100,1))","v":0.7},{"$f":"IF(Balance!DC31=0,\"-\",ROUND((Balance!DC31/Balance!DC$40)*100,1))","v":0.5},{"$f":"IF(Balance!DD31=0,\"-\",ROUND((Balance!DD31/Balance!DD$40)*100,1))","v":0},{"$f":"IF(Balance!DE31=0,\"-\",ROUND((Balance!DE31/Balance!DE$40)*100,1))","v":"-"},{"$f":"IF(Balance!DF31=0,\"-\",ROUND((Balance!DF31/Balance!DF$40)*100,1))","v":"-"},{"$f":"IF(Balance!DG31=0,\"-\",ROUND((Balance!DG31/Balance!DG$40)*100,1))","v":"-"},{"$f":"IF(Balance!DH31=0,\"-\",ROUND((Balance!DH31/Balance!DH$40)*100,1))","v":"-"},{"$f":"IF(Balance!DI31=0,\"-\",ROUND((Balance!DI31/Balance!DI$40)*100,1))","v":"-"},{"$f":"IF(Balance!DJ31=0,\"-\",ROUND((Balance!DJ31/Balance!DJ$40)*100,1))","v":"-"},{"$f":"IF(Balance!DK31=0,\"-\",ROUND((Balance!DK31/Balance!DK$40)*100,1))","v":"-"},{"$f":"IF(Balance!DL31=0,\"-\",ROUND((Balance!DL31/Balance!DL$40)*100,1))","v":0.1},{"$f":"IF(Balance!DM31=0,\"-\",ROUND((Balance!DM31/Balance!DM$40)*100,1))","v":0.7},{"$f":"IF(Balance!DN31=0,\"-\",ROUND((Balance!DN31/Balance!DN$40)*100,1))","v":0.9},{"$f":"IF(Balance!DO31=0,\"-\",ROUND((Balance!DO31/Balance!DO$40)*100,1))","v":0.6},{"$f":"IF(Balance!DP31=0,\"-\",ROUND((Balance!DP31/Balance!DP$40)*100,1))","v":"-"},{"$f":"IF(Balance!DQ31=0,\"-\",ROUND((Balance!DQ31/Balance!DQ$40)*100,1))","v":"-"},{"$f":"IF(Balance!DR31=0,\"-\",ROUND((Balance!DR31/Balance!DR$40)*100,1))","v":"-"},{"$f":"IF(Balance!DS31=0,\"-\",ROUND((Balance!DS31/Balance!DS$40)*100,1))","v":"-"},{"$f":"IF(Balance!DT31=0,\"-\",ROUND((Balance!DT31/Balance!DT$40)*100,1))","v":"-"},{"$f":"IF(Balance!DU31=0,\"-\",ROUND((Balance!DU31/Balance!DU$40)*100,1))","v":"-"},{"$f":"IF(Balance!DV31=0,\"-\",ROUND((Balance!DV31/Balance!DV$40)*100,1))","v":"-"},{"$f":"IF(Balance!DW31=0,\"-\",ROUND((Balance!DW31/Balance!DW$40)*100,1))","v":"-"},{"$f":"IF(Balance!DX31=0,\"-\",ROUND((Balance!DX31/Balance!DX$40)*100,1))","v":0.3},{"$f":"IF(Balance!DY31=0,\"-\",ROUND((Balance!DY31/Balance!DY$40)*100,1))","v":0.6},{"$f":"IF(Balance!DZ31=0,\"-\",ROUND((Balance!DZ31/Balance!DZ$40)*100,1))","v":0.7},{"$f":"IF(Balance!EA31=0,\"-\",ROUND((Balance!EA31/Balance!EA$40)*100,1))","v":0.5},{"$f":"IF(Balance!EB31=0,\"-\",ROUND((Balance!EB31/Balance!EB$40)*100,1))","v":0.1},{"$f":"IF(Balance!EC31=0,\"-\",ROUND((Balance!EC31/Balance!EC$40)*100,1))","v":"-"},{"$f":"IF(Balance!ED31=0,\"-\",ROUND((Balance!ED31/Balance!ED$40)*100,1))","v":"-"},{"$f":"IF(Balance!EE31=0,\"-\",ROUND((Balance!EE31/Balance!EE$40)*100,1))","v":"-"},{"$f":"IF(Balance!EF31=0,\"-\",ROUND((Balance!EF31/Balance!EF$40)*100,1))","v":"-"},{"$f":"IF(Balance!EG31=0,\"-\",ROUND((Balance!EG31/Balance!EG$40)*100,1))","v":"-"},{"$f":"IF(Balance!EH31=0,\"-\",ROUND((Balance!EH31/Balance!EH$40)*100,1))","v":"-"},{"$f":"IF(Balance!EI31=0,\"-\",ROUND((Balance!EI31/Balance!EI$40)*100,1))","v":0.3},{"$f":"IF(Balance!EJ31=0,\"-\",ROUND((Balance!EJ31/Balance!EJ$40)*100,1))","v":0.4},{"$f":"IF(Balance!EK31=0,\"-\",ROUND((Balance!EK31/Balance!EK$40)*100,1))","v":0.6},{"$f":"IF(Balance!EL31=0,\"-\",ROUND((Balance!EL31/Balance!EL$40)*100,1))","v":0.8},{"$f":"IF(Balance!EM31=0,\"-\",ROUND((Balance!EM31/Balance!EM$40)*100,1))","v":0.6},{"$f":"IF(Balance!EN31=0,\"-\",ROUND((Balance!EN31/Balance!EN$40)*100,1))","v":0.4},{"$f":"IF(Balance!EO31=0,\"-\",ROUND((Balance!EO31/Balance!EO$40)*100,1))","v":"-"},{"$f":"IF(Balance!EP31=0,\"-\",ROUND((Balance!EP31/Balance!EP$40)*100,1))","v":"-"},{"$f":"IF(Balance!EQ31=0,\"-\",ROUND((Balance!EQ31/Balance!EQ$40)*100,1))","v":"-"},{"$f":"IF(Balance!ER32=\"-\",\"-\",ROUND((Balance!ER32/Balance!ER$40)*100,1))","v":"-"},{"$f":"IF(Balance!ES32=\"-\",\"-\",ROUND((Balance!ES32/Balance!ES$40)*100,1))","v":"-"},{"$f":"IF(Balance!ET32=\"-\",\"-\",ROUND((Balance!ET32/Balance!ET$40)*100,1))","v":"-"},{"$f":"IF(Balance!EU32=\"-\",\"-\",ROUND((Balance!EU32/Balance!EU$40)*100,1))","v":"-"},{"$f":"IF(Balance!EV32=\"-\",\"-\",ROUND((Balance!EV32/Balance!EV$40)*100,1))","v":"-"},{"$f":"IF(Balance!EW32=\"-\",\"-\",ROUND((Balance!EW32/Balance!EW$40)*100,1))","v":"-"},{"$f":"IF(Balance!EX32=\"-\",\"-\",ROUND((Balance!EX32/Balance!EX$40)*100,1))","v":"-"},{"$f":"IF(Balance!EY32=\"-\",\"-\",ROUND((Balance!EY32/Balance!EY$40)*100,1))","v":"-"},{"$f":"IF(Balance!EZ32=\"-\",\"-\",ROUND((Balance!EZ32/Balance!EZ$40)*100,1))","v":"-"},{"$f":"IF(Balance!FA32=\"-\",\"-\",ROUND((Balance!FA32/Balance!FA$40)*100,1))","v":"-"},{"$f":"IF(Balance!FB32=\"-\",\"-\",ROUND((Balance!FB32/Balance!FB$40)*100,1))","v":"-"}]
[null,"Eólica",{"$f":"IF(Balance!C33=0,\"-\",ROUND((Balance!C33/Balance!C$40)*100,1))","v":0.1},{"$f":"IF(Balance!D33=0,\"-\",ROUND((Balance!D33/Balance!D$40)*100,1))","v":0.1},{"$f":"IF(Balance!E33=0,\"-\",ROUND((Balance!E33/Balance!E$40)*100,1))","v":0.1},{"$f":"IF(Balance!F33=0,\"-\",ROUND((Balance!F33/Balance!F$40)*100,1))","v":0.1},{"$f":"IF(Balance!G33=0,\"-\",ROUND((Balance!G33/Balance!G$40)*100,1))","v":0.1},{"$f":"IF(Balance!H33=0,\"-\",ROUND((Balance!H33/Balance!H$40)*100,1))","v":0.1},{"$f":"IF(Balance!I33=0,\"-\",ROUND((Balance!I33/Balance!I$40)*100,1))","v":0},{"$f":"IF(Balance!J33=0,\"-\",ROUND((Balance!J33/Balance!J$40)*100,1))","v":0.1},{"$f":"IF(Balance!K33=0,\"-\",ROUND((Balance!K33/Balance!K$40)*100,1))","v":0.1},{"$f":"IF(Balance!L33=0,\"-\",ROUND((Balance!L33/Balance!L$40)*100,1))","v":0.1},{"$f":"IF(Balance!M33=0,\"-\",ROUND((Balance!M33/Balance!M$40)*100,1))","v":0.1},{"$f":"IF(Balance!N33=0,\"-\",ROUND((Balance!N33/Balance!N$40)*100,1))","v":0.1},{"$f":"IF(Balance!O33=0,\"-\",ROUND((Balance!O33/Balance!O$40)*100,1))","v":0.1},{"$f":"IF(Balance!P33=0,\"-\",ROUND((Balance!P33/Balance!P$40)*100,1))","v":0.1},{"$f":"IF(Balance!Q33=0,\"-\",ROUND((Balance!Q33/Balance!Q$40)*100,1))","v":0.1},{"$f":"IF(Balance!R33=0,\"-\",ROUND((Balance!R33/Balance!R$40)*100,1))","v":0.1},{"$f":"IF(Balance!S33=0,\"-\",ROUND((Balance!S33/Balance!S$40)*100,1))","v":0.1},{"$f":"IF(Balance!T33=0,\"-\",ROUND((Balance!T33/Balance!T$40)*100,1))","v":0.1},{"$f":"IF(Balance!U33=0,\"-\",ROUND((Balance!U33/Balance!U$40)*100,1))","v":0.1},{"$f":"IF(Balance!V33=0,\"-\",ROUND((Balance!V33/Balance!V$40)*100,1))","v":0.1},{"$f":"IF(Balance!W33=0,\"-\",ROUND((Balance!W33/Balance!W$40)*100,1))","v":0.1},{"$f":"IF(Balance!X33=0,\"-\",ROUND((Balance!X33/Balance!X$40)*100,1))","v":0.1},{"$f":"IF(Balance!Y33=0,\"-\",ROUND((Balance!Y33/Balance!Y$40)*100,1))","v":0.2},{"$f":"IF(Balance!Z33=0,\"-\",ROUND((Balance!Z33/Balance!Z$40)*100,1))","v":0.2},{"$f":"IF(Balance!AA33=0,\"-\",ROUND((Balance!AA33/Balance!AA$40)*100,1))","v":0.1},{"$f":"IF(Balance!AB33=0,\"-\",ROUND((Balance!AB33/Balance!AB$40)*100,1))","v":0.1},{"$f":"IF(Balance!AC33=0,\"-\",ROUND((Balance!AC33/Balance!AC$40)*100,1))","v":0.1},{"$f":"IF(Balance!AD33=0,\"-\",ROUND((Balance!AD33/Balance!AD$40)*100,1))","v":0.2},{"$f":"IF(Balance!AE33=0,\"-\",ROUND((Balance!AE33/Balance!AE$40)*100,1))","v":0},{"$f":"IF(Balance!AF33=0,\"-\",ROUND((Balance!AF33/Balance!AF$40)*100,1))","v":0.1},{"$f":"IF(Balance!AG33=0,\"-\",ROUND((Balance!AG33/Balance!AG$40)*100,1))","v":0},{"$f":"IF(Balance!AH33=0,\"-\",ROUND((Balance!AH33/Balance!AH$40)*100,1))","v":0.1},{"$f":"IF(Balance!AI33=0,\"-\",ROUND((Balance!AI33/Balance!AI$40)*100,1))","v":0.1},{"$f":"IF(Balance!AJ33=0,\"-\",ROUND((Balance!AJ33/Balance!AJ$40)*100,1))","v":0.1},{"$f":"IF(Balance!AK33=0,\"-\",ROUND((Balance!AK33/Balance!AK$40)*100,1))","v":0.1},{"$f":"IF(Balance!AL33=0,\"-\",ROUND((Balance!AL33/Balance!AL$40)*100,1))","v":0.1},{"$f":"IF(Balance!AM33=0,\"-\",ROUND((Balance!AM33/Balance!AM$40)*100,1))","v":0.1},{"$f":"IF(Balance!AN33=0,\"-\",ROUND((Balance!AN33/Balance!AN$40)*100,1))","v":0.2},{"$f":"IF(Balance!AO33=0,\"-\",ROUND((Balance!AO33/Balance!AO$40)*100,1))","v":0.1},{"$f":"IF(Balance!AP33=0,\"-\",ROUND((Balance!AP33/Balance!AP$40)*100,1))","v":0.1},{"$f":"IF(Balance!AQ33=0,\"-\",ROUND((Balance!AQ33/Balance!AQ$40)*100,1))","v":0.1},{"$f":"IF(Balance!AR33=0,\"-\",ROUND((Balance!AR33/Balance!AR$40)*100,1))","v":0.1},{"$f":"IF(Balance!AS33=0,\"-\",ROUND((Balance!AS33/Balance!AS$40)*100,1))","v":0},{"$f":"IF(Balance!AT33=0,\"-\",ROUND((Balance!AT33/Balance!AT$40)*100,1))","v":0},{"$f":"IF(Balance!AU33=0,\"-\",ROUND((Balance!AU33/Balance!AU$40)*100,1))","v":0.1},{"$f":"IF(Balance!AV33=0,\"-\",ROUND((Balance!AV33/Balance!AV$40)*100,1))","v":0.1},{"$f":"IF(Balance!AW33=0,\"-\",ROUND((Balance!AW33/Balance!AW$40)*100,1))","v":0.1},{"$f":"IF(Balance!AX33=0,\"-\",ROUND((Balance!AX33/Balance!AX$40)*100,1))","v":0.2},{"$f":"IF(Balance!AY33=0,\"-\",ROUND((Balance!AY33/Balance!AY$40)*100,1))","v":0.1},{"$f":"IF(Balance!AZ33=0,\"-\",ROUND((Balance!AZ33/Balance!AZ$40)*100,1))","v":0.2},{"$f":"IF(Balance!BA33=0,\"-\",ROUND((Balance!BA33/Balance!BA$40)*100,1))","v":0.1},{"$f":"IF(Balance!BB33=0,\"-\",ROUND((Balance!BB33/Balance!BB$40)*100,1))","v":0.1},{"$f":"IF(Balance!BC33=0,\"-\",ROUND((Balance!BC33/Balance!BC$40)*100,1))","v":0.1},{"$f":"IF(Balance!BD33=0,\"-\",ROUND((Balance!BD33/Balance!BD$40)*100,1))","v":0.1},{"$f":"IF(Balance!BE33=0,\"-\",ROUND((Balance!BE33/Balance!BE$40)*100,1))","v":0.1},{"$f":"IF(Balance!BF33=0,\"-\",ROUND((Balance!BF33/Balance!BF$40)*100,1))","v":0.1},{"$f":"IF(Balance!BG33=0,\"-\",ROUND((Balance!BG33/Balance!BG$40)*100,1))","v":0.1},{"$f":"IF(Balance!BH33=0,\"-\",ROUND((Balance!BH33/Balance!BH$40)*100,1))","v":0.1},{"$f":"IF(Balance!BI33=0,\"-\",ROUND((Balance!BI33/Balance!BI$40)*100,1))","v":0.1},{"$f":"IF(Balance!BJ33=0,\"-\",ROUND((Balance!BJ33/Balance!BJ$40)*100,1))","v":0.1},{"$f":"IF(Balance!BK33=0,\"-\",ROUND((Balance!BK33/Balance!BK$40)*100,1))","v":0.1},{"$f":"IF(Balance!BL33=0,\"-\",ROUND((Balance!BL33/Balance!BL$40)*100,1))","v":0.1},{"$f":"IF(Balance!BM33=0,\"-\",ROUND((Balance!BM33/Balance!BM$40)*100,1))","v":0.1},{"$f":"IF(Balance!BN33=0,\"-\",ROUND((Balance!BN33/Balance!BN$40)*100,1))","v":0.1},{"$f":"IF(Balance!BO33=0,\"-\",ROUND((Balance!BO33/Balance!BO$40)*100,1))","v":0.1},{"$f":"IF(Balance!BP33=0,\"-\",ROUND((Balance!BP33/Balance!BP$40)*100,1))","v":0.1},{"$f":"IF(Balance!BQ33=0,\"-\",ROUND((Balance!BQ33/Balance!BQ$40)*100,1))","v":0.1},{"$f":"IF(Balance!BR33=0,\"-\",ROUND((Balance!BR33/Balance!BR$40)*100,1))","v":0.1},{"$f":"IF(Balance!BS33=0,\"-\",ROUND((Balance!BS33/Balance!BS$40)*100,1))","v":0},{"$f":"IF(Balance!BT33=0,\"-\",ROUND((Balance!BT33/Balance!BT$40)*100,1))","v":0.1},{"$f":"IF(Balance!BU33=0,\"-\",ROUND((Balance!BU33/Balance!BU$40)*100,1))","v":0.1},{"$f":"IF(Balance!BV33=0,\"-\",ROUND((Balance!BV33/Balance!BV$40)*100,1))","v":0.1},{"$f":"IF(Balance!BW33=0,\"-\",ROUND((Balance!BW33/Balance!BW$40)*100,1))","v":0.1},{"$f":"IF(Balance!BX33=0,\"-\",ROUND((Balance!BX33/Balance!BX$40)*100,1))","v":0.2},{"$f":"IF(Balance!BY33=0,\"-\",ROUND((Balance!BY33/Balance!BY$40)*100,1))","v":0.1},{"$f":"IF(Balance!BZ33=0,\"-\",ROUND((Balance!BZ33/Balance!BZ$40)*100,1))","v":0.2},{"$f":"IF(Balance!CA33=0,\"-\",ROUND((Balance!CA33/Balance!CA$40)*100,1))","v":0.1},{"$f":"IF(Balance!CB33=0,\"-\",ROUND((Balance!CB33/Balance!CB$40)*100,1))","v":0.1},{"$f":"IF(Balance!CC33=0,\"-\",ROUND((Balance!CC33/Balance!CC$40)*100,1))","v":0.1},{"$f":"IF(Balance!CD33=0,\"-\",ROUND((Balance!CD33/Balance!CD$40)*100,1))","v":0},{"$f":"IF(Balance!CE33=0,\"-\",ROUND((Balance!CE33/Balance!CE$40)*100,1))","v":0.2},{"$f":"IF(Balance!CF33=0,\"-\",ROUND((Balance!CF33/Balance!CF$40)*100,1))","v":0.1},{"$f":"IF(Balance!CG33=0,\"-\",ROUND((Balance!CG33/Balance!CG$40)*100,1))","v":0.2},{"$f":"IF(Balance!CH33=0,\"-\",ROUND((Balance!CH33/Balance!CH$40)*100,1))","v":0.2},{"$f":"IF(Balance!CI33=0,\"-\",ROUND((Balance!CI33/Balance!CI$40)*100,1))","v":0.2},{"$f":"IF(Balance!CJ33=0,\"-\",ROUND((Balance!CJ33/Balance!CJ$40)*100,1))","v":0.2},{"$f":"IF(Balance!CK33=0,\"-\",ROUND((Balance!CK33/Balance!CK$40)*100,1))","v":0.2},{"$f":"IF(Balance!CL33=0,\"-\",ROUND((Balance!CL33/Balance!CL$40)*100,1))","v":0.2},{"$f":"IF(Balance!CM33=0,\"-\",ROUND((Balance!CM33/Balance!CM$40)*100,1))","v":0.1},{"$f":"IF(Balance!CN33=0,\"-\",ROUND((Balance!CN33/Balance!CN$40)*100,1))","v":0.1},{"$f":"IF(Balance!CO33=0,\"-\",ROUND((Balance!CO33/Balance!CO$40)*100,1))","v":0},{"$f":"IF(Balance!CP33=0,\"-\",ROUND((Balance!CP33/Balance!CP$40)*100,1))","v":0.1},{"$f":"IF(Balance!CQ33=0,\"-\",ROUND((Balance!CQ33/Balance!CQ$40)*100,1))","v":0.1},{"$f":"IF(Balance!CR33=0,\"-\",ROUND((Balance!CR33/Balance!CR$40)*100,1))","v":0.1},{"$f":"IF(Balance!CS33=0,\"-\",ROUND((Balance!CS33/Balance!CS$40)*100,1))","v":0.3},{"$f":"IF(Balance!CT33=0,\"-\",ROUND((Balance!CT33/Balance!CT$40)*100,1))","v":0.1},{"$f":"IF(Balance!CU33=0,\"-\",ROUND((Balance!CU33/Balance!CU$40)*100,1))","v":0.2},{"$f":"IF(Balance!CV33=0,\"-\",ROUND((Balance!CV33/Balance!CV$40)*100,1))","v":0.2},{"$f":"IF(Balance!CW33=0,\"-\",ROUND((Balance!CW33/Balance!CW$40)*100,1))","v":0.2},{"$f":"IF(Balance!CX33=0,\"-\",ROUND((Balance!CX33/Balance!CX$40)*100,1))","v":0.1},{"$f":"IF(Balance!CY33=0,\"-\",ROUND((Balance!CY33/Balance!CY$40)*100,1))","v":0.1},{"$f":"IF(Balance!CZ33=0,\"-\",ROUND((Balance!CZ33/Balance!CZ$40)*100,1))","v":0.1},{"$f":"IF(Balance!DA33=0,\"-\",ROUND((Balance!DA33/Balance!DA$40)*100,1))","v":0.1},{"$f":"IF(Balance!DB33=0,\"-\",ROUND((Balance!DB33/Balance!DB$40)*100,1))","v":0.1},{"$f":"IF(Balance!DC33=0,\"-\",ROUND((Balance!DC33/Balance!DC$40)*100,1))","v":0.1},{"$f":"IF(Balance!DD33=0,\"-\",ROUND((Balance!DD33/Balance!DD$40)*100,1))","v":0.1},{"$f":"IF(Balance!DE33=0,\"-\",ROUND((Balance!DE33/Balance!DE$40)*100,1))","v":0.2},{"$f":"IF(Balance!DF33=0,\"-\",ROUND((Balance!DF33/Balance!DF$40)*100,1))","v":0.2},{"$f":"IF(Balance!DG33=0,\"-\",ROUND((Balance!DG33/Balance!DG$40)*100,1))","v":0.2},{"$f":"IF(Balance!DH33=0,\"-\",ROUND((Balance!DH33/Balance!DH$40)*100,1))","v":0.2},{"$f":"IF(Balance!DI33=0,\"-\",ROUND((Balance!DI33/Balance!DI$40)*100,1))","v":0.2},{"$f":"IF(Balance!DJ33=0,\"-\",ROUND((Balance!DJ33/Balance!DJ$40)*100,1))","v":0.1},{"$f":"IF(Balance!DK33=0,\"-\",ROUND((Balance!DK33/Balance!DK$40)*100,1))","v":0.2},{"$f":"IF(Balance!DL33=0,\"-\",ROUND((Balance!DL33/Balance!DL$40)*100,1))","v":0.1},{"$f":"IF(Balance!DM33=0,\"-\",ROUND((Balance!DM33/Balance!DM$40)*100,1))","v":0.1},{"$f":"IF(Balance!DN33=0,\"-\",ROUND((Balance!DN33/Balance!DN$40)*100,1))","v":0},{"$f":"IF(Balance!DO33=0,\"-\",ROUND((Balance!DO33/Balance!DO$40)*100,1))","v":0.1},{"$f":"IF(Balance!DP33=0,\"-\",ROUND((Balance!DP33/Balance!DP$40)*100,1))","v":0.2},{"$f":"IF(Balance!DQ33=0,\"-\",ROUND((Balance!DQ33/Balance!DQ$40)*100,1))","v":0.1},{"$f":"IF(Balance!DR33=0,\"-\",ROUND((Balance!DR33/Balance!DR$40)*100,1))","v":0},{"$f":"IF(Balance!DS33=0,\"-\",ROUND((Balance!DS33/Balance!DS$40)*100,1))","v":0.2},{"$f":"IF(Balance!DT33=0,\"-\",ROUND((Balance!DT33/Balance!DT$40)*100,1))","v":0.2},{"$f":"IF(Balance!DU33=0,\"-\",ROUND((Balance!DU33/Balance!DU$40)*100,1))","v":0.2},{"$f":"IF(Balance!DV33=0,\"-\",ROUND((Balance!DV33/Balance!DV$40)*100,1))","v":0.2},{"$f":"IF(Balance!DW33=0,\"-\",ROUND((Balance!DW33/Balance!DW$40)*100,1))","v":0.1},{"$f":"IF(Balance!DX33=0,\"-\",ROUND((Balance!DX33/Balance!DX$40)*100,1))","v":0.1},{"$f":"IF(Balance!DY33=0,\"-\",ROUND((Balance!DY33/Balance!DY$40)*100,1))","v":0.1},{"$f":"IF(Balance!DZ33=0,\"-\",ROUND((Balance!DZ33/Balance!DZ$40)*100,1))","v":0.1},{"$f":"IF(Balance!EA33=0,\"-\",ROUND((Balance!EA33/Balance!EA$40)*100,1))","v":0},{"$f":"IF(Balance!EB33=0,\"-\",ROUND((Balance!EB33/Balance!EB$40)*100,1))","v":0.1},{"$f":"IF(Balance!EC33=0,\"-\",ROUND((Balance!EC33/Balance!EC$40)*100,1))","v":0.1},{"$f":"IF(Balance!ED33=0,\"-\",ROUND((Balance!ED33/Balance!ED$40)*100,1))","v":0.1},{"$f":"IF(Balance!EE33=0,\"-\",ROUND((Balance!EE33/Balance!EE$40)*100,1))","v":0.1},{"$f":"IF(Balance!EF33=0,\"-\",ROUND((Balance!EF33/Balance!EF$40)*100,1))","v":0.1},{"$f":"IF(Balance!EG33=0,\"-\",ROUND((Balance!EG33/Balance!EG$40)*100,1))","v":0.1},{"$f":"IF(Balance!EH33=0,\"-\",ROUND((Balance!EH33/Balance!EH$40)*100,1))","v":0.1},{"$f":"IF(Balance!EI33=0,\"-\",ROUND((Balance!EI33/Balance!EI$40)*100,1))","v":0},{"$f":"IF(Balance!EJ33=0,\"-\",ROUND((Balance!EJ33/Balance!EJ$40)*100,1))","v":0},{"$f":"IF(Balance!EK33=0,\"-\",ROUND((Balance!EK33/Balance!EK$40)*100,1))","v":0},{"$f":"IF(Balance!EL33=0,\"-\",ROUND((Balance!EL33/Balance!EL$40)*100,1))","v":0},{"$f":"IF(Balance!EM33=0,\"-\",ROUND((Balance!EM33/Balance!EM$40)*100,1))","v":0},{"$f":"IF(Balance!EN33=0,\"-\",ROUND((Balance!EN33/Balance!EN$40)*100,1))","v":0.1},{"$f":"IF(Balance!EO33=0,\"-\",ROUND((Balance!EO33/Balance!EO$40)*100,1))","v":0.1},{"$f":"IF(Balance!EP33=0,\"-\",ROUND((Balance!EP33/Balance!EP$40)*100,1))","v":0.1},{"$f":"IF(Balance!EQ33=0,\"-\",ROUND((Balance!EQ33/Balance!EQ$40)*100,1))","v":0.1},{"$f":"IF(Balance!ER33=\"-\",\"-\",ROUND((Balance!ER33/Balance!ER$40)*100,1))","v":"-"},{"$f":"IF(Balance!ES33=\"-\",\"-\",ROUND((Balance!ES33/Balance!ES$40)*100,1))","v":"-"},{"$f":"IF(Balance!ET33=\"-\",\"-\",ROUND((Balance!ET33/Balance!ET$40)*100,1))","v":"-"},{"$f":"IF(Balance!EU33=\"-\",\"-\",ROUND((Balance!EU33/Balance!EU$40)*100,1))","v":"-"},{"$f":"IF(Balance!EV33=\"-\",\"-\",ROUND((Balance!EV33/Balance!EV$40)*100,1))","v":"-"},{"$f":"IF(Balance!EW33=\"-\",\"-\",ROUND((Balance!EW33/Balance!EW$40)*100,1))","v":"-"},{"$f":"IF(Balance!EX33=\"-\",\"-\",ROUND((Balance!EX33/Balance!EX$40)*100,1))","v":"-"},{"$f":"IF(Balance!EY33=\"-\",\"-\",ROUND((Balance!EY33/Balance!EY$40)*100,1))","v":"-"},{"$f":"IF(Balance!EZ33=\"-\",\"-\",ROUND((Balance!EZ33/Balance!EZ$40)*100,1))","v":"-"},{"$f":"IF(Balance!FA33=\"-\",\"-\",ROUND((Balance!FA33/Balance!FA$40)*100,1))","v":"-"},{"$f":"IF(Balance!FB33=\"-\",\"-\",ROUND((Balance!FB33/Balance!FB$40)*100,1))","v":"-"}]
[null,"Solar fotovoltaica",{"$f":"IF(Balance!C34=0,\"-\",ROUND((Balance!C34/Balance!C$40)*100,1))","v":0},{"$f":"IF(Balance!D34=0,\"-\",ROUND((Balance!D34/Balance!D$40)*100,1))","v":0},{"$f":"IF(Balance!E34=0,\"-\",ROUND((Balance!E34/Balance!E$40)*100,1))","v":0},{"$f":"IF(Balance!F34=0,\"-\",ROUND((Balance!F34/Balance!F$40)*100,1))","v":0},{"$f":"IF(Balance!G34=0,\"-\",ROUND((Balance!G34/Balance!G$40)*100,1))","v":0},{"$f":"IF(Balance!H34=0,\"-\",ROUND((Balance!H34/Balance!H$40)*100,1))","v":0},{"$f":"IF(Balance!I34=0,\"-\",ROUND((Balance!I34/Balance!I$40)*100,1))","v":0},{"$f":"IF(Balance!J34=0,\"-\",ROUND((Balance!J34/Balance!J$40)*100,1))","v":0},{"$f":"IF(Balance!K34=0,\"-\",ROUND((Balance!K34/Balance!K$40)*100,1))","v":0},{"$f":"IF(Balance!L34=0,\"-\",ROUND((Balance!L34/Balance!L$40)*100,1))","v":0},{"$f":"IF(Balance!M34=0,\"-\",ROUND((Balance!M34/Balance!M$40)*100,1))","v":0},{"$f":"IF(Balance!N34=0,\"-\",ROUND((Balance!N34/Balance!N$40)*100,1))","v":0},{"$f":"IF(Balance!O34=0,\"-\",ROUND((Balance!O34/Balance!O$40)*100,1))","v":0},{"$f":"IF(Balance!P34=0,\"-\",ROUND((Balance!P34/Balance!P$40)*100,1))","v":0},{"$f":"IF(Balance!Q34=0,\"-\",ROUND((Balance!Q34/Balance!Q$40)*100,1))","v":0},{"$f":"IF(Balance!R34=0,\"-\",ROUND((Balance!R34/Balance!R$40)*100,1))","v":0},{"$f":"IF(Balance!S34=0,\"-\",ROUND((Balance!S34/Balance!S$40)*100,1))","v":0},{"$f":"IF(Balance!T34=0,\"-\",ROUND((Balance!T34/Balance!T$40)*100,1))","v":0},{"$f":"IF(Balance!U34=0,\"-\",ROUND((Balance!U34/Balance!U$40)*100,1))","v":0},{"$f":"IF(Balance!V34=0,\"-\",ROUND((Balance!V34/Balance!V$40)*100,1))","v":0},{"$f":"IF(Balance!W34=0,\"-\",ROUND((Balance!W34/Balance!W$40)*100,1))","v":0},{"$f":"IF(Balance!X34=0,\"-\",ROUND((Balance!X34/Balance!X$40)*100,1))","v":0},{"$f":"IF(Balance!Y34=0,\"-\",ROUND((Balance!Y34/Balance!Y$40)*100,1))","v":0},{"$f":"IF(Balance!Z34=0,\"-\",ROUND((Balance!Z34/Balance!Z$40)*100,1))","v":0},{"$f":"IF(Balance!AA34=0,\"-\",ROUND((Balance!AA34/Balance!AA$40)*100,1))","v":0},{"$f":"IF(Balance!AB34=0,\"-\",ROUND((Balance!AB34/Balance!AB$40)*100,1))","v":0},{"$f":"IF(Balance!AC34=0,\"-\",ROUND((Balance!AC34/Balance!AC$40)*100,1))","v":0.1},{"$f":"IF(Balance!AD34=0,\"-\",ROUND((Balance!AD34/Balance!AD$40)*100,1))","v":0.2},{"$f":"IF(Balance!AE34=0,\"-\",ROUND((Balance!AE34/Balance!AE$40)*100,1))","v":0.2},{"$f":"IF(Balance!AF34=0,\"-\",ROUND((Balance!AF34/Balance!AF$40)*100,1))","v":0.3},{"$f":"IF(Balance!AG34=0,\"-\",ROUND((Balance!AG34/Balance!AG$40)*100,1))","v":0.4},{"$f":"IF(Balance!AH34=0,\"-\",ROUND((Balance!AH34/Balance!AH$40)*100,1))","v":0.7},{"$f":"IF(Balance!AI34=0,\"-\",ROUND((Balance!AI34/Balance!AI$40)*100,1))","v":0.9},{"$f":"IF(Balance!AJ34=0,\"-\",ROUND((Balance!AJ34/Balance!AJ$40)*100,1))","v":0.9},{"$f":"IF(Balance!AK34=0,\"-\",ROUND((Balance!AK34/Balance!AK$40)*100,1))","v":0.8},{"$f":"IF(Balance!AL34=0,\"-\",ROUND((Balance!AL34/Balance!AL$40)*100,1))","v":0.8},{"$f":"IF(Balance!AM34=0,\"-\",ROUND((Balance!AM34/Balance!AM$40)*100,1))","v":0.7},{"$f":"IF(Balance!AN34=0,\"-\",ROUND((Balance!AN34/Balance!AN$40)*100,1))","v":1.1000000000000001},{"$f":"IF(Balance!AO34=0,\"-\",ROUND((Balance!AO34/Balance!AO$40)*100,1))","v":1.6},{"$f":"IF(Balance!AP34=0,\"-\",ROUND((Balance!AP34/Balance!AP$40)*100,1))","v":1.6},{"$f":"IF(Balance!AQ34=0,\"-\",ROUND((Balance!AQ34/Balance!AQ$40)*100,1))","v":1.9},{"$f":"IF(Balance!AR34=0,\"-\",ROUND((Balance!AR34/Balance!AR$40)*100,1))","v":1.7},{"$f":"IF(Balance!AS34=0,\"-\",ROUND((Balance!AS34/Balance!AS$40)*100,1))","v":1.4},{"$f":"IF(Balance!AT34=0,\"-\",ROUND((Balance!AT34/Balance!AT$40)*100,1))","v":1.3},{"$f":"IF(Balance!AU34=0,\"-\",ROUND((Balance!AU34/Balance!AU$40)*100,1))","v":1.3},{"$f":"IF(Balance!AV34=0,\"-\",ROUND((Balance!AV34/Balance!AV$40)*100,1))","v":1.4},{"$f":"IF(Balance!AW34=0,\"-\",ROUND((Balance!AW34/Balance!AW$40)*100,1))","v":1.3},{"$f":"IF(Balance!AX34=0,\"-\",ROUND((Balance!AX34/Balance!AX$40)*100,1))","v":0.8},{"$f":"IF(Balance!AY34=0,\"-\",ROUND((Balance!AY34/Balance!AY$40)*100,1))","v":0.8},{"$f":"IF(Balance!AZ34=0,\"-\",ROUND((Balance!AZ34/Balance!AZ$40)*100,1))","v":1.1000000000000001},{"$f":"IF(Balance!BA34=0,\"-\",ROUND((Balance!BA34/Balance!BA$40)*100,1))","v":1.5},{"$f":"IF(Balance!BB34=0,\"-\",ROUND((Balance!BB34/Balance!BB$40)*100,1))","v":2},{"$f":"IF(Balance!BC34=0,\"-\",ROUND((Balance!BC34/Balance!BC$40)*100,1))","v":2.1},{"$f":"IF(Balance!BD34=0,\"-\",ROUND((Balance!BD34/Balance!BD$40)*100,1))","v":1.9},{"$f":"IF(Balance!BE34=0,\"-\",ROUND((Balance!BE34/Balance!BE$40)*100,1))","v":1.7},{"$f":"IF(Balance!BF34=0,\"-\",ROUND((Balance!BF34/Balance!BF$40)*100,1))","v":1.6},{"$f":"IF(Balance!BG34=0,\"-\",ROUND((Balance!BG34/Balance!BG$40)*100,1))","v":1.6},{"$f":"IF(Balance!BH34=0,\"-\",ROUND((Balance!BH34/Balance!BH$40)*100,1))","v":1.5},{"$f":"IF(Balance!BI34=0,\"-\",ROUND((Balance!BI34/Balance!BI$40)*100,1))","v":1.4},{"$f":"IF(Balance!BJ34=0,\"-\",ROUND((Balance!BJ34/Balance!BJ$40)*100,1))","v":1},{"$f":"IF(Balance!BK34=0,\"-\",ROUND((Balance!BK34/Balance!BK$40)*100,1))","v":1.1000000000000001},{"$f":"IF(Balance!BL34=0,\"-\",ROUND((Balance!BL34/Balance!BL$40)*100,1))","v":1.5},{"$f":"IF(Balance!BM34=0,\"-\",ROUND((Balance!BM34/Balance!BM$40)*100,1))","v":1.8},{"$f":"IF(Balance!BN34=0,\"-\",ROUND((Balance!BN34/Balance!BN$40)*100,1))","v":2.5},{"$f":"IF(Balance!BO34=0,\"-\",ROUND((Balance!BO34/Balance!BO$40)*100,1))","v":2.4},{"$f":"IF(Balance!BP34=0,\"-\",ROUND((Balance!BP34/Balance!BP$40)*100,1))","v":2.1},{"$f":"IF(Balance!BQ34=0,\"-\",ROUND((Balance!BQ34/Balance!BQ$40)*100,1))","v":1.7},{"$f":"IF(Balance!BR34=0,\"-\",ROUND((Balance!BR34/Balance!BR$40)*100,1))","v":1.8},{"$f":"IF(Balance!BS34=0,\"-\",ROUND((Balance!BS34/Balance!BS$40)*100,1))","v":1.7},{"$f":"IF(Balance!BT34=0,\"-\",ROUND((Balance!BT34/Balance!BT$40)*100,1))","v":1.9},{"$f":"IF(Balance!BU34=0,\"-\",ROUND((Balance!BU34/Balance!BU$40)*100,1))","v":1.3},{"$f":"IF(Balance!BV34=0,\"-\",ROUND((Balance!BV34/Balance!BV$40)*100,1))","v":1.3},{"$f":"IF(Balance!BW34=0,\"-\",ROUND((Balance!BW34/Balance!BW$40)*100,1))","v":1.4},{"$f":"IF(Balance!BX34=0,\"-\",ROUND((Balance!BX34/Balance!BX$40)*100,1))","v":1.5},{"$f":"IF(Balance!BY34=0,\"-\",ROUND((Balance!BY34/Balance!BY$40)*100,1))","v":2.5},{"$f":"IF(Balance!BZ34=0,\"-\",ROUND((Balance!BZ34/Balance!BZ$40)*100,1))","v":2.8},{"$f":"IF(Balance!CA34=0,\"-\",ROUND((Balance!CA34/Balance!CA$40)*100,1))","v":2.9},{"$f":"IF(Balance!CB34=0,\"-\",ROUND((Balance!CB34/Balance!CB$40)*100,1))","v":2.2999999999999998},{"$f":"IF(Balance!CC34=0,\"-\",ROUND((Balance!CC34/Balance!CC$40)*100,1))","v":2.2000000000000002},{"$f":"IF(Balance!CD34=0,\"-\",ROUND((Balance!CD34/Balance!CD$40)*100,1))","v":2},{"$f":"IF(Balance!CE34=0,\"-\",ROUND((Balance!CE34/Balance!CE$40)*100,1))","v":2.5},{"$f":"IF(Balance!CF34=0,\"-\",ROUND((Balance!CF34/Balance!CF$40)*100,1))","v":2.5},{"$f":"IF(Balance!CG34=0,\"-\",ROUND((Balance!CG34/Balance!CG$40)*100,1))","v":2},{"$f":"IF(Balance!CH34=0,\"-\",ROUND((Balance!CH34/Balance!CH$40)*100,1))","v":2},{"$f":"IF(Balance!CI34=0,\"-\",ROUND((Balance!CI34/Balance!CI$40)*100,1))","v":2.2000000000000002},{"$f":"IF(Balance!CJ34=0,\"-\",ROUND((Balance!CJ34/Balance!CJ$40)*100,1))","v":2.2000000000000002},{"$f":"IF(Balance!CK34=0,\"-\",ROUND((Balance!CK34/Balance!CK$40)*100,1))","v":3.4},{"$f":"IF(Balance!CL34=0,\"-\",ROUND((Balance!CL34/Balance!CL$40)*100,1))","v":3.6},{"$f":"IF(Balance!CM34=0,\"-\",ROUND((Balance!CM34/Balance!CM$40)*100,1))","v":3.5},{"$f":"IF(Balance!CN34=0,\"-\",ROUND((Balance!CN34/Balance!CN$40)*100,1))","v":3.8},{"$f":"IF(Balance!CO34=0,\"-\",ROUND((Balance!CO34/Balance!CO$40)*100,1))","v":3},{"$f":"IF(Balance!CP34=0,\"-\",ROUND((Balance!CP34/Balance!CP$40)*100,1))","v":2.7},{"$f":"IF(Balance!CQ34=0,\"-\",ROUND((Balance!CQ34/Balance!CQ$40)*100,1))","v":2.7},{"$f":"IF(Balance!CR34=0,\"-\",ROUND((Balance!CR34/Balance!CR$40)*100,1))","v":2.5},{"$f":"IF(Balance!CS34=0,\"-\",ROUND((Balance!CS34/Balance!CS$40)*100,1))","v":1.8},{"$f":"IF(Balance!CT34=0,\"-\",ROUND((Balance!CT34/Balance!CT$40)*100,1))","v":1.7},{"$f":"IF(Balance!CU34=0,\"-\",ROUND((Balance!CU34/Balance!CU$40)*100,1))","v":1.8},{"$f":"IF(Balance!CV34=0,\"-\",ROUND((Balance!CV34/Balance!CV$40)*100,1))","v":2.8},{"$f":"IF(Balance!CW34=0,\"-\",ROUND((Balance!CW34/Balance!CW$40)*100,1))","v":3.4},{"$f":"IF(Balance!CX34=0,\"-\",ROUND((Balance!CX34/Balance!CX$40)*100,1))","v":4.0999999999999996},{"$f":"IF(Balance!CY34=0,\"-\",ROUND((Balance!CY34/Balance!CY$40)*100,1))","v":3.6},{"$f":"IF(Balance!CZ34=0,\"-\",ROUND((Balance!CZ34/Balance!CZ$40)*100,1))","v":3.5},{"$f":"IF(Balance!DA34=0,\"-\",ROUND((Balance!DA34/Balance!DA$40)*100,1))","v":3},{"$f":"IF(Balance!DB34=0,\"-\",ROUND((Balance!DB34/Balance!DB$40)*100,1))","v":2.7},{"$f":"IF(Balance!DC34=0,\"-\",ROUND((Balance!DC34/Balance!DC$40)*100,1))","v":2.4},{"$f":"IF(Balance!DD34=0,\"-\",ROUND((Balance!DD34/Balance!DD$40)*100,1))","v":2.9},{"$f":"IF(Balance!DE34=0,\"-\",ROUND((Balance!DE34/Balance!DE$40)*100,1))","v":2.4},{"$f":"IF(Balance!DF34=0,\"-\",ROUND((Balance!DF34/Balance!DF$40)*100,1))","v":1.7},{"$f":"IF(Balance!DG34=0,\"-\",ROUND((Balance!DG34/Balance!DG$40)*100,1))","v":2},{"$f":"IF(Balance!DH34=0,\"-\",ROUND((Balance!DH34/Balance!DH$40)*100,1))","v":2.2000000000000002},{"$f":"IF(Balance!DI34=0,\"-\",ROUND((Balance!DI34/Balance!DI$40)*100,1))","v":3},{"$f":"IF(Balance!DJ34=0,\"-\",ROUND((Balance!DJ34/Balance!DJ$40)*100,1))","v":4.0999999999999996},{"$f":"IF(Balance!DK34=0,\"-\",ROUND((Balance!DK34/Balance!DK$40)*100,1))","v":3.5},{"$f":"IF(Balance!DL34=0,\"-\",ROUND((Balance!DL34/Balance!DL$40)*100,1))","v":3.4},{"$f":"IF(Balance!DM34=0,\"-\",ROUND((Balance!DM34/Balance!DM$40)*100,1))","v":2.7},{"$f":"IF(Balance!DN34=0,\"-\",ROUND((Balance!DN34/Balance!DN$40)*100,1))","v":2.5},{"$f":"IF(Balance!DO34=0,\"-\",ROUND((Balance!DO34/Balance!DO$40)*100,1))","v":2.4},{"$f":"IF(Balance!DP34=0,\"-\",ROUND((Balance!DP34/Balance!DP$40)*100,1))","v":2.6},{"$f":"IF(Balance!DQ34=0,\"-\",ROUND((Balance!DQ34/Balance!DQ$40)*100,1))","v":2.7},{"$f":"IF(Balance!DR34=0,\"-\",ROUND((Balance!DR34/Balance!DR$40)*100,1))","v":2},{"$f":"IF(Balance!DS34=0,\"-\",ROUND((Balance!DS34/Balance!DS$40)*100,1))","v":2.2000000000000002},{"$f":"IF(Balance!DT34=0,\"-\",ROUND((Balance!DT34/Balance!DT$40)*100,1))","v":2.4},{"$f":"IF(Balance!DU34=0,\"-\",ROUND((Balance!DU34/Balance!DU$40)*100,1))","v":3.2},{"$f":"IF(Balance!DV34=0,\"-\",ROUND((Balance!DV34/Balance!DV$40)*100,1))","v":3.4},{"$f":"IF(Balance!DW34=0,\"-\",ROUND((Balance!DW34/Balance!DW$40)*100,1))","v":3.4},{"$f":"IF(Balance!DX34=0,\"-\",ROUND((Balance!DX34/Balance!DX$40)*100,1))","v":3.2},{"$f":"IF(Balance!DY34=0,\"-\",ROUND((Balance!DY34/Balance!DY$40)*100,1))","v":2.8},{"$f":"IF(Balance!DZ34=0,\"-\",ROUND((Balance!DZ34/Balance!DZ$40)*100,1))","v":2.7},{"$f":"IF(Balance!EA34=0,\"-\",ROUND((Balance!EA34/Balance!EA$40)*100,1))","v":2.2000000000000002},{"$f":"IF(Balance!EB34=0,\"-\",ROUND((Balance!EB34/Balance!EB$40)*100,1))","v":2.2000000000000002},{"$f":"IF(Balance!EC34=0,\"-\",ROUND((Balance!EC34/Balance!EC$40)*100,1))","v":2},{"$f":"IF(Balance!ED34=0,\"-\",ROUND((Balance!ED34/Balance!ED$40)*100,1))","v":1.7},{"$f":"IF(Balance!EE34=0,\"-\",ROUND((Balance!EE34/Balance!EE$40)*100,1))","v":1.5},{"$f":"IF(Balance!EF34=0,\"-\",ROUND((Balance!EF34/Balance!EF$40)*100,1))","v":2.2000000000000002},{"$f":"IF(Balance!EG34=0,\"-\",ROUND((Balance!EG34/Balance!EG$40)*100,1))","v":3.7},{"$f":"IF(Balance!EH34=0,\"-\",ROUND((Balance!EH34/Balance!EH$40)*100,1))","v":3.5},{"$f":"IF(Balance!EI34=0,\"-\",ROUND((Balance!EI34/Balance!EI$40)*100,1))","v":3.3},{"$f":"IF(Balance!EJ34=0,\"-\",ROUND((Balance!EJ34/Balance!EJ$40)*100,1))","v":2.9},{"$f":"IF(Balance!EK34=0,\"-\",ROUND((Balance!EK34/Balance!EK$40)*100,1))","v":2.5},{"$f":"IF(Balance!EL34=0,\"-\",ROUND((Balance!EL34/Balance!EL$40)*100,1))","v":2.2999999999999998},{"$f":"IF(Balance!EM34=0,\"-\",ROUND((Balance!EM34/Balance!EM$40)*100,1))","v":2.4},{"$f":"IF(Balance!EN34=0,\"-\",ROUND((Balance!EN34/Balance!EN$40)*100,1))","v":2.5},{"$f":"IF(Balance!EO34=0,\"-\",ROUND((Balance!EO34/Balance!EO$40)*100,1))","v":2.2000000000000002},{"$f":"IF(Balance!EP34=0,\"-\",ROUND((Balance!EP34/Balance!EP$40)*100,1))","v":1.5},{"$f":"IF(Balance!EQ34=0,\"-\",ROUND((Balance!EQ34/Balance!EQ$40)*100,1))","v":1.9},{"$f":"IF(Balance!ER34=\"-\",\"-\",ROUND((Balance!ER34/Balance!ER$40)*100,1))","v":"-"},{"$f":"IF(Balance!ES34=\"-\",\"-\",ROUND((Balance!ES34/Balance!ES$40)*100,1))","v":"-"},{"$f":"IF(Balance!ET34=\"-\",\"-\",ROUND((Balance!ET34/Balance!ET$40)*100,1))","v":"-"},{"$f":"IF(Balance!EU34=\"-\",\"-\",ROUND((Balance!EU34/Balance!EU$40)*100,1))","v":"-"},{"$f":"IF(Balance!EV34=\"-\",\"-\",ROUND((Balance!EV34/Balance!EV$40)*100,1))","v":"-"},{"$f":"IF(Balance!EW34=\"-\",\"-\",ROUND((Balance!EW34/Balance!EW$40)*100,1))","v":"-"},{"$f":"IF(Balance!EX34=\"-\",\"-\",ROUND((Balance!EX34/Balance!EX$40)*100,1))","v":"-"},{"$f":"IF(Balance!EY34=\"-\",\"-\",ROUND((Balance!EY34/Balance!EY$40)*100,1))","v":"-"},{"$f":"IF(Balance!EZ34=\"-\",\"-\",ROUND((Balance!EZ34/Balance!EZ$40)*100,1))","v":"-"},{"$f":"IF(Balance!FA34=\"-\",\"-\",ROUND((Balance!FA34/Balance!FA$40)*100,1))","v":"-"},{"$f":"IF(Balance!FB34=\"-\",\"-\",ROUND((Balance!FB34/Balance!FB$40)*100,1))","v":"-"}]
[null,"Térmica renovable/Otras renovables",{"$f":"IF(Balance!C35=\"-\",\"-\",ROUND((Balance!C35/Balance!C$40)*100,1))","v":"-"},{"$f":"IF(Balance!D35=\"-\",\"-\",ROUND((Balance!D35/Balance!D$40)*100,1))","v":"-"},{"$f":"IF(Balance!E35=\"-\",\"-\",ROUND((Balance!E35/Balance!E$40)*100,1))","v":"-"},{"$f":"IF(Balance!F35=\"-\",\"-\",ROUND((Balance!F35/Balance!F$40)*100,1))","v":"-"},{"$f":"IF(Balance!G35=\"-\",\"-\",ROUND((Balance!G35/Balance!G$40)*100,1))","v":"-"},{"$f":"IF(Balance!H35=\"-\",\"-\",ROUND((Balance!H35/Balance!H$40)*100,1))","v":"-"},{"$f":"IF(Balance!I35=\"-\",\"-\",ROUND((Balance!I35/Balance!I$40)*100,1))","v":"-"},{"$f":"IF(Balance!J35=\"-\",\"-\",ROUND((Balance!J35/Balance!J$40)*100,1))","v":"-"},{"$f":"IF(Balance!K35=\"-\",\"-\",ROUND((Balance!K35/Balance!K$40)*100,1))","v":"-"},{"$f":"IF(Balance!L35=\"-\",\"-\",ROUND((Balance!L35/Balance!L$40)*100,1))","v":"-"},{"$f":"IF(Balance!M35=\"-\",\"-\",ROUND((Balance!M35/Balance!M$40)*100,1))","v":"-"},{"$f":"IF(Balance!N35=\"-\",\"-\",ROUND((Balance!N35/Balance!N$40)*100,1))","v":"-"},{"$f":"IF(Balance!O35=\"-\",\"-\",ROUND((Balance!O35/Balance!O$40)*100,1))","v":"-"},{"$f":"IF(Balance!P35=\"-\",\"-\",ROUND((Balance!P35/Balance!P$40)*100,1))","v":"-"},{"$f":"IF(Balance!Q35=\"-\",\"-\",ROUND((Balance!Q35/Balance!Q$40)*100,1))","v":"-"},{"$f":"IF(Balance!R35=\"-\",\"-\",ROUND((Balance!R35/Balance!R$40)*100,1))","v":"-"},{"$f":"IF(Balance!S35=\"-\",\"-\",ROUND((Balance!S35/Balance!S$40)*100,1))","v":"-"},{"$f":"IF(Balance!T35=\"-\",\"-\",ROUND((Balance!T35/Balance!T$40)*100,1))","v":"-"},{"$f":"IF(Balance!U35=\"-\",\"-\",ROUND((Balance!U35/Balance!U$40)*100,1))","v":"-"},{"$f":"IF(Balance!V35=\"-\",\"-\",ROUND((Balance!V35/Balance!V$40)*100,1))","v":"-"},{"$f":"IF(Balance!W35=\"-\",\"-\",ROUND((Balance!W35/Balance!W$40)*100,1))","v":"-"},{"$f":"IF(Balance!X35=\"-\",\"-\",ROUND((Balance!X35/Balance!X$40)*100,1))","v":"-"},{"$f":"IF(Balance!Y35=\"-\",\"-\",ROUND((Balance!Y35/Balance!Y$40)*100,1))","v":"-"},{"$f":"IF(Balance!Z35=\"-\",\"-\",ROUND((Balance!Z35/Balance!Z$40)*100,1))","v":"-"},{"$f":"IF(Balance!AA35=\"-\",\"-\",ROUND((Balance!AA35/Balance!AA$40)*100,1))","v":"-"},{"$f":"IF(Balance!AB35=\"-\",\"-\",ROUND((Balance!AB35/Balance!AB$40)*100,1))","v":"-"},{"$f":"IF(Balance!AC35=\"-\",\"-\",ROUND((Balance!AC35/Balance!AC$40)*100,1))","v":"-"},{"$f":"IF(Balance!AD35=\"-\",\"-\",ROUND((Balance!AD35/Balance!AD$40)*100,1))","v":"-"},{"$f":"IF(Balance!AE35=\"-\",\"-\",ROUND((Balance!AE35/Balance!AE$40)*100,1))","v":"-"},{"$f":"IF(Balance!AF35=\"-\",\"-\",ROUND((Balance!AF35/Balance!AF$40)*100,1))","v":"-"},{"$f":"IF(Balance!AG35=\"-\",\"-\",ROUND((Balance!AG35/Balance!AG$40)*100,1))","v":"-"},{"$f":"IF(Balance!AH35=\"-\",\"-\",ROUND((Balance!AH35/Balance!AH$40)*100,1))","v":"-"},{"$f":"IF(Balance!AI35=\"-\",\"-\",ROUND((Balance!AI35/Balance!AI$40)*100,1))","v":"-"},{"$f":"IF(Balance!AJ35=\"-\",\"-\",ROUND((Balance!AJ35/Balance!AJ$40)*100,1))","v":"-"},{"$f":"IF(Balance!AK35=\"-\",\"-\",ROUND((Balance!AK35/Balance!AK$40)*100,1))","v":"-"},{"$f":"IF(Balance!AL35=\"-\",\"-\",ROUND((Balance!AL35/Balance!AL$40)*100,1))","v":"-"},{"$f":"IF(Balance!AM35=\"-\",\"-\",ROUND((Balance!AM35/Balance!AM$40)*100,1))","v":"-"},{"$f":"IF(Balance!AN35=\"-\",\"-\",ROUND((Balance!AN35/Balance!AN$40)*100,1))","v":"-"},{"$f":"IF(Balance!AO35=\"-\",\"-\",ROUND((Balance!AO35/Balance!AO$40)*100,1))","v":"-"},{"$f":"IF(Balance!AP35=\"-\",\"-\",ROUND((Balance!AP35/Balance!AP$40)*100,1))","v":"-"},{"$f":"IF(Balance!AQ35=\"-\",\"-\",ROUND((Balance!AQ35/Balance!AQ$40)*100,1))","v":"-"},{"$f":"IF(Balance!AR35=\"-\",\"-\",ROUND((Balance!AR35/Balance!AR$40)*100,1))","v":"-"},{"$f":"IF(Balance!AS35=\"-\",\"-\",ROUND((Balance!AS35/Balance!AS$40)*100,1))","v":"-"},{"$f":"IF(Balance!AT35=\"-\",\"-\",ROUND((Balance!AT35/Balance!AT$40)*100,1))","v":"-"},{"$f":"IF(Balance!AU35=\"-\",\"-\",ROUND((Balance!AU35/Balance!AU$40)*100,1))","v":"-"},{"$f":"IF(Balance!AV35=\"-\",\"-\",ROUND((Balance!AV35/Balance!AV$40)*100,1))","v":"-"},{"$f":"IF(Balance!AW35=\"-\",\"-\",ROUND((Balance!AW35/Balance!AW$40)*100,1))","v":"-"},{"$f":"IF(Balance!AX35=\"-\",\"-\",ROUND((Balance!AX35/Balance!AX$40)*100,1))","v":"-"},{"$f":"IF(Balance!AY35=\"-\",\"-\",ROUND((Balance!AY35/Balance!AY$40)*100,1))","v":"-"},{"$f":"IF(Balance!AZ35=\"-\",\"-\",ROUND((Balance!AZ35/Balance!AZ$40)*100,1))","v":"-"},{"$f":"IF(Balance!BA35=\"-\",\"-\",ROUND((Balance!BA35/Balance!BA$40)*100,1))","v":"-"},{"$f":"IF(Balance!BB35=\"-\",\"-\",ROUND((Balance!BB35/Balance!BB$40)*100,1))","v":"-"},{"$f":"IF(Balance!BC35=\"-\",\"-\",ROUND((Balance!BC35/Balance!BC$40)*100,1))","v":"-"},{"$f":"IF(Balance!BD35=\"-\",\"-\",ROUND((Balance!BD35/Balance!BD$40)*100,1))","v":"-"},{"$f":"IF(Balance!BE35=\"-\",\"-\",ROUND((Balance!BE35/Balance!BE$40)*100,1))","v":"-"},{"$f":"IF(Balance!BF35=\"-\",\"-\",ROUND((Balance!BF35/Balance!BF$40)*100,1))","v":"-"},{"$f":"IF(Balance!BG35=\"-\",\"-\",ROUND((Balance!BG35/Balance!BG$40)*100,1))","v":"-"},{"$f":"IF(Balance!BH35=\"-\",\"-\",ROUND((Balance!BH35/Balance!BH$40)*100,1))","v":"-"},{"$f":"IF(Balance!BI35=\"-\",\"-\",ROUND((Balance!BI35/Balance!BI$40)*100,1))","v":"-"},{"$f":"IF(Balance!BJ35=\"-\",\"-\",ROUND((Balance!BJ35/Balance!BJ$40)*100,1))","v":"-"},{"$f":"IF(Balance!BK35=\"-\",\"-\",ROUND((Balance!BK35/Balance!BK$40)*100,1))","v":"-"},{"$f":"IF(Balance!BL35=\"-\",\"-\",ROUND((Balance!BL35/Balance!BL$40)*100,1))","v":"-"},{"$f":"IF(Balance!BM35=\"-\",\"-\",ROUND((Balance!BM35/Balance!BM$40)*100,1))","v":"-"},{"$f":"IF(Balance!BN35=\"-\",\"-\",ROUND((Balance!BN35/Balance!BN$40)*100,1))","v":"-"},{"$f":"IF(Balance!BO35=\"-\",\"-\",ROUND((Balance!BO35/Balance!BO$40)*100,1))","v":"-"},{"$f":"IF(Balance!BP35=\"-\",\"-\",ROUND((Balance!BP35/Balance!BP$40)*100,1))","v":"-"},{"$f":"IF(Balance!BQ35=\"-\",\"-\",ROUND((Balance!BQ35/Balance!BQ$40)*100,1))","v":"-"},{"$f":"IF(Balance!BR35=\"-\",\"-\",ROUND((Balance!BR35/Balance!BR$40)*100,1))","v":"-"},{"$f":"IF(Balance!BS35=\"-\",\"-\",ROUND((Balance!BS35/Balance!BS$40)*100,1))","v":"-"},{"$f":"IF(Balance!BT35=\"-\",\"-\",ROUND((Balance!BT35/Balance!BT$40)*100,1))","v":"-"},{"$f":"IF(Balance!BU35=\"-\",\"-\",ROUND((Balance!BU35/Balance!BU$40)*100,1))","v":"-"},{"$f":"IF(Balance!BV35=\"-\",\"-\",ROUND((Balance!BV35/Balance!BV$40)*100,1))","v":"-"},{"$f":"IF(Balance!BW35=\"-\",\"-\",ROUND((Balance!BW35/Balance!BW$40)*100,1))","v":0},{"$f":"IF(Balance!BX35=\"-\",\"-\",ROUND((Balance!BX35/Balance!BX$40)*100,1))","v":0},{"$f":"IF(Balance!BY35=\"-\",\"-\",ROUND((Balance!BY35/Balance!BY$40)*100,1))","v":0},{"$f":"IF(Balance!BZ35=\"-\",\"-\",ROUND((Balance!BZ35/Balance!BZ$40)*100,1))","v":0},{"$f":"IF(Balance!CA35=\"-\",\"-\",ROUND((Balance!CA35/Balance!CA$40)*100,1))","v":0},{"$f":"IF(Balance!CB35=\"-\",\"-\",ROUND((Balance!CB35/Balance!CB$40)*100,1))","v":0},{"$f":"IF(Balance!CC35=\"-\",\"-\",ROUND((Balance!CC35/Balance!CC$40)*100,1))","v":0},{"$f":"IF(Balance!CD35=\"-\",\"-\",ROUND((Balance!CD35/Balance!CD$40)*100,1))","v":0},{"$f":"IF(Balance!CE35=\"-\",\"-\",ROUND((Balance!CE35/Balance!CE$40)*100,1))","v":0},{"$f":"IF(Balance!CF35=\"-\",\"-\",ROUND((Balance!CF35/Balance!CF$40)*100,1))","v":0},{"$f":"IF(Balance!CG35=\"-\",\"-\",ROUND((Balance!CG35/Balance!CG$40)*100,1))","v":0},{"$f":"IF(Balance!CH35=\"-\",\"-\",ROUND((Balance!CH35/Balance!CH$40)*100,1))","v":0},{"$f":"IF(Balance!CI35=\"-\",\"-\",ROUND((Balance!CI35/Balance!CI$40)*100,1))","v":0},{"$f":"IF(Balance!CJ35=\"-\",\"-\",ROUND((Balance!CJ35/Balance!CJ$40)*100,1))","v":0},{"$f":"IF(Balance!CK35=\"-\",\"-\",ROUND((Balance!CK35/Balance!CK$40)*100,1))","v":0},{"$f":"IF(Balance!CL35=\"-\",\"-\",ROUND((Balance!CL35/Balance!CL$40)*100,1))","v":0},{"$f":"IF(Balance!CM35=\"-\",\"-\",ROUND((Balance!CM35/Balance!CM$40)*100,1))","v":0},{"$f":"IF(Balance!CN35=\"-\",\"-\",ROUND((Balance!CN35/Balance!CN$40)*100,1))","v":0},{"$f":"IF(Balance!CO35=\"-\",\"-\",ROUND((Balance!CO35/Balance!CO$40)*100,1))","v":0},{"$f":"IF(Balance!CP35=\"-\",\"-\",ROUND((Balance!CP35/Balance!CP$40)*100,1))","v":0},{"$f":"IF(Balance!CQ35=\"-\",\"-\",ROUND((Balance!CQ35/Balance!CQ$40)*100,1))","v":0},{"$f":"IF(Balance!CR35=\"-\",\"-\",ROUND((Balance!CR35/Balance!CR$40)*100,1))","v":0},{"$f":"IF(Balance!CS35=\"-\",\"-\",ROUND((Balance!CS35/Balance!CS$40)*100,1))","v":0},{"$f":"IF(Balance!CT35=\"-\",\"-\",ROUND((Balance!CT35/Balance!CT$40)*100,1))","v":0},{"$f":"IF(Balance!CU35=\"-\",\"-\",ROUND((Balance!CU35/Balance!CU$40)*100,1))","v":0},{"$f":"IF(Balance!CV35=\"-\",\"-\",ROUND((Balance!CV35/Balance!CV$40)*100,1))","v":0.1},{"$f":"IF(Balance!CW35=\"-\",\"-\",ROUND((Balance!CW35/Balance!CW$40)*100,1))","v":0.1},{"$f":"IF(Balance!CX35=\"-\",\"-\",ROUND((Balance!CX35/Balance!CX$40)*100,1))","v":0.1},{"$f":"IF(Balance!CY35=\"-\",\"-\",ROUND((Balance!CY35/Balance!CY$40)*100,1))","v":0.1},{"$f":"IF(Balance!CZ35=\"-\",\"-\",ROUND((Balance!CZ35/Balance!CZ$40)*100,1))","v":0},{"$f":"IF(Balance!DA35=\"-\",\"-\",ROUND((Balance!DA35/Balance!DA$40)*100,1))","v":0},{"$f":"IF(Balance!DB35=\"-\",\"-\",ROUND((Balance!DB35/Balance!DB$40)*100,1))","v":0},{"$f":"IF(Balance!DC35=\"-\",\"-\",ROUND((Balance!DC35/Balance!DC$40)*100,1))","v":0},{"$f":"IF(Balance!DD35=\"-\",\"-\",ROUND((Balance!DD35/Balance!DD$40)*100,1))","v":0},{"$f":"IF(Balance!DE35=\"-\",\"-\",ROUND((Balance!DE35/Balance!DE$40)*100,1))","v":0.1},{"$f":"IF(Balance!DF35=\"-\",\"-\",ROUND((Balance!DF35/Balance!DF$40)*100,1))","v":0.1},{"$f":"IF(Balance!DG35=\"-\",\"-\",ROUND((Balance!DG35/Balance!DG$40)*100,1))","v":0.1},{"$f":"IF(Balance!DH35=\"-\",\"-\",ROUND((Balance!DH35/Balance!DH$40)*100,1))","v":0.1},{"$f":"IF(Balance!DI35=\"-\",\"-\",ROUND((Balance!DI35/Balance!DI$40)*100,1))","v":0},{"$f":"IF(Balance!DJ35=\"-\",\"-\",ROUND((Balance!DJ35/Balance!DJ$40)*100,1))","v":0.1},{"$f":"IF(Balance!DK35=\"-\",\"-\",ROUND((Balance!DK35/Balance!DK$40)*100,1))","v":0},{"$f":"IF(Balance!DL35=\"-\",\"-\",ROUND((Balance!DL35/Balance!DL$40)*100,1))","v":0},{"$f":"IF(Balance!DM35=\"-\",\"-\",ROUND((Balance!DM35/Balance!DM$40)*100,1))","v":0},{"$f":"IF(Balance!DN35=\"-\",\"-\",ROUND((Balance!DN35/Balance!DN$40)*100,1))","v":0},{"$f":"IF(Balance!DO35=\"-\",\"-\",ROUND((Balance!DO35/Balance!DO$40)*100,1))","v":0},{"$f":"IF(Balance!DP35=\"-\",\"-\",ROUND((Balance!DP35/Balance!DP$40)*100,1))","v":0},{"$f":"IF(Balance!DQ35=\"-\",\"-\",ROUND((Balance!DQ35/Balance!DQ$40)*100,1))","v":0},{"$f":"IF(Balance!DR35=\"-\",\"-\",ROUND((Balance!DR35/Balance!DR$40)*100,1))","v":0.1},{"$f":"IF(Balance!DS35=\"-\",\"-\",ROUND((Balance!DS35/Balance!DS$40)*100,1))","v":0.1},{"$f":"IF(Balance!DT35=\"-\",\"-\",ROUND((Balance!DT35/Balance!DT$40)*100,1))","v":0.1},{"$f":"IF(Balance!DU35=\"-\",\"-\",ROUND((Balance!DU35/Balance!DU$40)*100,1))","v":0.1},{"$f":"IF(Balance!DV35=\"-\",\"-\",ROUND((Balance!DV35/Balance!DV$40)*100,1))","v":0},{"$f":"IF(Balance!DW35=\"-\",\"-\",ROUND((Balance!DW35/Balance!DW$40)*100,1))","v":0},{"$f":"IF(Balance!DX35=\"-\",\"-\",ROUND((Balance!DX35/Balance!DX$40)*100,1))","v":0},{"$f":"IF(Balance!DY35=\"-\",\"-\",ROUND((Balance!DY35/Balance!DY$40)*100,1))","v":0},{"$f":"IF(Balance!DZ35=\"-\",\"-\",ROUND((Balance!DZ35/Balance!DZ$40)*100,1))","v":0},{"$f":"IF(Balance!EA35=\"-\",\"-\",ROUND((Balance!EA35/Balance!EA$40)*100,1))","v":0},{"$f":"IF(Balance!EB35=\"-\",\"-\",ROUND((Balance!EB35/Balance!EB$40)*100,1))","v":0},{"$f":"IF(Balance!EC35=\"-\",\"-\",ROUND((Balance!EC35/Balance!EC$40)*100,1))","v":0},{"$f":"IF(Balance!ED35=\"-\",\"-\",ROUND((Balance!ED35/Balance!ED$40)*100,1))","v":0},{"$f":"IF(Balance!EE35=\"-\",\"-\",ROUND((Balance!EE35/Balance!EE$40)*100,1))","v":0},{"$f":"IF(Balance!EF35=\"-\",\"-\",ROUND((Balance!EF35/Balance!EF$40)*100,1))","v":0.1},{"$f":"IF(Balance!EG35=\"-\",\"-\",ROUND((Balance!EG35/Balance!EG$40)*100,1))","v":0},{"$f":"IF(Balance!EH35=\"-\",\"-\",ROUND((Balance!EH35/Balance!EH$40)*100,1))","v":0.1},{"$f":"IF(Balance!EI35=\"-\",\"-\",ROUND((Balance!EI35/Balance!EI$40)*100,1))","v":0.1},{"$f":"IF(Balance!EJ35=\"-\",\"-\",ROUND((Balance!EJ35/Balance!EJ$40)*100,1))","v":0},{"$f":"IF(Balance!EK35=\"-\",\"-\",ROUND((Balance!EK35/Balance!EK$40)*100,1))","v":0},{"$f":"IF(Balance!EL35=\"-\",\"-\",ROUND((Balance!EL35/Balance!EL$40)*100,1))","v":0},{"$f":"IF(Balance!EM35=\"-\",\"-\",ROUND((Balance!EM35/Balance!EM$40)*100,1))","v":0},{"$f":"IF(Balance!EN35=\"-\",\"-\",ROUND((Balance!EN35/Balance!EN$40)*100,1))","v":0},{"$f":"IF(Balance!EO35=\"-\",\"-\",ROUND((Balance!EO35/Balance!EO$40)*100,1))","v":0},{"$f":"IF(Balance!EP35=\"-\",\"-\",ROUND((Balance!EP35/Balance!EP$40)*100,1))","v":0},{"$f":"IF(Balance!EQ35=\"-\",\"-\",ROUND((Balance!EQ35/Balance!EQ$40)*100,1))","v":0},{"$f":"IF(Balance!ER35=\"-\",\"-\",ROUND((Balance!ER35/Balance!ER$40)*100,1))","v":"-"},{"$f":"IF(Balance!ES35=\"-\",\"-\",ROUND((Balance!ES35/Balance!ES$40)*100,1))","v":"-"},{"$f":"IF(Balance!ET35=\"-\",\"-\",ROUND((Balance!ET35/Balance!ET$40)*100,1))","v":"-"},{"$f":"IF(Balance!EU35=\"-\",\"-\",ROUND((Balance!EU35/Balance!EU$40)*100,1))","v":"-"},{"$f":"IF(Balance!EV35=\"-\",\"-\",ROUND((Balance!EV35/Balance!EV$40)*100,1))","v":"-"},{"$f":"IF(Balance!EW35=\"-\",\"-\",ROUND((Balance!EW35/Balance!EW$40)*100,1))","v":"-"},{"$f":"IF(Balance!EX35=\"-\",\"-\",ROUND((Balance!EX35/Balance!EX$40)*100,1))","v":"-"},{"$f":"IF(Balance!EY35=\"-\",\"-\",ROUND((Balance!EY35/Balance!EY$40)*100,1))","v":"-"},{"$f":"IF(Balance!EZ35=\"-\",\"-\",ROUND((Balance!EZ35/Balance!EZ$40)*100,1))","v":"-"},{"$f":"IF(Balance!FA35=\"-\",\"-\",ROUND((Balance!FA35/Balance!FA$40)*100,1))","v":"-"},{"$f":"IF(Balance!FB35=\"-\",\"-\",ROUND((Balance!FB35/Balance!FB$40)*100,1))","v":"-"}]
[null,"Térmica no renovable/Cogeneración y resto/Cogeneración",{"$f":"IF(Balance!C36=0,\"-\",ROUND((Balance!C36/Balance!C$40)*100,1))","v":2.6},{"$f":"IF(Balance!D36=0,\"-\",ROUND((Balance!D36/Balance!D$40)*100,1))","v":2.6},{"$f":"IF(Balance!E36=0,\"-\",ROUND((Balance!E36/Balance!E$40)*100,1))","v":2.8},{"$f":"IF(Balance!F36=0,\"-\",ROUND((Balance!F36/Balance!F$40)*100,1))","v":3.1},{"$f":"IF(Balance!G36=0,\"-\",ROUND((Balance!G36/Balance!G$40)*100,1))","v":2},{"$f":"IF(Balance!H36=0,\"-\",ROUND((Balance!H36/Balance!H$40)*100,1))","v":2.2000000000000002},{"$f":"IF(Balance!I36=0,\"-\",ROUND((Balance!I36/Balance!I$40)*100,1))","v":1.8},{"$f":"IF(Balance!J36=0,\"-\",ROUND((Balance!J36/Balance!J$40)*100,1))","v":1.9},{"$f":"IF(Balance!K36=0,\"-\",ROUND((Balance!K36/Balance!K$40)*100,1))","v":2.1},{"$f":"IF(Balance!L36=0,\"-\",ROUND((Balance!L36/Balance!L$40)*100,1))","v":2.6},{"$f":"IF(Balance!M36=0,\"-\",ROUND((Balance!M36/Balance!M$40)*100,1))","v":2.8},{"$f":"IF(Balance!N36=0,\"-\",ROUND((Balance!N36/Balance!N$40)*100,1))","v":2.8},{"$f":"IF(Balance!O36=0,\"-\",ROUND((Balance!O36/Balance!O$40)*100,1))","v":2.2000000000000002},{"$f":"IF(Balance!P36=0,\"-\",ROUND((Balance!P36/Balance!P$40)*100,1))","v":2.7},{"$f":"IF(Balance!Q36=0,\"-\",ROUND((Balance!Q36/Balance!Q$40)*100,1))","v":2.8},{"$f":"IF(Balance!R36=0,\"-\",ROUND((Balance!R36/Balance!R$40)*100,1))","v":2.8},{"$f":"IF(Balance!S36=0,\"-\",ROUND((Balance!S36/Balance!S$40)*100,1))","v":1.7},{"$f":"IF(Balance!T36=0,\"-\",ROUND((Balance!T36/Balance!T$40)*100,1))","v":1.9},{"$f":"IF(Balance!U36=0,\"-\",ROUND((Balance!U36/Balance!U$40)*100,1))","v":1.4},{"$f":"IF(Balance!V36=0,\"-\",ROUND((Balance!V36/Balance!V$40)*100,1))","v":1.5},{"$f":"IF(Balance!W36=0,\"-\",ROUND((Balance!W36/Balance!W$40)*100,1))","v":1.8},{"$f":"IF(Balance!X36=0,\"-\",ROUND((Balance!X36/Balance!X$40)*100,1))","v":0.2},{"$f":"IF(Balance!Y36=0,\"-\",ROUND((Balance!Y36/Balance!Y$40)*100,1))","v":1.8},{"$f":"IF(Balance!Z36=0,\"-\",ROUND((Balance!Z36/Balance!Z$40)*100,1))","v":2.5},{"$f":"IF(Balance!AA36=0,\"-\",ROUND((Balance!AA36/Balance!AA$40)*100,1))","v":2.2000000000000002},{"$f":"IF(Balance!AB36=0,\"-\",ROUND((Balance!AB36/Balance!AB$40)*100,1))","v":2.6},{"$f":"IF(Balance!AC36=0,\"-\",ROUND((Balance!AC36/Balance!AC$40)*100,1))","v":2.6},{"$f":"IF(Balance!AD36=0,\"-\",ROUND((Balance!AD36/Balance!AD$40)*100,1))","v":2.6},{"$f":"IF(Balance!AE36=0,\"-\",ROUND((Balance!AE36/Balance!AE$40)*100,1))","v":2.5},{"$f":"IF(Balance!AF36=0,\"-\",ROUND((Balance!AF36/Balance!AF$40)*100,1))","v":2.2000000000000002},{"$f":"IF(Balance!AG36=0,\"-\",ROUND((Balance!AG36/Balance!AG$40)*100,1))","v":1.9},{"$f":"IF(Balance!AH36=0,\"-\",ROUND((Balance!AH36/Balance!AH$40)*100,1))","v":1.7},{"$f":"IF(Balance!AI36=0,\"-\",ROUND((Balance!AI36/Balance!AI$40)*100,1))","v":1.9},{"$f":"IF(Balance!AJ36=0,\"-\",ROUND((Balance!AJ36/Balance!AJ$40)*100,1))","v":2.5},{"$f":"IF(Balance!AK36=0,\"-\",ROUND((Balance!AK36/Balance!AK$40)*100,1))","v":2.7},{"$f":"IF(Balance!AL36=0,\"-\",ROUND((Balance!AL36/Balance!AL$40)*100,1))","v":2.4},{"$f":"IF(Balance!AM36=0,\"-\",ROUND((Balance!AM36/Balance!AM$40)*100,1))","v":2.5},{"$f":"IF(Balance!AN36=0,\"-\",ROUND((Balance!AN36/Balance!AN$40)*100,1))","v":2.1},{"$f":"IF(Balance!AO36=0,\"-\",ROUND((Balance!AO36/Balance!AO$40)*100,1))","v":0.2},{"$f":"IF(Balance!AP36=0,\"-\",ROUND((Balance!AP36/Balance!AP$40)*100,1))","v":2.6},{"$f":"IF(Balance!AQ36=0,\"-\",ROUND((Balance!AQ36/Balance!AQ$40)*100,1))","v":2.7},{"$f":"IF(Balance!AR36=0,\"-\",ROUND((Balance!AR36/Balance!AR$40)*100,1))","v":2.1},{"$f":"IF(Balance!AS36=0,\"-\",ROUND((Balance!AS36/Balance!AS$40)*100,1))","v":1.7},{"$f":"IF(Balance!AT36=0,\"-\",ROUND((Balance!AT36/Balance!AT$40)*100,1))","v":1.6},{"$f":"IF(Balance!AU36=0,\"-\",ROUND((Balance!AU36/Balance!AU$40)*100,1))","v":2.2000000000000002},{"$f":"IF(Balance!AV36=0,\"-\",ROUND((Balance!AV36/Balance!AV$40)*100,1))","v":2.5},{"$f":"IF(Balance!AW36=0,\"-\",ROUND((Balance!AW36/Balance!AW$40)*100,1))","v":3.1},{"$f":"IF(Balance!AX36=0,\"-\",ROUND((Balance!AX36/Balance!AX$40)*100,1))","v":2.7},{"$f":"IF(Balance!AY36=0,\"-\",ROUND((Balance!AY36/Balance!AY$40)*100,1))","v":2.2000000000000002},{"$f":"IF(Balance!AZ36=0,\"-\",ROUND((Balance!AZ36/Balance!AZ$40)*100,1))","v":2},{"$f":"IF(Balance!BA36=0,\"-\",ROUND((Balance!BA36/Balance!BA$40)*100,1))","v":2.4},{"$f":"IF(Balance!BB36=0,\"-\",ROUND((Balance!BB36/Balance!BB$40)*100,1))","v":2.7},{"$f":"IF(Balance!BC36=0,\"-\",ROUND((Balance!BC36/Balance!BC$40)*100,1))","v":2.5},{"$f":"IF(Balance!BD36=0,\"-\",ROUND((Balance!BD36/Balance!BD$40)*100,1))","v":2.2000000000000002},{"$f":"IF(Balance!BE36=0,\"-\",ROUND((Balance!BE36/Balance!BE$40)*100,1))","v":1.8},{"$f":"IF(Balance!BF36=0,\"-\",ROUND((Balance!BF36/Balance!BF$40)*100,1))","v":3.7},{"$f":"IF(Balance!BG36=0,\"-\",ROUND((Balance!BG36/Balance!BG$40)*100,1))","v":5},{"$f":"IF(Balance!BH36=0,\"-\",ROUND((Balance!BH36/Balance!BH$40)*100,1))","v":3.1},{"$f":"IF(Balance!BI36=0,\"-\",ROUND((Balance!BI36/Balance!BI$40)*100,1))","v":4.4000000000000004},{"$f":"IF(Balance!BJ36=0,\"-\",ROUND((Balance!BJ36/Balance!BJ$40)*100,1))","v":4.4000000000000004},{"$f":"IF(Balance!BK36=0,\"-\",ROUND((Balance!BK36/Balance!BK$40)*100,1))","v":3.2},{"$f":"IF(Balance!BL36=0,\"-\",ROUND((Balance!BL36/Balance!BL$40)*100,1))","v":3.2},{"$f":"IF(Balance!BM36=0,\"-\",ROUND((Balance!BM36/Balance!BM$40)*100,1))","v":3},{"$f":"IF(Balance!BN36=0,\"-\",ROUND((Balance!BN36/Balance!BN$40)*100,1))","v":4.5},{"$f":"IF(Balance!BO36=0,\"-\",ROUND((Balance!BO36/Balance!BO$40)*100,1))","v":2.8},{"$f":"IF(Balance!BP36=0,\"-\",ROUND((Balance!BP36/Balance!BP$40)*100,1))","v":4.8},{"$f":"IF(Balance!BQ36=0,\"-\",ROUND((Balance!BQ36/Balance!BQ$40)*100,1))","v":4.5999999999999996},{"$f":"IF(Balance!BR36=0,\"-\",ROUND((Balance!BR36/Balance!BR$40)*100,1))","v":4.5},{"$f":"IF(Balance!BS36=0,\"-\",ROUND((Balance!BS36/Balance!BS$40)*100,1))","v":5.3},{"$f":"IF(Balance!BT36=0,\"-\",ROUND((Balance!BT36/Balance!BT$40)*100,1))","v":6.2},{"$f":"IF(Balance!BU36=0,\"-\",ROUND((Balance!BU36/Balance!BU$40)*100,1))","v":6},{"$f":"IF(Balance!BV36=0,\"-\",ROUND((Balance!BV36/Balance!BV$40)*100,1))","v":6.5},{"$f":"IF(Balance!BW36=0,\"-\",ROUND((Balance!BW36/Balance!BW$40)*100,1))","v":5.0999999999999996},{"$f":"IF(Balance!BX36=0,\"-\",ROUND((Balance!BX36/Balance!BX$40)*100,1))","v":3.9},{"$f":"IF(Balance!BY36=0,\"-\",ROUND((Balance!BY36/Balance!BY$40)*100,1))","v":5.5},{"$f":"IF(Balance!BZ36=0,\"-\",ROUND((Balance!BZ36/Balance!BZ$40)*100,1))","v":5.0999999999999996},{"$f":"IF(Balance!CA36=0,\"-\",ROUND((Balance!CA36/Balance!CA$40)*100,1))","v":6},{"$f":"IF(Balance!CB36=0,\"-\",ROUND((Balance!CB36/Balance!CB$40)*100,1))","v":4.5},{"$f":"IF(Balance!CC36=0,\"-\",ROUND((Balance!CC36/Balance!CC$40)*100,1))","v":5.2},{"$f":"IF(Balance!CD36=0,\"-\",ROUND((Balance!CD36/Balance!CD$40)*100,1))","v":4.8},{"$f":"IF(Balance!CE36=0,\"-\",ROUND((Balance!CE36/Balance!CE$40)*100,1))","v":5.3},{"$f":"IF(Balance!CF36=0,\"-\",ROUND((Balance!CF36/Balance!CF$40)*100,1))","v":4.4000000000000004},{"$f":"IF(Balance!CG36=0,\"-\",ROUND((Balance!CG36/Balance!CG$40)*100,1))","v":5.3},{"$f":"IF(Balance!CH36=0,\"-\",ROUND((Balance!CH36/Balance!CH$40)*100,1))","v":8.3000000000000007},{"$f":"IF(Balance!CI36=0,\"-\",ROUND((Balance!CI36/Balance!CI$40)*100,1))","v":5.8},{"$f":"IF(Balance!CJ36=0,\"-\",ROUND((Balance!CJ36/Balance!CJ$40)*100,1))","v":4.3},{"$f":"IF(Balance!CK36=0,\"-\",ROUND((Balance!CK36/Balance!CK$40)*100,1))","v":5.3},{"$f":"IF(Balance!CL36=0,\"-\",ROUND((Balance!CL36/Balance!CL$40)*100,1))","v":5.0999999999999996},{"$f":"IF(Balance!CM36=0,\"-\",ROUND((Balance!CM36/Balance!CM$40)*100,1))","v":5.3},{"$f":"IF(Balance!CN36=0,\"-\",ROUND((Balance!CN36/Balance!CN$40)*100,1))","v":7.1},{"$f":"IF(Balance!CO36=0,\"-\",ROUND((Balance!CO36/Balance!CO$40)*100,1))","v":5.2},{"$f":"IF(Balance!CP36=0,\"-\",ROUND((Balance!CP36/Balance!CP$40)*100,1))","v":5.4},{"$f":"IF(Balance!CQ36=0,\"-\",ROUND((Balance!CQ36/Balance!CQ$40)*100,1))","v":7.6},{"$f":"IF(Balance!CR36=0,\"-\",ROUND((Balance!CR36/Balance!CR$40)*100,1))","v":5.6},{"$f":"IF(Balance!CS36=0,\"-\",ROUND((Balance!CS36/Balance!CS$40)*100,1))","v":5.7},{"$f":"IF(Balance!CT36=0,\"-\",ROUND((Balance!CT36/Balance!CT$40)*100,1))","v":5.7},{"$f":"IF(Balance!CU36=0,\"-\",ROUND((Balance!CU36/Balance!CU$40)*100,1))","v":5.5},{"$f":"IF(Balance!CV36=0,\"-\",ROUND((Balance!CV36/Balance!CV$40)*100,1))","v":4.9000000000000004},{"$f":"IF(Balance!CW36=0,\"-\",ROUND((Balance!CW36/Balance!CW$40)*100,1))","v":6.3},{"$f":"IF(Balance!CX36=0,\"-\",ROUND((Balance!CX36/Balance!CX$40)*100,1))","v":7.8},{"$f":"IF(Balance!CY36=0,\"-\",ROUND((Balance!CY36/Balance!CY$40)*100,1))","v":3.4},{"$f":"IF(Balance!CZ36=0,\"-\",ROUND((Balance!CZ36/Balance!CZ$40)*100,1))","v":7.3},{"$f":"IF(Balance!DA36=0,\"-\",ROUND((Balance!DA36/Balance!DA$40)*100,1))","v":7.2},{"$f":"IF(Balance!DB36=0,\"-\",ROUND((Balance!DB36/Balance!DB$40)*100,1))","v":5.4},{"$f":"IF(Balance!DC36=0,\"-\",ROUND((Balance!DC36/Balance!DC$40)*100,1))","v":7.2},{"$f":"IF(Balance!DD36=0,\"-\",ROUND((Balance!DD36/Balance!DD$40)*100,1))","v":8.6999999999999993},{"$f":"IF(Balance!DE36=0,\"-\",ROUND((Balance!DE36/Balance!DE$40)*100,1))","v":7.2},{"$f":"IF(Balance!DF36=0,\"-\",ROUND((Balance!DF36/Balance!DF$40)*100,1))","v":7.8},{"$f":"IF(Balance!DG36=0,\"-\",ROUND((Balance!DG36/Balance!DG$40)*100,1))","v":0.9},{"$f":"IF(Balance!DH36=0,\"-\",ROUND((Balance!DH36/Balance!DH$40)*100,1))","v":0.8},{"$f":"IF(Balance!DI36=0,\"-\",ROUND((Balance!DI36/Balance!DI$40)*100,1))","v":0.8},{"$f":"IF(Balance!DJ36=0,\"-\",ROUND((Balance!DJ36/Balance!DJ$40)*100,1))","v":0.5},{"$f":"IF(Balance!DK36=0,\"-\",ROUND((Balance!DK36/Balance!DK$40)*100,1))","v":0.6},{"$f":"IF(Balance!DL36=0,\"-\",ROUND((Balance!DL36/Balance!DL$40)*100,1))","v":0.3},{"$f":"IF(Balance!DM36=0,\"-\",ROUND((Balance!DM36/Balance!DM$40)*100,1))","v":0.6},{"$f":"IF(Balance!DN36=0,\"-\",ROUND((Balance!DN36/Balance!DN$40)*100,1))","v":0.6},{"$f":"IF(Balance!DO36=0,\"-\",ROUND((Balance!DO36/Balance!DO$40)*100,1))","v":0.6},{"$f":"IF(Balance!DP36=0,\"-\",ROUND((Balance!DP36/Balance!DP$40)*100,1))","v":0.9},{"$f":"IF(Balance!DQ36=0,\"-\",ROUND((Balance!DQ36/Balance!DQ$40)*100,1))","v":1.1000000000000001},{"$f":"IF(Balance!DR36=0,\"-\",ROUND((Balance!DR36/Balance!DR$40)*100,1))","v":1.1000000000000001},{"$f":"IF(Balance!DS36=0,\"-\",ROUND((Balance!DS36/Balance!DS$40)*100,1))","v":1},{"$f":"IF(Balance!DT36=0,\"-\",ROUND((Balance!DT36/Balance!DT$40)*100,1))","v":1},{"$f":"IF(Balance!DU36=0,\"-\",ROUND((Balance!DU36/Balance!DU$40)*100,1))","v":0.9},{"$f":"IF(Balance!DV36=0,\"-\",ROUND((Balance!DV36/Balance!DV$40)*100,1))","v":0.9},{"$f":"IF(Balance!DW36=0,\"-\",ROUND((Balance!DW36/Balance!DW$40)*100,1))","v":0.6},{"$f":"IF(Balance!DX36=0,\"-\",ROUND((Balance!DX36/Balance!DX$40)*100,1))","v":0.8},{"$f":"IF(Balance!DY36=0,\"-\",ROUND((Balance!DY36/Balance!DY$40)*100,1))","v":0.6},{"$f":"IF(Balance!DZ36=0,\"-\",ROUND((Balance!DZ36/Balance!DZ$40)*100,1))","v":0.6},{"$f":"IF(Balance!EA36=0,\"-\",ROUND((Balance!EA36/Balance!EA$40)*100,1))","v":0.6},{"$f":"IF(Balance!EB36=0,\"-\",ROUND((Balance!EB36/Balance!EB$40)*100,1))","v":0.7},{"$f":"IF(Balance!EC36=0,\"-\",ROUND((Balance!EC36/Balance!EC$40)*100,1))","v":0.7},{"$f":"IF(Balance!ED36=0,\"-\",ROUND((Balance!ED36/Balance!ED$40)*100,1))","v":0.8},{"$f":"IF(Balance!EE36=0,\"-\",ROUND((Balance!EE36/Balance!EE$40)*100,1))","v":0.8},{"$f":"IF(Balance!EF36=0,\"-\",ROUND((Balance!EF36/Balance!EF$40)*100,1))","v":0.9},{"$f":"IF(Balance!EG36=0,\"-\",ROUND((Balance!EG36/Balance!EG$40)*100,1))","v":1.1000000000000001},{"$f":"IF(Balance!EH36=0,\"-\",ROUND((Balance!EH36/Balance!EH$40)*100,1))","v":0.5},{"$f":"IF(Balance!EI36=0,\"-\",ROUND((Balance!EI36/Balance!EI$40)*100,1))","v":0.5},{"$f":"IF(Balance!EJ36=0,\"-\",ROUND((Balance!EJ36/Balance!EJ$40)*100,1))","v":0.6},{"$f":"IF(Balance!EK36=0,\"-\",ROUND((Balance!EK36/Balance!EK$40)*100,1))","v":0.6},{"$f":"IF(Balance!EL36=0,\"-\",ROUND((Balance!EL36/Balance!EL$40)*100,1))","v":0.6},{"$f":"IF(Balance!EM36=0,\"-\",ROUND((Balance!EM36/Balance!EM$40)*100,1))","v":0.8},{"$f":"IF(Balance!EN36=0,\"-\",ROUND((Balance!EN36/Balance!EN$40)*100,1))","v":0.9},{"$f":"IF(Balance!EO36=0,\"-\",ROUND((Balance!EO36/Balance!EO$40)*100,1))","v":0.9},{"$f":"IF(Balance!EP36=0,\"-\",ROUND((Balance!EP36/Balance!EP$40)*100,1))","v":1},{"$f":"IF(Balance!EQ36=0,\"-\",ROUND((Balance!EQ36/Balance!EQ$40)*100,1))","v":0.9},{"$f":"IF(Balance!ER36=\"-\",\"-\",ROUND((Balance!ER36/Balance!ER$40)*100,1))","v":"-"},{"$f":"IF(Balance!ES36=\"-\",\"-\",ROUND((Balance!ES36/Balance!ES$40)*100,1))","v":"-"},{"$f":"IF(Balance!ET36=\"-\",\"-\",ROUND((Balance!ET36/Balance!ET$40)*100,1))","v":"-"},{"$f":"IF(Balance!EU36=\"-\",\"-\",ROUND((Balance!EU36/Balance!EU$40)*100,1))","v":"-"},{"$f":"IF(Balance!EV36=\"-\",\"-\",ROUND((Balance!EV36/Balance!EV$40)*100,1))","v":"-"},{"$f":"IF(Balance!EW36=\"-\",\"-\",ROUND((Balance!EW36/Balance!EW$40)*100,1))","v":"-"},{"$f":"IF(Balance!EX36=\"-\",\"-\",ROUND((Balance!EX36/Balance!EX$40)*100,1))","v":"-"},{"$f":"IF(Balance!EY36=\"-\",\"-\",ROUND((Balance!EY36/Balance!EY$40)*100,1))","v":"-"},{"$f":"IF(Balance!EZ36=\"-\",\"-\",ROUND((Balance!EZ36/Balance!EZ$40)*100,1))","v":"-"},{"$f":"IF(Balance!FA36=\"-\",\"-\",ROUND((Balance!FA36/Balance!FA$40)*100,1))","v":"-"},{"$f":"IF(Balance!FB36=\"-\",\"-\",ROUND((Balance!FB36/Balance!FB$40)*100,1))","v":"-"}]
[null,"Residuos no renovables",{"$f":"IF(Balance!C37=\"-\",\"-\",ROUND((Balance!C37/Balance!C$40)*100,1))","v":"-"},{"$f":"IF(Balance!D37=\"-\",\"-\",ROUND((Balance!D37/Balance!D$40)*100,1))","v":"-"},{"$f":"IF(Balance!E37=\"-\",\"-\",ROUND((Balance!E37/Balance!E$40)*100,1))","v":"-"},{"$f":"IF(Balance!F37=\"-\",\"-\",ROUND((Balance!F37/Balance!F$40)*100,1))","v":"-"},{"$f":"IF(Balance!G37=\"-\",\"-\",ROUND((Balance!G37/Balance!G$40)*100,1))","v":"-"},{"$f":"IF(Balance!H37=\"-\",\"-\",ROUND((Balance!H37/Balance!H$40)*100,1))","v":"-"},{"$f":"IF(Balance!I37=\"-\",\"-\",ROUND((Balance!I37/Balance!I$40)*100,1))","v":"-"},{"$f":"IF(Balance!J37=\"-\",\"-\",ROUND((Balance!J37/Balance!J$40)*100,1))","v":"-"},{"$f":"IF(Balance!K37=\"-\",\"-\",ROUND((Balance!K37/Balance!K$40)*100,1))","v":"-"},{"$f":"IF(Balance!L37=\"-\",\"-\",ROUND((Balance!L37/Balance!L$40)*100,1))","v":"-"},{"$f":"IF(Balance!M37=\"-\",\"-\",ROUND((Balance!M37/Balance!M$40)*100,1))","v":"-"},{"$f":"IF(Balance!N37=\"-\",\"-\",ROUND((Balance!N37/Balance!N$40)*100,1))","v":"-"},{"$f":"IF(Balance!O37=\"-\",\"-\",ROUND((Balance!O37/Balance!O$40)*100,1))","v":"-"},{"$f":"IF(Balance!P37=\"-\",\"-\",ROUND((Balance!P37/Balance!P$40)*100,1))","v":"-"},{"$f":"IF(Balance!Q37=\"-\",\"-\",ROUND((Balance!Q37/Balance!Q$40)*100,1))","v":"-"},{"$f":"IF(Balance!R37=\"-\",\"-\",ROUND((Balance!R37/Balance!R$40)*100,1))","v":"-"},{"$f":"IF(Balance!S37=\"-\",\"-\",ROUND((Balance!S37/Balance!S$40)*100,1))","v":"-"},{"$f":"IF(Balance!T37=\"-\",\"-\",ROUND((Balance!T37/Balance!T$40)*100,1))","v":"-"},{"$f":"IF(Balance!U37=\"-\",\"-\",ROUND((Balance!U37/Balance!U$40)*100,1))","v":"-"},{"$f":"IF(Balance!V37=\"-\",\"-\",ROUND((Balance!V37/Balance!V$40)*100,1))","v":"-"},{"$f":"IF(Balance!W37=\"-\",\"-\",ROUND((Balance!W37/Balance!W$40)*100,1))","v":"-"},{"$f":"IF(Balance!X37=\"-\",\"-\",ROUND((Balance!X37/Balance!X$40)*100,1))","v":"-"},{"$f":"IF(Balance!Y37=\"-\",\"-\",ROUND((Balance!Y37/Balance!Y$40)*100,1))","v":"-"},{"$f":"IF(Balance!Z37=\"-\",\"-\",ROUND((Balance!Z37/Balance!Z$40)*100,1))","v":"-"},{"$f":"IF(Balance!AA37=\"-\",\"-\",ROUND((Balance!AA37/Balance!AA$40)*100,1))","v":"-"},{"$f":"IF(Balance!AB37=\"-\",\"-\",ROUND((Balance!AB37/Balance!AB$40)*100,1))","v":"-"},{"$f":"IF(Balance!AC37=\"-\",\"-\",ROUND((Balance!AC37/Balance!AC$40)*100,1))","v":"-"},{"$f":"IF(Balance!AD37=\"-\",\"-\",ROUND((Balance!AD37/Balance!AD$40)*100,1))","v":"-"},{"$f":"IF(Balance!AE37=\"-\",\"-\",ROUND((Balance!AE37/Balance!AE$40)*100,1))","v":"-"},{"$f":"IF(Balance!AF37=\"-\",\"-\",ROUND((Balance!AF37/Balance!AF$40)*100,1))","v":"-"},{"$f":"IF(Balance!AG37=\"-\",\"-\",ROUND((Balance!AG37/Balance!AG$40)*100,1))","v":"-"},{"$f":"IF(Balance!AH37=\"-\",\"-\",ROUND((Balance!AH37/Balance!AH$40)*100,1))","v":"-"},{"$f":"IF(Balance!AI37=\"-\",\"-\",ROUND((Balance!AI37/Balance!AI$40)*100,1))","v":"-"},{"$f":"IF(Balance!AJ37=\"-\",\"-\",ROUND((Balance!AJ37/Balance!AJ$40)*100,1))","v":"-"},{"$f":"IF(Balance!AK37=\"-\",\"-\",ROUND((Balance!AK37/Balance!AK$40)*100,1))","v":"-"},{"$f":"IF(Balance!AL37=\"-\",\"-\",ROUND((Balance!AL37/Balance!AL$40)*100,1))","v":"-"},{"$f":"IF(Balance!AM37=\"-\",\"-\",ROUND((Balance!AM37/Balance!AM$40)*100,1))","v":"-"},{"$f":"IF(Balance!AN37=\"-\",\"-\",ROUND((Balance!AN37/Balance!AN$40)*100,1))","v":"-"},{"$f":"IF(Balance!AO37=\"-\",\"-\",ROUND((Balance!AO37/Balance!AO$40)*100,1))","v":"-"},{"$f":"IF(Balance!AP37=\"-\",\"-\",ROUND((Balance!AP37/Balance!AP$40)*100,1))","v":"-"},{"$f":"IF(Balance!AQ37=\"-\",\"-\",ROUND((Balance!AQ37/Balance!AQ$40)*100,1))","v":"-"},{"$f":"IF(Balance!AR37=\"-\",\"-\",ROUND((Balance!AR37/Balance!AR$40)*100,1))","v":"-"},{"$f":"IF(Balance!AS37=\"-\",\"-\",ROUND((Balance!AS37/Balance!AS$40)*100,1))","v":"-"},{"$f":"IF(Balance!AT37=\"-\",\"-\",ROUND((Balance!AT37/Balance!AT$40)*100,1))","v":"-"},{"$f":"IF(Balance!AU37=\"-\",\"-\",ROUND((Balance!AU37/Balance!AU$40)*100,1))","v":"-"},{"$f":"IF(Balance!AV37=\"-\",\"-\",ROUND((Balance!AV37/Balance!AV$40)*100,1))","v":"-"},{"$f":"IF(Balance!AW37=\"-\",\"-\",ROUND((Balance!AW37/Balance!AW$40)*100,1))","v":"-"},{"$f":"IF(Balance!AX37=\"-\",\"-\",ROUND((Balance!AX37/Balance!AX$40)*100,1))","v":"-"},{"$f":"IF(Balance!AY37=\"-\",\"-\",ROUND((Balance!AY37/Balance!AY$40)*100,1))","v":"-"},{"$f":"IF(Balance!AZ37=\"-\",\"-\",ROUND((Balance!AZ37/Balance!AZ$40)*100,1))","v":"-"},{"$f":"IF(Balance!BA37=\"-\",\"-\",ROUND((Balance!BA37/Balance!BA$40)*100,1))","v":"-"},{"$f":"IF(Balance!BB37=\"-\",\"-\",ROUND((Balance!BB37/Balance!BB$40)*100,1))","v":"-"},{"$f":"IF(Balance!BC37=\"-\",\"-\",ROUND((Balance!BC37/Balance!BC$40)*100,1))","v":"-"},{"$f":"IF(Balance!BD37=\"-\",\"-\",ROUND((Balance!BD37/Balance!BD$40)*100,1))","v":"-"},{"$f":"IF(Balance!BE37=\"-\",\"-\",ROUND((Balance!BE37/Balance!BE$40)*100,1))","v":"-"},{"$f":"IF(Balance!BF37=\"-\",\"-\",ROUND((Balance!BF37/Balance!BF$40)*100,1))","v":"-"},{"$f":"IF(Balance!BG37=\"-\",\"-\",ROUND((Balance!BG37/Balance!BG$40)*100,1))","v":"-"},{"$f":"IF(Balance!BH37=\"-\",\"-\",ROUND((Balance!BH37/Balance!BH$40)*100,1))","v":"-"},{"$f":"IF(Balance!BI37=\"-\",\"-\",ROUND((Balance!BI37/Balance!BI$40)*100,1))","v":"-"},{"$f":"IF(Balance!BJ37=\"-\",\"-\",ROUND((Balance!BJ37/Balance!BJ$40)*100,1))","v":"-"},{"$f":"IF(Balance!BK37=\"-\",\"-\",ROUND((Balance!BK37/Balance!BK$40)*100,1))","v":"-"},{"$f":"IF(Balance!BL37=\"-\",\"-\",ROUND((Balance!BL37/Balance!BL$40)*100,1))","v":"-"},{"$f":"IF(Balance!BM37=\"-\",\"-\",ROUND((Balance!BM37/Balance!BM$40)*100,1))","v":"-"},{"$f":"IF(Balance!BN37=\"-\",\"-\",ROUND((Balance!BN37/Balance!BN$40)*100,1))","v":"-"},{"$f":"IF(Balance!BO37=\"-\",\"-\",ROUND((Balance!BO37/Balance!BO$40)*100,1))","v":"-"},{"$f":"IF(Balance!BP37=\"-\",\"-\",ROUND((Balance!BP37/Balance!BP$40)*100,1))","v":"-"},{"$f":"IF(Balance!BQ37=\"-\",\"-\",ROUND((Balance!BQ37/Balance!BQ$40)*100,1))","v":"-"},{"$f":"IF(Balance!BR37=\"-\",\"-\",ROUND((Balance!BR37/Balance!BR$40)*100,1))","v":"-"},{"$f":"IF(Balance!BS37=\"-\",\"-\",ROUND((Balance!BS37/Balance!BS$40)*100,1))","v":"-"},{"$f":"IF(Balance!BT37=\"-\",\"-\",ROUND((Balance!BT37/Balance!BT$40)*100,1))","v":"-"},{"$f":"IF(Balance!BU37=\"-\",\"-\",ROUND((Balance!BU37/Balance!BU$40)*100,1))","v":"-"},{"$f":"IF(Balance!BV37=\"-\",\"-\",ROUND((Balance!BV37/Balance!BV$40)*100,1))","v":"-"},{"$f":"IF(Balance!BW37=\"-\",\"-\",ROUND((Balance!BW37/Balance!BW$40)*100,1))","v":"-"},{"$f":"IF(Balance!BX37=\"-\",\"-\",ROUND((Balance!BX37/Balance!BX$40)*100,1))","v":"-"},{"$f":"IF(Balance!BY37=\"-\",\"-\",ROUND((Balance!BY37/Balance!BY$40)*100,1))","v":"-"},{"$f":"IF(Balance!BZ37=\"-\",\"-\",ROUND((Balance!BZ37/Balance!BZ$40)*100,1))","v":"-"},{"$f":"IF(Balance!CA37=\"-\",\"-\",ROUND((Balance!CA37/Balance!CA$40)*100,1))","v":"-"},{"$f":"IF(Balance!CB37=\"-\",\"-\",ROUND((Balance!CB37/Balance!CB$40)*100,1))","v":"-"},{"$f":"IF(Balance!CC37=\"-\",\"-\",ROUND((Balance!CC37/Balance!CC$40)*100,1))","v":"-"},{"$f":"IF(Balance!CD37=\"-\",\"-\",ROUND((Balance!CD37/Balance!CD$40)*100,1))","v":"-"},{"$f":"IF(Balance!CE37=\"-\",\"-\",ROUND((Balance!CE37/Balance!CE$40)*100,1))","v":"-"},{"$f":"IF(Balance!CF37=\"-\",\"-\",ROUND((Balance!CF37/Balance!CF$40)*100,1))","v":"-"},{"$f":"IF(Balance!CG37=\"-\",\"-\",ROUND((Balance!CG37/Balance!CG$40)*100,1))","v":"-"},{"$f":"IF(Balance!CH37=\"-\",\"-\",ROUND((Balance!CH37/Balance!CH$40)*100,1))","v":"-"},{"$f":"IF(Balance!CI37=\"-\",\"-\",ROUND((Balance!CI37/Balance!CI$40)*100,1))","v":"-"},{"$f":"IF(Balance!CJ37=\"-\",\"-\",ROUND((Balance!CJ37/Balance!CJ$40)*100,1))","v":"-"},{"$f":"IF(Balance!CK37=\"-\",\"-\",ROUND((Balance!CK37/Balance!CK$40)*100,1))","v":"-"},{"$f":"IF(Balance!CL37=\"-\",\"-\",ROUND((Balance!CL37/Balance!CL$40)*100,1))","v":"-"},{"$f":"IF(Balance!CM37=\"-\",\"-\",ROUND((Balance!CM37/Balance!CM$40)*100,1))","v":"-"},{"$f":"IF(Balance!CN37=\"-\",\"-\",ROUND((Balance!CN37/Balance!CN$40)*100,1))","v":"-"},{"$f":"IF(Balance!CO37=\"-\",\"-\",ROUND((Balance!CO37/Balance!CO$40)*100,1))","v":"-"},{"$f":"IF(Balance!CP37=\"-\",\"-\",ROUND((Balance!CP37/Balance!CP$40)*100,1))","v":"-"},{"$f":"IF(Balance!CQ37=\"-\",\"-\",ROUND((Balance!CQ37/Balance!CQ$40)*100,1))","v":"-"},{"$f":"IF(Balance!CR37=\"-\",\"-\",ROUND((Balance!CR37/Balance!CR$40)*100,1))","v":"-"},{"$f":"IF(Balance!CS37=\"-\",\"-\",ROUND((Balance!CS37/Balance!CS$40)*100,1))","v":"-"},{"$f":"IF(Balance!CT37=\"-\",\"-\",ROUND((Balance!CT37/Balance!CT$40)*100,1))","v":"-"},{"$f":"IF(Balance!CU37=\"-\",\"-\",ROUND((Balance!CU37/Balance!CU$40)*100,1))","v":"-"},{"$f":"IF(Balance!CV37=\"-\",\"-\",ROUND((Balance!CV37/Balance!CV$40)*100,1))","v":"-"},{"$f":"IF(Balance!CW37=\"-\",\"-\",ROUND((Balance!CW37/Balance!CW$40)*100,1))","v":"-"},{"$f":"IF(Balance!CX37=\"-\",\"-\",ROUND((Balance!CX37/Balance!CX$40)*100,1))","v":"-"},{"$f":"IF(Balance!CY37=\"-\",\"-\",ROUND((Balance!CY37/Balance!CY$40)*100,1))","v":"-"},{"$f":"IF(Balance!CZ37=\"-\",\"-\",ROUND((Balance!CZ37/Balance!CZ$40)*100,1))","v":"-"},{"$f":"IF(Balance!DA37=\"-\",\"-\",ROUND((Balance!DA37/Balance!DA$40)*100,1))","v":"-"},{"$f":"IF(Balance!DB37=\"-\",\"-\",ROUND((Balance!DB37/Balance!DB$40)*100,1))","v":"-"},{"$f":"IF(Balance!DC37=\"-\",\"-\",ROUND((Balance!DC37/Balance!DC$40)*100,1))","v":"-"},{"$f":"IF(Balance!DD37=\"-\",\"-\",ROUND((Balance!DD37/Balance!DD$40)*100,1))","v":"-"},{"$f":"IF(Balance!DE37=\"-\",\"-\",ROUND((Balance!DE37/Balance!DE$40)*100,1))","v":"-"},{"$f":"IF(Balance!DF37=\"-\",\"-\",ROUND((Balance!DF37/Balance!DF$40)*100,1))","v":"-"},{"$f":"IF(Balance!DG37=\"-\",\"-\",ROUND((Balance!DG37/Balance!DG$40)*100,1))","v":2.7},{"$f":"IF(Balance!DH37=\"-\",\"-\",ROUND((Balance!DH37/Balance!DH$40)*100,1))","v":2.2000000000000002},{"$f":"IF(Balance!DI37=\"-\",\"-\",ROUND((Balance!DI37/Balance!DI$40)*100,1))","v":3.4},{"$f":"IF(Balance!DJ37=\"-\",\"-\",ROUND((Balance!DJ37/Balance!DJ$40)*100,1))","v":4.4000000000000004},{"$f":"IF(Balance!DK37=\"-\",\"-\",ROUND((Balance!DK37/Balance!DK$40)*100,1))","v":3.8},{"$f":"IF(Balance!DL37=\"-\",\"-\",ROUND((Balance!DL37/Balance!DL$40)*100,1))","v":3.4},{"$f":"IF(Balance!DM37=\"-\",\"-\",ROUND((Balance!DM37/Balance!DM$40)*100,1))","v":2.5},{"$f":"IF(Balance!DN37=\"-\",\"-\",ROUND((Balance!DN37/Balance!DN$40)*100,1))","v":2.6},{"$f":"IF(Balance!DO37=\"-\",\"-\",ROUND((Balance!DO37/Balance!DO$40)*100,1))","v":3.6},{"$f":"IF(Balance!DP37=\"-\",\"-\",ROUND((Balance!DP37/Balance!DP$40)*100,1))","v":4.2},{"$f":"IF(Balance!DQ37=\"-\",\"-\",ROUND((Balance!DQ37/Balance!DQ$40)*100,1))","v":4.8},{"$f":"IF(Balance!DR37=\"-\",\"-\",ROUND((Balance!DR37/Balance!DR$40)*100,1))","v":3.9},{"$f":"IF(Balance!DS37=\"-\",\"-\",ROUND((Balance!DS37/Balance!DS$40)*100,1))","v":2.7},{"$f":"IF(Balance!DT37=\"-\",\"-\",ROUND((Balance!DT37/Balance!DT$40)*100,1))","v":1.6},{"$f":"IF(Balance!DU37=\"-\",\"-\",ROUND((Balance!DU37/Balance!DU$40)*100,1))","v":2.6},{"$f":"IF(Balance!DV37=\"-\",\"-\",ROUND((Balance!DV37/Balance!DV$40)*100,1))","v":3.7},{"$f":"IF(Balance!DW37=\"-\",\"-\",ROUND((Balance!DW37/Balance!DW$40)*100,1))","v":4},{"$f":"IF(Balance!DX37=\"-\",\"-\",ROUND((Balance!DX37/Balance!DX$40)*100,1))","v":3.3},{"$f":"IF(Balance!DY37=\"-\",\"-\",ROUND((Balance!DY37/Balance!DY$40)*100,1))","v":2.2999999999999998},{"$f":"IF(Balance!DZ37=\"-\",\"-\",ROUND((Balance!DZ37/Balance!DZ$40)*100,1))","v":2.5},{"$f":"IF(Balance!EA37=\"-\",\"-\",ROUND((Balance!EA37/Balance!EA$40)*100,1))","v":2.7},{"$f":"IF(Balance!EB37=\"-\",\"-\",ROUND((Balance!EB37/Balance!EB$40)*100,1))","v":3.5},{"$f":"IF(Balance!EC37=\"-\",\"-\",ROUND((Balance!EC37/Balance!EC$40)*100,1))","v":2.8},{"$f":"IF(Balance!ED37=\"-\",\"-\",ROUND((Balance!ED37/Balance!ED$40)*100,1))","v":2.7},{"$f":"IF(Balance!EE37=\"-\",\"-\",ROUND((Balance!EE37/Balance!EE$40)*100,1))","v":2},{"$f":"IF(Balance!EF37=\"-\",\"-\",ROUND((Balance!EF37/Balance!EF$40)*100,1))","v":2.2000000000000002},{"$f":"IF(Balance!EG37=\"-\",\"-\",ROUND((Balance!EG37/Balance!EG$40)*100,1))","v":3.2},{"$f":"IF(Balance!EH37=\"-\",\"-\",ROUND((Balance!EH37/Balance!EH$40)*100,1))","v":4.0999999999999996},{"$f":"IF(Balance!EI37=\"-\",\"-\",ROUND((Balance!EI37/Balance!EI$40)*100,1))","v":2.7},{"$f":"IF(Balance!EJ37=\"-\",\"-\",ROUND((Balance!EJ37/Balance!EJ$40)*100,1))","v":3},{"$f":"IF(Balance!EK37=\"-\",\"-\",ROUND((Balance!EK37/Balance!EK$40)*100,1))","v":2.7},{"$f":"IF(Balance!EL37=\"-\",\"-\",ROUND((Balance!EL37/Balance!EL$40)*100,1))","v":2.6},{"$f":"IF(Balance!EM37=\"-\",\"-\",ROUND((Balance!EM37/Balance!EM$40)*100,1))","v":3.6},{"$f":"IF(Balance!EN37=\"-\",\"-\",ROUND((Balance!EN37/Balance!EN$40)*100,1))","v":3.7},{"$f":"IF(Balance!EO37=\"-\",\"-\",ROUND((Balance!EO37/Balance!EO$40)*100,1))","v":3.4},{"$f":"IF(Balance!EP37=\"-\",\"-\",ROUND((Balance!EP37/Balance!EP$40)*100,1))","v":2.7},{"$f":"IF(Balance!EQ37=\"-\",\"-\",ROUND((Balance!EQ37/Balance!EQ$40)*100,1))","v":2.2000000000000002},{"$f":"IF(Balance!ER37=\"-\",\"-\",ROUND((Balance!ER37/Balance!ER$40)*100,1))","v":"-"},{"$f":"IF(Balance!ES37=\"-\",\"-\",ROUND((Balance!ES37/Balance!ES$40)*100,1))","v":"-"},{"$f":"IF(Balance!ET37=\"-\",\"-\",ROUND((Balance!ET37/Balance!ET$40)*100,1))","v":"-"},{"$f":"IF(Balance!EU37=\"-\",\"-\",ROUND((Balance!EU37/Balance!EU$40)*100,1))","v":"-"},{"$f":"IF(Balance!EV37=\"-\",\"-\",ROUND((Balance!EV37/Balance!EV$40)*100,1))","v":"-"},{"$f":"IF(Balance!EW37=\"-\",\"-\",ROUND((Balance!EW37/Balance!EW$40)*100,1))","v":"-"},{"$f":"IF(Balance!EX37=\"-\",\"-\",ROUND((Balance!EX37/Balance!EX$40)*100,1))","v":"-"},{"$f":"IF(Balance!EY37=\"-\",\"-\",ROUND((Balance!EY37/Balance!EY$40)*100,1))","v":"-"},{"$f":"IF(Balance!EZ37=\"-\",\"-\",ROUND((Balance!EZ37/Balance!EZ$40)*100,1))","v":"-"},{"$f":"IF(Balance!FA37=\"-\",\"-\",ROUND((Balance!FA37/Balance!FA$40)*100,1))","v":"-"},{"$f":"IF(Balance!FB37=\"-\",\"-\",ROUND((Balance!FB37/Balance!FB$40)*100,1))","v":"-"}]
[null,"Residuos renovables",{"$f":"IF(Balance!C38=\"-\",\"-\",ROUND((Balance!C38/Balance!C$40)*100,1))","v":"-"},{"$f":"IF(Balance!D38=\"-\",\"-\",ROUND((Balance!D38/Balance!D$40)*100,1))","v":"-"},{"$f":"IF(Balance!E38=\"-\",\"-\",ROUND((Balance!E38/Balance!E$40)*100,1))","v":"-"},{"$f":"IF(Balance!F38=\"-\",\"-\",ROUND((Balance!F38/Balance!F$40)*100,1))","v":"-"},{"$f":"IF(Balance!G38=\"-\",\"-\",ROUND((Balance!G38/Balance!G$40)*100,1))","v":"-"},{"$f":"IF(Balance!H38=\"-\",\"-\",ROUND((Balance!H38/Balance!H$40)*100,1))","v":"-"},{"$f":"IF(Balance!I38=\"-\",\"-\",ROUND((Balance!I38/Balance!I$40)*100,1))","v":"-"},{"$f":"IF(Balance!J38=\"-\",\"-\",ROUND((Balance!J38/Balance!J$40)*100,1))","v":"-"},{"$f":"IF(Balance!K38=\"-\",\"-\",ROUND((Balance!K38/Balance!K$40)*100,1))","v":"-"},{"$f":"IF(Balance!L38=\"-\",\"-\",ROUND((Balance!L38/Balance!L$40)*100,1))","v":"-"},{"$f":"IF(Balance!M38=\"-\",\"-\",ROUND((Balance!M38/Balance!M$40)*100,1))","v":"-"},{"$f":"IF(Balance!N38=\"-\",\"-\",ROUND((Balance!N38/Balance!N$40)*100,1))","v":"-"},{"$f":"IF(Balance!O38=\"-\",\"-\",ROUND((Balance!O38/Balance!O$40)*100,1))","v":"-"},{"$f":"IF(Balance!P38=\"-\",\"-\",ROUND((Balance!P38/Balance!P$40)*100,1))","v":"-"},{"$f":"IF(Balance!Q38=\"-\",\"-\",ROUND((Balance!Q38/Balance!Q$40)*100,1))","v":"-"},{"$f":"IF(Balance!R38=\"-\",\"-\",ROUND((Balance!R38/Balance!R$40)*100,1))","v":"-"},{"$f":"IF(Balance!S38=\"-\",\"-\",ROUND((Balance!S38/Balance!S$40)*100,1))","v":"-"},{"$f":"IF(Balance!T38=\"-\",\"-\",ROUND((Balance!T38/Balance!T$40)*100,1))","v":"-"},{"$f":"IF(Balance!U38=\"-\",\"-\",ROUND((Balance!U38/Balance!U$40)*100,1))","v":"-"},{"$f":"IF(Balance!V38=\"-\",\"-\",ROUND((Balance!V38/Balance!V$40)*100,1))","v":"-"},{"$f":"IF(Balance!W38=\"-\",\"-\",ROUND((Balance!W38/Balance!W$40)*100,1))","v":"-"},{"$f":"IF(Balance!X38=\"-\",\"-\",ROUND((Balance!X38/Balance!X$40)*100,1))","v":"-"},{"$f":"IF(Balance!Y38=\"-\",\"-\",ROUND((Balance!Y38/Balance!Y$40)*100,1))","v":"-"},{"$f":"IF(Balance!Z38=\"-\",\"-\",ROUND((Balance!Z38/Balance!Z$40)*100,1))","v":"-"},{"$f":"IF(Balance!AA38=\"-\",\"-\",ROUND((Balance!AA38/Balance!AA$40)*100,1))","v":"-"},{"$f":"IF(Balance!AB38=\"-\",\"-\",ROUND((Balance!AB38/Balance!AB$40)*100,1))","v":"-"},{"$f":"IF(Balance!AC38=\"-\",\"-\",ROUND((Balance!AC38/Balance!AC$40)*100,1))","v":"-"},{"$f":"IF(Balance!AD38=\"-\",\"-\",ROUND((Balance!AD38/Balance!AD$40)*100,1))","v":"-"},{"$f":"IF(Balance!AE38=\"-\",\"-\",ROUND((Balance!AE38/Balance!AE$40)*100,1))","v":"-"},{"$f":"IF(Balance!AF38=\"-\",\"-\",ROUND((Balance!AF38/Balance!AF$40)*100,1))","v":"-"},{"$f":"IF(Balance!AG38=\"-\",\"-\",ROUND((Balance!AG38/Balance!AG$40)*100,1))","v":"-"},{"$f":"IF(Balance!AH38=\"-\",\"-\",ROUND((Balance!AH38/Balance!AH$40)*100,1))","v":"-"},{"$f":"IF(Balance!AI38=\"-\",\"-\",ROUND((Balance!AI38/Balance!AI$40)*100,1))","v":"-"},{"$f":"IF(Balance!AJ38=\"-\",\"-\",ROUND((Balance!AJ38/Balance!AJ$40)*100,1))","v":"-"},{"$f":"IF(Balance!AK38=\"-\",\"-\",ROUND((Balance!AK38/Balance!AK$40)*100,1))","v":"-"},{"$f":"IF(Balance!AL38=\"-\",\"-\",ROUND((Balance!AL38/Balance!AL$40)*100,1))","v":"-"},{"$f":"IF(Balance!AM38=\"-\",\"-\",ROUND((Balance!AM38/Balance!AM$40)*100,1))","v":"-"},{"$f":"IF(Balance!AN38=\"-\",\"-\",ROUND((Balance!AN38/Balance!AN$40)*100,1))","v":"-"},{"$f":"IF(Balance!AO38=\"-\",\"-\",ROUND((Balance!AO38/Balance!AO$40)*100,1))","v":"-"},{"$f":"IF(Balance!AP38=\"-\",\"-\",ROUND((Balance!AP38/Balance!AP$40)*100,1))","v":"-"},{"$f":"IF(Balance!AQ38=\"-\",\"-\",ROUND((Balance!AQ38/Balance!AQ$40)*100,1))","v":"-"},{"$f":"IF(Balance!AR38=\"-\",\"-\",ROUND((Balance!AR38/Balance!AR$40)*100,1))","v":"-"},{"$f":"IF(Balance!AS38=\"-\",\"-\",ROUND((Balance!AS38/Balance!AS$40)*100,1))","v":"-"},{"$f":"IF(Balance!AT38=\"-\",\"-\",ROUND((Balance!AT38/Balance!AT$40)*100,1))","v":"-"},{"$f":"IF(Balance!AU38=\"-\",\"-\",ROUND((Balance!AU38/Balance!AU$40)*100,1))","v":"-"},{"$f":"IF(Balance!AV38=\"-\",\"-\",ROUND((Balance!AV38/Balance!AV$40)*100,1))","v":"-"},{"$f":"IF(Balance!AW38=\"-\",\"-\",ROUND((Balance!AW38/Balance!AW$40)*100,1))","v":"-"},{"$f":"IF(Balance!AX38=\"-\",\"-\",ROUND((Balance!AX38/Balance!AX$40)*100,1))","v":"-"},{"$f":"IF(Balance!AY38=\"-\",\"-\",ROUND((Balance!AY38/Balance!AY$40)*100,1))","v":"-"},{"$f":"IF(Balance!AZ38=\"-\",\"-\",ROUND((Balance!AZ38/Balance!AZ$40)*100,1))","v":"-"},{"$f":"IF(Balance!BA38=\"-\",\"-\",ROUND((Balance!BA38/Balance!BA$40)*100,1))","v":"-"},{"$f":"IF(Balance!BB38=\"-\",\"-\",ROUND((Balance!BB38/Balance!BB$40)*100,1))","v":"-"},{"$f":"IF(Balance!BC38=\"-\",\"-\",ROUND((Balance!BC38/Balance!BC$40)*100,1))","v":"-"},{"$f":"IF(Balance!BD38=\"-\",\"-\",ROUND((Balance!BD38/Balance!BD$40)*100,1))","v":"-"},{"$f":"IF(Balance!BE38=\"-\",\"-\",ROUND((Balance!BE38/Balance!BE$40)*100,1))","v":"-"},{"$f":"IF(Balance!BF38=\"-\",\"-\",ROUND((Balance!BF38/Balance!BF$40)*100,1))","v":"-"},{"$f":"IF(Balance!BG38=\"-\",\"-\",ROUND((Balance!BG38/Balance!BG$40)*100,1))","v":"-"},{"$f":"IF(Balance!BH38=\"-\",\"-\",ROUND((Balance!BH38/Balance!BH$40)*100,1))","v":"-"},{"$f":"IF(Balance!BI38=\"-\",\"-\",ROUND((Balance!BI38/Balance!BI$40)*100,1))","v":"-"},{"$f":"IF(Balance!BJ38=\"-\",\"-\",ROUND((Balance!BJ38/Balance!BJ$40)*100,1))","v":"-"},{"$f":"IF(Balance!BK38=\"-\",\"-\",ROUND((Balance!BK38/Balance!BK$40)*100,1))","v":"-"},{"$f":"IF(Balance!BL38=\"-\",\"-\",ROUND((Balance!BL38/Balance!BL$40)*100,1))","v":"-"},{"$f":"IF(Balance!BM38=\"-\",\"-\",ROUND((Balance!BM38/Balance!BM$40)*100,1))","v":"-"},{"$f":"IF(Balance!BN38=\"-\",\"-\",ROUND((Balance!BN38/Balance!BN$40)*100,1))","v":"-"},{"$f":"IF(Balance!BO38=\"-\",\"-\",ROUND((Balance!BO38/Balance!BO$40)*100,1))","v":"-"},{"$f":"IF(Balance!BP38=\"-\",\"-\",ROUND((Balance!BP38/Balance!BP$40)*100,1))","v":"-"},{"$f":"IF(Balance!BQ38=\"-\",\"-\",ROUND((Balance!BQ38/Balance!BQ$40)*100,1))","v":"-"},{"$f":"IF(Balance!BR38=\"-\",\"-\",ROUND((Balance!BR38/Balance!BR$40)*100,1))","v":"-"},{"$f":"IF(Balance!BS38=\"-\",\"-\",ROUND((Balance!BS38/Balance!BS$40)*100,1))","v":"-"},{"$f":"IF(Balance!BT38=\"-\",\"-\",ROUND((Balance!BT38/Balance!BT$40)*100,1))","v":"-"},{"$f":"IF(Balance!BU38=\"-\",\"-\",ROUND((Balance!BU38/Balance!BU$40)*100,1))","v":"-"},{"$f":"IF(Balance!BV38=\"-\",\"-\",ROUND((Balance!BV38/Balance!BV$40)*100,1))","v":"-"},{"$f":"IF(Balance!BW38=\"-\",\"-\",ROUND((Balance!BW38/Balance!BW$40)*100,1))","v":"-"},{"$f":"IF(Balance!BX38=\"-\",\"-\",ROUND((Balance!BX38/Balance!BX$40)*100,1))","v":"-"},{"$f":"IF(Balance!BY38=\"-\",\"-\",ROUND((Balance!BY38/Balance!BY$40)*100,1))","v":"-"},{"$f":"IF(Balance!BZ38=\"-\",\"-\",ROUND((Balance!BZ38/Balance!BZ$40)*100,1))","v":"-"},{"$f":"IF(Balance!CA38=\"-\",\"-\",ROUND((Balance!CA38/Balance!CA$40)*100,1))","v":"-"},{"$f":"IF(Balance!CB38=\"-\",\"-\",ROUND((Balance!CB38/Balance!CB$40)*100,1))","v":"-"},{"$f":"IF(Balance!CC38=\"-\",\"-\",ROUND((Balance!CC38/Balance!CC$40)*100,1))","v":"-"},{"$f":"IF(Balance!CD38=\"-\",\"-\",ROUND((Balance!CD38/Balance!CD$40)*100,1))","v":"-"},{"$f":"IF(Balance!CE38=\"-\",\"-\",ROUND((Balance!CE38/Balance!CE$40)*100,1))","v":"-"},{"$f":"IF(Balance!CF38=\"-\",\"-\",ROUND((Balance!CF38/Balance!CF$40)*100,1))","v":"-"},{"$f":"IF(Balance!CG38=\"-\",\"-\",ROUND((Balance!CG38/Balance!CG$40)*100,1))","v":"-"},{"$f":"IF(Balance!CH38=\"-\",\"-\",ROUND((Balance!CH38/Balance!CH$40)*100,1))","v":"-"},{"$f":"IF(Balance!CI38=\"-\",\"-\",ROUND((Balance!CI38/Balance!CI$40)*100,1))","v":"-"},{"$f":"IF(Balance!CJ38=\"-\",\"-\",ROUND((Balance!CJ38/Balance!CJ$40)*100,1))","v":"-"},{"$f":"IF(Balance!CK38=\"-\",\"-\",ROUND((Balance!CK38/Balance!CK$40)*100,1))","v":"-"},{"$f":"IF(Balance!CL38=\"-\",\"-\",ROUND((Balance!CL38/Balance!CL$40)*100,1))","v":"-"},{"$f":"IF(Balance!CM38=\"-\",\"-\",ROUND((Balance!CM38/Balance!CM$40)*100,1))","v":"-"},{"$f":"IF(Balance!CN38=\"-\",\"-\",ROUND((Balance!CN38/Balance!CN$40)*100,1))","v":"-"},{"$f":"IF(Balance!CO38=\"-\",\"-\",ROUND((Balance!CO38/Balance!CO$40)*100,1))","v":"-"},{"$f":"IF(Balance!CP38=\"-\",\"-\",ROUND((Balance!CP38/Balance!CP$40)*100,1))","v":"-"},{"$f":"IF(Balance!CQ38=\"-\",\"-\",ROUND((Balance!CQ38/Balance!CQ$40)*100,1))","v":"-"},{"$f":"IF(Balance!CR38=\"-\",\"-\",ROUND((Balance!CR38/Balance!CR$40)*100,1))","v":"-"},{"$f":"IF(Balance!CS38=\"-\",\"-\",ROUND((Balance!CS38/Balance!CS$40)*100,1))","v":"-"},{"$f":"IF(Balance!CT38=\"-\",\"-\",ROUND((Balance!CT38/Balance!CT$40)*100,1))","v":"-"},{"$f":"IF(Balance!CU38=\"-\",\"-\",ROUND((Balance!CU38/Balance!CU$40)*100,1))","v":"-"},{"$f":"IF(Balance!CV38=\"-\",\"-\",ROUND((Balance!CV38/Balance!CV$40)*100,1))","v":"-"},{"$f":"IF(Balance!CW38=\"-\",\"-\",ROUND((Balance!CW38/Balance!CW$40)*100,1))","v":"-"},{"$f":"IF(Balance!CX38=\"-\",\"-\",ROUND((Balance!CX38/Balance!CX$40)*100,1))","v":"-"},{"$f":"IF(Balance!CY38=\"-\",\"-\",ROUND((Balance!CY38/Balance!CY$40)*100,1))","v":"-"},{"$f":"IF(Balance!CZ38=\"-\",\"-\",ROUND((Balance!CZ38/Balance!CZ$40)*100,1))","v":"-"},{"$f":"IF(Balance!DA38=\"-\",\"-\",ROUND((Balance!DA38/Balance!DA$40)*100,1))","v":"-"},{"$f":"IF(Balance!DB38=\"-\",\"-\",ROUND((Balance!DB38/Balance!DB$40)*100,1))","v":"-"},{"$f":"IF(Balance!DC38=\"-\",\"-\",ROUND((Balance!DC38/Balance!DC$40)*100,1))","v":"-"},{"$f":"IF(Balance!DD38=\"-\",\"-\",ROUND((Balance!DD38/Balance!DD$40)*100,1))","v":"-"},{"$f":"IF(Balance!DE38=\"-\",\"-\",ROUND((Balance!DE38/Balance!DE$40)*100,1))","v":"-"},{"$f":"IF(Balance!DF38=\"-\",\"-\",ROUND((Balance!DF38/Balance!DF$40)*100,1))","v":"-"},{"$f":"IF(Balance!DG38=\"-\",\"-\",ROUND((Balance!DG38/Balance!DG$40)*100,1))","v":2.7},{"$f":"IF(Balance!DH38=\"-\",\"-\",ROUND((Balance!DH38/Balance!DH$40)*100,1))","v":2.2000000000000002},{"$f":"IF(Balance!DI38=\"-\",\"-\",ROUND((Balance!DI38/Balance!DI$40)*100,1))","v":3.4},{"$f":"IF(Balance!DJ38=\"-\",\"-\",ROUND((Balance!DJ38/Balance!DJ$40)*100,1))","v":4.4000000000000004},{"$f":"IF(Balance!DK38=\"-\",\"-\",ROUND((Balance!DK38/Balance!DK$40)*100,1))","v":3.8},{"$f":"IF(Balance!DL38=\"-\",\"-\",ROUND((Balance!DL38/Balance!DL$40)*100,1))","v":3.4},{"$f":"IF(Balance!DM38=\"-\",\"-\",ROUND((Balance!DM38/Balance!DM$40)*100,1))","v":2.5},{"$f":"IF(Balance!DN38=\"-\",\"-\",ROUND((Balance!DN38/Balance!DN$40)*100,1))","v":2.6},{"$f":"IF(Balance!DO38=\"-\",\"-\",ROUND((Balance!DO38/Balance!DO$40)*100,1))","v":3.6},{"$f":"IF(Balance!DP38=\"-\",\"-\",ROUND((Balance!DP38/Balance!DP$40)*100,1))","v":4.2},{"$f":"IF(Balance!DQ38=\"-\",\"-\",ROUND((Balance!DQ38/Balance!DQ$40)*100,1))","v":4.8},{"$f":"IF(Balance!DR38=\"-\",\"-\",ROUND((Balance!DR38/Balance!DR$40)*100,1))","v":3.9},{"$f":"IF(Balance!DS38=\"-\",\"-\",ROUND((Balance!DS38/Balance!DS$40)*100,1))","v":2.7},{"$f":"IF(Balance!DT38=\"-\",\"-\",ROUND((Balance!DT38/Balance!DT$40)*100,1))","v":1.6},{"$f":"IF(Balance!DU38=\"-\",\"-\",ROUND((Balance!DU38/Balance!DU$40)*100,1))","v":2.6},{"$f":"IF(Balance!DV38=\"-\",\"-\",ROUND((Balance!DV38/Balance!DV$40)*100,1))","v":3.7},{"$f":"IF(Balance!DW38=\"-\",\"-\",ROUND((Balance!DW38/Balance!DW$40)*100,1))","v":4},{"$f":"IF(Balance!DX38=\"-\",\"-\",ROUND((Balance!DX38/Balance!DX$40)*100,1))","v":3.3},{"$f":"IF(Balance!DY38=\"-\",\"-\",ROUND((Balance!DY38/Balance!DY$40)*100,1))","v":2.2999999999999998},{"$f":"IF(Balance!DZ38=\"-\",\"-\",ROUND((Balance!DZ38/Balance!DZ$40)*100,1))","v":2.5},{"$f":"IF(Balance!EA38=\"-\",\"-\",ROUND((Balance!EA38/Balance!EA$40)*100,1))","v":2.7},{"$f":"IF(Balance!EB38=\"-\",\"-\",ROUND((Balance!EB38/Balance!EB$40)*100,1))","v":3.5},{"$f":"IF(Balance!EC38=\"-\",\"-\",ROUND((Balance!EC38/Balance!EC$40)*100,1))","v":2.8},{"$f":"IF(Balance!ED38=\"-\",\"-\",ROUND((Balance!ED38/Balance!ED$40)*100,1))","v":2.7},{"$f":"IF(Balance!EE38=\"-\",\"-\",ROUND((Balance!EE38/Balance!EE$40)*100,1))","v":2},{"$f":"IF(Balance!EF38=\"-\",\"-\",ROUND((Balance!EF38/Balance!EF$40)*100,1))","v":2.2000000000000002},{"$f":"IF(Balance!EG38=\"-\",\"-\",ROUND((Balance!EG38/Balance!EG$40)*100,1))","v":3.2},{"$f":"IF(Balance!EH38=\"-\",\"-\",ROUND((Balance!EH38/Balance!EH$40)*100,1))","v":4.0999999999999996},{"$f":"IF(Balance!EI38=\"-\",\"-\",ROUND((Balance!EI38/Balance!EI$40)*100,1))","v":2.7},{"$f":"IF(Balance!EJ38=\"-\",\"-\",ROUND((Balance!EJ38/Balance!EJ$40)*100,1))","v":3},{"$f":"IF(Balance!EK38=\"-\",\"-\",ROUND((Balance!EK38/Balance!EK$40)*100,1))","v":2.7},{"$f":"IF(Balance!EL38=\"-\",\"-\",ROUND((Balance!EL38/Balance!EL$40)*100,1))","v":2.6},{"$f":"IF(Balance!EM38=\"-\",\"-\",ROUND((Balance!EM38/Balance!EM$40)*100,1))","v":3.6},{"$f":"IF(Balance!EN38=\"-\",\"-\",ROUND((Balance!EN38/Balance!EN$40)*100,1))","v":3.7},{"$f":"IF(Balance!EO38=\"-\",\"-\",ROUND((Balance!EO38/Balance!EO$40)*100,1))","v":3.4},{"$f":"IF(Balance!EP38=\"-\",\"-\",ROUND((Balance!EP38/Balance!EP$40)*100,1))","v":2.7},{"$f":"IF(Balance!EQ38=\"-\",\"-\",ROUND((Balance!EQ38/Balance!EQ$40)*100,1))","v":2.2000000000000002},{"$f":"IF(Balance!ER38=\"-\",\"-\",ROUND((Balance!ER38/Balance!ER$40)*100,1))","v":"-"},{"$f":"IF(Balance!ES38=\"-\",\"-\",ROUND((Balance!ES38/Balance!ES$40)*100,1))","v":"-"},{"$f":"IF(Balance!ET38=\"-\",\"-\",ROUND((Balance!ET38/Balance!ET$40)*100,1))","v":"-"},{"$f":"IF(Balance!EU38=\"-\",\"-\",ROUND((Balance!EU38/Balance!EU$40)*100,1))","v":"-"},{"$f":"IF(Balance!EV38=\"-\",\"-\",ROUND((Balance!EV38/Balance!EV$40)*100,1))","v":"-"},{"$f":"IF(Balance!EW38=\"-\",\"-\",ROUND((Balance!EW38/Balance!EW$40)*100,1))","v":"-"},{"$f":"IF(Balance!EX38=\"-\",\"-\",ROUND((Balance!EX38/Balance!EX$40)*100,1))","v":"-"},{"$f":"IF(Balance!EY38=\"-\",\"-\",ROUND((Balance!EY38/Balance!EY$40)*100,1))","v":"-"},{"$f":"IF(Balance!EZ38=\"-\",\"-\",ROUND((Balance!EZ38/Balance!EZ$40)*100,1))","v":"-"},{"$f":"IF(Balance!FA38=\"-\",\"-\",ROUND((Balance!FA38/Balance!FA$40)*100,1))","v":"-"},{"$f":"IF(Balance!FB38=\"-\",\"-\",ROUND((Balance!FB38/Balance!FB$40)*100,1))","v":"-"}]
[null,"Generación renovable",{"$f":"SUM(C25:C27,C30)","v":0.1},{"$f":"SUM(D25:D27,D30)","v":0.1},0.1,0.1,0.1,0.1,0,0.1,0.1,0.1,0.1,0.1,0.1,0.1,0.1,0.1,0.1,0.1,0.1,0.1,0.1,0.1,0.2,0.2,0.1,0.1,0.2,0.4,0.2,0.4,0.4,0.79999999999999993,1,1,0.9,0.9,0.79999999999999993,1.3,1.7000000000000002,1.7000000000000002,2,1.8,1.4,1.3,1.4000000000000001,1.5,1.4000000000000001,1,0.9,1.3,1.6,2.1,2.2000000000000002,2,1.8,1.7000000000000002,1.7000000000000002,1.6,1.5,1.1000000000000001,1.2000000000000002,1.6,1.9000000000000001,2.6,2.5,{"$f":"SUM(BP25:BP27,BP30)","v":2.2000000000000002},1.8,1.9000000000000001,1.7,2,1.4000000000000001,1.4000000000000001,1.5,1.7,2.6,3,3,2.4,2.3000000000000003,2,2.7,2.6,2.2000000000000002,2.2000000000000002,2.4000000000000004,2.4000000000000004,3.6,3.8000000000000003,3.6,3.9,3,2.8000000000000003,2.8000000000000003,2.6,2.1,1.8,2,3.1,3.7,4.2999999999999989,3.8000000000000003,3.6,3.1,2.8000000000000003,2.5,3,2.7,2,5,4.7000000000000011,6.6,8.6999999999999993,7.5,6.9,5.3000000000000007,5.0999999999999996,6.1,7,7.6,6,5.2000000000000011,4.3000000000000007,6.1000000000000005,7.3000000000000007,7.5,6.6,5.1999999999999993,5.3000000000000007,4.9000000000000004,{"$f":"SUM(EB25:EB27,EB30)","v":5.8000000000000007},4.9000000000000004,4.5,3.6,4.6000000000000005,7,7.8,6.1,5.9,5.2,4.9000000000000004,6,6.3000000000000007,5.7,4.3000000000000007,{"$f":"SUM(EQ25:EQ27,EQ30)","v":4.2},"-","-","-","-","-","-","-","-","-","-","-"]
[null,"Generación no renovable",{"$f":"SUM(C20:C24,C28:C29)","v":99.9},{"$f":"SUM(D20:D24,D28:D29)","v":99.9},99.899999999999991,99.899999999999991,99.9,99.899999999999991,100,99.9,99.899999999999991,99.899999999999991,99.90000000000002,99.899999999999991,99.899999999999991,99.9,99.899999999999991,99.9,99.899999999999991,99.9,99.9,99.9,99.9,99.899999999999991,99.8,99.800000000000011,99.899999999999991,99.899999999999991,99.800000000000011,99.6,99.8,99.600000000000009,99.600000000000009,99.2,99.000000000000014,99.000000000000014,99.100000000000009,99.100000000000009,99.199999999999989,98.699999999999989,98.300000000000011,98.3,98,98.199999999999989,98.6,98.699999999999989,98.6,98.5,98.6,99,99.100000000000009,98.699999999999989,98.4,97.899999999999991,97.799999999999983,98,98.199999999999989,98.3,98.3,98.399999999999977,98.5,98.9,98.799999999999983,98.399999999999991,98.100000000000009,97.4,97.5,{"$f":"SUM(BP20:BP24,BP28:BP29)","v":97.799999999999983},98.2,98.1,98.3,97.999999999999986,98.6,98.6,98.499999999999986,98.3,97.399999999999991,97,97,97.600000000000009,97.7,98,97.3,97.399999999999991,97.799999999999983,97.799999999999983,97.6,97.600000000000009,96.399999999999991,96.199999999999989,96.399999999999991,96.1,97.000000000000014,97.2,97.2,97.399999999999977,97.899999999999991,98.2,98.000000000000014,96.90000000000002,96.3,95.7,96.2,96.399999999999991,96.899999999999991,97.2,97.499999999999986,97,97.3,97.999999999999986,95,95.3,93.4,91.299999999999983,92.499999999999986,93.100000000000009,94.7,94.899999999999991,93.899999999999977,93.000000000000014,92.399999999999991,93.999999999999986,94.8,95.7,93.9,92.7,92.499999999999986,93.399999999999991,94.799999999999983,94.699999999999974,95.100000000000009,{"$f":"SUM(EB20:EB24,EB28:EB29)","v":94.199999999999989},95.1,95.499999999999986,96.399999999999991,95.4,93,92.199999999999989,93.899999999999991,94.1,94.799999999999969,95.1,93.999999999999986,93.700000000000017,94.300000000000011,95.699999999999989,{"$f":"SUM(EQ20:EQ24,EQ28:EQ29)","v":95.800000000000011},"-","-","-","-","-","-","-","-","-","-","-"]
[]
[null,"Estructura de generación mensual Islas Canarias (%)","2006-01-01","2006-02-01","2006-03-01","2006-04-01","2006-05-01","2006-06-01","2006-07-01","2006-08-01","2006-09-01","2006-10-01","2006-11-01","2006-12-01","2007-01-01","2007-02-01","2007-03-01","2007-04-01","2007-05-01","2007-06-01","2007-07-01","2007-08-01","2007-09-01","2007-10-01","2007-11-01","2007-12-01","2008-01-01","2008-02-01","2008-03-01","2008-04-01","2008-05-01","2008-06-01","2008-07-01","2008-08-01","2008-09-01","2008-10-01","2008-11-01","2008-12-01","2009-01-01","2009-02-01","2009-03-01","2009-04-01","2009-05-01","2009-06-01","2009-07-01","2009-08-01","2009-09-01","2009-10-01","2009-11-01","2009-12-01","2010-01-01","2010-02-01","2010-03-01","2010-04-01","2010-05-01","2010-06-01","2010-07-01","2010-08-01","2010-09-01","2010-10-01","2010-11-01","2010-12-01","2011-01-01","2011-02-01","2011-03-01","2011-04-01","2011-05-01","2011-06-01","2011-07-01","2011-08-01","2011-09-01","2011-10-01","2011-11-01","2011-12-01","2012-01-01","2012-02-01","2012-03-01","2012-04-01","2012-05-01","2012-06-01","2012-07-01","2012-08-01","2012-09-01","2012-10-01","2012-11-01","2012-12-01","2013-01-01","2013-02-01","2013-03-01","2013-04-01","2013-05-01","2013-06-01","2013-07-01","2013-08-01","2013-09-01","2013-10-01","2013-11-01","2013-12-01","2014-01-01","2014-02-01","2014-03-01","2014-04-01","2014-05-01","2014-06-01","2014-07-01","2014-08-01","2014-09-01","2014-10-01","2014-11-01","2014-12-01","2015-01-01","2015-02-01","2015-03-01","2015-04-01","2015-05-01","2015-06-01","2015-07-01","2015-08-01","2015-09-01","2015-10-01","2015-11-01","2015-12-01","2016-01-01","2016-02-01","2016-03-01","2016-04-01","2016-05-01","2016-06-01","2016-07-01","2016-08-01","2016-09-01","2016-10-01","2016-11-01","2016-12-01","2017-01-01","2017-02-01","2017-03-01","2017-04-01","2017-05-01","2017-06-01","2017-07-01","2017-08-01","2017-09-01","2017-10-01","2017-11-01","2017-12-01","2018-01-01","2018-02-01","2018-03-01","2018-04-01","2018-05-01","2018-06-01","2018-07-01","2018-08-01","2018-09-01","2018-10-01","2018-11-01","2018-12-01"]
[null,"Hidráulica",{"$f":"IF(SUM(Balance!C45,Balance!C54)=0,\"-\",ROUND((SUM(Balance!C45,Balance!C54)/Balance!C$60)*100,1))","v":"-"},{"$f":"IF(SUM(Balance!D45,Balance!D54)=0,\"-\",ROUND((SUM(Balance!D45,Balance!D54)/Balance!D$60)*100,1))","v":"-"},{"$f":"IF(SUM(Balance!E45,Balance!E54)=0,\"-\",ROUND((SUM(Balance!E45,Balance!E54)/Balance!E$60)*100,1))","v":"-"},{"$f":"IF(SUM(Balance!F45,Balance!F54)=0,\"-\",ROUND((SUM(Balance!F45,Balance!F54)/Balance!F$60)*100,1))","v":"-"},{"$f":"IF(SUM(Balance!G45,Balance!G54)=0,\"-\",ROUND((SUM(Balance!G45,Balance!G54)/Balance!G$60)*100,1))","v":"-"},{"$f":"IF(SUM(Balance!H45,Balance!H54)=0,\"-\",ROUND((SUM(Balance!H45,Balance!H54)/Balance!H$60)*100,1))","v":"-"},{"$f":"IF(SUM(Balance!I45,Balance!I54)=0,\"-\",ROUND((SUM(Balance!I45,Balance!I54)/Balance!I$60)*100,1))","v":"-"},{"$f":"IF(SUM(Balance!J45,Balance!J54)=0,\"-\",ROUND((SUM(Balance!J45,Balance!J54)/Balance!J$60)*100,1))","v":"-"},{"$f":"IF(SUM(Balance!K45,Balance!K54)=0,\"-\",ROUND((SUM(Balance!K45,Balance!K54)/Balance!K$60)*100,1))","v":"-"},{"$f":"IF(SUM(Balance!L45,Balance!L54)=0,\"-\",ROUND((SUM(Balance!L45,Balance!L54)/Balance!L$60)*100,1))","v":"-"},{"$f":"IF(SUM(Balance!M45,Balance!M54)=0,\"-\",ROUND((SUM(Balance!M45,Balance!M54)/Balance!M$60)*100,1))","v":"-"},{"$f":"IF(SUM(Balance!N45,Balance!N54)=0,\"-\",ROUND((SUM(Balance!N45,Balance!N54)/Balance!N$60)*100,1))","v":"-"},{"$f":"IF(SUM(Balance!O45,Balance!O54)=0,\"-\",ROUND((SUM(Balance!O45,Balance!O54)/Balance!O$60)*100,1))","v":"-"},{"$f":"IF(SUM(Balance!P45,Balance!P54)=0,\"-\",ROUND((SUM(Balance!P45,Balance!P54)/Balance!P$60)*100,1))","v":"-"},{"$f":"IF(SUM(Balance!Q45,Balance!Q54)=0,\"-\",ROUND((SUM(Balance!Q45,Balance!Q54)/Balance!Q$60)*100,1))","v":"-"},{"$f":"IF(SUM(Balance!R45,Balance!R54)=0,\"-\",ROUND((SUM(Balance!R45,Balance!R54)/Balance!R$60)*100,1))","v":"-"},{"$f":"IF(SUM(Balance!S45,Balance!S54)=0,\"-\",ROUND((SUM(Balance!S45,Balance!S54)/Balance!S$60)*100,1))","v":"-"},{"$f":"IF(SUM(Balance!T45,Balance!T54)=0,\"-\",ROUND((SUM(Balance!T45,Balance!T54)/Balance!T$60)*100,1))","v":"-"},{"$f":"IF(SUM(Balance!U45,Balance!U54)=0,\"-\",ROUND((SUM(Balance!U45,Balance!U54)/Balance!U$60)*100,1))","v":0},{"$f":"IF(SUM(Balance!V45,Balance!V54)=0,\"-\",ROUND((SUM(Balance!V45,Balance!V54)/Balance!V$60)*100,1))","v":0},{"$f":"IF(SUM(Balance!W45,Balance!W54)=0,\"-\",ROUND((SUM(Balance!W45,Balance!W54)/Balance!W$60)*100,1))","v":0},{"$f":"IF(SUM(Balance!X45,Balance!X54)=0,\"-\",ROUND((SUM(Balance!X45,Balance!X54)/Balance!X$60)*100,1))","v":0},{"$f":"IF(SUM(Balance!Y45,Balance!Y54)=0,\"-\",ROUND((SUM(Balance!Y45,Balance!Y54)/Balance!Y$60)*100,1))","v":0},{"$f":"IF(SUM(Balance!Z45,Balance!Z54)=0,\"-\",ROUND((SUM(Balance!Z45,Balance!Z54)/Balance!Z$60)*100,1))","v":0},{"$f":"IF(SUM(Balance!AA45,Balance!AA54)=0,\"-\",ROUND((SUM(Balance!AA45,Balance!AA54)/Balance!AA$60)*100,1))","v":0},{"$f":"IF(SUM(Balance!AB45,Balance!AB54)=0,\"-\",ROUND((SUM(Balance!AB45,Balance!AB54)/Balance!AB$60)*100,1))","v":0},{"$f":"IF(SUM(Balance!AC45,Balance!AC54)=0,\"-\",ROUND((SUM(Balance!AC45,Balance!AC54)/Balance!AC$60)*100,1))","v":0},{"$f":"IF(SUM(Balance!AD45,Balance!AD54)=0,\"-\",ROUND((SUM(Balance!AD45,Balance!AD54)/Balance!AD$60)*100,1))","v":"-"},{"$f":"IF(SUM(Balance!AE45,Balance!AE54)=0,\"-\",ROUND((SUM(Balance!AE45,Balance!AE54)/Balance!AE$60)*100,1))","v":0},{"$f":"IF(SUM(Balance!AF45,Balance!AF54)=0,\"-\",ROUND((SUM(Balance!AF45,Balance!AF54)/Balance!AF$60)*100,1))","v":0},{"$f":"IF(SUM(Balance!AG45,Balance!AG54)=0,\"-\",ROUND((SUM(Balance!AG45,Balance!AG54)/Balance!AG$60)*100,1))","v":0},{"$f":"IF(SUM(Balance!AH45,Balance!AH54)=0,\"-\",ROUND((SUM(Balance!AH45,Balance!AH54)/Balance!AH$60)*100,1))","v":0},{"$f":"IF(SUM(Balance!AI45,Balance!AI54)=0,\"-\",ROUND((SUM(Balance!AI45,Balance!AI54)/Balance!AI$60)*100,1))","v":"-"},{"$f":"IF(SUM(Balance!AJ45,Balance!AJ54)=0,\"-\",ROUND((SUM(Balance!AJ45,Balance!AJ54)/Balance!AJ$60)*100,1))","v":"-"},{"$f":"IF(SUM(Balance!AK45,Balance!AK54)=0,\"-\",ROUND((SUM(Balance!AK45,Balance!AK54)/Balance!AK$60)*100,1))","v":"-"},{"$f":"IF(SUM(Balance!AL45,Balance!AL54)=0,\"-\",ROUND((SUM(Balance!AL45,Balance!AL54)/Balance!AL$60)*100,1))","v":"-"},{"$f":"IF(SUM(Balance!AM45,Balance!AM54)=0,\"-\",ROUND((SUM(Balance!AM45,Balance!AM54)/Balance!AM$60)*100,1))","v":0},{"$f":"IF(SUM(Balance!AN45,Balance!AN54)=0,\"-\",ROUND((SUM(Balance!AN45,Balance!AN54)/Balance!AN$60)*100,1))","v":0},{"$f":"IF(SUM(Balance!AO45,Balance!AO54)=0,\"-\",ROUND((SUM(Balance!AO45,Balance!AO54)/Balance!AO$60)*100,1))","v":0},{"$f":"IF(SUM(Balance!AP45,Balance!AP54)=0,\"-\",ROUND((SUM(Balance!AP45,Balance!AP54)/Balance!AP$60)*100,1))","v":0},{"$f":"IF(SUM(Balance!AQ45,Balance!AQ54)=0,\"-\",ROUND((SUM(Balance!AQ45,Balance!AQ54)/Balance!AQ$60)*100,1))","v":"-"},{"$f":"IF(SUM(Balance!AR45,Balance!AR54)=0,\"-\",ROUND((SUM(Balance!AR45,Balance!AR54)/Balance!AR$60)*100,1))","v":"-"},{"$f":"IF(SUM(Balance!AS45,Balance!AS54)=0,\"-\",ROUND((SUM(Balance!AS45,Balance!AS54)/Balance!AS$60)*100,1))","v":"-"},{"$f":"IF(SUM(Balance!AT45,Balance!AT54)=0,\"-\",ROUND((SUM(Balance!AT45,Balance!AT54)/Balance!AT$60)*100,1))","v":"-"},{"$f":"IF(SUM(Balance!AU45,Balance!AU54)=0,\"-\",ROUND((SUM(Balance!AU45,Balance!AU54)/Balance!AU$60)*100,1))","v":"-"},{"$f":"IF(SUM(Balance!AV45,Balance!AV54)=0,\"-\",ROUND((SUM(Balance!AV45,Balance!AV54)/Balance!AV$60)*100,1))","v":"-"},{"$f":"IF(SUM(Balance!AW45,Balance!AW54)=0,\"-\",ROUND((SUM(Balance!AW45,Balance!AW54)/Balance!AW$60)*100,1))","v":"-"},{"$f":"IF(SUM(Balance!AX45,Balance!AX54)=0,\"-\",ROUND((SUM(Balance!AX45,Balance!AX54)/Balance!AX$60)*100,1))","v":"-"},{"$f":"IF(SUM(Balance!AY45,Balance!AY54)=0,\"-\",ROUND((SUM(Balance!AY45,Balance!AY54)/Balance!AY$60)*100,1))","v":"-"},{"$f":"IF(SUM(Balance!AZ45,Balance!AZ54)=0,\"-\",ROUND((SUM(Balance!AZ45,Balance!AZ54)/Balance!AZ$60)*100,1))","v":"-"},{"$f":"IF(SUM(Balance!BA45,Balance!BA54)=0,\"-\",ROUND((SUM(Balance!BA45,Balance!BA54)/Balance!BA$60)*100,1))","v":"-"},{"$f":"IF(SUM(Balance!BB45,Balance!BB54)=0,\"-\",ROUND((SUM(Balance!BB45,Balance!BB54)/Balance!BB$60)*100,1))","v":"-"},{"$f":"IF(SUM(Balance!BC45,Balance!BC54)=0,\"-\",ROUND((SUM(Balance!BC45,Balance!BC54)/Balance!BC$60)*100,1))","v":"-"},{"$f":"IF(SUM(Balance!BD45,Balance!BD54)=0,\"-\",ROUND((SUM(Balance!BD45,Balance!BD54)/Balance!BD$60)*100,1))","v":"-"},{"$f":"IF(SUM(Balance!BE45,Balance!BE54)=0,\"-\",ROUND((SUM(Balance!BE45,Balance!BE54)/Balance!BE$60)*100,1))","v":"-"},{"$f":"IF(SUM(Balance!BF45,Balance!BF54)=0,\"-\",ROUND((SUM(Balance!BF45,Balance!BF54)/Balance!BF$60)*100,1))","v":"-"},{"$f":"IF(SUM(Balance!BG45,Balance!BG54)=0,\"-\",ROUND((SUM(Balance!BG45,Balance!BG54)/Balance!BG$60)*100,1))","v":"-"},{"$f":"IF(SUM(Balance!BH45,Balance!BH54)=0,\"-\",ROUND((SUM(Balance!BH45,Balance!BH54)/Balance!BH$60)*100,1))","v":"-"},{"$f":"IF(SUM(Balance!BI45,Balance!BI54)=0,\"-\",ROUND((SUM(Balance!BI45,Balance!BI54)/Balance!BI$60)*100,1))","v":"-"},{"$f":"IF(SUM(Balance!BJ45,Balance!BJ54)=0,\"-\",ROUND((SUM(Balance!BJ45,Balance!BJ54)/Balance!BJ$60)*100,1))","v":"-"},{"$f":"IF(SUM(Balance!BK45,Balance!BK54)=0,\"-\",ROUND((SUM(Balance!BK45,Balance!BK54)/Balance!BK$60)*100,1))","v":"-"},{"$f":"IF(SUM(Balance!BL45,Balance!BL54)=0,\"-\",ROUND((SUM(Balance!BL45,Balance!BL54)/Balance!BL$60)*100,1))","v":"-"},{"$f":"IF(SUM(Balance!BM45,Balance!BM54)=0,\"-\",ROUND((SUM(Balance!BM45,Balance!BM54)/Balance!BM$60)*100,1))","v":0},{"$f":"IF(SUM(Balance!BN45,Balance!BN54)=0,\"-\",ROUND((SUM(Balance!BN45,Balance!BN54)/Balance!BN$60)*100,1))","v":0},{"$f":"IF(SUM(Balance!BO45,Balance!BO54)=0,\"-\",ROUND((SUM(Balance!BO45,Balance!BO54)/Balance!BO$60)*100,1))","v":0},{"$f":"IF(SUM(Balance!BP45,Balance!BP54)=0,\"-\",ROUND((SUM(Balance!BP45,Balance!BP54)/Balance!BP$60)*100,1))","v":0},{"$f":"IF(SUM(Balance!BQ45,Balance!BQ54)=0,\"-\",ROUND((SUM(Balance!BQ45,Balance!BQ54)/Balance!BQ$60)*100,1))","v":0},{"$f":"IF(SUM(Balance!BR45,Balance!BR54)=0,\"-\",ROUND((SUM(Balance!BR45,Balance!BR54)/Balance!BR$60)*100,1))","v":0},{"$f":"IF(SUM(Balance!BS45,Balance!BS54)=0,\"-\",ROUND((SUM(Balance!BS45,Balance!BS54)/Balance!BS$60)*100,1))","v":0},{"$f":"IF(SUM(Balance!BT45,Balance!BT54)=0,\"-\",ROUND((SUM(Balance!BT45,Balance!BT54)/Balance!BT$60)*100,1))","v":0},{"$f":"IF(SUM(Balance!BU45,Balance!BU54)=0,\"-\",ROUND((SUM(Balance!BU45,Balance!BU54)/Balance!BU$60)*100,1))","v":0},{"$f":"IF(SUM(Balance!BV45,Balance!BV54)=0,\"-\",ROUND((SUM(Balance!BV45,Balance!BV54)/Balance!BV$60)*100,1))","v":0},{"$f":"IF(SUM(Balance!BW45,Balance!BW54)=0,\"-\",ROUND((SUM(Balance!BW45,Balance!BW54)/Balance!BW$60)*100,1))","v":0},{"$f":"IF(SUM(Balance!BX45,Balance!BX54)=0,\"-\",ROUND((SUM(Balance!BX45,Balance!BX54)/Balance!BX$60)*100,1))","v":0},{"$f":"IF(SUM(Balance!BY45,Balance!BY54)=0,\"-\",ROUND((SUM(Balance!BY45,Balance!BY54)/Balance!BY$60)*100,1))","v":0},{"$f":"IF(SUM(Balance!BZ45,Balance!BZ54)=0,\"-\",ROUND((SUM(Balance!BZ45,Balance!BZ54)/Balance!BZ$60)*100,1))","v":0},{"$f":"IF(SUM(Balance!CA45,Balance!CA54)=0,\"-\",ROUND((SUM(Balance!CA45,Balance!CA54)/Balance!CA$60)*100,1))","v":0},{"$f":"IF(SUM(Balance!CB45,Balance!CB54)=0,\"-\",ROUND((SUM(Balance!CB45,Balance!CB54)/Balance!CB$60)*100,1))","v":0},{"$f":"IF(SUM(Balance!CC45,Balance!CC54)=0,\"-\",ROUND((SUM(Balance!CC45,Balance!CC54)/Balance!CC$60)*100,1))","v":0},{"$f":"IF(SUM(Balance!CD45,Balance!CD54)=0,\"-\",ROUND((SUM(Balance!CD45,Balance!CD54)/Balance!CD$60)*100,1))","v":0},{"$f":"IF(SUM(Balance!CE45,Balance!CE54)=0,\"-\",ROUND((SUM(Balance!CE45,Balance!CE54)/Balance!CE$60)*100,1))","v":0},{"$f":"IF(SUM(Balance!CF45,Balance!CF54)=0,\"-\",ROUND((SUM(Balance!CF45,Balance!CF54)/Balance!CF$60)*100,1))","v":0},{"$f":"IF(SUM(Balance!CG45,Balance!CG54)=0,\"-\",ROUND((SUM(Balance!CG45,Balance!CG54)/Balance!CG$60)*100,1))","v":0},{"$f":"IF(SUM(Balance!CH45,Balance!CH54)=0,\"-\",ROUND((SUM(Balance!CH45,Balance!CH54)/Balance!CH$60)*100,1))","v":0},{"$f":"IF(SUM(Balance!CI45,Balance!CI54)=0,\"-\",ROUND((SUM(Balance!CI45,Balance!CI54)/Balance!CI$60)*100,1))","v":0},{"$f":"IF(SUM(Balance!CJ45,Balance!CJ54)=0,\"-\",ROUND((SUM(Balance!CJ45,Balance!CJ54)/Balance!CJ$60)*100,1))","v":0},{"$f":"IF(SUM(Balance!CK45,Balance!CK54)=0,\"-\",ROUND((SUM(Balance!CK45,Balance!CK54)/Balance!CK$60)*100,1))","v":0},{"$f":"IF(SUM(Balance!CL45,Balance!CL54)=0,\"-\",ROUND((SUM(Balance!CL45,Balance!CL54)/Balance!CL$60)*100,1))","v":0},{"$f":"IF(SUM(Balance!CM45,Balance!CM54)=0,\"-\",ROUND((SUM(Balance!CM45,Balance!CM54)/Balance!CM$60)*100,1))","v":0},{"$f":"IF(SUM(Balance!CN45,Balance!CN54)=0,\"-\",ROUND((SUM(Balance!CN45,Balance!CN54)/Balance!CN$60)*100,1))","v":0},{"$f":"IF(SUM(Balance!CO45,Balance!CO54)=0,\"-\",ROUND((SUM(Balance!CO45,Balance!CO54)/Balance!CO$60)*100,1))","v":0},{"$f":"IF(SUM(Balance!CP45,Balance!CP54)=0,\"-\",ROUND((SUM(Balance!CP45,Balance!CP54)/Balance!CP$60)*100,1))","v":0},{"$f":"IF(SUM(Balance!CQ45,Balance!CQ54)=0,\"-\",ROUND((SUM(Balance!CQ45,Balance!CQ54)/Balance!CQ$60)*100,1))","v":0},{"$f":"IF(SUM(Balance!CR45,Balance!CR54)=0,\"-\",ROUND((SUM(Balance!CR45,Balance!CR54)/Balance!CR$60)*100,1))","v":0},{"$f":"IF(SUM(Balance!CS45,Balance!CS54)=0,\"-\",ROUND((SUM(Balance!CS45,Balance!CS54)/Balance!CS$60)*100,1))","v":0},{"$f":"IF(SUM(Balance!CT45,Balance!CT54)=0,\"-\",ROUND((SUM(Balance!CT45,Balance!CT54)/Balance!CT$60)*100,1))","v":0},{"$f":"IF(SUM(Balance!CU45,Balance!CU54)=0,\"-\",ROUND((SUM(Balance!CU45,Balance!CU54)/Balance!CU$60)*100,1))","v":0},{"$f":"IF(SUM(Balance!CV45,Balance!CV54)=0,\"-\",ROUND((SUM(Balance!CV45,Balance!CV54)/Balance!CV$60)*100,1))","v":0},{"$f":"IF(SUM(Balance!CW45,Balance!CW54)=0,\"-\",ROUND((SUM(Balance!CW45,Balance!CW54)/Balance!CW$60)*100,1))","v":0},{"$f":"IF(SUM(Balance!CX45,Balance!CX54)=0,\"-\",ROUND((SUM(Balance!CX45,Balance!CX54)/Balance!CX$60)*100,1))","v":0},{"$f":"IF(SUM(Balance!CY45,Balance!CY54)=0,\"-\",ROUND((SUM(Balance!CY45,Balance!CY54)/Balance!CY$60)*100,1))","v":0},{"$f":"IF(SUM(Balance!CZ45,Balance!CZ54)=0,\"-\",ROUND((SUM(Balance!CZ45,Balance!CZ54)/Balance!CZ$60)*100,1))","v":0},{"$f":"IF(SUM(Balance!DA45,Balance!DA54)=0,\"-\",ROUND((SUM(Balance!DA45,Balance!DA54)/Balance!DA$60)*100,1))","v":0},{"$f":"IF(SUM(Balance!DB45,Balance!DB54)=0,\"-\",ROUND((SUM(Balance!DB45,Balance!DB54)/Balance!DB$60)*100,1))","v":0},{"$f":"IF(SUM(Balance!DC45,Balance!DC54)=0,\"-\",ROUND((SUM(Balance!DC45,Balance!DC54)/Balance!DC$60)*100,1))","v":0},{"$f":"IF(SUM(Balance!DD45,Balance!DD54)=0,\"-\",ROUND((SUM(Balance!DD45,Balance!DD54)/Balance!DD$60)*100,1))","v":0},{"$f":"IF(SUM(Balance!DE45,Balance!DE54)=0,\"-\",ROUND((SUM(Balance!DE45,Balance!DE54)/Balance!DE$60)*100,1))","v":0},{"$f":"IF(SUM(Balance!DF45,Balance!DF54)=0,\"-\",ROUND((SUM(Balance!DF45,Balance!DF54)/Balance!DF$60)*100,1))","v":0},{"$f":"IF(SUM(Balance!DG45,Balance!DG54)=0,\"-\",ROUND((SUM(Balance!DG45,Balance!DG54)/Balance!DG$60)*100,1))","v":0},{"$f":"IF(SUM(Balance!DH45,Balance!DH54)=0,\"-\",ROUND((SUM(Balance!DH45,Balance!DH54)/Balance!DH$60)*100,1))","v":0},{"$f":"IF(SUM(Balance!DI45,Balance!DI54)=0,\"-\",ROUND((SUM(Balance!DI45,Balance!DI54)/Balance!DI$60)*100,1))","v":0},{"$f":"IF(SUM(Balance!DJ45,Balance!DJ54)=0,\"-\",ROUND((SUM(Balance!DJ45,Balance!DJ54)/Balance!DJ$60)*100,1))","v":0},{"$f":"IF(SUM(Balance!DK45,Balance!DK54)=0,\"-\",ROUND((SUM(Balance!DK45,Balance!DK54)/Balance!DK$60)*100,1))","v":0},{"$f":"IF(SUM(Balance!DL45,Balance!DL54)=0,\"-\",ROUND((SUM(Balance!DL45,Balance!DL54)/Balance!DL$60)*100,1))","v":0},{"$f":"IF(SUM(Balance!DM45,Balance!DM54)=0,\"-\",ROUND((SUM(Balance!DM45,Balance!DM54)/Balance!DM$60)*100,1))","v":0},{"$f":"IF(SUM(Balance!DN45,Balance!DN54)=0,\"-\",ROUND((SUM(Balance!DN45,Balance!DN54)/Balance!DN$60)*100,1))","v":0},{"$f":"IF(SUM(Balance!DO45,Balance!DO54)=0,\"-\",ROUND((SUM(Balance!DO45,Balance!DO54)/Balance!DO$60)*100,1))","v":0},{"$f":"IF(SUM(Balance!DP45,Balance!DP54)=0,\"-\",ROUND((SUM(Balance!DP45,Balance!DP54)/Balance!DP$60)*100,1))","v":0},{"$f":"IF(SUM(Balance!DQ45,Balance!DQ54)=0,\"-\",ROUND((SUM(Balance!DQ45,Balance!DQ54)/Balance!DQ$60)*100,1))","v":0},{"$f":"IF(SUM(Balance!DR45,Balance!DR54)=0,\"-\",ROUND((SUM(Balance!DR45,Balance!DR54)/Balance!DR$60)*100,1))","v":0},{"$f":"IF(SUM(Balance!DS45,Balance!DS54)=0,\"-\",ROUND((SUM(Balance!DS45,Balance!DS54)/Balance!DS$60)*100,1))","v":0},{"$f":"IF(SUM(Balance!DT45,Balance!DT54)=0,\"-\",ROUND((SUM(Balance!DT45,Balance!DT54)/Balance!DT$60)*100,1))","v":0},{"$f":"IF(SUM(Balance!DU45,Balance!DU54)=0,\"-\",ROUND((SUM(Balance!DU45,Balance!DU54)/Balance!DU$60)*100,1))","v":0},{"$f":"IF(SUM(Balance!DV45,Balance!DV54)=0,\"-\",ROUND((SUM(Balance!DV45,Balance!DV54)/Balance!DV$60)*100,1))","v":0},{"$f":"IF(SUM(Balance!DW45,Balance!DW54)=0,\"-\",ROUND((SUM(Balance!DW45,Balance!DW54)/Balance!DW$60)*100,1))","v":0},{"$f":"IF(SUM(Balance!DX45,Balance!DX54)=0,\"-\",ROUND((SUM(Balance!DX45,Balance!DX54)/Balance!DX$60)*100,1))","v":0},{"$f":"IF(SUM(Balance!DY45,Balance!DY54)=0,\"-\",ROUND((SUM(Balance!DY45,Balance!DY54)/Balance!DY$60)*100,1))","v":0},{"$f":"IF(SUM(Balance!DZ45,Balance!DZ54)=0,\"-\",ROUND((SUM(Balance!DZ45,Balance!DZ54)/Balance!DZ$60)*100,1))","v":0},{"$f":"IF(SUM(Balance!EA45,Balance!EA54)=0,\"-\",ROUND((SUM(Balance!EA45,Balance!EA54)/Balance!EA$60)*100,1))","v":0},{"$f":"IF(SUM(Balance!EB45,Balance!EB54)=0,\"-\",ROUND((SUM(Balance!EB45,Balance!EB54)/Balance!EB$60)*100,1))","v":0},{"$f":"IF(SUM(Balance!EC45,Balance!EC54)=0,\"-\",ROUND((SUM(Balance!EC45,Balance!EC54)/Balance!EC$60)*100,1))","v":0},{"$f":"IF(SUM(Balance!ED45,Balance!ED54)=0,\"-\",ROUND((SUM(Balance!ED45,Balance!ED54)/Balance!ED$60)*100,1))","v":0},{"$f":"IF(SUM(Balance!EE45,Balance!EE54)=0,\"-\",ROUND((SUM(Balance!EE45,Balance!EE54)/Balance!EE$60)*100,1))","v":0},{"$f":"IF(SUM(Balance!EF45,Balance!EF54)=0,\"-\",ROUND((SUM(Balance!EF45,Balance!EF54)/Balance!EF$60)*100,1))","v":0},{"$f":"IF(SUM(Balance!EG45,Balance!EG54)=0,\"-\",ROUND((SUM(Balance!EG45,Balance!EG54)/Balance!EG$60)*100,1))","v":0},{"$f":"IF(SUM(Balance!EH45,Balance!EH54)=0,\"-\",ROUND((SUM(Balance!EH45,Balance!EH54)/Balance!EH$60)*100,1))","v":0},{"$f":"IF(SUM(Balance!EI45,Balance!EI54)=0,\"-\",ROUND((SUM(Balance!EI45,Balance!EI54)/Balance!EI$60)*100,1))","v":0},{"$f":"IF(SUM(Balance!EJ45,Balance!EJ54)=0,\"-\",ROUND((SUM(Balance!EJ45,Balance!EJ54)/Balance!EJ$60)*100,1))","v":0},{"$f":"IF(SUM(Balance!EK45,Balance!EK54)=0,\"-\",ROUND((SUM(Balance!EK45,Balance!EK54)/Balance!EK$60)*100,1))","v":0},{"$f":"IF(SUM(Balance!EL45,Balance!EL54)=0,\"-\",ROUND((SUM(Balance!EL45,Balance!EL54)/Balance!EL$60)*100,1))","v":0},{"$f":"IF(SUM(Balance!EM45,Balance!EM54)=0,\"-\",ROUND((SUM(Balance!EM45,Balance!EM54)/Balance!EM$60)*100,1))","v":0},{"$f":"IF(SUM(Balance!EN45,Balance!EN54)=0,\"-\",ROUND((SUM(Balance!EN45,Balance!EN54)/Balance!EN$60)*100,1))","v":0},{"$f":"IF(SUM(Balance!EO45,Balance!EO54)=0,\"-\",ROUND((SUM(Balance!EO45,Balance!EO54)/Balance!EO$60)*100,1))","v":0},{"$f":"IF(SUM(Balance!EP45,Balance!EP54)=0,\"-\",ROUND((SUM(Balance!EP45,Balance!EP54)/Balance!EP$60)*100,1))","v":0},{"$f":"IF(SUM(Balance!EQ45,Balance!EQ54)=0,\"-\",ROUND((SUM(Balance!EQ45,Balance!EQ54)/Balance!EQ$60)*100,1))","v":"-"},{"$f":"IF(SUM(Balance!ER45,Balance!ER54)=0,\"-\",ROUND((SUM(Balance!ER45,Balance!ER54)/Balance!ER$60)*100,1))","v":"-"},{"$f":"IF(SUM(Balance!ES45,Balance!ES54)=0,\"-\",ROUND((SUM(Balance!ES45,Balance!ES54)/Balance!ES$60)*100,1))","v":"-"},{"$f":"IF(SUM(Balance!ET45,Balance!ET54)=0,\"-\",ROUND((SUM(Balance!ET45,Balance!ET54)/Balance!ET$60)*100,1))","v":"-"},{"$f":"IF(SUM(Balance!EU45,Balance!EU54)=0,\"-\",ROUND((SUM(Balance!EU45,Balance!EU54)/Balance!EU$60)*100,1))","v":"-"},{"$f":"IF(SUM(Balance!EV45,Balance!EV54)=0,\"-\",ROUND((SUM(Balance!EV45,Balance!EV54)/Balance!EV$60)*100,1))","v":"-"},{"$f":"IF(SUM(Balance!EW45,Balance!EW54)=0,\"-\",ROUND((SUM(Balance!EW45,Balance!EW54)/Balance!EW$60)*100,1))","v":"-"},{"$f":"IF(SUM(Balance!EX45,Balance!EX54)=0,\"-\",ROUND((SUM(Balance!EX45,Balance!EX54)/Balance!EX$60)*100,1))","v":"-"},{"$f":"IF(SUM(Balance!EY45,Balance!EY54)=0,\"-\",ROUND((SUM(Balance!EY45,Balance!EY54)/Balance!EY$60)*100,1))","v":"-"},{"$f":"IF(SUM(Balance!EZ45,Balance!EZ54)=0,\"-\",ROUND((SUM(Balance!EZ45,Balance!EZ54)/Balance!EZ$60)*100,1))","v":"-"},{"$f":"IF(SUM(Balance!FA45,Balance!FA54)=0,\"-\",ROUND((SUM(Balance!FA45,Balance!FA54)/Balance!FA$60)*100,1))","v":"-"},{"$f":"IF(SUM(Balance!FB45,Balance!FB54)=0,\"-\",ROUND((SUM(Balance!FB45,Balance!FB54)/Balance!FB$60)*100,1))","v":"-"}]
[null,"Motores diesel",{"$f":"IF(Balance!C46=0,\"-\",ROUND((Balance!C46/Balance!C$60)*100,1))","v":22.9},{"$f":"IF(Balance!D46=0,\"-\",ROUND((Balance!D46/Balance!D$60)*100,1))","v":22.8},{"$f":"IF(Balance!E46=0,\"-\",ROUND((Balance!E46/Balance!E$60)*100,1))","v":21.7},{"$f":"IF(Balance!F46=0,\"-\",ROUND((Balance!F46/Balance!F$60)*100,1))","v":20.8},{"$f":"IF(Balance!G46=0,\"-\",ROUND((Balance!G46/Balance!G$60)*100,1))","v":24},{"$f":"IF(Balance!H46=0,\"-\",ROUND((Balance!H46/Balance!H$60)*100,1))","v":24.8},{"$f":"IF(Balance!I46=0,\"-\",ROUND((Balance!I46/Balance!I$60)*100,1))","v":23.1},{"$f":"IF(Balance!J46=0,\"-\",ROUND((Balance!J46/Balance!J$60)*100,1))","v":23},{"$f":"IF(Balance!K46=0,\"-\",ROUND((Balance!K46/Balance!K$60)*100,1))","v":23.4},{"$f":"IF(Balance!L46=0,\"-\",ROUND((Balance!L46/Balance!L$60)*100,1))","v":23},{"$f":"IF(Balance!M46=0,\"-\",ROUND((Balance!M46/Balance!M$60)*100,1))","v":21.3},{"$f":"IF(Balance!N46=0,\"-\",ROUND((Balance!N46/Balance!N$60)*100,1))","v":22.4},{"$f":"IF(Balance!O46=0,\"-\",ROUND((Balance!O46/Balance!O$60)*100,1))","v":24.2},{"$f":"IF(Balance!P46=0,\"-\",ROUND((Balance!P46/Balance!P$60)*100,1))","v":22.3},{"$f":"IF(Balance!Q46=0,\"-\",ROUND((Balance!Q46/Balance!Q$60)*100,1))","v":22.2},{"$f":"IF(Balance!R46=0,\"-\",ROUND((Balance!R46/Balance!R$60)*100,1))","v":21.9},{"$f":"IF(Balance!S46=0,\"-\",ROUND((Balance!S46/Balance!S$60)*100,1))","v":21.4},{"$f":"IF(Balance!T46=0,\"-\",ROUND((Balance!T46/Balance!T$60)*100,1))","v":22.6},{"$f":"IF(Balance!U46=0,\"-\",ROUND((Balance!U46/Balance!U$60)*100,1))","v":22.8},{"$f":"IF(Balance!V46=0,\"-\",ROUND((Balance!V46/Balance!V$60)*100,1))","v":22.1},{"$f":"IF(Balance!W46=0,\"-\",ROUND((Balance!W46/Balance!W$60)*100,1))","v":21.9},{"$f":"IF(Balance!X46=0,\"-\",ROUND((Balance!X46/Balance!X$60)*100,1))","v":21.3},{"$f":"IF(Balance!Y46=0,\"-\",ROUND((Balance!Y46/Balance!Y$60)*100,1))","v":21.8},{"$f":"IF(Balance!Z46=0,\"-\",ROUND((Balance!Z46/Balance!Z$60)*100,1))","v":21.4},{"$f":"IF(Balance!AA46=0,\"-\",ROUND((Balance!AA46/Balance!AA$60)*100,1))","v":21.5},{"$f":"IF(Balance!AB46=0,\"-\",ROUND((Balance!AB46/Balance!AB$60)*100,1))","v":23.1},{"$f":"IF(Balance!AC46=0,\"-\",ROUND((Balance!AC46/Balance!AC$60)*100,1))","v":21.2},{"$f":"IF(Balance!AD46=0,\"-\",ROUND((Balance!AD46/Balance!AD$60)*100,1))","v":22.5},{"$f":"IF(Balance!AE46=0,\"-\",ROUND((Balance!AE46/Balance!AE$60)*100,1))","v":24},{"$f":"IF(Balance!AF46=0,\"-\",ROUND((Balance!AF46/Balance!AF$60)*100,1))","v":22.7},{"$f":"IF(Balance!AG46=0,\"-\",ROUND((Balance!AG46/Balance!AG$60)*100,1))","v":22.7},{"$f":"IF(Balance!AH46=0,\"-\",ROUND((Balance!AH46/Balance!AH$60)*100,1))","v":22.3},{"$f":"IF(Balance!AI46=0,\"-\",ROUND((Balance!AI46/Balance!AI$60)*100,1))","v":23.3},{"$f":"IF(Balance!AJ46=0,\"-\",ROUND((Balance!AJ46/Balance!AJ$60)*100,1))","v":22.3},{"$f":"IF(Balance!AK46=0,\"-\",ROUND((Balance!AK46/Balance!AK$60)*100,1))","v":22.4},{"$f":"IF(Balance!AL46=0,\"-\",ROUND((Balance!AL46/Balance!AL$60)*100,1))","v":22.7},{"$f":"IF(Balance!AM46=0,\"-\",ROUND((Balance!AM46/Balance!AM$60)*100,1))","v":22.7},{"$f":"IF(Balance!AN46=0,\"-\",ROUND((Balance!AN46/Balance!AN$60)*100,1))","v":23.4},{"$f":"IF(Balance!AO46=0,\"-\",ROUND((Balance!AO46/Balance!AO$60)*100,1))","v":22.3},{"$f":"IF(Balance!AP46=0,\"-\",ROUND((Balance!AP46/Balance!AP$60)*100,1))","v":22.7},{"$f":"IF(Balance!AQ46=0,\"-\",ROUND((Balance!AQ46/Balance!AQ$60)*100,1))","v":24.1},{"$f":"IF(Balance!AR46=0,\"-\",ROUND((Balance!AR46/Balance!AR$60)*100,1))","v":24.1},{"$f":"IF(Balance!AS46=0,\"-\",ROUND((Balance!AS46/Balance!AS$60)*100,1))","v":22.4},{"$f":"IF(Balance!AT46=0,\"-\",ROUND((Balance!AT46/Balance!AT$60)*100,1))","v":22.7},{"$f":"IF(Balance!AU46=0,\"-\",ROUND((Balance!AU46/Balance!AU$60)*100,1))","v":24.1},{"$f":"IF(Balance!AV46=0,\"-\",ROUND((Balance!AV46/Balance!AV$60)*100,1))","v":24.1},{"$f":"IF(Balance!AW46=0,\"-\",ROUND((Balance!AW46/Balance!AW$60)*100,1))","v":24.1},{"$f":"IF(Balance!AX46=0,\"-\",ROUND((Balance!AX46/Balance!AX$60)*100,1))","v":25.4},{"$f":"IF(Balance!AY46=0,\"-\",ROUND((Balance!AY46/Balance!AY$60)*100,1))","v":24.9},{"$f":"IF(Balance!AZ46=0,\"-\",ROUND((Balance!AZ46/Balance!AZ$60)*100,1))","v":24.9},{"$f":"IF(Balance!BA46=0,\"-\",ROUND((Balance!BA46/Balance!BA$60)*100,1))","v":25.1},{"$f":"IF(Balance!BB46=0,\"-\",ROUND((Balance!BB46/Balance!BB$60)*100,1))","v":24.4},{"$f":"IF(Balance!BC46=0,\"-\",ROUND((Balance!BC46/Balance!BC$60)*100,1))","v":22.5},{"$f":"IF(Balance!BD46=0,\"-\",ROUND((Balance!BD46/Balance!BD$60)*100,1))","v":22.9},{"$f":"IF(Balance!BE46=0,\"-\",ROUND((Balance!BE46/Balance!BE$60)*100,1))","v":24},{"$f":"IF(Balance!BF46=0,\"-\",ROUND((Balance!BF46/Balance!BF$60)*100,1))","v":25.3},{"$f":"IF(Balance!BG46=0,\"-\",ROUND((Balance!BG46/Balance!BG$60)*100,1))","v":24.7},{"$f":"IF(Balance!BH46=0,\"-\",ROUND((Balance!BH46/Balance!BH$60)*100,1))","v":26.1},{"$f":"IF(Balance!BI46=0,\"-\",ROUND((Balance!BI46/Balance!BI$60)*100,1))","v":25},{"$f":"IF(Balance!BJ46=0,\"-\",ROUND((Balance!BJ46/Balance!BJ$60)*100,1))","v":24.6},{"$f":"IF(Balance!BK46=0,\"-\",ROUND((Balance!BK46/Balance!BK$60)*100,1))","v":25.3},{"$f":"IF(Balance!BL46=0,\"-\",ROUND((Balance!BL46/Balance!BL$60)*100,1))","v":25.4},{"$f":"IF(Balance!BM46=0,\"-\",ROUND((Balance!BM46/Balance!BM$60)*100,1))","v":25.4},{"$f":"IF(Balance!BN46=0,\"-\",ROUND((Balance!BN46/Balance!BN$60)*100,1))","v":25.4},{"$f":"IF(Balance!BO46=0,\"-\",ROUND((Balance!BO46/Balance!BO$60)*100,1))","v":23.7},{"$f":"IF(Balance!BP46=0,\"-\",ROUND((Balance!BP46/Balance!BP$60)*100,1))","v":24.7},{"$f":"IF(Balance!BQ46=0,\"-\",ROUND((Balance!BQ46/Balance!BQ$60)*100,1))","v":24.5},{"$f":"IF(Balance!BR46=0,\"-\",ROUND((Balance!BR46/Balance!BR$60)*100,1))","v":23.9},{"$f":"IF(Balance!BS46=0,\"-\",ROUND((Balance!BS46/Balance!BS$60)*100,1))","v":24.7},{"$f":"IF(Balance!BT46=0,\"-\",ROUND((Balance!BT46/Balance!BT$60)*100,1))","v":22.8},{"$f":"IF(Balance!BU46=0,\"-\",ROUND((Balance!BU46/Balance!BU$60)*100,1))","v":23.5},{"$f":"IF(Balance!BV46=0,\"-\",ROUND((Balance!BV46/Balance!BV$60)*100,1))","v":23.6},{"$f":"IF(Balance!BW46=0,\"-\",ROUND((Balance!BW46/Balance!BW$60)*100,1))","v":23.7},{"$f":"IF(Balance!BX46=0,\"-\",ROUND((Balance!BX46/Balance!BX$60)*100,1))","v":24.9},{"$f":"IF(Balance!BY46=0,\"-\",ROUND((Balance!BY46/Balance!BY$60)*100,1))","v":24.2},{"$f":"IF(Balance!BZ46=0,\"-\",ROUND((Balance!BZ46/Balance!BZ$60)*100,1))","v":25.8},{"$f":"IF(Balance!CA46=0,\"-\",ROUND((Balance!CA46/Balance!CA$60)*100,1))","v":24.9},{"$f":"IF(Balance!CB46=0,\"-\",ROUND((Balance!CB46/Balance!CB$60)*100,1))","v":22.6},{"$f":"IF(Balance!CC46=0,\"-\",ROUND((Balance!CC46/Balance!CC$60)*100,1))","v":22.4},{"$f":"IF(Balance!CD46=0,\"-\",ROUND((Balance!CD46/Balance!CD$60)*100,1))","v":24.9},{"$f":"IF(Balance!CE46=0,\"-\",ROUND((Balance!CE46/Balance!CE$60)*100,1))","v":22.6},{"$f":"IF(Balance!CF46=0,\"-\",ROUND((Balance!CF46/Balance!CF$60)*100,1))","v":22.8},{"$f":"IF(Balance!CG46=0,\"-\",ROUND((Balance!CG46/Balance!CG$60)*100,1))","v":22.8},{"$f":"IF(Balance!CH46=0,\"-\",ROUND((Balance!CH46/Balance!CH$60)*100,1))","v":23.5},{"$f":"IF(Balance!CI46=0,\"-\",ROUND((Balance!CI46/Balance!CI$60)*100,1))","v":24.6},{"$f":"IF(Balance!CJ46=0,\"-\",ROUND((Balance!CJ46/Balance!CJ$60)*100,1))","v":25.2},{"$f":"IF(Balance!CK46=0,\"-\",ROUND((Balance!CK46/Balance!CK$60)*100,1))","v":25.2},{"$f":"IF(Balance!CL46=0,\"-\",ROUND((Balance!CL46/Balance!CL$60)*100,1))","v":22.5},{"$f":"IF(Balance!CM46=0,\"-\",ROUND((Balance!CM46/Balance!CM$60)*100,1))","v":23.7},{"$f":"IF(Balance!CN46=0,\"-\",ROUND((Balance!CN46/Balance!CN$60)*100,1))","v":23.6},{"$f":"IF(Balance!CO46=0,\"-\",ROUND((Balance!CO46/Balance!CO$60)*100,1))","v":22.3},{"$f":"IF(Balance!CP46=0,\"-\",ROUND((Balance!CP46/Balance!CP$60)*100,1))","v":23.8},{"$f":"IF(Balance!CQ46=0,\"-\",ROUND((Balance!CQ46/Balance!CQ$60)*100,1))","v":23.7},{"$f":"IF(Balance!CR46=0,\"-\",ROUND((Balance!CR46/Balance!CR$60)*100,1))","v":24},{"$f":"IF(Balance!CS46=0,\"-\",ROUND((Balance!CS46/Balance!CS$60)*100,1))","v":25.3},{"$f":"IF(Balance!CT46=0,\"-\",ROUND((Balance!CT46/Balance!CT$60)*100,1))","v":25.5},{"$f":"IF(Balance!CU46=0,\"-\",ROUND((Balance!CU46/Balance!CU$60)*100,1))","v":25.2},{"$f":"IF(Balance!CV46=0,\"-\",ROUND((Balance!CV46/Balance!CV$60)*100,1))","v":25.3},{"$f":"IF(Balance!CW46=0,\"-\",ROUND((Balance!CW46/Balance!CW$60)*100,1))","v":26},{"$f":"IF(Balance!CX46=0,\"-\",ROUND((Balance!CX46/Balance!CX$60)*100,1))","v":25.6},{"$f":"IF(Balance!CY46=0,\"-\",ROUND((Balance!CY46/Balance!CY$60)*100,1))","v":24.9},{"$f":"IF(Balance!CZ46=0,\"-\",ROUND((Balance!CZ46/Balance!CZ$60)*100,1))","v":25.5},{"$f":"IF(Balance!DA46=0,\"-\",ROUND((Balance!DA46/Balance!DA$60)*100,1))","v":24.3},{"$f":"IF(Balance!DB46=0,\"-\",ROUND((Balance!DB46/Balance!DB$60)*100,1))","v":25.8},{"$f":"IF(Balance!DC46=0,\"-\",ROUND((Balance!DC46/Balance!DC$60)*100,1))","v":24.4},{"$f":"IF(Balance!DD46=0,\"-\",ROUND((Balance!DD46/Balance!DD$60)*100,1))","v":23.9},{"$f":"IF(Balance!DE46=0,\"-\",ROUND((Balance!DE46/Balance!DE$60)*100,1))","v":23.4},{"$f":"IF(Balance!DF46=0,\"-\",ROUND((Balance!DF46/Balance!DF$60)*100,1))","v":25.9},{"$f":"IF(Balance!DG46=0,\"-\",ROUND((Balance!DG46/Balance!DG$60)*100,1))","v":25.1},{"$f":"IF(Balance!DH46=0,\"-\",ROUND((Balance!DH46/Balance!DH$60)*100,1))","v":25.3},{"$f":"IF(Balance!DI46=0,\"-\",ROUND((Balance!DI46/Balance!DI$60)*100,1))","v":25.9},{"$f":"IF(Balance!DJ46=0,\"-\",ROUND((Balance!DJ46/Balance!DJ$60)*100,1))","v":25.9},{"$f":"IF(Balance!DK46=0,\"-\",ROUND((Balance!DK46/Balance!DK$60)*100,1))","v":26.2},{"$f":"IF(Balance!DL46=0,\"-\",ROUND((Balance!DL46/Balance!DL$60)*100,1))","v":23.7},{"$f":"IF(Balance!DM46=0,\"-\",ROUND((Balance!DM46/Balance!DM$60)*100,1))","v":24},{"$f":"IF(Balance!DN46=0,\"-\",ROUND((Balance!DN46/Balance!DN$60)*100,1))","v":26},{"$f":"IF(Balance!DO46=0,\"-\",ROUND((Balance!DO46/Balance!DO$60)*100,1))","v":26.4},{"$f":"IF(Balance!DP46=0,\"-\",ROUND((Balance!DP46/Balance!DP$60)*100,1))","v":25.2},{"$f":"IF(Balance!DQ46=0,\"-\",ROUND((Balance!DQ46/Balance!DQ$60)*100,1))","v":25.3},{"$f":"IF(Balance!DR46=0,\"-\",ROUND((Balance!DR46/Balance!DR$60)*100,1))","v":26.4},{"$f":"IF(Balance!DS46=0,\"-\",ROUND((Balance!DS46/Balance!DS$60)*100,1))","v":26.3},{"$f":"IF(Balance!DT46=0,\"-\",ROUND((Balance!DT46/Balance!DT$60)*100,1))","v":25.1},{"$f":"IF(Balance!DU46=0,\"-\",ROUND((Balance!DU46/Balance!DU$60)*100,1))","v":26.3},{"$f":"IF(Balance!DV46=0,\"-\",ROUND((Balance!DV46/Balance!DV$60)*100,1))","v":25.9},{"$f":"IF(Balance!DW46=0,\"-\",ROUND((Balance!DW46/Balance!DW$60)*100,1))","v":25.9},{"$f":"IF(Balance!DX46=0,\"-\",ROUND((Balance!DX46/Balance!DX$60)*100,1))","v":24.7},{"$f":"IF(Balance!DY46=0,\"-\",ROUND((Balance!DY46/Balance!DY$60)*100,1))","v":25.6},{"$f":"IF(Balance!DZ46=0,\"-\",ROUND((Balance!DZ46/Balance!DZ$60)*100,1))","v":25.1},{"$f":"IF(Balance!EA46=0,\"-\",ROUND((Balance!EA46/Balance!EA$60)*100,1))","v":23},{"$f":"IF(Balance!EB46=0,\"-\",ROUND((Balance!EB46/Balance!EB$60)*100,1))","v":25.9},{"$f":"IF(Balance!EC46=0,\"-\",ROUND((Balance!EC46/Balance!EC$60)*100,1))","v":25.5},{"$f":"IF(Balance!ED46=0,\"-\",ROUND((Balance!ED46/Balance!ED$60)*100,1))","v":25.2},{"$f":"IFERROR(IF(Balance!EE46=0,\"-\",ROUND((Balance!EE46/Balance!EE$60)*100,1)),\"-\")","v":25.2},{"$f":"IFERROR(IF(Balance!EF46=0,\"-\",ROUND((Balance!EF46/Balance!EF$60)*100,1)),\"-\")","v":25},{"$f":"IFERROR(IF(Balance!EG46=0,\"-\",ROUND((Balance!EG46/Balance!EG$60)*100,1)),\"-\")","v":27},{"$f":"IFERROR(IF(Balance!EH46=0,\"-\",ROUND((Balance!EH46/Balance!EH$60)*100,1)),\"-\")","v":29.7},{"$f":"IFERROR(IF(Balance!EI46=0,\"-\",ROUND((Balance!EI46/Balance!EI$60)*100,1)),\"-\")","v":29.3},{"$f":"IFERROR(IF(Balance!EJ46=0,\"-\",ROUND((Balance!EJ46/Balance!EJ$60)*100,1)),\"-\")","v":26.8},{"$f":"IFERROR(IF(Balance!EK46=0,\"-\",ROUND((Balance!EK46/Balance!EK$60)*100,1)),\"-\")","v":27.5},{"$f":"IFERROR(IF(Balance!EL46=0,\"-\",ROUND((Balance!EL46/Balance!EL$60)*100,1)),\"-\")","v":27.8},{"$f":"IFERROR(IF(Balance!EM46=0,\"-\",ROUND((Balance!EM46/Balance!EM$60)*100,1)),\"-\")","v":27.8},{"$f":"IFERROR(IF(Balance!EN46=0,\"-\",ROUND((Balance!EN46/Balance!EN$60)*100,1)),\"-\")","v":29.4},{"$f":"IFERROR(IF(Balance!EO46=0,\"-\",ROUND((Balance!EO46/Balance!EO$60)*100,1)),\"-\")","v":28.1},{"$f":"IFERROR(IF(Balance!EP46=0,\"-\",ROUND((Balance!EP46/Balance!EP$60)*100,1)),\"-\")","v":26.8},{"$f":"IFERROR(IF(Balance!EQ46=0,\"-\",ROUND((Balance!EQ46/Balance!EQ$60)*100,1)),\"-\")","v":24.8},{"$f":"IFERROR(IF(Balance!ER46=0,\"-\",ROUND((Balance!ER46/Balance!ER$60)*100,1)),\"-\")","v":"-"},{"$f":"IFERROR(IF(Balance!ES46=0,\"-\",ROUND((Balance!ES46/Balance!ES$60)*100,1)),\"-\")","v":"-"},{"$f":"IFERROR(IF(Balance!ET46=0,\"-\",ROUND((Balance!ET46/Balance!ET$60)*100,1)),\"-\")","v":"-"},{"$f":"IFERROR(IF(Balance!EU46=0,\"-\",ROUND((Balance!EU46/Balance!EU$60)*100,1)),\"-\")","v":"-"},{"$f":"IFERROR(IF(Balance!EV46=0,\"-\",ROUND((Balance!EV46/Balance!EV$60)*100,1)),\"-\")","v":"-"},{"$f":"IFERROR(IF(Balance!EW46=0,\"-\",ROUND((Balance!EW46/Balance!EW$60)*100,1)),\"-\")","v":"-"},{"$f":"IFERROR(IF(Balance!EX46=0,\"-\",ROUND((Balance!EX46/Balance!EX$60)*100,1)),\"-\")","v":"-"},{"$f":"IFERROR(IF(Balance!EY46=0,\"-\",ROUND((Balance!EY46/Balance!EY$60)*100,1)),\"-\")","v":"-"},{"$f":"IFERROR(IF(Balance!EZ46=0,\"-\",ROUND((Balance!EZ46/Balance!EZ$60)*100,1)),\"-\")","v":"-"},{"$f":"IFERROR(IF(Balance!FA46=0,\"-\",ROUND((Balance!FA46/Balance!FA$60)*100,1)),\"-\")","v":"-"},{"$f":"IFERROR(IF(Balance!FB46=0,\"-\",ROUND((Balance!FB46/Balance!FB$60)*100,1)),\"-\")","v":"-"}]
[null,"Turbina de gas",{"$f":"IF(Balance!C47=0,\"-\",ROUND((Balance!C47/Balance!C$60)*100,1))","v":7.3},{"$f":"IF(Balance!D47=0,\"-\",ROUND((Balance!D47/Balance!D$60)*100,1))","v":9},{"$f":"IF(Balance!E47=0,\"-\",ROUND((Balance!E47/Balance!E$60)*100,1))","v":12.6},{"$f":"IF(Balance!F47=0,\"-\",ROUND((Balance!F47/Balance!F$60)*100,1))","v":8.8000000000000007},{"$f":"IF(Balance!G47=0,\"-\",ROUND((Balance!G47/Balance!G$60)*100,1))","v":8.1},{"$f":"IF(Balance!H47=0,\"-\",ROUND((Balance!H47/Balance!H$60)*100,1))","v":10.5},{"$f":"IF(Balance!I47=0,\"-\",ROUND((Balance!I47/Balance!I$60)*100,1))","v":8.8000000000000007},{"$f":"IF(Balance!J47=0,\"-\",ROUND((Balance!J47/Balance!J$60)*100,1))","v":8.8000000000000007},{"$f":"IF(Balance!K47=0,\"-\",ROUND((Balance!K47/Balance!K$60)*100,1))","v":9.8000000000000007},{"$f":"IF(Balance!L47=0,\"-\",ROUND((Balance!L47/Balance!L$60)*100,1))","v":10.6},{"$f":"IF(Balance!M47=0,\"-\",ROUND((Balance!M47/Balance!M$60)*100,1))","v":10},{"$f":"IF(Balance!N47=0,\"-\",ROUND((Balance!N47/Balance!N$60)*100,1))","v":7.7},{"$f":"IF(Balance!O47=0,\"-\",ROUND((Balance!O47/Balance!O$60)*100,1))","v":8.3000000000000007},{"$f":"IF(Balance!P47=0,\"-\",ROUND((Balance!P47/Balance!P$60)*100,1))","v":9.3000000000000007},{"$f":"IF(Balance!Q47=0,\"-\",ROUND((Balance!Q47/Balance!Q$60)*100,1))","v":9},{"$f":"IF(Balance!R47=0,\"-\",ROUND((Balance!R47/Balance!R$60)*100,1))","v":8.8000000000000007},{"$f":"IF(Balance!S47=0,\"-\",ROUND((Balance!S47/Balance!S$60)*100,1))","v":8.1999999999999993},{"$f":"IF(Balance!T47=0,\"-\",ROUND((Balance!T47/Balance!T$60)*100,1))","v":6.8},{"$f":"IF(Balance!U47=0,\"-\",ROUND((Balance!U47/Balance!U$60)*100,1))","v":5.9},{"$f":"IF(Balance!V47=0,\"-\",ROUND((Balance!V47/Balance!V$60)*100,1))","v":6.9},{"$f":"IF(Balance!W47=0,\"-\",ROUND((Balance!W47/Balance!W$60)*100,1))","v":8.1},{"$f":"IF(Balance!X47=0,\"-\",ROUND((Balance!X47/Balance!X$60)*100,1))","v":7.1},{"$f":"IF(Balance!Y47=0,\"-\",ROUND((Balance!Y47/Balance!Y$60)*100,1))","v":7.1},{"$f":"IF(Balance!Z47=0,\"-\",ROUND((Balance!Z47/Balance!Z$60)*100,1))","v":6},{"$f":"IF(Balance!AA47=0,\"-\",ROUND((Balance!AA47/Balance!AA$60)*100,1))","v":6.2},{"$f":"IF(Balance!AB47=0,\"-\",ROUND((Balance!AB47/Balance!AB$60)*100,1))","v":5.3},{"$f":"IF(Balance!AC47=0,\"-\",ROUND((Balance!AC47/Balance!AC$60)*100,1))","v":3.7},{"$f":"IF(Balance!AD47=0,\"-\",ROUND((Balance!AD47/Balance!AD$60)*100,1))","v":4.3},{"$f":"IF(Balance!AE47=0,\"-\",ROUND((Balance!AE47/Balance!AE$60)*100,1))","v":5.2},{"$f":"IF(Balance!AF47=0,\"-\",ROUND((Balance!AF47/Balance!AF$60)*100,1))","v":6.3},{"$f":"IF(Balance!AG47=0,\"-\",ROUND((Balance!AG47/Balance!AG$60)*100,1))","v":5.9},{"$f":"IF(Balance!AH47=0,\"-\",ROUND((Balance!AH47/Balance!AH$60)*100,1))","v":5.2},{"$f":"IF(Balance!AI47=0,\"-\",ROUND((Balance!AI47/Balance!AI$60)*100,1))","v":6.4},{"$f":"IF(Balance!AJ47=0,\"-\",ROUND((Balance!AJ47/Balance!AJ$60)*100,1))","v":4.5999999999999996},{"$f":"IF(Balance!AK47=0,\"-\",ROUND((Balance!AK47/Balance!AK$60)*100,1))","v":3.9},{"$f":"IF(Balance!AL47=0,\"-\",ROUND((Balance!AL47/Balance!AL$60)*100,1))","v":3.8},{"$f":"IF(Balance!AM47=0,\"-\",ROUND((Balance!AM47/Balance!AM$60)*100,1))","v":4.5},{"$f":"IF(Balance!AN47=0,\"-\",ROUND((Balance!AN47/Balance!AN$60)*100,1))","v":3.2},{"$f":"IF(Balance!AO47=0,\"-\",ROUND((Balance!AO47/Balance!AO$60)*100,1))","v":4},{"$f":"IF(Balance!AP47=0,\"-\",ROUND((Balance!AP47/Balance!AP$60)*100,1))","v":1.6},{"$f":"IF(Balance!AQ47=0,\"-\",ROUND((Balance!AQ47/Balance!AQ$60)*100,1))","v":5.3},{"$f":"IF(Balance!AR47=0,\"-\",ROUND((Balance!AR47/Balance!AR$60)*100,1))","v":5.0999999999999996},{"$f":"IF(Balance!AS47=0,\"-\",ROUND((Balance!AS47/Balance!AS$60)*100,1))","v":3.1},{"$f":"IF(Balance!AT47=0,\"-\",ROUND((Balance!AT47/Balance!AT$60)*100,1))","v":3.6},{"$f":"IF(Balance!AU47=0,\"-\",ROUND((Balance!AU47/Balance!AU$60)*100,1))","v":5.2},{"$f":"IF(Balance!AV47=0,\"-\",ROUND((Balance!AV47/Balance!AV$60)*100,1))","v":3.9},{"$f":"IF(Balance!AW47=0,\"-\",ROUND((Balance!AW47/Balance!AW$60)*100,1))","v":3.3},{"$f":"IF(Balance!AX47=0,\"-\",ROUND((Balance!AX47/Balance!AX$60)*100,1))","v":2.2000000000000002},{"$f":"IF(Balance!AY47=0,\"-\",ROUND((Balance!AY47/Balance!AY$60)*100,1))","v":1.8},{"$f":"IF(Balance!AZ47=0,\"-\",ROUND((Balance!AZ47/Balance!AZ$60)*100,1))","v":2.8},{"$f":"IF(Balance!BA47=0,\"-\",ROUND((Balance!BA47/Balance!BA$60)*100,1))","v":2.7},{"$f":"IF(Balance!BB47=0,\"-\",ROUND((Balance!BB47/Balance!BB$60)*100,1))","v":2},{"$f":"IF(Balance!BC47=0,\"-\",ROUND((Balance!BC47/Balance!BC$60)*100,1))","v":4.3},{"$f":"IF(Balance!BD47=0,\"-\",ROUND((Balance!BD47/Balance!BD$60)*100,1))","v":4.4000000000000004},{"$f":"IF(Balance!BE47=0,\"-\",ROUND((Balance!BE47/Balance!BE$60)*100,1))","v":3.9},{"$f":"IF(Balance!BF47=0,\"-\",ROUND((Balance!BF47/Balance!BF$60)*100,1))","v":3.2},{"$f":"IF(Balance!BG47=0,\"-\",ROUND((Balance!BG47/Balance!BG$60)*100,1))","v":3.7},{"$f":"IF(Balance!BH47=0,\"-\",ROUND((Balance!BH47/Balance!BH$60)*100,1))","v":6.1},{"$f":"IF(Balance!BI47=0,\"-\",ROUND((Balance!BI47/Balance!BI$60)*100,1))","v":6.1},{"$f":"IF(Balance!BJ47=0,\"-\",ROUND((Balance!BJ47/Balance!BJ$60)*100,1))","v":5.3},{"$f":"IF(Balance!BK47=0,\"-\",ROUND((Balance!BK47/Balance!BK$60)*100,1))","v":4.5999999999999996},{"$f":"IF(Balance!BL47=0,\"-\",ROUND((Balance!BL47/Balance!BL$60)*100,1))","v":5.5},{"$f":"IF(Balance!BM47=0,\"-\",ROUND((Balance!BM47/Balance!BM$60)*100,1))","v":6.6},{"$f":"IF(Balance!BN47=0,\"-\",ROUND((Balance!BN47/Balance!BN$60)*100,1))","v":4.3},{"$f":"IF(Balance!BO47=0,\"-\",ROUND((Balance!BO47/Balance!BO$60)*100,1))","v":4.7},{"$f":"IF(Balance!BP47=0,\"-\",ROUND((Balance!BP47/Balance!BP$60)*100,1))","v":4},{"$f":"IF(Balance!BQ47=0,\"-\",ROUND((Balance!BQ47/Balance!BQ$60)*100,1))","v":6},{"$f":"IF(Balance!BR47=0,\"-\",ROUND((Balance!BR47/Balance!BR$60)*100,1))","v":5.6},{"$f":"IF(Balance!BS47=0,\"-\",ROUND((Balance!BS47/Balance!BS$60)*100,1))","v":7.4},{"$f":"IF(Balance!BT47=0,\"-\",ROUND((Balance!BT47/Balance!BT$60)*100,1))","v":7.3},{"$f":"IF(Balance!BU47=0,\"-\",ROUND((Balance!BU47/Balance!BU$60)*100,1))","v":7.9},{"$f":"IF(Balance!BV47=0,\"-\",ROUND((Balance!BV47/Balance!BV$60)*100,1))","v":7.1},{"$f":"IF(Balance!BW47=0,\"-\",ROUND((Balance!BW47/Balance!BW$60)*100,1))","v":6.6},{"$f":"IF(Balance!BX47=0,\"-\",ROUND((Balance!BX47/Balance!BX$60)*100,1))","v":6.6},{"$f":"IF(Balance!BY47=0,\"-\",ROUND((Balance!BY47/Balance!BY$60)*100,1))","v":6.8},{"$f":"IF(Balance!BZ47=0,\"-\",ROUND((Balance!BZ47/Balance!BZ$60)*100,1))","v":6.2},{"$f":"IF(Balance!CA47=0,\"-\",ROUND((Balance!CA47/Balance!CA$60)*100,1))","v":6},{"$f":"IF(Balance!CB47=0,\"-\",ROUND((Balance!CB47/Balance!CB$60)*100,1))","v":5.7},{"$f":"IF(Balance!CC47=0,\"-\",ROUND((Balance!CC47/Balance!CC$60)*100,1))","v":5.4},{"$f":"IF(Balance!CD47=0,\"-\",ROUND((Balance!CD47/Balance!CD$60)*100,1))","v":6.2},{"$f":"IF(Balance!CE47=0,\"-\",ROUND((Balance!CE47/Balance!CE$60)*100,1))","v":7.8},{"$f":"IF(Balance!CF47=0,\"-\",ROUND((Balance!CF47/Balance!CF$60)*100,1))","v":8.1999999999999993},{"$f":"IF(Balance!CG47=0,\"-\",ROUND((Balance!CG47/Balance!CG$60)*100,1))","v":6.7},{"$f":"IF(Balance!CH47=0,\"-\",ROUND((Balance!CH47/Balance!CH$60)*100,1))","v":7.4},{"$f":"IF(Balance!CI47=0,\"-\",ROUND((Balance!CI47/Balance!CI$60)*100,1))","v":4.5999999999999996},{"$f":"IF(Balance!CJ47=0,\"-\",ROUND((Balance!CJ47/Balance!CJ$60)*100,1))","v":4.2},{"$f":"IF(Balance!CK47=0,\"-\",ROUND((Balance!CK47/Balance!CK$60)*100,1))","v":4.4000000000000004},{"$f":"IF(Balance!CL47=0,\"-\",ROUND((Balance!CL47/Balance!CL$60)*100,1))","v":5.0999999999999996},{"$f":"IF(Balance!CM47=0,\"-\",ROUND((Balance!CM47/Balance!CM$60)*100,1))","v":3.7},{"$f":"IF(Balance!CN47=0,\"-\",ROUND((Balance!CN47/Balance!CN$60)*100,1))","v":3.3},{"$f":"IF(Balance!CO47=0,\"-\",ROUND((Balance!CO47/Balance!CO$60)*100,1))","v":4.2},{"$f":"IF(Balance!CP47=0,\"-\",ROUND((Balance!CP47/Balance!CP$60)*100,1))","v":4.3},{"$f":"IF(Balance!CQ47=0,\"-\",ROUND((Balance!CQ47/Balance!CQ$60)*100,1))","v":3.9},{"$f":"IF(Balance!CR47=0,\"-\",ROUND((Balance!CR47/Balance!CR$60)*100,1))","v":4.7},{"$f":"IF(Balance!CS47=0,\"-\",ROUND((Balance!CS47/Balance!CS$60)*100,1))","v":4.5999999999999996},{"$f":"IF(Balance!CT47=0,\"-\",ROUND((Balance!CT47/Balance!CT$60)*100,1))","v":4},{"$f":"IF(Balance!CU47=0,\"-\",ROUND((Balance!CU47/Balance!CU$60)*100,1))","v":3.7},{"$f":"IF(Balance!CV47=0,\"-\",ROUND((Balance!CV47/Balance!CV$60)*100,1))","v":5},{"$f":"IF(Balance!CW47=0,\"-\",ROUND((Balance!CW47/Balance!CW$60)*100,1))","v":2.8},{"$f":"IF(Balance!CX47=0,\"-\",ROUND((Balance!CX47/Balance!CX$60)*100,1))","v":3.2},{"$f":"IF(Balance!CY47=0,\"-\",ROUND((Balance!CY47/Balance!CY$60)*100,1))","v":3.6},{"$f":"IF(Balance!CZ47=0,\"-\",ROUND((Balance!CZ47/Balance!CZ$60)*100,1))","v":4.2},{"$f":"IF(Balance!DA47=0,\"-\",ROUND((Balance!DA47/Balance!DA$60)*100,1))","v":3.6},{"$f":"IF(Balance!DB47=0,\"-\",ROUND((Balance!DB47/Balance!DB$60)*100,1))","v":2.6},{"$f":"IF(Balance!DC47=0,\"-\",ROUND((Balance!DC47/Balance!DC$60)*100,1))","v":6.7},{"$f":"IF(Balance!DD47=0,\"-\",ROUND((Balance!DD47/Balance!DD$60)*100,1))","v":4.8},{"$f":"IF(Balance!DE47=0,\"-\",ROUND((Balance!DE47/Balance!DE$60)*100,1))","v":5.2},{"$f":"IF(Balance!DF47=0,\"-\",ROUND((Balance!DF47/Balance!DF$60)*100,1))","v":5.5},{"$f":"IF(Balance!DG47=0,\"-\",ROUND((Balance!DG47/Balance!DG$60)*100,1))","v":3.9},{"$f":"IF(Balance!DH47=0,\"-\",ROUND((Balance!DH47/Balance!DH$60)*100,1))","v":4.4000000000000004},{"$f":"IF(Balance!DI47=0,\"-\",ROUND((Balance!DI47/Balance!DI$60)*100,1))","v":3.4},{"$f":"IF(Balance!DJ47=0,\"-\",ROUND((Balance!DJ47/Balance!DJ$60)*100,1))","v":3.5},{"$f":"IF(Balance!DK47=0,\"-\",ROUND((Balance!DK47/Balance!DK$60)*100,1))","v":5.3},{"$f":"IF(Balance!DL47=0,\"-\",ROUND((Balance!DL47/Balance!DL$60)*100,1))","v":5.2},{"$f":"IF(Balance!DM47=0,\"-\",ROUND((Balance!DM47/Balance!DM$60)*100,1))","v":3.7},{"$f":"IF(Balance!DN47=0,\"-\",ROUND((Balance!DN47/Balance!DN$60)*100,1))","v":3.3},{"$f":"IF(Balance!DO47=0,\"-\",ROUND((Balance!DO47/Balance!DO$60)*100,1))","v":4.4000000000000004},{"$f":"IF(Balance!DP47=0,\"-\",ROUND((Balance!DP47/Balance!DP$60)*100,1))","v":3.2},{"$f":"IF(Balance!DQ47=0,\"-\",ROUND((Balance!DQ47/Balance!DQ$60)*100,1))","v":3.1},{"$f":"IF(Balance!DR47=0,\"-\",ROUND((Balance!DR47/Balance!DR$60)*100,1))","v":2.8},{"$f":"IF(Balance!DS47=0,\"-\",ROUND((Balance!DS47/Balance!DS$60)*100,1))","v":2.6},{"$f":"IF(Balance!DT47=0,\"-\",ROUND((Balance!DT47/Balance!DT$60)*100,1))","v":3.2},{"$f":"IF(Balance!DU47=0,\"-\",ROUND((Balance!DU47/Balance!DU$60)*100,1))","v":2.6},{"$f":"IF(Balance!DV47=0,\"-\",ROUND((Balance!DV47/Balance!DV$60)*100,1))","v":2.8},{"$f":"IF(Balance!DW47=0,\"-\",ROUND((Balance!DW47/Balance!DW$60)*100,1))","v":2.5},{"$f":"IF(Balance!DX47=0,\"-\",ROUND((Balance!DX47/Balance!DX$60)*100,1))","v":2},{"$f":"IF(Balance!DY47=0,\"-\",ROUND((Balance!DY47/Balance!DY$60)*100,1))","v":2.1},{"$f":"IF(Balance!DZ47=0,\"-\",ROUND((Balance!DZ47/Balance!DZ$60)*100,1))","v":4},{"$f":"IF(Balance!EA47=0,\"-\",ROUND((Balance!EA47/Balance!EA$60)*100,1))","v":5},{"$f":"IF(Balance!EB47=0,\"-\",ROUND((Balance!EB47/Balance!EB$60)*100,1))","v":3.6},{"$f":"IF(Balance!EC47=0,\"-\",ROUND((Balance!EC47/Balance!EC$60)*100,1))","v":3.6},{"$f":"IF(Balance!ED47=0,\"-\",ROUND((Balance!ED47/Balance!ED$60)*100,1))","v":4},{"$f":"IFERROR(IF(Balance!EE47=0,\"-\",ROUND((Balance!EE47/Balance!EE$60)*100,1)),\"-\")","v":4.2},{"$f":"IFERROR(IF(Balance!EF47=0,\"-\",ROUND((Balance!EF47/Balance!EF$60)*100,1)),\"-\")","v":3.5},{"$f":"IFERROR(IF(Balance!EG47=0,\"-\",ROUND((Balance!EG47/Balance!EG$60)*100,1)),\"-\")","v":2.6},{"$f":"IFERROR(IF(Balance!EH47=0,\"-\",ROUND((Balance!EH47/Balance!EH$60)*100,1)),\"-\")","v":1.8},{"$f":"IFERROR(IF(Balance!EI47=0,\"-\",ROUND((Balance!EI47/Balance!EI$60)*100,1)),\"-\")","v":2.2999999999999998},{"$f":"IFERROR(IF(Balance!EJ47=0,\"-\",ROUND((Balance!EJ47/Balance!EJ$60)*100,1)),\"-\")","v":2},{"$f":"IFERROR(IF(Balance!EK47=0,\"-\",ROUND((Balance!EK47/Balance!EK$60)*100,1)),\"-\")","v":2.9},{"$f":"IFERROR(IF(Balance!EL47=0,\"-\",ROUND((Balance!EL47/Balance!EL$60)*100,1)),\"-\")","v":2.7},{"$f":"IFERROR(IF(Balance!EM47=0,\"-\",ROUND((Balance!EM47/Balance!EM$60)*100,1)),\"-\")","v":3.1},{"$f":"IFERROR(IF(Balance!EN47=0,\"-\",ROUND((Balance!EN47/Balance!EN$60)*100,1)),\"-\")","v":2.9},{"$f":"IFERROR(IF(Balance!EO47=0,\"-\",ROUND((Balance!EO47/Balance!EO$60)*100,1)),\"-\")","v":2.7},{"$f":"IFERROR(IF(Balance!EP47=0,\"-\",ROUND((Balance!EP47/Balance!EP$60)*100,1)),\"-\")","v":2.5},{"$f":"IFERROR(IF(Balance!EQ47=0,\"-\",ROUND((Balance!EQ47/Balance!EQ$60)*100,1)),\"-\")","v":3},{"$f":"IFERROR(IF(Balance!ER47=0,\"-\",ROUND((Balance!ER47/Balance!ER$60)*100,1)),\"-\")","v":"-"},{"$f":"IFERROR(IF(Balance!ES47=0,\"-\",ROUND((Balance!ES47/Balance!ES$60)*100,1)),\"-\")","v":"-"},{"$f":"IFERROR(IF(Balance!ET47=0,\"-\",ROUND((Balance!ET47/Balance!ET$60)*100,1)),\"-\")","v":"-"},{"$f":"IFERROR(IF(Balance!EU47=0,\"-\",ROUND((Balance!EU47/Balance!EU$60)*100,1)),\"-\")","v":"-"},{"$f":"IFERROR(IF(Balance!EV47=0,\"-\",ROUND((Balance!EV47/Balance!EV$60)*100,1)),\"-\")","v":"-"},{"$f":"IFERROR(IF(Balance!EW47=0,\"-\",ROUND((Balance!EW47/Balance!EW$60)*100,1)),\"-\")","v":"-"},{"$f":"IFERROR(IF(Balance!EX47=0,\"-\",ROUND((Balance!EX47/Balance!EX$60)*100,1)),\"-\")","v":"-"},{"$f":"IFERROR(IF(Balance!EY47=0,\"-\",ROUND((Balance!EY47/Balance!EY$60)*100,1)),\"-\")","v":"-"},{"$f":"IFERROR(IF(Balance!EZ47=0,\"-\",ROUND((Balance!EZ47/Balance!EZ$60)*100,1)),\"-\")","v":"-"},{"$f":"IFERROR(IF(Balance!FA47=0,\"-\",ROUND((Balance!FA47/Balance!FA$60)*100,1)),\"-\")","v":"-"},{"$f":"IFERROR(IF(Balance!FB47=0,\"-\",ROUND((Balance!FB47/Balance!FB$60)*100,1)),\"-\")","v":"-"}]
[null,"Turbina de vapor",{"$f":"IF(Balance!C48=0,\"-\",ROUND((Balance!C48/Balance!C$60)*100,1))","v":48.3},{"$f":"IF(Balance!D48=0,\"-\",ROUND((Balance!D48/Balance!D$60)*100,1))","v":47},{"$f":"IF(Balance!E48=0,\"-\",ROUND((Balance!E48/Balance!E$60)*100,1))","v":48.7},{"$f":"IF(Balance!F48=0,\"-\",ROUND((Balance!F48/Balance!F$60)*100,1))","v":43.1},{"$f":"IF(Balance!G48=0,\"-\",ROUND((Balance!G48/Balance!G$60)*100,1))","v":38.5},{"$f":"IF(Balance!H48=0,\"-\",ROUND((Balance!H48/Balance!H$60)*100,1))","v":34.799999999999997},{"$f":"IF(Balance!I48=0,\"-\",ROUND((Balance!I48/Balance!I$60)*100,1))","v":33.4},{"$f":"IF(Balance!J48=0,\"-\",ROUND((Balance!J48/Balance!J$60)*100,1))","v":34.200000000000003},{"$f":"IF(Balance!K48=0,\"-\",ROUND((Balance!K48/Balance!K$60)*100,1))","v":36.5},{"$f":"IF(Balance!L48=0,\"-\",ROUND((Balance!L48/Balance!L$60)*100,1))","v":33.4},{"$f":"IF(Balance!M48=0,\"-\",ROUND((Balance!M48/Balance!M$60)*100,1))","v":36.6},{"$f":"IF(Balance!N48=0,\"-\",ROUND((Balance!N48/Balance!N$60)*100,1))","v":34.9},{"$f":"IF(Balance!O48=0,\"-\",ROUND((Balance!O48/Balance!O$60)*100,1))","v":34.6},{"$f":"IF(Balance!P48=0,\"-\",ROUND((Balance!P48/Balance!P$60)*100,1))","v":35.6},{"$f":"IF(Balance!Q48=0,\"-\",ROUND((Balance!Q48/Balance!Q$60)*100,1))","v":35.4},{"$f":"IF(Balance!R48=0,\"-\",ROUND((Balance!R48/Balance!R$60)*100,1))","v":40.6},{"$f":"IF(Balance!S48=0,\"-\",ROUND((Balance!S48/Balance!S$60)*100,1))","v":29.6},{"$f":"IF(Balance!T48=0,\"-\",ROUND((Balance!T48/Balance!T$60)*100,1))","v":37.799999999999997},{"$f":"IF(Balance!U48=0,\"-\",ROUND((Balance!U48/Balance!U$60)*100,1))","v":31.6},{"$f":"IF(Balance!V48=0,\"-\",ROUND((Balance!V48/Balance!V$60)*100,1))","v":37.1},{"$f":"IF(Balance!W48=0,\"-\",ROUND((Balance!W48/Balance!W$60)*100,1))","v":37.299999999999997},{"$f":"IF(Balance!X48=0,\"-\",ROUND((Balance!X48/Balance!X$60)*100,1))","v":36.799999999999997},{"$f":"IF(Balance!Y48=0,\"-\",ROUND((Balance!Y48/Balance!Y$60)*100,1))","v":36},{"$f":"IF(Balance!Z48=0,\"-\",ROUND((Balance!Z48/Balance!Z$60)*100,1))","v":38.4},{"$f":"IF(Balance!AA48=0,\"-\",ROUND((Balance!AA48/Balance!AA$60)*100,1))","v":41.1},{"$f":"IF(Balance!AB48=0,\"-\",ROUND((Balance!AB48/Balance!AB$60)*100,1))","v":42.3},{"$f":"IF(Balance!AC48=0,\"-\",ROUND((Balance!AC48/Balance!AC$60)*100,1))","v":37.200000000000003},{"$f":"IF(Balance!AD48=0,\"-\",ROUND((Balance!AD48/Balance!AD$60)*100,1))","v":35.700000000000003},{"$f":"IF(Balance!AE48=0,\"-\",ROUND((Balance!AE48/Balance!AE$60)*100,1))","v":37.1},{"$f":"IF(Balance!AF48=0,\"-\",ROUND((Balance!AF48/Balance!AF$60)*100,1))","v":30.4},{"$f":"IF(Balance!AG48=0,\"-\",ROUND((Balance!AG48/Balance!AG$60)*100,1))","v":34.5},{"$f":"IF(Balance!AH48=0,\"-\",ROUND((Balance!AH48/Balance!AH$60)*100,1))","v":33.5},{"$f":"IF(Balance!AI48=0,\"-\",ROUND((Balance!AI48/Balance!AI$60)*100,1))","v":36},{"$f":"IF(Balance!AJ48=0,\"-\",ROUND((Balance!AJ48/Balance!AJ$60)*100,1))","v":37.5},{"$f":"IF(Balance!AK48=0,\"-\",ROUND((Balance!AK48/Balance!AK$60)*100,1))","v":37.200000000000003},{"$f":"IF(Balance!AL48=0,\"-\",ROUND((Balance!AL48/Balance!AL$60)*100,1))","v":36.700000000000003},{"$f":"IF(Balance!AM48=0,\"-\",ROUND((Balance!AM48/Balance!AM$60)*100,1))","v":36.700000000000003},{"$f":"IF(Balance!AN48=0,\"-\",ROUND((Balance!AN48/Balance!AN$60)*100,1))","v":35.700000000000003},{"$f":"IF(Balance!AO48=0,\"-\",ROUND((Balance!AO48/Balance!AO$60)*100,1))","v":36.9},{"$f":"IF(Balance!AP48=0,\"-\",ROUND((Balance!AP48/Balance!AP$60)*100,1))","v":35.200000000000003},{"$f":"IF(Balance!AQ48=0,\"-\",ROUND((Balance!AQ48/Balance!AQ$60)*100,1))","v":39.9},{"$f":"IF(Balance!AR48=0,\"-\",ROUND((Balance!AR48/Balance!AR$60)*100,1))","v":34.6},{"$f":"IF(Balance!AS48=0,\"-\",ROUND((Balance!AS48/Balance!AS$60)*100,1))","v":32.799999999999997},{"$f":"IF(Balance!AT48=0,\"-\",ROUND((Balance!AT48/Balance!AT$60)*100,1))","v":34.799999999999997},{"$f":"IF(Balance!AU48=0,\"-\",ROUND((Balance!AU48/Balance!AU$60)*100,1))","v":36.6},{"$f":"IF(Balance!AV48=0,\"-\",ROUND((Balance!AV48/Balance!AV$60)*100,1))","v":37},{"$f":"IF(Balance!AW48=0,\"-\",ROUND((Balance!AW48/Balance!AW$60)*100,1))","v":32.799999999999997},{"$f":"IF(Balance!AX48=0,\"-\",ROUND((Balance!AX48/Balance!AX$60)*100,1))","v":34.5},{"$f":"IF(Balance!AY48=0,\"-\",ROUND((Balance!AY48/Balance!AY$60)*100,1))","v":36.6},{"$f":"IF(Balance!AZ48=0,\"-\",ROUND((Balance!AZ48/Balance!AZ$60)*100,1))","v":35.6},{"$f":"IF(Balance!BA48=0,\"-\",ROUND((Balance!BA48/Balance!BA$60)*100,1))","v":34.4},{"$f":"IF(Balance!BB48=0,\"-\",ROUND((Balance!BB48/Balance!BB$60)*100,1))","v":32.9},{"$f":"IF(Balance!BC48=0,\"-\",ROUND((Balance!BC48/Balance!BC$60)*100,1))","v":35.299999999999997},{"$f":"IF(Balance!BD48=0,\"-\",ROUND((Balance!BD48/Balance!BD$60)*100,1))","v":35.5},{"$f":"IF(Balance!BE48=0,\"-\",ROUND((Balance!BE48/Balance!BE$60)*100,1))","v":32.6},{"$f":"IF(Balance!BF48=0,\"-\",ROUND((Balance!BF48/Balance!BF$60)*100,1))","v":33.799999999999997},{"$f":"IF(Balance!BG48=0,\"-\",ROUND((Balance!BG48/Balance!BG$60)*100,1))","v":33.299999999999997},{"$f":"IF(Balance!BH48=0,\"-\",ROUND((Balance!BH48/Balance!BH$60)*100,1))","v":28.5},{"$f":"IF(Balance!BI48=0,\"-\",ROUND((Balance!BI48/Balance!BI$60)*100,1))","v":30},{"$f":"IF(Balance!BJ48=0,\"-\",ROUND((Balance!BJ48/Balance!BJ$60)*100,1))","v":33},{"$f":"IF(Balance!BK48=0,\"-\",ROUND((Balance!BK48/Balance!BK$60)*100,1))","v":32.1},{"$f":"IF(Balance!BL48=0,\"-\",ROUND((Balance!BL48/Balance!BL$60)*100,1))","v":33.6},{"$f":"IF(Balance!BM48=0,\"-\",ROUND((Balance!BM48/Balance!BM$60)*100,1))","v":35.9},{"$f":"IF(Balance!BN48=0,\"-\",ROUND((Balance!BN48/Balance!BN$60)*100,1))","v":32.700000000000003},{"$f":"IF(Balance!BO48=0,\"-\",ROUND((Balance!BO48/Balance!BO$60)*100,1))","v":30.8},{"$f":"IF(Balance!BP48=0,\"-\",ROUND((Balance!BP48/Balance!BP$60)*100,1))","v":24.8},{"$f":"IF(Balance!BQ48=0,\"-\",ROUND((Balance!BQ48/Balance!BQ$60)*100,1))","v":29.9},{"$f":"IF(Balance!BR48=0,\"-\",ROUND((Balance!BR48/Balance!BR$60)*100,1))","v":27.9},{"$f":"IF(Balance!BS48=0,\"-\",ROUND((Balance!BS48/Balance!BS$60)*100,1))","v":27.2},{"$f":"IF(Balance!BT48=0,\"-\",ROUND((Balance!BT48/Balance!BT$60)*100,1))","v":29.8},{"$f":"IF(Balance!BU48=0,\"-\",ROUND((Balance!BU48/Balance!BU$60)*100,1))","v":25},{"$f":"IF(Balance!BV48=0,\"-\",ROUND((Balance!BV48/Balance!BV$60)*100,1))","v":27.9},{"$f":"IF(Balance!BW48=0,\"-\",ROUND((Balance!BW48/Balance!BW$60)*100,1))","v":31},{"$f":"IF(Balance!BX48=0,\"-\",ROUND((Balance!BX48/Balance!BX$60)*100,1))","v":28.1},{"$f":"IF(Balance!BY48=0,\"-\",ROUND((Balance!BY48/Balance!BY$60)*100,1))","v":30.6},{"$f":"IF(Balance!BZ48=0,\"-\",ROUND((Balance!BZ48/Balance!BZ$60)*100,1))","v":29.7},{"$f":"IF(Balance!CA48=0,\"-\",ROUND((Balance!CA48/Balance!CA$60)*100,1))","v":27.4},{"$f":"IF(Balance!CB48=0,\"-\",ROUND((Balance!CB48/Balance!CB$60)*100,1))","v":30.5},{"$f":"IF(Balance!CC48=0,\"-\",ROUND((Balance!CC48/Balance!CC$60)*100,1))","v":30.9},{"$f":"IF(Balance!CD48=0,\"-\",ROUND((Balance!CD48/Balance!CD$60)*100,1))","v":29.3},{"$f":"IF(Balance!CE48=0,\"-\",ROUND((Balance!CE48/Balance!CE$60)*100,1))","v":29.1},{"$f":"IF(Balance!CF48=0,\"-\",ROUND((Balance!CF48/Balance!CF$60)*100,1))","v":30.8},{"$f":"IF(Balance!CG48=0,\"-\",ROUND((Balance!CG48/Balance!CG$60)*100,1))","v":34},{"$f":"IF(Balance!CH48=0,\"-\",ROUND((Balance!CH48/Balance!CH$60)*100,1))","v":31.1},{"$f":"IF(Balance!CI48=0,\"-\",ROUND((Balance!CI48/Balance!CI$60)*100,1))","v":26.6},{"$f":"IF(Balance!CJ48=0,\"-\",ROUND((Balance!CJ48/Balance!CJ$60)*100,1))","v":29.5},{"$f":"IF(Balance!CK48=0,\"-\",ROUND((Balance!CK48/Balance!CK$60)*100,1))","v":30.5},{"$f":"IF(Balance!CL48=0,\"-\",ROUND((Balance!CL48/Balance!CL$60)*100,1))","v":29.5},{"$f":"IF(Balance!CM48=0,\"-\",ROUND((Balance!CM48/Balance!CM$60)*100,1))","v":27.8},{"$f":"IF(Balance!CN48=0,\"-\",ROUND((Balance!CN48/Balance!CN$60)*100,1))","v":25.7},{"$f":"IF(Balance!CO48=0,\"-\",ROUND((Balance!CO48/Balance!CO$60)*100,1))","v":28.5},{"$f":"IF(Balance!CP48=0,\"-\",ROUND((Balance!CP48/Balance!CP$60)*100,1))","v":27.7},{"$f":"IF(Balance!CQ48=0,\"-\",ROUND((Balance!CQ48/Balance!CQ$60)*100,1))","v":28.1},{"$f":"IF(Balance!CR48=0,\"-\",ROUND((Balance!CR48/Balance!CR$60)*100,1))","v":29.8},{"$f":"IF(Balance!CS48=0,\"-\",ROUND((Balance!CS48/Balance!CS$60)*100,1))","v":29},{"$f":"IF(Balance!CT48=0,\"-\",ROUND((Balance!CT48/Balance!CT$60)*100,1))","v":30.4},{"$f":"IF(Balance!CU48=0,\"-\",ROUND((Balance!CU48/Balance!CU$60)*100,1))","v":30},{"$f":"IF(Balance!CV48=0,\"-\",ROUND((Balance!CV48/Balance!CV$60)*100,1))","v":26.9},{"$f":"IF(Balance!CW48=0,\"-\",ROUND((Balance!CW48/Balance!CW$60)*100,1))","v":21.3},{"$f":"IF(Balance!CX48=0,\"-\",ROUND((Balance!CX48/Balance!CX$60)*100,1))","v":22.6},{"$f":"IF(Balance!CY48=0,\"-\",ROUND((Balance!CY48/Balance!CY$60)*100,1))","v":21},{"$f":"IF(Balance!CZ48=0,\"-\",ROUND((Balance!CZ48/Balance!CZ$60)*100,1))","v":24.5},{"$f":"IF(Balance!DA48=0,\"-\",ROUND((Balance!DA48/Balance!DA$60)*100,1))","v":25},{"$f":"IF(Balance!DB48=0,\"-\",ROUND((Balance!DB48/Balance!DB$60)*100,1))","v":24.1},{"$f":"IF(Balance!DC48=0,\"-\",ROUND((Balance!DC48/Balance!DC$60)*100,1))","v":21.7},{"$f":"IF(Balance!DD48=0,\"-\",ROUND((Balance!DD48/Balance!DD$60)*100,1))","v":22.3},{"$f":"IF(Balance!DE48=0,\"-\",ROUND((Balance!DE48/Balance!DE$60)*100,1))","v":23.9},{"$f":"IF(Balance!DF48=0,\"-\",ROUND((Balance!DF48/Balance!DF$60)*100,1))","v":27.1},{"$f":"IF(Balance!DG48=0,\"-\",ROUND((Balance!DG48/Balance!DG$60)*100,1))","v":27.6},{"$f":"IF(Balance!DH48=0,\"-\",ROUND((Balance!DH48/Balance!DH$60)*100,1))","v":26.6},{"$f":"IF(Balance!DI48=0,\"-\",ROUND((Balance!DI48/Balance!DI$60)*100,1))","v":25.5},{"$f":"IF(Balance!DJ48=0,\"-\",ROUND((Balance!DJ48/Balance!DJ$60)*100,1))","v":23.7},{"$f":"IF(Balance!DK48=0,\"-\",ROUND((Balance!DK48/Balance!DK$60)*100,1))","v":21.4},{"$f":"IF(Balance!DL48=0,\"-\",ROUND((Balance!DL48/Balance!DL$60)*100,1))","v":27.1},{"$f":"IF(Balance!DM48=0,\"-\",ROUND((Balance!DM48/Balance!DM$60)*100,1))","v":26.6},{"$f":"IF(Balance!DN48=0,\"-\",ROUND((Balance!DN48/Balance!DN$60)*100,1))","v":26.9},{"$f":"IF(Balance!DO48=0,\"-\",ROUND((Balance!DO48/Balance!DO$60)*100,1))","v":28.9},{"$f":"IF(Balance!DP48=0,\"-\",ROUND((Balance!DP48/Balance!DP$60)*100,1))","v":21.5},{"$f":"IF(Balance!DQ48=0,\"-\",ROUND((Balance!DQ48/Balance!DQ$60)*100,1))","v":21.8},{"$f":"IF(Balance!DR48=0,\"-\",ROUND((Balance!DR48/Balance!DR$60)*100,1))","v":30.1},{"$f":"IF(Balance!DS48=0,\"-\",ROUND((Balance!DS48/Balance!DS$60)*100,1))","v":31.5},{"$f":"IF(Balance!DT48=0,\"-\",ROUND((Balance!DT48/Balance!DT$60)*100,1))","v":30.3},{"$f":"IF(Balance!DU48=0,\"-\",ROUND((Balance!DU48/Balance!DU$60)*100,1))","v":30.4},{"$f":"IF(Balance!DV48=0,\"-\",ROUND((Balance!DV48/Balance!DV$60)*100,1))","v":28},{"$f":"IF(Balance!DW48=0,\"-\",ROUND((Balance!DW48/Balance!DW$60)*100,1))","v":24.7},{"$f":"IF(Balance!DX48=0,\"-\",ROUND((Balance!DX48/Balance!DX$60)*100,1))","v":28.9},{"$f":"IF(Balance!DY48=0,\"-\",ROUND((Balance!DY48/Balance!DY$60)*100,1))","v":29.1},{"$f":"IF(Balance!DZ48=0,\"-\",ROUND((Balance!DZ48/Balance!DZ$60)*100,1))","v":29.8},{"$f":"IF(Balance!EA48=0,\"-\",ROUND((Balance!EA48/Balance!EA$60)*100,1))","v":29.8},{"$f":"IF(Balance!EB48=0,\"-\",ROUND((Balance!EB48/Balance!EB$60)*100,1))","v":27.3},{"$f":"IF(Balance!EC48=0,\"-\",ROUND((Balance!EC48/Balance!EC$60)*100,1))","v":23.8},{"$f":"IF(Balance!ED48=0,\"-\",ROUND((Balance!ED48/Balance!ED$60)*100,1))","v":32.9},{"$f":"IFERROR(IF(Balance!EE48=0,\"-\",ROUND((Balance!EE48/Balance!EE$60)*100,1)),\"-\")","v":28.2},{"$f":"IFERROR(IF(Balance!EF48=0,\"-\",ROUND((Balance!EF48/Balance!EF$60)*100,1)),\"-\")","v":29.6},{"$f":"IFERROR(IF(Balance!EG48=0,\"-\",ROUND((Balance!EG48/Balance!EG$60)*100,1)),\"-\")","v":27.7},{"$f":"IFERROR(IF(Balance!EH48=0,\"-\",ROUND((Balance!EH48/Balance!EH$60)*100,1)),\"-\")","v":30.9},{"$f":"IFERROR(IF(Balance!EI48=0,\"-\",ROUND((Balance!EI48/Balance!EI$60)*100,1)),\"-\")","v":26.1},{"$f":"IFERROR(IF(Balance!EJ48=0,\"-\",ROUND((Balance!EJ48/Balance!EJ$60)*100,1)),\"-\")","v":32.299999999999997},{"$f":"IFERROR(IF(Balance!EK48=0,\"-\",ROUND((Balance!EK48/Balance!EK$60)*100,1)),\"-\")","v":28.8},{"$f":"IFERROR(IF(Balance!EL48=0,\"-\",ROUND((Balance!EL48/Balance!EL$60)*100,1)),\"-\")","v":27.6},{"$f":"IFERROR(IF(Balance!EM48=0,\"-\",ROUND((Balance!EM48/Balance!EM$60)*100,1)),\"-\")","v":27.4},{"$f":"IFERROR(IF(Balance!EN48=0,\"-\",ROUND((Balance!EN48/Balance!EN$60)*100,1)),\"-\")","v":25.7},{"$f":"IFERROR(IF(Balance!EO48=0,\"-\",ROUND((Balance!EO48/Balance!EO$60)*100,1)),\"-\")","v":25.6},{"$f":"IFERROR(IF(Balance!EP48=0,\"-\",ROUND((Balance!EP48/Balance!EP$60)*100,1)),\"-\")","v":28.7},{"$f":"IFERROR(IF(Balance!EQ48=0,\"-\",ROUND((Balance!EQ48/Balance!EQ$60)*100,1)),\"-\")","v":30},{"$f":"IFERROR(IF(Balance!ER48=0,\"-\",ROUND((Balance!ER48/Balance!ER$60)*100,1)),\"-\")","v":"-"},{"$f":"IFERROR(IF(Balance!ES48=0,\"-\",ROUND((Balance!ES48/Balance!ES$60)*100,1)),\"-\")","v":"-"},{"$f":"IFERROR(IF(Balance!ET48=0,\"-\",ROUND((Balance!ET48/Balance!ET$60)*100,1)),\"-\")","v":"-"},{"$f":"IFERROR(IF(Balance!EU48=0,\"-\",ROUND((Balance!EU48/Balance!EU$60)*100,1)),\"-\")","v":"-"},{"$f":"IFERROR(IF(Balance!EV48=0,\"-\",ROUND((Balance!EV48/Balance!EV$60)*100,1)),\"-\")","v":"-"},{"$f":"IFERROR(IF(Balance!EW48=0,\"-\",ROUND((Balance!EW48/Balance!EW$60)*100,1)),\"-\")","v":"-"},{"$f":"IFERROR(IF(Balance!EX48=0,\"-\",ROUND((Balance!EX48/Balance!EX$60)*100,1)),\"-\")","v":"-"},{"$f":"IFERROR(IF(Balance!EY48=0,\"-\",ROUND((Balance!EY48/Balance!EY$60)*100,1)),\"-\")","v":"-"},{"$f":"IFERROR(IF(Balance!EZ48=0,\"-\",ROUND((Balance!EZ48/Balance!EZ$60)*100,1)),\"-\")","v":"-"},{"$f":"IFERROR(IF(Balance!FA48=0,\"-\",ROUND((Balance!FA48/Balance!FA$60)*100,1)),\"-\")","v":"-"},{"$f":"IFERROR(IF(Balance!FB48=0,\"-\",ROUND((Balance!FB48/Balance!FB$60)*100,1)),\"-\")","v":"-"}]
[null,"Ciclo combinado",{"$f":"100-SUM(C35:C38,C40:C45)","v":17.499999999999986},16.599999999999994,11,20.200000000000003,21.799999999999997,23.400000000000006,24.5,26.5,25.599999999999994,27.600000000000009,27.5,28.5,26.200000000000017,24.799999999999997,26.200000000000003,20.900000000000006,32.5,24.900000000000006,28.5,23.500000000000014,25,28.400000000000006,29.200000000000003,27.599999999999994,25.200000000000017,22.699999999999989,28.300000000000011,28.400000000000006,25.300000000000011,31.700000000000003,27.700000000000003,27.200000000000003,{"$f":"100-SUM(AI35:AI38,AI40:AI45)","v":28.900000000000006},27.299999999999997,28.899999999999991,29.199999999999989,28.300000000000011,29.799999999999997,29.700000000000003,27.799999999999997,20.499999999999986,27.5,28.899999999999991,26.200000000000003,26.200000000000003,28.800000000000011,31.800000000000011,30.799999999999997,30.5,30.200000000000003,30.299999999999997,30.5,26.700000000000003,26.399999999999991,28.900000000000006,28.700000000000003,30.600000000000009,34.700000000000003,34.299999999999997,32.899999999999991,34.099999999999994,28.5,25.5,30.599999999999994,{"$f":"100-SUM(BO35:BO38,BO40:BO45)","v":34.199999999999989},37.899999999999991,29.100000000000009,32.600000000000009,33.800000000000011,34.400000000000006,39.4,34.800000000000011,34.000000000000014,33,30.700000000000017,30.900000000000006,34.400000000000006,31.600000000000009,30.300000000000011,29.300000000000011,35.700000000000003,33.400000000000006,31.900000000000006,33.300000000000011,37.9,33.800000000000011,34.600000000000009,34.900000000000006,35.400000000000006,35.700000000000003,35.300000000000011,35.100000000000009,37.5,35.200000000000003,34.600000000000009,34.700000000000003,{"$f":"100-SUM(CU35:CU38,CU40:CU45)","v":34.300000000000011},34.600000000000009,39.5,40.599999999999994,40.099999999999994,36.599999999999994,36.999999999999993,35.5,42.5,44.099999999999994,42.1,35.800000000000011,35,34.200000000000003,35.700000000000017,38.800000000000004,37.099999999999994,35.400000000000006,33.500000000000014,33.5,35.000000000000014,46.1,43.599999999999994,36.799999999999997,{"$error":"#VALUE!"},{"$f":"100-SUM(DT35:DT38,DT40:DT45)","v":{"$error":"#VALUE!"}},{"$error":"#VALUE!"},{"$error":"#VALUE!"},{"$error":"#VALUE!"},{"$f":"100-SUM(DX35:DX38,DX40:DX45)","v":{"$error":"#VALUE!"}},{"$f":"100-SUM(DY35:DY38,DY40:DY45)","v":{"$error":"#VALUE!"}},{"$f":"100-SUM(DZ35:DZ38,DZ40:DZ45)","v":{"$error":"#VALUE!"}},{"$error":"#VALUE!"},{"$f":"100-SUM(EB35:EB38,EB40:EB45)","v":{"$error":"#VALUE!"}},{"$error":"#VALUE!"},{"$f":"100-SUM(ED35:ED38,ED40:ED45)","v":{"$error":"#VALUE!"}},{"$f":"IFERROR(IF(SUM(EE35:EE38,EE40:EE45)>0,100-SUM(EE35:EE38,EE40:EE45),\"-\"),\"-\")","v":37.800000000000004},{"$f":"IFERROR(IF(SUM(EF35:EF38,EF40:EF45)>0,100-SUM(EF35:EF38,EF40:EF45),\"-\"),\"-\")","v":35.400000000000006},34.000000000000014,31.200000000000017,35.099999999999994,29.200000000000017,30.000000000000014,32.300000000000011,31.100000000000009,36.599999999999994,{"$f":"IFERROR(IF(SUM(EO35:EO38,EO40:EO45)>0,100-SUM(EO35:EO38,EO40:EO45),\"-\"),\"-\")","v":37.999999999999986},34.100000000000009,{"$f":"IFERROR(IF(SUM(EQ35:EQ38,EQ40:EQ45)>0,100-SUM(EQ35:EQ38,EQ40:EQ45),\"-\"),\"-\")","v":31.5},{"$f":"IFERROR(IF(SUM(ER35:ER38,ER40:ER45)>0,100-SUM(ER35:ER38,ER40:ER45),\"-\"),\"-\")","v":"-"},"-","-","-","-","-","-","-","-","-","-"]
[null,"Generación auxiliar",{"$f":"IF(Balance!C51=0,\"-\",ROUND((Balance!C51/Balance!C$60)*100,1))","v":"-"},{"$f":"IF(Balance!D51=0,\"-\",ROUND((Balance!D51/Balance!D$60)*100,1))","v":"-"},{"$f":"IF(Balance!E51=0,\"-\",ROUND((Balance!E51/Balance!E$60)*100,1))","v":"-"},{"$f":"IF(Balance!F51=0,\"-\",ROUND((Balance!F51/Balance!F$60)*100,1))","v":"-"},{"$f":"IF(Balance!G51=0,\"-\",ROUND((Balance!G51/Balance!G$60)*100,1))","v":"-"},{"$f":"IF(Balance!H51=0,\"-\",ROUND((Balance!H51/Balance!H$60)*100,1))","v":"-"},{"$f":"IF(Balance!I51=0,\"-\",ROUND((Balance!I51/Balance!I$60)*100,1))","v":"-"},{"$f":"IF(Balance!J51=0,\"-\",ROUND((Balance!J51/Balance!J$60)*100,1))","v":"-"},{"$f":"IF(Balance!K51=0,\"-\",ROUND((Balance!K51/Balance!K$60)*100,1))","v":"-"},{"$f":"IF(Balance!L51=0,\"-\",ROUND((Balance!L51/Balance!L$60)*100,1))","v":"-"},{"$f":"IF(Balance!M51=0,\"-\",ROUND((Balance!M51/Balance!M$60)*100,1))","v":"-"},{"$f":"IF(Balance!N51=0,\"-\",ROUND((Balance!N51/Balance!N$60)*100,1))","v":"-"},{"$f":"IF(Balance!O51=0,\"-\",ROUND((Balance!O51/Balance!O$60)*100,1))","v":1.6},{"$f":"IF(Balance!P51=0,\"-\",ROUND((Balance!P51/Balance!P$60)*100,1))","v":1.7},{"$f":"IF(Balance!Q51=0,\"-\",ROUND((Balance!Q51/Balance!Q$60)*100,1))","v":1.5},{"$f":"IF(Balance!R51=0,\"-\",ROUND((Balance!R51/Balance!R$60)*100,1))","v":1.6},{"$f":"IF(Balance!S51=0,\"-\",ROUND((Balance!S51/Balance!S$60)*100,1))","v":1.4},{"$f":"IF(Balance!T51=0,\"-\",ROUND((Balance!T51/Balance!T$60)*100,1))","v":1.3},{"$f":"IF(Balance!U51=0,\"-\",ROUND((Balance!U51/Balance!U$60)*100,1))","v":1.3},{"$f":"IF(Balance!V51=0,\"-\",ROUND((Balance!V51/Balance!V$60)*100,1))","v":1.5},{"$f":"IF(Balance!W51=0,\"-\",ROUND((Balance!W51/Balance!W$60)*100,1))","v":1.5},{"$f":"IF(Balance!X51=0,\"-\",ROUND((Balance!X51/Balance!X$60)*100,1))","v":1.5},{"$f":"IF(Balance!Y51=0,\"-\",ROUND((Balance!Y51/Balance!Y$60)*100,1))","v":1.3},{"$f":"IF(Balance!Z51=0,\"-\",ROUND((Balance!Z51/Balance!Z$60)*100,1))","v":1.1000000000000001},{"$f":"IF(Balance!AA51=0,\"-\",ROUND((Balance!AA51/Balance!AA$60)*100,1))","v":1.3},{"$f":"IF(Balance!AB51=0,\"-\",ROUND((Balance!AB51/Balance!AB$60)*100,1))","v":1.3},{"$f":"IF(Balance!AC51=0,\"-\",ROUND((Balance!AC51/Balance!AC$60)*100,1))","v":1.4},{"$f":"IF(Balance!AD51=0,\"-\",ROUND((Balance!AD51/Balance!AD$60)*100,1))","v":1.3},{"$f":"IF(Balance!AE51=0,\"-\",ROUND((Balance!AE51/Balance!AE$60)*100,1))","v":0.9},{"$f":"IF(Balance!AF51=0,\"-\",ROUND((Balance!AF51/Balance!AF$60)*100,1))","v":0.9},{"$f":"IF(Balance!AG51=0,\"-\",ROUND((Balance!AG51/Balance!AG$60)*100,1))","v":1},{"$f":"IF(Balance!AH51=0,\"-\",ROUND((Balance!AH51/Balance!AH$60)*100,1))","v":1},{"$f":"IF(Balance!AI51=0,\"-\",ROUND((Balance!AI51/Balance!AI$60)*100,1))","v":0.6},{"$f":"IF(Balance!AJ51=0,\"-\",ROUND((Balance!AJ51/Balance!AJ$60)*100,1))","v":0.6},{"$f":"IF(Balance!AK51=0,\"-\",ROUND((Balance!AK51/Balance!AK$60)*100,1))","v":0.7},{"$f":"IF(Balance!AL51=0,\"-\",ROUND((Balance!AL51/Balance!AL$60)*100,1))","v":0.6},{"$f":"IF(Balance!AM51=0,\"-\",ROUND((Balance!AM51/Balance!AM$60)*100,1))","v":0.6},{"$f":"IF(Balance!AN51=0,\"-\",ROUND((Balance!AN51/Balance!AN$60)*100,1))","v":0.6},{"$f":"IF(Balance!AO51=0,\"-\",ROUND((Balance!AO51/Balance!AO$60)*100,1))","v":0.6},{"$f":"IF(Balance!AP51=0,\"-\",ROUND((Balance!AP51/Balance!AP$60)*100,1))","v":0.4},{"$f":"IF(Balance!AQ51=0,\"-\",ROUND((Balance!AQ51/Balance!AQ$60)*100,1))","v":0.4},{"$f":"IF(Balance!AR51=0,\"-\",ROUND((Balance!AR51/Balance!AR$60)*100,1))","v":0.4},{"$f":"IF(Balance!AS51=0,\"-\",ROUND((Balance!AS51/Balance!AS$60)*100,1))","v":0.7},{"$f":"IF(Balance!AT51=0,\"-\",ROUND((Balance!AT51/Balance!AT$60)*100,1))","v":0.4},{"$f":"IF(Balance!AU51=0,\"-\",ROUND((Balance!AU51/Balance!AU$60)*100,1))","v":0.2},{"$f":"IF(Balance!AV51=0,\"-\",ROUND((Balance!AV51/Balance!AV$60)*100,1))","v":0.1},{"$f":"IF(Balance!AW51=0,\"-\",ROUND((Balance!AW51/Balance!AW$60)*100,1))","v":0.1},{"$f":"IF(Balance!AX51=0,\"-\",ROUND((Balance!AX51/Balance!AX$60)*100,1))","v":0},{"$f":"IF(Balance!AY51=0,\"-\",ROUND((Balance!AY51/Balance!AY$60)*100,1))","v":"-"},{"$f":"IF(Balance!AZ51=0,\"-\",ROUND((Balance!AZ51/Balance!AZ$60)*100,1))","v":"-"},{"$f":"IF(Balance!BA51=0,\"-\",ROUND((Balance!BA51/Balance!BA$60)*100,1))","v":"-"},{"$f":"IF(Balance!BB51=0,\"-\",ROUND((Balance!BB51/Balance!BB$60)*100,1))","v":"-"},{"$f":"IF(Balance!BC51=0,\"-\",ROUND((Balance!BC51/Balance!BC$60)*100,1))","v":"-"},{"$f":"IF(Balance!BD51=0,\"-\",ROUND((Balance!BD51/Balance!BD$60)*100,1))","v":"-"},{"$f":"IF(Balance!BE51=0,\"-\",ROUND((Balance!BE51/Balance!BE$60)*100,1))","v":"-"},{"$f":"IF(Balance!BF51=0,\"-\",ROUND((Balance!BF51/Balance!BF$60)*100,1))","v":"-"},{"$f":"IF(Balance!BG51=0,\"-\",ROUND((Balance!BG51/Balance!BG$60)*100,1))","v":"-"},{"$f":"IF(Balance!BH51=0,\"-\",ROUND((Balance!BH51/Balance!BH$60)*100,1))","v":"-"},{"$f":"IF(Balance!BI51=0,\"-\",ROUND((Balance!BI51/Balance!BI$60)*100,1))","v":"-"},{"$f":"IF(Balance!BJ51=0,\"-\",ROUND((Balance!BJ51/Balance!BJ$60)*100,1))","v":"-"},{"$f":"IF(Balance!BK51=0,\"-\",ROUND((Balance!BK51/Balance!BK$60)*100,1))","v":"-"},{"$f":"IF(Balance!BL51=0,\"-\",ROUND((Balance!BL51/Balance!BL$60)*100,1))","v":"-"},{"$f":"IF(Balance!BM51=0,\"-\",ROUND((Balance!BM51/Balance!BM$60)*100,1))","v":"-"},{"$f":"IF(Balance!BN51=0,\"-\",ROUND((Balance!BN51/Balance!BN$60)*100,1))","v":"-"},{"$f":"IF(Balance!BO51=0,\"-\",ROUND((Balance!BO51/Balance!BO$60)*100,1))","v":"-"},{"$f":"IF(Balance!BP51=0,\"-\",ROUND((Balance!BP51/Balance!BP$60)*100,1))","v":"-"},{"$f":"IF(Balance!BQ51=0,\"-\",ROUND((Balance!BQ51/Balance!BQ$60)*100,1))","v":"-"},{"$f":"IF(Balance!BR51=0,\"-\",ROUND((Balance!BR51/Balance!BR$60)*100,1))","v":"-"},{"$f":"IF(Balance!BS51=0,\"-\",ROUND((Balance!BS51/Balance!BS$60)*100,1))","v":"-"},{"$f":"IF(Balance!BT51=0,\"-\",ROUND((Balance!BT51/Balance!BT$60)*100,1))","v":"-"},{"$f":"IF(Balance!BU51=0,\"-\",ROUND((Balance!BU51/Balance!BU$60)*100,1))","v":"-"},{"$f":"IF(Balance!BV51=0,\"-\",ROUND((Balance!BV51/Balance!BV$60)*100,1))","v":"-"},{"$f":"IF(Balance!BW51=0,\"-\",ROUND((Balance!BW51/Balance!BW$60)*100,1))","v":"-"},{"$f":"IF(Balance!BX51=0,\"-\",ROUND((Balance!BX51/Balance!BX$60)*100,1))","v":"-"},{"$f":"IF(Balance!BY51=0,\"-\",ROUND((Balance!BY51/Balance!BY$60)*100,1))","v":"-"},{"$f":"IF(Balance!BZ51=0,\"-\",ROUND((Balance!BZ51/Balance!BZ$60)*100,1))","v":"-"},{"$f":"IF(Balance!CA51=0,\"-\",ROUND((Balance!CA51/Balance!CA$60)*100,1))","v":"-"},{"$f":"IF(Balance!CB51=0,\"-\",ROUND((Balance!CB51/Balance!CB$60)*100,1))","v":"-"},{"$f":"IF(Balance!CC51=0,\"-\",ROUND((Balance!CC51/Balance!CC$60)*100,1))","v":"-"},{"$f":"IF(Balance!CD51=0,\"-\",ROUND((Balance!CD51/Balance!CD$60)*100,1))","v":"-"},{"$f":"IF(Balance!CE51=0,\"-\",ROUND((Balance!CE51/Balance!CE$60)*100,1))","v":"-"},{"$f":"IF(Balance!CF51=0,\"-\",ROUND((Balance!CF51/Balance!CF$60)*100,1))","v":"-"},{"$f":"IF(Balance!CG51=0,\"-\",ROUND((Balance!CG51/Balance!CG$60)*100,1))","v":"-"},{"$f":"IF(Balance!CH51=0,\"-\",ROUND((Balance!CH51/Balance!CH$60)*100,1))","v":"-"},{"$f":"IF(Balance!CI51=0,\"-\",ROUND((Balance!CI51/Balance!CI$60)*100,1))","v":"-"},{"$f":"IF(Balance!CJ51=0,\"-\",ROUND((Balance!CJ51/Balance!CJ$60)*100,1))","v":"-"},{"$f":"IF(Balance!CK51=0,\"-\",ROUND((Balance!CK51/Balance!CK$60)*100,1))","v":"-"},{"$f":"IF(Balance!CL51=0,\"-\",ROUND((Balance!CL51/Balance!CL$60)*100,1))","v":"-"},{"$f":"IF(Balance!CM51=0,\"-\",ROUND((Balance!CM51/Balance!CM$60)*100,1))","v":"-"},{"$f":"IF(Balance!CN51=0,\"-\",ROUND((Balance!CN51/Balance!CN$60)*100,1))","v":"-"},{"$f":"IF(Balance!CO51=0,\"-\",ROUND((Balance!CO51/Balance!CO$60)*100,1))","v":"-"},{"$f":"IF(Balance!CP51=0,\"-\",ROUND((Balance!CP51/Balance!CP$60)*100,1))","v":"-"},{"$f":"IF(Balance!CQ51=0,\"-\",ROUND((Balance!CQ51/Balance!CQ$60)*100,1))","v":"-"},{"$f":"IF(Balance!CR51=0,\"-\",ROUND((Balance!CR51/Balance!CR$60)*100,1))","v":"-"},{"$f":"IF(Balance!CS51=0,\"-\",ROUND((Balance!CS51/Balance!CS$60)*100,1))","v":"-"},{"$f":"IF(Balance!CT51=0,\"-\",ROUND((Balance!CT51/Balance!CT$60)*100,1))","v":"-"},{"$f":"IF(Balance!CU51=0,\"-\",ROUND((Balance!CU51/Balance!CU$60)*100,1))","v":"-"},{"$f":"IF(Balance!CV51=0,\"-\",ROUND((Balance!CV51/Balance!CV$60)*100,1))","v":"-"},{"$f":"IF(Balance!CW51=0,\"-\",ROUND((Balance!CW51/Balance!CW$60)*100,1))","v":"-"},{"$f":"IF(Balance!CX51=0,\"-\",ROUND((Balance!CX51/Balance!CX$60)*100,1))","v":"-"},{"$f":"IF(Balance!CY51=0,\"-\",ROUND((Balance!CY51/Balance!CY$60)*100,1))","v":"-"},{"$f":"IF(Balance!CZ51=0,\"-\",ROUND((Balance!CZ51/Balance!CZ$60)*100,1))","v":"-"},{"$f":"IF(Balance!DA51=0,\"-\",ROUND((Balance!DA51/Balance!DA$60)*100,1))","v":"-"},{"$f":"IF(Balance!DB51=0,\"-\",ROUND((Balance!DB51/Balance!DB$60)*100,1))","v":"-"},{"$f":"IF(Balance!DC51=0,\"-\",ROUND((Balance!DC51/Balance!DC$60)*100,1))","v":"-"},{"$f":"IF(Balance!DD51=0,\"-\",ROUND((Balance!DD51/Balance!DD$60)*100,1))","v":"-"},{"$f":"IF(Balance!DE51=0,\"-\",ROUND((Balance!DE51/Balance!DE$60)*100,1))","v":"-"},{"$f":"IF(Balance!DF51=0,\"-\",ROUND((Balance!DF51/Balance!DF$60)*100,1))","v":"-"},{"$f":"IF(Balance!DG51=0,\"-\",ROUND((Balance!DG51/Balance!DG$60)*100,1))","v":"-"},{"$f":"IF(Balance!DH51=0,\"-\",ROUND((Balance!DH51/Balance!DH$60)*100,1))","v":"-"},{"$f":"IF(Balance!DI51=0,\"-\",ROUND((Balance!DI51/Balance!DI$60)*100,1))","v":"-"},{"$f":"IF(Balance!DJ51=0,\"-\",ROUND((Balance!DJ51/Balance!DJ$60)*100,1))","v":"-"},{"$f":"IF(Balance!DK51=0,\"-\",ROUND((Balance!DK51/Balance!DK$60)*100,1))","v":"-"},{"$f":"IF(Balance!DL51=0,\"-\",ROUND((Balance!DL51/Balance!DL$60)*100,1))","v":"-"},{"$f":"IF(Balance!DM51=0,\"-\",ROUND((Balance!DM51/Balance!DM$60)*100,1))","v":"-"},{"$f":"IF(Balance!DN51=0,\"-\",ROUND((Balance!DN51/Balance!DN$60)*100,1))","v":"-"},{"$f":"IF(Balance!DO51=0,\"-\",ROUND((Balance!DO51/Balance!DO$60)*100,1))","v":"-"},{"$f":"IF(Balance!DP51=0,\"-\",ROUND((Balance!DP51/Balance!DP$60)*100,1))","v":"-"},{"$f":"IF(Balance!DQ51=0,\"-\",ROUND((Balance!DQ51/Balance!DQ$60)*100,1))","v":"-"},{"$f":"IF(Balance!DR51=0,\"-\",ROUND((Balance!DR51/Balance!DR$60)*100,1))","v":"-"},{"$f":"IF(Balance!DS51=0,\"-\",ROUND((Balance!DS51/Balance!DS$60)*100,1))","v":{"$error":"#VALUE!"}},{"$f":"IF(Balance!DT51=0,\"-\",ROUND((Balance!DT51/Balance!DT$60)*100,1))","v":{"$error":"#VALUE!"}},{"$f":"IF(Balance!DU51=0,\"-\",ROUND((Balance!DU51/Balance!DU$60)*100,1))","v":{"$error":"#VALUE!"}},{"$f":"IF(Balance!DV51=0,\"-\",ROUND((Balance!DV51/Balance!DV$60)*100,1))","v":{"$error":"#VALUE!"}},{"$f":"IF(Balance!DW51=0,\"-\",ROUND((Balance!DW51/Balance!DW$60)*100,1))","v":{"$error":"#VALUE!"}},{"$f":"IF(Balance!DX51=0,\"-\",ROUND((Balance!DX51/Balance!DX$60)*100,1))","v":{"$error":"#VALUE!"}},{"$f":"IF(Balance!DY51=0,\"-\",ROUND((Balance!DY51/Balance!DY$60)*100,1))","v":{"$error":"#VALUE!"}},{"$f":"IF(Balance!DZ51=0,\"-\",ROUND((Balance!DZ51/Balance!DZ$60)*100,1))","v":{"$error":"#VALUE!"}},{"$f":"IF(Balance!EA51=0,\"-\",ROUND((Balance!EA51/Balance!EA$60)*100,1))","v":{"$error":"#VALUE!"}},{"$f":"IF(Balance!EB51=0,\"-\",ROUND((Balance!EB51/Balance!EB$60)*100,1))","v":{"$error":"#VALUE!"}},{"$f":"IF(Balance!EC51=0,\"-\",ROUND((Balance!EC51/Balance!EC$60)*100,1))","v":{"$error":"#VALUE!"}},{"$f":"IF(Balance!ED51=0,\"-\",ROUND((Balance!ED51/Balance!ED$60)*100,1))","v":{"$error":"#VALUE!"}},{"$f":"IFERROR(IF(Balance!EE51=0,\"-\",ROUND((Balance!EE51/Balance!EE$60)*100,1)),\"-\")","v":"-"},{"$f":"IFERROR(IF(Balance!EF51=0,\"-\",ROUND((Balance!EF51/Balance!EF$60)*100,1)),\"-\")","v":"-"},{"$f":"IFERROR(IF(Balance!EG51=0,\"-\",ROUND((Balance!EG51/Balance!EG$60)*100,1)),\"-\")","v":"-"},{"$f":"IFERROR(IF(Balance!EH51=0,\"-\",ROUND((Balance!EH51/Balance!EH$60)*100,1)),\"-\")","v":"-"},{"$f":"IFERROR(IF(Balance!EI51=0,\"-\",ROUND((Balance!EI51/Balance!EI$60)*100,1)),\"-\")","v":"-"},{"$f":"IFERROR(IF(Balance!EJ51=0,\"-\",ROUND((Balance!EJ51/Balance!EJ$60)*100,1)),\"-\")","v":"-"},{"$f":"IFERROR(IF(Balance!EK51=0,\"-\",ROUND((Balance!EK51/Balance!EK$60)*100,1)),\"-\")","v":"-"},{"$f":"IFERROR(IF(Balance!EL51=0,\"-\",ROUND((Balance!EL51/Balance!EL$60)*100,1)),\"-\")","v":"-"},{"$f":"IFERROR(IF(Balance!EM51=0,\"-\",ROUND((Balance!EM51/Balance!EM$60)*100,1)),\"-\")","v":"-"},{"$f":"IFERROR(IF(Balance!EN51=0,\"-\",ROUND((Balance!EN51/Balance!EN$60)*100,1)),\"-\")","v":"-"},{"$f":"IFERROR(IF(Balance!EO51=0,\"-\",ROUND((Balance!EO51/Balance!EO$60)*100,1)),\"-\")","v":"-"},{"$f":"IFERROR(IF(Balance!EP51=0,\"-\",ROUND((Balance!EP51/Balance!EP$60)*100,1)),\"-\")","v":"-"},{"$f":"IFERROR(IF(Balance!EQ51=0,\"-\",ROUND((Balance!EQ51/Balance!EQ$60)*100,1)),\"-\")","v":"-"},{"$f":"IFERROR(IF(Balance!ER51=0,\"-\",ROUND((Balance!ER51/Balance!ER$60)*100,1)),\"-\")","v":"-"},{"$f":"IFERROR(IF(Balance!ES51=0,\"-\",ROUND((Balance!ES51/Balance!ES$60)*100,1)),\"-\")","v":"-"},{"$f":"IFERROR(IF(Balance!ET51=0,\"-\",ROUND((Balance!ET51/Balance!ET$60)*100,1)),\"-\")","v":"-"},{"$f":"IFERROR(IF(Balance!EU51=0,\"-\",ROUND((Balance!EU51/Balance!EU$60)*100,1)),\"-\")","v":"-"},{"$f":"IFERROR(IF(Balance!EV51=0,\"-\",ROUND((Balance!EV51/Balance!EV$60)*100,1)),\"-\")","v":"-"},{"$f":"IFERROR(IF(Balance!EW51=0,\"-\",ROUND((Balance!EW51/Balance!EW$60)*100,1)),\"-\")","v":"-"},{"$f":"IFERROR(IF(Balance!EX51=0,\"-\",ROUND((Balance!EX51/Balance!EX$60)*100,1)),\"-\")","v":"-"},{"$f":"IFERROR(IF(Balance!EY51=0,\"-\",ROUND((Balance!EY51/Balance!EY$60)*100,1)),\"-\")","v":"-"},{"$f":"IFERROR(IF(Balance!EZ51=0,\"-\",ROUND((Balance!EZ51/Balance!EZ$60)*100,1)),\"-\")","v":"-"},{"$f":"IFERROR(IF(Balance!FA51=0,\"-\",ROUND((Balance!FA51/Balance!FA$60)*100,1)),\"-\")","v":"-"},{"$f":"IFERROR(IF(Balance!FB51=0,\"-\",ROUND((Balance!FB51/Balance!FB$60)*100,1)),\"-\")","v":"-"}]
[null,"Hidroeólica",{"$f":"IF(Balance!C53=0,\"-\",ROUND((Balance!C53/Balance!C$60)*100,1))","v":"-"},{"$f":"IF(Balance!D53=0,\"-\",ROUND((Balance!D53/Balance!D$60)*100,1))","v":"-"},{"$f":"IF(Balance!E53=0,\"-\",ROUND((Balance!E53/Balance!E$60)*100,1))","v":"-"},{"$f":"IF(Balance!F53=0,\"-\",ROUND((Balance!F53/Balance!F$60)*100,1))","v":"-"},{"$f":"IF(Balance!G53=0,\"-\",ROUND((Balance!G53/Balance!G$60)*100,1))","v":"-"},{"$f":"IF(Balance!H53=0,\"-\",ROUND((Balance!H53/Balance!H$60)*100,1))","v":"-"},{"$f":"IF(Balance!I53=0,\"-\",ROUND((Balance!I53/Balance!I$60)*100,1))","v":"-"},{"$f":"IF(Balance!J53=0,\"-\",ROUND((Balance!J53/Balance!J$60)*100,1))","v":"-"},{"$f":"IF(Balance!K53=0,\"-\",ROUND((Balance!K53/Balance!K$60)*100,1))","v":"-"},{"$f":"IF(Balance!L53=0,\"-\",ROUND((Balance!L53/Balance!L$60)*100,1))","v":"-"},{"$f":"IF(Balance!M53=0,\"-\",ROUND((Balance!M53/Balance!M$60)*100,1))","v":"-"},{"$f":"IF(Balance!N53=0,\"-\",ROUND((Balance!N53/Balance!N$60)*100,1))","v":"-"},{"$f":"IF(Balance!O53=0,\"-\",ROUND((Balance!O53/Balance!O$60)*100,1))","v":"-"},{"$f":"IF(Balance!P53=0,\"-\",ROUND((Balance!P53/Balance!P$60)*100,1))","v":"-"},{"$f":"IF(Balance!Q53=0,\"-\",ROUND((Balance!Q53/Balance!Q$60)*100,1))","v":"-"},{"$f":"IF(Balance!R53=0,\"-\",ROUND((Balance!R53/Balance!R$60)*100,1))","v":"-"},{"$f":"IF(Balance!S53=0,\"-\",ROUND((Balance!S53/Balance!S$60)*100,1))","v":"-"},{"$f":"IF(Balance!T53=0,\"-\",ROUND((Balance!T53/Balance!T$60)*100,1))","v":"-"},{"$f":"IF(Balance!U53=0,\"-\",ROUND((Balance!U53/Balance!U$60)*100,1))","v":"-"},{"$f":"IF(Balance!V53=0,\"-\",ROUND((Balance!V53/Balance!V$60)*100,1))","v":"-"},{"$f":"IF(Balance!W53=0,\"-\",ROUND((Balance!W53/Balance!W$60)*100,1))","v":"-"},{"$f":"IF(Balance!X53=0,\"-\",ROUND((Balance!X53/Balance!X$60)*100,1))","v":"-"},{"$f":"IF(Balance!Y53=0,\"-\",ROUND((Balance!Y53/Balance!Y$60)*100,1))","v":"-"},{"$f":"IF(Balance!Z53=0,\"-\",ROUND((Balance!Z53/Balance!Z$60)*100,1))","v":"-"},{"$f":"IF(Balance!AA53=0,\"-\",ROUND((Balance!AA53/Balance!AA$60)*100,1))","v":"-"},{"$f":"IF(Balance!AB53=0,\"-\",ROUND((Balance!AB53/Balance!AB$60)*100,1))","v":"-"},{"$f":"IF(Balance!AC53=0,\"-\",ROUND((Balance!AC53/Balance!AC$60)*100,1))","v":"-"},{"$f":"IF(Balance!AD53=0,\"-\",ROUND((Balance!AD53/Balance!AD$60)*100,1))","v":"-"},{"$f":"IF(Balance!AE53=0,\"-\",ROUND((Balance!AE53/Balance!AE$60)*100,1))","v":"-"},{"$f":"IF(Balance!AF53=0,\"-\",ROUND((Balance!AF53/Balance!AF$60)*100,1))","v":"-"},{"$f":"IF(Balance!AG53=0,\"-\",ROUND((Balance!AG53/Balance!AG$60)*100,1))","v":"-"},{"$f":"IF(Balance!AH53=0,\"-\",ROUND((Balance!AH53/Balance!AH$60)*100,1))","v":"-"},{"$f":"IF(Balance!AI53=0,\"-\",ROUND((Balance!AI53/Balance!AI$60)*100,1))","v":"-"},{"$f":"IF(Balance!AJ53=0,\"-\",ROUND((Balance!AJ53/Balance!AJ$60)*100,1))","v":"-"},{"$f":"IF(Balance!AK53=0,\"-\",ROUND((Balance!AK53/Balance!AK$60)*100,1))","v":"-"},{"$f":"IF(Balance!AL53=0,\"-\",ROUND((Balance!AL53/Balance!AL$60)*100,1))","v":"-"},{"$f":"IF(Balance!AM53=0,\"-\",ROUND((Balance!AM53/Balance!AM$60)*100,1))","v":"-"},{"$f":"IF(Balance!AN53=0,\"-\",ROUND((Balance!AN53/Balance!AN$60)*100,1))","v":"-"},{"$f":"IF(Balance!AO53=0,\"-\",ROUND((Balance!AO53/Balance!AO$60)*100,1))","v":"-"},{"$f":"IF(Balance!AP53=0,\"-\",ROUND((Balance!AP53/Balance!AP$60)*100,1))","v":"-"},{"$f":"IF(Balance!AQ53=0,\"-\",ROUND((Balance!AQ53/Balance!AQ$60)*100,1))","v":"-"},{"$f":"IF(Balance!AR53=0,\"-\",ROUND((Balance!AR53/Balance!AR$60)*100,1))","v":"-"},{"$f":"IF(Balance!AS53=0,\"-\",ROUND((Balance!AS53/Balance!AS$60)*100,1))","v":"-"},{"$f":"IF(Balance!AT53=0,\"-\",ROUND((Balance!AT53/Balance!AT$60)*100,1))","v":"-"},{"$f":"IF(Balance!AU53=0,\"-\",ROUND((Balance!AU53/Balance!AU$60)*100,1))","v":"-"},{"$f":"IF(Balance!AV53=0,\"-\",ROUND((Balance!AV53/Balance!AV$60)*100,1))","v":"-"},{"$f":"IF(Balance!AW53=0,\"-\",ROUND((Balance!AW53/Balance!AW$60)*100,1))","v":"-"},{"$f":"IF(Balance!AX53=0,\"-\",ROUND((Balance!AX53/Balance!AX$60)*100,1))","v":"-"},{"$f":"IF(Balance!AY53=0,\"-\",ROUND((Balance!AY53/Balance!AY$60)*100,1))","v":"-"},{"$f":"IF(Balance!AZ53=0,\"-\",ROUND((Balance!AZ53/Balance!AZ$60)*100,1))","v":"-"},{"$f":"IF(Balance!BA53=0,\"-\",ROUND((Balance!BA53/Balance!BA$60)*100,1))","v":"-"},{"$f":"IF(Balance!BB53=0,\"-\",ROUND((Balance!BB53/Balance!BB$60)*100,1))","v":"-"},{"$f":"IF(Balance!BC53=0,\"-\",ROUND((Balance!BC53/Balance!BC$60)*100,1))","v":"-"},{"$f":"IF(Balance!BD53=0,\"-\",ROUND((Balance!BD53/Balance!BD$60)*100,1))","v":"-"},{"$f":"IF(Balance!BE53=0,\"-\",ROUND((Balance!BE53/Balance!BE$60)*100,1))","v":"-"},{"$f":"IF(Balance!BF53=0,\"-\",ROUND((Balance!BF53/Balance!BF$60)*100,1))","v":"-"},{"$f":"IF(Balance!BG53=0,\"-\",ROUND((Balance!BG53/Balance!BG$60)*100,1))","v":"-"},{"$f":"IF(Balance!BH53=0,\"-\",ROUND((Balance!BH53/Balance!BH$60)*100,1))","v":"-"},{"$f":"IF(Balance!BI53=0,\"-\",ROUND((Balance!BI53/Balance!BI$60)*100,1))","v":"-"},{"$f":"IF(Balance!BJ53=0,\"-\",ROUND((Balance!BJ53/Balance!BJ$60)*100,1))","v":"-"},{"$f":"IF(Balance!BK53=0,\"-\",ROUND((Balance!BK53/Balance!BK$60)*100,1))","v":"-"},{"$f":"IF(Balance!BL53=0,\"-\",ROUND((Balance!BL53/Balance!BL$60)*100,1))","v":"-"},{"$f":"IF(Balance!BM53=0,\"-\",ROUND((Balance!BM53/Balance!BM$60)*100,1))","v":"-"},{"$f":"IF(Balance!BN53=0,\"-\",ROUND((Balance!BN53/Balance!BN$60)*100,1))","v":"-"},{"$f":"IF(Balance!BO53=0,\"-\",ROUND((Balance!BO53/Balance!BO$60)*100,1))","v":"-"},{"$f":"IF(Balance!BP53=0,\"-\",ROUND((Balance!BP53/Balance!BP$60)*100,1))","v":"-"},{"$f":"IF(Balance!BQ53=0,\"-\",ROUND((Balance!BQ53/Balance!BQ$60)*100,1))","v":"-"},{"$f":"IF(Balance!BR53=0,\"-\",ROUND((Balance!BR53/Balance!BR$60)*100,1))","v":"-"},{"$f":"IF(Balance!BS53=0,\"-\",ROUND((Balance!BS53/Balance!BS$60)*100,1))","v":"-"},{"$f":"IF(Balance!BT53=0,\"-\",ROUND((Balance!BT53/Balance!BT$60)*100,1))","v":"-"},{"$f":"IF(Balance!BU53=0,\"-\",ROUND((Balance!BU53/Balance!BU$60)*100,1))","v":"-"},{"$f":"IF(Balance!BV53=0,\"-\",ROUND((Balance!BV53/Balance!BV$60)*100,1))","v":"-"},{"$f":"IF(Balance!BW53=0,\"-\",ROUND((Balance!BW53/Balance!BW$60)*100,1))","v":"-"},{"$f":"IF(Balance!BX53=0,\"-\",ROUND((Balance!BX53/Balance!BX$60)*100,1))","v":"-"},{"$f":"IF(Balance!BY53=0,\"-\",ROUND((Balance!BY53/Balance!BY$60)*100,1))","v":"-"},{"$f":"IF(Balance!BZ53=0,\"-\",ROUND((Balance!BZ53/Balance!BZ$60)*100,1))","v":"-"},{"$f":"IF(Balance!CA53=0,\"-\",ROUND((Balance!CA53/Balance!CA$60)*100,1))","v":"-"},{"$f":"IF(Balance!CB53=0,\"-\",ROUND((Balance!CB53/Balance!CB$60)*100,1))","v":"-"},{"$f":"IF(Balance!CC53=0,\"-\",ROUND((Balance!CC53/Balance!CC$60)*100,1))","v":"-"},{"$f":"IF(Balance!CD53=0,\"-\",ROUND((Balance!CD53/Balance!CD$60)*100,1))","v":"-"},{"$f":"IF(Balance!CE53=0,\"-\",ROUND((Balance!CE53/Balance!CE$60)*100,1))","v":"-"},{"$f":"IF(Balance!CF53=0,\"-\",ROUND((Balance!CF53/Balance!CF$60)*100,1))","v":"-"},{"$f":"IF(Balance!CG53=0,\"-\",ROUND((Balance!CG53/Balance!CG$60)*100,1))","v":"-"},{"$f":"IF(Balance!CH53=0,\"-\",ROUND((Balance!CH53/Balance!CH$60)*100,1))","v":"-"},{"$f":"IF(Balance!CI53=0,\"-\",ROUND((Balance!CI53/Balance!CI$60)*100,1))","v":"-"},{"$f":"IF(Balance!CJ53=0,\"-\",ROUND((Balance!CJ53/Balance!CJ$60)*100,1))","v":"-"},{"$f":"IF(Balance!CK53=0,\"-\",ROUND((Balance!CK53/Balance!CK$60)*100,1))","v":"-"},{"$f":"IF(Balance!CL53=0,\"-\",ROUND((Balance!CL53/Balance!CL$60)*100,1))","v":"-"},{"$f":"IF(Balance!CM53=0,\"-\",ROUND((Balance!CM53/Balance!CM$60)*100,1))","v":"-"},{"$f":"IF(Balance!CN53=0,\"-\",ROUND((Balance!CN53/Balance!CN$60)*100,1))","v":"-"},{"$f":"IF(Balance!CO53=0,\"-\",ROUND((Balance!CO53/Balance!CO$60)*100,1))","v":"-"},{"$f":"IF(Balance!CP53=0,\"-\",ROUND((Balance!CP53/Balance!CP$60)*100,1))","v":"-"},{"$f":"IF(Balance!CQ53=0,\"-\",ROUND((Balance!CQ53/Balance!CQ$60)*100,1))","v":"-"},{"$f":"IF(Balance!CR53=0,\"-\",ROUND((Balance!CR53/Balance!CR$60)*100,1))","v":"-"},{"$f":"IF(Balance!CS53=0,\"-\",ROUND((Balance!CS53/Balance!CS$60)*100,1))","v":"-"},{"$f":"IF(Balance!CT53=0,\"-\",ROUND((Balance!CT53/Balance!CT$60)*100,1))","v":"-"},{"$f":"IF(Balance!CU53=0,\"-\",ROUND((Balance!CU53/Balance!CU$60)*100,1))","v":"-"},{"$f":"IF(Balance!CV53=0,\"-\",ROUND((Balance!CV53/Balance!CV$60)*100,1))","v":"-"},{"$f":"IF(Balance!CW53=0,\"-\",ROUND((Balance!CW53/Balance!CW$60)*100,1))","v":"-"},{"$f":"IF(Balance!CX53=0,\"-\",ROUND((Balance!CX53/Balance!CX$60)*100,1))","v":"-"},{"$f":"IF(Balance!CY53=0,\"-\",ROUND((Balance!CY53/Balance!CY$60)*100,1))","v":"-"},{"$f":"IF(Balance!CZ53=0,\"-\",ROUND((Balance!CZ53/Balance!CZ$60)*100,1))","v":"-"},{"$f":"IF(Balance!DA53=0,\"-\",ROUND((Balance!DA53/Balance!DA$60)*100,1))","v":0},{"$f":"IF(Balance!DB53=0,\"-\",ROUND((Balance!DB53/Balance!DB$60)*100,1))","v":0},{"$f":"IF(Balance!DC53=0,\"-\",ROUND((Balance!DC53/Balance!DC$60)*100,1))","v":0},{"$f":"IF(Balance!DD53=0,\"-\",ROUND((Balance!DD53/Balance!DD$60)*100,1))","v":0},{"$f":"IF(Balance!DE53=0,\"-\",ROUND((Balance!DE53/Balance!DE$60)*100,1))","v":0},{"$f":"IF(Balance!DF53=0,\"-\",ROUND((Balance!DF53/Balance!DF$60)*100,1))","v":0},{"$f":"IF(Balance!DG53=0,\"-\",ROUND((Balance!DG53/Balance!DG$60)*100,1))","v":0.1},{"$f":"IF(Balance!DH53=0,\"-\",ROUND((Balance!DH53/Balance!DH$60)*100,1))","v":0.1},{"$f":"IF(Balance!DI53=0,\"-\",ROUND((Balance!DI53/Balance!DI$60)*100,1))","v":0},{"$f":"IF(Balance!DJ53=0,\"-\",ROUND((Balance!DJ53/Balance!DJ$60)*100,1))","v":0},{"$f":"IF(Balance!DK53=0,\"-\",ROUND((Balance!DK53/Balance!DK$60)*100,1))","v":0},{"$f":"IF(Balance!DL53=0,\"-\",ROUND((Balance!DL53/Balance!DL$60)*100,1))","v":0.1},{"$f":"IF(Balance!DM53=0,\"-\",ROUND((Balance!DM53/Balance!DM$60)*100,1))","v":0.3},{"$f":"IF(Balance!DN53=0,\"-\",ROUND((Balance!DN53/Balance!DN$60)*100,1))","v":0.3},{"$f":"IF(Balance!DO53=0,\"-\",ROUND((Balance!DO53/Balance!DO$60)*100,1))","v":0.1},{"$f":"IF(Balance!DP53=0,\"-\",ROUND((Balance!DP53/Balance!DP$60)*100,1))","v":0.1},{"$f":"IF(Balance!DQ53=0,\"-\",ROUND((Balance!DQ53/Balance!DQ$60)*100,1))","v":0.1},{"$f":"IF(Balance!DR53=0,\"-\",ROUND((Balance!DR53/Balance!DR$60)*100,1))","v":0.1},{"$f":"IF(Balance!DS53=0,\"-\",ROUND((Balance!DS53/Balance!DS$60)*100,1))","v":0.1},{"$f":"IF(Balance!DT53=0,\"-\",ROUND((Balance!DT53/Balance!DT$60)*100,1))","v":0.3},{"$f":"IF(Balance!DU53=0,\"-\",ROUND((Balance!DU53/Balance!DU$60)*100,1))","v":0.2},{"$f":"IF(Balance!DV53=0,\"-\",ROUND((Balance!DV53/Balance!DV$60)*100,1))","v":0.2},{"$f":"IF(Balance!DW53=0,\"-\",ROUND((Balance!DW53/Balance!DW$60)*100,1))","v":0.1},{"$f":"IF(Balance!DX53=0,\"-\",ROUND((Balance!DX53/Balance!DX$60)*100,1))","v":0.3},{"$f":"IF(Balance!DY53=0,\"-\",ROUND((Balance!DY53/Balance!DY$60)*100,1))","v":0.3},{"$f":"IF(Balance!DZ53=0,\"-\",ROUND((Balance!DZ53/Balance!DZ$60)*100,1))","v":0.3},{"$f":"IF(Balance!EA53=0,\"-\",ROUND((Balance!EA53/Balance!EA$60)*100,1))","v":0.3},{"$f":"IF(Balance!EB53=0,\"-\",ROUND((Balance!EB53/Balance!EB$60)*100,1))","v":0.1},{"$f":"IF(Balance!EC53=0,\"-\",ROUND((Balance!EC53/Balance!EC$60)*100,1))","v":0.1},{"$f":"IF(Balance!ED53=0,\"-\",ROUND((Balance!ED53/Balance!ED$60)*100,1))","v":0.1},{"$f":"IFERROR(IF(Balance!EE53=0,\"-\",ROUND((Balance!EE53/Balance!EE$60)*100,1)),\"-\")","v":0.1},{"$f":"IFERROR(IF(Balance!EF53=0,\"-\",ROUND((Balance!EF53/Balance!EF$60)*100,1)),\"-\")","v":0.2},{"$f":"IFERROR(IF(Balance!EG53=0,\"-\",ROUND((Balance!EG53/Balance!EG$60)*100,1)),\"-\")","v":0.3},{"$f":"IFERROR(IF(Balance!EH53=0,\"-\",ROUND((Balance!EH53/Balance!EH$60)*100,1)),\"-\")","v":0.1},{"$f":"IFERROR(IF(Balance!EI53=0,\"-\",ROUND((Balance!EI53/Balance!EI$60)*100,1)),\"-\")","v":0.2},{"$f":"IFERROR(IF(Balance!EJ53=0,\"-\",ROUND((Balance!EJ53/Balance!EJ$60)*100,1)),\"-\")","v":0.3},{"$f":"IFERROR(IF(Balance!EK53=0,\"-\",ROUND((Balance!EK53/Balance!EK$60)*100,1)),\"-\")","v":0.4},{"$f":"IFERROR(IF(Balance!EL53=0,\"-\",ROUND((Balance!EL53/Balance!EL$60)*100,1)),\"-\")","v":0.3},{"$f":"IFERROR(IF(Balance!EM53=0,\"-\",ROUND((Balance!EM53/Balance!EM$60)*100,1)),\"-\")","v":0.3},{"$f":"IFERROR(IF(Balance!EN53=0,\"-\",ROUND((Balance!EN53/Balance!EN$60)*100,1)),\"-\")","v":0.1},{"$f":"IFERROR(IF(Balance!EO53=0,\"-\",ROUND((Balance!EO53/Balance!EO$60)*100,1)),\"-\")","v":0.1},{"$f":"IFERROR(IF(Balance!EP53=0,\"-\",ROUND((Balance!EP53/Balance!EP$60)*100,1)),\"-\")","v":0.2},{"$f":"IFERROR(IF(Balance!EQ53=0,\"-\",ROUND((Balance!EQ53/Balance!EQ$60)*100,1)),\"-\")","v":0.3},{"$f":"IFERROR(IF(Balance!ER53=0,\"-\",ROUND((Balance!ER53/Balance!ER$60)*100,1)),\"-\")","v":"-"},{"$f":"IFERROR(IF(Balance!ES53=0,\"-\",ROUND((Balance!ES53/Balance!ES$60)*100,1)),\"-\")","v":"-"},{"$f":"IFERROR(IF(Balance!ET53=0,\"-\",ROUND((Balance!ET53/Balance!ET$60)*100,1)),\"-\")","v":"-"},{"$f":"IFERROR(IF(Balance!EU53=0,\"-\",ROUND((Balance!EU53/Balance!EU$60)*100,1)),\"-\")","v":"-"},{"$f":"IFERROR(IF(Balance!EV53=0,\"-\",ROUND((Balance!EV53/Balance!EV$60)*100,1)),\"-\")","v":"-"},{"$f":"IFERROR(IF(Balance!EW53=0,\"-\",ROUND((Balance!EW53/Balance!EW$60)*100,1)),\"-\")","v":"-"},{"$f":"IFERROR(IF(Balance!EX53=0,\"-\",ROUND((Balance!EX53/Balance!EX$60)*100,1)),\"-\")","v":"-"},{"$f":"IFERROR(IF(Balance!EY53=0,\"-\",ROUND((Balance!EY53/Balance!EY$60)*100,1)),\"-\")","v":"-"},{"$f":"IFERROR(IF(Balance!EZ53=0,\"-\",ROUND((Balance!EZ53/Balance!EZ$60)*100,1)),\"-\")","v":"-"},{"$f":"IFERROR(IF(Balance!FA53=0,\"-\",ROUND((Balance!FA53/Balance!FA$60)*100,1)),\"-\")","v":"-"},{"$f":"IFERROR(IF(Balance!FB53=0,\"-\",ROUND((Balance!FB53/Balance!FB$60)*100,1)),\"-\")","v":"-"}]
[null,"Eólica",{"$f":"IF(Balance!C55=0,\"-\",ROUND((Balance!C55/Balance!C$60)*100,1))","v":2.4},{"$f":"IF(Balance!D55=0,\"-\",ROUND((Balance!D55/Balance!D$60)*100,1))","v":2.9},{"$f":"IF(Balance!E55=0,\"-\",ROUND((Balance!E55/Balance!E$60)*100,1))","v":3.1},{"$f":"IF(Balance!F55=0,\"-\",ROUND((Balance!F55/Balance!F$60)*100,1))","v":4.0999999999999996},{"$f":"IF(Balance!G55=0,\"-\",ROUND((Balance!G55/Balance!G$60)*100,1))","v":4.9000000000000004},{"$f":"IF(Balance!H55=0,\"-\",ROUND((Balance!H55/Balance!H$60)*100,1))","v":3.6},{"$f":"IF(Balance!I55=0,\"-\",ROUND((Balance!I55/Balance!I$60)*100,1))","v":7.4},{"$f":"IF(Balance!J55=0,\"-\",ROUND((Balance!J55/Balance!J$60)*100,1))","v":4.9000000000000004},{"$f":"IF(Balance!K55=0,\"-\",ROUND((Balance!K55/Balance!K$60)*100,1))","v":2.9},{"$f":"IF(Balance!L55=0,\"-\",ROUND((Balance!L55/Balance!L$60)*100,1))","v":2.5},{"$f":"IF(Balance!M55=0,\"-\",ROUND((Balance!M55/Balance!M$60)*100,1))","v":2.1},{"$f":"IF(Balance!N55=0,\"-\",ROUND((Balance!N55/Balance!N$60)*100,1))","v":3.4},{"$f":"IF(Balance!O55=0,\"-\",ROUND((Balance!O55/Balance!O$60)*100,1))","v":2.2999999999999998},{"$f":"IF(Balance!P55=0,\"-\",ROUND((Balance!P55/Balance!P$60)*100,1))","v":3.3},{"$f":"IF(Balance!Q55=0,\"-\",ROUND((Balance!Q55/Balance!Q$60)*100,1))","v":4.8},{"$f":"IF(Balance!R55=0,\"-\",ROUND((Balance!R55/Balance!R$60)*100,1))","v":3.6},{"$f":"IF(Balance!S55=0,\"-\",ROUND((Balance!S55/Balance!S$60)*100,1))","v":4.5999999999999996},{"$f":"IF(Balance!T55=0,\"-\",ROUND((Balance!T55/Balance!T$60)*100,1))","v":4.3},{"$f":"IF(Balance!U55=0,\"-\",ROUND((Balance!U55/Balance!U$60)*100,1))","v":7.2},{"$f":"IF(Balance!V55=0,\"-\",ROUND((Balance!V55/Balance!V$60)*100,1))","v":6},{"$f":"IF(Balance!W55=0,\"-\",ROUND((Balance!W55/Balance!W$60)*100,1))","v":3.4},{"$f":"IF(Balance!X55=0,\"-\",ROUND((Balance!X55/Balance!X$60)*100,1))","v":2.4},{"$f":"IF(Balance!Y55=0,\"-\",ROUND((Balance!Y55/Balance!Y$60)*100,1))","v":2.1},{"$f":"IF(Balance!Z55=0,\"-\",ROUND((Balance!Z55/Balance!Z$60)*100,1))","v":2.4},{"$f":"IF(Balance!AA55=0,\"-\",ROUND((Balance!AA55/Balance!AA$60)*100,1))","v":1.6},{"$f":"IF(Balance!AB55=0,\"-\",ROUND((Balance!AB55/Balance!AB$60)*100,1))","v":2.2000000000000002},{"$f":"IF(Balance!AC55=0,\"-\",ROUND((Balance!AC55/Balance!AC$60)*100,1))","v":5.0999999999999996},{"$f":"IF(Balance!AD55=0,\"-\",ROUND((Balance!AD55/Balance!AD$60)*100,1))","v":4.7},{"$f":"IF(Balance!AE55=0,\"-\",ROUND((Balance!AE55/Balance!AE$60)*100,1))","v":4.0999999999999996},{"$f":"IF(Balance!AF55=0,\"-\",ROUND((Balance!AF55/Balance!AF$60)*100,1))","v":5.3},{"$f":"IF(Balance!AG55=0,\"-\",ROUND((Balance!AG55/Balance!AG$60)*100,1))","v":7.5},{"$f":"IF(Balance!AH55=0,\"-\",ROUND((Balance!AH55/Balance!AH$60)*100,1))","v":7.5},{"$f":"IF(Balance!AI55=0,\"-\",ROUND((Balance!AI55/Balance!AI$60)*100,1))","v":2.2000000000000002},{"$f":"IF(Balance!AJ55=0,\"-\",ROUND((Balance!AJ55/Balance!AJ$60)*100,1))","v":4.3},{"$f":"IF(Balance!AK55=0,\"-\",ROUND((Balance!AK55/Balance!AK$60)*100,1))","v":2.9},{"$f":"IF(Balance!AL55=0,\"-\",ROUND((Balance!AL55/Balance!AL$60)*100,1))","v":3.2},{"$f":"IF(Balance!AM55=0,\"-\",ROUND((Balance!AM55/Balance!AM$60)*100,1))","v":3.1},{"$f":"IF(Balance!AN55=0,\"-\",ROUND((Balance!AN55/Balance!AN$60)*100,1))","v":2.5},{"$f":"IF(Balance!AO55=0,\"-\",ROUND((Balance!AO55/Balance!AO$60)*100,1))","v":3.2},{"$f":"IF(Balance!AP55=0,\"-\",ROUND((Balance!AP55/Balance!AP$60)*100,1))","v":6.5},{"$f":"IF(Balance!AQ55=0,\"-\",ROUND((Balance!AQ55/Balance!AQ$60)*100,1))","v":4.4000000000000004},{"$f":"IF(Balance!AR55=0,\"-\",ROUND((Balance!AR55/Balance!AR$60)*100,1))","v":2.8},{"$f":"IF(Balance!AS55=0,\"-\",ROUND((Balance!AS55/Balance!AS$60)*100,1))","v":6.9},{"$f":"IF(Balance!AT55=0,\"-\",ROUND((Balance!AT55/Balance!AT$60)*100,1))","v":7.1},{"$f":"IF(Balance!AU55=0,\"-\",ROUND((Balance!AU55/Balance!AU$60)*100,1))","v":3},{"$f":"IF(Balance!AV55=0,\"-\",ROUND((Balance!AV55/Balance!AV$60)*100,1))","v":1.6},{"$f":"IF(Balance!AW55=0,\"-\",ROUND((Balance!AW55/Balance!AW$60)*100,1))","v":3.3},{"$f":"IF(Balance!AX55=0,\"-\",ROUND((Balance!AX55/Balance!AX$60)*100,1))","v":2.7},{"$f":"IF(Balance!AY55=0,\"-\",ROUND((Balance!AY55/Balance!AY$60)*100,1))","v":1.6},{"$f":"IF(Balance!AZ55=0,\"-\",ROUND((Balance!AZ55/Balance!AZ$60)*100,1))","v":2.2000000000000002},{"$f":"IF(Balance!BA55=0,\"-\",ROUND((Balance!BA55/Balance!BA$60)*100,1))","v":3.1},{"$f":"IF(Balance!BB55=0,\"-\",ROUND((Balance!BB55/Balance!BB$60)*100,1))","v":4.5},{"$f":"IF(Balance!BC55=0,\"-\",ROUND((Balance!BC55/Balance!BC$60)*100,1))","v":5},{"$f":"IF(Balance!BD55=0,\"-\",ROUND((Balance!BD55/Balance!BD$60)*100,1))","v":5.4},{"$f":"IF(Balance!BE55=0,\"-\",ROUND((Balance!BE55/Balance!BE$60)*100,1))","v":6.3},{"$f":"IF(Balance!BF55=0,\"-\",ROUND((Balance!BF55/Balance!BF$60)*100,1))","v":5.4},{"$f":"IF(Balance!BG55=0,\"-\",ROUND((Balance!BG55/Balance!BG$60)*100,1))","v":4.7},{"$f":"IF(Balance!BH55=0,\"-\",ROUND((Balance!BH55/Balance!BH$60)*100,1))","v":1.8},{"$f":"IF(Balance!BI55=0,\"-\",ROUND((Balance!BI55/Balance!BI$60)*100,1))","v":2.4},{"$f":"IF(Balance!BJ55=0,\"-\",ROUND((Balance!BJ55/Balance!BJ$60)*100,1))","v":2.2000000000000002},{"$f":"IF(Balance!BK55=0,\"-\",ROUND((Balance!BK55/Balance!BK$60)*100,1))","v":1.5},{"$f":"IF(Balance!BL55=0,\"-\",ROUND((Balance!BL55/Balance!BL$60)*100,1))","v":3.6},{"$f":"IF(Balance!BM55=0,\"-\",ROUND((Balance!BM55/Balance!BM$60)*100,1))","v":3.1},{"$f":"IF(Balance!BN55=0,\"-\",ROUND((Balance!BN55/Balance!BN$60)*100,1))","v":3.4},{"$f":"IF(Balance!BO55=0,\"-\",ROUND((Balance!BO55/Balance!BO$60)*100,1))","v":2.7},{"$f":"IF(Balance!BP55=0,\"-\",ROUND((Balance!BP55/Balance!BP$60)*100,1))","v":5.2},{"$f":"IF(Balance!BQ55=0,\"-\",ROUND((Balance!BQ55/Balance!BQ$60)*100,1))","v":7.3},{"$f":"IF(Balance!BR55=0,\"-\",ROUND((Balance!BR55/Balance!BR$60)*100,1))","v":6.7},{"$f":"IF(Balance!BS55=0,\"-\",ROUND((Balance!BS55/Balance!BS$60)*100,1))","v":4.0999999999999996},{"$f":"IF(Balance!BT55=0,\"-\",ROUND((Balance!BT55/Balance!BT$60)*100,1))","v":3.3},{"$f":"IF(Balance!BU55=0,\"-\",ROUND((Balance!BU55/Balance!BU$60)*100,1))","v":2.1},{"$f":"IF(Balance!BV55=0,\"-\",ROUND((Balance!BV55/Balance!BV$60)*100,1))","v":4.5},{"$f":"IF(Balance!BW55=0,\"-\",ROUND((Balance!BW55/Balance!BW$60)*100,1))","v":2.5},{"$f":"IF(Balance!BX55=0,\"-\",ROUND((Balance!BX55/Balance!BX$60)*100,1))","v":4.8},{"$f":"IF(Balance!BY55=0,\"-\",ROUND((Balance!BY55/Balance!BY$60)*100,1))","v":4.5},{"$f":"IF(Balance!BZ55=0,\"-\",ROUND((Balance!BZ55/Balance!BZ$60)*100,1))","v":4.3},{"$f":"IF(Balance!CA55=0,\"-\",ROUND((Balance!CA55/Balance!CA$60)*100,1))","v":3.7},{"$f":"IF(Balance!CB55=0,\"-\",ROUND((Balance!CB55/Balance!CB$60)*100,1))","v":6.1},{"$f":"IF(Balance!CC55=0,\"-\",ROUND((Balance!CC55/Balance!CC$60)*100,1))","v":7.5},{"$f":"IF(Balance!CD55=0,\"-\",ROUND((Balance!CD55/Balance!CD$60)*100,1))","v":6.9},{"$f":"IF(Balance!CE55=0,\"-\",ROUND((Balance!CE55/Balance!CE$60)*100,1))","v":1.7},{"$f":"IF(Balance!CF55=0,\"-\",ROUND((Balance!CF55/Balance!CF$60)*100,1))","v":2.2000000000000002},{"$f":"IF(Balance!CG55=0,\"-\",ROUND((Balance!CG55/Balance!CG$60)*100,1))","v":2.2999999999999998},{"$f":"IF(Balance!CH55=0,\"-\",ROUND((Balance!CH55/Balance!CH$60)*100,1))","v":2.1},{"$f":"IF(Balance!CI55=0,\"-\",ROUND((Balance!CI55/Balance!CI$60)*100,1))","v":3.4},{"$f":"IF(Balance!CJ55=0,\"-\",ROUND((Balance!CJ55/Balance!CJ$60)*100,1))","v":4.3},{"$f":"IF(Balance!CK55=0,\"-\",ROUND((Balance!CK55/Balance!CK$60)*100,1))","v":1.9},{"$f":"IF(Balance!CL55=0,\"-\",ROUND((Balance!CL55/Balance!CL$60)*100,1))","v":4},{"$f":"IF(Balance!CM55=0,\"-\",ROUND((Balance!CM55/Balance!CM$60)*100,1))","v":5.4},{"$f":"IF(Balance!CN55=0,\"-\",ROUND((Balance!CN55/Balance!CN$60)*100,1))","v":7.1},{"$f":"IF(Balance!CO55=0,\"-\",ROUND((Balance!CO55/Balance!CO$60)*100,1))","v":5.5},{"$f":"IF(Balance!CP55=0,\"-\",ROUND((Balance!CP55/Balance!CP$60)*100,1))","v":5.5},{"$f":"IF(Balance!CQ55=0,\"-\",ROUND((Balance!CQ55/Balance!CQ$60)*100,1))","v":3.4},{"$f":"IF(Balance!CR55=0,\"-\",ROUND((Balance!CR55/Balance!CR$60)*100,1))","v":3.2},{"$f":"IF(Balance!CS55=0,\"-\",ROUND((Balance!CS55/Balance!CS$60)*100,1))","v":3.9},{"$f":"IF(Balance!CT55=0,\"-\",ROUND((Balance!CT55/Balance!CT$60)*100,1))","v":3.1},{"$f":"IF(Balance!CU55=0,\"-\",ROUND((Balance!CU55/Balance!CU$60)*100,1))","v":4.0999999999999996},{"$f":"IF(Balance!CV55=0,\"-\",ROUND((Balance!CV55/Balance!CV$60)*100,1))","v":5},{"$f":"IF(Balance!CW55=0,\"-\",ROUND((Balance!CW55/Balance!CW$60)*100,1))","v":6.5},{"$f":"IF(Balance!CX55=0,\"-\",ROUND((Balance!CX55/Balance!CX$60)*100,1))","v":4.0999999999999996},{"$f":"IF(Balance!CY55=0,\"-\",ROUND((Balance!CY55/Balance!CY$60)*100,1))","v":6.1},{"$f":"IF(Balance!CZ55=0,\"-\",ROUND((Balance!CZ55/Balance!CZ$60)*100,1))","v":5.0999999999999996},{"$f":"IF(Balance!DA55=0,\"-\",ROUND((Balance!DA55/Balance!DA$60)*100,1))","v":6.2},{"$f":"IF(Balance!DB55=0,\"-\",ROUND((Balance!DB55/Balance!DB$60)*100,1))","v":7.9},{"$f":"IF(Balance!DC55=0,\"-\",ROUND((Balance!DC55/Balance!DC$60)*100,1))","v":1.7},{"$f":"IF(Balance!DD55=0,\"-\",ROUND((Balance!DD55/Balance!DD$60)*100,1))","v":2.1},{"$f":"IF(Balance!DE55=0,\"-\",ROUND((Balance!DE55/Balance!DE$60)*100,1))","v":2.9},{"$f":"IF(Balance!DF55=0,\"-\",ROUND((Balance!DF55/Balance!DF$60)*100,1))","v":3.3},{"$f":"IF(Balance!DG55=0,\"-\",ROUND((Balance!DG55/Balance!DG$60)*100,1))","v":5.7},{"$f":"IF(Balance!DH55=0,\"-\",ROUND((Balance!DH55/Balance!DH$60)*100,1))","v":6.6},{"$f":"IF(Balance!DI55=0,\"-\",ROUND((Balance!DI55/Balance!DI$60)*100,1))","v":5.8},{"$f":"IF(Balance!DJ55=0,\"-\",ROUND((Balance!DJ55/Balance!DJ$60)*100,1))","v":4.3},{"$f":"IF(Balance!DK55=0,\"-\",ROUND((Balance!DK55/Balance!DK$60)*100,1))","v":5.7},{"$f":"IF(Balance!DL55=0,\"-\",ROUND((Balance!DL55/Balance!DL$60)*100,1))","v":4.4000000000000004},{"$f":"IF(Balance!DM55=0,\"-\",ROUND((Balance!DM55/Balance!DM$60)*100,1))","v":7.8},{"$f":"IF(Balance!DN55=0,\"-\",ROUND((Balance!DN55/Balance!DN$60)*100,1))","v":6.5},{"$f":"IF(Balance!DO55=0,\"-\",ROUND((Balance!DO55/Balance!DO$60)*100,1))","v":2.2999999999999998},{"$f":"IF(Balance!DP55=0,\"-\",ROUND((Balance!DP55/Balance!DP$60)*100,1))","v":1.4},{"$f":"IF(Balance!DQ55=0,\"-\",ROUND((Balance!DQ55/Balance!DQ$60)*100,1))","v":3.4},{"$f":"IF(Balance!DR55=0,\"-\",ROUND((Balance!DR55/Balance!DR$60)*100,1))","v":1.2},{"$f":"IF(Balance!DS55=0,\"-\",ROUND((Balance!DS55/Balance!DS$60)*100,1))","v":2.6},{"$f":"IF(Balance!DT55=0,\"-\",ROUND((Balance!DT55/Balance!DT$60)*100,1))","v":6},{"$f":"IF(Balance!DU55=0,\"-\",ROUND((Balance!DU55/Balance!DU$60)*100,1))","v":4.7},{"$f":"IF(Balance!DV55=0,\"-\",ROUND((Balance!DV55/Balance!DV$60)*100,1))","v":3.8},{"$f":"IF(Balance!DW55=0,\"-\",ROUND((Balance!DW55/Balance!DW$60)*100,1))","v":4.3},{"$f":"IF(Balance!DX55=0,\"-\",ROUND((Balance!DX55/Balance!DX$60)*100,1))","v":6.2},{"$f":"IF(Balance!DY55=0,\"-\",ROUND((Balance!DY55/Balance!DY$60)*100,1))","v":7.4},{"$f":"IF(Balance!DZ55=0,\"-\",ROUND((Balance!DZ55/Balance!DZ$60)*100,1))","v":6.1},{"$f":"IF(Balance!EA55=0,\"-\",ROUND((Balance!EA55/Balance!EA$60)*100,1))","v":6.2},{"$f":"IF(Balance!EB55=0,\"-\",ROUND((Balance!EB55/Balance!EB$60)*100,1))","v":1.7},{"$f":"IF(Balance!EC55=0,\"-\",ROUND((Balance!EC55/Balance!EC$60)*100,1))","v":2.4},{"$f":"IF(Balance!ED55=0,\"-\",ROUND((Balance!ED55/Balance!ED$60)*100,1))","v":2.1},{"$f":"IFERROR(IF(Balance!EE55=0,\"-\",ROUND((Balance!EE55/Balance!EE$60)*100,1)),\"-\")","v":2},{"$f":"IFERROR(IF(Balance!EF55=0,\"-\",ROUND((Balance!EF55/Balance!EF$60)*100,1)),\"-\")","v":3.4},{"$f":"IFERROR(IF(Balance!EG55=0,\"-\",ROUND((Balance!EG55/Balance!EG$60)*100,1)),\"-\")","v":4.9000000000000004},{"$f":"IFERROR(IF(Balance!EH55=0,\"-\",ROUND((Balance!EH55/Balance!EH$60)*100,1)),\"-\")","v":2.6},{"$f":"IFERROR(IF(Balance!EI55=0,\"-\",ROUND((Balance!EI55/Balance!EI$60)*100,1)),\"-\")","v":3.5},{"$f":"IFERROR(IF(Balance!EJ55=0,\"-\",ROUND((Balance!EJ55/Balance!EJ$60)*100,1)),\"-\")","v":5.5},{"$f":"IFERROR(IF(Balance!EK55=0,\"-\",ROUND((Balance!EK55/Balance!EK$60)*100,1)),\"-\")","v":6.5},{"$f":"IFERROR(IF(Balance!EL55=0,\"-\",ROUND((Balance!EL55/Balance!EL$60)*100,1)),\"-\")","v":5.9},{"$f":"IFERROR(IF(Balance!EM55=0,\"-\",ROUND((Balance!EM55/Balance!EM$60)*100,1)),\"-\")","v":7.2},{"$f":"IFERROR(IF(Balance!EN55=0,\"-\",ROUND((Balance!EN55/Balance!EN$60)*100,1)),\"-\")","v":2.7},{"$f":"IFERROR(IF(Balance!EO55=0,\"-\",ROUND((Balance!EO55/Balance!EO$60)*100,1)),\"-\")","v":3.2},{"$f":"IFERROR(IF(Balance!EP55=0,\"-\",ROUND((Balance!EP55/Balance!EP$60)*100,1)),\"-\")","v":5.3},{"$f":"IFERROR(IF(Balance!EQ55=0,\"-\",ROUND((Balance!EQ55/Balance!EQ$60)*100,1)),\"-\")","v":8},{"$f":"IFERROR(IF(Balance!ER55=0,\"-\",ROUND((Balance!ER55/Balance!ER$60)*100,1)),\"-\")","v":"-"},{"$f":"IFERROR(IF(Balance!ES55=0,\"-\",ROUND((Balance!ES55/Balance!ES$60)*100,1)),\"-\")","v":"-"},{"$f":"IFERROR(IF(Balance!ET55=0,\"-\",ROUND((Balance!ET55/Balance!ET$60)*100,1)),\"-\")","v":"-"},{"$f":"IFERROR(IF(Balance!EU55=0,\"-\",ROUND((Balance!EU55/Balance!EU$60)*100,1)),\"-\")","v":"-"},{"$f":"IFERROR(IF(Balance!EV55=0,\"-\",ROUND((Balance!EV55/Balance!EV$60)*100,1)),\"-\")","v":"-"},{"$f":"IFERROR(IF(Balance!EW55=0,\"-\",ROUND((Balance!EW55/Balance!EW$60)*100,1)),\"-\")","v":"-"},{"$f":"IFERROR(IF(Balance!EX55=0,\"-\",ROUND((Balance!EX55/Balance!EX$60)*100,1)),\"-\")","v":"-"},{"$f":"IFERROR(IF(Balance!EY55=0,\"-\",ROUND((Balance!EY55/Balance!EY$60)*100,1)),\"-\")","v":"-"},{"$f":"IFERROR(IF(Balance!EZ55=0,\"-\",ROUND((Balance!EZ55/Balance!EZ$60)*100,1)),\"-\")","v":"-"},{"$f":"IFERROR(IF(Balance!FA55=0,\"-\",ROUND((Balance!FA55/Balance!FA$60)*100,1)),\"-\")","v":"-"},{"$f":"IFERROR(IF(Balance!FB55=0,\"-\",ROUND((Balance!FB55/Balance!FB$60)*100,1)),\"-\")","v":"-"}]
[null,"Solar fotovoltaica",{"$f":"IF(Balance!C56=0,\"-\",ROUND((Balance!C56/Balance!C$60)*100,1))","v":0},{"$f":"IF(Balance!D56=0,\"-\",ROUND((Balance!D56/Balance!D$60)*100,1))","v":0},{"$f":"IF(Balance!E56=0,\"-\",ROUND((Balance!E56/Balance!E$60)*100,1))","v":0},{"$f":"IF(Balance!F56=0,\"-\",ROUND((Balance!F56/Balance!F$60)*100,1))","v":0},{"$f":"IF(Balance!G56=0,\"-\",ROUND((Balance!G56/Balance!G$60)*100,1))","v":0},{"$f":"IF(Balance!H56=0,\"-\",ROUND((Balance!H56/Balance!H$60)*100,1))","v":0},{"$f":"IF(Balance!I56=0,\"-\",ROUND((Balance!I56/Balance!I$60)*100,1))","v":0},{"$f":"IF(Balance!J56=0,\"-\",ROUND((Balance!J56/Balance!J$60)*100,1))","v":0.1},{"$f":"IF(Balance!K56=0,\"-\",ROUND((Balance!K56/Balance!K$60)*100,1))","v":0.1},{"$f":"IF(Balance!L56=0,\"-\",ROUND((Balance!L56/Balance!L$60)*100,1))","v":0.1},{"$f":"IF(Balance!M56=0,\"-\",ROUND((Balance!M56/Balance!M$60)*100,1))","v":0.1},{"$f":"IF(Balance!N56=0,\"-\",ROUND((Balance!N56/Balance!N$60)*100,1))","v":0.1},{"$f":"IF(Balance!O56=0,\"-\",ROUND((Balance!O56/Balance!O$60)*100,1))","v":0.1},{"$f":"IF(Balance!P56=0,\"-\",ROUND((Balance!P56/Balance!P$60)*100,1))","v":0.1},{"$f":"IF(Balance!Q56=0,\"-\",ROUND((Balance!Q56/Balance!Q$60)*100,1))","v":0.2},{"$f":"IF(Balance!R56=0,\"-\",ROUND((Balance!R56/Balance!R$60)*100,1))","v":0.2},{"$f":"IF(Balance!S56=0,\"-\",ROUND((Balance!S56/Balance!S$60)*100,1))","v":0.2},{"$f":"IF(Balance!T56=0,\"-\",ROUND((Balance!T56/Balance!T$60)*100,1))","v":0.2},{"$f":"IF(Balance!U56=0,\"-\",ROUND((Balance!U56/Balance!U$60)*100,1))","v":0.3},{"$f":"IF(Balance!V56=0,\"-\",ROUND((Balance!V56/Balance!V$60)*100,1))","v":0.3},{"$f":"IF(Balance!W56=0,\"-\",ROUND((Balance!W56/Balance!W$60)*100,1))","v":0.3},{"$f":"IF(Balance!X56=0,\"-\",ROUND((Balance!X56/Balance!X$60)*100,1))","v":0.2},{"$f":"IF(Balance!Y56=0,\"-\",ROUND((Balance!Y56/Balance!Y$60)*100,1))","v":0.2},{"$f":"IF(Balance!Z56=0,\"-\",ROUND((Balance!Z56/Balance!Z$60)*100,1))","v":0.2},{"$f":"IF(Balance!AA56=0,\"-\",ROUND((Balance!AA56/Balance!AA$60)*100,1))","v":0.3},{"$f":"IF(Balance!AB56=0,\"-\",ROUND((Balance!AB56/Balance!AB$60)*100,1))","v":0.4},{"$f":"IF(Balance!AC56=0,\"-\",ROUND((Balance!AC56/Balance!AC$60)*100,1))","v":0.5},{"$f":"IF(Balance!AD56=0,\"-\",ROUND((Balance!AD56/Balance!AD$60)*100,1))","v":0.5},{"$f":"IF(Balance!AE56=0,\"-\",ROUND((Balance!AE56/Balance!AE$60)*100,1))","v":0.6},{"$f":"IF(Balance!AF56=0,\"-\",ROUND((Balance!AF56/Balance!AF$60)*100,1))","v":0.7},{"$f":"IF(Balance!AG56=0,\"-\",ROUND((Balance!AG56/Balance!AG$60)*100,1))","v":0.7},{"$f":"IF(Balance!AH56=0,\"-\",ROUND((Balance!AH56/Balance!AH$60)*100,1))","v":0.7},{"$f":"IF(Balance!AI56=0,\"-\",ROUND((Balance!AI56/Balance!AI$60)*100,1))","v":0.8},{"$f":"IF(Balance!AJ56=0,\"-\",ROUND((Balance!AJ56/Balance!AJ$60)*100,1))","v":1.2},{"$f":"IF(Balance!AK56=0,\"-\",ROUND((Balance!AK56/Balance!AK$60)*100,1))","v":1},{"$f":"IF(Balance!AL56=0,\"-\",ROUND((Balance!AL56/Balance!AL$60)*100,1))","v":0.9},{"$f":"IF(Balance!AM56=0,\"-\",ROUND((Balance!AM56/Balance!AM$60)*100,1))","v":1.1000000000000001},{"$f":"IF(Balance!AN56=0,\"-\",ROUND((Balance!AN56/Balance!AN$60)*100,1))","v":1.6},{"$f":"IF(Balance!AO56=0,\"-\",ROUND((Balance!AO56/Balance!AO$60)*100,1))","v":1.7},{"$f":"IF(Balance!AP56=0,\"-\",ROUND((Balance!AP56/Balance!AP$60)*100,1))","v":2.2999999999999998},{"$f":"IF(Balance!AQ56=0,\"-\",ROUND((Balance!AQ56/Balance!AQ$60)*100,1))","v":2.2000000000000002},{"$f":"IF(Balance!AR56=0,\"-\",ROUND((Balance!AR56/Balance!AR$60)*100,1))","v":2.2000000000000002},{"$f":"IF(Balance!AS56=0,\"-\",ROUND((Balance!AS56/Balance!AS$60)*100,1))","v":2.2000000000000002},{"$f":"IF(Balance!AT56=0,\"-\",ROUND((Balance!AT56/Balance!AT$60)*100,1))","v":2.2000000000000002},{"$f":"IF(Balance!AU56=0,\"-\",ROUND((Balance!AU56/Balance!AU$60)*100,1))","v":1.6},{"$f":"IF(Balance!AV56=0,\"-\",ROUND((Balance!AV56/Balance!AV$60)*100,1))","v":1.7},{"$f":"IF(Balance!AW56=0,\"-\",ROUND((Balance!AW56/Balance!AW$60)*100,1))","v":1.5},{"$f":"IF(Balance!AX56=0,\"-\",ROUND((Balance!AX56/Balance!AX$60)*100,1))","v":1.2},{"$f":"IF(Balance!AY56=0,\"-\",ROUND((Balance!AY56/Balance!AY$60)*100,1))","v":1.4},{"$f":"IF(Balance!AZ56=0,\"-\",ROUND((Balance!AZ56/Balance!AZ$60)*100,1))","v":1.5},{"$f":"IF(Balance!BA56=0,\"-\",ROUND((Balance!BA56/Balance!BA$60)*100,1))","v":2.2000000000000002},{"$f":"IF(Balance!BB56=0,\"-\",ROUND((Balance!BB56/Balance!BB$60)*100,1))","v":2.2999999999999998},{"$f":"IF(Balance!BC56=0,\"-\",ROUND((Balance!BC56/Balance!BC$60)*100,1))","v":2.7},{"$f":"IF(Balance!BD56=0,\"-\",ROUND((Balance!BD56/Balance!BD$60)*100,1))","v":2.7},{"$f":"IF(Balance!BE56=0,\"-\",ROUND((Balance!BE56/Balance!BE$60)*100,1))","v":3},{"$f":"IF(Balance!BF56=0,\"-\",ROUND((Balance!BF56/Balance!BF$60)*100,1))","v":2.8},{"$f":"IF(Balance!BG56=0,\"-\",ROUND((Balance!BG56/Balance!BG$60)*100,1))","v":2.2999999999999998},{"$f":"IF(Balance!BH56=0,\"-\",ROUND((Balance!BH56/Balance!BH$60)*100,1))","v":2.1},{"$f":"IF(Balance!BI56=0,\"-\",ROUND((Balance!BI56/Balance!BI$60)*100,1))","v":1.7},{"$f":"IF(Balance!BJ56=0,\"-\",ROUND((Balance!BJ56/Balance!BJ$60)*100,1))","v":1.7},{"$f":"IF(Balance!BK56=0,\"-\",ROUND((Balance!BK56/Balance!BK$60)*100,1))","v":2},{"$f":"IF(Balance!BL56=0,\"-\",ROUND((Balance!BL56/Balance!BL$60)*100,1))","v":2.5},{"$f":"IF(Balance!BM56=0,\"-\",ROUND((Balance!BM56/Balance!BM$60)*100,1))","v":2.7},{"$f":"IF(Balance!BN56=0,\"-\",ROUND((Balance!BN56/Balance!BN$60)*100,1))","v":2.8},{"$f":"IF(Balance!BO56=0,\"-\",ROUND((Balance!BO56/Balance!BO$60)*100,1))","v":2.9},{"$f":"IF(Balance!BP56=0,\"-\",ROUND((Balance!BP56/Balance!BP$60)*100,1))","v":3.2},{"$f":"IF(Balance!BQ56=0,\"-\",ROUND((Balance!BQ56/Balance!BQ$60)*100,1))","v":3.1},{"$f":"IF(Balance!BR56=0,\"-\",ROUND((Balance!BR56/Balance!BR$60)*100,1))","v":3.2},{"$f":"IF(Balance!BS56=0,\"-\",ROUND((Balance!BS56/Balance!BS$60)*100,1))","v":2.7},{"$f":"IF(Balance!BT56=0,\"-\",ROUND((Balance!BT56/Balance!BT$60)*100,1))","v":2.2999999999999998},{"$f":"IF(Balance!BU56=0,\"-\",ROUND((Balance!BU56/Balance!BU$60)*100,1))","v":2},{"$f":"IF(Balance!BV56=0,\"-\",ROUND((Balance!BV56/Balance!BV$60)*100,1))","v":2},{"$f":"IF(Balance!BW56=0,\"-\",ROUND((Balance!BW56/Balance!BW$60)*100,1))","v":2.1},{"$f":"IF(Balance!BX56=0,\"-\",ROUND((Balance!BX56/Balance!BX$60)*100,1))","v":2.5},{"$f":"IF(Balance!BY56=0,\"-\",ROUND((Balance!BY56/Balance!BY$60)*100,1))","v":3.1},{"$f":"IF(Balance!BZ56=0,\"-\",ROUND((Balance!BZ56/Balance!BZ$60)*100,1))","v":3},{"$f":"IF(Balance!CA56=0,\"-\",ROUND((Balance!CA56/Balance!CA$60)*100,1))","v":3.5},{"$f":"IF(Balance!CB56=0,\"-\",ROUND((Balance!CB56/Balance!CB$60)*100,1))","v":3.4},{"$f":"IF(Balance!CC56=0,\"-\",ROUND((Balance!CC56/Balance!CC$60)*100,1))","v":3.4},{"$f":"IF(Balance!CD56=0,\"-\",ROUND((Balance!CD56/Balance!CD$60)*100,1))","v":3.3},{"$f":"IF(Balance!CE56=0,\"-\",ROUND((Balance!CE56/Balance!CE$60)*100,1))","v":3},{"$f":"IF(Balance!CF56=0,\"-\",ROUND((Balance!CF56/Balance!CF$60)*100,1))","v":2.5},{"$f":"IF(Balance!CG56=0,\"-\",ROUND((Balance!CG56/Balance!CG$60)*100,1))","v":2.2000000000000002},{"$f":"IF(Balance!CH56=0,\"-\",ROUND((Balance!CH56/Balance!CH$60)*100,1))","v":2.5},{"$f":"IF(Balance!CI56=0,\"-\",ROUND((Balance!CI56/Balance!CI$60)*100,1))","v":2.8},{"$f":"IF(Balance!CJ56=0,\"-\",ROUND((Balance!CJ56/Balance!CJ$60)*100,1))","v":2.9},{"$f":"IF(Balance!CK56=0,\"-\",ROUND((Balance!CK56/Balance!CK$60)*100,1))","v":3.3},{"$f":"IF(Balance!CL56=0,\"-\",ROUND((Balance!CL56/Balance!CL$60)*100,1))","v":3.9},{"$f":"IF(Balance!CM56=0,\"-\",ROUND((Balance!CM56/Balance!CM$60)*100,1))","v":3.9},{"$f":"IF(Balance!CN56=0,\"-\",ROUND((Balance!CN56/Balance!CN$60)*100,1))","v":4.5},{"$f":"IF(Balance!CO56=0,\"-\",ROUND((Balance!CO56/Balance!CO$60)*100,1))","v":4.0999999999999996},{"$f":"IF(Balance!CP56=0,\"-\",ROUND((Balance!CP56/Balance!CP$60)*100,1))","v":3.5},{"$f":"IF(Balance!CQ56=0,\"-\",ROUND((Balance!CQ56/Balance!CQ$60)*100,1))","v":3.3},{"$f":"IF(Balance!CR56=0,\"-\",ROUND((Balance!CR56/Balance!CR$60)*100,1))","v":3},{"$f":"IF(Balance!CS56=0,\"-\",ROUND((Balance!CS56/Balance!CS$60)*100,1))","v":2.5},{"$f":"IF(Balance!CT56=0,\"-\",ROUND((Balance!CT56/Balance!CT$60)*100,1))","v":2.2000000000000002},{"$f":"IF(Balance!CU56=0,\"-\",ROUND((Balance!CU56/Balance!CU$60)*100,1))","v":2.6},{"$f":"IF(Balance!CV56=0,\"-\",ROUND((Balance!CV56/Balance!CV$60)*100,1))","v":3.1},{"$f":"IF(Balance!CW56=0,\"-\",ROUND((Balance!CW56/Balance!CW$60)*100,1))","v":3.8},{"$f":"IF(Balance!CX56=0,\"-\",ROUND((Balance!CX56/Balance!CX$60)*100,1))","v":3.8},{"$f":"IF(Balance!CY56=0,\"-\",ROUND((Balance!CY56/Balance!CY$60)*100,1))","v":4.2},{"$f":"IF(Balance!CZ56=0,\"-\",ROUND((Balance!CZ56/Balance!CZ$60)*100,1))","v":4},{"$f":"IF(Balance!DA56=0,\"-\",ROUND((Balance!DA56/Balance!DA$60)*100,1))","v":3.8},{"$f":"IF(Balance!DB56=0,\"-\",ROUND((Balance!DB56/Balance!DB$60)*100,1))","v":4},{"$f":"IF(Balance!DC56=0,\"-\",ROUND((Balance!DC56/Balance!DC$60)*100,1))","v":2.9},{"$f":"IF(Balance!DD56=0,\"-\",ROUND((Balance!DD56/Balance!DD$60)*100,1))","v":2.7},{"$f":"IF(Balance!DE56=0,\"-\",ROUND((Balance!DE56/Balance!DE$60)*100,1))","v":2.4},{"$f":"IF(Balance!DF56=0,\"-\",ROUND((Balance!DF56/Balance!DF$60)*100,1))","v":2.2999999999999998},{"$f":"IF(Balance!DG56=0,\"-\",ROUND((Balance!DG56/Balance!DG$60)*100,1))","v":2.5},{"$f":"IF(Balance!DH56=0,\"-\",ROUND((Balance!DH56/Balance!DH$60)*100,1))","v":2.7},{"$f":"IF(Balance!DI56=0,\"-\",ROUND((Balance!DI56/Balance!DI$60)*100,1))","v":3.6},{"$f":"IF(Balance!DJ56=0,\"-\",ROUND((Balance!DJ56/Balance!DJ$60)*100,1))","v":3.7},{"$f":"IF(Balance!DK56=0,\"-\",ROUND((Balance!DK56/Balance!DK$60)*100,1))","v":4.2},{"$f":"IF(Balance!DL56=0,\"-\",ROUND((Balance!DL56/Balance!DL$60)*100,1))","v":4},{"$f":"IF(Balance!DM56=0,\"-\",ROUND((Balance!DM56/Balance!DM$60)*100,1))","v":4},{"$f":"IF(Balance!DN56=0,\"-\",ROUND((Balance!DN56/Balance!DN$60)*100,1))","v":3.4},{"$f":"IF(Balance!DO56=0,\"-\",ROUND((Balance!DO56/Balance!DO$60)*100,1))","v":2.8},{"$f":"IF(Balance!DP56=0,\"-\",ROUND((Balance!DP56/Balance!DP$60)*100,1))","v":2.4},{"$f":"IF(Balance!DQ56=0,\"-\",ROUND((Balance!DQ56/Balance!DQ$60)*100,1))","v":2.6},{"$f":"IF(Balance!DR56=0,\"-\",ROUND((Balance!DR56/Balance!DR$60)*100,1))","v":2.5},{"$f":"IF(Balance!DS56=0,\"-\",ROUND((Balance!DS56/Balance!DS$60)*100,1))","v":2.7},{"$f":"IF(Balance!DT56=0,\"-\",ROUND((Balance!DT56/Balance!DT$60)*100,1))","v":2.9},{"$f":"IF(Balance!DU56=0,\"-\",ROUND((Balance!DU56/Balance!DU$60)*100,1))","v":3.3},{"$f":"IF(Balance!DV56=0,\"-\",ROUND((Balance!DV56/Balance!DV$60)*100,1))","v":3.5},{"$f":"IF(Balance!DW56=0,\"-\",ROUND((Balance!DW56/Balance!DW$60)*100,1))","v":3.6},{"$f":"IF(Balance!DX56=0,\"-\",ROUND((Balance!DX56/Balance!DX$60)*100,1))","v":4.0999999999999996},{"$f":"IF(Balance!DY56=0,\"-\",ROUND((Balance!DY56/Balance!DY$60)*100,1))","v":3.8},{"$f":"IF(Balance!DZ56=0,\"-\",ROUND((Balance!DZ56/Balance!DZ$60)*100,1))","v":3.5},{"$f":"IF(Balance!EA56=0,\"-\",ROUND((Balance!EA56/Balance!EA$60)*100,1))","v":3.4},{"$f":"IF(Balance!EB56=0,\"-\",ROUND((Balance!EB56/Balance!EB$60)*100,1))","v":2.6},{"$f":"IF(Balance!EC56=0,\"-\",ROUND((Balance!EC56/Balance!EC$60)*100,1))","v":2.2999999999999998},{"$f":"IF(Balance!ED56=0,\"-\",ROUND((Balance!ED56/Balance!ED$60)*100,1))","v":2.1},{"$f":"IFERROR(IF(Balance!EE56=0,\"-\",ROUND((Balance!EE56/Balance!EE$60)*100,1)),\"-\")","v":2.4},{"$f":"IFERROR(IF(Balance!EF56=0,\"-\",ROUND((Balance!EF56/Balance!EF$60)*100,1)),\"-\")","v":2.8},{"$f":"IFERROR(IF(Balance!EG56=0,\"-\",ROUND((Balance!EG56/Balance!EG$60)*100,1)),\"-\")","v":3.4},{"$f":"IFERROR(IF(Balance!EH56=0,\"-\",ROUND((Balance!EH56/Balance!EH$60)*100,1)),\"-\")","v":3.6},{"$f":"IFERROR(IF(Balance!EI56=0,\"-\",ROUND((Balance!EI56/Balance!EI$60)*100,1)),\"-\")","v":3.4},{"$f":"IFERROR(IF(Balance!EJ56=0,\"-\",ROUND((Balance!EJ56/Balance!EJ$60)*100,1)),\"-\")","v":3.8},{"$f":"IFERROR(IF(Balance!EK56=0,\"-\",ROUND((Balance!EK56/Balance!EK$60)*100,1)),\"-\")","v":3.8},{"$f":"IFERROR(IF(Balance!EL56=0,\"-\",ROUND((Balance!EL56/Balance!EL$60)*100,1)),\"-\")","v":3.3},{"$f":"IFERROR(IF(Balance!EM56=0,\"-\",ROUND((Balance!EM56/Balance!EM$60)*100,1)),\"-\")","v":3},{"$f":"IFERROR(IF(Balance!EN56=0,\"-\",ROUND((Balance!EN56/Balance!EN$60)*100,1)),\"-\")","v":2.5},{"$f":"IFERROR(IF(Balance!EO56=0,\"-\",ROUND((Balance!EO56/Balance!EO$60)*100,1)),\"-\")","v":2.2000000000000002},{"$f":"IFERROR(IF(Balance!EP56=0,\"-\",ROUND((Balance!EP56/Balance!EP$60)*100,1)),\"-\")","v":2.2999999999999998},{"$f":"IFERROR(IF(Balance!EQ56=0,\"-\",ROUND((Balance!EQ56/Balance!EQ$60)*100,1)),\"-\")","v":2.4},{"$f":"IFERROR(IF(Balance!ER56=0,\"-\",ROUND((Balance!ER56/Balance!ER$60)*100,1)),\"-\")","v":"-"},{"$f":"IFERROR(IF(Balance!ES56=0,\"-\",ROUND((Balance!ES56/Balance!ES$60)*100,1)),\"-\")","v":"-"},{"$f":"IFERROR(IF(Balance!ET56=0,\"-\",ROUND((Balance!ET56/Balance!ET$60)*100,1)),\"-\")","v":"-"},{"$f":"IFERROR(IF(Balance!EU56=0,\"-\",ROUND((Balance!EU56/Balance!EU$60)*100,1)),\"-\")","v":"-"},{"$f":"IFERROR(IF(Balance!EV56=0,\"-\",ROUND((Balance!EV56/Balance!EV$60)*100,1)),\"-\")","v":"-"},{"$f":"IFERROR(IF(Balance!EW56=0,\"-\",ROUND((Balance!EW56/Balance!EW$60)*100,1)),\"-\")","v":"-"},{"$f":"IFERROR(IF(Balance!EX56=0,\"-\",ROUND((Balance!EX56/Balance!EX$60)*100,1)),\"-\")","v":"-"},{"$f":"IFERROR(IF(Balance!EY56=0,\"-\",ROUND((Balance!EY56/Balance!EY$60)*100,1)),\"-\")","v":"-"},{"$f":"IFERROR(IF(Balance!EZ56=0,\"-\",ROUND((Balance!EZ56/Balance!EZ$60)*100,1)),\"-\")","v":"-"},{"$f":"IFERROR(IF(Balance!FA56=0,\"-\",ROUND((Balance!FA56/Balance!FA$60)*100,1)),\"-\")","v":"-"},{"$f":"IFERROR(IF(Balance!FB56=0,\"-\",ROUND((Balance!FB56/Balance!FB$60)*100,1)),\"-\")","v":"-"}]
[null,"Térmica renovable/Otras renovables",{"$f":"IF(Balance!C57=0,\"-\",ROUND((Balance!C57/Balance!C$60)*100,1))","v":1.2},{"$f":"IF(Balance!D57=0,\"-\",ROUND((Balance!D57/Balance!D$60)*100,1))","v":1.7},{"$f":"IF(Balance!E57=0,\"-\",ROUND((Balance!E57/Balance!E$60)*100,1))","v":2.9},{"$f":"IF(Balance!F57=0,\"-\",ROUND((Balance!F57/Balance!F$60)*100,1))","v":3},{"$f":"IF(Balance!G57=0,\"-\",ROUND((Balance!G57/Balance!G$60)*100,1))","v":2.7},{"$f":"IF(Balance!H57=0,\"-\",ROUND((Balance!H57/Balance!H$60)*100,1))","v":2.9},{"$f":"IF(Balance!I57=0,\"-\",ROUND((Balance!I57/Balance!I$60)*100,1))","v":2.8},{"$f":"IF(Balance!J57=0,\"-\",ROUND((Balance!J57/Balance!J$60)*100,1))","v":2.5},{"$f":"IF(Balance!K57=0,\"-\",ROUND((Balance!K57/Balance!K$60)*100,1))","v":1.7},{"$f":"IF(Balance!L57=0,\"-\",ROUND((Balance!L57/Balance!L$60)*100,1))","v":2.8},{"$f":"IF(Balance!M57=0,\"-\",ROUND((Balance!M57/Balance!M$60)*100,1))","v":2.4},{"$f":"IF(Balance!N57=0,\"-\",ROUND((Balance!N57/Balance!N$60)*100,1))","v":3},{"$f":"IF(Balance!O57=0,\"-\",ROUND((Balance!O57/Balance!O$60)*100,1))","v":2.7},{"$f":"IF(Balance!P57=0,\"-\",ROUND((Balance!P57/Balance!P$60)*100,1))","v":2.9},{"$f":"IF(Balance!Q57=0,\"-\",ROUND((Balance!Q57/Balance!Q$60)*100,1))","v":0.7},{"$f":"IF(Balance!R57=0,\"-\",ROUND((Balance!R57/Balance!R$60)*100,1))","v":2.4},{"$f":"IF(Balance!S57=0,\"-\",ROUND((Balance!S57/Balance!S$60)*100,1))","v":2.1},{"$f":"IF(Balance!T57=0,\"-\",ROUND((Balance!T57/Balance!T$60)*100,1))","v":2.1},{"$f":"IF(Balance!U57=0,\"-\",ROUND((Balance!U57/Balance!U$60)*100,1))","v":2.4},{"$f":"IF(Balance!V57=0,\"-\",ROUND((Balance!V57/Balance!V$60)*100,1))","v":2.6},{"$f":"IF(Balance!W57=0,\"-\",ROUND((Balance!W57/Balance!W$60)*100,1))","v":2.5},{"$f":"IF(Balance!X57=0,\"-\",ROUND((Balance!X57/Balance!X$60)*100,1))","v":2.2999999999999998},{"$f":"IF(Balance!Y57=0,\"-\",ROUND((Balance!Y57/Balance!Y$60)*100,1))","v":2.2999999999999998},{"$f":"IF(Balance!Z57=0,\"-\",ROUND((Balance!Z57/Balance!Z$60)*100,1))","v":2.9},{"$f":"IF(Balance!AA57=0,\"-\",ROUND((Balance!AA57/Balance!AA$60)*100,1))","v":2.8},{"$f":"IF(Balance!AB57=0,\"-\",ROUND((Balance!AB57/Balance!AB$60)*100,1))","v":2.7},{"$f":"IF(Balance!AC57=0,\"-\",ROUND((Balance!AC57/Balance!AC$60)*100,1))","v":2.6},{"$f":"IF(Balance!AD57=0,\"-\",ROUND((Balance!AD57/Balance!AD$60)*100,1))","v":2.6},{"$f":"IF(Balance!AE57=0,\"-\",ROUND((Balance!AE57/Balance!AE$60)*100,1))","v":2.8},{"$f":"IF(Balance!AF57=0,\"-\",ROUND((Balance!AF57/Balance!AF$60)*100,1))","v":2},{"$f":"IF(Balance!AG57=0,\"-\",ROUND((Balance!AG57/Balance!AG$60)*100,1))","v":0},{"$f":"IF(Balance!AH57=0,\"-\",ROUND((Balance!AH57/Balance!AH$60)*100,1))","v":2.6},{"$f":"IF(Balance!AI57=0,\"-\",ROUND((Balance!AI57/Balance!AI$60)*100,1))","v":1.8},{"$f":"IF(Balance!AJ57=0,\"-\",ROUND((Balance!AJ57/Balance!AJ$60)*100,1))","v":2.2000000000000002},{"$f":"IF(Balance!AK57=0,\"-\",ROUND((Balance!AK57/Balance!AK$60)*100,1))","v":3},{"$f":"IF(Balance!AL57=0,\"-\",ROUND((Balance!AL57/Balance!AL$60)*100,1))","v":2.9},{"$f":"IF(Balance!AM57=0,\"-\",ROUND((Balance!AM57/Balance!AM$60)*100,1))","v":3},{"$f":"IF(Balance!AN57=0,\"-\",ROUND((Balance!AN57/Balance!AN$60)*100,1))","v":3.2},{"$f":"IF(Balance!AO57=0,\"-\",ROUND((Balance!AO57/Balance!AO$60)*100,1))","v":1.6},{"$f":"IF(Balance!AP57=0,\"-\",ROUND((Balance!AP57/Balance!AP$60)*100,1))","v":3.5},{"$f":"IF(Balance!AQ57=0,\"-\",ROUND((Balance!AQ57/Balance!AQ$60)*100,1))","v":3.2},{"$f":"IF(Balance!AR57=0,\"-\",ROUND((Balance!AR57/Balance!AR$60)*100,1))","v":3.3},{"$f":"IF(Balance!AS57=0,\"-\",ROUND((Balance!AS57/Balance!AS$60)*100,1))","v":3},{"$f":"IF(Balance!AT57=0,\"-\",ROUND((Balance!AT57/Balance!AT$60)*100,1))","v":3},{"$f":"IF(Balance!AU57=0,\"-\",ROUND((Balance!AU57/Balance!AU$60)*100,1))","v":3.1},{"$f":"IF(Balance!AV57=0,\"-\",ROUND((Balance!AV57/Balance!AV$60)*100,1))","v":2.8},{"$f":"IF(Balance!AW57=0,\"-\",ROUND((Balance!AW57/Balance!AW$60)*100,1))","v":3.1},{"$f":"IF(Balance!AX57=0,\"-\",ROUND((Balance!AX57/Balance!AX$60)*100,1))","v":3.2},{"$f":"IF(Balance!AY57=0,\"-\",ROUND((Balance!AY57/Balance!AY$60)*100,1))","v":3.2},{"$f":"IF(Balance!AZ57=0,\"-\",ROUND((Balance!AZ57/Balance!AZ$60)*100,1))","v":2.8},{"$f":"IF(Balance!BA57=0,\"-\",ROUND((Balance!BA57/Balance!BA$60)*100,1))","v":2.2000000000000002},{"$f":"IF(Balance!BB57=0,\"-\",ROUND((Balance!BB57/Balance!BB$60)*100,1))","v":3.4},{"$f":"IF(Balance!BC57=0,\"-\",ROUND((Balance!BC57/Balance!BC$60)*100,1))","v":3.5},{"$f":"IF(Balance!BD57=0,\"-\",ROUND((Balance!BD57/Balance!BD$60)*100,1))","v":2.7},{"$f":"IF(Balance!BE57=0,\"-\",ROUND((Balance!BE57/Balance!BE$60)*100,1))","v":1.3},{"$f":"IF(Balance!BF57=0,\"-\",ROUND((Balance!BF57/Balance!BF$60)*100,1))","v":0.8},{"$f":"IF(Balance!BG57=0,\"-\",ROUND((Balance!BG57/Balance!BG$60)*100,1))","v":0.7},{"$f":"IF(Balance!BH57=0,\"-\",ROUND((Balance!BH57/Balance!BH$60)*100,1))","v":0.7},{"$f":"IF(Balance!BI57=0,\"-\",ROUND((Balance!BI57/Balance!BI$60)*100,1))","v":0.5},{"$f":"IF(Balance!BJ57=0,\"-\",ROUND((Balance!BJ57/Balance!BJ$60)*100,1))","v":0.3},{"$f":"IF(Balance!BK57=0,\"-\",ROUND((Balance!BK57/Balance!BK$60)*100,1))","v":0.4},{"$f":"IF(Balance!BL57=0,\"-\",ROUND((Balance!BL57/Balance!BL$60)*100,1))","v":0.9},{"$f":"IF(Balance!BM57=0,\"-\",ROUND((Balance!BM57/Balance!BM$60)*100,1))","v":0.8},{"$f":"IF(Balance!BN57=0,\"-\",ROUND((Balance!BN57/Balance!BN$60)*100,1))","v":0.8},{"$f":"IF(Balance!BO57=0,\"-\",ROUND((Balance!BO57/Balance!BO$60)*100,1))","v":1},{"$f":"IF(Balance!BP57=0,\"-\",ROUND((Balance!BP57/Balance!BP$60)*100,1))","v":0.2},{"$f":"IF(Balance!BQ57=0,\"-\",ROUND((Balance!BQ57/Balance!BQ$60)*100,1))","v":0.1},{"$f":"IF(Balance!BR57=0,\"-\",ROUND((Balance!BR57/Balance!BR$60)*100,1))","v":0.1},{"$f":"IF(Balance!BS57=0,\"-\",ROUND((Balance!BS57/Balance!BS$60)*100,1))","v":0.1},{"$f":"IF(Balance!BT57=0,\"-\",ROUND((Balance!BT57/Balance!BT$60)*100,1))","v":0.1},{"$f":"IF(Balance!BU57=0,\"-\",ROUND((Balance!BU57/Balance!BU$60)*100,1))","v":0.1},{"$f":"IF(Balance!BV57=0,\"-\",ROUND((Balance!BV57/Balance!BV$60)*100,1))","v":0.1},{"$f":"IF(Balance!BW57=0,\"-\",ROUND((Balance!BW57/Balance!BW$60)*100,1))","v":0.1},{"$f":"IF(Balance!BX57=0,\"-\",ROUND((Balance!BX57/Balance!BX$60)*100,1))","v":0.1},{"$f":"IF(Balance!BY57=0,\"-\",ROUND((Balance!BY57/Balance!BY$60)*100,1))","v":0.1},{"$f":"IF(Balance!BZ57=0,\"-\",ROUND((Balance!BZ57/Balance!BZ$60)*100,1))","v":0.1},{"$f":"IF(Balance!CA57=0,\"-\",ROUND((Balance!CA57/Balance!CA$60)*100,1))","v":0.1},{"$f":"IF(Balance!CB57=0,\"-\",ROUND((Balance!CB57/Balance!CB$60)*100,1))","v":0.1},{"$f":"IF(Balance!CC57=0,\"-\",ROUND((Balance!CC57/Balance!CC$60)*100,1))","v":0.1},{"$f":"IF(Balance!CD57=0,\"-\",ROUND((Balance!CD57/Balance!CD$60)*100,1))","v":0.1},{"$f":"IF(Balance!CE57=0,\"-\",ROUND((Balance!CE57/Balance!CE$60)*100,1))","v":0.1},{"$f":"IF(Balance!CF57=0,\"-\",ROUND((Balance!CF57/Balance!CF$60)*100,1))","v":0.1},{"$f":"IF(Balance!CG57=0,\"-\",ROUND((Balance!CG57/Balance!CG$60)*100,1))","v":0.1},{"$f":"IF(Balance!CH57=0,\"-\",ROUND((Balance!CH57/Balance!CH$60)*100,1))","v":0.1},{"$f":"IF(Balance!CI57=0,\"-\",ROUND((Balance!CI57/Balance!CI$60)*100,1))","v":0.1},{"$f":"IF(Balance!CJ57=0,\"-\",ROUND((Balance!CJ57/Balance!CJ$60)*100,1))","v":0.1},{"$f":"IF(Balance!CK57=0,\"-\",ROUND((Balance!CK57/Balance!CK$60)*100,1))","v":0.1},{"$f":"IF(Balance!CL57=0,\"-\",ROUND((Balance!CL57/Balance!CL$60)*100,1))","v":0.1},{"$f":"IF(Balance!CM57=0,\"-\",ROUND((Balance!CM57/Balance!CM$60)*100,1))","v":0.1},{"$f":"IF(Balance!CN57=0,\"-\",ROUND((Balance!CN57/Balance!CN$60)*100,1))","v":0.1},{"$f":"IF(Balance!CO57=0,\"-\",ROUND((Balance!CO57/Balance!CO$60)*100,1))","v":0.1},{"$f":"IF(Balance!CP57=0,\"-\",ROUND((Balance!CP57/Balance!CP$60)*100,1))","v":0.1},{"$f":"IF(Balance!CQ57=0,\"-\",ROUND((Balance!CQ57/Balance!CQ$60)*100,1))","v":0.1},{"$f":"IF(Balance!CR57=0,\"-\",ROUND((Balance!CR57/Balance!CR$60)*100,1))","v":0.1},{"$f":"IF(Balance!CS57=0,\"-\",ROUND((Balance!CS57/Balance!CS$60)*100,1))","v":0.1},{"$f":"IF(Balance!CT57=0,\"-\",ROUND((Balance!CT57/Balance!CT$60)*100,1))","v":0.1},{"$f":"IF(Balance!CU57=0,\"-\",ROUND((Balance!CU57/Balance!CU$60)*100,1))","v":0.1},{"$f":"IF(Balance!CV57=0,\"-\",ROUND((Balance!CV57/Balance!CV$60)*100,1))","v":0.1},{"$f":"IF(Balance!CW57=0,\"-\",ROUND((Balance!CW57/Balance!CW$60)*100,1))","v":0.1},{"$f":"IF(Balance!CX57=0,\"-\",ROUND((Balance!CX57/Balance!CX$60)*100,1))","v":0.1},{"$f":"IF(Balance!CY57=0,\"-\",ROUND((Balance!CY57/Balance!CY$60)*100,1))","v":0.1},{"$f":"IF(Balance!CZ57=0,\"-\",ROUND((Balance!CZ57/Balance!CZ$60)*100,1))","v":0.1},{"$f":"IF(Balance!DA57=0,\"-\",ROUND((Balance!DA57/Balance!DA$60)*100,1))","v":0.1},{"$f":"IF(Balance!DB57=0,\"-\",ROUND((Balance!DB57/Balance!DB$60)*100,1))","v":0.1},{"$f":"IF(Balance!DC57=0,\"-\",ROUND((Balance!DC57/Balance!DC$60)*100,1))","v":0.1},{"$f":"IF(Balance!DD57=0,\"-\",ROUND((Balance!DD57/Balance!DD$60)*100,1))","v":0.1},{"$f":"IF(Balance!DE57=0,\"-\",ROUND((Balance!DE57/Balance!DE$60)*100,1))","v":0.1},{"$f":"IF(Balance!DF57=0,\"-\",ROUND((Balance!DF57/Balance!DF$60)*100,1))","v":0.1},{"$f":"IF(Balance!DG57=0,\"-\",ROUND((Balance!DG57/Balance!DG$60)*100,1))","v":0.1},{"$f":"IF(Balance!DH57=0,\"-\",ROUND((Balance!DH57/Balance!DH$60)*100,1))","v":0.1},{"$f":"IF(Balance!DI57=0,\"-\",ROUND((Balance!DI57/Balance!DI$60)*100,1))","v":0.1},{"$f":"IF(Balance!DJ57=0,\"-\",ROUND((Balance!DJ57/Balance!DJ$60)*100,1))","v":0.1},{"$f":"IF(Balance!DK57=0,\"-\",ROUND((Balance!DK57/Balance!DK$60)*100,1))","v":0.1},{"$f":"IF(Balance!DL57=0,\"-\",ROUND((Balance!DL57/Balance!DL$60)*100,1))","v":0.1},{"$f":"IF(Balance!DM57=0,\"-\",ROUND((Balance!DM57/Balance!DM$60)*100,1))","v":0.1},{"$f":"IF(Balance!DN57=0,\"-\",ROUND((Balance!DN57/Balance!DN$60)*100,1))","v":0.1},{"$f":"IF(Balance!DO57=0,\"-\",ROUND((Balance!DO57/Balance!DO$60)*100,1))","v":0.1},{"$f":"IF(Balance!DP57=0,\"-\",ROUND((Balance!DP57/Balance!DP$60)*100,1))","v":0.1},{"$f":"IF(Balance!DQ57=0,\"-\",ROUND((Balance!DQ57/Balance!DQ$60)*100,1))","v":0.1},{"$f":"IF(Balance!DR57=0,\"-\",ROUND((Balance!DR57/Balance!DR$60)*100,1))","v":0.1},{"$f":"IF(Balance!DS57=0,\"-\",ROUND((Balance!DS57/Balance!DS$60)*100,1))","v":0.1},{"$f":"IF(Balance!DT57=0,\"-\",ROUND((Balance!DT57/Balance!DT$60)*100,1))","v":0.1},{"$f":"IF(Balance!DU57=0,\"-\",ROUND((Balance!DU57/Balance!DU$60)*100,1))","v":0.1},{"$f":"IF(Balance!DV57=0,\"-\",ROUND((Balance!DV57/Balance!DV$60)*100,1))","v":0.1},{"$f":"IF(Balance!DW57=0,\"-\",ROUND((Balance!DW57/Balance!DW$60)*100,1))","v":0.1},{"$f":"IF(Balance!DX57=0,\"-\",ROUND((Balance!DX57/Balance!DX$60)*100,1))","v":0.1},{"$f":"IF(Balance!DY57=0,\"-\",ROUND((Balance!DY57/Balance!DY$60)*100,1))","v":0.1},{"$f":"IF(Balance!DZ57=0,\"-\",ROUND((Balance!DZ57/Balance!DZ$60)*100,1))","v":0.1},{"$f":"IF(Balance!EA57=0,\"-\",ROUND((Balance!EA57/Balance!EA$60)*100,1))","v":0.1},{"$f":"IF(Balance!EB57=0,\"-\",ROUND((Balance!EB57/Balance!EB$60)*100,1))","v":0.1},{"$f":"IF(Balance!EC57=0,\"-\",ROUND((Balance!EC57/Balance!EC$60)*100,1))","v":0.1},{"$f":"IF(Balance!ED57=0,\"-\",ROUND((Balance!ED57/Balance!ED$60)*100,1))","v":0.1},{"$f":"IFERROR(IF(Balance!EE57=0,\"-\",ROUND((Balance!EE57/Balance!EE$60)*100,1)),\"-\")","v":0.1},{"$f":"IFERROR(IF(Balance!EF57=0,\"-\",ROUND((Balance!EF57/Balance!EF$60)*100,1)),\"-\")","v":0.1},{"$f":"IFERROR(IF(Balance!EG57=0,\"-\",ROUND((Balance!EG57/Balance!EG$60)*100,1)),\"-\")","v":0.1},{"$f":"IFERROR(IF(Balance!EH57=0,\"-\",ROUND((Balance!EH57/Balance!EH$60)*100,1)),\"-\")","v":0.1},{"$f":"IFERROR(IF(Balance!EI57=0,\"-\",ROUND((Balance!EI57/Balance!EI$60)*100,1)),\"-\")","v":0.1},{"$f":"IFERROR(IF(Balance!EJ57=0,\"-\",ROUND((Balance!EJ57/Balance!EJ$60)*100,1)),\"-\")","v":0.1},{"$f":"IFERROR(IF(Balance!EK57=0,\"-\",ROUND((Balance!EK57/Balance!EK$60)*100,1)),\"-\")","v":0.1},{"$f":"IFERROR(IF(Balance!EL57=0,\"-\",ROUND((Balance!EL57/Balance!EL$60)*100,1)),\"-\")","v":0.1},{"$f":"IFERROR(IF(Balance!EM57=0,\"-\",ROUND((Balance!EM57/Balance!EM$60)*100,1)),\"-\")","v":0.1},{"$f":"IFERROR(IF(Balance!EN57=0,\"-\",ROUND((Balance!EN57/Balance!EN$60)*100,1)),\"-\")","v":0.1},{"$f":"IFERROR(IF(Balance!EO57=0,\"-\",ROUND((Balance!EO57/Balance!EO$60)*100,1)),\"-\")","v":0.1},{"$f":"IFERROR(IF(Balance!EP57=0,\"-\",ROUND((Balance!EP57/Balance!EP$60)*100,1)),\"-\")","v":0.1},{"$f":"IFERROR(IF(Balance!EQ57=0,\"-\",ROUND((Balance!EQ57/Balance!EQ$60)*100,1)),\"-\")","v":"-"},{"$f":"IFERROR(IF(Balance!ER57=0,\"-\",ROUND((Balance!ER57/Balance!ER$60)*100,1)),\"-\")","v":"-"},{"$f":"IFERROR(IF(Balance!ES57=0,\"-\",ROUND((Balance!ES57/Balance!ES$60)*100,1)),\"-\")","v":"-"},{"$f":"IFERROR(IF(Balance!ET57=0,\"-\",ROUND((Balance!ET57/Balance!ET$60)*100,1)),\"-\")","v":"-"},{"$f":"IFERROR(IF(Balance!EU57=0,\"-\",ROUND((Balance!EU57/Balance!EU$60)*100,1)),\"-\")","v":"-"},{"$f":"IFERROR(IF(Balance!EV57=0,\"-\",ROUND((Balance!EV57/Balance!EV$60)*100,1)),\"-\")","v":"-"},{"$f":"IFERROR(IF(Balance!EW57=0,\"-\",ROUND((Balance!EW57/Balance!EW$60)*100,1)),\"-\")","v":"-"},{"$f":"IFERROR(IF(Balance!EX57=0,\"-\",ROUND((Balance!EX57/Balance!EX$60)*100,1)),\"-\")","v":"-"},{"$f":"IFERROR(IF(Balance!EY57=0,\"-\",ROUND((Balance!EY57/Balance!EY$60)*100,1)),\"-\")","v":"-"},{"$f":"IFERROR(IF(Balance!EZ57=0,\"-\",ROUND((Balance!EZ57/Balance!EZ$60)*100,1)),\"-\")","v":"-"},{"$f":"IFERROR(IF(Balance!FA57=0,\"-\",ROUND((Balance!FA57/Balance!FA$60)*100,1)),\"-\")","v":"-"},{"$f":"IFERROR(IF(Balance!FB57=0,\"-\",ROUND((Balance!FB57/Balance!FB$60)*100,1)),\"-\")","v":"-"}]
[null,"Térmica no renovable/Cogeneración y resto/Cogeneración",{"$f":"IF(Balance!C58=0,\"-\",ROUND((Balance!C58/Balance!C$60)*100,1))","v":0.4},{"$f":"IF(Balance!D58=0,\"-\",ROUND((Balance!D58/Balance!D$60)*100,1))","v":"-"},{"$f":"IF(Balance!E58=0,\"-\",ROUND((Balance!E58/Balance!E$60)*100,1))","v":"-"},{"$f":"IF(Balance!F58=0,\"-\",ROUND((Balance!F58/Balance!F$60)*100,1))","v":"-"},{"$f":"IF(Balance!G58=0,\"-\",ROUND((Balance!G58/Balance!G$60)*100,1))","v":"-"},{"$f":"IF(Balance!H58=0,\"-\",ROUND((Balance!H58/Balance!H$60)*100,1))","v":"-"},{"$f":"IF(Balance!I58=0,\"-\",ROUND((Balance!I58/Balance!I$60)*100,1))","v":"-"},{"$f":"IF(Balance!J58=0,\"-\",ROUND((Balance!J58/Balance!J$60)*100,1))","v":"-"},{"$f":"IF(Balance!K58=0,\"-\",ROUND((Balance!K58/Balance!K$60)*100,1))","v":"-"},{"$f":"IF(Balance!L58=0,\"-\",ROUND((Balance!L58/Balance!L$60)*100,1))","v":"-"},{"$f":"IF(Balance!M58=0,\"-\",ROUND((Balance!M58/Balance!M$60)*100,1))","v":"-"},{"$f":"IF(Balance!N58=0,\"-\",ROUND((Balance!N58/Balance!N$60)*100,1))","v":"-"},{"$f":"IF(Balance!O58=0,\"-\",ROUND((Balance!O58/Balance!O$60)*100,1))","v":"-"},{"$f":"IF(Balance!P58=0,\"-\",ROUND((Balance!P58/Balance!P$60)*100,1))","v":"-"},{"$f":"IF(Balance!Q58=0,\"-\",ROUND((Balance!Q58/Balance!Q$60)*100,1))","v":"-"},{"$f":"IF(Balance!R58=0,\"-\",ROUND((Balance!R58/Balance!R$60)*100,1))","v":"-"},{"$f":"IF(Balance!S58=0,\"-\",ROUND((Balance!S58/Balance!S$60)*100,1))","v":"-"},{"$f":"IF(Balance!T58=0,\"-\",ROUND((Balance!T58/Balance!T$60)*100,1))","v":"-"},{"$f":"IF(Balance!U58=0,\"-\",ROUND((Balance!U58/Balance!U$60)*100,1))","v":"-"},{"$f":"IF(Balance!V58=0,\"-\",ROUND((Balance!V58/Balance!V$60)*100,1))","v":"-"},{"$f":"IF(Balance!W58=0,\"-\",ROUND((Balance!W58/Balance!W$60)*100,1))","v":"-"},{"$f":"IF(Balance!X58=0,\"-\",ROUND((Balance!X58/Balance!X$60)*100,1))","v":"-"},{"$f":"IF(Balance!Y58=0,\"-\",ROUND((Balance!Y58/Balance!Y$60)*100,1))","v":"-"},{"$f":"IF(Balance!Z58=0,\"-\",ROUND((Balance!Z58/Balance!Z$60)*100,1))","v":"-"},{"$f":"IF(Balance!AA58=0,\"-\",ROUND((Balance!AA58/Balance!AA$60)*100,1))","v":"-"},{"$f":"IF(Balance!AB58=0,\"-\",ROUND((Balance!AB58/Balance!AB$60)*100,1))","v":"-"},{"$f":"IF(Balance!AC58=0,\"-\",ROUND((Balance!AC58/Balance!AC$60)*100,1))","v":"-"},{"$f":"IF(Balance!AD58=0,\"-\",ROUND((Balance!AD58/Balance!AD$60)*100,1))","v":"-"},{"$f":"IF(Balance!AE58=0,\"-\",ROUND((Balance!AE58/Balance!AE$60)*100,1))","v":"-"},{"$f":"IF(Balance!AF58=0,\"-\",ROUND((Balance!AF58/Balance!AF$60)*100,1))","v":"-"},{"$f":"IF(Balance!AG58=0,\"-\",ROUND((Balance!AG58/Balance!AG$60)*100,1))","v":"-"},{"$f":"IF(Balance!AH58=0,\"-\",ROUND((Balance!AH58/Balance!AH$60)*100,1))","v":"-"},{"$f":"IF(Balance!AI58=0,\"-\",ROUND((Balance!AI58/Balance!AI$60)*100,1))","v":"-"},{"$f":"IF(Balance!AJ58=0,\"-\",ROUND((Balance!AJ58/Balance!AJ$60)*100,1))","v":"-"},{"$f":"IF(Balance!AK58=0,\"-\",ROUND((Balance!AK58/Balance!AK$60)*100,1))","v":"-"},{"$f":"IF(Balance!AL58=0,\"-\",ROUND((Balance!AL58/Balance!AL$60)*100,1))","v":"-"},{"$f":"IF(Balance!AM58=0,\"-\",ROUND((Balance!AM58/Balance!AM$60)*100,1))","v":"-"},{"$f":"IF(Balance!AN58=0,\"-\",ROUND((Balance!AN58/Balance!AN$60)*100,1))","v":"-"},{"$f":"IF(Balance!AO58=0,\"-\",ROUND((Balance!AO58/Balance!AO$60)*100,1))","v":"-"},{"$f":"IF(Balance!AP58=0,\"-\",ROUND((Balance!AP58/Balance!AP$60)*100,1))","v":"-"},{"$f":"IF(Balance!AQ58=0,\"-\",ROUND((Balance!AQ58/Balance!AQ$60)*100,1))","v":0},{"$f":"IF(Balance!AR58=0,\"-\",ROUND((Balance!AR58/Balance!AR$60)*100,1))","v":0},{"$f":"IF(Balance!AS58=0,\"-\",ROUND((Balance!AS58/Balance!AS$60)*100,1))","v":"-"},{"$f":"IF(Balance!AT58=0,\"-\",ROUND((Balance!AT58/Balance!AT$60)*100,1))","v":"-"},{"$f":"IF(Balance!AU58=0,\"-\",ROUND((Balance!AU58/Balance!AU$60)*100,1))","v":"-"},{"$f":"IF(Balance!AV58=0,\"-\",ROUND((Balance!AV58/Balance!AV$60)*100,1))","v":"-"},{"$f":"IF(Balance!AW58=0,\"-\",ROUND((Balance!AW58/Balance!AW$60)*100,1))","v":"-"},{"$f":"IF(Balance!AX58=0,\"-\",ROUND((Balance!AX58/Balance!AX$60)*100,1))","v":"-"},{"$f":"IF(Balance!AY58=0,\"-\",ROUND((Balance!AY58/Balance!AY$60)*100,1))","v":"-"},{"$f":"IF(Balance!AZ58=0,\"-\",ROUND((Balance!AZ58/Balance!AZ$60)*100,1))","v":"-"},{"$f":"IF(Balance!BA58=0,\"-\",ROUND((Balance!BA58/Balance!BA$60)*100,1))","v":"-"},{"$f":"IF(Balance!BB58=0,\"-\",ROUND((Balance!BB58/Balance!BB$60)*100,1))","v":"-"},{"$f":"IF(Balance!BC58=0,\"-\",ROUND((Balance!BC58/Balance!BC$60)*100,1))","v":"-"},{"$f":"IF(Balance!BD58=0,\"-\",ROUND((Balance!BD58/Balance!BD$60)*100,1))","v":"-"},{"$f":"IF(Balance!BE58=0,\"-\",ROUND((Balance!BE58/Balance!BE$60)*100,1))","v":"-"},{"$f":"IF(Balance!BF58=0,\"-\",ROUND((Balance!BF58/Balance!BF$60)*100,1))","v":"-"},{"$f":"IF(Balance!BG58=0,\"-\",ROUND((Balance!BG58/Balance!BG$60)*100,1))","v":"-"},{"$f":"IF(Balance!BH58=0,\"-\",ROUND((Balance!BH58/Balance!BH$60)*100,1))","v":"-"},{"$f":"IF(Balance!BI58=0,\"-\",ROUND((Balance!BI58/Balance!BI$60)*100,1))","v":"-"},{"$f":"IF(Balance!BJ58=0,\"-\",ROUND((Balance!BJ58/Balance!BJ$60)*100,1))","v":"-"},{"$f":"IF(Balance!BK58=0,\"-\",ROUND((Balance!BK58/Balance!BK$60)*100,1))","v":"-"},{"$f":"IF(Balance!BL58=0,\"-\",ROUND((Balance!BL58/Balance!BL$60)*100,1))","v":"-"},{"$f":"IF(Balance!BM58=0,\"-\",ROUND((Balance!BM58/Balance!BM$60)*100,1))","v":"-"},{"$f":"IF(Balance!BN58=0,\"-\",ROUND((Balance!BN58/Balance!BN$60)*100,1))","v":"-"},{"$f":"IF(Balance!BO58=0,\"-\",ROUND((Balance!BO58/Balance!BO$60)*100,1))","v":"-"},{"$f":"IF(Balance!BP58=0,\"-\",ROUND((Balance!BP58/Balance!BP$60)*100,1))","v":"-"},{"$f":"IF(Balance!BQ58=0,\"-\",ROUND((Balance!BQ58/Balance!BQ$60)*100,1))","v":"-"},{"$f":"IF(Balance!BR58=0,\"-\",ROUND((Balance!BR58/Balance!BR$60)*100,1))","v":"-"},{"$f":"IF(Balance!BS58=0,\"-\",ROUND((Balance!BS58/Balance!BS$60)*100,1))","v":"-"},{"$f":"IF(Balance!BT58=0,\"-\",ROUND((Balance!BT58/Balance!BT$60)*100,1))","v":"-"},{"$f":"IF(Balance!BU58=0,\"-\",ROUND((Balance!BU58/Balance!BU$60)*100,1))","v":"-"},{"$f":"IF(Balance!BV58=0,\"-\",ROUND((Balance!BV58/Balance!BV$60)*100,1))","v":"-"},{"$f":"IF(Balance!BW58=0,\"-\",ROUND((Balance!BW58/Balance!BW$60)*100,1))","v":"-"},{"$f":"IF(Balance!BX58=0,\"-\",ROUND((Balance!BX58/Balance!BX$60)*100,1))","v":"-"},{"$f":"IF(Balance!BY58=0,\"-\",ROUND((Balance!BY58/Balance!BY$60)*100,1))","v":"-"},{"$f":"IF(Balance!BZ58=0,\"-\",ROUND((Balance!BZ58/Balance!BZ$60)*100,1))","v":"-"},{"$f":"IF(Balance!CA58=0,\"-\",ROUND((Balance!CA58/Balance!CA$60)*100,1))","v":"-"},{"$f":"IF(Balance!CB58=0,\"-\",ROUND((Balance!CB58/Balance!CB$60)*100,1))","v":"-"},{"$f":"IF(Balance!CC58=0,\"-\",ROUND((Balance!CC58/Balance!CC$60)*100,1))","v":"-"},{"$f":"IF(Balance!CD58=0,\"-\",ROUND((Balance!CD58/Balance!CD$60)*100,1))","v":"-"},{"$f":"IF(Balance!CE58=0,\"-\",ROUND((Balance!CE58/Balance!CE$60)*100,1))","v":"-"},{"$f":"IF(Balance!CF58=0,\"-\",ROUND((Balance!CF58/Balance!CF$60)*100,1))","v":"-"},{"$f":"IF(Balance!CG58=0,\"-\",ROUND((Balance!CG58/Balance!CG$60)*100,1))","v":"-"},{"$f":"IF(Balance!CH58=0,\"-\",ROUND((Balance!CH58/Balance!CH$60)*100,1))","v":"-"},{"$f":"IF(Balance!CI58=0,\"-\",ROUND((Balance!CI58/Balance!CI$60)*100,1))","v":"-"},{"$f":"IF(Balance!CJ58=0,\"-\",ROUND((Balance!CJ58/Balance!CJ$60)*100,1))","v":"-"},{"$f":"IF(Balance!CK58=0,\"-\",ROUND((Balance!CK58/Balance!CK$60)*100,1))","v":"-"},{"$f":"IF(Balance!CL58=0,\"-\",ROUND((Balance!CL58/Balance!CL$60)*100,1))","v":"-"},{"$f":"IF(Balance!CM58=0,\"-\",ROUND((Balance!CM58/Balance!CM$60)*100,1))","v":"-"},{"$f":"IF(Balance!CN58=0,\"-\",ROUND((Balance!CN58/Balance!CN$60)*100,1))","v":"-"},{"$f":"IF(Balance!CO58=0,\"-\",ROUND((Balance!CO58/Balance!CO$60)*100,1))","v":"-"},{"$f":"IF(Balance!CP58=0,\"-\",ROUND((Balance!CP58/Balance!CP$60)*100,1))","v":"-"},{"$f":"IF(Balance!CQ58=0,\"-\",ROUND((Balance!CQ58/Balance!CQ$60)*100,1))","v":"-"},{"$f":"IF(Balance!CR58=0,\"-\",ROUND((Balance!CR58/Balance!CR$60)*100,1))","v":"-"},{"$f":"IF(Balance!CS58=0,\"-\",ROUND((Balance!CS58/Balance!CS$60)*100,1))","v":"-"},{"$f":"IF(Balance!CT58=0,\"-\",ROUND((Balance!CT58/Balance!CT$60)*100,1))","v":"-"},{"$f":"IF(Balance!CU58=0,\"-\",ROUND((Balance!CU58/Balance!CU$60)*100,1))","v":"-"},{"$f":"IF(Balance!CV58=0,\"-\",ROUND((Balance!CV58/Balance!CV$60)*100,1))","v":"-"},{"$f":"IF(Balance!CW58=0,\"-\",ROUND((Balance!CW58/Balance!CW$60)*100,1))","v":"-"},{"$f":"IF(Balance!CX58=0,\"-\",ROUND((Balance!CX58/Balance!CX$60)*100,1))","v":"-"},{"$f":"IF(Balance!CY58=0,\"-\",ROUND((Balance!CY58/Balance!CY$60)*100,1))","v":"-"},{"$f":"IF(Balance!CZ58=0,\"-\",ROUND((Balance!CZ58/Balance!CZ$60)*100,1))","v":"-"},{"$f":"IF(Balance!DA58=0,\"-\",ROUND((Balance!DA58/Balance!DA$60)*100,1))","v":"-"},{"$f":"IF(Balance!DB58=0,\"-\",ROUND((Balance!DB58/Balance!DB$60)*100,1))","v":"-"},{"$f":"IF(Balance!DC58=0,\"-\",ROUND((Balance!DC58/Balance!DC$60)*100,1))","v":"-"},{"$f":"IF(Balance!DD58=0,\"-\",ROUND((Balance!DD58/Balance!DD$60)*100,1))","v":"-"},{"$f":"IF(Balance!DE58=0,\"-\",ROUND((Balance!DE58/Balance!DE$60)*100,1))","v":"-"},{"$f":"IF(Balance!DF58=0,\"-\",ROUND((Balance!DF58/Balance!DF$60)*100,1))","v":"-"},{"$f":"IF(Balance!DG58=0,\"-\",ROUND((Balance!DG58/Balance!DG$60)*100,1))","v":"-"},{"$f":"IF(Balance!DH58=0,\"-\",ROUND((Balance!DH58/Balance!DH$60)*100,1))","v":"-"},{"$f":"IF(Balance!DI58=0,\"-\",ROUND((Balance!DI58/Balance!DI$60)*100,1))","v":"-"},{"$f":"IF(Balance!DJ58=0,\"-\",ROUND((Balance!DJ58/Balance!DJ$60)*100,1))","v":"-"},{"$f":"IF(Balance!DK58=0,\"-\",ROUND((Balance!DK58/Balance!DK$60)*100,1))","v":"-"},{"$f":"IF(Balance!DL58=0,\"-\",ROUND((Balance!DL58/Balance!DL$60)*100,1))","v":"-"},{"$f":"IF(Balance!DM58=0,\"-\",ROUND((Balance!DM58/Balance!DM$60)*100,1))","v":"-"},{"$f":"IF(Balance!DN58=0,\"-\",ROUND((Balance!DN58/Balance!DN$60)*100,1))","v":"-"},{"$f":"IF(Balance!DO58=0,\"-\",ROUND((Balance!DO58/Balance!DO$60)*100,1))","v":"-"},{"$f":"IF(Balance!DP58=0,\"-\",ROUND((Balance!DP58/Balance!DP$60)*100,1))","v":"-"},{"$f":"IF(Balance!DQ58=0,\"-\",ROUND((Balance!DQ58/Balance!DQ$60)*100,1))","v":"-"},{"$f":"IF(Balance!DR58=0,\"-\",ROUND((Balance!DR58/Balance!DR$60)*100,1))","v":"-"},{"$f":"IF(Balance!DS58=0,\"-\",ROUND((Balance!DS58/Balance!DS$60)*100,1))","v":"-"},{"$f":"IF(Balance!DT58=0,\"-\",ROUND((Balance!DT58/Balance!DT$60)*100,1))","v":"-"},{"$f":"IF(Balance!DU58=0,\"-\",ROUND((Balance!DU58/Balance!DU$60)*100,1))","v":"-"},{"$f":"IF(Balance!DV58=0,\"-\",ROUND((Balance!DV58/Balance!DV$60)*100,1))","v":"-"},{"$f":"IF(Balance!DW58=0,\"-\",ROUND((Balance!DW58/Balance!DW$60)*100,1))","v":"-"},{"$f":"IF(Balance!DX58=0,\"-\",ROUND((Balance!DX58/Balance!DX$60)*100,1))","v":"-"},{"$f":"IF(Balance!DY58=0,\"-\",ROUND((Balance!DY58/Balance!DY$60)*100,1))","v":"-"},{"$f":"IF(Balance!DZ58=0,\"-\",ROUND((Balance!DZ58/Balance!DZ$60)*100,1))","v":"-"},{"$f":"IF(Balance!EA58=0,\"-\",ROUND((Balance!EA58/Balance!EA$60)*100,1))","v":"-"},{"$f":"IF(Balance!EB58=0,\"-\",ROUND((Balance!EB58/Balance!EB$60)*100,1))","v":"-"},{"$f":"IF(Balance!EC58=0,\"-\",ROUND((Balance!EC58/Balance!EC$60)*100,1))","v":"-"},{"$f":"IF(Balance!ED58=0,\"-\",ROUND((Balance!ED58/Balance!ED$60)*100,1))","v":"-"},{"$f":"IFERROR(IF(Balance!EE58=0,\"-\",ROUND((Balance!EE58/Balance!EE$60)*100,1)),\"-\")","v":"-"},{"$f":"IFERROR(IF(Balance!EF58=0,\"-\",ROUND((Balance!EF58/Balance!EF$60)*100,1)),\"-\")","v":"-"},{"$f":"IFERROR(IF(Balance!EG58=0,\"-\",ROUND((Balance!EG58/Balance!EG$60)*100,1)),\"-\")","v":"-"},{"$f":"IFERROR(IF(Balance!EH58=0,\"-\",ROUND((Balance!EH58/Balance!EH$60)*100,1)),\"-\")","v":"-"},{"$f":"IFERROR(IF(Balance!EI58=0,\"-\",ROUND((Balance!EI58/Balance!EI$60)*100,1)),\"-\")","v":"-"},{"$f":"IFERROR(IF(Balance!EJ58=0,\"-\",ROUND((Balance!EJ58/Balance!EJ$60)*100,1)),\"-\")","v":"-"},{"$f":"IFERROR(IF(Balance!EK58=0,\"-\",ROUND((Balance!EK58/Balance!EK$60)*100,1)),\"-\")","v":"-"},{"$f":"IFERROR(IF(Balance!EL58=0,\"-\",ROUND((Balance!EL58/Balance!EL$60)*100,1)),\"-\")","v":"-"},{"$f":"IFERROR(IF(Balance!EM58=0,\"-\",ROUND((Balance!EM58/Balance!EM$60)*100,1)),\"-\")","v":"-"},{"$f":"IFERROR(IF(Balance!EN58=0,\"-\",ROUND((Balance!EN58/Balance!EN$60)*100,1)),\"-\")","v":"-"},{"$f":"IFERROR(IF(Balance!EO58=0,\"-\",ROUND((Balance!EO58/Balance!EO$60)*100,1)),\"-\")","v":"-"},{"$f":"IFERROR(IF(Balance!EP58=0,\"-\",ROUND((Balance!EP58/Balance!EP$60)*100,1)),\"-\")","v":"-"},{"$f":"IFERROR(IF(Balance!EQ58=0,\"-\",ROUND((Balance!EQ58/Balance!EQ$60)*100,1)),\"-\")","v":"-"},{"$f":"IFERROR(IF(Balance!ER58=0,\"-\",ROUND((Balance!ER58/Balance!ER$60)*100,1)),\"-\")","v":"-"},{"$f":"IFERROR(IF(Balance!ES58=0,\"-\",ROUND((Balance!ES58/Balance!ES$60)*100,1)),\"-\")","v":"-"},{"$f":"IFERROR(IF(Balance!ET58=0,\"-\",ROUND((Balance!ET58/Balance!ET$60)*100,1)),\"-\")","v":"-"},{"$f":"IFERROR(IF(Balance!EU58=0,\"-\",ROUND((Balance!EU58/Balance!EU$60)*100,1)),\"-\")","v":"-"},{"$f":"IFERROR(IF(Balance!EV58=0,\"-\",ROUND((Balance!EV58/Balance!EV$60)*100,1)),\"-\")","v":"-"},{"$f":"IFERROR(IF(Balance!EW58=0,\"-\",ROUND((Balance!EW58/Balance!EW$60)*100,1)),\"-\")","v":"-"},{"$f":"IFERROR(IF(Balance!EX58=0,\"-\",ROUND((Balance!EX58/Balance!EX$60)*100,1)),\"-\")","v":"-"},{"$f":"IFERROR(IF(Balance!EY58=0,\"-\",ROUND((Balance!EY58/Balance!EY$60)*100,1)),\"-\")","v":"-"},{"$f":"IFERROR(IF(Balance!EZ58=0,\"-\",ROUND((Balance!EZ58/Balance!EZ$60)*100,1)),\"-\")","v":"-"},{"$f":"IFERROR(IF(Balance!FA58=0,\"-\",ROUND((Balance!FA58/Balance!FA$60)*100,1)),\"-\")","v":"-"},{"$f":"IFERROR(IF(Balance!FB58=0,\"-\",ROUND((Balance!FB58/Balance!FB$60)*100,1)),\"-\")","v":"-"}]
[null,"Generación renovable",{"$f":"SUM(C35,C41:C44)","v":3.5999999999999996},{"$f":"SUM(D35,D41:D44)","v":4.5999999999999996},6,7.1,7.6000000000000005,6.5,10.199999999999999,7.5,4.7,5.4,4.5999999999999996,6.5,5.0999999999999996,6.3,5.7,6.2,6.9,6.6,9.9,8.9,6.1999999999999993,4.9000000000000004,4.5999999999999996,5.5,4.7,5.3000000000000007,8.1999999999999993,7.8000000000000007,7.4999999999999991,8,8.1999999999999993,10.799999999999999,{"$f":"SUM(AI35,AI41:AI44)","v":4.8},7.7,6.9,7,7.2,7.3,6.5,12.3,9.8000000000000007,8.3000000000000007,12.100000000000001,12.3,7.6999999999999993,6.1,7.9,7.1000000000000005,6.2,6.5,7.5000000000000009,10.199999999999999,11.2,10.8,10.600000000000001,9,7.7,4.6000000000000005,4.5999999999999996,4.2,3.9,7,6.6000000000000005,6.9999999999999991,{"$f":"SUM(BO35,BO41:BO44)","v":6.6},8.6,10.5,10,6.8999999999999995,5.6999999999999993,4.1999999999999993,6.6,4.6999999999999993,7.3999999999999995,7.6999999999999993,7.3999999999999995,7.3,9.6,11,10.299999999999999,4.8,4.8,4.5999999999999996,4.6999999999999993,6.2999999999999989,7.2999999999999989,5.2999999999999989,8,9.4,11.7,9.6999999999999993,9.1,6.7999999999999989,6.3,6.5,5.4,{"$f":"SUM(CU35,CU41:CU44)","v":6.7999999999999989},8.1999999999999993,10.4,7.9999999999999991,10.4,9.1999999999999993,10.1,12,4.6999999999999993,4.9000000000000004,5.3999999999999995,5.6999999999999993,8.4,9.4999999999999982,9.5,{"$f":"SUM(DJ35,DJ41:DJ44)","v":8.1},10,8.6,12.2,10.299999999999999,5.2999999999999989,4,6.1999999999999993,3.9,5.5,{"$f":"SUM(DT35,DT41:DT44)","v":9.2999999999999989},8.2999999999999989,7.6,8.1,{"$f":"SUM(DX35,DX41:DX44)","v":10.7},11.6,{"$f":"SUM(DZ35,DZ41:DZ44)","v":9.9999999999999982},10,{"$f":"SUM(EB35,EB41:EB44)","v":4.5},4.8999999999999995,{"$f":"SUM(ED35,ED41:ED44)","v":4.4000000000000004},{"$f":"IF(SUM(EE35,EE41:EE44)>0,SUM(EE35,EE41:EE44),\"-\")","v":4.5999999999999996},{"$f":"IF(SUM(EF35,EF41:EF44)>0,SUM(EF35,EF41:EF44),\"-\")","v":6.5},8.6999999999999993,6.4,7.1999999999999993,9.6999999999999993,10.799999999999999,9.6,10.6,5.4,{"$f":"IF(SUM(EO35,EO41:EO44)>0,SUM(EO35,EO41:EO44),\"-\")","v":5.6},7.8999999999999995,{"$f":"IF(SUM(EQ35,EQ41:EQ44)>0,SUM(EQ35,EQ41:EQ44),\"-\")","v":10.700000000000001},{"$f":"IF(SUM(ER35,ER41:ER44)>0,SUM(ER35,ER41:ER44),\"-\")","v":"-"},"-","-","-","-","-","-","-","-","-","-"]
[null,"Generación no renovable",{"$f":"SUM(C36:C40,C45)","v":96.399999999999991},95.399999999999991,94,92.9,92.399999999999991,93.5,89.8,92.5,95.3,94.600000000000009,95.4,93.5,94.9,93.7,94.3,93.8,93.100000000000009,93.4,90.100000000000009,91.100000000000009,93.8,95.1,95.4,94.499999999999986,95.300000000000011,94.699999999999989,91.800000000000011,92.2,92.500000000000014,92,91.800000000000011,89.2,{"$f":"SUM(AI36:AI40,AI45)","v":95.2},92.3,93.1,92.999999999999986,92.800000000000011,92.699999999999989,93.5,87.7,90.199999999999989,91.700000000000017,87.899999999999991,87.7,92.300000000000011,93.9,92.100000000000009,92.899999999999991,93.8,93.5,92.5,89.8,88.8,89.199999999999989,89.4,91,92.300000000000011,95.4,95.4,95.8,96.1,93,93.4,93,{"$f":"SUM(BO36:BO40,BO45)","v":93.399999999999991},91.399999999999991,89.5,90,93.100000000000009,94.300000000000011,95.8,93.4,95.300000000000011,92.6,92.300000000000011,92.600000000000009,92.7,90.4,89,89.700000000000017,95.2,95.2,95.4,95.300000000000011,93.7,92.700000000000017,94.700000000000017,92,90.600000000000009,88.300000000000011,90.300000000000011,90.9,93.2,93.7,93.5,94.6,{"$f":"SUM(CU36:CU40,CU45)","v":93.200000000000017},91.800000000000011,89.6,92,89.6,90.8,89.9,88,95.3,95.1,94.6,94.300000000000011,91.6,90.5,90.500000000000014,91.9,90,91.4,87.800000000000011,89.7,94.700000000000017,96,93.8,96.1,{"$error":"#VALUE!"},{"$f":"SUM(DT36:DT40,DT45)","v":{"$error":"#VALUE!"}},{"$error":"#VALUE!"},{"$error":"#VALUE!"},{"$error":"#VALUE!"},{"$f":"SUM(DX36:DX40,DX45)","v":{"$error":"#VALUE!"}},{"$error":"#VALUE!"},{"$f":"SUM(DZ36:DZ40,DZ45)","v":{"$error":"#VALUE!"}},{"$error":"#VALUE!"},{"$f":"SUM(EB36:EB40,EB45)","v":{"$error":"#VALUE!"}},{"$error":"#VALUE!"},{"$f":"SUM(ED36:ED40,ED45)","v":{"$error":"#VALUE!"}},{"$f":"IF(SUM(EE36:EE40,EE45)>0,SUM(EE36:EE40,EE45),\"-\")","v":95.4},{"$f":"IF(SUM(EF36:EF40,EF45)>0,SUM(EF36:EF40,EF45),\"-\")","v":93.5},91.300000000000011,93.600000000000023,92.8,90.300000000000011,89.200000000000017,90.4,89.4,94.6,{"$f":"IF(SUM(EO36:EO40,EO45)>0,SUM(EO36:EO40,EO45),\"-\")","v":94.399999999999991},92.100000000000009,{"$f":"IF(SUM(EQ36:EQ40,EQ45)>0,SUM(EQ36:EQ40,EQ45),\"-\")","v":89.3},{"$f":"IF(SUM(ER36:ER40,ER45)>0,SUM(ER36:ER40,ER45),\"-\")","v":"-"},"-","-","-","-","-","-","-","-","-","-"]
[]
[null,"Estructura de generación mensual Ceuta (%)","2007-01-01","2007-02-01","2007-03-01","2007-04-01","2007-05-01","2007-06-01","2007-07-01","2007-08-01","2007-09-01","2007-10-01","2007-11-01","2007-12-01","2008-01-01","2008-02-01","2008-03-01","2008-04-01","2008-05-01","2008-06-01","2008-07-01","2008-08-01","2008-09-01","2008-10-01","2008-11-01","2008-12-01","2009-01-01","2009-02-01","2009-03-01","2009-04-01","2009-05-01","2009-06-01","2009-07-01","2009-08-01","2009-09-01","2009-10-01","2009-11-01","2009-12-01","2010-01-01","2010-02-01","2010-03-01","2010-04-01","2010-05-01","2010-06-01","2010-07-01","2010-08-01","2010-09-01","2010-10-01","2010-11-01","2010-12-01","2011-01-01","2011-02-01","2011-03-01","2011-04-01","2011-05-01","2011-06-01","2011-07-01","2011-08-01","2011-09-01","2011-10-01","2011-11-01","2011-12-01","2012-01-01","2012-02-01","2012-03-01","2012-04-01","2012-05-01","2012-06-01","2012-07-01","2012-08-01","2012-09-01","2012-10-01","2012-11-01","2012-12-01","2013-01-01","2013-02-01","2013-03-01","2013-04-01","2013-05-01","2013-06-01","2013-07-01","2013-08-01","2013-09-01","2013-10-01","2013-11-01","2013-12-01","2014-01-01","2014-02-01","2014-03-01","2014-04-01","2014-05-01","2014-06-01","2014-07-01","2014-08-01","2014-09-01","2014-10-01","2014-11-01","2014-12-01","2015-01-01","2015-02-01","2015-03-01","2015-04-01","2015-05-01","2015-06-01","2015-07-01","2015-08-01","2015-09-01","2015-10-01","2015-11-01","2015-12-01","2016-01-01","2016-02-01","2016-03-01","2016-04-01","2016-05-01","2016-06-01","2016-07-01","2016-08-01","2016-09-01","2016-10-01","2016-11-01","2016-12-01","2017-01-01","2017-02-01","2017-03-01","2017-04-01","2017-05-01","2017-06-01","2017-07-01","2017-08-01","2017-09-01","2017-10-01","2017-11-01","2017-12-01","2018-01-01","2018-02-01","2018-03-01","2018-04-01","2018-05-01","2018-06-01","2018-07-01","2018-08-01","2018-09-01","2018-10-01","2018-11-01","2018-12-01"]
[null,"Motores diesel",{"$f":"IF(Balance!C64=0,\"-\",ROUND((Balance!C64/Balance!C$68)*100,1))","v":100},{"$f":"IF(Balance!D64=0,\"-\",ROUND((Balance!D64/Balance!D$68)*100,1))","v":100},{"$f":"IF(Balance!E64=0,\"-\",ROUND((Balance!E64/Balance!E$68)*100,1))","v":100},{"$f":"IF(Balance!F64=0,\"-\",ROUND((Balance!F64/Balance!F$68)*100,1))","v":100},{"$f":"IF(Balance!G64=0,\"-\",ROUND((Balance!G64/Balance!G$68)*100,1))","v":100},{"$f":"IF(Balance!H64=0,\"-\",ROUND((Balance!H64/Balance!H$68)*100,1))","v":100},{"$f":"IF(Balance!I64=0,\"-\",ROUND((Balance!I64/Balance!I$68)*100,1))","v":100},{"$f":"IF(Balance!J64=0,\"-\",ROUND((Balance!J64/Balance!J$68)*100,1))","v":100},{"$f":"IF(Balance!K64=0,\"-\",ROUND((Balance!K64/Balance!K$68)*100,1))","v":100},{"$f":"IF(Balance!L64=0,\"-\",ROUND((Balance!L64/Balance!L$68)*100,1))","v":100},{"$f":"IF(Balance!M64=0,\"-\",ROUND((Balance!M64/Balance!M$68)*100,1))","v":100},{"$f":"IF(Balance!N64=0,\"-\",ROUND((Balance!N64/Balance!N$68)*100,1))","v":100},{"$f":"IF(Balance!O64=0,\"-\",ROUND((Balance!O64/Balance!O$68)*100,1))","v":100},{"$f":"IF(Balance!P64=0,\"-\",ROUND((Balance!P64/Balance!P$68)*100,1))","v":100},{"$f":"IF(Balance!Q64=0,\"-\",ROUND((Balance!Q64/Balance!Q$68)*100,1))","v":100},{"$f":"IF(Balance!R64=0,\"-\",ROUND((Balance!R64/Balance!R$68)*100,1))","v":100},{"$f":"IF(Balance!S64=0,\"-\",ROUND((Balance!S64/Balance!S$68)*100,1))","v":100},{"$f":"IF(Balance!T64=0,\"-\",ROUND((Balance!T64/Balance!T$68)*100,1))","v":100},{"$f":"IF(Balance!U64=0,\"-\",ROUND((Balance!U64/Balance!U$68)*100,1))","v":100},{"$f":"IF(Balance!V64=0,\"-\",ROUND((Balance!V64/Balance!V$68)*100,1))","v":100},{"$f":"IF(Balance!W64=0,\"-\",ROUND((Balance!W64/Balance!W$68)*100,1))","v":100},{"$f":"IF(Balance!X64=0,\"-\",ROUND((Balance!X64/Balance!X$68)*100,1))","v":100},{"$f":"IF(Balance!Y64=0,\"-\",ROUND((Balance!Y64/Balance!Y$68)*100,1))","v":100},{"$f":"IF(Balance!Z64=0,\"-\",ROUND((Balance!Z64/Balance!Z$68)*100,1))","v":100},{"$f":"IF(Balance!AA64=0,\"-\",ROUND((Balance!AA64/Balance!AA$68)*100,1))","v":100},{"$f":"IF(Balance!AB64=0,\"-\",ROUND((Balance!AB64/Balance!AB$68)*100,1))","v":100},{"$f":"IF(Balance!AC64=0,\"-\",ROUND((Balance!AC64/Balance!AC$68)*100,1))","v":100},{"$f":"IF(Balance!AD64=0,\"-\",ROUND((Balance!AD64/Balance!AD$68)*100,1))","v":100},{"$f":"IF(Balance!AE64=0,\"-\",ROUND((Balance!AE64/Balance!AE$68)*100,1))","v":100},{"$f":"IF(Balance!AF64=0,\"-\",ROUND((Balance!AF64/Balance!AF$68)*100,1))","v":100},{"$f":"IF(Balance!AG64=0,\"-\",ROUND((Balance!AG64/Balance!AG$68)*100,1))","v":99.2},{"$f":"IF(Balance!AH64=0,\"-\",ROUND((Balance!AH64/Balance!AH$68)*100,1))","v":90},{"$f":"IF(Balance!AI64=0,\"-\",ROUND((Balance!AI64/Balance!AI$68)*100,1))","v":100},{"$f":"IF(Balance!AJ64=0,\"-\",ROUND((Balance!AJ64/Balance!AJ$68)*100,1))","v":100},{"$f":"IF(Balance!AK64=0,\"-\",ROUND((Balance!AK64/Balance!AK$68)*100,1))","v":94},{"$f":"IF(Balance!AL64=0,\"-\",ROUND((Balance!AL64/Balance!AL$68)*100,1))","v":98.9},{"$f":"IF(Balance!AM64=0,\"-\",ROUND((Balance!AM64/Balance!AM$68)*100,1))","v":89.2},{"$f":"IF(Balance!AN64=0,\"-\",ROUND((Balance!AN64/Balance!AN$68)*100,1))","v":96.8},{"$f":"IF(Balance!AO64=0,\"-\",ROUND((Balance!AO64/Balance!AO$68)*100,1))","v":100},{"$f":"IF(Balance!AP64=0,\"-\",ROUND((Balance!AP64/Balance!AP$68)*100,1))","v":99.1},{"$f":"IF(Balance!AQ64=0,\"-\",ROUND((Balance!AQ64/Balance!AQ$68)*100,1))","v":99.3},{"$f":"IF(Balance!AR64=0,\"-\",ROUND((Balance!AR64/Balance!AR$68)*100,1))","v":100},{"$f":"IF(Balance!AS64=0,\"-\",ROUND((Balance!AS64/Balance!AS$68)*100,1))","v":100},{"$f":"IF(Balance!AT64=0,\"-\",ROUND((Balance!AT64/Balance!AT$68)*100,1))","v":100},{"$f":"IF(Balance!AU64=0,\"-\",ROUND((Balance!AU64/Balance!AU$68)*100,1))","v":100},{"$f":"IF(Balance!AV64=0,\"-\",ROUND((Balance!AV64/Balance!AV$68)*100,1))","v":100},{"$f":"IF(Balance!AW64=0,\"-\",ROUND((Balance!AW64/Balance!AW$68)*100,1))","v":100},{"$f":"IF(Balance!AX64=0,\"-\",ROUND((Balance!AX64/Balance!AX$68)*100,1))","v":100},{"$f":"IF(Balance!AY64=0,\"-\",ROUND((Balance!AY64/Balance!AY$68)*100,1))","v":99.8},{"$f":"IF(Balance!AZ64=0,\"-\",ROUND((Balance!AZ64/Balance!AZ$68)*100,1))","v":99.8},{"$f":"IF(Balance!BA64=0,\"-\",ROUND((Balance!BA64/Balance!BA$68)*100,1))","v":100},{"$f":"IF(Balance!BB64=0,\"-\",ROUND((Balance!BB64/Balance!BB$68)*100,1))","v":100},{"$f":"IF(Balance!BC64=0,\"-\",ROUND((Balance!BC64/Balance!BC$68)*100,1))","v":98.9},{"$f":"IF(Balance!BD64=0,\"-\",ROUND((Balance!BD64/Balance!BD$68)*100,1))","v":99.8},{"$f":"IF(Balance!BE64=0,\"-\",ROUND((Balance!BE64/Balance!BE$68)*100,1))","v":99.9},{"$f":"IF(Balance!BF64=0,\"-\",ROUND((Balance!BF64/Balance!BF$68)*100,1))","v":100},{"$f":"IF(Balance!BG64=0,\"-\",ROUND((Balance!BG64/Balance!BG$68)*100,1))","v":100},{"$f":"IF(Balance!BH64=0,\"-\",ROUND((Balance!BH64/Balance!BH$68)*100,1))","v":100},{"$f":"IF(Balance!BI64=0,\"-\",ROUND((Balance!BI64/Balance!BI$68)*100,1))","v":100},{"$f":"IF(Balance!BJ64=0,\"-\",ROUND((Balance!BJ64/Balance!BJ$68)*100,1))","v":100},{"$f":"IF(Balance!BK64=0,\"-\",ROUND((Balance!BK64/Balance!BK$68)*100,1))","v":100},{"$f":"IF(Balance!BL64=0,\"-\",ROUND((Balance!BL64/Balance!BL$68)*100,1))","v":99.2},{"$f":"IF(Balance!BM64=0,\"-\",ROUND((Balance!BM64/Balance!BM$68)*100,1))","v":99.4},{"$f":"IF(Balance!BN64=0,\"-\",ROUND((Balance!BN64/Balance!BN$68)*100,1))","v":99.9},{"$f":"IF(Balance!BO64=0,\"-\",ROUND((Balance!BO64/Balance!BO$68)*100,1))","v":99.2},{"$f":"IF(Balance!BP64=0,\"-\",ROUND((Balance!BP64/Balance!BP$68)*100,1))","v":99.9},{"$f":"IF(Balance!BQ64=0,\"-\",ROUND((Balance!BQ64/Balance!BQ$68)*100,1))","v":99.9},{"$f":"IF(Balance!BR64=0,\"-\",ROUND((Balance!BR64/Balance!BR$68)*100,1))","v":99.8},{"$f":"IF(Balance!BS64=0,\"-\",ROUND((Balance!BS64/Balance!BS$68)*100,1))","v":100},{"$f":"IF(Balance!BT64=0,\"-\",ROUND((Balance!BT64/Balance!BT$68)*100,1))","v":99.7},{"$f":"IF(Balance!BU64=0,\"-\",ROUND((Balance!BU64/Balance!BU$68)*100,1))","v":99.9},{"$f":"IF(Balance!BV64=0,\"-\",ROUND((Balance!BV64/Balance!BV$68)*100,1))","v":100},{"$f":"IF(Balance!BW64=0,\"-\",ROUND((Balance!BW64/Balance!BW$68)*100,1))","v":99.8},{"$f":"IF(Balance!BX64=0,\"-\",ROUND((Balance!BX64/Balance!BX$68)*100,1))","v":99.7},{"$f":"IF(Balance!BY64=0,\"-\",ROUND((Balance!BY64/Balance!BY$68)*100,1))","v":100},{"$f":"IF(Balance!BZ64=0,\"-\",ROUND((Balance!BZ64/Balance!BZ$68)*100,1))","v":99.8},{"$f":"IF(Balance!CA64=0,\"-\",ROUND((Balance!CA64/Balance!CA$68)*100,1))","v":99.3},{"$f":"IF(Balance!CB64=0,\"-\",ROUND((Balance!CB64/Balance!CB$68)*100,1))","v":99.9},{"$f":"IF(Balance!CC64=0,\"-\",ROUND((Balance!CC64/Balance!CC$68)*100,1))","v":100},{"$f":"IF(Balance!CD64=0,\"-\",ROUND((Balance!CD64/Balance!CD$68)*100,1))","v":100},{"$f":"IF(Balance!CE64=0,\"-\",ROUND((Balance!CE64/Balance!CE$68)*100,1))","v":100},{"$f":"IF(Balance!CF64=0,\"-\",ROUND((Balance!CF64/Balance!CF$68)*100,1))","v":100},{"$f":"IF(Balance!CG64=0,\"-\",ROUND((Balance!CG64/Balance!CG$68)*100,1))","v":99.9},{"$f":"IF(Balance!CH64=0,\"-\",ROUND((Balance!CH64/Balance!CH$68)*100,1))","v":99.9},{"$f":"IF(Balance!CI64=0,\"-\",ROUND((Balance!CI64/Balance!CI$68)*100,1))","v":100},{"$f":"IF(Balance!CJ64=0,\"-\",ROUND((Balance!CJ64/Balance!CJ$68)*100,1))","v":100},{"$f":"IF(Balance!CK64=0,\"-\",ROUND((Balance!CK64/Balance!CK$68)*100,1))","v":99.6},{"$f":"IF(Balance!CL64=0,\"-\",ROUND((Balance!CL64/Balance!CL$68)*100,1))","v":100},{"$f":"IF(Balance!CM64=0,\"-\",ROUND((Balance!CM64/Balance!CM$68)*100,1))","v":100},{"$f":"IF(Balance!CN64=0,\"-\",ROUND((Balance!CN64/Balance!CN$68)*100,1))","v":100},{"$f":"IF(Balance!CO64=0,\"-\",ROUND((Balance!CO64/Balance!CO$68)*100,1))","v":100},{"$f":"IF(Balance!CP64=0,\"-\",ROUND((Balance!CP64/Balance!CP$68)*100,1))","v":100},{"$f":"IF(Balance!CQ64=0,\"-\",ROUND((Balance!CQ64/Balance!CQ$68)*100,1))","v":100},{"$f":"IF(Balance!CR64=0,\"-\",ROUND((Balance!CR64/Balance!CR$68)*100,1))","v":100},{"$f":"IF(Balance!CS64=0,\"-\",ROUND((Balance!CS64/Balance!CS$68)*100,1))","v":99.9},{"$f":"IF(Balance!CT64=0,\"-\",ROUND((Balance!CT64/Balance!CT$68)*100,1))","v":100},{"$f":"IF(Balance!CU64=0,\"-\",ROUND((Balance!CU64/Balance!CU$68)*100,1))","v":100},{"$f":"IF(Balance!CV64=0,\"-\",ROUND((Balance!CV64/Balance!CV$68)*100,1))","v":98.6},{"$f":"IF(Balance!CW64=0,\"-\",ROUND((Balance!CW64/Balance!CW$68)*100,1))","v":100},{"$f":"IF(Balance!CX64=0,\"-\",ROUND((Balance!CX64/Balance!CX$68)*100,1))","v":100},{"$f":"IF(Balance!CY64=0,\"-\",ROUND((Balance!CY64/Balance!CY$68)*100,1))","v":99.6},{"$f":"IF(Balance!CZ64=0,\"-\",ROUND((Balance!CZ64/Balance!CZ$68)*100,1))","v":99.9},{"$f":"IF(Balance!DA64=0,\"-\",ROUND((Balance!DA64/Balance!DA$68)*100,1))","v":99.3},{"$f":"IF(Balance!DB64=0,\"-\",ROUND((Balance!DB64/Balance!DB$68)*100,1))","v":100},{"$f":"IF(Balance!DC64=0,\"-\",ROUND((Balance!DC64/Balance!DC$68)*100,1))","v":100},{"$f":"IF(Balance!DD64=0,\"-\",ROUND((Balance!DD64/Balance!DD$68)*100,1))","v":100},{"$f":"IF(Balance!DE64=0,\"-\",ROUND((Balance!DE64/Balance!DE$68)*100,1))","v":98.2},{"$f":"IF(Balance!DF64=0,\"-\",ROUND((Balance!DF64/Balance!DF$68)*100,1))","v":100},{"$f":"IF(Balance!DG64=0,\"-\",ROUND((Balance!DG64/Balance!DG$68)*100,1))","v":100},{"$f":"IF(Balance!DH64=0,\"-\",ROUND((Balance!DH64/Balance!DH$68)*100,1))","v":100},{"$f":"IF(Balance!DI64=0,\"-\",ROUND((Balance!DI64/Balance!DI$68)*100,1))","v":100},{"$f":"IF(Balance!DJ64=0,\"-\",ROUND((Balance!DJ64/Balance!DJ$68)*100,1))","v":100},{"$f":"IF(Balance!DK64=0,\"-\",ROUND((Balance!DK64/Balance!DK$68)*100,1))","v":100},{"$f":"IF(Balance!DL64=0,\"-\",ROUND((Balance!DL64/Balance!DL$68)*100,1))","v":100},{"$f":"IF(Balance!DM64=0,\"-\",ROUND((Balance!DM64/Balance!DM$68)*100,1))","v":100},{"$f":"IF(Balance!DN64=0,\"-\",ROUND((Balance!DN64/Balance!DN$68)*100,1))","v":100},{"$f":"IF(Balance!DO64=0,\"-\",ROUND((Balance!DO64/Balance!DO$68)*100,1))","v":99.5},{"$f":"IF(Balance!DP64=0,\"-\",ROUND((Balance!DP64/Balance!DP$68)*100,1))","v":100},{"$f":"IF(Balance!DQ64=0,\"-\",ROUND((Balance!DQ64/Balance!DQ$68)*100,1))","v":99.9},{"$f":"IF(Balance!DR64=0,\"-\",ROUND((Balance!DR64/Balance!DR$68)*100,1))","v":100},{"$f":"IFERROR(IF(Balance!DS64=0,\"-\",ROUND((Balance!DS64/Balance!DS$68)*100,1)),\"-\")","v":100},{"$f":"IFERROR(IF(Balance!DT64=0,\"-\",ROUND((Balance!DT64/Balance!DT$68)*100,1)),\"-\")","v":99.9},{"$f":"IFERROR(IF(Balance!DU64=0,\"-\",ROUND((Balance!DU64/Balance!DU$68)*100,1)),\"-\")","v":100},{"$f":"IFERROR(IF(Balance!DV64=0,\"-\",ROUND((Balance!DV64/Balance!DV$68)*100,1)),\"-\")","v":100},{"$f":"IFERROR(IF(Balance!DW64=0,\"-\",ROUND((Balance!DW64/Balance!DW$68)*100,1)),\"-\")","v":100},{"$f":"IFERROR(IF(Balance!DX64=0,\"-\",ROUND((Balance!DX64/Balance!DX$68)*100,1)),\"-\")","v":100},{"$f":"IFERROR(IF(Balance!DY64=0,\"-\",ROUND((Balance!DY64/Balance!DY$68)*100,1)),\"-\")","v":100},{"$f":"IFERROR(IF(Balance!DZ64=0,\"-\",ROUND((Balance!DZ64/Balance!DZ$68)*100,1)),\"-\")","v":100},{"$f":"IFERROR(IF(Balance!EA64=0,\"-\",ROUND((Balance!EA64/Balance!EA$68)*100,1)),\"-\")","v":99.3},{"$f":"IFERROR(IF(Balance!EB64=0,\"-\",ROUND((Balance!EB64/Balance!EB$68)*100,1)),\"-\")","v":100},{"$f":"IFERROR(IF(Balance!EC64=0,\"-\",ROUND((Balance!EC64/Balance!EC$68)*100,1)),\"-\")","v":99.7},{"$f":"IFERROR(IF(Balance!ED64=0,\"-\",ROUND((Balance!ED64/Balance!ED$68)*100,1)),\"-\")","v":100},{"$f":"IFERROR(IF(Balance!EE64=0,\"-\",ROUND((Balance!EE64/Balance!EE$68)*100,1)),\"-\")","v":100},{"$f":"IFERROR(IF(Balance!EF64=0,\"-\",ROUND((Balance!EF64/Balance!EF$68)*100,1)),\"-\")","v":"-"},{"$f":"IFERROR(IF(Balance!EG64=0,\"-\",ROUND((Balance!EG64/Balance!EG$68)*100,1)),\"-\")","v":"-"},{"$f":"IFERROR(IF(Balance!EH64=0,\"-\",ROUND((Balance!EH64/Balance!EH$68)*100,1)),\"-\")","v":"-"},{"$f":"IFERROR(IF(Balance!EI64=0,\"-\",ROUND((Balance!EI64/Balance!EI$68)*100,1)),\"-\")","v":"-"},{"$f":"IFERROR(IF(Balance!EJ64=0,\"-\",ROUND((Balance!EJ64/Balance!EJ$68)*100,1)),\"-\")","v":"-"},{"$f":"IFERROR(IF(Balance!EK64=0,\"-\",ROUND((Balance!EK64/Balance!EK$68)*100,1)),\"-\")","v":"-"},{"$f":"IFERROR(IF(Balance!EL64=0,\"-\",ROUND((Balance!EL64/Balance!EL$68)*100,1)),\"-\")","v":"-"},{"$f":"IFERROR(IF(Balance!EM64=0,\"-\",ROUND((Balance!EM64/Balance!EM$68)*100,1)),\"-\")","v":"-"},{"$f":"IFERROR(IF(Balance!EN64=0,\"-\",ROUND((Balance!EN64/Balance!EN$68)*100,1)),\"-\")","v":"-"},{"$f":"IFERROR(IF(Balance!EO64=0,\"-\",ROUND((Balance!EO64/Balance!EO$68)*100,1)),\"-\")","v":"-"},{"$f":"IFERROR(IF(Balance!EP64=0,\"-\",ROUND((Balance!EP64/Balance!EP$68)*100,1)),\"-\")","v":"-"}]
[null,"Turbina de gas",{"$f":"IF(Balance!C65=0,\"-\",ROUND((Balance!C65/Balance!C$68)*100,1))","v":"-"},{"$f":"IF(Balance!D65=0,\"-\",ROUND((Balance!D65/Balance!D$68)*100,1))","v":"-"},{"$f":"IF(Balance!E65=0,\"-\",ROUND((Balance!E65/Balance!E$68)*100,1))","v":"-"},{"$f":"IF(Balance!F65=0,\"-\",ROUND((Balance!F65/Balance!F$68)*100,1))","v":"-"},{"$f":"IF(Balance!G65=0,\"-\",ROUND((Balance!G65/Balance!G$68)*100,1))","v":"-"},{"$f":"IF(Balance!H65=0,\"-\",ROUND((Balance!H65/Balance!H$68)*100,1))","v":"-"},{"$f":"IF(Balance!I65=0,\"-\",ROUND((Balance!I65/Balance!I$68)*100,1))","v":"-"},{"$f":"IF(Balance!J65=0,\"-\",ROUND((Balance!J65/Balance!J$68)*100,1))","v":"-"},{"$f":"IF(Balance!K65=0,\"-\",ROUND((Balance!K65/Balance!K$68)*100,1))","v":"-"},{"$f":"IF(Balance!L65=0,\"-\",ROUND((Balance!L65/Balance!L$68)*100,1))","v":"-"},{"$f":"IF(Balance!M65=0,\"-\",ROUND((Balance!M65/Balance!M$68)*100,1))","v":"-"},{"$f":"IF(Balance!N65=0,\"-\",ROUND((Balance!N65/Balance!N$68)*100,1))","v":"-"},{"$f":"IF(Balance!O65=0,\"-\",ROUND((Balance!O65/Balance!O$68)*100,1))","v":"-"},{"$f":"IF(Balance!P65=0,\"-\",ROUND((Balance!P65/Balance!P$68)*100,1))","v":"-"},{"$f":"IF(Balance!Q65=0,\"-\",ROUND((Balance!Q65/Balance!Q$68)*100,1))","v":"-"},{"$f":"IF(Balance!R65=0,\"-\",ROUND((Balance!R65/Balance!R$68)*100,1))","v":"-"},{"$f":"IF(Balance!S65=0,\"-\",ROUND((Balance!S65/Balance!S$68)*100,1))","v":"-"},{"$f":"IF(Balance!T65=0,\"-\",ROUND((Balance!T65/Balance!T$68)*100,1))","v":"-"},{"$f":"IF(Balance!U65=0,\"-\",ROUND((Balance!U65/Balance!U$68)*100,1))","v":"-"},{"$f":"IF(Balance!V65=0,\"-\",ROUND((Balance!V65/Balance!V$68)*100,1))","v":"-"},{"$f":"IF(Balance!W65=0,\"-\",ROUND((Balance!W65/Balance!W$68)*100,1))","v":"-"},{"$f":"IF(Balance!X65=0,\"-\",ROUND((Balance!X65/Balance!X$68)*100,1))","v":"-"},{"$f":"IF(Balance!Y65=0,\"-\",ROUND((Balance!Y65/Balance!Y$68)*100,1))","v":"-"},{"$f":"IF(Balance!Z65=0,\"-\",ROUND((Balance!Z65/Balance!Z$68)*100,1))","v":"-"},{"$f":"IF(Balance!AA65=0,\"-\",ROUND((Balance!AA65/Balance!AA$68)*100,1))","v":"-"},{"$f":"IF(Balance!AB65=0,\"-\",ROUND((Balance!AB65/Balance!AB$68)*100,1))","v":"-"},{"$f":"IF(Balance!AC65=0,\"-\",ROUND((Balance!AC65/Balance!AC$68)*100,1))","v":"-"},{"$f":"IF(Balance!AD65=0,\"-\",ROUND((Balance!AD65/Balance!AD$68)*100,1))","v":"-"},{"$f":"IF(Balance!AE65=0,\"-\",ROUND((Balance!AE65/Balance!AE$68)*100,1))","v":"-"},{"$f":"IF(Balance!AF65=0,\"-\",ROUND((Balance!AF65/Balance!AF$68)*100,1))","v":"-"},{"$f":"IF(Balance!AG65=0,\"-\",ROUND((Balance!AG65/Balance!AG$68)*100,1))","v":0.8},{"$f":"IF(Balance!AH65=0,\"-\",ROUND((Balance!AH65/Balance!AH$68)*100,1))","v":10},{"$f":"IF(Balance!AI65=0,\"-\",ROUND((Balance!AI65/Balance!AI$68)*100,1))","v":"-"},{"$f":"IF(Balance!AJ65=0,\"-\",ROUND((Balance!AJ65/Balance!AJ$68)*100,1))","v":"-"},{"$f":"IF(Balance!AK65=0,\"-\",ROUND((Balance!AK65/Balance!AK$68)*100,1))","v":6},{"$f":"IF(Balance!AL65=0,\"-\",ROUND((Balance!AL65/Balance!AL$68)*100,1))","v":1.1000000000000001},{"$f":"IF(Balance!AM65=0,\"-\",ROUND((Balance!AM65/Balance!AM$68)*100,1))","v":10.8},{"$f":"IF(Balance!AN65=0,\"-\",ROUND((Balance!AN65/Balance!AN$68)*100,1))","v":3.2},{"$f":"IF(Balance!AO65=0,\"-\",ROUND((Balance!AO65/Balance!AO$68)*100,1))","v":"-"},{"$f":"IF(Balance!AP65=0,\"-\",ROUND((Balance!AP65/Balance!AP$68)*100,1))","v":0.9},{"$f":"IF(Balance!AQ65=0,\"-\",ROUND((Balance!AQ65/Balance!AQ$68)*100,1))","v":0.7},{"$f":"IF(Balance!AR65=0,\"-\",ROUND((Balance!AR65/Balance!AR$68)*100,1))","v":"-"},{"$f":"IF(Balance!AS65=0,\"-\",ROUND((Balance!AS65/Balance!AS$68)*100,1))","v":"-"},{"$f":"IF(Balance!AT65=0,\"-\",ROUND((Balance!AT65/Balance!AT$68)*100,1))","v":"-"},{"$f":"IF(Balance!AU65=0,\"-\",ROUND((Balance!AU65/Balance!AU$68)*100,1))","v":"-"},{"$f":"IF(Balance!AV65=0,\"-\",ROUND((Balance!AV65/Balance!AV$68)*100,1))","v":"-"},{"$f":"IF(Balance!AW65=0,\"-\",ROUND((Balance!AW65/Balance!AW$68)*100,1))","v":"-"},{"$f":"IF(Balance!AX65=0,\"-\",ROUND((Balance!AX65/Balance!AX$68)*100,1))","v":0},{"$f":"IF(Balance!AY65=0,\"-\",ROUND((Balance!AY65/Balance!AY$68)*100,1))","v":0.2},{"$f":"IF(Balance!AZ65=0,\"-\",ROUND((Balance!AZ65/Balance!AZ$68)*100,1))","v":0.2},{"$f":"IF(Balance!BA65=0,\"-\",ROUND((Balance!BA65/Balance!BA$68)*100,1))","v":"-"},{"$f":"IF(Balance!BB65=0,\"-\",ROUND((Balance!BB65/Balance!BB$68)*100,1))","v":"-"},{"$f":"IF(Balance!BC65=0,\"-\",ROUND((Balance!BC65/Balance!BC$68)*100,1))","v":1.1000000000000001},{"$f":"IF(Balance!BD65=0,\"-\",ROUND((Balance!BD65/Balance!BD$68)*100,1))","v":0.2},{"$f":"IF(Balance!BE65=0,\"-\",ROUND((Balance!BE65/Balance!BE$68)*100,1))","v":0.1},{"$f":"IF(Balance!BF65=0,\"-\",ROUND((Balance!BF65/Balance!BF$68)*100,1))","v":0},{"$f":"IF(Balance!BG65=0,\"-\",ROUND((Balance!BG65/Balance!BG$68)*100,1))","v":"-"},{"$f":"IF(Balance!BH65=0,\"-\",ROUND((Balance!BH65/Balance!BH$68)*100,1))","v":0},{"$f":"IF(Balance!BI65=0,\"-\",ROUND((Balance!BI65/Balance!BI$68)*100,1))","v":0},{"$f":"IF(Balance!BJ65=0,\"-\",ROUND((Balance!BJ65/Balance!BJ$68)*100,1))","v":0},{"$f":"IF(Balance!BK65=0,\"-\",ROUND((Balance!BK65/Balance!BK$68)*100,1))","v":"-"},{"$f":"IF(Balance!BL65=0,\"-\",ROUND((Balance!BL65/Balance!BL$68)*100,1))","v":0.8},{"$f":"IF(Balance!BM65=0,\"-\",ROUND((Balance!BM65/Balance!BM$68)*100,1))","v":0.6},{"$f":"IF(Balance!BN65=0,\"-\",ROUND((Balance!BN65/Balance!BN$68)*100,1))","v":0.1},{"$f":"IF(Balance!BO65=0,\"-\",ROUND((Balance!BO65/Balance!BO$68)*100,1))","v":0.8},{"$f":"IF(Balance!BP65=0,\"-\",ROUND((Balance!BP65/Balance!BP$68)*100,1))","v":0.1},{"$f":"IF(Balance!BQ65=0,\"-\",ROUND((Balance!BQ65/Balance!BQ$68)*100,1))","v":0.1},{"$f":"IF(Balance!BR65=0,\"-\",ROUND((Balance!BR65/Balance!BR$68)*100,1))","v":0.2},{"$f":"IF(Balance!BS65=0,\"-\",ROUND((Balance!BS65/Balance!BS$68)*100,1))","v":0},{"$f":"IF(Balance!BT65=0,\"-\",ROUND((Balance!BT65/Balance!BT$68)*100,1))","v":0.3},{"$f":"IF(Balance!BU65=0,\"-\",ROUND((Balance!BU65/Balance!BU$68)*100,1))","v":0.1},{"$f":"IF(Balance!BV65=0,\"-\",ROUND((Balance!BV65/Balance!BV$68)*100,1))","v":"-"},{"$f":"IF(Balance!BW65=0,\"-\",ROUND((Balance!BW65/Balance!BW$68)*100,1))","v":0.2},{"$f":"IF(Balance!BX65=0,\"-\",ROUND((Balance!BX65/Balance!BX$68)*100,1))","v":0.3},{"$f":"IF(Balance!BY65=0,\"-\",ROUND((Balance!BY65/Balance!BY$68)*100,1))","v":0},{"$f":"IF(Balance!BZ65=0,\"-\",ROUND((Balance!BZ65/Balance!BZ$68)*100,1))","v":0.2},{"$f":"IF(Balance!CA65=0,\"-\",ROUND((Balance!CA65/Balance!CA$68)*100,1))","v":0.7},{"$f":"IF(Balance!CB65=0,\"-\",ROUND((Balance!CB65/Balance!CB$68)*100,1))","v":0.1},{"$f":"IF(Balance!CC65=0,\"-\",ROUND((Balance!CC65/Balance!CC$68)*100,1))","v":"-"},{"$f":"IF(Balance!CD65=0,\"-\",ROUND((Balance!CD65/Balance!CD$68)*100,1))","v":"-"},{"$f":"IF(Balance!CE65=0,\"-\",ROUND((Balance!CE65/Balance!CE$68)*100,1))","v":"-"},{"$f":"IF(Balance!CF65=0,\"-\",ROUND((Balance!CF65/Balance!CF$68)*100,1))","v":"-"},{"$f":"IF(Balance!CG65=0,\"-\",ROUND((Balance!CG65/Balance!CG$68)*100,1))","v":0.1},{"$f":"IF(Balance!CH65=0,\"-\",ROUND((Balance!CH65/Balance!CH$68)*100,1))","v":0.1},{"$f":"IF(Balance!CI65=0,\"-\",ROUND((Balance!CI65/Balance!CI$68)*100,1))","v":0},{"$f":"IF(Balance!CJ65=0,\"-\",ROUND((Balance!CJ65/Balance!CJ$68)*100,1))","v":"-"},{"$f":"IF(Balance!CK65=0,\"-\",ROUND((Balance!CK65/Balance!CK$68)*100,1))","v":0.4},{"$f":"IF(Balance!CL65=0,\"-\",ROUND((Balance!CL65/Balance!CL$68)*100,1))","v":"-"},{"$f":"IF(Balance!CM65=0,\"-\",ROUND((Balance!CM65/Balance!CM$68)*100,1))","v":0},{"$f":"IF(Balance!CN65=0,\"-\",ROUND((Balance!CN65/Balance!CN$68)*100,1))","v":0},{"$f":"IF(Balance!CO65=0,\"-\",ROUND((Balance!CO65/Balance!CO$68)*100,1))","v":"-"},{"$f":"IF(Balance!CP65=0,\"-\",ROUND((Balance!CP65/Balance!CP$68)*100,1))","v":0},{"$f":"IF(Balance!CQ65=0,\"-\",ROUND((Balance!CQ65/Balance!CQ$68)*100,1))","v":0},{"$f":"IF(Balance!CR65=0,\"-\",ROUND((Balance!CR65/Balance!CR$68)*100,1))","v":0},{"$f":"IF(Balance!CS65=0,\"-\",ROUND((Balance!CS65/Balance!CS$68)*100,1))","v":0.1},{"$f":"IF(Balance!CT65=0,\"-\",ROUND((Balance!CT65/Balance!CT$68)*100,1))","v":"-"},{"$f":"IF(Balance!CU65=0,\"-\",ROUND((Balance!CU65/Balance!CU$68)*100,1))","v":0},{"$f":"IF(Balance!CV65=0,\"-\",ROUND((Balance!CV65/Balance!CV$68)*100,1))","v":1.4},{"$f":"IF(Balance!CW65=0,\"-\",ROUND((Balance!CW65/Balance!CW$68)*100,1))","v":0},{"$f":"IF(Balance!CX65=0,\"-\",ROUND((Balance!CX65/Balance!CX$68)*100,1))","v":0},{"$f":"IF(Balance!CY65=0,\"-\",ROUND((Balance!CY65/Balance!CY$68)*100,1))","v":0.4},{"$f":"IF(Balance!CZ65=0,\"-\",ROUND((Balance!CZ65/Balance!CZ$68)*100,1))","v":0.1},{"$f":"IF(Balance!DA65=0,\"-\",ROUND((Balance!DA65/Balance!DA$68)*100,1))","v":0.7},{"$f":"IF(Balance!DB65=0,\"-\",ROUND((Balance!DB65/Balance!DB$68)*100,1))","v":0},{"$f":"IF(Balance!DC65=0,\"-\",ROUND((Balance!DC65/Balance!DC$68)*100,1))","v":0},{"$f":"IF(Balance!DD65=0,\"-\",ROUND((Balance!DD65/Balance!DD$68)*100,1))","v":"-"},{"$f":"IF(Balance!DE65=0,\"-\",ROUND((Balance!DE65/Balance!DE$68)*100,1))","v":1.8},{"$f":"IF(Balance!DF65=0,\"-\",ROUND((Balance!DF65/Balance!DF$68)*100,1))","v":0},{"$f":"IF(Balance!DG65=0,\"-\",ROUND((Balance!DG65/Balance!DG$68)*100,1))","v":0},{"$f":"IF(Balance!DH65=0,\"-\",ROUND((Balance!DH65/Balance!DH$68)*100,1))","v":0},{"$f":"IF(Balance!DI65=0,\"-\",ROUND((Balance!DI65/Balance!DI$68)*100,1))","v":0},{"$f":"IF(Balance!DJ65=0,\"-\",ROUND((Balance!DJ65/Balance!DJ$68)*100,1))","v":0},{"$f":"IF(Balance!DK65=0,\"-\",ROUND((Balance!DK65/Balance!DK$68)*100,1))","v":0},{"$f":"IF(Balance!DL65=0,\"-\",ROUND((Balance!DL65/Balance!DL$68)*100,1))","v":0},{"$f":"IF(Balance!DM65=0,\"-\",ROUND((Balance!DM65/Balance!DM$68)*100,1))","v":0},{"$f":"IF(Balance!DN65=0,\"-\",ROUND((Balance!DN65/Balance!DN$68)*100,1))","v":0},{"$f":"IF(Balance!DO65=0,\"-\",ROUND((Balance!DO65/Balance!DO$68)*100,1))","v":0.5},{"$f":"IF(Balance!DP65=0,\"-\",ROUND((Balance!DP65/Balance!DP$68)*100,1))","v":0},{"$f":"IF(Balance!DQ65=0,\"-\",ROUND((Balance!DQ65/Balance!DQ$68)*100,1))","v":0.1},{"$f":"IF(Balance!DR65=0,\"-\",ROUND((Balance!DR65/Balance!DR$68)*100,1))","v":0},{"$f":"IFERROR(IF(Balance!DS65=0,\"-\",ROUND((Balance!DS65/Balance!DS$68)*100,1)),\"-\")","v":0},{"$f":"IFERROR(IF(Balance!DT65=0,\"-\",ROUND((Balance!DT65/Balance!DT$68)*100,1)),\"-\")","v":0.1},{"$f":"IFERROR(IF(Balance!DU65=0,\"-\",ROUND((Balance!DU65/Balance!DU$68)*100,1)),\"-\")","v":0},{"$f":"IFERROR(IF(Balance!DV65=0,\"-\",ROUND((Balance!DV65/Balance!DV$68)*100,1)),\"-\")","v":0},{"$f":"IFERROR(IF(Balance!DW65=0,\"-\",ROUND((Balance!DW65/Balance!DW$68)*100,1)),\"-\")","v":0},{"$f":"IFERROR(IF(Balance!DX65=0,\"-\",ROUND((Balance!DX65/Balance!DX$68)*100,1)),\"-\")","v":0},{"$f":"IFERROR(IF(Balance!DY65=0,\"-\",ROUND((Balance!DY65/Balance!DY$68)*100,1)),\"-\")","v":0},{"$f":"IFERROR(IF(Balance!DZ65=0,\"-\",ROUND((Balance!DZ65/Balance!DZ$68)*100,1)),\"-\")","v":0},{"$f":"IFERROR(IF(Balance!EA65=0,\"-\",ROUND((Balance!EA65/Balance!EA$68)*100,1)),\"-\")","v":0.7},{"$f":"IFERROR(IF(Balance!EB65=0,\"-\",ROUND((Balance!EB65/Balance!EB$68)*100,1)),\"-\")","v":0},{"$f":"IFERROR(IF(Balance!EC65=0,\"-\",ROUND((Balance!EC65/Balance!EC$68)*100,1)),\"-\")","v":0.3},{"$f":"IFERROR(IF(Balance!ED65=0,\"-\",ROUND((Balance!ED65/Balance!ED$68)*100,1)),\"-\")","v":"-"},{"$f":"IFERROR(IF(Balance!EE65=0,\"-\",ROUND((Balance!EE65/Balance!EE$68)*100,1)),\"-\")","v":0},{"$f":"IFERROR(IF(Balance!EF65=0,\"-\",ROUND((Balance!EF65/Balance!EF$68)*100,1)),\"-\")","v":"-"},{"$f":"IFERROR(IF(Balance!EG65=0,\"-\",ROUND((Balance!EG65/Balance!EG$68)*100,1)),\"-\")","v":"-"},{"$f":"IFERROR(IF(Balance!EH65=0,\"-\",ROUND((Balance!EH65/Balance!EH$68)*100,1)),\"-\")","v":"-"},{"$f":"IFERROR(IF(Balance!EI65=0,\"-\",ROUND((Balance!EI65/Balance!EI$68)*100,1)),\"-\")","v":"-"},{"$f":"IFERROR(IF(Balance!EJ65=0,\"-\",ROUND((Balance!EJ65/Balance!EJ$68)*100,1)),\"-\")","v":"-"},{"$f":"IFERROR(IF(Balance!EK65=0,\"-\",ROUND((Balance!EK65/Balance!EK$68)*100,1)),\"-\")","v":"-"},{"$f":"IFERROR(IF(Balance!EL65=0,\"-\",ROUND((Balance!EL65/Balance!EL$68)*100,1)),\"-\")","v":"-"},{"$f":"IFERROR(IF(Balance!EM65=0,\"-\",ROUND((Balance!EM65/Balance!EM$68)*100,1)),\"-\")","v":"-"},{"$f":"IFERROR(IF(Balance!EN65=0,\"-\",ROUND((Balance!EN65/Balance!EN$68)*100,1)),\"-\")","v":"-"},{"$f":"IFERROR(IF(Balance!EO65=0,\"-\",ROUND((Balance!EO65/Balance!EO$68)*100,1)),\"-\")","v":"-"},{"$f":"IFERROR(IF(Balance!EP65=0,\"-\",ROUND((Balance!EP65/Balance!EP$68)*100,1)),\"-\")","v":"-"}]
[null,"Generación renovable","-","-","-","-","-","-","-","-","-","-","-","-","-","-","-","-","-","-","-","-","-","-","-","-","-","-","-","-","-","-","-","-","-","-","-","-","-","-","-","-","-","-","-","-","-","-","-","-","-","-","-","-","-","-","-","-","-","-","-","-","-","-","-","-","-","-","-","-","-","-","-","-","-","-","-","-","-","-","-","-","-","-","-","-","-","-","-","-","-","-","-","-","-","-","-","-","-","-","-","-","-","-","-","-","-","-","-","-","-","-","-","-","-","-","-","-","-","-","-","-","-","-","-","-","-","-","-","-","-","-","-","-","-","-","-","-","-","-","-","-","-","-","-","-"]
[null,"Generación no renovable",{"$f":"SUM(C50:C51)","v":100},{"$f":"SUM(D50:D51)","v":100},100,100,100,100,100,100,100,100,100,100,100,100,100,100,100,100,100,100,100,100,100,100,100,100,100,100,100,100,100,100,100,100,100,100,100,100,100,100,100,100,100,100,100,100,100,100,100,100,100,100,100,100,100,100,100,100,100,100,100,100,100,100,100,{"$f":"SUM(BP50:BP51)","v":100},100,100,100,100,100,100,100,100,100,100,100,100,100,100,100,100,100,100,100,100,100,100,100,100,100,100,100,100,100,100,100,100,100,100,100,100,100,100,100,100,100,100,100,{"$f":"SUM(DH50:DH51)","v":100},100,100,100,{"$f":"SUM(DL50:DL51)","v":100},100,{"$f":"SUM(DN50:DN51)","v":100},100,{"$f":"SUM(DP50:DP51)","v":100},100,{"$f":"SUM(DR50:DR51)","v":100},{"$f":"IF(SUM(DS50:DS51)>0,SUM(DS50:DS51),\"-\")","v":100},{"$f":"IF(SUM(DT50:DT51)>0,SUM(DT50:DT51),\"-\")","v":100},100,100,100,100,100,100,100,100,100,{"$f":"IF(SUM(ED50:ED51)>0,SUM(ED50:ED51),\"-\")","v":100},{"$f":"IF(SUM(EE50:EE51)>0,SUM(EE50:EE51),\"-\")","v":100},{"$f":"IF(SUM(EF50:EF51)>0,SUM(EF50:EF51),\"-\")","v":"-"},"-","-","-","-","-","-","-","-","-","-"]
[]
[null,"Estructura de generación mensual Melilla (%)","2007-01-01","2007-02-01","2007-03-01","2007-04-01","2007-05-01","2007-06-01","2007-07-01","2007-08-01","2007-09-01","2007-10-01","2007-11-01","2007-12-01","2008-01-01","2008-02-01","2008-03-01","2008-04-01","2008-05-01","2008-06-01","2008-07-01","2008-08-01","2008-09-01","2008-10-01","2008-11-01","2008-12-01","2009-01-01","2009-02-01","2009-03-01","2009-04-01","2009-05-01","2009-06-01","2009-07-01","2009-08-01","2009-09-01","2009-10-01","2009-11-01","2009-12-01","2010-01-01","2010-02-01","2010-03-01","2010-04-01","2010-05-01","2010-06-01","2010-07-01","2010-08-01","2010-09-01","2010-10-01","2010-11-01","2010-12-01","2011-01-01","2011-02-01","2011-03-01","2011-04-01","2011-05-01","2011-06-01","2011-07-01","2011-08-01","2011-09-01","2011-10-01","2011-11-01","2011-12-01","2012-01-01","2012-02-01","2012-03-01","2012-04-01","2012-05-01","2012-06-01","2012-07-01","2012-08-01","2012-09-01","2012-10-01","2012-11-01","2012-12-01","2013-01-01","2013-02-01","2013-03-01","2013-04-01","2013-05-01","2013-06-01","2013-07-01","2013-08-01","2013-09-01","2013-10-01","2013-11-01","2013-12-01","2014-01-01","2014-02-01","2014-03-01","2014-04-01","2014-05-01","2014-06-01","2014-07-01","2014-08-01","2014-09-01","2014-10-01","2014-11-01","2014-12-01","2015-01-01","2015-02-01","2015-03-01","2015-04-01","2015-05-01","2015-06-01","2015-07-01","2015-08-01","2015-09-01","2015-10-01","2015-11-01","2015-12-01","2016-01-01","2016-02-01","2016-03-01","2016-04-01","2016-05-01","2016-06-01","2016-07-01","2016-08-01","2016-09-01","2016-10-01","2016-11-01","2016-12-01","2017-01-01","2017-02-01","2017-03-01","2017-04-01","2017-05-01","2017-06-01","2017-07-01","2017-08-01","2017-09-01","2017-10-01","2017-11-01","2017-12-01","2017-01-01","2016-02-01","2015-03-01","2014-04-01","2013-05-01","2012-06-01","2011-07-01","2010-08-01","2009-09-01","2008-10-01","2007-11-01","2006-12-01"]
[null,"Motores diesel",{"$f":"100-SUM(C57:C61)","v":92.6},{"$f":"100-SUM(D57:D61)","v":93.4},92.5,94.8,94.1,94.9,95.4,94.2,98.1,96.1,91.7,92.3,89.8,92.3,91.5,93.7,94.9,95.1,98.9,99.6,98.8,98.4,98.6,99.9,95.5,95.2,94.6,93.6,94.8,95.2,96,96.1,95.4,100,99.2,95.4,95.9,96.1,95.5,94.7,94.2,95.5,95.6,96.1,95,97,99.7,96.8,94.7,95.2,95,94.9,95.9,96.1,95.4,96.6,96.2,98.1,99.6,99.9,100,100,100,99.5,99.9,{"$f":"100-SUM(BP57:BP61)","v":100},99.9,99.2,96.6,99.7,95.9,95.4,95.6,96,96.3,95.4,96.1,95.1,96.4,96.8,96.7,94.6,99,95.1,95.1,94.4,94.6,94.9,95.8,95.7,95.7,96.5,95.9,95,97.7,93.2,93.9,95.4,94.9,95.2,95.2,95.8,96.6,96.8,96,95.2,98,95,94.2,94.8,95.1,93.6,95.2,95.2,95.5,95.9,95.5,94.2,98.6,94.2,95.2,94.6,94.6,94.6,94.6,95.2,95.6,96.8,95,{"$f":"100-SUM(EB57:EB61)","v":94.4},98.9,93.5,{"$f":"100-SUM(EE57:EE61)","v":96.1},"-","-","-","-","-","-","-","-","-","-","-"]
[null,"Turbina de gas",{"$f":"IF(Balance!C73=0,\"-\",ROUND((Balance!C73/Balance!C$81)*100,1))","v":2.5},{"$f":"IF(Balance!D73=0,\"-\",ROUND((Balance!D73/Balance!D$81)*100,1))","v":1.5},{"$f":"IF(Balance!E73=0,\"-\",ROUND((Balance!E73/Balance!E$81)*100,1))","v":1.8},{"$f":"IF(Balance!F73=0,\"-\",ROUND((Balance!F73/Balance!F$81)*100,1))","v":0.7},{"$f":"IF(Balance!G73=0,\"-\",ROUND((Balance!G73/Balance!G$81)*100,1))","v":0.4},{"$f":"IF(Balance!H73=0,\"-\",ROUND((Balance!H73/Balance!H$81)*100,1))","v":0},{"$f":"IF(Balance!I73=0,\"-\",ROUND((Balance!I73/Balance!I$81)*100,1))","v":0.7},{"$f":"IF(Balance!J73=0,\"-\",ROUND((Balance!J73/Balance!J$81)*100,1))","v":1.3},{"$f":"IF(Balance!K73=0,\"-\",ROUND((Balance!K73/Balance!K$81)*100,1))","v":0.2},{"$f":"IF(Balance!L73=0,\"-\",ROUND((Balance!L73/Balance!L$81)*100,1))","v":0.3},{"$f":"IF(Balance!M73=0,\"-\",ROUND((Balance!M73/Balance!M$81)*100,1))","v":3.1},{"$f":"IF(Balance!N73=0,\"-\",ROUND((Balance!N73/Balance!N$81)*100,1))","v":2.7},{"$f":"IF(Balance!O73=0,\"-\",ROUND((Balance!O73/Balance!O$81)*100,1))","v":4.8},{"$f":"IF(Balance!P73=0,\"-\",ROUND((Balance!P73/Balance!P$81)*100,1))","v":2.7},{"$f":"IF(Balance!Q73=0,\"-\",ROUND((Balance!Q73/Balance!Q$81)*100,1))","v":3.1},{"$f":"IF(Balance!R73=0,\"-\",ROUND((Balance!R73/Balance!R$81)*100,1))","v":1.1000000000000001},{"$f":"IF(Balance!S73=0,\"-\",ROUND((Balance!S73/Balance!S$81)*100,1))","v":0.3},{"$f":"IF(Balance!T73=0,\"-\",ROUND((Balance!T73/Balance!T$81)*100,1))","v":0.8},{"$f":"IF(Balance!U73=0,\"-\",ROUND((Balance!U73/Balance!U$81)*100,1))","v":1.1000000000000001},{"$f":"IF(Balance!V73=0,\"-\",ROUND((Balance!V73/Balance!V$81)*100,1))","v":0.4},{"$f":"IF(Balance!W73=0,\"-\",ROUND((Balance!W73/Balance!W$81)*100,1))","v":1.2},{"$f":"IF(Balance!X73=0,\"-\",ROUND((Balance!X73/Balance!X$81)*100,1))","v":1.6},{"$f":"IF(Balance!Y73=0,\"-\",ROUND((Balance!Y73/Balance!Y$81)*100,1))","v":1.4},{"$f":"IF(Balance!Z73=0,\"-\",ROUND((Balance!Z73/Balance!Z$81)*100,1))","v":0.1},{"$f":"IF(Balance!AA73=0,\"-\",ROUND((Balance!AA73/Balance!AA$81)*100,1))","v":0.1},{"$f":"IF(Balance!AB73=0,\"-\",ROUND((Balance!AB73/Balance!AB$81)*100,1))","v":0.1},{"$f":"IF(Balance!AC73=0,\"-\",ROUND((Balance!AC73/Balance!AC$81)*100,1))","v":0.5},{"$f":"IF(Balance!AD73=0,\"-\",ROUND((Balance!AD73/Balance!AD$81)*100,1))","v":0.3},{"$f":"IF(Balance!AE73=0,\"-\",ROUND((Balance!AE73/Balance!AE$81)*100,1))","v":0},{"$f":"IF(Balance!AF73=0,\"-\",ROUND((Balance!AF73/Balance!AF$81)*100,1))","v":0.4},{"$f":"IF(Balance!AG73=0,\"-\",ROUND((Balance!AG73/Balance!AG$81)*100,1))","v":"-"},{"$f":"IF(Balance!AH73=0,\"-\",ROUND((Balance!AH73/Balance!AH$81)*100,1))","v":0.3},{"$f":"IF(Balance!AI73=0,\"-\",ROUND((Balance!AI73/Balance!AI$81)*100,1))","v":0.5},{"$f":"IF(Balance!AJ73=0,\"-\",ROUND((Balance!AJ73/Balance!AJ$81)*100,1))","v":0},{"$f":"IF(Balance!AK73=0,\"-\",ROUND((Balance!AK73/Balance!AK$81)*100,1))","v":0.8},{"$f":"IF(Balance!AL73=0,\"-\",ROUND((Balance!AL73/Balance!AL$81)*100,1))","v":0.3},{"$f":"IF(Balance!AM73=0,\"-\",ROUND((Balance!AM73/Balance!AM$81)*100,1))","v":0.1},{"$f":"IF(Balance!AN73=0,\"-\",ROUND((Balance!AN73/Balance!AN$81)*100,1))","v":0.1},{"$f":"IF(Balance!AO73=0,\"-\",ROUND((Balance!AO73/Balance!AO$81)*100,1))","v":0},{"$f":"IF(Balance!AP73=0,\"-\",ROUND((Balance!AP73/Balance!AP$81)*100,1))","v":0.2},{"$f":"IF(Balance!AQ73=0,\"-\",ROUND((Balance!AQ73/Balance!AQ$81)*100,1))","v":0.2},{"$f":"IF(Balance!AR73=0,\"-\",ROUND((Balance!AR73/Balance!AR$81)*100,1))","v":0.5},{"$f":"IF(Balance!AS73=0,\"-\",ROUND((Balance!AS73/Balance!AS$81)*100,1))","v":0.5},{"$f":"IF(Balance!AT73=0,\"-\",ROUND((Balance!AT73/Balance!AT$81)*100,1))","v":0.2},{"$f":"IF(Balance!AU73=0,\"-\",ROUND((Balance!AU73/Balance!AU$81)*100,1))","v":0.2},{"$f":"IF(Balance!AV73=0,\"-\",ROUND((Balance!AV73/Balance!AV$81)*100,1))","v":0.2},{"$f":"IF(Balance!AW73=0,\"-\",ROUND((Balance!AW73/Balance!AW$81)*100,1))","v":0.3},{"$f":"IF(Balance!AX73=0,\"-\",ROUND((Balance!AX73/Balance!AX$81)*100,1))","v":0.2},{"$f":"IF(Balance!AY73=0,\"-\",ROUND((Balance!AY73/Balance!AY$81)*100,1))","v":0.2},{"$f":"IF(Balance!AZ73=0,\"-\",ROUND((Balance!AZ73/Balance!AZ$81)*100,1))","v":0},{"$f":"IF(Balance!BA73=0,\"-\",ROUND((Balance!BA73/Balance!BA$81)*100,1))","v":0},{"$f":"IF(Balance!BB73=0,\"-\",ROUND((Balance!BB73/Balance!BB$81)*100,1))","v":0.3},{"$f":"IF(Balance!BC73=0,\"-\",ROUND((Balance!BC73/Balance!BC$81)*100,1))","v":0.1},{"$f":"IF(Balance!BD73=0,\"-\",ROUND((Balance!BD73/Balance!BD$81)*100,1))","v":0.2},{"$f":"IF(Balance!BE73=0,\"-\",ROUND((Balance!BE73/Balance!BE$81)*100,1))","v":0.7},{"$f":"IF(Balance!BF73=0,\"-\",ROUND((Balance!BF73/Balance!BF$81)*100,1))","v":0.2},{"$f":"IF(Balance!BG73=0,\"-\",ROUND((Balance!BG73/Balance!BG$81)*100,1))","v":0.1},{"$f":"IF(Balance!BH73=0,\"-\",ROUND((Balance!BH73/Balance!BH$81)*100,1))","v":0.7},{"$f":"IF(Balance!BI73=0,\"-\",ROUND((Balance!BI73/Balance!BI$81)*100,1))","v":0.3},{"$f":"IF(Balance!BJ73=0,\"-\",ROUND((Balance!BJ73/Balance!BJ$81)*100,1))","v":0.1},{"$f":"IF(Balance!BK73=0,\"-\",ROUND((Balance!BK73/Balance!BK$81)*100,1))","v":0},{"$f":"IF(Balance!BL73=0,\"-\",ROUND((Balance!BL73/Balance!BL$81)*100,1))","v":"-"},{"$f":"IF(Balance!BM73=0,\"-\",ROUND((Balance!BM73/Balance!BM$81)*100,1))","v":"-"},{"$f":"IF(Balance!BN73=0,\"-\",ROUND((Balance!BN73/Balance!BN$81)*100,1))","v":0},{"$f":"IF(Balance!BO73=0,\"-\",ROUND((Balance!BO73/Balance!BO$81)*100,1))","v":0},{"$f":"IF(Balance!BP73=0,\"-\",ROUND((Balance!BP73/Balance!BP$81)*100,1))","v":0},{"$f":"IF(Balance!BQ73=0,\"-\",ROUND((Balance!BQ73/Balance!BQ$81)*100,1))","v":0.1},{"$f":"IF(Balance!BR73=0,\"-\",ROUND((Balance!BR73/Balance!BR$81)*100,1))","v":"-"},{"$f":"IF(Balance!BS73=0,\"-\",ROUND((Balance!BS73/Balance!BS$81)*100,1))","v":0.4},{"$f":"IF(Balance!BT73=0,\"-\",ROUND((Balance!BT73/Balance!BT$81)*100,1))","v":"-"},{"$f":"IF(Balance!BU73=0,\"-\",ROUND((Balance!BU73/Balance!BU$81)*100,1))","v":0},{"$f":"IF(Balance!BV73=0,\"-\",ROUND((Balance!BV73/Balance!BV$81)*100,1))","v":"-"},{"$f":"IF(Balance!BW73=0,\"-\",ROUND((Balance!BW73/Balance!BW$81)*100,1))","v":"-"},{"$f":"IF(Balance!BX73=0,\"-\",ROUND((Balance!BX73/Balance!BX$81)*100,1))","v":0},{"$f":"IF(Balance!BY73=0,\"-\",ROUND((Balance!BY73/Balance!BY$81)*100,1))","v":"-"},{"$f":"IF(Balance!BZ73=0,\"-\",ROUND((Balance!BZ73/Balance!BZ$81)*100,1))","v":"-"},{"$f":"IF(Balance!CA73=0,\"-\",ROUND((Balance!CA73/Balance!CA$81)*100,1))","v":0},{"$f":"IF(Balance!CB73=0,\"-\",ROUND((Balance!CB73/Balance!CB$81)*100,1))","v":0},{"$f":"IF(Balance!CC73=0,\"-\",ROUND((Balance!CC73/Balance!CC$81)*100,1))","v":0},{"$f":"IF(Balance!CD73=0,\"-\",ROUND((Balance!CD73/Balance!CD$81)*100,1))","v":"-"},{"$f":"IF(Balance!CE73=0,\"-\",ROUND((Balance!CE73/Balance!CE$81)*100,1))","v":"-"},{"$f":"IF(Balance!CF73=0,\"-\",ROUND((Balance!CF73/Balance!CF$81)*100,1))","v":0.4},{"$f":"IF(Balance!CG73=0,\"-\",ROUND((Balance!CG73/Balance!CG$81)*100,1))","v":"-"},{"$f":"IF(Balance!CH73=0,\"-\",ROUND((Balance!CH73/Balance!CH$81)*100,1))","v":0.1},{"$f":"IF(Balance!CI73=0,\"-\",ROUND((Balance!CI73/Balance!CI$81)*100,1))","v":0},{"$f":"IF(Balance!CJ73=0,\"-\",ROUND((Balance!CJ73/Balance!CJ$81)*100,1))","v":0.3},{"$f":"IF(Balance!CK73=0,\"-\",ROUND((Balance!CK73/Balance!CK$81)*100,1))","v":0.1},{"$f":"IF(Balance!CL73=0,\"-\",ROUND((Balance!CL73/Balance!CL$81)*100,1))","v":"-"},{"$f":"IF(Balance!CM73=0,\"-\",ROUND((Balance!CM73/Balance!CM$81)*100,1))","v":"-"},{"$f":"IF(Balance!CN73=0,\"-\",ROUND((Balance!CN73/Balance!CN$81)*100,1))","v":0.4},{"$f":"IF(Balance!CO73=0,\"-\",ROUND((Balance!CO73/Balance!CO$81)*100,1))","v":0.2},{"$f":"IF(Balance!CP73=0,\"-\",ROUND((Balance!CP73/Balance!CP$81)*100,1))","v":"-"},{"$f":"IF(Balance!CQ73=0,\"-\",ROUND((Balance!CQ73/Balance!CQ$81)*100,1))","v":0.3},{"$f":"IF(Balance!CR73=0,\"-\",ROUND((Balance!CR73/Balance!CR$81)*100,1))","v":0.5},{"$f":"IF(Balance!CS73=0,\"-\",ROUND((Balance!CS73/Balance!CS$81)*100,1))","v":1.2},{"$f":"IF(Balance!CT73=0,\"-\",ROUND((Balance!CT73/Balance!CT$81)*100,1))","v":1.3},{"$f":"IF(Balance!CU73=0,\"-\",ROUND((Balance!CU73/Balance!CU$81)*100,1))","v":1.7},{"$f":"IF(Balance!CV73=0,\"-\",ROUND((Balance!CV73/Balance!CV$81)*100,1))","v":"-"},{"$f":"IF(Balance!CW73=0,\"-\",ROUND((Balance!CW73/Balance!CW$81)*100,1))","v":0.3},{"$f":"IF(Balance!CX73=0,\"-\",ROUND((Balance!CX73/Balance!CX$81)*100,1))","v":"-"},{"$f":"IF(Balance!CY73=0,\"-\",ROUND((Balance!CY73/Balance!CY$81)*100,1))","v":"-"},{"$f":"IF(Balance!CZ73=0,\"-\",ROUND((Balance!CZ73/Balance!CZ$81)*100,1))","v":0},{"$f":"IF(Balance!DA73=0,\"-\",ROUND((Balance!DA73/Balance!DA$81)*100,1))","v":0.6},{"$f":"IF(Balance!DB73=0,\"-\",ROUND((Balance!DB73/Balance!DB$81)*100,1))","v":0},{"$f":"IF(Balance!DC73=0,\"-\",ROUND((Balance!DC73/Balance!DC$81)*100,1))","v":"-"},{"$f":"IF(Balance!DD73=0,\"-\",ROUND((Balance!DD73/Balance!DD$81)*100,1))","v":"-"},{"$f":"IF(Balance!DE73=0,\"-\",ROUND((Balance!DE73/Balance!DE$81)*100,1))","v":0.6},{"$f":"IF(Balance!DF73=0,\"-\",ROUND((Balance!DF73/Balance!DF$81)*100,1))","v":0},{"$f":"IF(Balance!DG73=0,\"-\",ROUND((Balance!DG73/Balance!DG$81)*100,1))","v":"-"},{"$f":"IF(Balance!DH73=0,\"-\",ROUND((Balance!DH73/Balance!DH$81)*100,1))","v":0},{"$f":"IF(Balance!DI73=0,\"-\",ROUND((Balance!DI73/Balance!DI$81)*100,1))","v":0},{"$f":"IF(Balance!DJ73=0,\"-\",ROUND((Balance!DJ73/Balance!DJ$81)*100,1))","v":0.7},{"$f":"IF(Balance!DK73=0,\"-\",ROUND((Balance!DK73/Balance!DK$81)*100,1))","v":0.1},{"$f":"IF(Balance!DL73=0,\"-\",ROUND((Balance!DL73/Balance!DL$81)*100,1))","v":0.2},{"$f":"IF(Balance!DM73=0,\"-\",ROUND((Balance!DM73/Balance!DM$81)*100,1))","v":0.3},{"$f":"IF(Balance!DN73=0,\"-\",ROUND((Balance!DN73/Balance!DN$81)*100,1))","v":0.1},{"$f":"IF(Balance!DO73=0,\"-\",ROUND((Balance!DO73/Balance!DO$81)*100,1))","v":0.1},{"$f":"IF(Balance!DP73=0,\"-\",ROUND((Balance!DP73/Balance!DP$81)*100,1))","v":"-"},{"$f":"IF(Balance!DQ73=0,\"-\",ROUND((Balance!DQ73/Balance!DQ$81)*100,1))","v":"-"},{"$f":"IF(Balance!DR73=0,\"-\",ROUND((Balance!DR73/Balance!DR$81)*100,1))","v":0},{"$f":"IF(Balance!DS73=0,\"-\",ROUND((Balance!DS73/Balance!DS$81)*100,1))","v":"-"},{"$f":"IF(Balance!DT73=0,\"-\",ROUND((Balance!DT73/Balance!DT$81)*100,1))","v":0},{"$f":"IF(Balance!DU73=0,\"-\",ROUND((Balance!DU73/Balance!DU$81)*100,1))","v":0},{"$f":"IF(Balance!DV73=0,\"-\",ROUND((Balance!DV73/Balance!DV$81)*100,1))","v":"-"},{"$f":"IF(Balance!DW73=0,\"-\",ROUND((Balance!DW73/Balance!DW$81)*100,1))","v":"-"},{"$f":"IF(Balance!DX73=0,\"-\",ROUND((Balance!DX73/Balance!DX$81)*100,1))","v":0},{"$f":"IF(Balance!DY73=0,\"-\",ROUND((Balance!DY73/Balance!DY$81)*100,1))","v":"-"},{"$f":"IF(Balance!DZ73=0,\"-\",ROUND((Balance!DZ73/Balance!DZ$81)*100,1))","v":"-"},{"$f":"IF(Balance!EA73=0,\"-\",ROUND((Balance!EA73/Balance!EA$81)*100,1))","v":"-"},{"$f":"IF(Balance!EB73=0,\"-\",ROUND((Balance!EB73/Balance!EB$81)*100,1))","v":"-"},{"$f":"IF(Balance!EC73=0,\"-\",ROUND((Balance!EC73/Balance!EC$81)*100,1))","v":0.1},{"$f":"IF(Balance!ED73=0,\"-\",ROUND((Balance!ED73/Balance!ED$81)*100,1))","v":0.3},{"$f":"IF(Balance!EE73=0,\"-\",ROUND((Balance!EE73/Balance!EE$81)*100,1))","v":0.1},"-","-","-","-","-","-","-","-","-","-","-"]
[null,"Solar fotovoltaica",{"$f":"IF(Balance!C76=0,\"-\",ROUND((Balance!C76/Balance!C$81)*100,1))","v":"-"},{"$f":"IF(Balance!D76=0,\"-\",ROUND((Balance!D76/Balance!D$81)*100,1))","v":"-"},{"$f":"IF(Balance!E76=0,\"-\",ROUND((Balance!E76/Balance!E$81)*100,1))","v":"-"},{"$f":"IF(Balance!F76=0,\"-\",ROUND((Balance!F76/Balance!F$81)*100,1))","v":"-"},{"$f":"IF(Balance!G76=0,\"-\",ROUND((Balance!G76/Balance!G$81)*100,1))","v":"-"},{"$f":"IF(Balance!H76=0,\"-\",ROUND((Balance!H76/Balance!H$81)*100,1))","v":"-"},{"$f":"IF(Balance!I76=0,\"-\",ROUND((Balance!I76/Balance!I$81)*100,1))","v":"-"},{"$f":"IF(Balance!J76=0,\"-\",ROUND((Balance!J76/Balance!J$81)*100,1))","v":"-"},{"$f":"IF(Balance!K76=0,\"-\",ROUND((Balance!K76/Balance!K$81)*100,1))","v":"-"},{"$f":"IF(Balance!L76=0,\"-\",ROUND((Balance!L76/Balance!L$81)*100,1))","v":"-"},{"$f":"IF(Balance!M76=0,\"-\",ROUND((Balance!M76/Balance!M$81)*100,1))","v":"-"},{"$f":"IF(Balance!N76=0,\"-\",ROUND((Balance!N76/Balance!N$81)*100,1))","v":"-"},{"$f":"IF(Balance!O76=0,\"-\",ROUND((Balance!O76/Balance!O$81)*100,1))","v":0},{"$f":"IF(Balance!P76=0,\"-\",ROUND((Balance!P76/Balance!P$81)*100,1))","v":"-"},{"$f":"IF(Balance!Q76=0,\"-\",ROUND((Balance!Q76/Balance!Q$81)*100,1))","v":"-"},{"$f":"IF(Balance!R76=0,\"-\",ROUND((Balance!R76/Balance!R$81)*100,1))","v":"-"},{"$f":"IF(Balance!S76=0,\"-\",ROUND((Balance!S76/Balance!S$81)*100,1))","v":"-"},{"$f":"IF(Balance!T76=0,\"-\",ROUND((Balance!T76/Balance!T$81)*100,1))","v":0},{"$f":"IF(Balance!U76=0,\"-\",ROUND((Balance!U76/Balance!U$81)*100,1))","v":0},{"$f":"IF(Balance!V76=0,\"-\",ROUND((Balance!V76/Balance!V$81)*100,1))","v":0},{"$f":"IF(Balance!W76=0,\"-\",ROUND((Balance!W76/Balance!W$81)*100,1))","v":0},{"$f":"IF(Balance!X76=0,\"-\",ROUND((Balance!X76/Balance!X$81)*100,1))","v":"-"},{"$f":"IF(Balance!Y76=0,\"-\",ROUND((Balance!Y76/Balance!Y$81)*100,1))","v":0},{"$f":"IF(Balance!Z76=0,\"-\",ROUND((Balance!Z76/Balance!Z$81)*100,1))","v":"-"},{"$f":"IF(Balance!AA76=0,\"-\",ROUND((Balance!AA76/Balance!AA$81)*100,1))","v":0},{"$f":"IF(Balance!AB76=0,\"-\",ROUND((Balance!AB76/Balance!AB$81)*100,1))","v":0.1},{"$f":"IF(Balance!AC76=0,\"-\",ROUND((Balance!AC76/Balance!AC$81)*100,1))","v":0.1},{"$f":"IF(Balance!AD76=0,\"-\",ROUND((Balance!AD76/Balance!AD$81)*100,1))","v":0.2},{"$f":"IF(Balance!AE76=0,\"-\",ROUND((Balance!AE76/Balance!AE$81)*100,1))","v":0.1},{"$f":"IF(Balance!AF76=0,\"-\",ROUND((Balance!AF76/Balance!AF$81)*100,1))","v":0},{"$f":"IF(Balance!AG76=0,\"-\",ROUND((Balance!AG76/Balance!AG$81)*100,1))","v":0},{"$f":"IF(Balance!AH76=0,\"-\",ROUND((Balance!AH76/Balance!AH$81)*100,1))","v":0},{"$f":"IF(Balance!AI76=0,\"-\",ROUND((Balance!AI76/Balance!AI$81)*100,1))","v":0},{"$f":"IF(Balance!AJ76=0,\"-\",ROUND((Balance!AJ76/Balance!AJ$81)*100,1))","v":0},{"$f":"IF(Balance!AK76=0,\"-\",ROUND((Balance!AK76/Balance!AK$81)*100,1))","v":"-"},{"$f":"IF(Balance!AL76=0,\"-\",ROUND((Balance!AL76/Balance!AL$81)*100,1))","v":0},{"$f":"IF(Balance!AM76=0,\"-\",ROUND((Balance!AM76/Balance!AM$81)*100,1))","v":0},{"$f":"IF(Balance!AN76=0,\"-\",ROUND((Balance!AN76/Balance!AN$81)*100,1))","v":0},{"$f":"IF(Balance!AO76=0,\"-\",ROUND((Balance!AO76/Balance!AO$81)*100,1))","v":0},{"$f":"IF(Balance!AP76=0,\"-\",ROUND((Balance!AP76/Balance!AP$81)*100,1))","v":0},{"$f":"IF(Balance!AQ76=0,\"-\",ROUND((Balance!AQ76/Balance!AQ$81)*100,1))","v":0.1},{"$f":"IF(Balance!AR76=0,\"-\",ROUND((Balance!AR76/Balance!AR$81)*100,1))","v":0},{"$f":"IF(Balance!AS76=0,\"-\",ROUND((Balance!AS76/Balance!AS$81)*100,1))","v":0},{"$f":"IF(Balance!AT76=0,\"-\",ROUND((Balance!AT76/Balance!AT$81)*100,1))","v":0},{"$f":"IF(Balance!AU76=0,\"-\",ROUND((Balance!AU76/Balance!AU$81)*100,1))","v":0},{"$f":"IF(Balance!AV76=0,\"-\",ROUND((Balance!AV76/Balance!AV$81)*100,1))","v":0},{"$f":"IF(Balance!AW76=0,\"-\",ROUND((Balance!AW76/Balance!AW$81)*100,1))","v":0},{"$f":"IF(Balance!AX76=0,\"-\",ROUND((Balance!AX76/Balance!AX$81)*100,1))","v":0},{"$f":"IF(Balance!AY76=0,\"-\",ROUND((Balance!AY76/Balance!AY$81)*100,1))","v":0},{"$f":"IF(Balance!AZ76=0,\"-\",ROUND((Balance!AZ76/Balance!AZ$81)*100,1))","v":0},{"$f":"IF(Balance!BA76=0,\"-\",ROUND((Balance!BA76/Balance!BA$81)*100,1))","v":0},{"$f":"IF(Balance!BB76=0,\"-\",ROUND((Balance!BB76/Balance!BB$81)*100,1))","v":0},{"$f":"IF(Balance!BC76=0,\"-\",ROUND((Balance!BC76/Balance!BC$81)*100,1))","v":0},{"$f":"IF(Balance!BD76=0,\"-\",ROUND((Balance!BD76/Balance!BD$81)*100,1))","v":0},{"$f":"IF(Balance!BE76=0,\"-\",ROUND((Balance!BE76/Balance!BE$81)*100,1))","v":0},{"$f":"IF(Balance!BF76=0,\"-\",ROUND((Balance!BF76/Balance!BF$81)*100,1))","v":0},{"$f":"IF(Balance!BG76=0,\"-\",ROUND((Balance!BG76/Balance!BG$81)*100,1))","v":0},{"$f":"IF(Balance!BH76=0,\"-\",ROUND((Balance!BH76/Balance!BH$81)*100,1))","v":0},{"$f":"IF(Balance!BI76=0,\"-\",ROUND((Balance!BI76/Balance!BI$81)*100,1))","v":0},{"$f":"IF(Balance!BJ76=0,\"-\",ROUND((Balance!BJ76/Balance!BJ$81)*100,1))","v":0},{"$f":"IF(Balance!BK76=0,\"-\",ROUND((Balance!BK76/Balance!BK$81)*100,1))","v":0},{"$f":"IF(Balance!BL76=0,\"-\",ROUND((Balance!BL76/Balance!BL$81)*100,1))","v":0},{"$f":"IF(Balance!BM76=0,\"-\",ROUND((Balance!BM76/Balance!BM$81)*100,1))","v":0},{"$f":"IF(Balance!BN76=0,\"-\",ROUND((Balance!BN76/Balance!BN$81)*100,1))","v":0.1},{"$f":"IF(Balance!BO76=0,\"-\",ROUND((Balance!BO76/Balance!BO$81)*100,1))","v":0.1},{"$f":"IF(Balance!BP76=0,\"-\",ROUND((Balance!BP76/Balance!BP$81)*100,1))","v":0},{"$f":"IF(Balance!BQ76=0,\"-\",ROUND((Balance!BQ76/Balance!BQ$81)*100,1))","v":0},{"$f":"IF(Balance!BR76=0,\"-\",ROUND((Balance!BR76/Balance!BR$81)*100,1))","v":0},{"$f":"IF(Balance!BS76=0,\"-\",ROUND((Balance!BS76/Balance!BS$81)*100,1))","v":0},{"$f":"IF(Balance!BT76=0,\"-\",ROUND((Balance!BT76/Balance!BT$81)*100,1))","v":0},{"$f":"IF(Balance!BU76=0,\"-\",ROUND((Balance!BU76/Balance!BU$81)*100,1))","v":0},{"$f":"IF(Balance!BV76=0,\"-\",ROUND((Balance!BV76/Balance!BV$81)*100,1))","v":0},{"$f":"IF(Balance!BW76=0,\"-\",ROUND((Balance!BW76/Balance!BW$81)*100,1))","v":0},{"$f":"IF(Balance!BX76=0,\"-\",ROUND((Balance!BX76/Balance!BX$81)*100,1))","v":0},{"$f":"IF(Balance!BY76=0,\"-\",ROUND((Balance!BY76/Balance!BY$81)*100,1))","v":0},{"$f":"IF(Balance!BZ76=0,\"-\",ROUND((Balance!BZ76/Balance!BZ$81)*100,1))","v":0},{"$f":"IF(Balance!CA76=0,\"-\",ROUND((Balance!CA76/Balance!CA$81)*100,1))","v":0.1},{"$f":"IF(Balance!CB76=0,\"-\",ROUND((Balance!CB76/Balance!CB$81)*100,1))","v":0.1},{"$f":"IF(Balance!CC76=0,\"-\",ROUND((Balance!CC76/Balance!CC$81)*100,1))","v":0},{"$f":"IF(Balance!CD76=0,\"-\",ROUND((Balance!CD76/Balance!CD$81)*100,1))","v":0},{"$f":"IF(Balance!CE76=0,\"-\",ROUND((Balance!CE76/Balance!CE$81)*100,1))","v":0},{"$f":"IF(Balance!CF76=0,\"-\",ROUND((Balance!CF76/Balance!CF$81)*100,1))","v":0},{"$f":"IF(Balance!CG76=0,\"-\",ROUND((Balance!CG76/Balance!CG$81)*100,1))","v":0},{"$f":"IF(Balance!CH76=0,\"-\",ROUND((Balance!CH76/Balance!CH$81)*100,1))","v":0},{"$f":"IF(Balance!CI76=0,\"-\",ROUND((Balance!CI76/Balance!CI$81)*100,1))","v":0},{"$f":"IF(Balance!CJ76=0,\"-\",ROUND((Balance!CJ76/Balance!CJ$81)*100,1))","v":0},{"$f":"IF(Balance!CK76=0,\"-\",ROUND((Balance!CK76/Balance!CK$81)*100,1))","v":0},{"$f":"IF(Balance!CL76=0,\"-\",ROUND((Balance!CL76/Balance!CL$81)*100,1))","v":0.1},{"$f":"IF(Balance!CM76=0,\"-\",ROUND((Balance!CM76/Balance!CM$81)*100,1))","v":0.1},{"$f":"IF(Balance!CN76=0,\"-\",ROUND((Balance!CN76/Balance!CN$81)*100,1))","v":0.1},{"$f":"IF(Balance!CO76=0,\"-\",ROUND((Balance!CO76/Balance!CO$81)*100,1))","v":0},{"$f":"IF(Balance!CP76=0,\"-\",ROUND((Balance!CP76/Balance!CP$81)*100,1))","v":0},{"$f":"IF(Balance!CQ76=0,\"-\",ROUND((Balance!CQ76/Balance!CQ$81)*100,1))","v":0},{"$f":"IF(Balance!CR76=0,\"-\",ROUND((Balance!CR76/Balance!CR$81)*100,1))","v":0},{"$f":"IF(Balance!CS76=0,\"-\",ROUND((Balance!CS76/Balance!CS$81)*100,1))","v":0},{"$f":"IF(Balance!CT76=0,\"-\",ROUND((Balance!CT76/Balance!CT$81)*100,1))","v":0},{"$f":"IF(Balance!CU76=0,\"-\",ROUND((Balance!CU76/Balance!CU$81)*100,1))","v":0},{"$f":"IF(Balance!CV76=0,\"-\",ROUND((Balance!CV76/Balance!CV$81)*100,1))","v":0},{"$f":"IF(Balance!CW76=0,\"-\",ROUND((Balance!CW76/Balance!CW$81)*100,1))","v":0},{"$f":"IF(Balance!CX76=0,\"-\",ROUND((Balance!CX76/Balance!CX$81)*100,1))","v":0},{"$f":"IF(Balance!CY76=0,\"-\",ROUND((Balance!CY76/Balance!CY$81)*100,1))","v":0},{"$f":"IF(Balance!CZ76=0,\"-\",ROUND((Balance!CZ76/Balance!CZ$81)*100,1))","v":0},{"$f":"IF(Balance!DA76=0,\"-\",ROUND((Balance!DA76/Balance!DA$81)*100,1))","v":0},{"$f":"IF(Balance!DB76=0,\"-\",ROUND((Balance!DB76/Balance!DB$81)*100,1))","v":0},{"$f":"IF(Balance!DC76=0,\"-\",ROUND((Balance!DC76/Balance!DC$81)*100,1))","v":0},{"$f":"IF(Balance!DD76=0,\"-\",ROUND((Balance!DD76/Balance!DD$81)*100,1))","v":0},{"$f":"IF(Balance!DE76=0,\"-\",ROUND((Balance!DE76/Balance!DE$81)*100,1))","v":0},{"$f":"IF(Balance!DF76=0,\"-\",ROUND((Balance!DF76/Balance!DF$81)*100,1))","v":0},{"$f":"IF(Balance!DG76=0,\"-\",ROUND((Balance!DG76/Balance!DG$81)*100,1))","v":0},{"$f":"IF(Balance!DH76=0,\"-\",ROUND((Balance!DH76/Balance!DH$81)*100,1))","v":0},{"$f":"IF(Balance!DI76=0,\"-\",ROUND((Balance!DI76/Balance!DI$81)*100,1))","v":0.1},{"$f":"IF(Balance!DJ76=0,\"-\",ROUND((Balance!DJ76/Balance!DJ$81)*100,1))","v":0.1},{"$f":"IF(Balance!DK76=0,\"-\",ROUND((Balance!DK76/Balance!DK$81)*100,1))","v":0.1},{"$f":"IF(Balance!DL76=0,\"-\",ROUND((Balance!DL76/Balance!DL$81)*100,1))","v":0},{"$f":"IF(Balance!DM76=0,\"-\",ROUND((Balance!DM76/Balance!DM$81)*100,1))","v":0},{"$f":"IF(Balance!DN76=0,\"-\",ROUND((Balance!DN76/Balance!DN$81)*100,1))","v":0},{"$f":"IF(Balance!DO76=0,\"-\",ROUND((Balance!DO76/Balance!DO$81)*100,1))","v":0},{"$f":"IF(Balance!DP76=0,\"-\",ROUND((Balance!DP76/Balance!DP$81)*100,1))","v":0},{"$f":"IF(Balance!DQ76=0,\"-\",ROUND((Balance!DQ76/Balance!DQ$81)*100,1))","v":0},{"$f":"IF(Balance!DR76=0,\"-\",ROUND((Balance!DR76/Balance!DR$81)*100,1))","v":0},{"$f":"IF(Balance!DS76=0,\"-\",ROUND((Balance!DS76/Balance!DS$81)*100,1))","v":0},{"$f":"IF(Balance!DT76=0,\"-\",ROUND((Balance!DT76/Balance!DT$81)*100,1))","v":0},{"$f":"IF(Balance!DU76=0,\"-\",ROUND((Balance!DU76/Balance!DU$81)*100,1))","v":0},{"$f":"IF(Balance!DV76=0,\"-\",ROUND((Balance!DV76/Balance!DV$81)*100,1))","v":0},{"$f":"IF(Balance!DW76=0,\"-\",ROUND((Balance!DW76/Balance!DW$81)*100,1))","v":0},{"$f":"IF(Balance!DX76=0,\"-\",ROUND((Balance!DX76/Balance!DX$81)*100,1))","v":0},{"$f":"IF(Balance!DY76=0,\"-\",ROUND((Balance!DY76/Balance!DY$81)*100,1))","v":0},{"$f":"IF(Balance!DZ76=0,\"-\",ROUND((Balance!DZ76/Balance!DZ$81)*100,1))","v":0},{"$f":"IF(Balance!EA76=0,\"-\",ROUND((Balance!EA76/Balance!EA$81)*100,1))","v":0},{"$f":"IF(Balance!EB76=0,\"-\",ROUND((Balance!EB76/Balance!EB$81)*100,1))","v":0},{"$f":"IF(Balance!EC76=0,\"-\",ROUND((Balance!EC76/Balance!EC$81)*100,1))","v":0},{"$f":"IF(Balance!ED76=0,\"-\",ROUND((Balance!ED76/Balance!ED$81)*100,1))","v":0},{"$f":"IF(Balance!EE76=0,\"-\",ROUND((Balance!EE76/Balance!EE$81)*100,1))","v":"-"},"-","-","-","-","-","-","-","-","-","-","-"]
[null,"Térmica no renovable/Cogeneración y resto/Cogeneración",{"$f":"IF(Balance!C77=0,\"-\",IF(Balance!C77=\"-\",\"-\",ROUND((Balance!C77/Balance!C$81)*100,1)))","v":4.9000000000000004},{"$f":"IF(Balance!D77=0,\"-\",IF(Balance!D77=\"-\",\"-\",ROUND((Balance!D77/Balance!D$81)*100,1)))","v":5.0999999999999996},{"$f":"IF(Balance!E77=0,\"-\",IF(Balance!E77=\"-\",\"-\",ROUND((Balance!E77/Balance!E$81)*100,1)))","v":5.7},{"$f":"IF(Balance!F77=0,\"-\",IF(Balance!F77=\"-\",\"-\",ROUND((Balance!F77/Balance!F$81)*100,1)))","v":4.5},{"$f":"IF(Balance!G77=0,\"-\",IF(Balance!G77=\"-\",\"-\",ROUND((Balance!G77/Balance!G$81)*100,1)))","v":5.5},{"$f":"IF(Balance!H77=0,\"-\",IF(Balance!H77=\"-\",\"-\",ROUND((Balance!H77/Balance!H$81)*100,1)))","v":5.0999999999999996},{"$f":"IF(Balance!I77=0,\"-\",IF(Balance!I77=\"-\",\"-\",ROUND((Balance!I77/Balance!I$81)*100,1)))","v":3.9},{"$f":"IF(Balance!J77=0,\"-\",IF(Balance!J77=\"-\",\"-\",ROUND((Balance!J77/Balance!J$81)*100,1)))","v":4.5},{"$f":"IF(Balance!K77=0,\"-\",IF(Balance!K77=\"-\",\"-\",ROUND((Balance!K77/Balance!K$81)*100,1)))","v":1.7},{"$f":"IF(Balance!L77=0,\"-\",IF(Balance!L77=\"-\",\"-\",ROUND((Balance!L77/Balance!L$81)*100,1)))","v":3.6},{"$f":"IF(Balance!M77=0,\"-\",IF(Balance!M77=\"-\",\"-\",ROUND((Balance!M77/Balance!M$81)*100,1)))","v":5.2},{"$f":"IF(Balance!N77=0,\"-\",IF(Balance!N77=\"-\",\"-\",ROUND((Balance!N77/Balance!N$81)*100,1)))","v":5},{"$f":"IF(Balance!O77=0,\"-\",IF(Balance!O77=\"-\",\"-\",ROUND((Balance!O77/Balance!O$81)*100,1)))","v":5.4},{"$f":"IF(Balance!P77=0,\"-\",IF(Balance!P77=\"-\",\"-\",ROUND((Balance!P77/Balance!P$81)*100,1)))","v":5},{"$f":"IF(Balance!Q77=0,\"-\",IF(Balance!Q77=\"-\",\"-\",ROUND((Balance!Q77/Balance!Q$81)*100,1)))","v":5.4},{"$f":"IF(Balance!R77=0,\"-\",IF(Balance!R77=\"-\",\"-\",ROUND((Balance!R77/Balance!R$81)*100,1)))","v":5.2},{"$f":"IF(Balance!S77=0,\"-\",IF(Balance!S77=\"-\",\"-\",ROUND((Balance!S77/Balance!S$81)*100,1)))","v":4.8},{"$f":"IF(Balance!T77=0,\"-\",IF(Balance!T77=\"-\",\"-\",ROUND((Balance!T77/Balance!T$81)*100,1)))","v":4.0999999999999996},{"$f":"IF(Balance!U77=0,\"-\",IF(Balance!U77=\"-\",\"-\",ROUND((Balance!U77/Balance!U$81)*100,1)))","v":"-"},{"$f":"IF(Balance!V77=0,\"-\",IF(Balance!V77=\"-\",\"-\",ROUND((Balance!V77/Balance!V$81)*100,1)))","v":"-"},{"$f":"IF(Balance!W77=0,\"-\",IF(Balance!W77=\"-\",\"-\",ROUND((Balance!W77/Balance!W$81)*100,1)))","v":"-"},{"$f":"IF(Balance!X77=0,\"-\",IF(Balance!X77=\"-\",\"-\",ROUND((Balance!X77/Balance!X$81)*100,1)))","v":"-"},{"$f":"IF(Balance!Y77=0,\"-\",IF(Balance!Y77=\"-\",\"-\",ROUND((Balance!Y77/Balance!Y$81)*100,1)))","v":"-"},{"$f":"IF(Balance!Z77=0,\"-\",IF(Balance!Z77=\"-\",\"-\",ROUND((Balance!Z77/Balance!Z$81)*100,1)))","v":"-"},{"$f":"IF(Balance!AA77=0,\"-\",IF(Balance!AA77=\"-\",\"-\",ROUND((Balance!AA77/Balance!AA$81)*100,1)))","v":4.4000000000000004},{"$f":"IF(Balance!AB77=0,\"-\",IF(Balance!AB77=\"-\",\"-\",ROUND((Balance!AB77/Balance!AB$81)*100,1)))","v":4.5999999999999996},{"$f":"IF(Balance!AC77=0,\"-\",IF(Balance!AC77=\"-\",\"-\",ROUND((Balance!AC77/Balance!AC$81)*100,1)))","v":4.8},{"$f":"IF(Balance!AD77=0,\"-\",IF(Balance!AD77=\"-\",\"-\",ROUND((Balance!AD77/Balance!AD$81)*100,1)))","v":5.9},{"$f":"IF(Balance!AE77=0,\"-\",IF(Balance!AE77=\"-\",\"-\",ROUND((Balance!AE77/Balance!AE$81)*100,1)))","v":5.0999999999999996},{"$f":"IF(Balance!AF77=0,\"-\",IF(Balance!AF77=\"-\",\"-\",ROUND((Balance!AF77/Balance!AF$81)*100,1)))","v":4.4000000000000004},{"$f":"IF(Balance!AG77=0,\"-\",IF(Balance!AG77=\"-\",\"-\",ROUND((Balance!AG77/Balance!AG$81)*100,1)))","v":4},{"$f":"IF(Balance!AH77=0,\"-\",IF(Balance!AH77=\"-\",\"-\",ROUND((Balance!AH77/Balance!AH$81)*100,1)))","v":3.6},{"$f":"IF(Balance!AI77=0,\"-\",IF(Balance!AI77=\"-\",\"-\",ROUND((Balance!AI77/Balance!AI$81)*100,1)))","v":4.0999999999999996},{"$f":"IF(Balance!AJ77=0,\"-\",IF(Balance!AJ77=\"-\",\"-\",ROUND((Balance!AJ77/Balance!AJ$81)*100,1)))","v":0},{"$f":"IF(Balance!AK77=0,\"-\",IF(Balance!AK77=\"-\",\"-\",ROUND((Balance!AK77/Balance!AK$81)*100,1)))","v":"-"},{"$f":"IF(Balance!AL77=0,\"-\",IF(Balance!AL77=\"-\",\"-\",ROUND((Balance!AL77/Balance!AL$81)*100,1)))","v":4.3},{"$f":"IF(Balance!AM77=0,\"-\",IF(Balance!AM77=\"-\",\"-\",ROUND((Balance!AM77/Balance!AM$81)*100,1)))","v":4},{"$f":"IF(Balance!AN77=0,\"-\",IF(Balance!AN77=\"-\",\"-\",ROUND((Balance!AN77/Balance!AN$81)*100,1)))","v":3.8},{"$f":"IF(Balance!AO77=0,\"-\",IF(Balance!AO77=\"-\",\"-\",ROUND((Balance!AO77/Balance!AO$81)*100,1)))","v":4.5},{"$f":"IF(Balance!AP77=0,\"-\",IF(Balance!AP77=\"-\",\"-\",ROUND((Balance!AP77/Balance!AP$81)*100,1)))","v":5.0999999999999996},{"$f":"IF(Balance!AQ77=0,\"-\",IF(Balance!AQ77=\"-\",\"-\",ROUND((Balance!AQ77/Balance!AQ$81)*100,1)))","v":5.5},{"$f":"IF(Balance!AR77=0,\"-\",IF(Balance!AR77=\"-\",\"-\",ROUND((Balance!AR77/Balance!AR$81)*100,1)))","v":4},{"$f":"IF(Balance!AS77=0,\"-\",IF(Balance!AS77=\"-\",\"-\",ROUND((Balance!AS77/Balance!AS$81)*100,1)))","v":3.9},{"$f":"IF(Balance!AT77=0,\"-\",IF(Balance!AT77=\"-\",\"-\",ROUND((Balance!AT77/Balance!AT$81)*100,1)))","v":3.7},{"$f":"IF(Balance!AU77=0,\"-\",IF(Balance!AU77=\"-\",\"-\",ROUND((Balance!AU77/Balance!AU$81)*100,1)))","v":4.8},{"$f":"IF(Balance!AV77=0,\"-\",IF(Balance!AV77=\"-\",\"-\",ROUND((Balance!AV77/Balance!AV$81)*100,1)))","v":2.8},{"$f":"IF(Balance!AW77=0,\"-\",IF(Balance!AW77=\"-\",\"-\",ROUND((Balance!AW77/Balance!AW$81)*100,1)))","v":"-"},{"$f":"IF(Balance!AX77=0,\"-\",IF(Balance!AX77=\"-\",\"-\",ROUND((Balance!AX77/Balance!AX$81)*100,1)))","v":3},{"$f":"IF(Balance!AY77=0,\"-\",IF(Balance!AY77=\"-\",\"-\",ROUND((Balance!AY77/Balance!AY$81)*100,1)))","v":5.0999999999999996},{"$f":"IF(Balance!AZ77=0,\"-\",IF(Balance!AZ77=\"-\",\"-\",ROUND((Balance!AZ77/Balance!AZ$81)*100,1)))","v":4.8},{"$f":"IF(Balance!BA77=0,\"-\",IF(Balance!BA77=\"-\",\"-\",ROUND((Balance!BA77/Balance!BA$81)*100,1)))","v":5},{"$f":"IF(Balance!BB77=0,\"-\",IF(Balance!BB77=\"-\",\"-\",ROUND((Balance!BB77/Balance!BB$81)*100,1)))","v":4.8},{"$f":"IF(Balance!BC77=0,\"-\",IF(Balance!BC77=\"-\",\"-\",ROUND((Balance!BC77/Balance!BC$81)*100,1)))","v":4},{"$f":"IF(Balance!BD77=0,\"-\",IF(Balance!BD77=\"-\",\"-\",ROUND((Balance!BD77/Balance!BD$81)*100,1)))","v":3.7},{"$f":"IF(Balance!BE77=0,\"-\",IF(Balance!BE77=\"-\",\"-\",ROUND((Balance!BE77/Balance!BE$81)*100,1)))","v":3.9},{"$f":"IF(Balance!BF77=0,\"-\",IF(Balance!BF77=\"-\",\"-\",ROUND((Balance!BF77/Balance!BF$81)*100,1)))","v":3.2},{"$f":"IF(Balance!BG77=0,\"-\",IF(Balance!BG77=\"-\",\"-\",ROUND((Balance!BG77/Balance!BG$81)*100,1)))","v":3.7},{"$f":"IF(Balance!BH77=0,\"-\",IF(Balance!BH77=\"-\",\"-\",ROUND((Balance!BH77/Balance!BH$81)*100,1)))","v":1.2},{"$f":"IF(Balance!BI77=0,\"-\",IF(Balance!BI77=\"-\",\"-\",ROUND((Balance!BI77/Balance!BI$81)*100,1)))","v":0.1},{"$f":"IF(Balance!BJ77=0,\"-\",IF(Balance!BJ77=\"-\",\"-\",ROUND((Balance!BJ77/Balance!BJ$81)*100,1)))","v":"-"},{"$f":"IF(Balance!BK77=0,\"-\",IF(Balance!BK77=\"-\",\"-\",ROUND((Balance!BK77/Balance!BK$81)*100,1)))","v":"-"},{"$f":"IF(Balance!BL77=0,\"-\",IF(Balance!BL77=\"-\",\"-\",ROUND((Balance!BL77/Balance!BL$81)*100,1)))","v":"-"},{"$f":"IF(Balance!BM77=0,\"-\",IF(Balance!BM77=\"-\",\"-\",ROUND((Balance!BM77/Balance!BM$81)*100,1)))","v":"-"},{"$f":"IF(Balance!BN77=0,\"-\",IF(Balance!BN77=\"-\",\"-\",ROUND((Balance!BN77/Balance!BN$81)*100,1)))","v":0.4},{"$f":"IF(Balance!BO77=0,\"-\",IF(Balance!BO77=\"-\",\"-\",ROUND((Balance!BO77/Balance!BO$81)*100,1)))","v":"-"},{"$f":"IF(Balance!BP77=0,\"-\",IF(Balance!BP77=\"-\",\"-\",ROUND((Balance!BP77/Balance!BP$81)*100,1)))","v":"-"},{"$f":"IF(Balance!BQ77=0,\"-\",IF(Balance!BQ77=\"-\",\"-\",ROUND((Balance!BQ77/Balance!BQ$81)*100,1)))","v":"-"},{"$f":"IF(Balance!BR77=0,\"-\",IF(Balance!BR77=\"-\",\"-\",ROUND((Balance!BR77/Balance!BR$81)*100,1)))","v":0.8},{"$f":"IF(Balance!BS77=0,\"-\",IF(Balance!BS77=\"-\",\"-\",ROUND((Balance!BS77/Balance!BS$81)*100,1)))","v":3},{"$f":"IF(Balance!BT77=0,\"-\",IF(Balance!BT77=\"-\",\"-\",ROUND((Balance!BT77/Balance!BT$81)*100,1)))","v":0.3},{"$f":"IF(Balance!BU77=0,\"-\",IF(Balance!BU77=\"-\",\"-\",ROUND((Balance!BU77/Balance!BU$81)*100,1)))","v":4.0999999999999996},{"$f":"IF(Balance!BV77=0,\"-\",IF(Balance!BV77=\"-\",\"-\",ROUND((Balance!BV77/Balance!BV$81)*100,1)))","v":4.5999999999999996},{"$f":"IF(Balance!BW77=0,\"-\",IF(Balance!BW77=\"-\",\"-\",ROUND((Balance!BW77/Balance!BW$81)*100,1)))","v":4.4000000000000004},{"$f":"IF(Balance!BX77=0,\"-\",IF(Balance!BX77=\"-\",\"-\",ROUND((Balance!BX77/Balance!BX$81)*100,1)))","v":4},{"$f":"IF(Balance!BY77=0,\"-\",IF(Balance!BY77=\"-\",\"-\",ROUND((Balance!BY77/Balance!BY$81)*100,1)))","v":3.7},{"$f":"IF(Balance!BZ77=0,\"-\",IF(Balance!BZ77=\"-\",\"-\",ROUND((Balance!BZ77/Balance!BZ$81)*100,1)))","v":4.5999999999999996},{"$f":"IF(Balance!CA77=0,\"-\",IF(Balance!CA77=\"-\",\"-\",ROUND((Balance!CA77/Balance!CA$81)*100,1)))","v":3.8},{"$f":"IF(Balance!CB77=0,\"-\",IF(Balance!CB77=\"-\",\"-\",ROUND((Balance!CB77/Balance!CB$81)*100,1)))","v":4.8},{"$f":"IF(Balance!CC77=0,\"-\",IF(Balance!CC77=\"-\",\"-\",ROUND((Balance!CC77/Balance!CC$81)*100,1)))","v":3.6},{"$f":"IF(Balance!CD77=0,\"-\",IF(Balance!CD77=\"-\",\"-\",ROUND((Balance!CD77/Balance!CD$81)*100,1)))","v":3.2},{"$f":"IF(Balance!CE77=0,\"-\",IF(Balance!CE77=\"-\",\"-\",ROUND((Balance!CE77/Balance!CE$81)*100,1)))","v":3.3},{"$f":"IF(Balance!CF77=0,\"-\",IF(Balance!CF77=\"-\",\"-\",ROUND((Balance!CF77/Balance!CF$81)*100,1)))","v":5},{"$f":"IF(Balance!CG77=0,\"-\",IF(Balance!CG77=\"-\",\"-\",ROUND((Balance!CG77/Balance!CG$81)*100,1)))","v":1},{"$f":"IF(Balance!CH77=0,\"-\",IF(Balance!CH77=\"-\",\"-\",ROUND((Balance!CH77/Balance!CH$81)*100,1)))","v":4.8},{"$f":"IF(Balance!CI77=0,\"-\",IF(Balance!CI77=\"-\",\"-\",ROUND((Balance!CI77/Balance!CI$81)*100,1)))","v":4.9000000000000004},{"$f":"IF(Balance!CJ77=0,\"-\",IF(Balance!CJ77=\"-\",\"-\",ROUND((Balance!CJ77/Balance!CJ$81)*100,1)))","v":5.3},{"$f":"IF(Balance!CK77=0,\"-\",IF(Balance!CK77=\"-\",\"-\",ROUND((Balance!CK77/Balance!CK$81)*100,1)))","v":5.3},{"$f":"IF(Balance!CL77=0,\"-\",IF(Balance!CL77=\"-\",\"-\",ROUND((Balance!CL77/Balance!CL$81)*100,1)))","v":5},{"$f":"IF(Balance!CM77=0,\"-\",IF(Balance!CM77=\"-\",\"-\",ROUND((Balance!CM77/Balance!CM$81)*100,1)))","v":4.0999999999999996},{"$f":"IF(Balance!CN77=0,\"-\",IF(Balance!CN77=\"-\",\"-\",ROUND((Balance!CN77/Balance!CN$81)*100,1)))","v":3.8},{"$f":"IF(Balance!CO77=0,\"-\",IF(Balance!CO77=\"-\",\"-\",ROUND((Balance!CO77/Balance!CO$81)*100,1)))","v":4.0999999999999996},{"$f":"IF(Balance!CP77=0,\"-\",IF(Balance!CP77=\"-\",\"-\",ROUND((Balance!CP77/Balance!CP$81)*100,1)))","v":3.5},{"$f":"IF(Balance!CQ77=0,\"-\",IF(Balance!CQ77=\"-\",\"-\",ROUND((Balance!CQ77/Balance!CQ$81)*100,1)))","v":3.8},{"$f":"IF(Balance!CR77=0,\"-\",IF(Balance!CR77=\"-\",\"-\",ROUND((Balance!CR77/Balance!CR$81)*100,1)))","v":4.5},{"$f":"IF(Balance!CS77=0,\"-\",IF(Balance!CS77=\"-\",\"-\",ROUND((Balance!CS77/Balance!CS$81)*100,1)))","v":1.1000000000000001},{"$f":"IF(Balance!CT77=0,\"-\",IF(Balance!CT77=\"-\",\"-\",ROUND((Balance!CT77/Balance!CT$81)*100,1)))","v":5.5},{"$f":"IF(Balance!CU77=0,\"-\",IF(Balance!CU77=\"-\",\"-\",ROUND((Balance!CU77/Balance!CU$81)*100,1)))","v":"-"},{"$f":"IF(Balance!CV77=0,\"-\",IF(Balance!CV77=\"-\",\"-\",ROUND((Balance!CV77/Balance!CV$81)*100,1)))","v":"-"},{"$f":"IF(Balance!CW77=0,\"-\",IF(Balance!CW77=\"-\",\"-\",ROUND((Balance!CW77/Balance!CW$81)*100,1)))","v":"-"},{"$f":"IF(Balance!CX77=0,\"-\",IF(Balance!CX77=\"-\",\"-\",ROUND((Balance!CX77/Balance!CX$81)*100,1)))","v":"-"},{"$f":"IF(Balance!CY77=0,\"-\",IF(Balance!CY77=\"-\",\"-\",ROUND((Balance!CY77/Balance!CY$81)*100,1)))","v":"-"},{"$f":"IF(Balance!CZ77=0,\"-\",IF(Balance!CZ77=\"-\",\"-\",ROUND((Balance!CZ77/Balance!CZ$81)*100,1)))","v":"-"},{"$f":"IF(Balance!DA77=0,\"-\",IF(Balance!DA77=\"-\",\"-\",ROUND((Balance!DA77/Balance!DA$81)*100,1)))","v":"-"},{"$f":"IF(Balance!DB77=0,\"-\",IF(Balance!DB77=\"-\",\"-\",ROUND((Balance!DB77/Balance!DB$81)*100,1)))","v":"-"},{"$f":"IF(Balance!DC77=0,\"-\",IF(Balance!DC77=\"-\",\"-\",ROUND((Balance!DC77/Balance!DC$81)*100,1)))","v":"-"},{"$f":"IF(Balance!DD77=0,\"-\",IF(Balance!DD77=\"-\",\"-\",ROUND((Balance!DD77/Balance!DD$81)*100,1)))","v":"-"},{"$f":"IF(Balance!DE77=0,\"-\",IF(Balance!DE77=\"-\",\"-\",ROUND((Balance!DE77/Balance!DE$81)*100,1)))","v":"-"},{"$f":"IF(Balance!DF77=0,\"-\",IF(Balance!DF77=\"-\",\"-\",ROUND((Balance!DF77/Balance!DF$81)*100,1)))","v":"-"},{"$f":"IF(Balance!DG77=0,\"-\",IF(Balance!DG77=\"-\",\"-\",ROUND((Balance!DG77/Balance!DG$81)*100,1)))","v":"-"},{"$f":"IF(Balance!DH77=0,\"-\",IF(Balance!DH77=\"-\",\"-\",ROUND((Balance!DH77/Balance!DH$81)*100,1)))","v":"-"},{"$f":"IF(Balance!DI77=0,\"-\",IF(Balance!DI77=\"-\",\"-\",ROUND((Balance!DI77/Balance!DI$81)*100,1)))","v":"-"},{"$f":"IF(Balance!DJ77=0,\"-\",IF(Balance!DJ77=\"-\",\"-\",ROUND((Balance!DJ77/Balance!DJ$81)*100,1)))","v":"-"},{"$f":"IF(Balance!DK77=0,\"-\",IF(Balance!DK77=\"-\",\"-\",ROUND((Balance!DK77/Balance!DK$81)*100,1)))","v":"-"},{"$f":"IF(Balance!DL77=0,\"-\",IF(Balance!DL77=\"-\",\"-\",ROUND((Balance!DL77/Balance!DL$81)*100,1)))","v":"-"},{"$f":"IF(Balance!DM77=0,\"-\",IF(Balance!DM77=\"-\",\"-\",ROUND((Balance!DM77/Balance!DM$81)*100,1)))","v":"-"},{"$f":"IF(Balance!DN77=0,\"-\",IF(Balance!DN77=\"-\",\"-\",ROUND((Balance!DN77/Balance!DN$81)*100,1)))","v":"-"},{"$f":"IF(Balance!DO77=0,\"-\",IF(Balance!DO77=\"-\",\"-\",ROUND((Balance!DO77/Balance!DO$81)*100,1)))","v":"-"},{"$f":"IF(Balance!DP77=0,\"-\",IF(Balance!DP77=\"-\",\"-\",ROUND((Balance!DP77/Balance!DP$81)*100,1)))","v":"-"},{"$f":"IF(Balance!DQ77=0,\"-\",IF(Balance!DQ77=\"-\",\"-\",ROUND((Balance!DQ77/Balance!DQ$81)*100,1)))","v":"-"},{"$f":"IF(Balance!DR77=0,\"-\",IF(Balance!DR77=\"-\",\"-\",ROUND((Balance!DR77/Balance!DR$81)*100,1)))","v":"-"},{"$f":"IF(Balance!DS77=0,\"-\",IF(Balance!DS77=\"-\",\"-\",ROUND((Balance!DS77/Balance!DS$81)*100,1)))","v":"-"},{"$f":"IF(Balance!DT77=0,\"-\",IF(Balance!DT77=\"-\",\"-\",ROUND((Balance!DT77/Balance!DT$81)*100,1)))","v":"-"},{"$f":"IF(Balance!DU77=0,\"-\",IF(Balance!DU77=\"-\",\"-\",ROUND((Balance!DU77/Balance!DU$81)*100,1)))","v":"-"},{"$f":"IF(Balance!DV77=0,\"-\",IF(Balance!DV77=\"-\",\"-\",ROUND((Balance!DV77/Balance!DV$81)*100,1)))","v":"-"},{"$f":"IF(Balance!DW77=0,\"-\",IF(Balance!DW77=\"-\",\"-\",ROUND((Balance!DW77/Balance!DW$81)*100,1)))","v":"-"},{"$f":"IF(Balance!DX77=0,\"-\",IF(Balance!DX77=\"-\",\"-\",ROUND((Balance!DX77/Balance!DX$81)*100,1)))","v":"-"},{"$f":"IF(Balance!DY77=0,\"-\",IF(Balance!DY77=\"-\",\"-\",ROUND((Balance!DY77/Balance!DY$81)*100,1)))","v":"-"},{"$f":"IF(Balance!DZ77=0,\"-\",IF(Balance!DZ77=\"-\",\"-\",ROUND((Balance!DZ77/Balance!DZ$81)*100,1)))","v":"-"},{"$f":"IF(Balance!EA77=0,\"-\",IF(Balance!EA77=\"-\",\"-\",ROUND((Balance!EA77/Balance!EA$81)*100,1)))","v":"-"},{"$f":"IF(Balance!EB77=0,\"-\",IF(Balance!EB77=\"-\",\"-\",ROUND((Balance!EB77/Balance!EB$81)*100,1)))","v":"-"},{"$f":"IF(Balance!EC77=0,\"-\",IF(Balance!EC77=\"-\",\"-\",ROUND((Balance!EC77/Balance!EC$81)*100,1)))","v":"-"},{"$f":"IF(Balance!ED77=0,\"-\",IF(Balance!ED77=\"-\",\"-\",ROUND((Balance!ED77/Balance!ED$81)*100,1)))","v":"-"},{"$f":"IF(Balance!EE77=0,\"-\",IF(Balance!EE77=\"-\",\"-\",ROUND((Balance!EE77/Balance!EE$81)*100,1)))","v":"-"},"-","-","-","-","-","-","-","-","-","-","-"]
[null,"Residuos no renovables",{"$f":"IF(Balance!C78=\"-\",\"-\",ROUND((Balance!C78/Balance!C$81)*100,1))","v":"-"},{"$f":"IF(Balance!D78=\"-\",\"-\",ROUND((Balance!D78/Balance!D$81)*100,1))","v":"-"},{"$f":"IF(Balance!E78=\"-\",\"-\",ROUND((Balance!E78/Balance!E$81)*100,1))","v":"-"},{"$f":"IF(Balance!F78=\"-\",\"-\",ROUND((Balance!F78/Balance!F$81)*100,1))","v":"-"},{"$f":"IF(Balance!G78=\"-\",\"-\",ROUND((Balance!G78/Balance!G$81)*100,1))","v":"-"},{"$f":"IF(Balance!H78=\"-\",\"-\",ROUND((Balance!H78/Balance!H$81)*100,1))","v":"-"},{"$f":"IF(Balance!I78=\"-\",\"-\",ROUND((Balance!I78/Balance!I$81)*100,1))","v":"-"},{"$f":"IF(Balance!J78=\"-\",\"-\",ROUND((Balance!J78/Balance!J$81)*100,1))","v":"-"},{"$f":"IF(Balance!K78=\"-\",\"-\",ROUND((Balance!K78/Balance!K$81)*100,1))","v":"-"},{"$f":"IF(Balance!L78=\"-\",\"-\",ROUND((Balance!L78/Balance!L$81)*100,1))","v":"-"},{"$f":"IF(Balance!M78=\"-\",\"-\",ROUND((Balance!M78/Balance!M$81)*100,1))","v":"-"},{"$f":"IF(Balance!N78=\"-\",\"-\",ROUND((Balance!N78/Balance!N$81)*100,1))","v":"-"},{"$f":"IF(Balance!O78=\"-\",\"-\",ROUND((Balance!O78/Balance!O$81)*100,1))","v":"-"},{"$f":"IF(Balance!P78=\"-\",\"-\",ROUND((Balance!P78/Balance!P$81)*100,1))","v":"-"},{"$f":"IF(Balance!Q78=\"-\",\"-\",ROUND((Balance!Q78/Balance!Q$81)*100,1))","v":"-"},{"$f":"IF(Balance!R78=\"-\",\"-\",ROUND((Balance!R78/Balance!R$81)*100,1))","v":"-"},{"$f":"IF(Balance!S78=\"-\",\"-\",ROUND((Balance!S78/Balance!S$81)*100,1))","v":"-"},{"$f":"IF(Balance!T78=\"-\",\"-\",ROUND((Balance!T78/Balance!T$81)*100,1))","v":"-"},{"$f":"IF(Balance!U78=\"-\",\"-\",ROUND((Balance!U78/Balance!U$81)*100,1))","v":"-"},{"$f":"IF(Balance!V78=\"-\",\"-\",ROUND((Balance!V78/Balance!V$81)*100,1))","v":"-"},{"$f":"IF(Balance!W78=\"-\",\"-\",ROUND((Balance!W78/Balance!W$81)*100,1))","v":"-"},{"$f":"IF(Balance!X78=\"-\",\"-\",ROUND((Balance!X78/Balance!X$81)*100,1))","v":"-"},{"$f":"IF(Balance!Y78=\"-\",\"-\",ROUND((Balance!Y78/Balance!Y$81)*100,1))","v":"-"},{"$f":"IF(Balance!Z78=\"-\",\"-\",ROUND((Balance!Z78/Balance!Z$81)*100,1))","v":"-"},{"$f":"IF(Balance!AA78=\"-\",\"-\",ROUND((Balance!AA78/Balance!AA$81)*100,1))","v":"-"},{"$f":"IF(Balance!AB78=\"-\",\"-\",ROUND((Balance!AB78/Balance!AB$81)*100,1))","v":"-"},{"$f":"IF(Balance!AC78=\"-\",\"-\",ROUND((Balance!AC78/Balance!AC$81)*100,1))","v":"-"},{"$f":"IF(Balance!AD78=\"-\",\"-\",ROUND((Balance!AD78/Balance!AD$81)*100,1))","v":"-"},{"$f":"IF(Balance!AE78=\"-\",\"-\",ROUND((Balance!AE78/Balance!AE$81)*100,1))","v":"-"},{"$f":"IF(Balance!AF78=\"-\",\"-\",ROUND((Balance!AF78/Balance!AF$81)*100,1))","v":"-"},{"$f":"IF(Balance!AG78=\"-\",\"-\",ROUND((Balance!AG78/Balance!AG$81)*100,1))","v":"-"},{"$f":"IF(Balance!AH78=\"-\",\"-\",ROUND((Balance!AH78/Balance!AH$81)*100,1))","v":"-"},{"$f":"IF(Balance!AI78=\"-\",\"-\",ROUND((Balance!AI78/Balance!AI$81)*100,1))","v":"-"},{"$f":"IF(Balance!AJ78=\"-\",\"-\",ROUND((Balance!AJ78/Balance!AJ$81)*100,1))","v":"-"},{"$f":"IF(Balance!AK78=\"-\",\"-\",ROUND((Balance!AK78/Balance!AK$81)*100,1))","v":"-"},{"$f":"IF(Balance!AL78=\"-\",\"-\",ROUND((Balance!AL78/Balance!AL$81)*100,1))","v":"-"},{"$f":"IF(Balance!AM78=\"-\",\"-\",ROUND((Balance!AM78/Balance!AM$81)*100,1))","v":"-"},{"$f":"IF(Balance!AN78=\"-\",\"-\",ROUND((Balance!AN78/Balance!AN$81)*100,1))","v":"-"},{"$f":"IF(Balance!AO78=\"-\",\"-\",ROUND((Balance!AO78/Balance!AO$81)*100,1))","v":"-"},{"$f":"IF(Balance!AP78=\"-\",\"-\",ROUND((Balance!AP78/Balance!AP$81)*100,1))","v":"-"},{"$f":"IF(Balance!AQ78=\"-\",\"-\",ROUND((Balance!AQ78/Balance!AQ$81)*100,1))","v":"-"},{"$f":"IF(Balance!AR78=\"-\",\"-\",ROUND((Balance!AR78/Balance!AR$81)*100,1))","v":"-"},{"$f":"IF(Balance!AS78=\"-\",\"-\",ROUND((Balance!AS78/Balance!AS$81)*100,1))","v":"-"},{"$f":"IF(Balance!AT78=\"-\",\"-\",ROUND((Balance!AT78/Balance!AT$81)*100,1))","v":"-"},{"$f":"IF(Balance!AU78=\"-\",\"-\",ROUND((Balance!AU78/Balance!AU$81)*100,1))","v":"-"},{"$f":"IF(Balance!AV78=\"-\",\"-\",ROUND((Balance!AV78/Balance!AV$81)*100,1))","v":"-"},{"$f":"IF(Balance!AW78=\"-\",\"-\",ROUND((Balance!AW78/Balance!AW$81)*100,1))","v":"-"},{"$f":"IF(Balance!AX78=\"-\",\"-\",ROUND((Balance!AX78/Balance!AX$81)*100,1))","v":"-"},{"$f":"IF(Balance!AY78=\"-\",\"-\",ROUND((Balance!AY78/Balance!AY$81)*100,1))","v":"-"},{"$f":"IF(Balance!AZ78=\"-\",\"-\",ROUND((Balance!AZ78/Balance!AZ$81)*100,1))","v":"-"},{"$f":"IF(Balance!BA78=\"-\",\"-\",ROUND((Balance!BA78/Balance!BA$81)*100,1))","v":"-"},{"$f":"IF(Balance!BB78=\"-\",\"-\",ROUND((Balance!BB78/Balance!BB$81)*100,1))","v":"-"},{"$f":"IF(Balance!BC78=\"-\",\"-\",ROUND((Balance!BC78/Balance!BC$81)*100,1))","v":"-"},{"$f":"IF(Balance!BD78=\"-\",\"-\",ROUND((Balance!BD78/Balance!BD$81)*100,1))","v":"-"},{"$f":"IF(Balance!BE78=\"-\",\"-\",ROUND((Balance!BE78/Balance!BE$81)*100,1))","v":"-"},{"$f":"IF(Balance!BF78=\"-\",\"-\",ROUND((Balance!BF78/Balance!BF$81)*100,1))","v":"-"},{"$f":"IF(Balance!BG78=\"-\",\"-\",ROUND((Balance!BG78/Balance!BG$81)*100,1))","v":"-"},{"$f":"IF(Balance!BH78=\"-\",\"-\",ROUND((Balance!BH78/Balance!BH$81)*100,1))","v":"-"},{"$f":"IF(Balance!BI78=\"-\",\"-\",ROUND((Balance!BI78/Balance!BI$81)*100,1))","v":"-"},{"$f":"IF(Balance!BJ78=\"-\",\"-\",ROUND((Balance!BJ78/Balance!BJ$81)*100,1))","v":"-"},{"$f":"IF(Balance!BK78=\"-\",\"-\",ROUND((Balance!BK78/Balance!BK$81)*100,1))","v":"-"},{"$f":"IF(Balance!BL78=\"-\",\"-\",ROUND((Balance!BL78/Balance!BL$81)*100,1))","v":"-"},{"$f":"IF(Balance!BM78=\"-\",\"-\",ROUND((Balance!BM78/Balance!BM$81)*100,1))","v":"-"},{"$f":"IF(Balance!BN78=\"-\",\"-\",ROUND((Balance!BN78/Balance!BN$81)*100,1))","v":"-"},{"$f":"IF(Balance!BO78=\"-\",\"-\",ROUND((Balance!BO78/Balance!BO$81)*100,1))","v":"-"},{"$f":"IF(Balance!BP78=\"-\",\"-\",ROUND((Balance!BP78/Balance!BP$81)*100,1))","v":"-"},{"$f":"IF(Balance!BQ78=\"-\",\"-\",ROUND((Balance!BQ78/Balance!BQ$81)*100,1))","v":"-"},{"$f":"IF(Balance!BR78=\"-\",\"-\",ROUND((Balance!BR78/Balance!BR$81)*100,1))","v":"-"},{"$f":"IF(Balance!BS78=\"-\",\"-\",ROUND((Balance!BS78/Balance!BS$81)*100,1))","v":"-"},{"$f":"IF(Balance!BT78=\"-\",\"-\",ROUND((Balance!BT78/Balance!BT$81)*100,1))","v":"-"},{"$f":"IF(Balance!BU78=\"-\",\"-\",ROUND((Balance!BU78/Balance!BU$81)*100,1))","v":"-"},{"$f":"IF(Balance!BV78=\"-\",\"-\",ROUND((Balance!BV78/Balance!BV$81)*100,1))","v":"-"},{"$f":"IF(Balance!BW78=\"-\",\"-\",ROUND((Balance!BW78/Balance!BW$81)*100,1))","v":"-"},{"$f":"IF(Balance!BX78=\"-\",\"-\",ROUND((Balance!BX78/Balance!BX$81)*100,1))","v":"-"},{"$f":"IF(Balance!BY78=\"-\",\"-\",ROUND((Balance!BY78/Balance!BY$81)*100,1))","v":"-"},{"$f":"IF(Balance!BZ78=\"-\",\"-\",ROUND((Balance!BZ78/Balance!BZ$81)*100,1))","v":"-"},{"$f":"IF(Balance!CA78=\"-\",\"-\",ROUND((Balance!CA78/Balance!CA$81)*100,1))","v":"-"},{"$f":"IF(Balance!CB78=\"-\",\"-\",ROUND((Balance!CB78/Balance!CB$81)*100,1))","v":"-"},{"$f":"IF(Balance!CC78=\"-\",\"-\",ROUND((Balance!CC78/Balance!CC$81)*100,1))","v":"-"},{"$f":"IF(Balance!CD78=\"-\",\"-\",ROUND((Balance!CD78/Balance!CD$81)*100,1))","v":"-"},{"$f":"IF(Balance!CE78=\"-\",\"-\",ROUND((Balance!CE78/Balance!CE$81)*100,1))","v":"-"},{"$f":"IF(Balance!CF78=\"-\",\"-\",ROUND((Balance!CF78/Balance!CF$81)*100,1))","v":"-"},{"$f":"IF(Balance!CG78=\"-\",\"-\",ROUND((Balance!CG78/Balance!CG$81)*100,1))","v":"-"},{"$f":"IF(Balance!CH78=\"-\",\"-\",ROUND((Balance!CH78/Balance!CH$81)*100,1))","v":"-"},{"$f":"IF(Balance!CI78=\"-\",\"-\",ROUND((Balance!CI78/Balance!CI$81)*100,1))","v":"-"},{"$f":"IF(Balance!CJ78=\"-\",\"-\",ROUND((Balance!CJ78/Balance!CJ$81)*100,1))","v":"-"},{"$f":"IF(Balance!CK78=\"-\",\"-\",ROUND((Balance!CK78/Balance!CK$81)*100,1))","v":"-"},{"$f":"IF(Balance!CL78=\"-\",\"-\",ROUND((Balance!CL78/Balance!CL$81)*100,1))","v":"-"},{"$f":"IF(Balance!CM78=\"-\",\"-\",ROUND((Balance!CM78/Balance!CM$81)*100,1))","v":"-"},{"$f":"IF(Balance!CN78=\"-\",\"-\",ROUND((Balance!CN78/Balance!CN$81)*100,1))","v":"-"},{"$f":"IF(Balance!CO78=\"-\",\"-\",ROUND((Balance!CO78/Balance!CO$81)*100,1))","v":"-"},{"$f":"IF(Balance!CP78=\"-\",\"-\",ROUND((Balance!CP78/Balance!CP$81)*100,1))","v":"-"},{"$f":"IF(Balance!CQ78=\"-\",\"-\",ROUND((Balance!CQ78/Balance!CQ$81)*100,1))","v":"-"},{"$f":"IF(Balance!CR78=\"-\",\"-\",ROUND((Balance!CR78/Balance!CR$81)*100,1))","v":"-"},{"$f":"IF(Balance!CS78=\"-\",\"-\",ROUND((Balance!CS78/Balance!CS$81)*100,1))","v":"-"},{"$f":"IF(Balance!CT78=\"-\",\"-\",ROUND((Balance!CT78/Balance!CT$81)*100,1))","v":"-"},{"$f":"IF(Balance!CU78=\"-\",\"-\",ROUND((Balance!CU78/Balance!CU$81)*100,1))","v":2.2000000000000002},{"$f":"IF(Balance!CV78=\"-\",\"-\",ROUND((Balance!CV78/Balance!CV$81)*100,1))","v":2.2999999999999998},{"$f":"IF(Balance!CW78=\"-\",\"-\",ROUND((Balance!CW78/Balance!CW$81)*100,1))","v":2.4},{"$f":"IF(Balance!CX78=\"-\",\"-\",ROUND((Balance!CX78/Balance!CX$81)*100,1))","v":2.4},{"$f":"IF(Balance!CY78=\"-\",\"-\",ROUND((Balance!CY78/Balance!CY$81)*100,1))","v":2.4},{"$f":"IF(Balance!CZ78=\"-\",\"-\",ROUND((Balance!CZ78/Balance!CZ$81)*100,1))","v":2.1},{"$f":"IF(Balance!DA78=\"-\",\"-\",ROUND((Balance!DA78/Balance!DA$81)*100,1))","v":1.4},{"$f":"IF(Balance!DB78=\"-\",\"-\",ROUND((Balance!DB78/Balance!DB$81)*100,1))","v":1.6},{"$f":"IF(Balance!DC78=\"-\",\"-\",ROUND((Balance!DC78/Balance!DC$81)*100,1))","v":2},{"$f":"IF(Balance!DD78=\"-\",\"-\",ROUND((Balance!DD78/Balance!DD$81)*100,1))","v":2.4},{"$f":"IF(Balance!DE78=\"-\",\"-\",ROUND((Balance!DE78/Balance!DE$81)*100,1))","v":0.7},{"$f":"IF(Balance!DF78=\"-\",\"-\",ROUND((Balance!DF78/Balance!DF$81)*100,1))","v":2.5},{"$f":"IF(Balance!DG78=\"-\",\"-\",ROUND((Balance!DG78/Balance!DG$81)*100,1))","v":2.9},{"$f":"IF(Balance!DH78=\"-\",\"-\",ROUND((Balance!DH78/Balance!DH$81)*100,1))","v":2.6},{"$f":"IF(Balance!DI78=\"-\",\"-\",ROUND((Balance!DI78/Balance!DI$81)*100,1))","v":2.4},{"$f":"IF(Balance!DJ78=\"-\",\"-\",ROUND((Balance!DJ78/Balance!DJ$81)*100,1))","v":2.8},{"$f":"IF(Balance!DK78=\"-\",\"-\",ROUND((Balance!DK78/Balance!DK$81)*100,1))","v":2.2999999999999998},{"$f":"IF(Balance!DL78=\"-\",\"-\",ROUND((Balance!DL78/Balance!DL$81)*100,1))","v":2.2999999999999998},{"$f":"IF(Balance!DM78=\"-\",\"-\",ROUND((Balance!DM78/Balance!DM$81)*100,1))","v":2.1},{"$f":"IF(Balance!DN78=\"-\",\"-\",ROUND((Balance!DN78/Balance!DN$81)*100,1))","v":2},{"$f":"IF(Balance!DO78=\"-\",\"-\",ROUND((Balance!DO78/Balance!DO$81)*100,1))","v":2.2000000000000002},{"$f":"IF(Balance!DP78=\"-\",\"-\",ROUND((Balance!DP78/Balance!DP$81)*100,1))","v":2.9},{"$f":"IF(Balance!DQ78=\"-\",\"-\",ROUND((Balance!DQ78/Balance!DQ$81)*100,1))","v":0.7},{"$f":"IF(Balance!DR78=\"-\",\"-\",ROUND((Balance!DR78/Balance!DR$81)*100,1))","v":2.9},{"$f":"IF(Balance!DS78=\"-\",\"-\",ROUND((Balance!DS78/Balance!DS$81)*100,1))","v":2.4},{"$f":"IF(Balance!DT78=\"-\",\"-\",ROUND((Balance!DT78/Balance!DT$81)*100,1))","v":2.7},{"$f":"IF(Balance!DU78=\"-\",\"-\",ROUND((Balance!DU78/Balance!DU$81)*100,1))","v":2.7},{"$f":"IF(Balance!DV78=\"-\",\"-\",ROUND((Balance!DV78/Balance!DV$81)*100,1))","v":2.7},{"$f":"IF(Balance!DW78=\"-\",\"-\",ROUND((Balance!DW78/Balance!DW$81)*100,1))","v":2.7},{"$f":"IF(Balance!DX78=\"-\",\"-\",ROUND((Balance!DX78/Balance!DX$81)*100,1))","v":2.4},{"$f":"IF(Balance!DY78=\"-\",\"-\",ROUND((Balance!DY78/Balance!DY$81)*100,1))","v":2.2000000000000002},{"$f":"IF(Balance!DZ78=\"-\",\"-\",ROUND((Balance!DZ78/Balance!DZ$81)*100,1))","v":1.6},{"$f":"IF(Balance!EA78=\"-\",\"-\",ROUND((Balance!EA78/Balance!EA$81)*100,1))","v":2.5},{"$f":"IF(Balance!EB78=\"-\",\"-\",ROUND((Balance!EB78/Balance!EB$81)*100,1))","v":2.8},{"$f":"IF(Balance!EC78=\"-\",\"-\",ROUND((Balance!EC78/Balance!EC$81)*100,1))","v":0.5},{"$f":"IF(Balance!ED78=\"-\",\"-\",ROUND((Balance!ED78/Balance!ED$81)*100,1))","v":3.1},{"$f":"IF(Balance!EE78=\"-\",\"-\",ROUND((Balance!EE78/Balance!EE$81)*100,1))","v":1.9},"-","-","-","-","-","-","-","-","-","-","-"]
[null,"Residuos renovables",{"$f":"IF(Balance!C79=\"-\",\"-\",ROUND((Balance!C79/Balance!C$81)*100,1))","v":"-"},{"$f":"IF(Balance!D79=\"-\",\"-\",ROUND((Balance!D79/Balance!D$81)*100,1))","v":"-"},{"$f":"IF(Balance!E79=\"-\",\"-\",ROUND((Balance!E79/Balance!E$81)*100,1))","v":"-"},{"$f":"IF(Balance!F79=\"-\",\"-\",ROUND((Balance!F79/Balance!F$81)*100,1))","v":"-"},{"$f":"IF(Balance!G79=\"-\",\"-\",ROUND((Balance!G79/Balance!G$81)*100,1))","v":"-"},{"$f":"IF(Balance!H79=\"-\",\"-\",ROUND((Balance!H79/Balance!H$81)*100,1))","v":"-"},{"$f":"IF(Balance!I79=\"-\",\"-\",ROUND((Balance!I79/Balance!I$81)*100,1))","v":"-"},{"$f":"IF(Balance!J79=\"-\",\"-\",ROUND((Balance!J79/Balance!J$81)*100,1))","v":"-"},{"$f":"IF(Balance!K79=\"-\",\"-\",ROUND((Balance!K79/Balance!K$81)*100,1))","v":"-"},{"$f":"IF(Balance!L79=\"-\",\"-\",ROUND((Balance!L79/Balance!L$81)*100,1))","v":"-"},{"$f":"IF(Balance!M79=\"-\",\"-\",ROUND((Balance!M79/Balance!M$81)*100,1))","v":"-"},{"$f":"IF(Balance!N79=\"-\",\"-\",ROUND((Balance!N79/Balance!N$81)*100,1))","v":"-"},{"$f":"IF(Balance!O79=\"-\",\"-\",ROUND((Balance!O79/Balance!O$81)*100,1))","v":"-"},{"$f":"IF(Balance!P79=\"-\",\"-\",ROUND((Balance!P79/Balance!P$81)*100,1))","v":"-"},{"$f":"IF(Balance!Q79=\"-\",\"-\",ROUND((Balance!Q79/Balance!Q$81)*100,1))","v":"-"},{"$f":"IF(Balance!R79=\"-\",\"-\",ROUND((Balance!R79/Balance!R$81)*100,1))","v":"-"},{"$f":"IF(Balance!S79=\"-\",\"-\",ROUND((Balance!S79/Balance!S$81)*100,1))","v":"-"},{"$f":"IF(Balance!T79=\"-\",\"-\",ROUND((Balance!T79/Balance!T$81)*100,1))","v":"-"},{"$f":"IF(Balance!U79=\"-\",\"-\",ROUND((Balance!U79/Balance!U$81)*100,1))","v":"-"},{"$f":"IF(Balance!V79=\"-\",\"-\",ROUND((Balance!V79/Balance!V$81)*100,1))","v":"-"},{"$f":"IF(Balance!W79=\"-\",\"-\",ROUND((Balance!W79/Balance!W$81)*100,1))","v":"-"},{"$f":"IF(Balance!X79=\"-\",\"-\",ROUND((Balance!X79/Balance!X$81)*100,1))","v":"-"},{"$f":"IF(Balance!Y79=\"-\",\"-\",ROUND((Balance!Y79/Balance!Y$81)*100,1))","v":"-"},{"$f":"IF(Balance!Z79=\"-\",\"-\",ROUND((Balance!Z79/Balance!Z$81)*100,1))","v":"-"},{"$f":"IF(Balance!AA79=\"-\",\"-\",ROUND((Balance!AA79/Balance!AA$81)*100,1))","v":"-"},{"$f":"IF(Balance!AB79=\"-\",\"-\",ROUND((Balance!AB79/Balance!AB$81)*100,1))","v":"-"},{"$f":"IF(Balance!AC79=\"-\",\"-\",ROUND((Balance!AC79/Balance!AC$81)*100,1))","v":"-"},{"$f":"IF(Balance!AD79=\"-\",\"-\",ROUND((Balance!AD79/Balance!AD$81)*100,1))","v":"-"},{"$f":"IF(Balance!AE79=\"-\",\"-\",ROUND((Balance!AE79/Balance!AE$81)*100,1))","v":"-"},{"$f":"IF(Balance!AF79=\"-\",\"-\",ROUND((Balance!AF79/Balance!AF$81)*100,1))","v":"-"},{"$f":"IF(Balance!AG79=\"-\",\"-\",ROUND((Balance!AG79/Balance!AG$81)*100,1))","v":"-"},{"$f":"IF(Balance!AH79=\"-\",\"-\",ROUND((Balance!AH79/Balance!AH$81)*100,1))","v":"-"},{"$f":"IF(Balance!AI79=\"-\",\"-\",ROUND((Balance!AI79/Balance!AI$81)*100,1))","v":"-"},{"$f":"IF(Balance!AJ79=\"-\",\"-\",ROUND((Balance!AJ79/Balance!AJ$81)*100,1))","v":"-"},{"$f":"IF(Balance!AK79=\"-\",\"-\",ROUND((Balance!AK79/Balance!AK$81)*100,1))","v":"-"},{"$f":"IF(Balance!AL79=\"-\",\"-\",ROUND((Balance!AL79/Balance!AL$81)*100,1))","v":"-"},{"$f":"IF(Balance!AM79=\"-\",\"-\",ROUND((Balance!AM79/Balance!AM$81)*100,1))","v":"-"},{"$f":"IF(Balance!AN79=\"-\",\"-\",ROUND((Balance!AN79/Balance!AN$81)*100,1))","v":"-"},{"$f":"IF(Balance!AO79=\"-\",\"-\",ROUND((Balance!AO79/Balance!AO$81)*100,1))","v":"-"},{"$f":"IF(Balance!AP79=\"-\",\"-\",ROUND((Balance!AP79/Balance!AP$81)*100,1))","v":"-"},{"$f":"IF(Balance!AQ79=\"-\",\"-\",ROUND((Balance!AQ79/Balance!AQ$81)*100,1))","v":"-"},{"$f":"IF(Balance!AR79=\"-\",\"-\",ROUND((Balance!AR79/Balance!AR$81)*100,1))","v":"-"},{"$f":"IF(Balance!AS79=\"-\",\"-\",ROUND((Balance!AS79/Balance!AS$81)*100,1))","v":"-"},{"$f":"IF(Balance!AT79=\"-\",\"-\",ROUND((Balance!AT79/Balance!AT$81)*100,1))","v":"-"},{"$f":"IF(Balance!AU79=\"-\",\"-\",ROUND((Balance!AU79/Balance!AU$81)*100,1))","v":"-"},{"$f":"IF(Balance!AV79=\"-\",\"-\",ROUND((Balance!AV79/Balance!AV$81)*100,1))","v":"-"},{"$f":"IF(Balance!AW79=\"-\",\"-\",ROUND((Balance!AW79/Balance!AW$81)*100,1))","v":"-"},{"$f":"IF(Balance!AX79=\"-\",\"-\",ROUND((Balance!AX79/Balance!AX$81)*100,1))","v":"-"},{"$f":"IF(Balance!AY79=\"-\",\"-\",ROUND((Balance!AY79/Balance!AY$81)*100,1))","v":"-"},{"$f":"IF(Balance!AZ79=\"-\",\"-\",ROUND((Balance!AZ79/Balance!AZ$81)*100,1))","v":"-"},{"$f":"IF(Balance!BA79=\"-\",\"-\",ROUND((Balance!BA79/Balance!BA$81)*100,1))","v":"-"},{"$f":"IF(Balance!BB79=\"-\",\"-\",ROUND((Balance!BB79/Balance!BB$81)*100,1))","v":"-"},{"$f":"IF(Balance!BC79=\"-\",\"-\",ROUND((Balance!BC79/Balance!BC$81)*100,1))","v":"-"},{"$f":"IF(Balance!BD79=\"-\",\"-\",ROUND((Balance!BD79/Balance!BD$81)*100,1))","v":"-"},{"$f":"IF(Balance!BE79=\"-\",\"-\",ROUND((Balance!BE79/Balance!BE$81)*100,1))","v":"-"},{"$f":"IF(Balance!BF79=\"-\",\"-\",ROUND((Balance!BF79/Balance!BF$81)*100,1))","v":"-"},{"$f":"IF(Balance!BG79=\"-\",\"-\",ROUND((Balance!BG79/Balance!BG$81)*100,1))","v":"-"},{"$f":"IF(Balance!BH79=\"-\",\"-\",ROUND((Balance!BH79/Balance!BH$81)*100,1))","v":"-"},{"$f":"IF(Balance!BI79=\"-\",\"-\",ROUND((Balance!BI79/Balance!BI$81)*100,1))","v":"-"},{"$f":"IF(Balance!BJ79=\"-\",\"-\",ROUND((Balance!BJ79/Balance!BJ$81)*100,1))","v":"-"},{"$f":"IF(Balance!BK79=\"-\",\"-\",ROUND((Balance!BK79/Balance!BK$81)*100,1))","v":"-"},{"$f":"IF(Balance!BL79=\"-\",\"-\",ROUND((Balance!BL79/Balance!BL$81)*100,1))","v":"-"},{"$f":"IF(Balance!BM79=\"-\",\"-\",ROUND((Balance!BM79/Balance!BM$81)*100,1))","v":"-"},{"$f":"IF(Balance!BN79=\"-\",\"-\",ROUND((Balance!BN79/Balance!BN$81)*100,1))","v":"-"},{"$f":"IF(Balance!BO79=\"-\",\"-\",ROUND((Balance!BO79/Balance!BO$81)*100,1))","v":"-"},{"$f":"IF(Balance!BP79=\"-\",\"-\",ROUND((Balance!BP79/Balance!BP$81)*100,1))","v":"-"},{"$f":"IF(Balance!BQ79=\"-\",\"-\",ROUND((Balance!BQ79/Balance!BQ$81)*100,1))","v":"-"},{"$f":"IF(Balance!BR79=\"-\",\"-\",ROUND((Balance!BR79/Balance!BR$81)*100,1))","v":"-"},{"$f":"IF(Balance!BS79=\"-\",\"-\",ROUND((Balance!BS79/Balance!BS$81)*100,1))","v":"-"},{"$f":"IF(Balance!BT79=\"-\",\"-\",ROUND((Balance!BT79/Balance!BT$81)*100,1))","v":"-"},{"$f":"IF(Balance!BU79=\"-\",\"-\",ROUND((Balance!BU79/Balance!BU$81)*100,1))","v":"-"},{"$f":"IF(Balance!BV79=\"-\",\"-\",ROUND((Balance!BV79/Balance!BV$81)*100,1))","v":"-"},{"$f":"IF(Balance!BW79=\"-\",\"-\",ROUND((Balance!BW79/Balance!BW$81)*100,1))","v":"-"},{"$f":"IF(Balance!BX79=\"-\",\"-\",ROUND((Balance!BX79/Balance!BX$81)*100,1))","v":"-"},{"$f":"IF(Balance!BY79=\"-\",\"-\",ROUND((Balance!BY79/Balance!BY$81)*100,1))","v":"-"},{"$f":"IF(Balance!BZ79=\"-\",\"-\",ROUND((Balance!BZ79/Balance!BZ$81)*100,1))","v":"-"},{"$f":"IF(Balance!CA79=\"-\",\"-\",ROUND((Balance!CA79/Balance!CA$81)*100,1))","v":"-"},{"$f":"IF(Balance!CB79=\"-\",\"-\",ROUND((Balance!CB79/Balance!CB$81)*100,1))","v":"-"},{"$f":"IF(Balance!CC79=\"-\",\"-\",ROUND((Balance!CC79/Balance!CC$81)*100,1))","v":"-"},{"$f":"IF(Balance!CD79=\"-\",\"-\",ROUND((Balance!CD79/Balance!CD$81)*100,1))","v":"-"},{"$f":"IF(Balance!CE79=\"-\",\"-\",ROUND((Balance!CE79/Balance!CE$81)*100,1))","v":"-"},{"$f":"IF(Balance!CF79=\"-\",\"-\",ROUND((Balance!CF79/Balance!CF$81)*100,1))","v":"-"},{"$f":"IF(Balance!CG79=\"-\",\"-\",ROUND((Balance!CG79/Balance!CG$81)*100,1))","v":"-"},{"$f":"IF(Balance!CH79=\"-\",\"-\",ROUND((Balance!CH79/Balance!CH$81)*100,1))","v":"-"},{"$f":"IF(Balance!CI79=\"-\",\"-\",ROUND((Balance!CI79/Balance!CI$81)*100,1))","v":"-"},{"$f":"IF(Balance!CJ79=\"-\",\"-\",ROUND((Balance!CJ79/Balance!CJ$81)*100,1))","v":"-"},{"$f":"IF(Balance!CK79=\"-\",\"-\",ROUND((Balance!CK79/Balance!CK$81)*100,1))","v":"-"},{"$f":"IF(Balance!CL79=\"-\",\"-\",ROUND((Balance!CL79/Balance!CL$81)*100,1))","v":"-"},{"$f":"IF(Balance!CM79=\"-\",\"-\",ROUND((Balance!CM79/Balance!CM$81)*100,1))","v":"-"},{"$f":"IF(Balance!CN79=\"-\",\"-\",ROUND((Balance!CN79/Balance!CN$81)*100,1))","v":"-"},{"$f":"IF(Balance!CO79=\"-\",\"-\",ROUND((Balance!CO79/Balance!CO$81)*100,1))","v":"-"},{"$f":"IF(Balance!CP79=\"-\",\"-\",ROUND((Balance!CP79/Balance!CP$81)*100,1))","v":"-"},{"$f":"IF(Balance!CQ79=\"-\",\"-\",ROUND((Balance!CQ79/Balance!CQ$81)*100,1))","v":"-"},{"$f":"IF(Balance!CR79=\"-\",\"-\",ROUND((Balance!CR79/Balance!CR$81)*100,1))","v":"-"},{"$f":"IF(Balance!CS79=\"-\",\"-\",ROUND((Balance!CS79/Balance!CS$81)*100,1))","v":"-"},{"$f":"IF(Balance!CT79=\"-\",\"-\",ROUND((Balance!CT79/Balance!CT$81)*100,1))","v":"-"},{"$f":"IF(Balance!CU79=\"-\",\"-\",ROUND((Balance!CU79/Balance!CU$81)*100,1))","v":2.2000000000000002},{"$f":"IF(Balance!CV79=\"-\",\"-\",ROUND((Balance!CV79/Balance!CV$81)*100,1))","v":2.2999999999999998},{"$f":"IF(Balance!CW79=\"-\",\"-\",ROUND((Balance!CW79/Balance!CW$81)*100,1))","v":2.4},{"$f":"IF(Balance!CX79=\"-\",\"-\",ROUND((Balance!CX79/Balance!CX$81)*100,1))","v":2.4},{"$f":"IF(Balance!CY79=\"-\",\"-\",ROUND((Balance!CY79/Balance!CY$81)*100,1))","v":2.4},{"$f":"IF(Balance!CZ79=\"-\",\"-\",ROUND((Balance!CZ79/Balance!CZ$81)*100,1))","v":2.1},{"$f":"IF(Balance!DA79=\"-\",\"-\",ROUND((Balance!DA79/Balance!DA$81)*100,1))","v":1.4},{"$f":"IF(Balance!DB79=\"-\",\"-\",ROUND((Balance!DB79/Balance!DB$81)*100,1))","v":1.6},{"$f":"IF(Balance!DC79=\"-\",\"-\",ROUND((Balance!DC79/Balance!DC$81)*100,1))","v":2},{"$f":"IF(Balance!DD79=\"-\",\"-\",ROUND((Balance!DD79/Balance!DD$81)*100,1))","v":2.4},{"$f":"IF(Balance!DE79=\"-\",\"-\",ROUND((Balance!DE79/Balance!DE$81)*100,1))","v":0.7},{"$f":"IF(Balance!DF79=\"-\",\"-\",ROUND((Balance!DF79/Balance!DF$81)*100,1))","v":2.5},{"$f":"IF(Balance!DG79=\"-\",\"-\",ROUND((Balance!DG79/Balance!DG$81)*100,1))","v":2.9},{"$f":"IF(Balance!DH79=\"-\",\"-\",ROUND((Balance!DH79/Balance!DH$81)*100,1))","v":2.6},{"$f":"IF(Balance!DI79=\"-\",\"-\",ROUND((Balance!DI79/Balance!DI$81)*100,1))","v":2.4},{"$f":"IF(Balance!DJ79=\"-\",\"-\",ROUND((Balance!DJ79/Balance!DJ$81)*100,1))","v":2.8},{"$f":"IF(Balance!DK79=\"-\",\"-\",ROUND((Balance!DK79/Balance!DK$81)*100,1))","v":2.2999999999999998},{"$f":"IF(Balance!DL79=\"-\",\"-\",ROUND((Balance!DL79/Balance!DL$81)*100,1))","v":2.2999999999999998},{"$f":"IF(Balance!DM79=\"-\",\"-\",ROUND((Balance!DM79/Balance!DM$81)*100,1))","v":2.1},{"$f":"IF(Balance!DN79=\"-\",\"-\",ROUND((Balance!DN79/Balance!DN$81)*100,1))","v":2},{"$f":"IF(Balance!DO79=\"-\",\"-\",ROUND((Balance!DO79/Balance!DO$81)*100,1))","v":2.2000000000000002},{"$f":"IF(Balance!DP79=\"-\",\"-\",ROUND((Balance!DP79/Balance!DP$81)*100,1))","v":2.9},{"$f":"IF(Balance!DQ79=\"-\",\"-\",ROUND((Balance!DQ79/Balance!DQ$81)*100,1))","v":0.7},{"$f":"IF(Balance!DR79=\"-\",\"-\",ROUND((Balance!DR79/Balance!DR$81)*100,1))","v":2.9},{"$f":"IF(Balance!DS79=\"-\",\"-\",ROUND((Balance!DS79/Balance!DS$81)*100,1))","v":2.4},{"$f":"IF(Balance!DT79=\"-\",\"-\",ROUND((Balance!DT79/Balance!DT$81)*100,1))","v":2.7},{"$f":"IF(Balance!DU79=\"-\",\"-\",ROUND((Balance!DU79/Balance!DU$81)*100,1))","v":2.7},{"$f":"IF(Balance!DV79=\"-\",\"-\",ROUND((Balance!DV79/Balance!DV$81)*100,1))","v":2.7},{"$f":"IF(Balance!DW79=\"-\",\"-\",ROUND((Balance!DW79/Balance!DW$81)*100,1))","v":2.7},{"$f":"IF(Balance!DX79=\"-\",\"-\",ROUND((Balance!DX79/Balance!DX$81)*100,1))","v":2.4},{"$f":"IF(Balance!DY79=\"-\",\"-\",ROUND((Balance!DY79/Balance!DY$81)*100,1))","v":2.2000000000000002},{"$f":"IF(Balance!DZ79=\"-\",\"-\",ROUND((Balance!DZ79/Balance!DZ$81)*100,1))","v":1.6},{"$f":"IF(Balance!EA79=\"-\",\"-\",ROUND((Balance!EA79/Balance!EA$81)*100,1))","v":2.5},{"$f":"IF(Balance!EB79=\"-\",\"-\",ROUND((Balance!EB79/Balance!EB$81)*100,1))","v":2.8},{"$f":"IF(Balance!EC79=\"-\",\"-\",ROUND((Balance!EC79/Balance!EC$81)*100,1))","v":0.5},{"$f":"IF(Balance!ED79=\"-\",\"-\",ROUND((Balance!ED79/Balance!ED$81)*100,1))","v":3.1},{"$f":"IF(Balance!EE79=\"-\",\"-\",ROUND((Balance!EE79/Balance!EE$81)*100,1))","v":1.9},"-","-","-","-","-","-","-","-","-","-","-"]
[null,"Generación renovable",{"$f":"SUM(C58,C61)","v":0},{"$f":"SUM(D58,D61)","v":0},0,0,0,0,0,0,0,0,0,0,0,0,0,0,0,0,0,0,0,0,0,0,0,0.1,0.1,0.2,0.1,0,0,0,0,0,0,0,0,0,0,0,0.1,0,0,0,0,0,0,0,0,0,0,0,0,0,0,0,0,0,0,0,0,0,0,0.1,0.1,{"$f":"SUM(BP58,BP61)","v":0},0,0,0,0,0,0,0,0,0,0,0.1,0.1,0,0,0,0,0,0,0,0,0,0.1,0.1,0.1,0,0,0,0,0,0,2.2000000000000002,2.2999999999999998,2.4,2.4,2.4,2.1,1.4,1.6,2,2.4,0.7,2.5,2.9,2.6,2.5,2.9,2.4,2.2999999999999998,2.1,2,2.2000000000000002,2.9,0.7,2.9,2.4,2.7,2.7,2.7,2.7,2.4,2.2000000000000002,1.6,2.5,{"$f":"SUM(EB58,EB61)","v":2.8},0.5,3.1,{"$f":"SUM(EE58,EE61)","v":1.9},"-","-","-","-","-","-","-","-","-","-","-"]
[null,"Generación no renovable",{"$f":"SUM(C56:C57,C59:C60)","v":100},{"$f":"SUM(D56:D57,D59:D60)","v":100},100,100,100,100,100.00000000000001,100,100,99.999999999999986,100,100,100,100,100,100,100,99.999999999999986,100,100,100,100,100,100,100,99.899999999999991,99.899999999999991,99.8,99.899999999999991,100.00000000000001,100,99.999999999999986,100,100,100,100,100,99.999999999999986,100,100,99.9,100,100,100,100,100,100,100,100,100,100,100,100,100,100.00000000000001,100,100,100,99.999999999999986,100,100,100,100,99.9,99.9,{"$f":"SUM(BP56:BP57,BP59:BP60)","v":100},100,100,100,100,100,100,100,100,100,100,99.899999999999991,99.899999999999991,100,100,100,100,100,99.999999999999986,100,100,99.999999999999986,99.9,99.899999999999991,99.9,100,100,100,100,100,100,97.800000000000011,97.7,97.600000000000009,97.600000000000009,97.600000000000009,97.899999999999991,98.6,98.399999999999991,98,97.600000000000009,99.3,97.5,97.100000000000009,97.399999999999991,97.5,97.1,97.6,97.7,97.899999999999991,98,97.8,97.100000000000009,99.3,97.100000000000009,97.600000000000009,97.3,97.3,97.3,97.3,97.600000000000009,97.8,98.399999999999991,97.5,{"$f":"SUM(EB56:EB57,EB59:EB60)","v":97.2},99.5,96.899999999999991,98.1,"-","-","-","-","-","-","-","-","-","-","-"]
[]
[null,"Estructura de generación mensual nacional (%)","2007-01-01","2007-02-01","2007-03-01","2007-04-01","2007-05-01","2007-06-01","2007-07-01","2007-08-01","2007-09-01","2007-10-01","2007-11-01","2007-12-01","2008-01-01","2008-02-01","2008-03-01","2008-04-01","2008-05-01","2008-06-01","2008-07-01","2008-08-01","2008-09-01","2008-10-01","2008-11-01","2008-12-01","2009-01-01","2009-02-01","2009-03-01","2009-04-01","2009-05-01","2009-06-01","2009-07-01","2009-08-01","2009-09-01","2009-10-01","2009-11-01","2009-12-01","2010-01-01","2010-02-01","2010-03-01","2010-04-01","2010-05-01","2010-06-01","2010-07-01","2010-08-01","2010-09-01","2010-10-01","2010-11-01","2010-12-01","2011-01-01","2011-02-01","2011-03-01","2011-04-01","2011-05-01","2011-06-01","2011-07-01","2011-08-01","2011-09-01","2011-10-01","2011-11-01","2011-12-01","2012-01-01","2012-02-01","2012-03-01","2012-04-01","2012-05-01","2012-06-01","2012-07-01","2012-08-01","2012-09-01","2012-10-01","2012-11-01","2012-12-01","2013-01-01","2013-02-01","2013-03-01","2013-04-01","2013-05-01","2013-06-01","2013-07-01","2013-08-01","2013-09-01","2013-10-01","2013-11-01","2013-12-01","2014-01-01","2014-02-01","2014-03-01","2014-04-01","2014-05-01","2014-06-01","2014-07-01","2014-08-01","2014-09-01","2014-10-01","2014-11-01","2014-12-01","2015-01-01","2015-02-01","2015-03-01","2015-04-01","2015-05-01","2015-06-01","2015-07-01","2015-08-01","2015-09-01","2015-10-01","2015-11-01","2015-12-01","2016-01-01","2016-02-01","2016-03-01","2016-04-01","2016-05-01","2016-06-01","2016-07-01","2016-08-01","2016-09-01","2016-10-01","2016-11-01","2016-12-01","2017-01-01","2017-02-01","2017-03-01","2017-04-01","2017-05-01","2017-06-01","2017-07-01","2017-08-01","2017-09-01","2017-10-01","2017-11-01","2017-12-01","2018-01-01","2018-02-01","2018-03-01","2018-04-01","2018-05-01","2018-06-01","2018-07-01","2018-08-01","2018-09-01","2018-10-01","2018-11-01","2018-12-01"]
[null,"Hidráulica",{"$f":"IF(SUM(Balance!C85,Balance!C93)=0,\"-\",ROUND((SUM(Balance!C85,Balance!C93)/SUM(Balance!C$102))*100,1))","v":8.8000000000000007},{"$f":"IF(SUM(Balance!D85,Balance!D93)=0,\"-\",ROUND((SUM(Balance!D85,Balance!D93)/SUM(Balance!D$102))*100,1))","v":13.2},{"$f":"IF(SUM(Balance!E85,Balance!E93)=0,\"-\",ROUND((SUM(Balance!E85,Balance!E93)/SUM(Balance!E$102))*100,1))","v":16.100000000000001},{"$f":"IF(SUM(Balance!F85,Balance!F93)=0,\"-\",ROUND((SUM(Balance!F85,Balance!F93)/SUM(Balance!F$102))*100,1))","v":13},{"$f":"IF(SUM(Balance!G85,Balance!G93)=0,\"-\",ROUND((SUM(Balance!G85,Balance!G93)/SUM(Balance!G$102))*100,1))","v":12.3},{"$f":"IF(SUM(Balance!H85,Balance!H93)=0,\"-\",ROUND((SUM(Balance!H85,Balance!H93)/SUM(Balance!H$102))*100,1))","v":10.1},{"$f":"IF(SUM(Balance!I85,Balance!I93)=0,\"-\",ROUND((SUM(Balance!I85,Balance!I93)/SUM(Balance!I$102))*100,1))","v":9.8000000000000007},{"$f":"IF(SUM(Balance!J85,Balance!J93)=0,\"-\",ROUND((SUM(Balance!J85,Balance!J93)/SUM(Balance!J$102))*100,1))","v":7.6},{"$f":"IF(SUM(Balance!K85,Balance!K93)=0,\"-\",ROUND((SUM(Balance!K85,Balance!K93)/SUM(Balance!K$102))*100,1))","v":5.9},{"$f":"IF(SUM(Balance!L85,Balance!L93)=0,\"-\",ROUND((SUM(Balance!L85,Balance!L93)/SUM(Balance!L$102))*100,1))","v":7.1},{"$f":"IF(SUM(Balance!M85,Balance!M93)=0,\"-\",ROUND((SUM(Balance!M85,Balance!M93)/SUM(Balance!M$102))*100,1))","v":5.3},{"$f":"IF(SUM(Balance!N85,Balance!N93)=0,\"-\",ROUND((SUM(Balance!N85,Balance!N93)/SUM(Balance!N$102))*100,1))","v":4.7},{"$f":"IF(SUM(Balance!O85,Balance!O93)=0,\"-\",ROUND((SUM(Balance!O85,Balance!O93)/SUM(Balance!O$102))*100,1))","v":5.2},{"$f":"IF(SUM(Balance!P85,Balance!P93)=0,\"-\",ROUND((SUM(Balance!P85,Balance!P93)/SUM(Balance!P$102))*100,1))","v":3.9},{"$f":"IF(SUM(Balance!Q85,Balance!Q93)=0,\"-\",ROUND((SUM(Balance!Q85,Balance!Q93)/SUM(Balance!Q$102))*100,1))","v":4.3},{"$f":"IF(SUM(Balance!R85,Balance!R93)=0,\"-\",ROUND((SUM(Balance!R85,Balance!R93)/SUM(Balance!R$102))*100,1))","v":11.3},{"$f":"IF(SUM(Balance!S85,Balance!S93)=0,\"-\",ROUND((SUM(Balance!S85,Balance!S93)/SUM(Balance!S$102))*100,1))","v":14.5},{"$f":"IF(SUM(Balance!T85,Balance!T93)=0,\"-\",ROUND((SUM(Balance!T85,Balance!T93)/SUM(Balance!T$102))*100,1))","v":13.4},{"$f":"IF(SUM(Balance!U85,Balance!U93)=0,\"-\",ROUND((SUM(Balance!U85,Balance!U93)/SUM(Balance!U$102))*100,1))","v":8.4},{"$f":"IF(SUM(Balance!V85,Balance!V93)=0,\"-\",ROUND((SUM(Balance!V85,Balance!V93)/SUM(Balance!V$102))*100,1))","v":6.4},{"$f":"IF(SUM(Balance!W85,Balance!W93)=0,\"-\",ROUND((SUM(Balance!W85,Balance!W93)/SUM(Balance!W$102))*100,1))","v":5.6},{"$f":"IF(SUM(Balance!X85,Balance!X93)=0,\"-\",ROUND((SUM(Balance!X85,Balance!X93)/SUM(Balance!X$102))*100,1))","v":4.5999999999999996},{"$f":"IF(SUM(Balance!Y85,Balance!Y93)=0,\"-\",ROUND((SUM(Balance!Y85,Balance!Y93)/SUM(Balance!Y$102))*100,1))","v":6.5},{"$f":"IF(SUM(Balance!Z85,Balance!Z93)=0,\"-\",ROUND((SUM(Balance!Z85,Balance!Z93)/SUM(Balance!Z$102))*100,1))","v":9.6999999999999993},{"$f":"IF(SUM(Balance!AA85,Balance!AA93)=0,\"-\",ROUND((SUM(Balance!AA85,Balance!AA93)/SUM(Balance!AA$102))*100,1))","v":8.6},{"$f":"IF(SUM(Balance!AB85,Balance!AB93)=0,\"-\",ROUND((SUM(Balance!AB85,Balance!AB93)/SUM(Balance!AB$102))*100,1))","v":15.2},{"$f":"IF(SUM(Balance!AC85,Balance!AC93)=0,\"-\",ROUND((SUM(Balance!AC85,Balance!AC93)/SUM(Balance!AC$102))*100,1))","v":12.3},{"$f":"IF(SUM(Balance!AD85,Balance!AD93)=0,\"-\",ROUND((SUM(Balance!AD85,Balance!AD93)/SUM(Balance!AD$102))*100,1))","v":10.4},{"$f":"IF(SUM(Balance!AE85,Balance!AE93)=0,\"-\",ROUND((SUM(Balance!AE85,Balance!AE93)/SUM(Balance!AE$102))*100,1))","v":12},{"$f":"IF(SUM(Balance!AF85,Balance!AF93)=0,\"-\",ROUND((SUM(Balance!AF85,Balance!AF93)/SUM(Balance!AF$102))*100,1))","v":9.3000000000000007},{"$f":"IF(SUM(Balance!AG85,Balance!AG93)=0,\"-\",ROUND((SUM(Balance!AG85,Balance!AG93)/SUM(Balance!AG$102))*100,1))","v":7},{"$f":"IF(SUM(Balance!AH85,Balance!AH93)=0,\"-\",ROUND((SUM(Balance!AH85,Balance!AH93)/SUM(Balance!AH$102))*100,1))","v":6.1},{"$f":"IF(SUM(Balance!AI85,Balance!AI93)=0,\"-\",ROUND((SUM(Balance!AI85,Balance!AI93)/SUM(Balance!AI$102))*100,1))","v":4.4000000000000004},{"$f":"IF(SUM(Balance!AJ85,Balance!AJ93)=0,\"-\",ROUND((SUM(Balance!AJ85,Balance!AJ93)/SUM(Balance!AJ$102))*100,1))","v":5.5},{"$f":"IF(SUM(Balance!AK85,Balance!AK93)=0,\"-\",ROUND((SUM(Balance!AK85,Balance!AK93)/SUM(Balance!AK$102))*100,1))","v":8.8000000000000007},{"$f":"IF(SUM(Balance!AL85,Balance!AL93)=0,\"-\",ROUND((SUM(Balance!AL85,Balance!AL93)/SUM(Balance!AL$102))*100,1))","v":13},{"$f":"IF(SUM(Balance!AM85,Balance!AM93)=0,\"-\",ROUND((SUM(Balance!AM85,Balance!AM93)/SUM(Balance!AM$102))*100,1))","v":19.8},{"$f":"IF(SUM(Balance!AN85,Balance!AN93)=0,\"-\",ROUND((SUM(Balance!AN85,Balance!AN93)/SUM(Balance!AN$102))*100,1))","v":16.899999999999999},{"$f":"IF(SUM(Balance!AO85,Balance!AO93)=0,\"-\",ROUND((SUM(Balance!AO85,Balance!AO93)/SUM(Balance!AO$102))*100,1))","v":23.1},{"$f":"IF(SUM(Balance!AP85,Balance!AP93)=0,\"-\",ROUND((SUM(Balance!AP85,Balance!AP93)/SUM(Balance!AP$102))*100,1))","v":21.3},{"$f":"IF(SUM(Balance!AQ85,Balance!AQ93)=0,\"-\",ROUND((SUM(Balance!AQ85,Balance!AQ93)/SUM(Balance!AQ$102))*100,1))","v":17.2},{"$f":"IF(SUM(Balance!AR85,Balance!AR93)=0,\"-\",ROUND((SUM(Balance!AR85,Balance!AR93)/SUM(Balance!AR$102))*100,1))","v":15.6},{"$f":"IF(SUM(Balance!AS85,Balance!AS93)=0,\"-\",ROUND((SUM(Balance!AS85,Balance!AS93)/SUM(Balance!AS$102))*100,1))","v":11.2},{"$f":"IF(SUM(Balance!AT85,Balance!AT93)=0,\"-\",ROUND((SUM(Balance!AT85,Balance!AT93)/SUM(Balance!AT$102))*100,1))","v":8.5},{"$f":"IF(SUM(Balance!AU85,Balance!AU93)=0,\"-\",ROUND((SUM(Balance!AU85,Balance!AU93)/SUM(Balance!AU$102))*100,1))","v":6.6},{"$f":"IF(SUM(Balance!AV85,Balance!AV93)=0,\"-\",ROUND((SUM(Balance!AV85,Balance!AV93)/SUM(Balance!AV$102))*100,1))","v":6.8},{"$f":"IF(SUM(Balance!AW85,Balance!AW93)=0,\"-\",ROUND((SUM(Balance!AW85,Balance!AW93)/SUM(Balance!AW$102))*100,1))","v":10.8},{"$f":"IF(SUM(Balance!AX85,Balance!AX93)=0,\"-\",ROUND((SUM(Balance!AX85,Balance!AX93)/SUM(Balance!AX$102))*100,1))","v":15.6},{"$f":"IF(SUM(Balance!AY85,Balance!AY93)=0,\"-\",ROUND((SUM(Balance!AY85,Balance!AY93)/SUM(Balance!AY$102))*100,1))","v":19.7},{"$f":"IF(SUM(Balance!AZ85,Balance!AZ93)=0,\"-\",ROUND((SUM(Balance!AZ85,Balance!AZ93)/SUM(Balance!AZ$102))*100,1))","v":12.9},{"$f":"IF(SUM(Balance!BA85,Balance!BA93)=0,\"-\",ROUND((SUM(Balance!BA85,Balance!BA93)/SUM(Balance!BA$102))*100,1))","v":15.3},{"$f":"IF(SUM(Balance!BB85,Balance!BB93)=0,\"-\",ROUND((SUM(Balance!BB85,Balance!BB93)/SUM(Balance!BB$102))*100,1))","v":16.3},{"$f":"IF(SUM(Balance!BC85,Balance!BC93)=0,\"-\",ROUND((SUM(Balance!BC85,Balance!BC93)/SUM(Balance!BC$102))*100,1))","v":12.7},{"$f":"IF(SUM(Balance!BD85,Balance!BD93)=0,\"-\",ROUND((SUM(Balance!BD85,Balance!BD93)/SUM(Balance!BD$102))*100,1))","v":9.1},{"$f":"IF(SUM(Balance!BE85,Balance!BE93)=0,\"-\",ROUND((SUM(Balance!BE85,Balance!BE93)/SUM(Balance!BE$102))*100,1))","v":6.9},{"$f":"IF(SUM(Balance!BF85,Balance!BF93)=0,\"-\",ROUND((SUM(Balance!BF85,Balance!BF93)/SUM(Balance!BF$102))*100,1))","v":6.5},{"$f":"IF(SUM(Balance!BG85,Balance!BG93)=0,\"-\",ROUND((SUM(Balance!BG85,Balance!BG93)/SUM(Balance!BG$102))*100,1))","v":5.3},{"$f":"IF(SUM(Balance!BH85,Balance!BH93)=0,\"-\",ROUND((SUM(Balance!BH85,Balance!BH93)/SUM(Balance!BH$102))*100,1))","v":5.6},{"$f":"IF(SUM(Balance!BI85,Balance!BI93)=0,\"-\",ROUND((SUM(Balance!BI85,Balance!BI93)/SUM(Balance!BI$102))*100,1))","v":9.5},{"$f":"IF(SUM(Balance!BJ85,Balance!BJ93)=0,\"-\",ROUND((SUM(Balance!BJ85,Balance!BJ93)/SUM(Balance!BJ$102))*100,1))","v":9.1},{"$f":"IF(SUM(Balance!BK85,Balance!BK93)=0,\"-\",ROUND((SUM(Balance!BK85,Balance!BK93)/SUM(Balance!BK$102))*100,1))","v":6.4},{"$f":"IF(SUM(Balance!BL85,Balance!BL93)=0,\"-\",ROUND((SUM(Balance!BL85,Balance!BL93)/SUM(Balance!BL$102))*100,1))","v":4.7},{"$f":"IF(SUM(Balance!BM85,Balance!BM93)=0,\"-\",ROUND((SUM(Balance!BM85,Balance!BM93)/SUM(Balance!BM$102))*100,1))","v":5.5},{"$f":"IF(SUM(Balance!BN85,Balance!BN93)=0,\"-\",ROUND((SUM(Balance!BN85,Balance!BN93)/SUM(Balance!BN$102))*100,1))","v":7.8},{"$f":"IF(SUM(Balance!BO85,Balance!BO93)=0,\"-\",ROUND((SUM(Balance!BO85,Balance!BO93)/SUM(Balance!BO$102))*100,1))","v":11.2},{"$f":"IF(SUM(Balance!BP85,Balance!BP93)=0,\"-\",ROUND((SUM(Balance!BP85,Balance!BP93)/SUM(Balance!BP$102))*100,1))","v":9.1},{"$f":"IF(SUM(Balance!BQ85,Balance!BQ93)=0,\"-\",ROUND((SUM(Balance!BQ85,Balance!BQ93)/SUM(Balance!BQ$102))*100,1))","v":7},{"$f":"IF(SUM(Balance!BR85,Balance!BR93)=0,\"-\",ROUND((SUM(Balance!BR85,Balance!BR93)/SUM(Balance!BR$102))*100,1))","v":5.6},{"$f":"IF(SUM(Balance!BS85,Balance!BS93)=0,\"-\",ROUND((SUM(Balance!BS85,Balance!BS93)/SUM(Balance!BS$102))*100,1))","v":4.5999999999999996},{"$f":"IF(SUM(Balance!BT85,Balance!BT93)=0,\"-\",ROUND((SUM(Balance!BT85,Balance!BT93)/SUM(Balance!BT$102))*100,1))","v":6.1},{"$f":"IF(SUM(Balance!BU85,Balance!BU93)=0,\"-\",ROUND((SUM(Balance!BU85,Balance!BU93)/SUM(Balance!BU$102))*100,1))","v":8.8000000000000007},{"$f":"IF(SUM(Balance!BV85,Balance!BV93)=0,\"-\",ROUND((SUM(Balance!BV85,Balance!BV93)/SUM(Balance!BV$102))*100,1))","v":11},{"$f":"IF(SUM(Balance!BW85,Balance!BW93)=0,\"-\",ROUND((SUM(Balance!BW85,Balance!BW93)/SUM(Balance!BW$102))*100,1))","v":12.1},{"$f":"IF(SUM(Balance!BX85,Balance!BX93)=0,\"-\",ROUND((SUM(Balance!BX85,Balance!BX93)/SUM(Balance!BX$102))*100,1))","v":15.5},{"$f":"IF(SUM(Balance!BY85,Balance!BY93)=0,\"-\",ROUND((SUM(Balance!BY85,Balance!BY93)/SUM(Balance!BY$102))*100,1))","v":19.399999999999999},{"$f":"IF(SUM(Balance!BZ85,Balance!BZ93)=0,\"-\",ROUND((SUM(Balance!BZ85,Balance!BZ93)/SUM(Balance!BZ$102))*100,1))","v":24.6},{"$f":"IF(SUM(Balance!CA85,Balance!CA93)=0,\"-\",ROUND((SUM(Balance!CA85,Balance!CA93)/SUM(Balance!CA$102))*100,1))","v":18},{"$f":"IF(SUM(Balance!CB85,Balance!CB93)=0,\"-\",ROUND((SUM(Balance!CB85,Balance!CB93)/SUM(Balance!CB$102))*100,1))","v":15.2},{"$f":"IF(SUM(Balance!CC85,Balance!CC93)=0,\"-\",ROUND((SUM(Balance!CC85,Balance!CC93)/SUM(Balance!CC$102))*100,1))","v":11.2},{"$f":"IF(SUM(Balance!CD85,Balance!CD93)=0,\"-\",ROUND((SUM(Balance!CD85,Balance!CD93)/SUM(Balance!CD$102))*100,1))","v":9.4},{"$f":"IF(SUM(Balance!CE85,Balance!CE93)=0,\"-\",ROUND((SUM(Balance!CE85,Balance!CE93)/SUM(Balance!CE$102))*100,1))","v":8.3000000000000007},{"$f":"IF(SUM(Balance!CF85,Balance!CF93)=0,\"-\",ROUND((SUM(Balance!CF85,Balance!CF93)/SUM(Balance!CF$102))*100,1))","v":8.5},{"$f":"IF(SUM(Balance!CG85,Balance!CG93)=0,\"-\",ROUND((SUM(Balance!CG85,Balance!CG93)/SUM(Balance!CG$102))*100,1))","v":12.3},{"$f":"IF(SUM(Balance!CH85,Balance!CH93)=0,\"-\",ROUND((SUM(Balance!CH85,Balance!CH93)/SUM(Balance!CH$102))*100,1))","v":10.199999999999999},{"$f":"IF(SUM(Balance!CI85,Balance!CI93)=0,\"-\",ROUND((SUM(Balance!CI85,Balance!CI93)/SUM(Balance!CI$102))*100,1))","v":17.7},{"$f":"IF(SUM(Balance!CJ85,Balance!CJ93)=0,\"-\",ROUND((SUM(Balance!CJ85,Balance!CJ93)/SUM(Balance!CJ$102))*100,1))","v":25.5},{"$f":"IF(SUM(Balance!CK85,Balance!CK93)=0,\"-\",ROUND((SUM(Balance!CK85,Balance!CK93)/SUM(Balance!CK$102))*100,1))","v":23.2},{"$f":"IF(SUM(Balance!CL85,Balance!CL93)=0,\"-\",ROUND((SUM(Balance!CL85,Balance!CL93)/SUM(Balance!CL$102))*100,1))","v":23.5},{"$f":"IF(SUM(Balance!CM85,Balance!CM93)=0,\"-\",ROUND((SUM(Balance!CM85,Balance!CM93)/SUM(Balance!CM$102))*100,1))","v":13.2},{"$f":"IF(SUM(Balance!CN85,Balance!CN93)=0,\"-\",ROUND((SUM(Balance!CN85,Balance!CN93)/SUM(Balance!CN$102))*100,1))","v":11.6},{"$f":"IF(SUM(Balance!CO85,Balance!CO93)=0,\"-\",ROUND((SUM(Balance!CO85,Balance!CO93)/SUM(Balance!CO$102))*100,1))","v":10.1},{"$f":"IF(SUM(Balance!CP85,Balance!CP93)=0,\"-\",ROUND((SUM(Balance!CP85,Balance!CP93)/SUM(Balance!CP$102))*100,1))","v":9.3000000000000007},{"$f":"IF(SUM(Balance!CQ85,Balance!CQ93)=0,\"-\",ROUND((SUM(Balance!CQ85,Balance!CQ93)/SUM(Balance!CQ$102))*100,1))","v":8.1},{"$f":"IF(SUM(Balance!CR85,Balance!CR93)=0,\"-\",ROUND((SUM(Balance!CR85,Balance!CR93)/SUM(Balance!CR$102))*100,1))","v":7.5},{"$f":"IF(SUM(Balance!CS85,Balance!CS93)=0,\"-\",ROUND((SUM(Balance!CS85,Balance!CS93)/SUM(Balance!CS$102))*100,1))","v":11.6},{"$f":"IF(SUM(Balance!CT85,Balance!CT93)=0,\"-\",ROUND((SUM(Balance!CT85,Balance!CT93)/SUM(Balance!CT$102))*100,1))","v":14.1},{"$f":"IF(SUM(Balance!CU85,Balance!CU93)=0,\"-\",ROUND((SUM(Balance!CU85,Balance!CU93)/SUM(Balance!CU$102))*100,1))","v":10.4},{"$f":"IF(SUM(Balance!CV85,Balance!CV93)=0,\"-\",ROUND((SUM(Balance!CV85,Balance!CV93)/SUM(Balance!CV$102))*100,1))","v":15.3},{"$f":"IF(SUM(Balance!CW85,Balance!CW93)=0,\"-\",ROUND((SUM(Balance!CW85,Balance!CW93)/SUM(Balance!CW$102))*100,1))","v":16.5},{"$f":"IF(SUM(Balance!CX85,Balance!CX93)=0,\"-\",ROUND((SUM(Balance!CX85,Balance!CX93)/SUM(Balance!CX$102))*100,1))","v":12.9},{"$f":"IF(SUM(Balance!CY85,Balance!CY93)=0,\"-\",ROUND((SUM(Balance!CY85,Balance!CY93)/SUM(Balance!CY$102))*100,1))","v":13.8},{"$f":"IF(SUM(Balance!CZ85,Balance!CZ93)=0,\"-\",ROUND((SUM(Balance!CZ85,Balance!CZ93)/SUM(Balance!CZ$102))*100,1))","v":11.4},{"$f":"IF(SUM(Balance!DA85,Balance!DA93)=0,\"-\",ROUND((SUM(Balance!DA85,Balance!DA93)/SUM(Balance!DA$102))*100,1))","v":8.1},{"$f":"IF(SUM(Balance!DB85,Balance!DB93)=0,\"-\",ROUND((SUM(Balance!DB85,Balance!DB93)/SUM(Balance!DB$102))*100,1))","v":7.1},{"$f":"IF(SUM(Balance!DC85,Balance!DC93)=0,\"-\",ROUND((SUM(Balance!DC85,Balance!DC93)/SUM(Balance!DC$102))*100,1))","v":7.5},{"$f":"IF(SUM(Balance!DD85,Balance!DD93)=0,\"-\",ROUND((SUM(Balance!DD85,Balance!DD93)/SUM(Balance!DD$102))*100,1))","v":7.9},{"$f":"IF(SUM(Balance!DE85,Balance!DE93)=0,\"-\",ROUND((SUM(Balance!DE85,Balance!DE93)/SUM(Balance!DE$102))*100,1))","v":9},{"$f":"IF(SUM(Balance!DF85,Balance!DF93)=0,\"-\",ROUND((SUM(Balance!DF85,Balance!DF93)/SUM(Balance!DF$102))*100,1))","v":6.6},{"$f":"IF(SUM(Balance!DG85,Balance!DG93)=0,\"-\",ROUND((SUM(Balance!DG85,Balance!DG93)/SUM(Balance!DG$102))*100,1))","v":15.2},{"$f":"IF(SUM(Balance!DH85,Balance!DH93)=0,\"-\",ROUND((SUM(Balance!DH85,Balance!DH93)/SUM(Balance!DH$102))*100,1))","v":18.3},{"$f":"IF(SUM(Balance!DI85,Balance!DI93)=0,\"-\",ROUND((SUM(Balance!DI85,Balance!DI93)/SUM(Balance!DI$102))*100,1))","v":18.899999999999999},{"$f":"IF(SUM(Balance!DJ85,Balance!DJ93)=0,\"-\",ROUND((SUM(Balance!DJ85,Balance!DJ93)/SUM(Balance!DJ$102))*100,1))","v":24},{"$f":"IF(SUM(Balance!DK85,Balance!DK93)=0,\"-\",ROUND((SUM(Balance!DK85,Balance!DK93)/SUM(Balance!DK$102))*100,1))","v":24.6},{"$f":"IF(SUM(Balance!DL85,Balance!DL93)=0,\"-\",ROUND((SUM(Balance!DL85,Balance!DL93)/SUM(Balance!DL$102))*100,1))","v":14.2},{"$f":"IF(SUM(Balance!DM85,Balance!DM93)=0,\"-\",ROUND((SUM(Balance!DM85,Balance!DM93)/SUM(Balance!DM$102))*100,1))","v":9.9},{"$f":"IF(SUM(Balance!DN85,Balance!DN93)=0,\"-\",ROUND((SUM(Balance!DN85,Balance!DN93)/SUM(Balance!DN$102))*100,1))","v":9.1999999999999993},{"$f":"IF(SUM(Balance!DO85,Balance!DO93)=0,\"-\",ROUND((SUM(Balance!DO85,Balance!DO93)/SUM(Balance!DO$102))*100,1))","v":7.8},{"$f":"IF(SUM(Balance!DP85,Balance!DP93)=0,\"-\",ROUND((SUM(Balance!DP85,Balance!DP93)/SUM(Balance!DP$102))*100,1))","v":7.5},{"$f":"IF(SUM(Balance!DQ85,Balance!DQ93)=0,\"-\",ROUND((SUM(Balance!DQ85,Balance!DQ93)/SUM(Balance!DQ$102))*100,1))","v":6.9},{"$f":"IF(SUM(Balance!DR85,Balance!DR93)=0,\"-\",ROUND((SUM(Balance!DR85,Balance!DR93)/SUM(Balance!DR$102))*100,1))","v":8.4},{"$f":"IF(SUM(Balance!DS85,Balance!DS93)=0,\"-\",ROUND((SUM(Balance!DS85,Balance!DS93)/SUM(Balance!DS$102))*100,1))","v":8.1},{"$f":"IF(SUM(Balance!DT85,Balance!DT93)=0,\"-\",ROUND((SUM(Balance!DT85,Balance!DT93)/SUM(Balance!DT$102))*100,1))","v":9.3000000000000007},{"$f":"IF(SUM(Balance!DU85,Balance!DU93)=0,\"-\",ROUND((SUM(Balance!DU85,Balance!DU93)/SUM(Balance!DU$102))*100,1))","v":12.7},{"$f":"IF(SUM(Balance!DV85,Balance!DV93)=0,\"-\",ROUND((SUM(Balance!DV85,Balance!DV93)/SUM(Balance!DV$102))*100,1))","v":8.9},{"$f":"IF(SUM(Balance!DW85,Balance!DW93)=0,\"-\",ROUND((SUM(Balance!DW85,Balance!DW93)/SUM(Balance!DW$102))*100,1))","v":9.5},{"$f":"IF(SUM(Balance!DX85,Balance!DX93)=0,\"-\",ROUND((SUM(Balance!DX85,Balance!DX93)/SUM(Balance!DX$102))*100,1))","v":7.4},{"$f":"IF(SUM(Balance!DY85,Balance!DY93)=0,\"-\",ROUND((SUM(Balance!DY85,Balance!DY93)/SUM(Balance!DY$102))*100,1))","v":5.2},{"$f":"IF(SUM(Balance!DZ85,Balance!DZ93)=0,\"-\",ROUND((SUM(Balance!DZ85,Balance!DZ93)/SUM(Balance!DZ$102))*100,1))","v":5},{"$f":"IF(SUM(Balance!EA85,Balance!EA93)=0,\"-\",ROUND((SUM(Balance!EA85,Balance!EA93)/SUM(Balance!EA$102))*100,1))","v":5.8},{"$f":"IF(SUM(Balance!EB85,Balance!EB93)=0,\"-\",ROUND((SUM(Balance!EB85,Balance!EB93)/SUM(Balance!EB$102))*100,1))","v":3.9},{"$f":"IF(SUM(Balance!EC85,Balance!EC93)=0,\"-\",ROUND((SUM(Balance!EC85,Balance!EC93)/SUM(Balance!EC$102))*100,1))","v":3.7},{"$f":"IF(SUM(Balance!ED85,Balance!ED93)=0,\"-\",ROUND((SUM(Balance!ED85,Balance!ED93)/SUM(Balance!ED$102))*100,1))","v":5.2},{"$f":"IF(SUM(Balance!EE85,Balance!EE93)=0,\"-\",ROUND((SUM(Balance!EE85,Balance!EE93)/SUM(Balance!EE$102))*100,1))","v":9.4},"-","-","-","-","-","-","-","-","-","-","-"]
[null,"Turbinación bombeo",{"$f":"IF(Balance!C86=0,\"-\",ROUND((Balance!C86/SUM(Balance!C$102))*100,1))","v":1},{"$f":"IF(Balance!D86=0,\"-\",ROUND((Balance!D86/SUM(Balance!D$102))*100,1))","v":1.2},{"$f":"IF(Balance!E86=0,\"-\",ROUND((Balance!E86/SUM(Balance!E$102))*100,1))","v":1.1000000000000001},{"$f":"IF(Balance!F86=0,\"-\",ROUND((Balance!F86/SUM(Balance!F$102))*100,1))","v":0.9},{"$f":"IF(Balance!G86=0,\"-\",ROUND((Balance!G86/SUM(Balance!G$102))*100,1))","v":1.2},{"$f":"IF(Balance!H86=0,\"-\",ROUND((Balance!H86/SUM(Balance!H$102))*100,1))","v":1.1000000000000001},{"$f":"IF(Balance!I86=0,\"-\",ROUND((Balance!I86/SUM(Balance!I$102))*100,1))","v":0.9},{"$f":"IF(Balance!J86=0,\"-\",ROUND((Balance!J86/SUM(Balance!J$102))*100,1))","v":1.1000000000000001},{"$f":"IF(Balance!K86=0,\"-\",ROUND((Balance!K86/SUM(Balance!K$102))*100,1))","v":1},{"$f":"IF(Balance!L86=0,\"-\",ROUND((Balance!L86/SUM(Balance!L$102))*100,1))","v":0.9},{"$f":"IF(Balance!M86=0,\"-\",ROUND((Balance!M86/SUM(Balance!M$102))*100,1))","v":1.1000000000000001},{"$f":"IF(Balance!N86=0,\"-\",ROUND((Balance!N86/SUM(Balance!N$102))*100,1))","v":1.3},{"$f":"IF(Balance!O86=0,\"-\",ROUND((Balance!O86/SUM(Balance!O$102))*100,1))","v":1.1000000000000001},{"$f":"IF(Balance!P86=0,\"-\",ROUND((Balance!P86/SUM(Balance!P$102))*100,1))","v":1.2},{"$f":"IF(Balance!Q86=0,\"-\",ROUND((Balance!Q86/SUM(Balance!Q$102))*100,1))","v":1.1000000000000001},{"$f":"IF(Balance!R86=0,\"-\",ROUND((Balance!R86/SUM(Balance!R$102))*100,1))","v":0.6},{"$f":"IF(Balance!S86=0,\"-\",ROUND((Balance!S86/SUM(Balance!S$102))*100,1))","v":0.6},{"$f":"IF(Balance!T86=0,\"-\",ROUND((Balance!T86/SUM(Balance!T$102))*100,1))","v":0.8},{"$f":"IF(Balance!U86=0,\"-\",ROUND((Balance!U86/SUM(Balance!U$102))*100,1))","v":0.7},{"$f":"IF(Balance!V86=0,\"-\",ROUND((Balance!V86/SUM(Balance!V$102))*100,1))","v":0.6},{"$f":"IF(Balance!W86=0,\"-\",ROUND((Balance!W86/SUM(Balance!W$102))*100,1))","v":0.7},{"$f":"IF(Balance!X86=0,\"-\",ROUND((Balance!X86/SUM(Balance!X$102))*100,1))","v":0.9},{"$f":"IF(Balance!Y86=0,\"-\",ROUND((Balance!Y86/SUM(Balance!Y$102))*100,1))","v":1.2},{"$f":"IF(Balance!Z86=0,\"-\",ROUND((Balance!Z86/SUM(Balance!Z$102))*100,1))","v":1.2},{"$f":"IF(Balance!AA86=0,\"-\",ROUND((Balance!AA86/SUM(Balance!AA$102))*100,1))","v":1.3},{"$f":"IF(Balance!AB86=0,\"-\",ROUND((Balance!AB86/SUM(Balance!AB$102))*100,1))","v":1.2},{"$f":"IF(Balance!AC86=0,\"-\",ROUND((Balance!AC86/SUM(Balance!AC$102))*100,1))","v":0.9},{"$f":"IF(Balance!AD86=0,\"-\",ROUND((Balance!AD86/SUM(Balance!AD$102))*100,1))","v":0.8},{"$f":"IF(Balance!AE86=0,\"-\",ROUND((Balance!AE86/SUM(Balance!AE$102))*100,1))","v":0.8},{"$f":"IF(Balance!AF86=0,\"-\",ROUND((Balance!AF86/SUM(Balance!AF$102))*100,1))","v":0.7},{"$f":"IF(Balance!AG86=0,\"-\",ROUND((Balance!AG86/SUM(Balance!AG$102))*100,1))","v":0.7},{"$f":"IF(Balance!AH86=0,\"-\",ROUND((Balance!AH86/SUM(Balance!AH$102))*100,1))","v":0.7},{"$f":"IF(Balance!AI86=0,\"-\",ROUND((Balance!AI86/SUM(Balance!AI$102))*100,1))","v":0.8},{"$f":"IF(Balance!AJ86=0,\"-\",ROUND((Balance!AJ86/SUM(Balance!AJ$102))*100,1))","v":0.9},{"$f":"IF(Balance!AK86=0,\"-\",ROUND((Balance!AK86/SUM(Balance!AK$102))*100,1))","v":1.2},{"$f":"IF(Balance!AL86=0,\"-\",ROUND((Balance!AL86/SUM(Balance!AL$102))*100,1))","v":1.3},{"$f":"IF(Balance!AM86=0,\"-\",ROUND((Balance!AM86/SUM(Balance!AM$102))*100,1))","v":2},{"$f":"IF(Balance!AN86=0,\"-\",ROUND((Balance!AN86/SUM(Balance!AN$102))*100,1))","v":1.6},{"$f":"IF(Balance!AO86=0,\"-\",ROUND((Balance!AO86/SUM(Balance!AO$102))*100,1))","v":1.5},{"$f":"IF(Balance!AP86=0,\"-\",ROUND((Balance!AP86/SUM(Balance!AP$102))*100,1))","v":1},{"$f":"IF(Balance!AQ86=0,\"-\",ROUND((Balance!AQ86/SUM(Balance!AQ$102))*100,1))","v":0.9},{"$f":"IF(Balance!AR86=0,\"-\",ROUND((Balance!AR86/SUM(Balance!AR$102))*100,1))","v":0.7},{"$f":"IF(Balance!AS86=0,\"-\",ROUND((Balance!AS86/SUM(Balance!AS$102))*100,1))","v":0.5},{"$f":"IF(Balance!AT86=0,\"-\",ROUND((Balance!AT86/SUM(Balance!AT$102))*100,1))","v":0.7},{"$f":"IF(Balance!AU86=0,\"-\",ROUND((Balance!AU86/SUM(Balance!AU$102))*100,1))","v":0.7},{"$f":"IF(Balance!AV86=0,\"-\",ROUND((Balance!AV86/SUM(Balance!AV$102))*100,1))","v":1},{"$f":"IF(Balance!AW86=0,\"-\",ROUND((Balance!AW86/SUM(Balance!AW$102))*100,1))","v":0.9},{"$f":"IF(Balance!AX86=0,\"-\",ROUND((Balance!AX86/SUM(Balance!AX$102))*100,1))","v":1.3},{"$f":"IF(Balance!AY86=0,\"-\",ROUND((Balance!AY86/SUM(Balance!AY$102))*100,1))","v":1.1000000000000001},{"$f":"IF(Balance!AZ86=0,\"-\",ROUND((Balance!AZ86/SUM(Balance!AZ$102))*100,1))","v":0.7},{"$f":"IF(Balance!BA86=0,\"-\",ROUND((Balance!BA86/SUM(Balance!BA$102))*100,1))","v":0.9},{"$f":"IF(Balance!BB86=0,\"-\",ROUND((Balance!BB86/SUM(Balance!BB$102))*100,1))","v":0.9},{"$f":"IF(Balance!BC86=0,\"-\",ROUND((Balance!BC86/SUM(Balance!BC$102))*100,1))","v":0.5},{"$f":"IF(Balance!BD86=0,\"-\",ROUND((Balance!BD86/SUM(Balance!BD$102))*100,1))","v":0.4},{"$f":"IF(Balance!BE86=0,\"-\",ROUND((Balance!BE86/SUM(Balance!BE$102))*100,1))","v":0.4},{"$f":"IF(Balance!BF86=0,\"-\",ROUND((Balance!BF86/SUM(Balance!BF$102))*100,1))","v":0.5},{"$f":"IF(Balance!BG86=0,\"-\",ROUND((Balance!BG86/SUM(Balance!BG$102))*100,1))","v":0.6},{"$f":"IF(Balance!BH86=0,\"-\",ROUND((Balance!BH86/SUM(Balance!BH$102))*100,1))","v":1},{"$f":"IF(Balance!BI86=0,\"-\",ROUND((Balance!BI86/SUM(Balance!BI$102))*100,1))","v":1},{"$f":"IF(Balance!BJ86=0,\"-\",ROUND((Balance!BJ86/SUM(Balance!BJ$102))*100,1))","v":1.2},{"$f":"IF(Balance!BK86=0,\"-\",ROUND((Balance!BK86/SUM(Balance!BK$102))*100,1))","v":1.3},{"$f":"IF(Balance!BL86=0,\"-\",ROUND((Balance!BL86/SUM(Balance!BL$102))*100,1))","v":1},{"$f":"IF(Balance!BM86=0,\"-\",ROUND((Balance!BM86/SUM(Balance!BM$102))*100,1))","v":1.1000000000000001},{"$f":"IF(Balance!BN86=0,\"-\",ROUND((Balance!BN86/SUM(Balance!BN$102))*100,1))","v":1.4},{"$f":"IF(Balance!BO86=0,\"-\",ROUND((Balance!BO86/SUM(Balance!BO$102))*100,1))","v":1},{"$f":"IF(Balance!BP86=0,\"-\",ROUND((Balance!BP86/SUM(Balance!BP$102))*100,1))","v":0.9},{"$f":"IF(Balance!BQ86=0,\"-\",ROUND((Balance!BQ86/SUM(Balance!BQ$102))*100,1))","v":0.8},{"$f":"IF(Balance!BR86=0,\"-\",ROUND((Balance!BR86/SUM(Balance!BR$102))*100,1))","v":1.1000000000000001},{"$f":"IF(Balance!BS86=0,\"-\",ROUND((Balance!BS86/SUM(Balance!BS$102))*100,1))","v":1.2},{"$f":"IF(Balance!BT86=0,\"-\",ROUND((Balance!BT86/SUM(Balance!BT$102))*100,1))","v":1.2},{"$f":"IF(Balance!BU86=0,\"-\",ROUND((Balance!BU86/SUM(Balance!BU$102))*100,1))","v":1.2},{"$f":"IF(Balance!BV86=0,\"-\",ROUND((Balance!BV86/SUM(Balance!BV$102))*100,1))","v":1.4},{"$f":"IF(Balance!BW86=0,\"-\",ROUND((Balance!BW86/SUM(Balance!BW$102))*100,1))","v":1.5},{"$f":"IF(Balance!BX86=0,\"-\",ROUND((Balance!BX86/SUM(Balance!BX$102))*100,1))","v":1.5},{"$f":"IF(Balance!BY86=0,\"-\",ROUND((Balance!BY86/SUM(Balance!BY$102))*100,1))","v":1.9},{"$f":"IF(Balance!BZ86=0,\"-\",ROUND((Balance!BZ86/SUM(Balance!BZ$102))*100,1))","v":1.7},{"$f":"IF(Balance!CA86=0,\"-\",ROUND((Balance!CA86/SUM(Balance!CA$102))*100,1))","v":1.2},{"$f":"IF(Balance!CB86=0,\"-\",ROUND((Balance!CB86/SUM(Balance!CB$102))*100,1))","v":1},{"$f":"IF(Balance!CC86=0,\"-\",ROUND((Balance!CC86/SUM(Balance!CC$102))*100,1))","v":0.7},{"$f":"IF(Balance!CD86=0,\"-\",ROUND((Balance!CD86/SUM(Balance!CD$102))*100,1))","v":0.7},{"$f":"IF(Balance!CE86=0,\"-\",ROUND((Balance!CE86/SUM(Balance!CE$102))*100,1))","v":0.6},{"$f":"IF(Balance!CF86=0,\"-\",ROUND((Balance!CF86/SUM(Balance!CF$102))*100,1))","v":1},{"$f":"IF(Balance!CG86=0,\"-\",ROUND((Balance!CG86/SUM(Balance!CG$102))*100,1))","v":1.1000000000000001},{"$f":"IF(Balance!CH86=0,\"-\",ROUND((Balance!CH86/SUM(Balance!CH$102))*100,1))","v":1.4},{"$f":"IF(Balance!CI86=0,\"-\",ROUND((Balance!CI86/SUM(Balance!CI$102))*100,1))","v":1.8},{"$f":"IF(Balance!CJ86=0,\"-\",ROUND((Balance!CJ86/SUM(Balance!CJ$102))*100,1))","v":1.6},{"$f":"IF(Balance!CK86=0,\"-\",ROUND((Balance!CK86/SUM(Balance!CK$102))*100,1))","v":1.6},{"$f":"IF(Balance!CL86=0,\"-\",ROUND((Balance!CL86/SUM(Balance!CL$102))*100,1))","v":1.7},{"$f":"IF(Balance!CM86=0,\"-\",ROUND((Balance!CM86/SUM(Balance!CM$102))*100,1))","v":1.3},{"$f":"IF(Balance!CN86=0,\"-\",ROUND((Balance!CN86/SUM(Balance!CN$102))*100,1))","v":1},{"$f":"IF(Balance!CO86=0,\"-\",ROUND((Balance!CO86/SUM(Balance!CO$102))*100,1))","v":0.7},{"$f":"IF(Balance!CP86=0,\"-\",ROUND((Balance!CP86/SUM(Balance!CP$102))*100,1))","v":0.7},{"$f":"IF(Balance!CQ86=0,\"-\",ROUND((Balance!CQ86/SUM(Balance!CQ$102))*100,1))","v":0.7},{"$f":"IF(Balance!CR86=0,\"-\",ROUND((Balance!CR86/SUM(Balance!CR$102))*100,1))","v":1.2},{"$f":"IF(Balance!CS86=0,\"-\",ROUND((Balance!CS86/SUM(Balance!CS$102))*100,1))","v":1.5},{"$f":"IF(Balance!CT86=0,\"-\",ROUND((Balance!CT86/SUM(Balance!CT$102))*100,1))","v":1.4},{"$f":"IF(Balance!CU86=0,\"-\",ROUND((Balance!CU86/SUM(Balance!CU$102))*100,1))","v":1.3},{"$f":"IF(Balance!CV86=0,\"-\",ROUND((Balance!CV86/SUM(Balance!CV$102))*100,1))","v":1.3},{"$f":"IF(Balance!CW86=0,\"-\",ROUND((Balance!CW86/SUM(Balance!CW$102))*100,1))","v":1.4},{"$f":"IF(Balance!CX86=0,\"-\",ROUND((Balance!CX86/SUM(Balance!CX$102))*100,1))","v":1.2},{"$f":"IF(Balance!CY86=0,\"-\",ROUND((Balance!CY86/SUM(Balance!CY$102))*100,1))","v":1.2},{"$f":"IF(Balance!CZ86=0,\"-\",ROUND((Balance!CZ86/SUM(Balance!CZ$102))*100,1))","v":0.6},{"$f":"IF(Balance!DA86=0,\"-\",ROUND((Balance!DA86/SUM(Balance!DA$102))*100,1))","v":0.4},{"$f":"IF(Balance!DB86=0,\"-\",ROUND((Balance!DB86/SUM(Balance!DB$102))*100,1))","v":0.9},{"$f":"IF(Balance!DC86=0,\"-\",ROUND((Balance!DC86/SUM(Balance!DC$102))*100,1))","v":0.8},{"$f":"IF(Balance!DD86=0,\"-\",ROUND((Balance!DD86/SUM(Balance!DD$102))*100,1))","v":1.2},{"$f":"IF(Balance!DE86=0,\"-\",ROUND((Balance!DE86/SUM(Balance!DE$102))*100,1))","v":1.3},{"$f":"IF(Balance!DF86=0,\"-\",ROUND((Balance!DF86/SUM(Balance!DF$102))*100,1))","v":1.5},{"$f":"IF(Balance!DG86=0,\"-\",ROUND((Balance!DG86/SUM(Balance!DG$102))*100,1))","v":2},{"$f":"IF(Balance!DH86=0,\"-\",ROUND((Balance!DH86/SUM(Balance!DH$102))*100,1))","v":2.4},{"$f":"IF(Balance!DI86=0,\"-\",ROUND((Balance!DI86/SUM(Balance!DI$102))*100,1))","v":1.5},{"$f":"IF(Balance!DJ86=0,\"-\",ROUND((Balance!DJ86/SUM(Balance!DJ$102))*100,1))","v":2},{"$f":"IF(Balance!DK86=0,\"-\",ROUND((Balance!DK86/SUM(Balance!DK$102))*100,1))","v":1.5},{"$f":"IF(Balance!DL86=0,\"-\",ROUND((Balance!DL86/SUM(Balance!DL$102))*100,1))","v":0.8},{"$f":"IF(Balance!DM86=0,\"-\",ROUND((Balance!DM86/SUM(Balance!DM$102))*100,1))","v":0.4},{"$f":"IF(Balance!DN86=0,\"-\",ROUND((Balance!DN86/SUM(Balance!DN$102))*100,1))","v":0.5},{"$f":"IF(Balance!DO86=0,\"-\",ROUND((Balance!DO86/SUM(Balance!DO$102))*100,1))","v":0.5},{"$f":"IF(Balance!DP86=0,\"-\",ROUND((Balance!DP86/SUM(Balance!DP$102))*100,1))","v":0.7},{"$f":"IF(Balance!DQ86=0,\"-\",ROUND((Balance!DQ86/SUM(Balance!DQ$102))*100,1))","v":1.2},{"$f":"IF(Balance!DR86=0,\"-\",ROUND((Balance!DR86/SUM(Balance!DR$102))*100,1))","v":1.1000000000000001},{"$f":"IF(Balance!DS86=0,\"-\",ROUND((Balance!DS86/SUM(Balance!DS$102))*100,1))","v":1.1000000000000001},{"$f":"IF(Balance!DT86=0,\"-\",ROUND((Balance!DT86/SUM(Balance!DT$102))*100,1))","v":1.3},{"$f":"IF(Balance!DU86=0,\"-\",ROUND((Balance!DU86/SUM(Balance!DU$102))*100,1))","v":1.1000000000000001},{"$f":"IF(Balance!DV86=0,\"-\",ROUND((Balance!DV86/SUM(Balance!DV$102))*100,1))","v":1},{"$f":"IF(Balance!DW86=0,\"-\",ROUND((Balance!DW86/SUM(Balance!DW$102))*100,1))","v":0.8},{"$f":"IF(Balance!DX86=0,\"-\",ROUND((Balance!DX86/SUM(Balance!DX$102))*100,1))","v":0.4},{"$f":"IF(Balance!DY86=0,\"-\",ROUND((Balance!DY86/SUM(Balance!DY$102))*100,1))","v":0.4},{"$f":"IF(Balance!DZ86=0,\"-\",ROUND((Balance!DZ86/SUM(Balance!DZ$102))*100,1))","v":0.5},{"$f":"IF(Balance!EA86=0,\"-\",ROUND((Balance!EA86/SUM(Balance!EA$102))*100,1))","v":0.6},{"$f":"IF(Balance!EB86=0,\"-\",ROUND((Balance!EB86/SUM(Balance!EB$102))*100,1))","v":0.6},{"$f":"IF(Balance!EC86=0,\"-\",ROUND((Balance!EC86/SUM(Balance!EC$102))*100,1))","v":1},{"$f":"IF(Balance!ED86=0,\"-\",ROUND((Balance!ED86/SUM(Balance!ED$102))*100,1))","v":1.3},{"$f":"IF(Balance!EE86=0,\"-\",ROUND((Balance!EE86/SUM(Balance!EE$102))*100,1))","v":1.1000000000000001},"-","-","-","-","-","-","-","-","-","-","-"]
[null,"Nuclear",{"$f":"IF(Balance!C87=0,\"-\",ROUND((Balance!C87/SUM(Balance!C$102))*100,1))","v":20.7},{"$f":"IF(Balance!D87=0,\"-\",ROUND((Balance!D87/SUM(Balance!D$102))*100,1))","v":20.8},{"$f":"IF(Balance!E87=0,\"-\",ROUND((Balance!E87/SUM(Balance!E$102))*100,1))","v":20.2},{"$f":"IF(Balance!F87=0,\"-\",ROUND((Balance!F87/SUM(Balance!F$102))*100,1))","v":19.7},{"$f":"IF(Balance!G87=0,\"-\",ROUND((Balance!G87/SUM(Balance!G$102))*100,1))","v":15.1},{"$f":"IF(Balance!H87=0,\"-\",ROUND((Balance!H87/SUM(Balance!H$102))*100,1))","v":13.8},{"$f":"IF(Balance!I87=0,\"-\",ROUND((Balance!I87/SUM(Balance!I$102))*100,1))","v":15.5},{"$f":"IF(Balance!J87=0,\"-\",ROUND((Balance!J87/SUM(Balance!J$102))*100,1))","v":17.100000000000001},{"$f":"IF(Balance!K87=0,\"-\",ROUND((Balance!K87/SUM(Balance!K$102))*100,1))","v":20.8},{"$f":"IF(Balance!L87=0,\"-\",ROUND((Balance!L87/SUM(Balance!L$102))*100,1))","v":20.399999999999999},{"$f":"IF(Balance!M87=0,\"-\",ROUND((Balance!M87/SUM(Balance!M$102))*100,1))","v":15.6},{"$f":"IF(Balance!N87=0,\"-\",ROUND((Balance!N87/SUM(Balance!N$102))*100,1))","v":19.3},{"$f":"IF(Balance!O87=0,\"-\",ROUND((Balance!O87/SUM(Balance!O$102))*100,1))","v":20},{"$f":"IF(Balance!P87=0,\"-\",ROUND((Balance!P87/SUM(Balance!P$102))*100,1))","v":20.6},{"$f":"IF(Balance!Q87=0,\"-\",ROUND((Balance!Q87/SUM(Balance!Q$102))*100,1))","v":21.3},{"$f":"IF(Balance!R87=0,\"-\",ROUND((Balance!R87/SUM(Balance!R$102))*100,1))","v":16.7},{"$f":"IF(Balance!S87=0,\"-\",ROUND((Balance!S87/SUM(Balance!S$102))*100,1))","v":20.2},{"$f":"IF(Balance!T87=0,\"-\",ROUND((Balance!T87/SUM(Balance!T$102))*100,1))","v":19.3},{"$f":"IF(Balance!U87=0,\"-\",ROUND((Balance!U87/SUM(Balance!U$102))*100,1))","v":17.600000000000001},{"$f":"IF(Balance!V87=0,\"-\",ROUND((Balance!V87/SUM(Balance!V$102))*100,1))","v":20.7},{"$f":"IF(Balance!W87=0,\"-\",ROUND((Balance!W87/SUM(Balance!W$102))*100,1))","v":19},{"$f":"IF(Balance!X87=0,\"-\",ROUND((Balance!X87/SUM(Balance!X$102))*100,1))","v":18.100000000000001},{"$f":"IF(Balance!Y87=0,\"-\",ROUND((Balance!Y87/SUM(Balance!Y$102))*100,1))","v":16.399999999999999},{"$f":"IF(Balance!Z87=0,\"-\",ROUND((Balance!Z87/SUM(Balance!Z$102))*100,1))","v":19.100000000000001},{"$f":"IF(Balance!AA87=0,\"-\",ROUND((Balance!AA87/SUM(Balance!AA$102))*100,1))","v":20.5},{"$f":"IF(Balance!AB87=0,\"-\",ROUND((Balance!AB87/SUM(Balance!AB$102))*100,1))","v":18.899999999999999},{"$f":"IF(Balance!AC87=0,\"-\",ROUND((Balance!AC87/SUM(Balance!AC$102))*100,1))","v":17.399999999999999},{"$f":"IF(Balance!AD87=0,\"-\",ROUND((Balance!AD87/SUM(Balance!AD$102))*100,1))","v":19.2},{"$f":"IF(Balance!AE87=0,\"-\",ROUND((Balance!AE87/SUM(Balance!AE$102))*100,1))","v":17.100000000000001},{"$f":"IF(Balance!AF87=0,\"-\",ROUND((Balance!AF87/SUM(Balance!AF$102))*100,1))","v":15.5},{"$f":"IF(Balance!AG87=0,\"-\",ROUND((Balance!AG87/SUM(Balance!AG$102))*100,1))","v":15.9},{"$f":"IF(Balance!AH87=0,\"-\",ROUND((Balance!AH87/SUM(Balance!AH$102))*100,1))","v":22.3},{"$f":"IF(Balance!AI87=0,\"-\",ROUND((Balance!AI87/SUM(Balance!AI$102))*100,1))","v":19.3},{"$f":"IF(Balance!AJ87=0,\"-\",ROUND((Balance!AJ87/SUM(Balance!AJ$102))*100,1))","v":17.3},{"$f":"IF(Balance!AK87=0,\"-\",ROUND((Balance!AK87/SUM(Balance!AK$102))*100,1))","v":17.2},{"$f":"IF(Balance!AL87=0,\"-\",ROUND((Balance!AL87/SUM(Balance!AL$102))*100,1))","v":15.9},{"$f":"IF(Balance!AM87=0,\"-\",ROUND((Balance!AM87/SUM(Balance!AM$102))*100,1))","v":17.2},{"$f":"IF(Balance!AN87=0,\"-\",ROUND((Balance!AN87/SUM(Balance!AN$102))*100,1))","v":19.2},{"$f":"IF(Balance!AO87=0,\"-\",ROUND((Balance!AO87/SUM(Balance!AO$102))*100,1))","v":19.399999999999999},{"$f":"IF(Balance!AP87=0,\"-\",ROUND((Balance!AP87/SUM(Balance!AP$102))*100,1))","v":22.1},{"$f":"IF(Balance!AQ87=0,\"-\",ROUND((Balance!AQ87/SUM(Balance!AQ$102))*100,1))","v":19.7},{"$f":"IF(Balance!AR87=0,\"-\",ROUND((Balance!AR87/SUM(Balance!AR$102))*100,1))","v":20.7},{"$f":"IF(Balance!AS87=0,\"-\",ROUND((Balance!AS87/SUM(Balance!AS$102))*100,1))","v":21},{"$f":"IF(Balance!AT87=0,\"-\",ROUND((Balance!AT87/SUM(Balance!AT$102))*100,1))","v":22.7},{"$f":"IF(Balance!AU87=0,\"-\",ROUND((Balance!AU87/SUM(Balance!AU$102))*100,1))","v":21.8},{"$f":"IF(Balance!AV87=0,\"-\",ROUND((Balance!AV87/SUM(Balance!AV$102))*100,1))","v":23.2},{"$f":"IF(Balance!AW87=0,\"-\",ROUND((Balance!AW87/SUM(Balance!AW$102))*100,1))","v":21.1},{"$f":"IF(Balance!AX87=0,\"-\",ROUND((Balance!AX87/SUM(Balance!AX$102))*100,1))","v":19},{"$f":"IF(Balance!AY87=0,\"-\",ROUND((Balance!AY87/SUM(Balance!AY$102))*100,1))","v":18.2},{"$f":"IF(Balance!AZ87=0,\"-\",ROUND((Balance!AZ87/SUM(Balance!AZ$102))*100,1))","v":18.399999999999999},{"$f":"IF(Balance!BA87=0,\"-\",ROUND((Balance!BA87/SUM(Balance!BA$102))*100,1))","v":17.3},{"$f":"IF(Balance!BB87=0,\"-\",ROUND((Balance!BB87/SUM(Balance!BB$102))*100,1))","v":20.5},{"$f":"IF(Balance!BC87=0,\"-\",ROUND((Balance!BC87/SUM(Balance!BC$102))*100,1))","v":16.600000000000001},{"$f":"IF(Balance!BD87=0,\"-\",ROUND((Balance!BD87/SUM(Balance!BD$102))*100,1))","v":20.9},{"$f":"IF(Balance!BE87=0,\"-\",ROUND((Balance!BE87/SUM(Balance!BE$102))*100,1))","v":20.100000000000001},{"$f":"IF(Balance!BF87=0,\"-\",ROUND((Balance!BF87/SUM(Balance!BF$102))*100,1))","v":22.5},{"$f":"IF(Balance!BG87=0,\"-\",ROUND((Balance!BG87/SUM(Balance!BG$102))*100,1))","v":21.6},{"$f":"IF(Balance!BH87=0,\"-\",ROUND((Balance!BH87/SUM(Balance!BH$102))*100,1))","v":20.2},{"$f":"IF(Balance!BI87=0,\"-\",ROUND((Balance!BI87/SUM(Balance!BI$102))*100,1))","v":20.100000000000001},{"$f":"IF(Balance!BJ87=0,\"-\",ROUND((Balance!BJ87/SUM(Balance!BJ$102))*100,1))","v":20.3},{"$f":"IF(Balance!BK87=0,\"-\",ROUND((Balance!BK87/SUM(Balance!BK$102))*100,1))","v":20.399999999999999},{"$f":"IF(Balance!BL87=0,\"-\",ROUND((Balance!BL87/SUM(Balance!BL$102))*100,1))","v":19.8},{"$f":"IF(Balance!BM87=0,\"-\",ROUND((Balance!BM87/SUM(Balance!BM$102))*100,1))","v":23},{"$f":"IF(Balance!BN87=0,\"-\",ROUND((Balance!BN87/SUM(Balance!BN$102))*100,1))","v":23.2},{"$f":"IF(Balance!BO87=0,\"-\",ROUND((Balance!BO87/SUM(Balance!BO$102))*100,1))","v":19.8},{"$f":"IF(Balance!BP87=0,\"-\",ROUND((Balance!BP87/SUM(Balance!BP$102))*100,1))","v":15.2},{"$f":"IF(Balance!BQ87=0,\"-\",ROUND((Balance!BQ87/SUM(Balance!BQ$102))*100,1))","v":21.2},{"$f":"IF(Balance!BR87=0,\"-\",ROUND((Balance!BR87/SUM(Balance!BR$102))*100,1))","v":22.8},{"$f":"IF(Balance!BS87=0,\"-\",ROUND((Balance!BS87/SUM(Balance!BS$102))*100,1))","v":23.4},{"$f":"IF(Balance!BT87=0,\"-\",ROUND((Balance!BT87/SUM(Balance!BT$102))*100,1))","v":23.6},{"$f":"IF(Balance!BU87=0,\"-\",ROUND((Balance!BU87/SUM(Balance!BU$102))*100,1))","v":18},{"$f":"IF(Balance!BV87=0,\"-\",ROUND((Balance!BV87/SUM(Balance!BV$102))*100,1))","v":18.100000000000001},{"$f":"IF(Balance!BW87=0,\"-\",ROUND((Balance!BW87/SUM(Balance!BW$102))*100,1))","v":18.5},{"$f":"IF(Balance!BX87=0,\"-\",ROUND((Balance!BX87/SUM(Balance!BX$102))*100,1))","v":19.399999999999999},{"$f":"IF(Balance!BY87=0,\"-\",ROUND((Balance!BY87/SUM(Balance!BY$102))*100,1))","v":21.8},{"$f":"IF(Balance!BZ87=0,\"-\",ROUND((Balance!BZ87/SUM(Balance!BZ$102))*100,1))","v":20.399999999999999},{"$f":"IF(Balance!CA87=0,\"-\",ROUND((Balance!CA87/SUM(Balance!CA$102))*100,1))","v":18.8},{"$f":"IF(Balance!CB87=0,\"-\",ROUND((Balance!CB87/SUM(Balance!CB$102))*100,1))","v":20.6},{"$f":"IF(Balance!CC87=0,\"-\",ROUND((Balance!CC87/SUM(Balance!CC$102))*100,1))","v":21.1},{"$f":"IF(Balance!CD87=0,\"-\",ROUND((Balance!CD87/SUM(Balance!CD$102))*100,1))","v":22},{"$f":"IF(Balance!CE87=0,\"-\",ROUND((Balance!CE87/SUM(Balance!CE$102))*100,1))","v":21.5},{"$f":"IF(Balance!CF87=0,\"-\",ROUND((Balance!CF87/SUM(Balance!CF$102))*100,1))","v":19.7},{"$f":"IF(Balance!CG87=0,\"-\",ROUND((Balance!CG87/SUM(Balance!CG$102))*100,1))","v":17.8},{"$f":"IF(Balance!CH87=0,\"-\",ROUND((Balance!CH87/SUM(Balance!CH$102))*100,1))","v":16.600000000000001},{"$f":"IF(Balance!CI87=0,\"-\",ROUND((Balance!CI87/SUM(Balance!CI$102))*100,1))","v":18.8},{"$f":"IF(Balance!CJ87=0,\"-\",ROUND((Balance!CJ87/SUM(Balance!CJ$102))*100,1))","v":20.9},{"$f":"IF(Balance!CK87=0,\"-\",ROUND((Balance!CK87/SUM(Balance!CK$102))*100,1))","v":23.2},{"$f":"IF(Balance!CL87=0,\"-\",ROUND((Balance!CL87/SUM(Balance!CL$102))*100,1))","v":24.1},{"$f":"IF(Balance!CM87=0,\"-\",ROUND((Balance!CM87/SUM(Balance!CM$102))*100,1))","v":20.3},{"$f":"IF(Balance!CN87=0,\"-\",ROUND((Balance!CN87/SUM(Balance!CN$102))*100,1))","v":16},{"$f":"IF(Balance!CO87=0,\"-\",ROUND((Balance!CO87/SUM(Balance!CO$102))*100,1))","v":18.399999999999999},{"$f":"IF(Balance!CP87=0,\"-\",ROUND((Balance!CP87/SUM(Balance!CP$102))*100,1))","v":19.100000000000001},{"$f":"IF(Balance!CQ87=0,\"-\",ROUND((Balance!CQ87/SUM(Balance!CQ$102))*100,1))","v":21.7},{"$f":"IF(Balance!CR87=0,\"-\",ROUND((Balance!CR87/SUM(Balance!CR$102))*100,1))","v":23.7},{"$f":"IF(Balance!CS87=0,\"-\",ROUND((Balance!CS87/SUM(Balance!CS$102))*100,1))","v":20.6},{"$f":"IF(Balance!CT87=0,\"-\",ROUND((Balance!CT87/SUM(Balance!CT$102))*100,1))","v":20.100000000000001},{"$f":"IF(Balance!CU87=0,\"-\",ROUND((Balance!CU87/SUM(Balance!CU$102))*100,1))","v":21.3},{"$f":"IF(Balance!CV87=0,\"-\",ROUND((Balance!CV87/SUM(Balance!CV$102))*100,1))","v":20.3},{"$f":"IF(Balance!CW87=0,\"-\",ROUND((Balance!CW87/SUM(Balance!CW$102))*100,1))","v":22.4},{"$f":"IF(Balance!CX87=0,\"-\",ROUND((Balance!CX87/SUM(Balance!CX$102))*100,1))","v":22.7},{"$f":"IF(Balance!CY87=0,\"-\",ROUND((Balance!CY87/SUM(Balance!CY$102))*100,1))","v":16.7},{"$f":"IF(Balance!CZ87=0,\"-\",ROUND((Balance!CZ87/SUM(Balance!CZ$102))*100,1))","v":17.3},{"$f":"IF(Balance!DA87=0,\"-\",ROUND((Balance!DA87/SUM(Balance!DA$102))*100,1))","v":18.899999999999999},{"$f":"IF(Balance!DB87=0,\"-\",ROUND((Balance!DB87/SUM(Balance!DB$102))*100,1))","v":21.7},{"$f":"IF(Balance!DC87=0,\"-\",ROUND((Balance!DC87/SUM(Balance!DC$102))*100,1))","v":22.9},{"$f":"IF(Balance!DD87=0,\"-\",ROUND((Balance!DD87/SUM(Balance!DD$102))*100,1))","v":19.600000000000001},{"$f":"IF(Balance!DE87=0,\"-\",ROUND((Balance!DE87/SUM(Balance!DE$102))*100,1))","v":18.899999999999999},{"$f":"IF(Balance!DF87=0,\"-\",ROUND((Balance!DF87/SUM(Balance!DF$102))*100,1))","v":22.4},{"$f":"IF(Balance!DG87=0,\"-\",ROUND((Balance!DG87/SUM(Balance!DG$102))*100,1))","v":20.3},{"$f":"IF(Balance!DH87=0,\"-\",ROUND((Balance!DH87/SUM(Balance!DH$102))*100,1))","v":18.3},{"$f":"IF(Balance!DI87=0,\"-\",ROUND((Balance!DI87/SUM(Balance!DI$102))*100,1))","v":22.5},{"$f":"IF(Balance!DJ87=0,\"-\",ROUND((Balance!DJ87/SUM(Balance!DJ$102))*100,1))","v":23.2},{"$f":"IF(Balance!DK87=0,\"-\",ROUND((Balance!DK87/SUM(Balance!DK$102))*100,1))","v":18.8},{"$f":"IF(Balance!DL87=0,\"-\",ROUND((Balance!DL87/SUM(Balance!DL$102))*100,1))","v":23.3},{"$f":"IF(Balance!DM87=0,\"-\",ROUND((Balance!DM87/SUM(Balance!DM$102))*100,1))","v":22.6},{"$f":"IF(Balance!DN87=0,\"-\",ROUND((Balance!DN87/SUM(Balance!DN$102))*100,1))","v":23.3},{"$f":"IF(Balance!DO87=0,\"-\",ROUND((Balance!DO87/SUM(Balance!DO$102))*100,1))","v":23.6},{"$f":"IF(Balance!DP87=0,\"-\",ROUND((Balance!DP87/SUM(Balance!DP$102))*100,1))","v":23.4},{"$f":"IF(Balance!DQ87=0,\"-\",ROUND((Balance!DQ87/SUM(Balance!DQ$102))*100,1))","v":17.3},{"$f":"IF(Balance!DR87=0,\"-\",ROUND((Balance!DR87/SUM(Balance!DR$102))*100,1))","v":19.8},{"$f":"IF(Balance!DS87=0,\"-\",ROUND((Balance!DS87/SUM(Balance!DS$102))*100,1))","v":20.9},{"$f":"IF(Balance!DT87=0,\"-\",ROUND((Balance!DT87/SUM(Balance!DT$102))*100,1))","v":22.7},{"$f":"IF(Balance!DU87=0,\"-\",ROUND((Balance!DU87/SUM(Balance!DU$102))*100,1))","v":24.9},{"$f":"IF(Balance!DV87=0,\"-\",ROUND((Balance!DV87/SUM(Balance!DV$102))*100,1))","v":25.6},{"$f":"IF(Balance!DW87=0,\"-\",ROUND((Balance!DW87/SUM(Balance!DW$102))*100,1))","v":20.399999999999999},{"$f":"IF(Balance!DX87=0,\"-\",ROUND((Balance!DX87/SUM(Balance!DX$102))*100,1))","v":18.3},{"$f":"IF(Balance!DY87=0,\"-\",ROUND((Balance!DY87/SUM(Balance!DY$102))*100,1))","v":19.3},{"$f":"IF(Balance!DZ87=0,\"-\",ROUND((Balance!DZ87/SUM(Balance!DZ$102))*100,1))","v":23.4},{"$f":"IF(Balance!EA87=0,\"-\",ROUND((Balance!EA87/SUM(Balance!EA$102))*100,1))","v":23.3},{"$f":"IF(Balance!EB87=0,\"-\",ROUND((Balance!EB87/SUM(Balance!EB$102))*100,1))","v":20.100000000000001},{"$f":"IF(Balance!EC87=0,\"-\",ROUND((Balance!EC87/SUM(Balance!EC$102))*100,1))","v":15.9},{"$f":"IF(Balance!ED87=0,\"-\",ROUND((Balance!ED87/SUM(Balance!ED$102))*100,1))","v":20.7},{"$f":"IF(Balance!EE87=0,\"-\",ROUND((Balance!EE87/SUM(Balance!EE$102))*100,1))","v":22.2},"-","-","-","-","-","-","-","-","-","-","-"]
[null,"Carbón",{"$f":"IF(Balance!C88=0,\"-\",ROUND((Balance!C88/SUM(Balance!C$102))*100,1))","v":24.7},{"$f":"IF(Balance!D88=0,\"-\",ROUND((Balance!D88/SUM(Balance!D$102))*100,1))","v":22.3},{"$f":"IF(Balance!E88=0,\"-\",ROUND((Balance!E88/SUM(Balance!E$102))*100,1))","v":20.8},{"$f":"IF(Balance!F88=0,\"-\",ROUND((Balance!F88/SUM(Balance!F$102))*100,1))","v":27.7},{"$f":"IF(Balance!G88=0,\"-\",ROUND((Balance!G88/SUM(Balance!G$102))*100,1))","v":27},{"$f":"IF(Balance!H88=0,\"-\",ROUND((Balance!H88/SUM(Balance!H$102))*100,1))","v":26.1},{"$f":"IF(Balance!I88=0,\"-\",ROUND((Balance!I88/SUM(Balance!I$102))*100,1))","v":24.9},{"$f":"IF(Balance!J88=0,\"-\",ROUND((Balance!J88/SUM(Balance!J$102))*100,1))","v":26.6},{"$f":"IF(Balance!K88=0,\"-\",ROUND((Balance!K88/SUM(Balance!K$102))*100,1))","v":24.6},{"$f":"IF(Balance!L88=0,\"-\",ROUND((Balance!L88/SUM(Balance!L$102))*100,1))","v":23.2},{"$f":"IF(Balance!M88=0,\"-\",ROUND((Balance!M88/SUM(Balance!M$102))*100,1))","v":22.6},{"$f":"IF(Balance!N88=0,\"-\",ROUND((Balance!N88/SUM(Balance!N$102))*100,1))","v":24.1},{"$f":"IF(Balance!O88=0,\"-\",ROUND((Balance!O88/SUM(Balance!O$102))*100,1))","v":19.8},{"$f":"IF(Balance!P88=0,\"-\",ROUND((Balance!P88/SUM(Balance!P$102))*100,1))","v":19.600000000000001},{"$f":"IF(Balance!Q88=0,\"-\",ROUND((Balance!Q88/SUM(Balance!Q$102))*100,1))","v":15.6},{"$f":"IF(Balance!R88=0,\"-\",ROUND((Balance!R88/SUM(Balance!R$102))*100,1))","v":13.7},{"$f":"IF(Balance!S88=0,\"-\",ROUND((Balance!S88/SUM(Balance!S$102))*100,1))","v":10.4},{"$f":"IF(Balance!T88=0,\"-\",ROUND((Balance!T88/SUM(Balance!T$102))*100,1))","v":9.8000000000000007},{"$f":"IF(Balance!U88=0,\"-\",ROUND((Balance!U88/SUM(Balance!U$102))*100,1))","v":15.4},{"$f":"IF(Balance!V88=0,\"-\",ROUND((Balance!V88/SUM(Balance!V$102))*100,1))","v":13.9},{"$f":"IF(Balance!W88=0,\"-\",ROUND((Balance!W88/SUM(Balance!W$102))*100,1))","v":15.8},{"$f":"IF(Balance!X88=0,\"-\",ROUND((Balance!X88/SUM(Balance!X$102))*100,1))","v":18.2},{"$f":"IF(Balance!Y88=0,\"-\",ROUND((Balance!Y88/SUM(Balance!Y$102))*100,1))","v":17.5},{"$f":"IF(Balance!Z88=0,\"-\",ROUND((Balance!Z88/SUM(Balance!Z$102))*100,1))","v":17.899999999999999},{"$f":"IF(Balance!AA88=0,\"-\",ROUND((Balance!AA88/SUM(Balance!AA$102))*100,1))","v":18},{"$f":"IF(Balance!AB88=0,\"-\",ROUND((Balance!AB88/SUM(Balance!AB$102))*100,1))","v":14.3},{"$f":"IF(Balance!AC88=0,\"-\",ROUND((Balance!AC88/SUM(Balance!AC$102))*100,1))","v":14.1},{"$f":"IF(Balance!AD88=0,\"-\",ROUND((Balance!AD88/SUM(Balance!AD$102))*100,1))","v":9.6},{"$f":"IF(Balance!AE88=0,\"-\",ROUND((Balance!AE88/SUM(Balance!AE$102))*100,1))","v":11.6},{"$f":"IF(Balance!AF88=0,\"-\",ROUND((Balance!AF88/SUM(Balance!AF$102))*100,1))","v":12},{"$f":"IF(Balance!AG88=0,\"-\",ROUND((Balance!AG88/SUM(Balance!AG$102))*100,1))","v":14},{"$f":"IF(Balance!AH88=0,\"-\",ROUND((Balance!AH88/SUM(Balance!AH$102))*100,1))","v":8.9},{"$f":"IF(Balance!AI88=0,\"-\",ROUND((Balance!AI88/SUM(Balance!AI$102))*100,1))","v":13},{"$f":"IF(Balance!AJ88=0,\"-\",ROUND((Balance!AJ88/SUM(Balance!AJ$102))*100,1))","v":14.6},{"$f":"IF(Balance!AK88=0,\"-\",ROUND((Balance!AK88/SUM(Balance!AK$102))*100,1))","v":9.6999999999999993},{"$f":"IF(Balance!AL88=0,\"-\",ROUND((Balance!AL88/SUM(Balance!AL$102))*100,1))","v":8.5},{"$f":"IF(Balance!AM88=0,\"-\",ROUND((Balance!AM88/SUM(Balance!AM$102))*100,1))","v":7.6},{"$f":"IF(Balance!AN88=0,\"-\",ROUND((Balance!AN88/SUM(Balance!AN$102))*100,1))","v":6.7},{"$f":"IF(Balance!AO88=0,\"-\",ROUND((Balance!AO88/SUM(Balance!AO$102))*100,1))","v":4.5},{"$f":"IF(Balance!AP88=0,\"-\",ROUND((Balance!AP88/SUM(Balance!AP$102))*100,1))","v":4.0999999999999996},{"$f":"IF(Balance!AQ88=0,\"-\",ROUND((Balance!AQ88/SUM(Balance!AQ$102))*100,1))","v":4.7},{"$f":"IF(Balance!AR88=0,\"-\",ROUND((Balance!AR88/SUM(Balance!AR$102))*100,1))","v":7},{"$f":"IF(Balance!AS88=0,\"-\",ROUND((Balance!AS88/SUM(Balance!AS$102))*100,1))","v":10.6},{"$f":"IF(Balance!AT88=0,\"-\",ROUND((Balance!AT88/SUM(Balance!AT$102))*100,1))","v":13.1},{"$f":"IF(Balance!AU88=0,\"-\",ROUND((Balance!AU88/SUM(Balance!AU$102))*100,1))","v":14},{"$f":"IF(Balance!AV88=0,\"-\",ROUND((Balance!AV88/SUM(Balance!AV$102))*100,1))","v":9.4},{"$f":"IF(Balance!AW88=0,\"-\",ROUND((Balance!AW88/SUM(Balance!AW$102))*100,1))","v":7.5},{"$f":"IF(Balance!AX88=0,\"-\",ROUND((Balance!AX88/SUM(Balance!AX$102))*100,1))","v":8.9},{"$f":"IF(Balance!AY88=0,\"-\",ROUND((Balance!AY88/SUM(Balance!AY$102))*100,1))","v":8.9},{"$f":"IF(Balance!AZ88=0,\"-\",ROUND((Balance!AZ88/SUM(Balance!AZ$102))*100,1))","v":11.6},{"$f":"IF(Balance!BA88=0,\"-\",ROUND((Balance!BA88/SUM(Balance!BA$102))*100,1))","v":12.4},{"$f":"IF(Balance!BB88=0,\"-\",ROUND((Balance!BB88/SUM(Balance!BB$102))*100,1))","v":12.1},{"$f":"IF(Balance!BC88=0,\"-\",ROUND((Balance!BC88/SUM(Balance!BC$102))*100,1))","v":14.6},{"$f":"IF(Balance!BD88=0,\"-\",ROUND((Balance!BD88/SUM(Balance!BD$102))*100,1))","v":13.2},{"$f":"IF(Balance!BE88=0,\"-\",ROUND((Balance!BE88/SUM(Balance!BE$102))*100,1))","v":18.600000000000001},{"$f":"IF(Balance!BF88=0,\"-\",ROUND((Balance!BF88/SUM(Balance!BF$102))*100,1))","v":18.600000000000001},{"$f":"IF(Balance!BG88=0,\"-\",ROUND((Balance!BG88/SUM(Balance!BG$102))*100,1))","v":21.4},{"$f":"IF(Balance!BH88=0,\"-\",ROUND((Balance!BH88/SUM(Balance!BH$102))*100,1))","v":20.100000000000001},{"$f":"IF(Balance!BI88=0,\"-\",ROUND((Balance!BI88/SUM(Balance!BI$102))*100,1))","v":17.899999999999999},{"$f":"IF(Balance!BJ88=0,\"-\",ROUND((Balance!BJ88/SUM(Balance!BJ$102))*100,1))","v":16.8},{"$f":"IF(Balance!BK88=0,\"-\",ROUND((Balance!BK88/SUM(Balance!BK$102))*100,1))","v":21.4},{"$f":"IF(Balance!BL88=0,\"-\",ROUND((Balance!BL88/SUM(Balance!BL$102))*100,1))","v":21.2},{"$f":"IF(Balance!BM88=0,\"-\",ROUND((Balance!BM88/SUM(Balance!BM$102))*100,1))","v":19.600000000000001},{"$f":"IF(Balance!BN88=0,\"-\",ROUND((Balance!BN88/SUM(Balance!BN$102))*100,1))","v":12.2},{"$f":"IF(Balance!BO88=0,\"-\",ROUND((Balance!BO88/SUM(Balance!BO$102))*100,1))","v":17.7},{"$f":"IF(Balance!BP88=0,\"-\",ROUND((Balance!BP88/SUM(Balance!BP$102))*100,1))","v":23.1},{"$f":"IF(Balance!BQ88=0,\"-\",ROUND((Balance!BQ88/SUM(Balance!BQ$102))*100,1))","v":20.6},{"$f":"IF(Balance!BR88=0,\"-\",ROUND((Balance!BR88/SUM(Balance!BR$102))*100,1))","v":21.2},{"$f":"IF(Balance!BS88=0,\"-\",ROUND((Balance!BS88/SUM(Balance!BS$102))*100,1))","v":17.899999999999999},{"$f":"IF(Balance!BT88=0,\"-\",ROUND((Balance!BT88/SUM(Balance!BT$102))*100,1))","v":18.600000000000001},{"$f":"IF(Balance!BU88=0,\"-\",ROUND((Balance!BU88/SUM(Balance!BU$102))*100,1))","v":18},{"$f":"IF(Balance!BV88=0,\"-\",ROUND((Balance!BV88/SUM(Balance!BV$102))*100,1))","v":15.6},{"$f":"IF(Balance!BW88=0,\"-\",ROUND((Balance!BW88/SUM(Balance!BW$102))*100,1))","v":12.4},{"$f":"IF(Balance!BX88=0,\"-\",ROUND((Balance!BX88/SUM(Balance!BX$102))*100,1))","v":11.3},{"$f":"IF(Balance!BY88=0,\"-\",ROUND((Balance!BY88/SUM(Balance!BY$102))*100,1))","v":6.1},{"$f":"IF(Balance!BZ88=0,\"-\",ROUND((Balance!BZ88/SUM(Balance!BZ$102))*100,1))","v":4.9000000000000004},{"$f":"IF(Balance!CA88=0,\"-\",ROUND((Balance!CA88/SUM(Balance!CA$102))*100,1))","v":9.9},{"$f":"IF(Balance!CB88=0,\"-\",ROUND((Balance!CB88/SUM(Balance!CB$102))*100,1))","v":12.6},{"$f":"IF(Balance!CC88=0,\"-\",ROUND((Balance!CC88/SUM(Balance!CC$102))*100,1))","v":22.5},{"$f":"IF(Balance!CD88=0,\"-\",ROUND((Balance!CD88/SUM(Balance!CD$102))*100,1))","v":20.3},{"$f":"IF(Balance!CE88=0,\"-\",ROUND((Balance!CE88/SUM(Balance!CE$102))*100,1))","v":21.7},{"$f":"IF(Balance!CF88=0,\"-\",ROUND((Balance!CF88/SUM(Balance!CF$102))*100,1))","v":19.100000000000001},{"$f":"IF(Balance!CG88=0,\"-\",ROUND((Balance!CG88/SUM(Balance!CG$102))*100,1))","v":11.7},{"$f":"IF(Balance!CH88=0,\"-\",ROUND((Balance!CH88/SUM(Balance!CH$102))*100,1))","v":20.2},{"$f":"IF(Balance!CI88=0,\"-\",ROUND((Balance!CI88/SUM(Balance!CI$102))*100,1))","v":9.6},{"$f":"IF(Balance!CJ88=0,\"-\",ROUND((Balance!CJ88/SUM(Balance!CJ$102))*100,1))","v":4},{"$f":"IF(Balance!CK88=0,\"-\",ROUND((Balance!CK88/SUM(Balance!CK$102))*100,1))","v":5.7},{"$f":"IF(Balance!CL88=0,\"-\",ROUND((Balance!CL88/SUM(Balance!CL$102))*100,1))","v":6.6},{"$f":"IF(Balance!CM88=0,\"-\",ROUND((Balance!CM88/SUM(Balance!CM$102))*100,1))","v":15.8},{"$f":"IF(Balance!CN88=0,\"-\",ROUND((Balance!CN88/SUM(Balance!CN$102))*100,1))","v":24.3},{"$f":"IF(Balance!CO88=0,\"-\",ROUND((Balance!CO88/SUM(Balance!CO$102))*100,1))","v":24.2},{"$f":"IF(Balance!CP88=0,\"-\",ROUND((Balance!CP88/SUM(Balance!CP$102))*100,1))","v":24},{"$f":"IF(Balance!CQ88=0,\"-\",ROUND((Balance!CQ88/SUM(Balance!CQ$102))*100,1))","v":26.7},{"$f":"IF(Balance!CR88=0,\"-\",ROUND((Balance!CR88/SUM(Balance!CR$102))*100,1))","v":21},{"$f":"IF(Balance!CS88=0,\"-\",ROUND((Balance!CS88/SUM(Balance!CS$102))*100,1))","v":15.3},{"$f":"IF(Balance!CT88=0,\"-\",ROUND((Balance!CT88/SUM(Balance!CT$102))*100,1))","v":18.100000000000001},{"$f":"IF(Balance!CU88=0,\"-\",ROUND((Balance!CU88/SUM(Balance!CU$102))*100,1))","v":20.6},{"$f":"IF(Balance!CV88=0,\"-\",ROUND((Balance!CV88/SUM(Balance!CV$102))*100,1))","v":13.4},{"$f":"IF(Balance!CW88=0,\"-\",ROUND((Balance!CW88/SUM(Balance!CW$102))*100,1))","v":11.9},{"$f":"IF(Balance!CX88=0,\"-\",ROUND((Balance!CX88/SUM(Balance!CX$102))*100,1))","v":14.7},{"$f":"IF(Balance!CY88=0,\"-\",ROUND((Balance!CY88/SUM(Balance!CY$102))*100,1))","v":13.9},{"$f":"IF(Balance!CZ88=0,\"-\",ROUND((Balance!CZ88/SUM(Balance!CZ$102))*100,1))","v":25.3},{"$f":"IF(Balance!DA88=0,\"-\",ROUND((Balance!DA88/SUM(Balance!DA$102))*100,1))","v":24.8},{"$f":"IF(Balance!DB88=0,\"-\",ROUND((Balance!DB88/SUM(Balance!DB$102))*100,1))","v":23.8},{"$f":"IF(Balance!DC88=0,\"-\",ROUND((Balance!DC88/SUM(Balance!DC$102))*100,1))","v":22.5},{"$f":"IF(Balance!DD88=0,\"-\",ROUND((Balance!DD88/SUM(Balance!DD$102))*100,1))","v":21},{"$f":"IF(Balance!DE88=0,\"-\",ROUND((Balance!DE88/SUM(Balance!DE$102))*100,1))","v":22.3},{"$f":"IF(Balance!DF88=0,\"-\",ROUND((Balance!DF88/SUM(Balance!DF$102))*100,1))","v":21.8},{"$f":"IF(Balance!DG88=0,\"-\",ROUND((Balance!DG88/SUM(Balance!DG$102))*100,1))","v":11.8},{"$f":"IF(Balance!DH88=0,\"-\",ROUND((Balance!DH88/SUM(Balance!DH$102))*100,1))","v":8.8000000000000007},{"$f":"IF(Balance!DI88=0,\"-\",ROUND((Balance!DI88/SUM(Balance!DI$102))*100,1))","v":7.8},{"$f":"IF(Balance!DJ88=0,\"-\",ROUND((Balance!DJ88/SUM(Balance!DJ$102))*100,1))","v":4.8},{"$f":"IF(Balance!DK88=0,\"-\",ROUND((Balance!DK88/SUM(Balance!DK$102))*100,1))","v":6},{"$f":"IF(Balance!DL88=0,\"-\",ROUND((Balance!DL88/SUM(Balance!DL$102))*100,1))","v":11},{"$f":"IF(Balance!DM88=0,\"-\",ROUND((Balance!DM88/SUM(Balance!DM$102))*100,1))","v":17.2},{"$f":"IF(Balance!DN88=0,\"-\",ROUND((Balance!DN88/SUM(Balance!DN$102))*100,1))","v":16.600000000000001},{"$f":"IF(Balance!DO88=0,\"-\",ROUND((Balance!DO88/SUM(Balance!DO$102))*100,1))","v":21.5},{"$f":"IF(Balance!DP88=0,\"-\",ROUND((Balance!DP88/SUM(Balance!DP$102))*100,1))","v":20.7},{"$f":"IF(Balance!DQ88=0,\"-\",ROUND((Balance!DQ88/SUM(Balance!DQ$102))*100,1))","v":21.3},{"$f":"IF(Balance!DR88=0,\"-\",ROUND((Balance!DR88/SUM(Balance!DR$102))*100,1))","v":23.8},{"$f":"IF(Balance!DS88=0,\"-\",ROUND((Balance!DS88/SUM(Balance!DS$102))*100,1))","v":21.3},{"$f":"IF(Balance!DT88=0,\"-\",ROUND((Balance!DT88/SUM(Balance!DT$102))*100,1))","v":16.7},{"$f":"IF(Balance!DU88=0,\"-\",ROUND((Balance!DU88/SUM(Balance!DU$102))*100,1))","v":9.3000000000000007},{"$f":"IF(Balance!DV88=0,\"-\",ROUND((Balance!DV88/SUM(Balance!DV$102))*100,1))","v":10.8},{"$f":"IF(Balance!DW88=0,\"-\",ROUND((Balance!DW88/SUM(Balance!DW$102))*100,1))","v":18.600000000000001},{"$f":"IF(Balance!DX88=0,\"-\",ROUND((Balance!DX88/SUM(Balance!DX$102))*100,1))","v":20.6},{"$f":"IF(Balance!DY88=0,\"-\",ROUND((Balance!DY88/SUM(Balance!DY$102))*100,1))","v":18.899999999999999},{"$f":"IF(Balance!DZ88=0,\"-\",ROUND((Balance!DZ88/SUM(Balance!DZ$102))*100,1))","v":14.9},{"$f":"IF(Balance!EA88=0,\"-\",ROUND((Balance!EA88/SUM(Balance!EA$102))*100,1))","v":15.1},{"$f":"IF(Balance!EB88=0,\"-\",ROUND((Balance!EB88/SUM(Balance!EB$102))*100,1))","v":19.100000000000001},{"$f":"IF(Balance!EC88=0,\"-\",ROUND((Balance!EC88/SUM(Balance!EC$102))*100,1))","v":21.2},{"$f":"IF(Balance!ED88=0,\"-\",ROUND((Balance!ED88/SUM(Balance!ED$102))*100,1))","v":17.899999999999999},{"$f":"IF(Balance!EE88=0,\"-\",ROUND((Balance!EE88/SUM(Balance!EE$102))*100,1))","v":14.1},"-","-","-","-","-","-","-","-","-","-","-"]
[null,"Fuel + Gas",{"$f":"IF(Balance!C89=0,\"-\",ROUND((Balance!C89/SUM(Balance!C$102))*100,1))","v":3},{"$f":"IF(Balance!D89=0,\"-\",ROUND((Balance!D89/SUM(Balance!D$102))*100,1))","v":3.5},{"$f":"IF(Balance!E89=0,\"-\",ROUND((Balance!E89/SUM(Balance!E$102))*100,1))","v":3.4},{"$f":"IF(Balance!F89=0,\"-\",ROUND((Balance!F89/SUM(Balance!F$102))*100,1))","v":3.5},{"$f":"IF(Balance!G89=0,\"-\",ROUND((Balance!G89/SUM(Balance!G$102))*100,1))","v":3.4},{"$f":"IF(Balance!H89=0,\"-\",ROUND((Balance!H89/SUM(Balance!H$102))*100,1))","v":3.3},{"$f":"IF(Balance!I89=0,\"-\",ROUND((Balance!I89/SUM(Balance!I$102))*100,1))","v":3.8},{"$f":"IF(Balance!J89=0,\"-\",ROUND((Balance!J89/SUM(Balance!J$102))*100,1))","v":4.0999999999999996},{"$f":"IF(Balance!K89=0,\"-\",ROUND((Balance!K89/SUM(Balance!K$102))*100,1))","v":3.9},{"$f":"IF(Balance!L89=0,\"-\",ROUND((Balance!L89/SUM(Balance!L$102))*100,1))","v":3.3},{"$f":"IF(Balance!M89=0,\"-\",ROUND((Balance!M89/SUM(Balance!M$102))*100,1))","v":3.3},{"$f":"IF(Balance!N89=0,\"-\",ROUND((Balance!N89/SUM(Balance!N$102))*100,1))","v":3.2},{"$f":"IF(Balance!O89=0,\"-\",ROUND((Balance!O89/SUM(Balance!O$102))*100,1))","v":3.1},{"$f":"IF(Balance!P89=0,\"-\",ROUND((Balance!P89/SUM(Balance!P$102))*100,1))","v":3.1},{"$f":"IF(Balance!Q89=0,\"-\",ROUND((Balance!Q89/SUM(Balance!Q$102))*100,1))","v":2.7},{"$f":"IF(Balance!R89=0,\"-\",ROUND((Balance!R89/SUM(Balance!R$102))*100,1))","v":3},{"$f":"IF(Balance!S89=0,\"-\",ROUND((Balance!S89/SUM(Balance!S$102))*100,1))","v":3.4},{"$f":"IF(Balance!T89=0,\"-\",ROUND((Balance!T89/SUM(Balance!T$102))*100,1))","v":3.6},{"$f":"IF(Balance!U89=0,\"-\",ROUND((Balance!U89/SUM(Balance!U$102))*100,1))","v":3.3},{"$f":"IF(Balance!V89=0,\"-\",ROUND((Balance!V89/SUM(Balance!V$102))*100,1))","v":3.9},{"$f":"IF(Balance!W89=0,\"-\",ROUND((Balance!W89/SUM(Balance!W$102))*100,1))","v":3.7},{"$f":"IF(Balance!X89=0,\"-\",ROUND((Balance!X89/SUM(Balance!X$102))*100,1))","v":3.6},{"$f":"IF(Balance!Y89=0,\"-\",ROUND((Balance!Y89/SUM(Balance!Y$102))*100,1))","v":3.4},{"$f":"IF(Balance!Z89=0,\"-\",ROUND((Balance!Z89/SUM(Balance!Z$102))*100,1))","v":3.2},{"$f":"IF(Balance!AA89=0,\"-\",ROUND((Balance!AA89/SUM(Balance!AA$102))*100,1))","v":2.9},{"$f":"IF(Balance!AB89=0,\"-\",ROUND((Balance!AB89/SUM(Balance!AB$102))*100,1))","v":2.9},{"$f":"IF(Balance!AC89=0,\"-\",ROUND((Balance!AC89/SUM(Balance!AC$102))*100,1))","v":3.5},{"$f":"IF(Balance!AD89=0,\"-\",ROUND((Balance!AD89/SUM(Balance!AD$102))*100,1))","v":3.2},{"$f":"IF(Balance!AE89=0,\"-\",ROUND((Balance!AE89/SUM(Balance!AE$102))*100,1))","v":3.4},{"$f":"IF(Balance!AF89=0,\"-\",ROUND((Balance!AF89/SUM(Balance!AF$102))*100,1))","v":3.4},{"$f":"IF(Balance!AG89=0,\"-\",ROUND((Balance!AG89/SUM(Balance!AG$102))*100,1))","v":3.5},{"$f":"IF(Balance!AH89=0,\"-\",ROUND((Balance!AH89/SUM(Balance!AH$102))*100,1))","v":3.7},{"$f":"IF(Balance!AI89=0,\"-\",ROUND((Balance!AI89/SUM(Balance!AI$102))*100,1))","v":3.6},{"$f":"IF(Balance!AJ89=0,\"-\",ROUND((Balance!AJ89/SUM(Balance!AJ$102))*100,1))","v":3.3},{"$f":"IF(Balance!AK89=0,\"-\",ROUND((Balance!AK89/SUM(Balance!AK$102))*100,1))","v":3.2},{"$f":"IF(Balance!AL89=0,\"-\",ROUND((Balance!AL89/SUM(Balance!AL$102))*100,1))","v":3.1},{"$f":"IF(Balance!AM89=0,\"-\",ROUND((Balance!AM89/SUM(Balance!AM$102))*100,1))","v":2.9},{"$f":"IF(Balance!AN89=0,\"-\",ROUND((Balance!AN89/SUM(Balance!AN$102))*100,1))","v":2.8},{"$f":"IF(Balance!AO89=0,\"-\",ROUND((Balance!AO89/SUM(Balance!AO$102))*100,1))","v":2.5},{"$f":"IF(Balance!AP89=0,\"-\",ROUND((Balance!AP89/SUM(Balance!AP$102))*100,1))","v":2.9},{"$f":"IF(Balance!AQ89=0,\"-\",ROUND((Balance!AQ89/SUM(Balance!AQ$102))*100,1))","v":3.3},{"$f":"IF(Balance!AR89=0,\"-\",ROUND((Balance!AR89/SUM(Balance!AR$102))*100,1))","v":3.4},{"$f":"IF(Balance!AS89=0,\"-\",ROUND((Balance!AS89/SUM(Balance!AS$102))*100,1))","v":3.1},{"$f":"IF(Balance!AT89=0,\"-\",ROUND((Balance!AT89/SUM(Balance!AT$102))*100,1))","v":3.4},{"$f":"IF(Balance!AU89=0,\"-\",ROUND((Balance!AU89/SUM(Balance!AU$102))*100,1))","v":3.3},{"$f":"IF(Balance!AV89=0,\"-\",ROUND((Balance!AV89/SUM(Balance!AV$102))*100,1))","v":3.1},{"$f":"IF(Balance!AW89=0,\"-\",ROUND((Balance!AW89/SUM(Balance!AW$102))*100,1))","v":3.1},{"$f":"IF(Balance!AX89=0,\"-\",ROUND((Balance!AX89/SUM(Balance!AX$102))*100,1))","v":3},{"$f":"IF(Balance!AY89=0,\"-\",ROUND((Balance!AY89/SUM(Balance!AY$102))*100,1))","v":2.2999999999999998},{"$f":"IF(Balance!AZ89=0,\"-\",ROUND((Balance!AZ89/SUM(Balance!AZ$102))*100,1))","v":2.4},{"$f":"IF(Balance!BA89=0,\"-\",ROUND((Balance!BA89/SUM(Balance!BA$102))*100,1))","v":2.5},{"$f":"IF(Balance!BB89=0,\"-\",ROUND((Balance!BB89/SUM(Balance!BB$102))*100,1))","v":2.5},{"$f":"IF(Balance!BC89=0,\"-\",ROUND((Balance!BC89/SUM(Balance!BC$102))*100,1))","v":2.5},{"$f":"IF(Balance!BD89=0,\"-\",ROUND((Balance!BD89/SUM(Balance!BD$102))*100,1))","v":2.4},{"$f":"IF(Balance!BE89=0,\"-\",ROUND((Balance!BE89/SUM(Balance!BE$102))*100,1))","v":2.7},{"$f":"IF(Balance!BF89=0,\"-\",ROUND((Balance!BF89/SUM(Balance!BF$102))*100,1))","v":2.8},{"$f":"IF(Balance!BG89=0,\"-\",ROUND((Balance!BG89/SUM(Balance!BG$102))*100,1))","v":2.7},{"$f":"IF(Balance!BH89=0,\"-\",ROUND((Balance!BH89/SUM(Balance!BH$102))*100,1))","v":2.7},{"$f":"IF(Balance!BI89=0,\"-\",ROUND((Balance!BI89/SUM(Balance!BI$102))*100,1))","v":2.2999999999999998},{"$f":"IF(Balance!BJ89=0,\"-\",ROUND((Balance!BJ89/SUM(Balance!BJ$102))*100,1))","v":2.4},{"$f":"IF(Balance!BK89=0,\"-\",ROUND((Balance!BK89/SUM(Balance!BK$102))*100,1))","v":2.4},{"$f":"IF(Balance!BL89=0,\"-\",ROUND((Balance!BL89/SUM(Balance!BL$102))*100,1))","v":2.1},{"$f":"IF(Balance!BM89=0,\"-\",ROUND((Balance!BM89/SUM(Balance!BM$102))*100,1))","v":2.4},{"$f":"IF(Balance!BN89=0,\"-\",ROUND((Balance!BN89/SUM(Balance!BN$102))*100,1))","v":2.4},{"$f":"IF(Balance!BO89=0,\"-\",ROUND((Balance!BO89/SUM(Balance!BO$102))*100,1))","v":2.4},{"$f":"IF(Balance!BP89=0,\"-\",ROUND((Balance!BP89/SUM(Balance!BP$102))*100,1))","v":2.6},{"$f":"IF(Balance!BQ89=0,\"-\",ROUND((Balance!BQ89/SUM(Balance!BQ$102))*100,1))","v":2.7},{"$f":"IF(Balance!BR89=0,\"-\",ROUND((Balance!BR89/SUM(Balance!BR$102))*100,1))","v":2.9},{"$f":"IF(Balance!BS89=0,\"-\",ROUND((Balance!BS89/SUM(Balance!BS$102))*100,1))","v":2.7},{"$f":"IF(Balance!BT89=0,\"-\",ROUND((Balance!BT89/SUM(Balance!BT$102))*100,1))","v":2.6},{"$f":"IF(Balance!BU89=0,\"-\",ROUND((Balance!BU89/SUM(Balance!BU$102))*100,1))","v":2.5},{"$f":"IF(Balance!BV89=0,\"-\",ROUND((Balance!BV89/SUM(Balance!BV$102))*100,1))","v":2.4},{"$f":"IF(Balance!BW89=0,\"-\",ROUND((Balance!BW89/SUM(Balance!BW$102))*100,1))","v":2.1},{"$f":"IF(Balance!BX89=0,\"-\",ROUND((Balance!BX89/SUM(Balance!BX$102))*100,1))","v":2.2000000000000002},{"$f":"IF(Balance!BY89=0,\"-\",ROUND((Balance!BY89/SUM(Balance!BY$102))*100,1))","v":2.2999999999999998},{"$f":"IF(Balance!BZ89=0,\"-\",ROUND((Balance!BZ89/SUM(Balance!BZ$102))*100,1))","v":2.2999999999999998},{"$f":"IF(Balance!CA89=0,\"-\",ROUND((Balance!CA89/SUM(Balance!CA$102))*100,1))","v":2.5},{"$f":"IF(Balance!CB89=0,\"-\",ROUND((Balance!CB89/SUM(Balance!CB$102))*100,1))","v":2.4},{"$f":"IF(Balance!CC89=0,\"-\",ROUND((Balance!CC89/SUM(Balance!CC$102))*100,1))","v":2.5},{"$f":"IF(Balance!CD89=0,\"-\",ROUND((Balance!CD89/SUM(Balance!CD$102))*100,1))","v":2.7},{"$f":"IF(Balance!CE89=0,\"-\",ROUND((Balance!CE89/SUM(Balance!CE$102))*100,1))","v":2.6},{"$f":"IF(Balance!CF89=0,\"-\",ROUND((Balance!CF89/SUM(Balance!CF$102))*100,1))","v":2.6},{"$f":"IF(Balance!CG89=0,\"-\",ROUND((Balance!CG89/SUM(Balance!CG$102))*100,1))","v":2.2999999999999998},{"$f":"IF(Balance!CH89=0,\"-\",ROUND((Balance!CH89/SUM(Balance!CH$102))*100,1))","v":2.2999999999999998},{"$f":"IF(Balance!CI89=0,\"-\",ROUND((Balance!CI89/SUM(Balance!CI$102))*100,1))","v":2.2999999999999998},{"$f":"IF(Balance!CJ89=0,\"-\",ROUND((Balance!CJ89/SUM(Balance!CJ$102))*100,1))","v":2.2000000000000002},{"$f":"IF(Balance!CK89=0,\"-\",ROUND((Balance!CK89/SUM(Balance!CK$102))*100,1))","v":2.1},{"$f":"IF(Balance!CL89=0,\"-\",ROUND((Balance!CL89/SUM(Balance!CL$102))*100,1))","v":2.2000000000000002},{"$f":"IF(Balance!CM89=0,\"-\",ROUND((Balance!CM89/SUM(Balance!CM$102))*100,1))","v":2.2000000000000002},{"$f":"IF(Balance!CN89=0,\"-\",ROUND((Balance!CN89/SUM(Balance!CN$102))*100,1))","v":2.5},{"$f":"IF(Balance!CO89=0,\"-\",ROUND((Balance!CO89/SUM(Balance!CO$102))*100,1))","v":2.5},{"$f":"IF(Balance!CP89=0,\"-\",ROUND((Balance!CP89/SUM(Balance!CP$102))*100,1))","v":2.7},{"$f":"IF(Balance!CQ89=0,\"-\",ROUND((Balance!CQ89/SUM(Balance!CQ$102))*100,1))","v":2.6},{"$f":"IF(Balance!CR89=0,\"-\",ROUND((Balance!CR89/SUM(Balance!CR$102))*100,1))","v":2.4},{"$f":"IF(Balance!CS89=0,\"-\",ROUND((Balance!CS89/SUM(Balance!CS$102))*100,1))","v":2.2999999999999998},{"$f":"IF(Balance!CT89=0,\"-\",ROUND((Balance!CT89/SUM(Balance!CT$102))*100,1))","v":2.2999999999999998},{"$f":"IF(Balance!CU89=0,\"-\",ROUND((Balance!CU89/SUM(Balance!CU$102))*100,1))","v":2.2000000000000002},{"$f":"IF(Balance!CV89=0,\"-\",ROUND((Balance!CV89/SUM(Balance!CV$102))*100,1))","v":2.1},{"$f":"IF(Balance!CW89=0,\"-\",ROUND((Balance!CW89/SUM(Balance!CW$102))*100,1))","v":2.2000000000000002},{"$f":"IF(Balance!CX89=0,\"-\",ROUND((Balance!CX89/SUM(Balance!CX$102))*100,1))","v":2.2999999999999998},{"$f":"IF(Balance!CY89=0,\"-\",ROUND((Balance!CY89/SUM(Balance!CY$102))*100,1))","v":2.4},{"$f":"IF(Balance!CZ89=0,\"-\",ROUND((Balance!CZ89/SUM(Balance!CZ$102))*100,1))","v":2.5},{"$f":"IF(Balance!DA89=0,\"-\",ROUND((Balance!DA89/SUM(Balance!DA$102))*100,1))","v":2.5},{"$f":"IF(Balance!DB89=0,\"-\",ROUND((Balance!DB89/SUM(Balance!DB$102))*100,1))","v":2.8},{"$f":"IF(Balance!DC89=0,\"-\",ROUND((Balance!DC89/SUM(Balance!DC$102))*100,1))","v":2.9},{"$f":"IF(Balance!DD89=0,\"-\",ROUND((Balance!DD89/SUM(Balance!DD$102))*100,1))","v":2.5},{"$f":"IF(Balance!DE89=0,\"-\",ROUND((Balance!DE89/SUM(Balance!DE$102))*100,1))","v":2.2000000000000002},{"$f":"IF(Balance!DF89=0,\"-\",ROUND((Balance!DF89/SUM(Balance!DF$102))*100,1))","v":2.6},{"$f":"IF(Balance!DG89=0,\"-\",ROUND((Balance!DG89/SUM(Balance!DG$102))*100,1))","v":2.5},{"$f":"IF(Balance!DH89=0,\"-\",ROUND((Balance!DH89/SUM(Balance!DH$102))*100,1))","v":2.4},{"$f":"IF(Balance!DI89=0,\"-\",ROUND((Balance!DI89/SUM(Balance!DI$102))*100,1))","v":2.4},{"$f":"IF(Balance!DJ89=0,\"-\",ROUND((Balance!DJ89/SUM(Balance!DJ$102))*100,1))","v":2.2999999999999998},{"$f":"IF(Balance!DK89=0,\"-\",ROUND((Balance!DK89/SUM(Balance!DK$102))*100,1))","v":2.5},{"$f":"IF(Balance!DL89=0,\"-\",ROUND((Balance!DL89/SUM(Balance!DL$102))*100,1))","v":2.7},{"$f":"IF(Balance!DM89=0,\"-\",ROUND((Balance!DM89/SUM(Balance!DM$102))*100,1))","v":2.7},{"$f":"IF(Balance!DN89=0,\"-\",ROUND((Balance!DN89/SUM(Balance!DN$102))*100,1))","v":3},{"$f":"IF(Balance!DO89=0,\"-\",ROUND((Balance!DO89/SUM(Balance!DO$102))*100,1))","v":2.9},{"$f":"IF(Balance!DP89=0,\"-\",ROUND((Balance!DP89/SUM(Balance!DP$102))*100,1))","v":2.6},{"$f":"IF(Balance!DQ89=0,\"-\",ROUND((Balance!DQ89/SUM(Balance!DQ$102))*100,1))","v":2.2999999999999998},{"$f":"IF(Balance!DR89=0,\"-\",ROUND((Balance!DR89/SUM(Balance!DR$102))*100,1))","v":2.7},{"$f":"IF(Balance!DS89=0,\"-\",ROUND((Balance!DS89/SUM(Balance!DS$102))*100,1))","v":2.2000000000000002},{"$f":"IF(Balance!DT89=0,\"-\",ROUND((Balance!DT89/SUM(Balance!DT$102))*100,1))","v":2.4},{"$f":"IF(Balance!DU89=0,\"-\",ROUND((Balance!DU89/SUM(Balance!DU$102))*100,1))","v":2.5},{"$f":"IF(Balance!DV89=0,\"-\",ROUND((Balance!DV89/SUM(Balance!DV$102))*100,1))","v":2.9},{"$f":"IF(Balance!DW89=0,\"-\",ROUND((Balance!DW89/SUM(Balance!DW$102))*100,1))","v":2.8},{"$f":"IF(Balance!DX89=0,\"-\",ROUND((Balance!DX89/SUM(Balance!DX$102))*100,1))","v":2.8},{"$f":"IF(Balance!DY89=0,\"-\",ROUND((Balance!DY89/SUM(Balance!DY$102))*100,1))","v":2.9},{"$f":"IF(Balance!DZ89=0,\"-\",ROUND((Balance!DZ89/SUM(Balance!DZ$102))*100,1))","v":3.1},{"$f":"IF(Balance!EA89=0,\"-\",ROUND((Balance!EA89/SUM(Balance!EA$102))*100,1))","v":3},{"$f":"IF(Balance!EB89=0,\"-\",ROUND((Balance!EB89/SUM(Balance!EB$102))*100,1))","v":2.8},{"$f":"IF(Balance!EC89=0,\"-\",ROUND((Balance!EC89/SUM(Balance!EC$102))*100,1))","v":2.4},{"$f":"IF(Balance!ED89=0,\"-\",ROUND((Balance!ED89/SUM(Balance!ED$102))*100,1))","v":2.2999999999999998},{"$f":"IF(Balance!EE89=0,\"-\",ROUND((Balance!EE89/SUM(Balance!EE$102))*100,1))","v":2.5},"-","-","-","-","-","-","-","-","-","-","-"]
[null,"Ciclo combinado",{"$f":"IF(Balance!C90=0,\"-\",ROUND((Balance!C90/SUM(Balance!C$102))*100,1))","v":24.7},{"$f":"IF(Balance!D90=0,\"-\",ROUND((Balance!D90/SUM(Balance!D$102))*100,1))","v":17.8},{"$f":"IF(Balance!E90=0,\"-\",ROUND((Balance!E90/SUM(Balance!E$102))*100,1))","v":17},{"$f":"IF(Balance!F90=0,\"-\",ROUND((Balance!F90/SUM(Balance!F$102))*100,1))","v":19.399999999999999},{"$f":"IF(Balance!G90=0,\"-\",ROUND((Balance!G90/SUM(Balance!G$102))*100,1))","v":20.399999999999999},{"$f":"IF(Balance!H90=0,\"-\",ROUND((Balance!H90/SUM(Balance!H$102))*100,1))","v":28.4},{"$f":"IF(Balance!I90=0,\"-\",ROUND((Balance!I90/SUM(Balance!I$102))*100,1))","v":28.1},{"$f":"IF(Balance!J90=0,\"-\",ROUND((Balance!J90/SUM(Balance!J$102))*100,1))","v":23.7},{"$f":"IF(Balance!K90=0,\"-\",ROUND((Balance!K90/SUM(Balance!K$102))*100,1))","v":25.5},{"$f":"IF(Balance!L90=0,\"-\",ROUND((Balance!L90/SUM(Balance!L$102))*100,1))","v":26.9},{"$f":"IF(Balance!M90=0,\"-\",ROUND((Balance!M90/SUM(Balance!M$102))*100,1))","v":31.6},{"$f":"IF(Balance!N90=0,\"-\",ROUND((Balance!N90/SUM(Balance!N$102))*100,1))","v":28.9},{"$f":"IF(Balance!O90=0,\"-\",ROUND((Balance!O90/SUM(Balance!O$102))*100,1))","v":31.1},{"$f":"IF(Balance!P90=0,\"-\",ROUND((Balance!P90/SUM(Balance!P$102))*100,1))","v":33.200000000000003},{"$f":"IF(Balance!Q90=0,\"-\",ROUND((Balance!Q90/SUM(Balance!Q$102))*100,1))","v":28.1},{"$f":"IF(Balance!R90=0,\"-\",ROUND((Balance!R90/SUM(Balance!R$102))*100,1))","v":29.9},{"$f":"IF(Balance!S90=0,\"-\",ROUND((Balance!S90/SUM(Balance!S$102))*100,1))","v":32.4},{"$f":"IF(Balance!T90=0,\"-\",ROUND((Balance!T90/SUM(Balance!T$102))*100,1))","v":33.5},{"$f":"IF(Balance!U90=0,\"-\",ROUND((Balance!U90/SUM(Balance!U$102))*100,1))","v":35.799999999999997},{"$f":"IF(Balance!V90=0,\"-\",ROUND((Balance!V90/SUM(Balance!V$102))*100,1))","v":35.6},{"$f":"IF(Balance!W90=0,\"-\",ROUND((Balance!W90/SUM(Balance!W$102))*100,1))","v":34.6},{"$f":"IF(Balance!X90=0,\"-\",ROUND((Balance!X90/SUM(Balance!X$102))*100,1))","v":31.7},{"$f":"IF(Balance!Y90=0,\"-\",ROUND((Balance!Y90/SUM(Balance!Y$102))*100,1))","v":29.1},{"$f":"IF(Balance!Z90=0,\"-\",ROUND((Balance!Z90/SUM(Balance!Z$102))*100,1))","v":23.7},{"$f":"IF(Balance!AA90=0,\"-\",ROUND((Balance!AA90/SUM(Balance!AA$102))*100,1))","v":24.1},{"$f":"IF(Balance!AB90=0,\"-\",ROUND((Balance!AB90/SUM(Balance!AB$102))*100,1))","v":20.6},{"$f":"IF(Balance!AC90=0,\"-\",ROUND((Balance!AC90/SUM(Balance!AC$102))*100,1))","v":23.8},{"$f":"IF(Balance!AD90=0,\"-\",ROUND((Balance!AD90/SUM(Balance!AD$102))*100,1))","v":27},{"$f":"IF(Balance!AE90=0,\"-\",ROUND((Balance!AE90/SUM(Balance!AE$102))*100,1))","v":27},{"$f":"IF(Balance!AF90=0,\"-\",ROUND((Balance!AF90/SUM(Balance!AF$102))*100,1))","v":34.700000000000003},{"$f":"IF(Balance!AG90=0,\"-\",ROUND((Balance!AG90/SUM(Balance!AG$102))*100,1))","v":35.5},{"$f":"IF(Balance!AH90=0,\"-\",ROUND((Balance!AH90/SUM(Balance!AH$102))*100,1))","v":36.1},{"$f":"IF(Balance!AI90=0,\"-\",ROUND((Balance!AI90/SUM(Balance!AI$102))*100,1))","v":34},{"$f":"IF(Balance!AJ90=0,\"-\",ROUND((Balance!AJ90/SUM(Balance!AJ$102))*100,1))","v":30},{"$f":"IF(Balance!AK90=0,\"-\",ROUND((Balance!AK90/SUM(Balance!AK$102))*100,1))","v":25.1},{"$f":"IF(Balance!AL90=0,\"-\",ROUND((Balance!AL90/SUM(Balance!AL$102))*100,1))","v":25.8},{"$f":"IF(Balance!AM90=0,\"-\",ROUND((Balance!AM90/SUM(Balance!AM$102))*100,1))","v":21.5},{"$f":"IF(Balance!AN90=0,\"-\",ROUND((Balance!AN90/SUM(Balance!AN$102))*100,1))","v":20.9},{"$f":"IF(Balance!AO90=0,\"-\",ROUND((Balance!AO90/SUM(Balance!AO$102))*100,1))","v":17.399999999999999},{"$f":"IF(Balance!AP90=0,\"-\",ROUND((Balance!AP90/SUM(Balance!AP$102))*100,1))","v":20.9},{"$f":"IF(Balance!AQ90=0,\"-\",ROUND((Balance!AQ90/SUM(Balance!AQ$102))*100,1))","v":21.5},{"$f":"IF(Balance!AR90=0,\"-\",ROUND((Balance!AR90/SUM(Balance!AR$102))*100,1))","v":25.2},{"$f":"IF(Balance!AS90=0,\"-\",ROUND((Balance!AS90/SUM(Balance!AS$102))*100,1))","v":27.8},{"$f":"IF(Balance!AT90=0,\"-\",ROUND((Balance!AT90/SUM(Balance!AT$102))*100,1))","v":25.6},{"$f":"IF(Balance!AU90=0,\"-\",ROUND((Balance!AU90/SUM(Balance!AU$102))*100,1))","v":28.2},{"$f":"IF(Balance!AV90=0,\"-\",ROUND((Balance!AV90/SUM(Balance!AV$102))*100,1))","v":24.2},{"$f":"IF(Balance!AW90=0,\"-\",ROUND((Balance!AW90/SUM(Balance!AW$102))*100,1))","v":24.4},{"$f":"IF(Balance!AX90=0,\"-\",ROUND((Balance!AX90/SUM(Balance!AX$102))*100,1))","v":20.5},{"$f":"IF(Balance!AY90=0,\"-\",ROUND((Balance!AY90/SUM(Balance!AY$102))*100,1))","v":20.6},{"$f":"IF(Balance!AZ90=0,\"-\",ROUND((Balance!AZ90/SUM(Balance!AZ$102))*100,1))","v":21.2},{"$f":"IF(Balance!BA90=0,\"-\",ROUND((Balance!BA90/SUM(Balance!BA$102))*100,1))","v":17.3},{"$f":"IF(Balance!BB90=0,\"-\",ROUND((Balance!BB90/SUM(Balance!BB$102))*100,1))","v":14.2},{"$f":"IF(Balance!BC90=0,\"-\",ROUND((Balance!BC90/SUM(Balance!BC$102))*100,1))","v":20.399999999999999},{"$f":"IF(Balance!BD90=0,\"-\",ROUND((Balance!BD90/SUM(Balance!BD$102))*100,1))","v":23.1},{"$f":"IF(Balance!BE90=0,\"-\",ROUND((Balance!BE90/SUM(Balance!BE$102))*100,1))","v":20.2},{"$f":"IF(Balance!BF90=0,\"-\",ROUND((Balance!BF90/SUM(Balance!BF$102))*100,1))","v":21.7},{"$f":"IF(Balance!BG90=0,\"-\",ROUND((Balance!BG90/SUM(Balance!BG$102))*100,1))","v":21},{"$f":"IF(Balance!BH90=0,\"-\",ROUND((Balance!BH90/SUM(Balance!BH$102))*100,1))","v":18.399999999999999},{"$f":"IF(Balance!BI90=0,\"-\",ROUND((Balance!BI90/SUM(Balance!BI$102))*100,1))","v":16.5},{"$f":"IF(Balance!BJ90=0,\"-\",ROUND((Balance!BJ90/SUM(Balance!BJ$102))*100,1))","v":15.3},{"$f":"IF(Balance!BK90=0,\"-\",ROUND((Balance!BK90/SUM(Balance!BK$102))*100,1))","v":18},{"$f":"IF(Balance!BL90=0,\"-\",ROUND((Balance!BL90/SUM(Balance!BL$102))*100,1))","v":16.3},{"$f":"IF(Balance!BM90=0,\"-\",ROUND((Balance!BM90/SUM(Balance!BM$102))*100,1))","v":14.1},{"$f":"IF(Balance!BN90=0,\"-\",ROUND((Balance!BN90/SUM(Balance!BN$102))*100,1))","v":11.1},{"$f":"IF(Balance!BO90=0,\"-\",ROUND((Balance!BO90/SUM(Balance!BO$102))*100,1))","v":11.9},{"$f":"IF(Balance!BP90=0,\"-\",ROUND((Balance!BP90/SUM(Balance!BP$102))*100,1))","v":14.9},{"$f":"IF(Balance!BQ90=0,\"-\",ROUND((Balance!BQ90/SUM(Balance!BQ$102))*100,1))","v":15.4},{"$f":"IF(Balance!BR90=0,\"-\",ROUND((Balance!BR90/SUM(Balance!BR$102))*100,1))","v":16},{"$f":"IF(Balance!BS90=0,\"-\",ROUND((Balance!BS90/SUM(Balance!BS$102))*100,1))","v":14.1},{"$f":"IF(Balance!BT90=0,\"-\",ROUND((Balance!BT90/SUM(Balance!BT$102))*100,1))","v":15.5},{"$f":"IF(Balance!BU90=0,\"-\",ROUND((Balance!BU90/SUM(Balance!BU$102))*100,1))","v":14.3},{"$f":"IF(Balance!BV90=0,\"-\",ROUND((Balance!BV90/SUM(Balance!BV$102))*100,1))","v":12.7},{"$f":"IF(Balance!BW90=0,\"-\",ROUND((Balance!BW90/SUM(Balance!BW$102))*100,1))","v":11.8},{"$f":"IF(Balance!BX90=0,\"-\",ROUND((Balance!BX90/SUM(Balance!BX$102))*100,1))","v":9.8000000000000007},{"$f":"IF(Balance!BY90=0,\"-\",ROUND((Balance!BY90/SUM(Balance!BY$102))*100,1))","v":7.5},{"$f":"IF(Balance!BZ90=0,\"-\",ROUND((Balance!BZ90/SUM(Balance!BZ$102))*100,1))","v":6.3},{"$f":"IF(Balance!CA90=0,\"-\",ROUND((Balance!CA90/SUM(Balance!CA$102))*100,1))","v":9.1},{"$f":"IF(Balance!CB90=0,\"-\",ROUND((Balance!CB90/SUM(Balance!CB$102))*100,1))","v":7.8},{"$f":"IF(Balance!CC90=0,\"-\",ROUND((Balance!CC90/SUM(Balance!CC$102))*100,1))","v":10.3},{"$f":"IF(Balance!CD90=0,\"-\",ROUND((Balance!CD90/SUM(Balance!CD$102))*100,1))","v":11.7},{"$f":"IF(Balance!CE90=0,\"-\",ROUND((Balance!CE90/SUM(Balance!CE$102))*100,1))","v":11.4},{"$f":"IF(Balance!CF90=0,\"-\",ROUND((Balance!CF90/SUM(Balance!CF$102))*100,1))","v":13},{"$f":"IF(Balance!CG90=0,\"-\",ROUND((Balance!CG90/SUM(Balance!CG$102))*100,1))","v":10.1},{"$f":"IF(Balance!CH90=0,\"-\",ROUND((Balance!CH90/SUM(Balance!CH$102))*100,1))","v":12.8},{"$f":"IF(Balance!CI90=0,\"-\",ROUND((Balance!CI90/SUM(Balance!CI$102))*100,1))","v":7.6},{"$f":"IF(Balance!CJ90=0,\"-\",ROUND((Balance!CJ90/SUM(Balance!CJ$102))*100,1))","v":6.8},{"$f":"IF(Balance!CK90=0,\"-\",ROUND((Balance!CK90/SUM(Balance!CK$102))*100,1))","v":7.1},{"$f":"IF(Balance!CL90=0,\"-\",ROUND((Balance!CL90/SUM(Balance!CL$102))*100,1))","v":7.2},{"$f":"IF(Balance!CM90=0,\"-\",ROUND((Balance!CM90/SUM(Balance!CM$102))*100,1))","v":8.1},{"$f":"IF(Balance!CN90=0,\"-\",ROUND((Balance!CN90/SUM(Balance!CN$102))*100,1))","v":9.5},{"$f":"IF(Balance!CO90=0,\"-\",ROUND((Balance!CO90/SUM(Balance!CO$102))*100,1))","v":9.3000000000000007},{"$f":"IF(Balance!CP90=0,\"-\",ROUND((Balance!CP90/SUM(Balance!CP$102))*100,1))","v":11.4},{"$f":"IF(Balance!CQ90=0,\"-\",ROUND((Balance!CQ90/SUM(Balance!CQ$102))*100,1))","v":13.5},{"$f":"IF(Balance!CR90=0,\"-\",ROUND((Balance!CR90/SUM(Balance!CR$102))*100,1))","v":11.7},{"$f":"IF(Balance!CS90=0,\"-\",ROUND((Balance!CS90/SUM(Balance!CS$102))*100,1))","v":10.9},{"$f":"IF(Balance!CT90=0,\"-\",ROUND((Balance!CT90/SUM(Balance!CT$102))*100,1))","v":9.8000000000000007},{"$f":"IF(Balance!CU90=0,\"-\",ROUND((Balance!CU90/SUM(Balance!CU$102))*100,1))","v":10.199999999999999},{"$f":"IF(Balance!CV90=0,\"-\",ROUND((Balance!CV90/SUM(Balance!CV$102))*100,1))","v":8.5},{"$f":"IF(Balance!CW90=0,\"-\",ROUND((Balance!CW90/SUM(Balance!CW$102))*100,1))","v":8.3000000000000007},{"$f":"IF(Balance!CX90=0,\"-\",ROUND((Balance!CX90/SUM(Balance!CX$102))*100,1))","v":9.9},{"$f":"IF(Balance!CY90=0,\"-\",ROUND((Balance!CY90/SUM(Balance!CY$102))*100,1))","v":9.1999999999999993},{"$f":"IF(Balance!CZ90=0,\"-\",ROUND((Balance!CZ90/SUM(Balance!CZ$102))*100,1))","v":10},{"$f":"IF(Balance!DA90=0,\"-\",ROUND((Balance!DA90/SUM(Balance!DA$102))*100,1))","v":14.8},{"$f":"IF(Balance!DB90=0,\"-\",ROUND((Balance!DB90/SUM(Balance!DB$102))*100,1))","v":11.4},{"$f":"IF(Balance!DC90=0,\"-\",ROUND((Balance!DC90/SUM(Balance!DC$102))*100,1))","v":10.8},{"$f":"IF(Balance!DD90=0,\"-\",ROUND((Balance!DD90/SUM(Balance!DD$102))*100,1))","v":12.2},{"$f":"IF(Balance!DE90=0,\"-\",ROUND((Balance!DE90/SUM(Balance!DE$102))*100,1))","v":11.8},{"$f":"IF(Balance!DF90=0,\"-\",ROUND((Balance!DF90/SUM(Balance!DF$102))*100,1))","v":13.8},{"$f":"IF(Balance!DG90=0,\"-\",ROUND((Balance!DG90/SUM(Balance!DG$102))*100,1))","v":9.8000000000000007},{"$f":"IF(Balance!DH90=0,\"-\",ROUND((Balance!DH90/SUM(Balance!DH$102))*100,1))","v":7.5},{"$f":"IF(Balance!DI90=0,\"-\",ROUND((Balance!DI90/SUM(Balance!DI$102))*100,1))","v":7.3},{"$f":"IF(Balance!DJ90=0,\"-\",ROUND((Balance!DJ90/SUM(Balance!DJ$102))*100,1))","v":6.8},{"$f":"IF(Balance!DK90=0,\"-\",ROUND((Balance!DK90/SUM(Balance!DK$102))*100,1))","v":8.6999999999999993},{"$f":"IF(Balance!DL90=0,\"-\",ROUND((Balance!DL90/SUM(Balance!DL$102))*100,1))","v":10.4},{"$f":"IF(Balance!DM90=0,\"-\",ROUND((Balance!DM90/SUM(Balance!DM$102))*100,1))","v":11.5},{"$f":"IF(Balance!DN90=0,\"-\",ROUND((Balance!DN90/SUM(Balance!DN$102))*100,1))","v":10.4},{"$f":"IF(Balance!DO90=0,\"-\",ROUND((Balance!DO90/SUM(Balance!DO$102))*100,1))","v":11.4},{"$f":"IF(Balance!DP90=0,\"-\",ROUND((Balance!DP90/SUM(Balance!DP$102))*100,1))","v":16.600000000000001},{"$f":"IF(Balance!DQ90=0,\"-\",ROUND((Balance!DQ90/SUM(Balance!DQ$102))*100,1))","v":17.3},{"$f":"IF(Balance!DR90=0,\"-\",ROUND((Balance!DR90/SUM(Balance!DR$102))*100,1))","v":16.3},{"$f":"IF(Balance!DS90=0,\"-\",ROUND((Balance!DS90/SUM(Balance!DS$102))*100,1))","v":12.8},{"$f":"IF(Balance!DT90=0,\"-\",ROUND((Balance!DT90/SUM(Balance!DT$102))*100,1))","v":8.5},{"$f":"IF(Balance!DU90=0,\"-\",ROUND((Balance!DU90/SUM(Balance!DU$102))*100,1))","v":8.1999999999999993},{"$f":"IF(Balance!DV90=0,\"-\",ROUND((Balance!DV90/SUM(Balance!DV$102))*100,1))","v":7.8},{"$f":"IF(Balance!DW90=0,\"-\",ROUND((Balance!DW90/SUM(Balance!DW$102))*100,1))","v":9.4},{"$f":"IF(Balance!DX90=0,\"-\",ROUND((Balance!DX90/SUM(Balance!DX$102))*100,1))","v":15.4},{"$f":"IF(Balance!DY90=0,\"-\",ROUND((Balance!DY90/SUM(Balance!DY$102))*100,1))","v":17.5},{"$f":"IF(Balance!DZ90=0,\"-\",ROUND((Balance!DZ90/SUM(Balance!DZ$102))*100,1))","v":17.5},{"$f":"IF(Balance!EA90=0,\"-\",ROUND((Balance!EA90/SUM(Balance!EA$102))*100,1))","v":17.100000000000001},{"$f":"IF(Balance!EB90=0,\"-\",ROUND((Balance!EB90/SUM(Balance!EB$102))*100,1))","v":19.600000000000001},{"$f":"IF(Balance!EC90=0,\"-\",ROUND((Balance!EC90/SUM(Balance!EC$102))*100,1))","v":21.6},{"$f":"IF(Balance!ED90=0,\"-\",ROUND((Balance!ED90/SUM(Balance!ED$102))*100,1))","v":13.8},{"$f":"IF(Balance!EE90=0,\"-\",ROUND((Balance!EE90/SUM(Balance!EE$102))*100,1))","v":11.2},"-","-","-","-","-","-","-","-","-","-","-"]
[null,"Hidroeólica",{"$f":"IF(Balance!C92=\"-\",\"-\",ROUND((Balance!C92/SUM(Balance!C$102))*100,1))","v":"-"},{"$f":"IF(Balance!D92=\"-\",\"-\",ROUND((Balance!D92/SUM(Balance!D$102))*100,1))","v":"-"},{"$f":"IF(Balance!E92=\"-\",\"-\",ROUND((Balance!E92/SUM(Balance!E$102))*100,1))","v":"-"},{"$f":"IF(Balance!F92=\"-\",\"-\",ROUND((Balance!F92/SUM(Balance!F$102))*100,1))","v":"-"},{"$f":"IF(Balance!G92=\"-\",\"-\",ROUND((Balance!G92/SUM(Balance!G$102))*100,1))","v":"-"},{"$f":"IF(Balance!H92=\"-\",\"-\",ROUND((Balance!H92/SUM(Balance!H$102))*100,1))","v":"-"},{"$f":"IF(Balance!I92=\"-\",\"-\",ROUND((Balance!I92/SUM(Balance!I$102))*100,1))","v":"-"},{"$f":"IF(Balance!J92=\"-\",\"-\",ROUND((Balance!J92/SUM(Balance!J$102))*100,1))","v":"-"},{"$f":"IF(Balance!K92=\"-\",\"-\",ROUND((Balance!K92/SUM(Balance!K$102))*100,1))","v":"-"},{"$f":"IF(Balance!L92=\"-\",\"-\",ROUND((Balance!L92/SUM(Balance!L$102))*100,1))","v":"-"},{"$f":"IF(Balance!M92=\"-\",\"-\",ROUND((Balance!M92/SUM(Balance!M$102))*100,1))","v":"-"},{"$f":"IF(Balance!N92=\"-\",\"-\",ROUND((Balance!N92/SUM(Balance!N$102))*100,1))","v":"-"},{"$f":"IF(Balance!O92=\"-\",\"-\",ROUND((Balance!O92/SUM(Balance!O$102))*100,1))","v":"-"},{"$f":"IF(Balance!P92=\"-\",\"-\",ROUND((Balance!P92/SUM(Balance!P$102))*100,1))","v":"-"},{"$f":"IF(Balance!Q92=\"-\",\"-\",ROUND((Balance!Q92/SUM(Balance!Q$102))*100,1))","v":"-"},{"$f":"IF(Balance!R92=\"-\",\"-\",ROUND((Balance!R92/SUM(Balance!R$102))*100,1))","v":"-"},{"$f":"IF(Balance!S92=\"-\",\"-\",ROUND((Balance!S92/SUM(Balance!S$102))*100,1))","v":"-"},{"$f":"IF(Balance!T92=\"-\",\"-\",ROUND((Balance!T92/SUM(Balance!T$102))*100,1))","v":"-"},{"$f":"IF(Balance!U92=\"-\",\"-\",ROUND((Balance!U92/SUM(Balance!U$102))*100,1))","v":"-"},{"$f":"IF(Balance!V92=\"-\",\"-\",ROUND((Balance!V92/SUM(Balance!V$102))*100,1))","v":"-"},{"$f":"IF(Balance!W92=\"-\",\"-\",ROUND((Balance!W92/SUM(Balance!W$102))*100,1))","v":"-"},{"$f":"IF(Balance!X92=\"-\",\"-\",ROUND((Balance!X92/SUM(Balance!X$102))*100,1))","v":"-"},{"$f":"IF(Balance!Y92=\"-\",\"-\",ROUND((Balance!Y92/SUM(Balance!Y$102))*100,1))","v":"-"},{"$f":"IF(Balance!Z92=\"-\",\"-\",ROUND((Balance!Z92/SUM(Balance!Z$102))*100,1))","v":"-"},{"$f":"IF(Balance!AA92=\"-\",\"-\",ROUND((Balance!AA92/SUM(Balance!AA$102))*100,1))","v":"-"},{"$f":"IF(Balance!AB92=\"-\",\"-\",ROUND((Balance!AB92/SUM(Balance!AB$102))*100,1))","v":"-"},{"$f":"IF(Balance!AC92=\"-\",\"-\",ROUND((Balance!AC92/SUM(Balance!AC$102))*100,1))","v":"-"},{"$f":"IF(Balance!AD92=\"-\",\"-\",ROUND((Balance!AD92/SUM(Balance!AD$102))*100,1))","v":"-"},{"$f":"IF(Balance!AE92=\"-\",\"-\",ROUND((Balance!AE92/SUM(Balance!AE$102))*100,1))","v":"-"},{"$f":"IF(Balance!AF92=\"-\",\"-\",ROUND((Balance!AF92/SUM(Balance!AF$102))*100,1))","v":"-"},{"$f":"IF(Balance!AG92=\"-\",\"-\",ROUND((Balance!AG92/SUM(Balance!AG$102))*100,1))","v":"-"},{"$f":"IF(Balance!AH92=\"-\",\"-\",ROUND((Balance!AH92/SUM(Balance!AH$102))*100,1))","v":"-"},{"$f":"IF(Balance!AI92=\"-\",\"-\",ROUND((Balance!AI92/SUM(Balance!AI$102))*100,1))","v":"-"},{"$f":"IF(Balance!AJ92=\"-\",\"-\",ROUND((Balance!AJ92/SUM(Balance!AJ$102))*100,1))","v":"-"},{"$f":"IF(Balance!AK92=\"-\",\"-\",ROUND((Balance!AK92/SUM(Balance!AK$102))*100,1))","v":"-"},{"$f":"IF(Balance!AL92=\"-\",\"-\",ROUND((Balance!AL92/SUM(Balance!AL$102))*100,1))","v":"-"},{"$f":"IF(Balance!AM92=\"-\",\"-\",ROUND((Balance!AM92/SUM(Balance!AM$102))*100,1))","v":"-"},{"$f":"IF(Balance!AN92=\"-\",\"-\",ROUND((Balance!AN92/SUM(Balance!AN$102))*100,1))","v":"-"},{"$f":"IF(Balance!AO92=\"-\",\"-\",ROUND((Balance!AO92/SUM(Balance!AO$102))*100,1))","v":"-"},{"$f":"IF(Balance!AP92=\"-\",\"-\",ROUND((Balance!AP92/SUM(Balance!AP$102))*100,1))","v":"-"},{"$f":"IF(Balance!AQ92=\"-\",\"-\",ROUND((Balance!AQ92/SUM(Balance!AQ$102))*100,1))","v":"-"},{"$f":"IF(Balance!AR92=\"-\",\"-\",ROUND((Balance!AR92/SUM(Balance!AR$102))*100,1))","v":"-"},{"$f":"IF(Balance!AS92=\"-\",\"-\",ROUND((Balance!AS92/SUM(Balance!AS$102))*100,1))","v":"-"},{"$f":"IF(Balance!AT92=\"-\",\"-\",ROUND((Balance!AT92/SUM(Balance!AT$102))*100,1))","v":"-"},{"$f":"IF(Balance!AU92=\"-\",\"-\",ROUND((Balance!AU92/SUM(Balance!AU$102))*100,1))","v":"-"},{"$f":"IF(Balance!AV92=\"-\",\"-\",ROUND((Balance!AV92/SUM(Balance!AV$102))*100,1))","v":"-"},{"$f":"IF(Balance!AW92=\"-\",\"-\",ROUND((Balance!AW92/SUM(Balance!AW$102))*100,1))","v":"-"},{"$f":"IF(Balance!AX92=\"-\",\"-\",ROUND((Balance!AX92/SUM(Balance!AX$102))*100,1))","v":"-"},{"$f":"IF(Balance!AY92=\"-\",\"-\",ROUND((Balance!AY92/SUM(Balance!AY$102))*100,1))","v":"-"},{"$f":"IF(Balance!AZ92=\"-\",\"-\",ROUND((Balance!AZ92/SUM(Balance!AZ$102))*100,1))","v":"-"},{"$f":"IF(Balance!BA92=\"-\",\"-\",ROUND((Balance!BA92/SUM(Balance!BA$102))*100,1))","v":"-"},{"$f":"IF(Balance!BB92=\"-\",\"-\",ROUND((Balance!BB92/SUM(Balance!BB$102))*100,1))","v":"-"},{"$f":"IF(Balance!BC92=\"-\",\"-\",ROUND((Balance!BC92/SUM(Balance!BC$102))*100,1))","v":"-"},{"$f":"IF(Balance!BD92=\"-\",\"-\",ROUND((Balance!BD92/SUM(Balance!BD$102))*100,1))","v":"-"},{"$f":"IF(Balance!BE92=\"-\",\"-\",ROUND((Balance!BE92/SUM(Balance!BE$102))*100,1))","v":"-"},{"$f":"IF(Balance!BF92=\"-\",\"-\",ROUND((Balance!BF92/SUM(Balance!BF$102))*100,1))","v":"-"},{"$f":"IF(Balance!BG92=\"-\",\"-\",ROUND((Balance!BG92/SUM(Balance!BG$102))*100,1))","v":"-"},{"$f":"IF(Balance!BH92=\"-\",\"-\",ROUND((Balance!BH92/SUM(Balance!BH$102))*100,1))","v":"-"},{"$f":"IF(Balance!BI92=\"-\",\"-\",ROUND((Balance!BI92/SUM(Balance!BI$102))*100,1))","v":"-"},{"$f":"IF(Balance!BJ92=\"-\",\"-\",ROUND((Balance!BJ92/SUM(Balance!BJ$102))*100,1))","v":"-"},{"$f":"IF(Balance!BK92=\"-\",\"-\",ROUND((Balance!BK92/SUM(Balance!BK$102))*100,1))","v":"-"},{"$f":"IF(Balance!BL92=\"-\",\"-\",ROUND((Balance!BL92/SUM(Balance!BL$102))*100,1))","v":"-"},{"$f":"IF(Balance!BM92=\"-\",\"-\",ROUND((Balance!BM92/SUM(Balance!BM$102))*100,1))","v":"-"},{"$f":"IF(Balance!BN92=\"-\",\"-\",ROUND((Balance!BN92/SUM(Balance!BN$102))*100,1))","v":"-"},{"$f":"IF(Balance!BO92=\"-\",\"-\",ROUND((Balance!BO92/SUM(Balance!BO$102))*100,1))","v":"-"},{"$f":"IF(Balance!BP92=\"-\",\"-\",ROUND((Balance!BP92/SUM(Balance!BP$102))*100,1))","v":"-"},{"$f":"IF(Balance!BQ92=\"-\",\"-\",ROUND((Balance!BQ92/SUM(Balance!BQ$102))*100,1))","v":"-"},{"$f":"IF(Balance!BR92=\"-\",\"-\",ROUND((Balance!BR92/SUM(Balance!BR$102))*100,1))","v":"-"},{"$f":"IF(Balance!BS92=\"-\",\"-\",ROUND((Balance!BS92/SUM(Balance!BS$102))*100,1))","v":"-"},{"$f":"IF(Balance!BT92=\"-\",\"-\",ROUND((Balance!BT92/SUM(Balance!BT$102))*100,1))","v":"-"},{"$f":"IF(Balance!BU92=\"-\",\"-\",ROUND((Balance!BU92/SUM(Balance!BU$102))*100,1))","v":"-"},{"$f":"IF(Balance!BV92=\"-\",\"-\",ROUND((Balance!BV92/SUM(Balance!BV$102))*100,1))","v":"-"},{"$f":"IF(Balance!BW92=\"-\",\"-\",ROUND((Balance!BW92/SUM(Balance!BW$102))*100,1))","v":"-"},{"$f":"IF(Balance!BX92=\"-\",\"-\",ROUND((Balance!BX92/SUM(Balance!BX$102))*100,1))","v":"-"},{"$f":"IF(Balance!BY92=\"-\",\"-\",ROUND((Balance!BY92/SUM(Balance!BY$102))*100,1))","v":"-"},{"$f":"IF(Balance!BZ92=\"-\",\"-\",ROUND((Balance!BZ92/SUM(Balance!BZ$102))*100,1))","v":"-"},{"$f":"IF(Balance!CA92=\"-\",\"-\",ROUND((Balance!CA92/SUM(Balance!CA$102))*100,1))","v":"-"},{"$f":"IF(Balance!CB92=\"-\",\"-\",ROUND((Balance!CB92/SUM(Balance!CB$102))*100,1))","v":"-"},{"$f":"IF(Balance!CC92=\"-\",\"-\",ROUND((Balance!CC92/SUM(Balance!CC$102))*100,1))","v":"-"},{"$f":"IF(Balance!CD92=\"-\",\"-\",ROUND((Balance!CD92/SUM(Balance!CD$102))*100,1))","v":"-"},{"$f":"IF(Balance!CE92=\"-\",\"-\",ROUND((Balance!CE92/SUM(Balance!CE$102))*100,1))","v":"-"},{"$f":"IF(Balance!CF92=\"-\",\"-\",ROUND((Balance!CF92/SUM(Balance!CF$102))*100,1))","v":"-"},{"$f":"IF(Balance!CG92=\"-\",\"-\",ROUND((Balance!CG92/SUM(Balance!CG$102))*100,1))","v":"-"},{"$f":"IF(Balance!CH92=\"-\",\"-\",ROUND((Balance!CH92/SUM(Balance!CH$102))*100,1))","v":"-"},{"$f":"IF(Balance!CI92=\"-\",\"-\",ROUND((Balance!CI92/SUM(Balance!CI$102))*100,1))","v":"-"},{"$f":"IF(Balance!CJ92=\"-\",\"-\",ROUND((Balance!CJ92/SUM(Balance!CJ$102))*100,1))","v":"-"},{"$f":"IF(Balance!CK92=\"-\",\"-\",ROUND((Balance!CK92/SUM(Balance!CK$102))*100,1))","v":"-"},{"$f":"IF(Balance!CL92=\"-\",\"-\",ROUND((Balance!CL92/SUM(Balance!CL$102))*100,1))","v":"-"},{"$f":"IF(Balance!CM92=\"-\",\"-\",ROUND((Balance!CM92/SUM(Balance!CM$102))*100,1))","v":"-"},{"$f":"IF(Balance!CN92=\"-\",\"-\",ROUND((Balance!CN92/SUM(Balance!CN$102))*100,1))","v":"-"},{"$f":"IF(Balance!CO92=\"-\",\"-\",ROUND((Balance!CO92/SUM(Balance!CO$102))*100,1))","v":"-"},{"$f":"IF(Balance!CP92=\"-\",\"-\",ROUND((Balance!CP92/SUM(Balance!CP$102))*100,1))","v":0},{"$f":"IF(Balance!CQ92=\"-\",\"-\",ROUND((Balance!CQ92/SUM(Balance!CQ$102))*100,1))","v":0},{"$f":"IF(Balance!CR92=\"-\",\"-\",ROUND((Balance!CR92/SUM(Balance!CR$102))*100,1))","v":0},{"$f":"IF(Balance!CS92=\"-\",\"-\",ROUND((Balance!CS92/SUM(Balance!CS$102))*100,1))","v":0},{"$f":"IF(Balance!CT92=\"-\",\"-\",ROUND((Balance!CT92/SUM(Balance!CT$102))*100,1))","v":0},{"$f":"IF(Balance!CU92=\"-\",\"-\",ROUND((Balance!CU92/SUM(Balance!CU$102))*100,1))","v":0},{"$f":"IF(Balance!CV92=\"-\",\"-\",ROUND((Balance!CV92/SUM(Balance!CV$102))*100,1))","v":0},{"$f":"IF(Balance!CW92=\"-\",\"-\",ROUND((Balance!CW92/SUM(Balance!CW$102))*100,1))","v":0},{"$f":"IF(Balance!CX92=\"-\",\"-\",ROUND((Balance!CX92/SUM(Balance!CX$102))*100,1))","v":0},{"$f":"IF(Balance!CY92=\"-\",\"-\",ROUND((Balance!CY92/SUM(Balance!CY$102))*100,1))","v":0},{"$f":"IF(Balance!CZ92=\"-\",\"-\",ROUND((Balance!CZ92/SUM(Balance!CZ$102))*100,1))","v":0},{"$f":"IF(Balance!DA92=\"-\",\"-\",ROUND((Balance!DA92/SUM(Balance!DA$102))*100,1))","v":0},{"$f":"IF(Balance!DB92=\"-\",\"-\",ROUND((Balance!DB92/SUM(Balance!DB$102))*100,1))","v":0},{"$f":"IF(Balance!DC92=\"-\",\"-\",ROUND((Balance!DC92/SUM(Balance!DC$102))*100,1))","v":0},{"$f":"IF(Balance!DD92=\"-\",\"-\",ROUND((Balance!DD92/SUM(Balance!DD$102))*100,1))","v":0},{"$f":"IF(Balance!DE92=\"-\",\"-\",ROUND((Balance!DE92/SUM(Balance!DE$102))*100,1))","v":0},{"$f":"IF(Balance!DF92=\"-\",\"-\",ROUND((Balance!DF92/SUM(Balance!DF$102))*100,1))","v":0},{"$f":"IF(Balance!DG92=\"-\",\"-\",ROUND((Balance!DG92/SUM(Balance!DG$102))*100,1))","v":0},{"$f":"IF(Balance!DH92=\"-\",\"-\",ROUND((Balance!DH92/SUM(Balance!DH$102))*100,1))","v":0},{"$f":"IF(Balance!DI92=\"-\",\"-\",ROUND((Balance!DI92/SUM(Balance!DI$102))*100,1))","v":0},{"$f":"IF(Balance!DJ92=\"-\",\"-\",ROUND((Balance!DJ92/SUM(Balance!DJ$102))*100,1))","v":0},{"$f":"IF(Balance!DK92=\"-\",\"-\",ROUND((Balance!DK92/SUM(Balance!DK$102))*100,1))","v":0},{"$f":"IF(Balance!DL92=\"-\",\"-\",ROUND((Balance!DL92/SUM(Balance!DL$102))*100,1))","v":0},{"$f":"IF(Balance!DM92=\"-\",\"-\",ROUND((Balance!DM92/SUM(Balance!DM$102))*100,1))","v":0},{"$f":"IF(Balance!DN92=\"-\",\"-\",ROUND((Balance!DN92/SUM(Balance!DN$102))*100,1))","v":0},{"$f":"IF(Balance!DO92=\"-\",\"-\",ROUND((Balance!DO92/SUM(Balance!DO$102))*100,1))","v":0},{"$f":"IF(Balance!DP92=\"-\",\"-\",ROUND((Balance!DP92/SUM(Balance!DP$102))*100,1))","v":0},{"$f":"IF(Balance!DQ92=\"-\",\"-\",ROUND((Balance!DQ92/SUM(Balance!DQ$102))*100,1))","v":0},{"$f":"IF(Balance!DR92=\"-\",\"-\",ROUND((Balance!DR92/SUM(Balance!DR$102))*100,1))","v":0},{"$f":"IF(Balance!DS92=\"-\",\"-\",ROUND((Balance!DS92/SUM(Balance!DS$102))*100,1))","v":0},{"$f":"IF(Balance!DT92=\"-\",\"-\",ROUND((Balance!DT92/SUM(Balance!DT$102))*100,1))","v":0},{"$f":"IF(Balance!DU92=\"-\",\"-\",ROUND((Balance!DU92/SUM(Balance!DU$102))*100,1))","v":0},{"$f":"IF(Balance!DV92=\"-\",\"-\",ROUND((Balance!DV92/SUM(Balance!DV$102))*100,1))","v":0},{"$f":"IF(Balance!DW92=\"-\",\"-\",ROUND((Balance!DW92/SUM(Balance!DW$102))*100,1))","v":0},{"$f":"IF(Balance!DX92=\"-\",\"-\",ROUND((Balance!DX92/SUM(Balance!DX$102))*100,1))","v":0},{"$f":"IF(Balance!DY92=\"-\",\"-\",ROUND((Balance!DY92/SUM(Balance!DY$102))*100,1))","v":0},{"$f":"IF(Balance!DZ92=\"-\",\"-\",ROUND((Balance!DZ92/SUM(Balance!DZ$102))*100,1))","v":0},{"$f":"IF(Balance!EA92=\"-\",\"-\",ROUND((Balance!EA92/SUM(Balance!EA$102))*100,1))","v":0},{"$f":"IF(Balance!EB92=\"-\",\"-\",ROUND((Balance!EB92/SUM(Balance!EB$102))*100,1))","v":0},{"$f":"IF(Balance!EC92=\"-\",\"-\",ROUND((Balance!EC92/SUM(Balance!EC$102))*100,1))","v":0},{"$f":"IF(Balance!ED92=\"-\",\"-\",ROUND((Balance!ED92/SUM(Balance!ED$102))*100,1))","v":0},{"$f":"IF(Balance!EE92=\"-\",\"-\",ROUND((Balance!EE92/SUM(Balance!EE$102))*100,1))","v":0},"-","-","-","-","-","-","-","-","-","-","-"]
[null,"Eólica",{"$f":"IF(Balance!C94=0,\"-\",ROUND((Balance!C94/SUM(Balance!C$102))*100,1))","v":8.4},{"$f":"IF(Balance!D94=0,\"-\",ROUND((Balance!D94/SUM(Balance!D$102))*100,1))","v":12.6},{"$f":"IF(Balance!E94=0,\"-\",ROUND((Balance!E94/SUM(Balance!E$102))*100,1))","v":12.8},{"$f":"IF(Balance!F94=0,\"-\",ROUND((Balance!F94/SUM(Balance!F$102))*100,1))","v":6.3},{"$f":"IF(Balance!G94=0,\"-\",ROUND((Balance!G94/SUM(Balance!G$102))*100,1))","v":11.5},{"$f":"IF(Balance!H94=0,\"-\",ROUND((Balance!H94/SUM(Balance!H$102))*100,1))","v":7.9},{"$f":"IF(Balance!I94=0,\"-\",ROUND((Balance!I94/SUM(Balance!I$102))*100,1))","v":7.8},{"$f":"IF(Balance!J94=0,\"-\",ROUND((Balance!J94/SUM(Balance!J$102))*100,1))","v":10.6},{"$f":"IF(Balance!K94=0,\"-\",ROUND((Balance!K94/SUM(Balance!K$102))*100,1))","v":8.8000000000000007},{"$f":"IF(Balance!L94=0,\"-\",ROUND((Balance!L94/SUM(Balance!L$102))*100,1))","v":8},{"$f":"IF(Balance!M94=0,\"-\",ROUND((Balance!M94/SUM(Balance!M$102))*100,1))","v":11},{"$f":"IF(Balance!N94=0,\"-\",ROUND((Balance!N94/SUM(Balance!N$102))*100,1))","v":9.1999999999999993},{"$f":"IF(Balance!O94=0,\"-\",ROUND((Balance!O94/SUM(Balance!O$102))*100,1))","v":10},{"$f":"IF(Balance!P94=0,\"-\",ROUND((Balance!P94/SUM(Balance!P$102))*100,1))","v":8.1999999999999993},{"$f":"IF(Balance!Q94=0,\"-\",ROUND((Balance!Q94/SUM(Balance!Q$102))*100,1))","v":16.399999999999999},{"$f":"IF(Balance!R94=0,\"-\",ROUND((Balance!R94/SUM(Balance!R$102))*100,1))","v":14},{"$f":"IF(Balance!S94=0,\"-\",ROUND((Balance!S94/SUM(Balance!S$102))*100,1))","v":7.6},{"$f":"IF(Balance!T94=0,\"-\",ROUND((Balance!T94/SUM(Balance!T$102))*100,1))","v":9},{"$f":"IF(Balance!U94=0,\"-\",ROUND((Balance!U94/SUM(Balance!U$102))*100,1))","v":8.4},{"$f":"IF(Balance!V94=0,\"-\",ROUND((Balance!V94/SUM(Balance!V$102))*100,1))","v":8.4},{"$f":"IF(Balance!W94=0,\"-\",ROUND((Balance!W94/SUM(Balance!W$102))*100,1))","v":9.1},{"$f":"IF(Balance!X94=0,\"-\",ROUND((Balance!X94/SUM(Balance!X$102))*100,1))","v":10.6},{"$f":"IF(Balance!Y94=0,\"-\",ROUND((Balance!Y94/SUM(Balance!Y$102))*100,1))","v":14.1},{"$f":"IF(Balance!Z94=0,\"-\",ROUND((Balance!Z94/SUM(Balance!Z$102))*100,1))","v":14.2},{"$f":"IF(Balance!AA94=0,\"-\",ROUND((Balance!AA94/SUM(Balance!AA$102))*100,1))","v":13.3},{"$f":"IF(Balance!AB94=0,\"-\",ROUND((Balance!AB94/SUM(Balance!AB$102))*100,1))","v":14.2},{"$f":"IF(Balance!AC94=0,\"-\",ROUND((Balance!AC94/SUM(Balance!AC$102))*100,1))","v":13.8},{"$f":"IF(Balance!AD94=0,\"-\",ROUND((Balance!AD94/SUM(Balance!AD$102))*100,1))","v":14.6},{"$f":"IF(Balance!AE94=0,\"-\",ROUND((Balance!AE94/SUM(Balance!AE$102))*100,1))","v":12.7},{"$f":"IF(Balance!AF94=0,\"-\",ROUND((Balance!AF94/SUM(Balance!AF$102))*100,1))","v":10.3},{"$f":"IF(Balance!AG94=0,\"-\",ROUND((Balance!AG94/SUM(Balance!AG$102))*100,1))","v":9.9},{"$f":"IF(Balance!AH94=0,\"-\",ROUND((Balance!AH94/SUM(Balance!AH$102))*100,1))","v":9.6999999999999993},{"$f":"IF(Balance!AI94=0,\"-\",ROUND((Balance!AI94/SUM(Balance!AI$102))*100,1))","v":11},{"$f":"IF(Balance!AJ94=0,\"-\",ROUND((Balance!AJ94/SUM(Balance!AJ$102))*100,1))","v":13.7},{"$f":"IF(Balance!AK94=0,\"-\",ROUND((Balance!AK94/SUM(Balance!AK$102))*100,1))","v":20.8},{"$f":"IF(Balance!AL94=0,\"-\",ROUND((Balance!AL94/SUM(Balance!AL$102))*100,1))","v":19.8},{"$f":"IF(Balance!AM94=0,\"-\",ROUND((Balance!AM94/SUM(Balance!AM$102))*100,1))","v":16.5},{"$f":"IF(Balance!AN94=0,\"-\",ROUND((Balance!AN94/SUM(Balance!AN$102))*100,1))","v":19.2},{"$f":"IF(Balance!AO94=0,\"-\",ROUND((Balance!AO94/SUM(Balance!AO$102))*100,1))","v":18.2},{"$f":"IF(Balance!AP94=0,\"-\",ROUND((Balance!AP94/SUM(Balance!AP$102))*100,1))","v":12.1},{"$f":"IF(Balance!AQ94=0,\"-\",ROUND((Balance!AQ94/SUM(Balance!AQ$102))*100,1))","v":16.3},{"$f":"IF(Balance!AR94=0,\"-\",ROUND((Balance!AR94/SUM(Balance!AR$102))*100,1))","v":11.5},{"$f":"IF(Balance!AS94=0,\"-\",ROUND((Balance!AS94/SUM(Balance!AS$102))*100,1))","v":11},{"$f":"IF(Balance!AT94=0,\"-\",ROUND((Balance!AT94/SUM(Balance!AT$102))*100,1))","v":12.3},{"$f":"IF(Balance!AU94=0,\"-\",ROUND((Balance!AU94/SUM(Balance!AU$102))*100,1))","v":10.1},{"$f":"IF(Balance!AV94=0,\"-\",ROUND((Balance!AV94/SUM(Balance!AV$102))*100,1))","v":17},{"$f":"IF(Balance!AW94=0,\"-\",ROUND((Balance!AW94/SUM(Balance!AW$102))*100,1))","v":18.100000000000001},{"$f":"IF(Balance!AX94=0,\"-\",ROUND((Balance!AX94/SUM(Balance!AX$102))*100,1))","v":18.3},{"$f":"IF(Balance!AY94=0,\"-\",ROUND((Balance!AY94/SUM(Balance!AY$102))*100,1))","v":15.5},{"$f":"IF(Balance!AZ94=0,\"-\",ROUND((Balance!AZ94/SUM(Balance!AZ$102))*100,1))","v":17.5},{"$f":"IF(Balance!BA94=0,\"-\",ROUND((Balance!BA94/SUM(Balance!BA$102))*100,1))","v":18.8},{"$f":"IF(Balance!BB94=0,\"-\",ROUND((Balance!BB94/SUM(Balance!BB$102))*100,1))","v":15.7},{"$f":"IF(Balance!BC94=0,\"-\",ROUND((Balance!BC94/SUM(Balance!BC$102))*100,1))","v":14.5},{"$f":"IF(Balance!BD94=0,\"-\",ROUND((Balance!BD94/SUM(Balance!BD$102))*100,1))","v":13.2},{"$f":"IF(Balance!BE94=0,\"-\",ROUND((Balance!BE94/SUM(Balance!BE$102))*100,1))","v":13.8},{"$f":"IF(Balance!BF94=0,\"-\",ROUND((Balance!BF94/SUM(Balance!BF$102))*100,1))","v":11.9},{"$f":"IF(Balance!BG94=0,\"-\",ROUND((Balance!BG94/SUM(Balance!BG$102))*100,1))","v":10.199999999999999},{"$f":"IF(Balance!BH94=0,\"-\",ROUND((Balance!BH94/SUM(Balance!BH$102))*100,1))","v":14.2},{"$f":"IF(Balance!BI94=0,\"-\",ROUND((Balance!BI94/SUM(Balance!BI$102))*100,1))","v":16.899999999999999},{"$f":"IF(Balance!BJ94=0,\"-\",ROUND((Balance!BJ94/SUM(Balance!BJ$102))*100,1))","v":19.3},{"$f":"IF(Balance!BK94=0,\"-\",ROUND((Balance!BK94/SUM(Balance!BK$102))*100,1))","v":14.5},{"$f":"IF(Balance!BL94=0,\"-\",ROUND((Balance!BL94/SUM(Balance!BL$102))*100,1))","v":19.399999999999999},{"$f":"IF(Balance!BM94=0,\"-\",ROUND((Balance!BM94/SUM(Balance!BM$102))*100,1))","v":16.100000000000001},{"$f":"IF(Balance!BN94=0,\"-\",ROUND((Balance!BN94/SUM(Balance!BN$102))*100,1))","v":23.8},{"$f":"IF(Balance!BO94=0,\"-\",ROUND((Balance!BO94/SUM(Balance!BO$102))*100,1))","v":16.5},{"$f":"IF(Balance!BP94=0,\"-\",ROUND((Balance!BP94/SUM(Balance!BP$102))*100,1))","v":15.1},{"$f":"IF(Balance!BQ94=0,\"-\",ROUND((Balance!BQ94/SUM(Balance!BQ$102))*100,1))","v":12.7},{"$f":"IF(Balance!BR94=0,\"-\",ROUND((Balance!BR94/SUM(Balance!BR$102))*100,1))","v":13.3},{"$f":"IF(Balance!BS94=0,\"-\",ROUND((Balance!BS94/SUM(Balance!BS$102))*100,1))","v":17.5},{"$f":"IF(Balance!BT94=0,\"-\",ROUND((Balance!BT94/SUM(Balance!BT$102))*100,1))","v":13.8},{"$f":"IF(Balance!BU94=0,\"-\",ROUND((Balance!BU94/SUM(Balance!BU$102))*100,1))","v":20.5},{"$f":"IF(Balance!BV94=0,\"-\",ROUND((Balance!BV94/SUM(Balance!BV$102))*100,1))","v":22.6},{"$f":"IF(Balance!BW94=0,\"-\",ROUND((Balance!BW94/SUM(Balance!BW$102))*100,1))","v":25.4},{"$f":"IF(Balance!BX94=0,\"-\",ROUND((Balance!BX94/SUM(Balance!BX$102))*100,1))","v":23.5},{"$f":"IF(Balance!BY94=0,\"-\",ROUND((Balance!BY94/SUM(Balance!BY$102))*100,1))","v":24.1},{"$f":"IF(Balance!BZ94=0,\"-\",ROUND((Balance!BZ94/SUM(Balance!BZ$102))*100,1))","v":20.2},{"$f":"IF(Balance!CA94=0,\"-\",ROUND((Balance!CA94/SUM(Balance!CA$102))*100,1))","v":18.7},{"$f":"IF(Balance!CB94=0,\"-\",ROUND((Balance!CB94/SUM(Balance!CB$102))*100,1))","v":18.399999999999999},{"$f":"IF(Balance!CC94=0,\"-\",ROUND((Balance!CC94/SUM(Balance!CC$102))*100,1))","v":11.8},{"$f":"IF(Balance!CD94=0,\"-\",ROUND((Balance!CD94/SUM(Balance!CD$102))*100,1))","v":15.1},{"$f":"IF(Balance!CE94=0,\"-\",ROUND((Balance!CE94/SUM(Balance!CE$102))*100,1))","v":14.7},{"$f":"IF(Balance!CF94=0,\"-\",ROUND((Balance!CF94/SUM(Balance!CF$102))*100,1))","v":18.100000000000001},{"$f":"IF(Balance!CG94=0,\"-\",ROUND((Balance!CG94/SUM(Balance!CG$102))*100,1))","v":28.2},{"$f":"IF(Balance!CH94=0,\"-\",ROUND((Balance!CH94/SUM(Balance!CH$102))*100,1))","v":20.7},{"$f":"IF(Balance!CI94=0,\"-\",ROUND((Balance!CI94/SUM(Balance!CI$102))*100,1))","v":27.3},{"$f":"IF(Balance!CJ94=0,\"-\",ROUND((Balance!CJ94/SUM(Balance!CJ$102))*100,1))","v":26.2},{"$f":"IF(Balance!CK94=0,\"-\",ROUND((Balance!CK94/SUM(Balance!CK$102))*100,1))","v":22.3},{"$f":"IF(Balance!CL94=0,\"-\",ROUND((Balance!CL94/SUM(Balance!CL$102))*100,1))","v":18.899999999999999},{"$f":"IF(Balance!CM94=0,\"-\",ROUND((Balance!CM94/SUM(Balance!CM$102))*100,1))","v":19.600000000000001},{"$f":"IF(Balance!CN94=0,\"-\",ROUND((Balance!CN94/SUM(Balance!CN$102))*100,1))","v":15.4},{"$f":"IF(Balance!CO94=0,\"-\",ROUND((Balance!CO94/SUM(Balance!CO$102))*100,1))","v":15.7},{"$f":"IF(Balance!CP94=0,\"-\",ROUND((Balance!CP94/SUM(Balance!CP$102))*100,1))","v":13.2},{"$f":"IF(Balance!CQ94=0,\"-\",ROUND((Balance!CQ94/SUM(Balance!CQ$102))*100,1))","v":9.6999999999999993},{"$f":"IF(Balance!CR94=0,\"-\",ROUND((Balance!CR94/SUM(Balance!CR$102))*100,1))","v":15.7},{"$f":"IF(Balance!CS94=0,\"-\",ROUND((Balance!CS94/SUM(Balance!CS$102))*100,1))","v":24},{"$f":"IF(Balance!CT94=0,\"-\",ROUND((Balance!CT94/SUM(Balance!CT$102))*100,1))","v":20.5},{"$f":"IF(Balance!CU94=0,\"-\",ROUND((Balance!CU94/SUM(Balance!CU$102))*100,1))","v":20.100000000000001},{"$f":"IF(Balance!CV94=0,\"-\",ROUND((Balance!CV94/SUM(Balance!CV$102))*100,1))","v":25.8},{"$f":"IF(Balance!CW94=0,\"-\",ROUND((Balance!CW94/SUM(Balance!CW$102))*100,1))","v":21.1},{"$f":"IF(Balance!CX94=0,\"-\",ROUND((Balance!CX94/SUM(Balance!CX$102))*100,1))","v":19},{"$f":"IF(Balance!CY94=0,\"-\",ROUND((Balance!CY94/SUM(Balance!CY$102))*100,1))","v":22.8},{"$f":"IF(Balance!CZ94=0,\"-\",ROUND((Balance!CZ94/SUM(Balance!CZ$102))*100,1))","v":13.3},{"$f":"IF(Balance!DA94=0,\"-\",ROUND((Balance!DA94/SUM(Balance!DA$102))*100,1))","v":12.3},{"$f":"IF(Balance!DB94=0,\"-\",ROUND((Balance!DB94/SUM(Balance!DB$102))*100,1))","v":14.4},{"$f":"IF(Balance!DC94=0,\"-\",ROUND((Balance!DC94/SUM(Balance!DC$102))*100,1))","v":14.2},{"$f":"IF(Balance!DD94=0,\"-\",ROUND((Balance!DD94/SUM(Balance!DD$102))*100,1))","v":18.600000000000001},{"$f":"IF(Balance!DE94=0,\"-\",ROUND((Balance!DE94/SUM(Balance!DE$102))*100,1))","v":17.7},{"$f":"IF(Balance!DF94=0,\"-\",ROUND((Balance!DF94/SUM(Balance!DF$102))*100,1))","v":16.3},{"$f":"IF(Balance!DG94=0,\"-\",ROUND((Balance!DG94/SUM(Balance!DG$102))*100,1))","v":24.8},{"$f":"IF(Balance!DH94=0,\"-\",ROUND((Balance!DH94/SUM(Balance!DH$102))*100,1))","v":28.1},{"$f":"IF(Balance!DI94=0,\"-\",ROUND((Balance!DI94/SUM(Balance!DI$102))*100,1))","v":23.6},{"$f":"IF(Balance!DJ94=0,\"-\",ROUND((Balance!DJ94/SUM(Balance!DJ$102))*100,1))","v":20.399999999999999},{"$f":"IF(Balance!DK94=0,\"-\",ROUND((Balance!DK94/SUM(Balance!DK$102))*100,1))","v":19},{"$f":"IF(Balance!DL94=0,\"-\",ROUND((Balance!DL94/SUM(Balance!DL$102))*100,1))","v":15.8},{"$f":"IF(Balance!DM94=0,\"-\",ROUND((Balance!DM94/SUM(Balance!DM$102))*100,1))","v":15.4},{"$f":"IF(Balance!DN94=0,\"-\",ROUND((Balance!DN94/SUM(Balance!DN$102))*100,1))","v":16.600000000000001},{"$f":"IF(Balance!DO94=0,\"-\",ROUND((Balance!DO94/SUM(Balance!DO$102))*100,1))","v":12.8},{"$f":"IF(Balance!DP94=0,\"-\",ROUND((Balance!DP94/SUM(Balance!DP$102))*100,1))","v":11},{"$f":"IF(Balance!DQ94=0,\"-\",ROUND((Balance!DQ94/SUM(Balance!DQ$102))*100,1))","v":17.899999999999999},{"$f":"IF(Balance!DR94=0,\"-\",ROUND((Balance!DR94/SUM(Balance!DR$102))*100,1))","v":12.2},{"$f":"IF(Balance!DS94=0,\"-\",ROUND((Balance!DS94/SUM(Balance!DS$102))*100,1))","v":19},{"$f":"IF(Balance!DT94=0,\"-\",ROUND((Balance!DT94/SUM(Balance!DT$102))*100,1))","v":23.4},{"$f":"IF(Balance!DU94=0,\"-\",ROUND((Balance!DU94/SUM(Balance!DU$102))*100,1))","v":22.3},{"$f":"IF(Balance!DV94=0,\"-\",ROUND((Balance!DV94/SUM(Balance!DV$102))*100,1))","v":21.8},{"$f":"IF(Balance!DW94=0,\"-\",ROUND((Balance!DW94/SUM(Balance!DW$102))*100,1))","v":17.100000000000001},{"$f":"IF(Balance!DX94=0,\"-\",ROUND((Balance!DX94/SUM(Balance!DX$102))*100,1))","v":14.4},{"$f":"IF(Balance!DY94=0,\"-\",ROUND((Balance!DY94/SUM(Balance!DY$102))*100,1))","v":14.9},{"$f":"IF(Balance!DZ94=0,\"-\",ROUND((Balance!DZ94/SUM(Balance!DZ$102))*100,1))","v":15.4},{"$f":"IF(Balance!EA94=0,\"-\",ROUND((Balance!EA94/SUM(Balance!EA$102))*100,1))","v":14.1},{"$f":"IF(Balance!EB94=0,\"-\",ROUND((Balance!EB94/SUM(Balance!EB$102))*100,1))","v":14.9},{"$f":"IF(Balance!EC94=0,\"-\",ROUND((Balance!EC94/SUM(Balance!EC$102))*100,1))","v":17.5},{"$f":"IF(Balance!ED94=0,\"-\",ROUND((Balance!ED94/SUM(Balance!ED$102))*100,1))","v":23.8},{"$f":"IF(Balance!EE94=0,\"-\",ROUND((Balance!EE94/SUM(Balance!EE$102))*100,1))","v":23.3},"-","-","-","-","-","-","-","-","-","-","-"]
[null,"Solar fotovoltaica",{"$f":"IF(Balance!C95=0,\"-\",ROUND((Balance!C95/SUM(Balance!C$102))*100,1))","v":0},{"$f":"IF(Balance!D95=0,\"-\",ROUND((Balance!D95/SUM(Balance!D$102))*100,1))","v":0.1},{"$f":"IF(Balance!E95=0,\"-\",ROUND((Balance!E95/SUM(Balance!E$102))*100,1))","v":0.1},{"$f":"IF(Balance!F95=0,\"-\",ROUND((Balance!F95/SUM(Balance!F$102))*100,1))","v":0.1},{"$f":"IF(Balance!G95=0,\"-\",ROUND((Balance!G95/SUM(Balance!G$102))*100,1))","v":0.2},{"$f":"IF(Balance!H95=0,\"-\",ROUND((Balance!H95/SUM(Balance!H$102))*100,1))","v":0.2},{"$f":"IF(Balance!I95=0,\"-\",ROUND((Balance!I95/SUM(Balance!I$102))*100,1))","v":0.2},{"$f":"IF(Balance!J95=0,\"-\",ROUND((Balance!J95/SUM(Balance!J$102))*100,1))","v":0.2},{"$f":"IF(Balance!K95=0,\"-\",ROUND((Balance!K95/SUM(Balance!K$102))*100,1))","v":0.3},{"$f":"IF(Balance!L95=0,\"-\",ROUND((Balance!L95/SUM(Balance!L$102))*100,1))","v":0.2},{"$f":"IF(Balance!M95=0,\"-\",ROUND((Balance!M95/SUM(Balance!M$102))*100,1))","v":0.2},{"$f":"IF(Balance!N95=0,\"-\",ROUND((Balance!N95/SUM(Balance!N$102))*100,1))","v":0.2},{"$f":"IF(Balance!O95=0,\"-\",ROUND((Balance!O95/SUM(Balance!O$102))*100,1))","v":0.2},{"$f":"IF(Balance!P95=0,\"-\",ROUND((Balance!P95/SUM(Balance!P$102))*100,1))","v":0.3},{"$f":"IF(Balance!Q95=0,\"-\",ROUND((Balance!Q95/SUM(Balance!Q$102))*100,1))","v":0.4},{"$f":"IF(Balance!R95=0,\"-\",ROUND((Balance!R95/SUM(Balance!R$102))*100,1))","v":0.5},{"$f":"IF(Balance!S95=0,\"-\",ROUND((Balance!S95/SUM(Balance!S$102))*100,1))","v":0.6},{"$f":"IF(Balance!T95=0,\"-\",ROUND((Balance!T95/SUM(Balance!T$102))*100,1))","v":0.8},{"$f":"IF(Balance!U95=0,\"-\",ROUND((Balance!U95/SUM(Balance!U$102))*100,1))","v":0.9},{"$f":"IF(Balance!V95=0,\"-\",ROUND((Balance!V95/SUM(Balance!V$102))*100,1))","v":1.2},{"$f":"IF(Balance!W95=0,\"-\",ROUND((Balance!W95/SUM(Balance!W$102))*100,1))","v":1.4},{"$f":"IF(Balance!X95=0,\"-\",ROUND((Balance!X95/SUM(Balance!X$102))*100,1))","v":1.4},{"$f":"IF(Balance!Y95=0,\"-\",ROUND((Balance!Y95/SUM(Balance!Y$102))*100,1))","v":1.4},{"$f":"IF(Balance!Z95=0,\"-\",ROUND((Balance!Z95/SUM(Balance!Z$102))*100,1))","v":1},{"$f":"IF(Balance!AA95=0,\"-\",ROUND((Balance!AA95/SUM(Balance!AA$102))*100,1))","v":1},{"$f":"IF(Balance!AB95=0,\"-\",ROUND((Balance!AB95/SUM(Balance!AB$102))*100,1))","v":1.7},{"$f":"IF(Balance!AC95=0,\"-\",ROUND((Balance!AC95/SUM(Balance!AC$102))*100,1))","v":2.2999999999999998},{"$f":"IF(Balance!AD95=0,\"-\",ROUND((Balance!AD95/SUM(Balance!AD$102))*100,1))","v":2.7},{"$f":"IF(Balance!AE95=0,\"-\",ROUND((Balance!AE95/SUM(Balance!AE$102))*100,1))","v":3.1},{"$f":"IF(Balance!AF95=0,\"-\",ROUND((Balance!AF95/SUM(Balance!AF$102))*100,1))","v":2.8},{"$f":"IF(Balance!AG95=0,\"-\",ROUND((Balance!AG95/SUM(Balance!AG$102))*100,1))","v":2.9},{"$f":"IF(Balance!AH95=0,\"-\",ROUND((Balance!AH95/SUM(Balance!AH$102))*100,1))","v":2.8},{"$f":"IF(Balance!AI95=0,\"-\",ROUND((Balance!AI95/SUM(Balance!AI$102))*100,1))","v":2.2999999999999998},{"$f":"IF(Balance!AJ95=0,\"-\",ROUND((Balance!AJ95/SUM(Balance!AJ$102))*100,1))","v":2.2000000000000002},{"$f":"IF(Balance!AK95=0,\"-\",ROUND((Balance!AK95/SUM(Balance!AK$102))*100,1))","v":1.6},{"$f":"IF(Balance!AL95=0,\"-\",ROUND((Balance!AL95/SUM(Balance!AL$102))*100,1))","v":1},{"$f":"IF(Balance!AM95=0,\"-\",ROUND((Balance!AM95/SUM(Balance!AM$102))*100,1))","v":1},{"$f":"IF(Balance!AN95=0,\"-\",ROUND((Balance!AN95/SUM(Balance!AN$102))*100,1))","v":1.3},{"$f":"IF(Balance!AO95=0,\"-\",ROUND((Balance!AO95/SUM(Balance!AO$102))*100,1))","v":1.9},{"$f":"IF(Balance!AP95=0,\"-\",ROUND((Balance!AP95/SUM(Balance!AP$102))*100,1))","v":2.7},{"$f":"IF(Balance!AQ95=0,\"-\",ROUND((Balance!AQ95/SUM(Balance!AQ$102))*100,1))","v":3.2},{"$f":"IF(Balance!AR95=0,\"-\",ROUND((Balance!AR95/SUM(Balance!AR$102))*100,1))","v":3},{"$f":"IF(Balance!AS95=0,\"-\",ROUND((Balance!AS95/SUM(Balance!AS$102))*100,1))","v":3},{"$f":"IF(Balance!AT95=0,\"-\",ROUND((Balance!AT95/SUM(Balance!AT$102))*100,1))","v":3},{"$f":"IF(Balance!AU95=0,\"-\",ROUND((Balance!AU95/SUM(Balance!AU$102))*100,1))","v":2.7},{"$f":"IF(Balance!AV95=0,\"-\",ROUND((Balance!AV95/SUM(Balance!AV$102))*100,1))","v":2.2999999999999998},{"$f":"IF(Balance!AW95=0,\"-\",ROUND((Balance!AW95/SUM(Balance!AW$102))*100,1))","v":1.6},{"$f":"IF(Balance!AX95=0,\"-\",ROUND((Balance!AX95/SUM(Balance!AX$102))*100,1))","v":1.2},{"$f":"IF(Balance!AY95=0,\"-\",ROUND((Balance!AY95/SUM(Balance!AY$102))*100,1))","v":1.4},{"$f":"IF(Balance!AZ95=0,\"-\",ROUND((Balance!AZ95/SUM(Balance!AZ$102))*100,1))","v":2.2000000000000002},{"$f":"IF(Balance!BA95=0,\"-\",ROUND((Balance!BA95/SUM(Balance!BA$102))*100,1))","v":2.1},{"$f":"IF(Balance!BB95=0,\"-\",ROUND((Balance!BB95/SUM(Balance!BB$102))*100,1))","v":3},{"$f":"IF(Balance!BC95=0,\"-\",ROUND((Balance!BC95/SUM(Balance!BC$102))*100,1))","v":3.4},{"$f":"IF(Balance!BD95=0,\"-\",ROUND((Balance!BD95/SUM(Balance!BD$102))*100,1))","v":3.6},{"$f":"IF(Balance!BE95=0,\"-\",ROUND((Balance!BE95/SUM(Balance!BE$102))*100,1))","v":3.6},{"$f":"IF(Balance!BF95=0,\"-\",ROUND((Balance!BF95/SUM(Balance!BF$102))*100,1))","v":3.4},{"$f":"IF(Balance!BG95=0,\"-\",ROUND((Balance!BG95/SUM(Balance!BG$102))*100,1))","v":3.2},{"$f":"IF(Balance!BH95=0,\"-\",ROUND((Balance!BH95/SUM(Balance!BH$102))*100,1))","v":2.8},{"$f":"IF(Balance!BI95=0,\"-\",ROUND((Balance!BI95/SUM(Balance!BI$102))*100,1))","v":1.6},{"$f":"IF(Balance!BJ95=0,\"-\",ROUND((Balance!BJ95/SUM(Balance!BJ$102))*100,1))","v":1.8},{"$f":"IF(Balance!BK95=0,\"-\",ROUND((Balance!BK95/SUM(Balance!BK$102))*100,1))","v":2},{"$f":"IF(Balance!BL95=0,\"-\",ROUND((Balance!BL95/SUM(Balance!BL$102))*100,1))","v":2.5},{"$f":"IF(Balance!BM95=0,\"-\",ROUND((Balance!BM95/SUM(Balance!BM$102))*100,1))","v":3.2},{"$f":"IF(Balance!BN95=0,\"-\",ROUND((Balance!BN95/SUM(Balance!BN$102))*100,1))","v":2.9},{"$f":"IF(Balance!BO95=0,\"-\",ROUND((Balance!BO95/SUM(Balance!BO$102))*100,1))","v":3.8},{"$f":"IF(Balance!BP95=0,\"-\",ROUND((Balance!BP95/SUM(Balance!BP$102))*100,1))","v":3.8},{"$f":"IF(Balance!BQ95=0,\"-\",ROUND((Balance!BQ95/SUM(Balance!BQ$102))*100,1))","v":3.9},{"$f":"IF(Balance!BR95=0,\"-\",ROUND((Balance!BR95/SUM(Balance!BR$102))*100,1))","v":3.6},{"$f":"IF(Balance!BS95=0,\"-\",ROUND((Balance!BS95/SUM(Balance!BS$102))*100,1))","v":3.1},{"$f":"IF(Balance!BT95=0,\"-\",ROUND((Balance!BT95/SUM(Balance!BT$102))*100,1))","v":2.6},{"$f":"IF(Balance!BU95=0,\"-\",ROUND((Balance!BU95/SUM(Balance!BU$102))*100,1))","v":1.6},{"$f":"IF(Balance!BV95=0,\"-\",ROUND((Balance!BV95/SUM(Balance!BV$102))*100,1))","v":1.7},{"$f":"IF(Balance!BW95=0,\"-\",ROUND((Balance!BW95/SUM(Balance!BW$102))*100,1))","v":1.8},{"$f":"IF(Balance!BX95=0,\"-\",ROUND((Balance!BX95/SUM(Balance!BX$102))*100,1))","v":2.2999999999999998},{"$f":"IF(Balance!BY95=0,\"-\",ROUND((Balance!BY95/SUM(Balance!BY$102))*100,1))","v":2.4},{"$f":"IF(Balance!BZ95=0,\"-\",ROUND((Balance!BZ95/SUM(Balance!BZ$102))*100,1))","v":3.5},{"$f":"IF(Balance!CA95=0,\"-\",ROUND((Balance!CA95/SUM(Balance!CA$102))*100,1))","v":4.0999999999999996},{"$f":"IF(Balance!CB95=0,\"-\",ROUND((Balance!CB95/SUM(Balance!CB$102))*100,1))","v":4.4000000000000004},{"$f":"IF(Balance!CC95=0,\"-\",ROUND((Balance!CC95/SUM(Balance!CC$102))*100,1))","v":4},{"$f":"IF(Balance!CD95=0,\"-\",ROUND((Balance!CD95/SUM(Balance!CD$102))*100,1))","v":3.9},{"$f":"IF(Balance!CE95=0,\"-\",ROUND((Balance!CE95/SUM(Balance!CE$102))*100,1))","v":3.5},{"$f":"IF(Balance!CF95=0,\"-\",ROUND((Balance!CF95/SUM(Balance!CF$102))*100,1))","v":2.9},{"$f":"IF(Balance!CG95=0,\"-\",ROUND((Balance!CG95/SUM(Balance!CG$102))*100,1))","v":2.2000000000000002},{"$f":"IF(Balance!CH95=0,\"-\",ROUND((Balance!CH95/SUM(Balance!CH$102))*100,1))","v":1.8},{"$f":"IF(Balance!CI95=0,\"-\",ROUND((Balance!CI95/SUM(Balance!CI$102))*100,1))","v":1.6},{"$f":"IF(Balance!CJ95=0,\"-\",ROUND((Balance!CJ95/SUM(Balance!CJ$102))*100,1))","v":1.9},{"$f":"IF(Balance!CK95=0,\"-\",ROUND((Balance!CK95/SUM(Balance!CK$102))*100,1))","v":3.2},{"$f":"IF(Balance!CL95=0,\"-\",ROUND((Balance!CL95/SUM(Balance!CL$102))*100,1))","v":3.8},{"$f":"IF(Balance!CM95=0,\"-\",ROUND((Balance!CM95/SUM(Balance!CM$102))*100,1))","v":4.3},{"$f":"IF(Balance!CN95=0,\"-\",ROUND((Balance!CN95/SUM(Balance!CN$102))*100,1))","v":4.2},{"$f":"IF(Balance!CO95=0,\"-\",ROUND((Balance!CO95/SUM(Balance!CO$102))*100,1))","v":4.0999999999999996},{"$f":"IF(Balance!CP95=0,\"-\",ROUND((Balance!CP95/SUM(Balance!CP$102))*100,1))","v":4.0999999999999996},{"$f":"IF(Balance!CQ95=0,\"-\",ROUND((Balance!CQ95/SUM(Balance!CQ$102))*100,1))","v":3.1},{"$f":"IF(Balance!CR95=0,\"-\",ROUND((Balance!CR95/SUM(Balance!CR$102))*100,1))","v":3},{"$f":"IF(Balance!CS95=0,\"-\",ROUND((Balance!CS95/SUM(Balance!CS$102))*100,1))","v":1.8},{"$f":"IF(Balance!CT95=0,\"-\",ROUND((Balance!CT95/SUM(Balance!CT$102))*100,1))","v":1.9},{"$f":"IF(Balance!CU95=0,\"-\",ROUND((Balance!CU95/SUM(Balance!CU$102))*100,1))","v":2.1},{"$f":"IF(Balance!CV95=0,\"-\",ROUND((Balance!CV95/SUM(Balance!CV$102))*100,1))","v":2.1},{"$f":"IF(Balance!CW95=0,\"-\",ROUND((Balance!CW95/SUM(Balance!CW$102))*100,1))","v":3.1},{"$f":"IF(Balance!CX95=0,\"-\",ROUND((Balance!CX95/SUM(Balance!CX$102))*100,1))","v":3.7},{"$f":"IF(Balance!CY95=0,\"-\",ROUND((Balance!CY95/SUM(Balance!CY$102))*100,1))","v":4.3},{"$f":"IF(Balance!CZ95=0,\"-\",ROUND((Balance!CZ95/SUM(Balance!CZ$102))*100,1))","v":4.0999999999999996},{"$f":"IF(Balance!DA95=0,\"-\",ROUND((Balance!DA95/SUM(Balance!DA$102))*100,1))","v":3.7},{"$f":"IF(Balance!DB95=0,\"-\",ROUND((Balance!DB95/SUM(Balance!DB$102))*100,1))","v":3.6},{"$f":"IF(Balance!DC95=0,\"-\",ROUND((Balance!DC95/SUM(Balance!DC$102))*100,1))","v":3.4},{"$f":"IF(Balance!DD95=0,\"-\",ROUND((Balance!DD95/SUM(Balance!DD$102))*100,1))","v":2.6},{"$f":"IF(Balance!DE95=0,\"-\",ROUND((Balance!DE95/SUM(Balance!DE$102))*100,1))","v":2.5},{"$f":"IF(Balance!DF95=0,\"-\",ROUND((Balance!DF95/SUM(Balance!DF$102))*100,1))","v":1.8},{"$f":"IF(Balance!DG95=0,\"-\",ROUND((Balance!DG95/SUM(Balance!DG$102))*100,1))","v":1.6},{"$f":"IF(Balance!DH95=0,\"-\",ROUND((Balance!DH95/SUM(Balance!DH$102))*100,1))","v":2.2000000000000002},{"$f":"IF(Balance!DI95=0,\"-\",ROUND((Balance!DI95/SUM(Balance!DI$102))*100,1))","v":3.1},{"$f":"IF(Balance!DJ95=0,\"-\",ROUND((Balance!DJ95/SUM(Balance!DJ$102))*100,1))","v":3.3},{"$f":"IF(Balance!DK95=0,\"-\",ROUND((Balance!DK95/SUM(Balance!DK$102))*100,1))","v":3.9},{"$f":"IF(Balance!DL95=0,\"-\",ROUND((Balance!DL95/SUM(Balance!DL$102))*100,1))","v":4.5},{"$f":"IF(Balance!DM95=0,\"-\",ROUND((Balance!DM95/SUM(Balance!DM$102))*100,1))","v":4},{"$f":"IF(Balance!DN95=0,\"-\",ROUND((Balance!DN95/SUM(Balance!DN$102))*100,1))","v":4.0999999999999996},{"$f":"IF(Balance!DO95=0,\"-\",ROUND((Balance!DO95/SUM(Balance!DO$102))*100,1))","v":3.6},{"$f":"IF(Balance!DP95=0,\"-\",ROUND((Balance!DP95/SUM(Balance!DP$102))*100,1))","v":2.7},{"$f":"IF(Balance!DQ95=0,\"-\",ROUND((Balance!DQ95/SUM(Balance!DQ$102))*100,1))","v":2},{"$f":"IF(Balance!DR95=0,\"-\",ROUND((Balance!DR95/SUM(Balance!DR$102))*100,1))","v":1.7},{"$f":"IF(Balance!DS95=0,\"-\",ROUND((Balance!DS95/SUM(Balance!DS$102))*100,1))","v":1.9},{"$f":"IF(Balance!DT95=0,\"-\",ROUND((Balance!DT95/SUM(Balance!DT$102))*100,1))","v":2.1},{"$f":"IF(Balance!DU95=0,\"-\",ROUND((Balance!DU95/SUM(Balance!DU$102))*100,1))","v":3.4},{"$f":"IF(Balance!DV95=0,\"-\",ROUND((Balance!DV95/SUM(Balance!DV$102))*100,1))","v":4.3},{"$f":"IF(Balance!DW95=0,\"-\",ROUND((Balance!DW95/SUM(Balance!DW$102))*100,1))","v":4.3},{"$f":"IF(Balance!DX95=0,\"-\",ROUND((Balance!DX95/SUM(Balance!DX$102))*100,1))","v":4},{"$f":"IF(Balance!DY95=0,\"-\",ROUND((Balance!DY95/SUM(Balance!DY$102))*100,1))","v":4},{"$f":"IF(Balance!DZ95=0,\"-\",ROUND((Balance!DZ95/SUM(Balance!DZ$102))*100,1))","v":3.8},{"$f":"IF(Balance!EA95=0,\"-\",ROUND((Balance!EA95/SUM(Balance!EA$102))*100,1))","v":3.8},{"$f":"IF(Balance!EB95=0,\"-\",ROUND((Balance!EB95/SUM(Balance!EB$102))*100,1))","v":3.1},{"$f":"IF(Balance!EC95=0,\"-\",ROUND((Balance!EC95/SUM(Balance!EC$102))*100,1))","v":2.4},{"$f":"IF(Balance!ED95=0,\"-\",ROUND((Balance!ED95/SUM(Balance!ED$102))*100,1))","v":1.8},{"$f":"IF(Balance!EE95=0,\"-\",ROUND((Balance!EE95/SUM(Balance!EE$102))*100,1))","v":1.9},"-","-","-","-","-","-","-","-","-","-","-"]
[null,"Solar térmica",{"$f":"IF(Balance!C96=0,\"-\",ROUND((Balance!C96/SUM(Balance!C$102))*100,1))","v":"-"},{"$f":"IF(Balance!D96=0,\"-\",ROUND((Balance!D96/SUM(Balance!D$102))*100,1))","v":"-"},{"$f":"IF(Balance!E96=0,\"-\",ROUND((Balance!E96/SUM(Balance!E$102))*100,1))","v":0},{"$f":"IF(Balance!F96=0,\"-\",ROUND((Balance!F96/SUM(Balance!F$102))*100,1))","v":0},{"$f":"IF(Balance!G96=0,\"-\",ROUND((Balance!G96/SUM(Balance!G$102))*100,1))","v":0},{"$f":"IF(Balance!H96=0,\"-\",ROUND((Balance!H96/SUM(Balance!H$102))*100,1))","v":0},{"$f":"IF(Balance!I96=0,\"-\",ROUND((Balance!I96/SUM(Balance!I$102))*100,1))","v":0},{"$f":"IF(Balance!J96=0,\"-\",ROUND((Balance!J96/SUM(Balance!J$102))*100,1))","v":0},{"$f":"IF(Balance!K96=0,\"-\",ROUND((Balance!K96/SUM(Balance!K$102))*100,1))","v":0},{"$f":"IF(Balance!L96=0,\"-\",ROUND((Balance!L96/SUM(Balance!L$102))*100,1))","v":0},{"$f":"IF(Balance!M96=0,\"-\",ROUND((Balance!M96/SUM(Balance!M$102))*100,1))","v":0},{"$f":"IF(Balance!N96=0,\"-\",ROUND((Balance!N96/SUM(Balance!N$102))*100,1))","v":0},{"$f":"IF(Balance!O96=0,\"-\",ROUND((Balance!O96/SUM(Balance!O$102))*100,1))","v":0},{"$f":"IF(Balance!P96=0,\"-\",ROUND((Balance!P96/SUM(Balance!P$102))*100,1))","v":0},{"$f":"IF(Balance!Q96=0,\"-\",ROUND((Balance!Q96/SUM(Balance!Q$102))*100,1))","v":0},{"$f":"IF(Balance!R96=0,\"-\",ROUND((Balance!R96/SUM(Balance!R$102))*100,1))","v":0},{"$f":"IF(Balance!S96=0,\"-\",ROUND((Balance!S96/SUM(Balance!S$102))*100,1))","v":0},{"$f":"IF(Balance!T96=0,\"-\",ROUND((Balance!T96/SUM(Balance!T$102))*100,1))","v":0},{"$f":"IF(Balance!U96=0,\"-\",ROUND((Balance!U96/SUM(Balance!U$102))*100,1))","v":0},{"$f":"IF(Balance!V96=0,\"-\",ROUND((Balance!V96/SUM(Balance!V$102))*100,1))","v":0},{"$f":"IF(Balance!W96=0,\"-\",ROUND((Balance!W96/SUM(Balance!W$102))*100,1))","v":0},{"$f":"IF(Balance!X96=0,\"-\",ROUND((Balance!X96/SUM(Balance!X$102))*100,1))","v":0},{"$f":"IF(Balance!Y96=0,\"-\",ROUND((Balance!Y96/SUM(Balance!Y$102))*100,1))","v":0},{"$f":"IF(Balance!Z96=0,\"-\",ROUND((Balance!Z96/SUM(Balance!Z$102))*100,1))","v":0},{"$f":"IF(Balance!AA96=0,\"-\",ROUND((Balance!AA96/SUM(Balance!AA$102))*100,1))","v":0},{"$f":"IF(Balance!AB96=0,\"-\",ROUND((Balance!AB96/SUM(Balance!AB$102))*100,1))","v":0},{"$f":"IF(Balance!AC96=0,\"-\",ROUND((Balance!AC96/SUM(Balance!AC$102))*100,1))","v":0},{"$f":"IF(Balance!AD96=0,\"-\",ROUND((Balance!AD96/SUM(Balance!AD$102))*100,1))","v":0},{"$f":"IF(Balance!AE96=0,\"-\",ROUND((Balance!AE96/SUM(Balance!AE$102))*100,1))","v":0},{"$f":"IF(Balance!AF96=0,\"-\",ROUND((Balance!AF96/SUM(Balance!AF$102))*100,1))","v":0},{"$f":"IF(Balance!AG96=0,\"-\",ROUND((Balance!AG96/SUM(Balance!AG$102))*100,1))","v":0},{"$f":"IF(Balance!AH96=0,\"-\",ROUND((Balance!AH96/SUM(Balance!AH$102))*100,1))","v":0.1},{"$f":"IF(Balance!AI96=0,\"-\",ROUND((Balance!AI96/SUM(Balance!AI$102))*100,1))","v":0.1},{"$f":"IF(Balance!AJ96=0,\"-\",ROUND((Balance!AJ96/SUM(Balance!AJ$102))*100,1))","v":0.1},{"$f":"IF(Balance!AK96=0,\"-\",ROUND((Balance!AK96/SUM(Balance!AK$102))*100,1))","v":0.1},{"$f":"IF(Balance!AL96=0,\"-\",ROUND((Balance!AL96/SUM(Balance!AL$102))*100,1))","v":0},{"$f":"IF(Balance!AM96=0,\"-\",ROUND((Balance!AM96/SUM(Balance!AM$102))*100,1))","v":0.1},{"$f":"IF(Balance!AN96=0,\"-\",ROUND((Balance!AN96/SUM(Balance!AN$102))*100,1))","v":0},{"$f":"IF(Balance!AO96=0,\"-\",ROUND((Balance!AO96/SUM(Balance!AO$102))*100,1))","v":0.1},{"$f":"IF(Balance!AP96=0,\"-\",ROUND((Balance!AP96/SUM(Balance!AP$102))*100,1))","v":0.2},{"$f":"IF(Balance!AQ96=0,\"-\",ROUND((Balance!AQ96/SUM(Balance!AQ$102))*100,1))","v":0.3},{"$f":"IF(Balance!AR96=0,\"-\",ROUND((Balance!AR96/SUM(Balance!AR$102))*100,1))","v":0.3},{"$f":"IF(Balance!AS96=0,\"-\",ROUND((Balance!AS96/SUM(Balance!AS$102))*100,1))","v":0.4},{"$f":"IF(Balance!AT96=0,\"-\",ROUND((Balance!AT96/SUM(Balance!AT$102))*100,1))","v":0.5},{"$f":"IF(Balance!AU96=0,\"-\",ROUND((Balance!AU96/SUM(Balance!AU$102))*100,1))","v":0.4},{"$f":"IF(Balance!AV96=0,\"-\",ROUND((Balance!AV96/SUM(Balance!AV$102))*100,1))","v":0.3},{"$f":"IF(Balance!AW96=0,\"-\",ROUND((Balance!AW96/SUM(Balance!AW$102))*100,1))","v":0.1},{"$f":"IF(Balance!AX96=0,\"-\",ROUND((Balance!AX96/SUM(Balance!AX$102))*100,1))","v":0.1},{"$f":"IF(Balance!AY96=0,\"-\",ROUND((Balance!AY96/SUM(Balance!AY$102))*100,1))","v":0.1},{"$f":"IF(Balance!AZ96=0,\"-\",ROUND((Balance!AZ96/SUM(Balance!AZ$102))*100,1))","v":0.4},{"$f":"IF(Balance!BA96=0,\"-\",ROUND((Balance!BA96/SUM(Balance!BA$102))*100,1))","v":0.4},{"$f":"IF(Balance!BB96=0,\"-\",ROUND((Balance!BB96/SUM(Balance!BB$102))*100,1))","v":0.6},{"$f":"IF(Balance!BC96=0,\"-\",ROUND((Balance!BC96/SUM(Balance!BC$102))*100,1))","v":0.7},{"$f":"IF(Balance!BD96=0,\"-\",ROUND((Balance!BD96/SUM(Balance!BD$102))*100,1))","v":1},{"$f":"IF(Balance!BE96=0,\"-\",ROUND((Balance!BE96/SUM(Balance!BE$102))*100,1))","v":1.2},{"$f":"IF(Balance!BF96=0,\"-\",ROUND((Balance!BF96/SUM(Balance!BF$102))*100,1))","v":1},{"$f":"IF(Balance!BG96=0,\"-\",ROUND((Balance!BG96/SUM(Balance!BG$102))*100,1))","v":1},{"$f":"IF(Balance!BH96=0,\"-\",ROUND((Balance!BH96/SUM(Balance!BH$102))*100,1))","v":0.8},{"$f":"IF(Balance!BI96=0,\"-\",ROUND((Balance!BI96/SUM(Balance!BI$102))*100,1))","v":0.4},{"$f":"IF(Balance!BJ96=0,\"-\",ROUND((Balance!BJ96/SUM(Balance!BJ$102))*100,1))","v":0.4},{"$f":"IF(Balance!BK96=0,\"-\",ROUND((Balance!BK96/SUM(Balance!BK$102))*100,1))","v":0.5},{"$f":"IF(Balance!BL96=0,\"-\",ROUND((Balance!BL96/SUM(Balance!BL$102))*100,1))","v":0.8},{"$f":"IF(Balance!BM96=0,\"-\",ROUND((Balance!BM96/SUM(Balance!BM$102))*100,1))","v":1},{"$f":"IF(Balance!BN96=0,\"-\",ROUND((Balance!BN96/SUM(Balance!BN$102))*100,1))","v":0.8},{"$f":"IF(Balance!BO96=0,\"-\",ROUND((Balance!BO96/SUM(Balance!BO$102))*100,1))","v":1.5},{"$f":"IF(Balance!BP96=0,\"-\",ROUND((Balance!BP96/SUM(Balance!BP$102))*100,1))","v":1.8},{"$f":"IF(Balance!BQ96=0,\"-\",ROUND((Balance!BQ96/SUM(Balance!BQ$102))*100,1))","v":2.2999999999999998},{"$f":"IF(Balance!BR96=0,\"-\",ROUND((Balance!BR96/SUM(Balance!BR$102))*100,1))","v":2},{"$f":"IF(Balance!BS96=0,\"-\",ROUND((Balance!BS96/SUM(Balance!BS$102))*100,1))","v":1.6},{"$f":"IF(Balance!BT96=0,\"-\",ROUND((Balance!BT96/SUM(Balance!BT$102))*100,1))","v":1.3},{"$f":"IF(Balance!BU96=0,\"-\",ROUND((Balance!BU96/SUM(Balance!BU$102))*100,1))","v":0.6},{"$f":"IF(Balance!BV96=0,\"-\",ROUND((Balance!BV96/SUM(Balance!BV$102))*100,1))","v":0.6},{"$f":"IF(Balance!BW96=0,\"-\",ROUND((Balance!BW96/SUM(Balance!BW$102))*100,1))","v":0.5},{"$f":"IF(Balance!BX96=0,\"-\",ROUND((Balance!BX96/SUM(Balance!BX$102))*100,1))","v":0.9},{"$f":"IF(Balance!BY96=0,\"-\",ROUND((Balance!BY96/SUM(Balance!BY$102))*100,1))","v":0.5},{"$f":"IF(Balance!BZ96=0,\"-\",ROUND((Balance!BZ96/SUM(Balance!BZ$102))*100,1))","v":1.4},{"$f":"IF(Balance!CA96=0,\"-\",ROUND((Balance!CA96/SUM(Balance!CA$102))*100,1))","v":2.4},{"$f":"IF(Balance!CB96=0,\"-\",ROUND((Balance!CB96/SUM(Balance!CB$102))*100,1))","v":3.1},{"$f":"IF(Balance!CC96=0,\"-\",ROUND((Balance!CC96/SUM(Balance!CC$102))*100,1))","v":3.1},{"$f":"IF(Balance!CD96=0,\"-\",ROUND((Balance!CD96/SUM(Balance!CD$102))*100,1))","v":2.9},{"$f":"IF(Balance!CE96=0,\"-\",ROUND((Balance!CE96/SUM(Balance!CE$102))*100,1))","v":2.2000000000000002},{"$f":"IF(Balance!CF96=0,\"-\",ROUND((Balance!CF96/SUM(Balance!CF$102))*100,1))","v":1.3},{"$f":"IF(Balance!CG96=0,\"-\",ROUND((Balance!CG96/SUM(Balance!CG$102))*100,1))","v":0.9},{"$f":"IF(Balance!CH96=0,\"-\",ROUND((Balance!CH96/SUM(Balance!CH$102))*100,1))","v":0.7},{"$f":"IF(Balance!CI96=0,\"-\",ROUND((Balance!CI96/SUM(Balance!CI$102))*100,1))","v":0.3},{"$f":"IF(Balance!CJ96=0,\"-\",ROUND((Balance!CJ96/SUM(Balance!CJ$102))*100,1))","v":0.5},{"$f":"IF(Balance!CK96=0,\"-\",ROUND((Balance!CK96/SUM(Balance!CK$102))*100,1))","v":1.7},{"$f":"IF(Balance!CL96=0,\"-\",ROUND((Balance!CL96/SUM(Balance!CL$102))*100,1))","v":2.1},{"$f":"IF(Balance!CM96=0,\"-\",ROUND((Balance!CM96/SUM(Balance!CM$102))*100,1))","v":3.4},{"$f":"IF(Balance!CN96=0,\"-\",ROUND((Balance!CN96/SUM(Balance!CN$102))*100,1))","v":3.2},{"$f":"IF(Balance!CO96=0,\"-\",ROUND((Balance!CO96/SUM(Balance!CO$102))*100,1))","v":3.5},{"$f":"IF(Balance!CP96=0,\"-\",ROUND((Balance!CP96/SUM(Balance!CP$102))*100,1))","v":3.8},{"$f":"IF(Balance!CQ96=0,\"-\",ROUND((Balance!CQ96/SUM(Balance!CQ$102))*100,1))","v":1.8},{"$f":"IF(Balance!CR96=0,\"-\",ROUND((Balance!CR96/SUM(Balance!CR$102))*100,1))","v":1.3},{"$f":"IF(Balance!CS96=0,\"-\",ROUND((Balance!CS96/SUM(Balance!CS$102))*100,1))","v":0.4},{"$f":"IF(Balance!CT96=0,\"-\",ROUND((Balance!CT96/SUM(Balance!CT$102))*100,1))","v":0.5},{"$f":"IF(Balance!CU96=0,\"-\",ROUND((Balance!CU96/SUM(Balance!CU$102))*100,1))","v":0.7},{"$f":"IF(Balance!CV96=0,\"-\",ROUND((Balance!CV96/SUM(Balance!CV$102))*100,1))","v":0.8},{"$f":"IF(Balance!CW96=0,\"-\",ROUND((Balance!CW96/SUM(Balance!CW$102))*100,1))","v":1.8},{"$f":"IF(Balance!CX96=0,\"-\",ROUND((Balance!CX96/SUM(Balance!CX$102))*100,1))","v":1.9},{"$f":"IF(Balance!CY96=0,\"-\",ROUND((Balance!CY96/SUM(Balance!CY$102))*100,1))","v":3.3},{"$f":"IF(Balance!CZ96=0,\"-\",ROUND((Balance!CZ96/SUM(Balance!CZ$102))*100,1))","v":3.4},{"$f":"IF(Balance!DA96=0,\"-\",ROUND((Balance!DA96/SUM(Balance!DA$102))*100,1))","v":3.5},{"$f":"IF(Balance!DB96=0,\"-\",ROUND((Balance!DB96/SUM(Balance!DB$102))*100,1))","v":2.7},{"$f":"IF(Balance!DC96=0,\"-\",ROUND((Balance!DC96/SUM(Balance!DC$102))*100,1))","v":2.2999999999999998},{"$f":"IF(Balance!DD96=0,\"-\",ROUND((Balance!DD96/SUM(Balance!DD$102))*100,1))","v":0.9},{"$f":"IF(Balance!DE96=0,\"-\",ROUND((Balance!DE96/SUM(Balance!DE$102))*100,1))","v":1.1000000000000001},{"$f":"IF(Balance!DF96=0,\"-\",ROUND((Balance!DF96/SUM(Balance!DF$102))*100,1))","v":0.4},{"$f":"IF(Balance!DG96=0,\"-\",ROUND((Balance!DG96/SUM(Balance!DG$102))*100,1))","v":0.3},{"$f":"IF(Balance!DH96=0,\"-\",ROUND((Balance!DH96/SUM(Balance!DH$102))*100,1))","v":0.6},{"$f":"IF(Balance!DI96=0,\"-\",ROUND((Balance!DI96/SUM(Balance!DI$102))*100,1))","v":1.7},{"$f":"IF(Balance!DJ96=0,\"-\",ROUND((Balance!DJ96/SUM(Balance!DJ$102))*100,1))","v":1.9},{"$f":"IF(Balance!DK96=0,\"-\",ROUND((Balance!DK96/SUM(Balance!DK$102))*100,1))","v":2.4},{"$f":"IF(Balance!DL96=0,\"-\",ROUND((Balance!DL96/SUM(Balance!DL$102))*100,1))","v":3.9},{"$f":"IF(Balance!DM96=0,\"-\",ROUND((Balance!DM96/SUM(Balance!DM$102))*100,1))","v":3.6},{"$f":"IF(Balance!DN96=0,\"-\",ROUND((Balance!DN96/SUM(Balance!DN$102))*100,1))","v":3.7},{"$f":"IF(Balance!DO96=0,\"-\",ROUND((Balance!DO96/SUM(Balance!DO$102))*100,1))","v":2.8},{"$f":"IF(Balance!DP96=0,\"-\",ROUND((Balance!DP96/SUM(Balance!DP$102))*100,1))","v":1.3},{"$f":"IF(Balance!DQ96=0,\"-\",ROUND((Balance!DQ96/SUM(Balance!DQ$102))*100,1))","v":0.6},{"$f":"IF(Balance!DR96=0,\"-\",ROUND((Balance!DR96/SUM(Balance!DR$102))*100,1))","v":0.5},{"$f":"IF(Balance!DS96=0,\"-\",ROUND((Balance!DS96/SUM(Balance!DS$102))*100,1))","v":0.6},{"$f":"IF(Balance!DT96=0,\"-\",ROUND((Balance!DT96/SUM(Balance!DT$102))*100,1))","v":0.4},{"$f":"IF(Balance!DU96=0,\"-\",ROUND((Balance!DU96/SUM(Balance!DU$102))*100,1))","v":1.6},{"$f":"IF(Balance!DV96=0,\"-\",ROUND((Balance!DV96/SUM(Balance!DV$102))*100,1))","v":2.8},{"$f":"IF(Balance!DW96=0,\"-\",ROUND((Balance!DW96/SUM(Balance!DW$102))*100,1))","v":3},{"$f":"IF(Balance!DX96=0,\"-\",ROUND((Balance!DX96/SUM(Balance!DX$102))*100,1))","v":3.4},{"$f":"IF(Balance!DY96=0,\"-\",ROUND((Balance!DY96/SUM(Balance!DY$102))*100,1))","v":3.6},{"$f":"IF(Balance!DZ96=0,\"-\",ROUND((Balance!DZ96/SUM(Balance!DZ$102))*100,1))","v":3.2},{"$f":"IF(Balance!EA96=0,\"-\",ROUND((Balance!EA96/SUM(Balance!EA$102))*100,1))","v":3},{"$f":"IF(Balance!EB96=0,\"-\",ROUND((Balance!EB96/SUM(Balance!EB$102))*100,1))","v":1.9},{"$f":"IF(Balance!EC96=0,\"-\",ROUND((Balance!EC96/SUM(Balance!EC$102))*100,1))","v":1},{"$f":"IF(Balance!ED96=0,\"-\",ROUND((Balance!ED96/SUM(Balance!ED$102))*100,1))","v":0.5},{"$f":"IF(Balance!EE96=0,\"-\",ROUND((Balance!EE96/SUM(Balance!EE$102))*100,1))","v":0.6},"-","-","-","-","-","-","-","-","-","-","-"]
[null,"Térmica renovable/Otras renovables",{"$f":"IF(Balance!C97=0,\"-\",ROUND((Balance!C97/SUM(Balance!C$102))*100,1))","v":0.8},{"$f":"IF(Balance!D97=0,\"-\",ROUND((Balance!D97/SUM(Balance!D$102))*100,1))","v":0.8},{"$f":"IF(Balance!E97=0,\"-\",ROUND((Balance!E97/SUM(Balance!E$102))*100,1))","v":0.8},{"$f":"IF(Balance!F97=0,\"-\",ROUND((Balance!F97/SUM(Balance!F$102))*100,1))","v":0.9},{"$f":"IF(Balance!G97=0,\"-\",ROUND((Balance!G97/SUM(Balance!G$102))*100,1))","v":0.9},{"$f":"IF(Balance!H97=0,\"-\",ROUND((Balance!H97/SUM(Balance!H$102))*100,1))","v":0.9},{"$f":"IF(Balance!I97=0,\"-\",ROUND((Balance!I97/SUM(Balance!I$102))*100,1))","v":0.9},{"$f":"IF(Balance!J97=0,\"-\",ROUND((Balance!J97/SUM(Balance!J$102))*100,1))","v":1},{"$f":"IF(Balance!K97=0,\"-\",ROUND((Balance!K97/SUM(Balance!K$102))*100,1))","v":0.9},{"$f":"IF(Balance!L97=0,\"-\",ROUND((Balance!L97/SUM(Balance!L$102))*100,1))","v":1},{"$f":"IF(Balance!M97=0,\"-\",ROUND((Balance!M97/SUM(Balance!M$102))*100,1))","v":0.9},{"$f":"IF(Balance!N97=0,\"-\",ROUND((Balance!N97/SUM(Balance!N$102))*100,1))","v":0.9},{"$f":"IF(Balance!O97=0,\"-\",ROUND((Balance!O97/SUM(Balance!O$102))*100,1))","v":0.9},{"$f":"IF(Balance!P97=0,\"-\",ROUND((Balance!P97/SUM(Balance!P$102))*100,1))","v":0.9},{"$f":"IF(Balance!Q97=0,\"-\",ROUND((Balance!Q97/SUM(Balance!Q$102))*100,1))","v":1},{"$f":"IF(Balance!R97=0,\"-\",ROUND((Balance!R97/SUM(Balance!R$102))*100,1))","v":1},{"$f":"IF(Balance!S97=0,\"-\",ROUND((Balance!S97/SUM(Balance!S$102))*100,1))","v":1},{"$f":"IF(Balance!T97=0,\"-\",ROUND((Balance!T97/SUM(Balance!T$102))*100,1))","v":1},{"$f":"IF(Balance!U97=0,\"-\",ROUND((Balance!U97/SUM(Balance!U$102))*100,1))","v":0.9},{"$f":"IF(Balance!V97=0,\"-\",ROUND((Balance!V97/SUM(Balance!V$102))*100,1))","v":1},{"$f":"IF(Balance!W97=0,\"-\",ROUND((Balance!W97/SUM(Balance!W$102))*100,1))","v":1},{"$f":"IF(Balance!X97=0,\"-\",ROUND((Balance!X97/SUM(Balance!X$102))*100,1))","v":1},{"$f":"IF(Balance!Y97=0,\"-\",ROUND((Balance!Y97/SUM(Balance!Y$102))*100,1))","v":1},{"$f":"IF(Balance!Z97=0,\"-\",ROUND((Balance!Z97/SUM(Balance!Z$102))*100,1))","v":1},{"$f":"IF(Balance!AA97=0,\"-\",ROUND((Balance!AA97/SUM(Balance!AA$102))*100,1))","v":1},{"$f":"IF(Balance!AB97=0,\"-\",ROUND((Balance!AB97/SUM(Balance!AB$102))*100,1))","v":1.1000000000000001},{"$f":"IF(Balance!AC97=0,\"-\",ROUND((Balance!AC97/SUM(Balance!AC$102))*100,1))","v":1.2},{"$f":"IF(Balance!AD97=0,\"-\",ROUND((Balance!AD97/SUM(Balance!AD$102))*100,1))","v":1.4},{"$f":"IF(Balance!AE97=0,\"-\",ROUND((Balance!AE97/SUM(Balance!AE$102))*100,1))","v":1.3},{"$f":"IF(Balance!AF97=0,\"-\",ROUND((Balance!AF97/SUM(Balance!AF$102))*100,1))","v":1.1000000000000001},{"$f":"IF(Balance!AG97=0,\"-\",ROUND((Balance!AG97/SUM(Balance!AG$102))*100,1))","v":1},{"$f":"IF(Balance!AH97=0,\"-\",ROUND((Balance!AH97/SUM(Balance!AH$102))*100,1))","v":1.1000000000000001},{"$f":"IF(Balance!AI97=0,\"-\",ROUND((Balance!AI97/SUM(Balance!AI$102))*100,1))","v":1.3},{"$f":"IF(Balance!AJ97=0,\"-\",ROUND((Balance!AJ97/SUM(Balance!AJ$102))*100,1))","v":1.5},{"$f":"IF(Balance!AK97=0,\"-\",ROUND((Balance!AK97/SUM(Balance!AK$102))*100,1))","v":1.2},{"$f":"IF(Balance!AL97=0,\"-\",ROUND((Balance!AL97/SUM(Balance!AL$102))*100,1))","v":1.1000000000000001},{"$f":"IF(Balance!AM97=0,\"-\",ROUND((Balance!AM97/SUM(Balance!AM$102))*100,1))","v":1.1000000000000001},{"$f":"IF(Balance!AN97=0,\"-\",ROUND((Balance!AN97/SUM(Balance!AN$102))*100,1))","v":1},{"$f":"IF(Balance!AO97=0,\"-\",ROUND((Balance!AO97/SUM(Balance!AO$102))*100,1))","v":1},{"$f":"IF(Balance!AP97=0,\"-\",ROUND((Balance!AP97/SUM(Balance!AP$102))*100,1))","v":1.3},{"$f":"IF(Balance!AQ97=0,\"-\",ROUND((Balance!AQ97/SUM(Balance!AQ$102))*100,1))","v":1.3},{"$f":"IF(Balance!AR97=0,\"-\",ROUND((Balance!AR97/SUM(Balance!AR$102))*100,1))","v":1.3},{"$f":"IF(Balance!AS97=0,\"-\",ROUND((Balance!AS97/SUM(Balance!AS$102))*100,1))","v":1.1000000000000001},{"$f":"IF(Balance!AT97=0,\"-\",ROUND((Balance!AT97/SUM(Balance!AT$102))*100,1))","v":1.2},{"$f":"IF(Balance!AU97=0,\"-\",ROUND((Balance!AU97/SUM(Balance!AU$102))*100,1))","v":1.2},{"$f":"IF(Balance!AV97=0,\"-\",ROUND((Balance!AV97/SUM(Balance!AV$102))*100,1))","v":1.2},{"$f":"IF(Balance!AW97=0,\"-\",ROUND((Balance!AW97/SUM(Balance!AW$102))*100,1))","v":1.1000000000000001},{"$f":"IF(Balance!AX97=0,\"-\",ROUND((Balance!AX97/SUM(Balance!AX$102))*100,1))","v":1.2},{"$f":"IF(Balance!AY97=0,\"-\",ROUND((Balance!AY97/SUM(Balance!AY$102))*100,1))","v":1.4},{"$f":"IF(Balance!AZ97=0,\"-\",ROUND((Balance!AZ97/SUM(Balance!AZ$102))*100,1))","v":1.4},{"$f":"IF(Balance!BA97=0,\"-\",ROUND((Balance!BA97/SUM(Balance!BA$102))*100,1))","v":1.4},{"$f":"IF(Balance!BB97=0,\"-\",ROUND((Balance!BB97/SUM(Balance!BB$102))*100,1))","v":1.6},{"$f":"IF(Balance!BC97=0,\"-\",ROUND((Balance!BC97/SUM(Balance!BC$102))*100,1))","v":1.5},{"$f":"IF(Balance!BD97=0,\"-\",ROUND((Balance!BD97/SUM(Balance!BD$102))*100,1))","v":1.5},{"$f":"IF(Balance!BE97=0,\"-\",ROUND((Balance!BE97/SUM(Balance!BE$102))*100,1))","v":1.5},{"$f":"IF(Balance!BF97=0,\"-\",ROUND((Balance!BF97/SUM(Balance!BF$102))*100,1))","v":1.5},{"$f":"IF(Balance!BG97=0,\"-\",ROUND((Balance!BG97/SUM(Balance!BG$102))*100,1))","v":1.6},{"$f":"IF(Balance!BH97=0,\"-\",ROUND((Balance!BH97/SUM(Balance!BH$102))*100,1))","v":1.7},{"$f":"IF(Balance!BI97=0,\"-\",ROUND((Balance!BI97/SUM(Balance!BI$102))*100,1))","v":1.7},{"$f":"IF(Balance!BJ97=0,\"-\",ROUND((Balance!BJ97/SUM(Balance!BJ$102))*100,1))","v":1.6},{"$f":"IF(Balance!BK97=0,\"-\",ROUND((Balance!BK97/SUM(Balance!BK$102))*100,1))","v":1.6},{"$f":"IF(Balance!BL97=0,\"-\",ROUND((Balance!BL97/SUM(Balance!BL$102))*100,1))","v":1.4},{"$f":"IF(Balance!BM97=0,\"-\",ROUND((Balance!BM97/SUM(Balance!BM$102))*100,1))","v":1.7},{"$f":"IF(Balance!BN97=0,\"-\",ROUND((Balance!BN97/SUM(Balance!BN$102))*100,1))","v":1.7},{"$f":"IF(Balance!BO97=0,\"-\",ROUND((Balance!BO97/SUM(Balance!BO$102))*100,1))","v":1.6},{"$f":"IF(Balance!BP97=0,\"-\",ROUND((Balance!BP97/SUM(Balance!BP$102))*100,1))","v":1.8},{"$f":"IF(Balance!BQ97=0,\"-\",ROUND((Balance!BQ97/SUM(Balance!BQ$102))*100,1))","v":1.8},{"$f":"IF(Balance!BR97=0,\"-\",ROUND((Balance!BR97/SUM(Balance!BR$102))*100,1))","v":1.7},{"$f":"IF(Balance!BS97=0,\"-\",ROUND((Balance!BS97/SUM(Balance!BS$102))*100,1))","v":1.7},{"$f":"IF(Balance!BT97=0,\"-\",ROUND((Balance!BT97/SUM(Balance!BT$102))*100,1))","v":1.8},{"$f":"IF(Balance!BU97=0,\"-\",ROUND((Balance!BU97/SUM(Balance!BU$102))*100,1))","v":1.8},{"$f":"IF(Balance!BV97=0,\"-\",ROUND((Balance!BV97/SUM(Balance!BV$102))*100,1))","v":1.8},{"$f":"IF(Balance!BW97=0,\"-\",ROUND((Balance!BW97/SUM(Balance!BW$102))*100,1))","v":1.8},{"$f":"IF(Balance!BX97=0,\"-\",ROUND((Balance!BX97/SUM(Balance!BX$102))*100,1))","v":1.8},{"$f":"IF(Balance!BY97=0,\"-\",ROUND((Balance!BY97/SUM(Balance!BY$102))*100,1))","v":1.9},{"$f":"IF(Balance!BZ97=0,\"-\",ROUND((Balance!BZ97/SUM(Balance!BZ$102))*100,1))","v":1.9},{"$f":"IF(Balance!CA97=0,\"-\",ROUND((Balance!CA97/SUM(Balance!CA$102))*100,1))","v":2.1},{"$f":"IF(Balance!CB97=0,\"-\",ROUND((Balance!CB97/SUM(Balance!CB$102))*100,1))","v":1.9},{"$f":"IF(Balance!CC97=0,\"-\",ROUND((Balance!CC97/SUM(Balance!CC$102))*100,1))","v":1.8},{"$f":"IF(Balance!CD97=0,\"-\",ROUND((Balance!CD97/SUM(Balance!CD$102))*100,1))","v":1.8},{"$f":"IF(Balance!CE97=0,\"-\",ROUND((Balance!CE97/SUM(Balance!CE$102))*100,1))","v":1.8},{"$f":"IF(Balance!CF97=0,\"-\",ROUND((Balance!CF97/SUM(Balance!CF$102))*100,1))","v":1.8},{"$f":"IF(Balance!CG97=0,\"-\",ROUND((Balance!CG97/SUM(Balance!CG$102))*100,1))","v":1.8},{"$f":"IF(Balance!CH97=0,\"-\",ROUND((Balance!CH97/SUM(Balance!CH$102))*100,1))","v":1.9},{"$f":"IF(Balance!CI97=0,\"-\",ROUND((Balance!CI97/SUM(Balance!CI$102))*100,1))","v":1.8},{"$f":"IF(Balance!CJ97=0,\"-\",ROUND((Balance!CJ97/SUM(Balance!CJ$102))*100,1))","v":1.5},{"$f":"IF(Balance!CK97=0,\"-\",ROUND((Balance!CK97/SUM(Balance!CK$102))*100,1))","v":1.6},{"$f":"IF(Balance!CL97=0,\"-\",ROUND((Balance!CL97/SUM(Balance!CL$102))*100,1))","v":1.6},{"$f":"IF(Balance!CM97=0,\"-\",ROUND((Balance!CM97/SUM(Balance!CM$102))*100,1))","v":1.9},{"$f":"IF(Balance!CN97=0,\"-\",ROUND((Balance!CN97/SUM(Balance!CN$102))*100,1))","v":1.9},{"$f":"IF(Balance!CO97=0,\"-\",ROUND((Balance!CO97/SUM(Balance!CO$102))*100,1))","v":1.8},{"$f":"IF(Balance!CP97=0,\"-\",ROUND((Balance!CP97/SUM(Balance!CP$102))*100,1))","v":2},{"$f":"IF(Balance!CQ97=0,\"-\",ROUND((Balance!CQ97/SUM(Balance!CQ$102))*100,1))","v":1.9},{"$f":"IF(Balance!CR97=0,\"-\",ROUND((Balance!CR97/SUM(Balance!CR$102))*100,1))","v":1.8},{"$f":"IF(Balance!CS97=0,\"-\",ROUND((Balance!CS97/SUM(Balance!CS$102))*100,1))","v":1.8},{"$f":"IF(Balance!CT97=0,\"-\",ROUND((Balance!CT97/SUM(Balance!CT$102))*100,1))","v":1.7},{"$f":"IF(Balance!CU97=0,\"-\",ROUND((Balance!CU97/SUM(Balance!CU$102))*100,1))","v":1},{"$f":"IF(Balance!CV97=0,\"-\",ROUND((Balance!CV97/SUM(Balance!CV$102))*100,1))","v":0.9},{"$f":"IF(Balance!CW97=0,\"-\",ROUND((Balance!CW97/SUM(Balance!CW$102))*100,1))","v":1},{"$f":"IF(Balance!CX97=0,\"-\",ROUND((Balance!CX97/SUM(Balance!CX$102))*100,1))","v":0.9},{"$f":"IF(Balance!CY97=0,\"-\",ROUND((Balance!CY97/SUM(Balance!CY$102))*100,1))","v":1.1000000000000001},{"$f":"IF(Balance!CZ97=0,\"-\",ROUND((Balance!CZ97/SUM(Balance!CZ$102))*100,1))","v":1.3},{"$f":"IF(Balance!DA97=0,\"-\",ROUND((Balance!DA97/SUM(Balance!DA$102))*100,1))","v":1.2},{"$f":"IF(Balance!DB97=0,\"-\",ROUND((Balance!DB97/SUM(Balance!DB$102))*100,1))","v":1.4},{"$f":"IF(Balance!DC97=0,\"-\",ROUND((Balance!DC97/SUM(Balance!DC$102))*100,1))","v":1.4},{"$f":"IF(Balance!DD97=0,\"-\",ROUND((Balance!DD97/SUM(Balance!DD$102))*100,1))","v":1.5},{"$f":"IF(Balance!DE97=0,\"-\",ROUND((Balance!DE97/SUM(Balance!DE$102))*100,1))","v":1.5},{"$f":"IF(Balance!DF97=0,\"-\",ROUND((Balance!DF97/SUM(Balance!DF$102))*100,1))","v":1.3},{"$f":"IF(Balance!DG97=0,\"-\",ROUND((Balance!DG97/SUM(Balance!DG$102))*100,1))","v":1.2},{"$f":"IF(Balance!DH97=0,\"-\",ROUND((Balance!DH97/SUM(Balance!DH$102))*100,1))","v":1.2},{"$f":"IF(Balance!DI97=0,\"-\",ROUND((Balance!DI97/SUM(Balance!DI$102))*100,1))","v":1.1000000000000001},{"$f":"IF(Balance!DJ97=0,\"-\",ROUND((Balance!DJ97/SUM(Balance!DJ$102))*100,1))","v":1},{"$f":"IF(Balance!DK97=0,\"-\",ROUND((Balance!DK97/SUM(Balance!DK$102))*100,1))","v":1.3},{"$f":"IF(Balance!DL97=0,\"-\",ROUND((Balance!DL97/SUM(Balance!DL$102))*100,1))","v":1.4},{"$f":"IF(Balance!DM97=0,\"-\",ROUND((Balance!DM97/SUM(Balance!DM$102))*100,1))","v":1.4},{"$f":"IF(Balance!DN97=0,\"-\",ROUND((Balance!DN97/SUM(Balance!DN$102))*100,1))","v":1.5},{"$f":"IF(Balance!DO97=0,\"-\",ROUND((Balance!DO97/SUM(Balance!DO$102))*100,1))","v":1.5},{"$f":"IF(Balance!DP97=0,\"-\",ROUND((Balance!DP97/SUM(Balance!DP$102))*100,1))","v":1.4},{"$f":"IF(Balance!DQ97=0,\"-\",ROUND((Balance!DQ97/SUM(Balance!DQ$102))*100,1))","v":1.4},{"$f":"IF(Balance!DR97=0,\"-\",ROUND((Balance!DR97/SUM(Balance!DR$102))*100,1))","v":1.4},{"$f":"IF(Balance!DS97=0,\"-\",ROUND((Balance!DS97/SUM(Balance!DS$102))*100,1))","v":1.3},{"$f":"IF(Balance!DT97=0,\"-\",ROUND((Balance!DT97/SUM(Balance!DT$102))*100,1))","v":1.4},{"$f":"IF(Balance!DU97=0,\"-\",ROUND((Balance!DU97/SUM(Balance!DU$102))*100,1))","v":1.3},{"$f":"IF(Balance!DV97=0,\"-\",ROUND((Balance!DV97/SUM(Balance!DV$102))*100,1))","v":1.2},{"$f":"IF(Balance!DW97=0,\"-\",ROUND((Balance!DW97/SUM(Balance!DW$102))*100,1))","v":1.5},{"$f":"IF(Balance!DX97=0,\"-\",ROUND((Balance!DX97/SUM(Balance!DX$102))*100,1))","v":1.4},{"$f":"IF(Balance!DY97=0,\"-\",ROUND((Balance!DY97/SUM(Balance!DY$102))*100,1))","v":1.5},{"$f":"IF(Balance!DZ97=0,\"-\",ROUND((Balance!DZ97/SUM(Balance!DZ$102))*100,1))","v":1.5},{"$f":"IF(Balance!EA97=0,\"-\",ROUND((Balance!EA97/SUM(Balance!EA$102))*100,1))","v":1.5},{"$f":"IF(Balance!EB97=0,\"-\",ROUND((Balance!EB97/SUM(Balance!EB$102))*100,1))","v":1.4},{"$f":"IF(Balance!EC97=0,\"-\",ROUND((Balance!EC97/SUM(Balance!EC$102))*100,1))","v":1.4},{"$f":"IF(Balance!ED97=0,\"-\",ROUND((Balance!ED97/SUM(Balance!ED$102))*100,1))","v":1.3},{"$f":"IF(Balance!EE97=0,\"-\",ROUND((Balance!EE97/SUM(Balance!EE$102))*100,1))","v":1.3},"-","-","-","-","-","-","-","-","-","-","-"]
[null,"Térmica no renovable/Cogeneración y resto/Cogeneración",{"$f":"100-SUM(C66:C76,C78:C79)","v":7.8999999999999915},{"$f":"100-SUM(D66:D76,D78:D79)","v":7.7000000000000171},7.7000000000000171,8.5000000000000142,7.9999999999999858,8.1999999999999886,8.0999999999999943,8,8.2999999999999972,9.0000000000000142,8.3999999999999915,8.1999999999999886,8.5999999999999801,8.9999999999999858,9.0999999999999943,9.3000000000000114,9.3000000000000114,8.7999999999999972,8.5999999999999943,8.2999999999999972,9.0999999999999943,9.9000000000000057,9.4000000000000057,9,9.2999999999999972,9.9000000000000057,10.700000000000003,11.099999999999994,11,10.200000000000017,9.5999999999999943,8.5,10.200000000000017,10.900000000000006,11.100000000000009,10.5,10.300000000000011,10.400000000000006,10.399999999999991,11.399999999999991,11.600000000000009,11.300000000000011,10.299999999999997,9,11,11.5,11.300000000000011,10.900000000000006,10.799999999999997,11.299999999999983,11.599999999999994,12.600000000000009,12.599999999999994,11.600000000000009,11,9.5999999999999943,11.400000000000006,12.5,12.100000000000009,11.799999999999997,11.5,10.799999999999997,12.299999999999983,12.700000000000003,12.600000000000009,{"$f":"100-SUM(BP66:BP76,BP78:BP79)","v":11.700000000000017},11.599999999999994,9.8000000000000114,12.200000000000003,12.90000000000002,12.700000000000017,12.099999999999994,12.099999999999994,11.799999999999997,12.099999999999994,12.799999999999997,13.200000000000003,12.599999999999994,11.000000000000014,9.4999999999999858,11.700000000000003,12,11.599999999999994,11.399999999999991,11.200000000000017,8.8999999999999915,8.2999999999999972,8.3000000000000256,9.8999999999999915,10.399999999999977,9.7000000000000171,9.7000000000000028,10.199999999999989,10.700000000000003,9.8000000000000114,9.5999999999999943,9.0000000000000142,8.4000000000000057,9.0999999999999943,9.7999999999999972,10.000000000000014,9.5000000000000142,8.5999999999999943,8.8999999999999915,9.9999999999999858,10.5,10.299999999999997,10.299999999999997,9.3000000000000114,9.0999999999999943,8.9000000000000057,9.1999999999999886,10.399999999999977,10.699999999999989,9.8999999999999915,9.6000000000000085,10,10.700000000000003,10.500000000000014,10.699999999999974,9.5999999999999943,10.599999999999994,11.400000000000006,11.600000000000009,11.5,10.499999999999972,10.5,10.199999999999989,11.200000000000003,{"$f":"100-SUM(EB66:EB76,EB78:EB79)","v":11.099999999999994},10.599999999999994,10.200000000000017,{"$f":"100-SUM(EE66:EE76,EE78:EE79)","v":11.100000000000009},"-","-","-","-","-","-","-","-","-","-","-"]
[null,"Residuos no renovables",{"$f":"IF(Balance!C99=\"-\",\"-\",ROUND((Balance!C99/SUM(Balance!C$102))*100,1))","v":"-"},{"$f":"IF(Balance!D99=\"-\",\"-\",ROUND((Balance!D99/SUM(Balance!D$102))*100,1))","v":"-"},{"$f":"IF(Balance!E99=\"-\",\"-\",ROUND((Balance!E99/SUM(Balance!E$102))*100,1))","v":"-"},{"$f":"IF(Balance!F99=\"-\",\"-\",ROUND((Balance!F99/SUM(Balance!F$102))*100,1))","v":"-"},{"$f":"IF(Balance!G99=\"-\",\"-\",ROUND((Balance!G99/SUM(Balance!G$102))*100,1))","v":"-"},{"$f":"IF(Balance!H99=\"-\",\"-\",ROUND((Balance!H99/SUM(Balance!H$102))*100,1))","v":"-"},{"$f":"IF(Balance!I99=\"-\",\"-\",ROUND((Balance!I99/SUM(Balance!I$102))*100,1))","v":"-"},{"$f":"IF(Balance!J99=\"-\",\"-\",ROUND((Balance!J99/SUM(Balance!J$102))*100,1))","v":"-"},{"$f":"IF(Balance!K99=\"-\",\"-\",ROUND((Balance!K99/SUM(Balance!K$102))*100,1))","v":"-"},{"$f":"IF(Balance!L99=\"-\",\"-\",ROUND((Balance!L99/SUM(Balance!L$102))*100,1))","v":"-"},{"$f":"IF(Balance!M99=\"-\",\"-\",ROUND((Balance!M99/SUM(Balance!M$102))*100,1))","v":"-"},{"$f":"IF(Balance!N99=\"-\",\"-\",ROUND((Balance!N99/SUM(Balance!N$102))*100,1))","v":"-"},{"$f":"IF(Balance!O99=\"-\",\"-\",ROUND((Balance!O99/SUM(Balance!O$102))*100,1))","v":"-"},{"$f":"IF(Balance!P99=\"-\",\"-\",ROUND((Balance!P99/SUM(Balance!P$102))*100,1))","v":"-"},{"$f":"IF(Balance!Q99=\"-\",\"-\",ROUND((Balance!Q99/SUM(Balance!Q$102))*100,1))","v":"-"},{"$f":"IF(Balance!R99=\"-\",\"-\",ROUND((Balance!R99/SUM(Balance!R$102))*100,1))","v":"-"},{"$f":"IF(Balance!S99=\"-\",\"-\",ROUND((Balance!S99/SUM(Balance!S$102))*100,1))","v":"-"},{"$f":"IF(Balance!T99=\"-\",\"-\",ROUND((Balance!T99/SUM(Balance!T$102))*100,1))","v":"-"},{"$f":"IF(Balance!U99=\"-\",\"-\",ROUND((Balance!U99/SUM(Balance!U$102))*100,1))","v":"-"},{"$f":"IF(Balance!V99=\"-\",\"-\",ROUND((Balance!V99/SUM(Balance!V$102))*100,1))","v":"-"},{"$f":"IF(Balance!W99=\"-\",\"-\",ROUND((Balance!W99/SUM(Balance!W$102))*100,1))","v":"-"},{"$f":"IF(Balance!X99=\"-\",\"-\",ROUND((Balance!X99/SUM(Balance!X$102))*100,1))","v":"-"},{"$f":"IF(Balance!Y99=\"-\",\"-\",ROUND((Balance!Y99/SUM(Balance!Y$102))*100,1))","v":"-"},{"$f":"IF(Balance!Z99=\"-\",\"-\",ROUND((Balance!Z99/SUM(Balance!Z$102))*100,1))","v":"-"},{"$f":"IF(Balance!AA99=\"-\",\"-\",ROUND((Balance!AA99/SUM(Balance!AA$102))*100,1))","v":"-"},{"$f":"IF(Balance!AB99=\"-\",\"-\",ROUND((Balance!AB99/SUM(Balance!AB$102))*100,1))","v":"-"},{"$f":"IF(Balance!AC99=\"-\",\"-\",ROUND((Balance!AC99/SUM(Balance!AC$102))*100,1))","v":"-"},{"$f":"IF(Balance!AD99=\"-\",\"-\",ROUND((Balance!AD99/SUM(Balance!AD$102))*100,1))","v":"-"},{"$f":"IF(Balance!AE99=\"-\",\"-\",ROUND((Balance!AE99/SUM(Balance!AE$102))*100,1))","v":"-"},{"$f":"IF(Balance!AF99=\"-\",\"-\",ROUND((Balance!AF99/SUM(Balance!AF$102))*100,1))","v":"-"},{"$f":"IF(Balance!AG99=\"-\",\"-\",ROUND((Balance!AG99/SUM(Balance!AG$102))*100,1))","v":"-"},{"$f":"IF(Balance!AH99=\"-\",\"-\",ROUND((Balance!AH99/SUM(Balance!AH$102))*100,1))","v":"-"},{"$f":"IF(Balance!AI99=\"-\",\"-\",ROUND((Balance!AI99/SUM(Balance!AI$102))*100,1))","v":"-"},{"$f":"IF(Balance!AJ99=\"-\",\"-\",ROUND((Balance!AJ99/SUM(Balance!AJ$102))*100,1))","v":"-"},{"$f":"IF(Balance!AK99=\"-\",\"-\",ROUND((Balance!AK99/SUM(Balance!AK$102))*100,1))","v":"-"},{"$f":"IF(Balance!AL99=\"-\",\"-\",ROUND((Balance!AL99/SUM(Balance!AL$102))*100,1))","v":"-"},{"$f":"IF(Balance!AM99=\"-\",\"-\",ROUND((Balance!AM99/SUM(Balance!AM$102))*100,1))","v":"-"},{"$f":"IF(Balance!AN99=\"-\",\"-\",ROUND((Balance!AN99/SUM(Balance!AN$102))*100,1))","v":"-"},{"$f":"IF(Balance!AO99=\"-\",\"-\",ROUND((Balance!AO99/SUM(Balance!AO$102))*100,1))","v":"-"},{"$f":"IF(Balance!AP99=\"-\",\"-\",ROUND((Balance!AP99/SUM(Balance!AP$102))*100,1))","v":"-"},{"$f":"IF(Balance!AQ99=\"-\",\"-\",ROUND((Balance!AQ99/SUM(Balance!AQ$102))*100,1))","v":"-"},{"$f":"IF(Balance!AR99=\"-\",\"-\",ROUND((Balance!AR99/SUM(Balance!AR$102))*100,1))","v":"-"},{"$f":"IF(Balance!AS99=\"-\",\"-\",ROUND((Balance!AS99/SUM(Balance!AS$102))*100,1))","v":"-"},{"$f":"IF(Balance!AT99=\"-\",\"-\",ROUND((Balance!AT99/SUM(Balance!AT$102))*100,1))","v":"-"},{"$f":"IF(Balance!AU99=\"-\",\"-\",ROUND((Balance!AU99/SUM(Balance!AU$102))*100,1))","v":"-"},{"$f":"IF(Balance!AV99=\"-\",\"-\",ROUND((Balance!AV99/SUM(Balance!AV$102))*100,1))","v":"-"},{"$f":"IF(Balance!AW99=\"-\",\"-\",ROUND((Balance!AW99/SUM(Balance!AW$102))*100,1))","v":"-"},{"$f":"IF(Balance!AX99=\"-\",\"-\",ROUND((Balance!AX99/SUM(Balance!AX$102))*100,1))","v":"-"},{"$f":"IF(Balance!AY99=\"-\",\"-\",ROUND((Balance!AY99/SUM(Balance!AY$102))*100,1))","v":"-"},{"$f":"IF(Balance!AZ99=\"-\",\"-\",ROUND((Balance!AZ99/SUM(Balance!AZ$102))*100,1))","v":"-"},{"$f":"IF(Balance!BA99=\"-\",\"-\",ROUND((Balance!BA99/SUM(Balance!BA$102))*100,1))","v":"-"},{"$f":"IF(Balance!BB99=\"-\",\"-\",ROUND((Balance!BB99/SUM(Balance!BB$102))*100,1))","v":"-"},{"$f":"IF(Balance!BC99=\"-\",\"-\",ROUND((Balance!BC99/SUM(Balance!BC$102))*100,1))","v":"-"},{"$f":"IF(Balance!BD99=\"-\",\"-\",ROUND((Balance!BD99/SUM(Balance!BD$102))*100,1))","v":"-"},{"$f":"IF(Balance!BE99=\"-\",\"-\",ROUND((Balance!BE99/SUM(Balance!BE$102))*100,1))","v":"-"},{"$f":"IF(Balance!BF99=\"-\",\"-\",ROUND((Balance!BF99/SUM(Balance!BF$102))*100,1))","v":"-"},{"$f":"IF(Balance!BG99=\"-\",\"-\",ROUND((Balance!BG99/SUM(Balance!BG$102))*100,1))","v":"-"},{"$f":"IF(Balance!BH99=\"-\",\"-\",ROUND((Balance!BH99/SUM(Balance!BH$102))*100,1))","v":"-"},{"$f":"IF(Balance!BI99=\"-\",\"-\",ROUND((Balance!BI99/SUM(Balance!BI$102))*100,1))","v":"-"},{"$f":"IF(Balance!BJ99=\"-\",\"-\",ROUND((Balance!BJ99/SUM(Balance!BJ$102))*100,1))","v":"-"},{"$f":"IF(Balance!BK99=\"-\",\"-\",ROUND((Balance!BK99/SUM(Balance!BK$102))*100,1))","v":"-"},{"$f":"IF(Balance!BL99=\"-\",\"-\",ROUND((Balance!BL99/SUM(Balance!BL$102))*100,1))","v":"-"},{"$f":"IF(Balance!BM99=\"-\",\"-\",ROUND((Balance!BM99/SUM(Balance!BM$102))*100,1))","v":"-"},{"$f":"IF(Balance!BN99=\"-\",\"-\",ROUND((Balance!BN99/SUM(Balance!BN$102))*100,1))","v":"-"},{"$f":"IF(Balance!BO99=\"-\",\"-\",ROUND((Balance!BO99/SUM(Balance!BO$102))*100,1))","v":"-"},{"$f":"IF(Balance!BP99=\"-\",\"-\",ROUND((Balance!BP99/SUM(Balance!BP$102))*100,1))","v":"-"},{"$f":"IF(Balance!BQ99=\"-\",\"-\",ROUND((Balance!BQ99/SUM(Balance!BQ$102))*100,1))","v":"-"},{"$f":"IF(Balance!BR99=\"-\",\"-\",ROUND((Balance!BR99/SUM(Balance!BR$102))*100,1))","v":"-"},{"$f":"IF(Balance!BS99=\"-\",\"-\",ROUND((Balance!BS99/SUM(Balance!BS$102))*100,1))","v":"-"},{"$f":"IF(Balance!BT99=\"-\",\"-\",ROUND((Balance!BT99/SUM(Balance!BT$102))*100,1))","v":"-"},{"$f":"IF(Balance!BU99=\"-\",\"-\",ROUND((Balance!BU99/SUM(Balance!BU$102))*100,1))","v":"-"},{"$f":"IF(Balance!BV99=\"-\",\"-\",ROUND((Balance!BV99/SUM(Balance!BV$102))*100,1))","v":"-"},{"$f":"IF(Balance!BW99=\"-\",\"-\",ROUND((Balance!BW99/SUM(Balance!BW$102))*100,1))","v":"-"},{"$f":"IF(Balance!BX99=\"-\",\"-\",ROUND((Balance!BX99/SUM(Balance!BX$102))*100,1))","v":"-"},{"$f":"IF(Balance!BY99=\"-\",\"-\",ROUND((Balance!BY99/SUM(Balance!BY$102))*100,1))","v":"-"},{"$f":"IF(Balance!BZ99=\"-\",\"-\",ROUND((Balance!BZ99/SUM(Balance!BZ$102))*100,1))","v":"-"},{"$f":"IF(Balance!CA99=\"-\",\"-\",ROUND((Balance!CA99/SUM(Balance!CA$102))*100,1))","v":"-"},{"$f":"IF(Balance!CB99=\"-\",\"-\",ROUND((Balance!CB99/SUM(Balance!CB$102))*100,1))","v":"-"},{"$f":"IF(Balance!CC99=\"-\",\"-\",ROUND((Balance!CC99/SUM(Balance!CC$102))*100,1))","v":"-"},{"$f":"IF(Balance!CD99=\"-\",\"-\",ROUND((Balance!CD99/SUM(Balance!CD$102))*100,1))","v":"-"},{"$f":"IF(Balance!CE99=\"-\",\"-\",ROUND((Balance!CE99/SUM(Balance!CE$102))*100,1))","v":"-"},{"$f":"IF(Balance!CF99=\"-\",\"-\",ROUND((Balance!CF99/SUM(Balance!CF$102))*100,1))","v":"-"},{"$f":"IF(Balance!CG99=\"-\",\"-\",ROUND((Balance!CG99/SUM(Balance!CG$102))*100,1))","v":"-"},{"$f":"IF(Balance!CH99=\"-\",\"-\",ROUND((Balance!CH99/SUM(Balance!CH$102))*100,1))","v":"-"},{"$f":"IF(Balance!CI99=\"-\",\"-\",ROUND((Balance!CI99/SUM(Balance!CI$102))*100,1))","v":"-"},{"$f":"IF(Balance!CJ99=\"-\",\"-\",ROUND((Balance!CJ99/SUM(Balance!CJ$102))*100,1))","v":"-"},{"$f":"IF(Balance!CK99=\"-\",\"-\",ROUND((Balance!CK99/SUM(Balance!CK$102))*100,1))","v":"-"},{"$f":"IF(Balance!CL99=\"-\",\"-\",ROUND((Balance!CL99/SUM(Balance!CL$102))*100,1))","v":"-"},{"$f":"IF(Balance!CM99=\"-\",\"-\",ROUND((Balance!CM99/SUM(Balance!CM$102))*100,1))","v":"-"},{"$f":"IF(Balance!CN99=\"-\",\"-\",ROUND((Balance!CN99/SUM(Balance!CN$102))*100,1))","v":"-"},{"$f":"IF(Balance!CO99=\"-\",\"-\",ROUND((Balance!CO99/SUM(Balance!CO$102))*100,1))","v":"-"},{"$f":"IF(Balance!CP99=\"-\",\"-\",ROUND((Balance!CP99/SUM(Balance!CP$102))*100,1))","v":"-"},{"$f":"IF(Balance!CQ99=\"-\",\"-\",ROUND((Balance!CQ99/SUM(Balance!CQ$102))*100,1))","v":"-"},{"$f":"IF(Balance!CR99=\"-\",\"-\",ROUND((Balance!CR99/SUM(Balance!CR$102))*100,1))","v":"-"},{"$f":"IF(Balance!CS99=\"-\",\"-\",ROUND((Balance!CS99/SUM(Balance!CS$102))*100,1))","v":"-"},{"$f":"IF(Balance!CT99=\"-\",\"-\",ROUND((Balance!CT99/SUM(Balance!CT$102))*100,1))","v":"-"},{"$f":"IF(Balance!CU99=\"-\",\"-\",ROUND((Balance!CU99/SUM(Balance!CU$102))*100,1))","v":0.8},{"$f":"IF(Balance!CV99=\"-\",\"-\",ROUND((Balance!CV99/SUM(Balance!CV$102))*100,1))","v":0.8},{"$f":"IF(Balance!CW99=\"-\",\"-\",ROUND((Balance!CW99/SUM(Balance!CW$102))*100,1))","v":0.9},{"$f":"IF(Balance!CX99=\"-\",\"-\",ROUND((Balance!CX99/SUM(Balance!CX$102))*100,1))","v":0.8},{"$f":"IF(Balance!CY99=\"-\",\"-\",ROUND((Balance!CY99/SUM(Balance!CY$102))*100,1))","v":1},{"$f":"IF(Balance!CZ99=\"-\",\"-\",ROUND((Balance!CZ99/SUM(Balance!CZ$102))*100,1))","v":1},{"$f":"IF(Balance!DA99=\"-\",\"-\",ROUND((Balance!DA99/SUM(Balance!DA$102))*100,1))","v":0.9},{"$f":"IF(Balance!DB99=\"-\",\"-\",ROUND((Balance!DB99/SUM(Balance!DB$102))*100,1))","v":1},{"$f":"IF(Balance!DC99=\"-\",\"-\",ROUND((Balance!DC99/SUM(Balance!DC$102))*100,1))","v":1},{"$f":"IF(Balance!DD99=\"-\",\"-\",ROUND((Balance!DD99/SUM(Balance!DD$102))*100,1))","v":1.1000000000000001},{"$f":"IF(Balance!DE99=\"-\",\"-\",ROUND((Balance!DE99/SUM(Balance!DE$102))*100,1))","v":1},{"$f":"IF(Balance!DF99=\"-\",\"-\",ROUND((Balance!DF99/SUM(Balance!DF$102))*100,1))","v":0.9},{"$f":"IF(Balance!DG99=\"-\",\"-\",ROUND((Balance!DG99/SUM(Balance!DG$102))*100,1))","v":0.9},{"$f":"IF(Balance!DH99=\"-\",\"-\",ROUND((Balance!DH99/SUM(Balance!DH$102))*100,1))","v":0.9},{"$f":"IF(Balance!DI99=\"-\",\"-\",ROUND((Balance!DI99/SUM(Balance!DI$102))*100,1))","v":0.9},{"$f":"IF(Balance!DJ99=\"-\",\"-\",ROUND((Balance!DJ99/SUM(Balance!DJ$102))*100,1))","v":0.9},{"$f":"IF(Balance!DK99=\"-\",\"-\",ROUND((Balance!DK99/SUM(Balance!DK$102))*100,1))","v":0.7},{"$f":"IF(Balance!DL99=\"-\",\"-\",ROUND((Balance!DL99/SUM(Balance!DL$102))*100,1))","v":1},{"$f":"IF(Balance!DM99=\"-\",\"-\",ROUND((Balance!DM99/SUM(Balance!DM$102))*100,1))","v":1.1000000000000001},{"$f":"IF(Balance!DN99=\"-\",\"-\",ROUND((Balance!DN99/SUM(Balance!DN$102))*100,1))","v":1.2},{"$f":"IF(Balance!DO99=\"-\",\"-\",ROUND((Balance!DO99/SUM(Balance!DO$102))*100,1))","v":1.2},{"$f":"IF(Balance!DP99=\"-\",\"-\",ROUND((Balance!DP99/SUM(Balance!DP$102))*100,1))","v":1.1000000000000001},{"$f":"IF(Balance!DQ99=\"-\",\"-\",ROUND((Balance!DQ99/SUM(Balance!DQ$102))*100,1))","v":1},{"$f":"IF(Balance!DR99=\"-\",\"-\",ROUND((Balance!DR99/SUM(Balance!DR$102))*100,1))","v":1},{"$f":"IF(Balance!DS99=\"-\",\"-\",ROUND((Balance!DS99/SUM(Balance!DS$102))*100,1))","v":0.9},{"$f":"IF(Balance!DT99=\"-\",\"-\",ROUND((Balance!DT99/SUM(Balance!DT$102))*100,1))","v":0.9},{"$f":"IF(Balance!DU99=\"-\",\"-\",ROUND((Balance!DU99/SUM(Balance!DU$102))*100,1))","v":1},{"$f":"IF(Balance!DV99=\"-\",\"-\",ROUND((Balance!DV99/SUM(Balance!DV$102))*100,1))","v":1},{"$f":"IF(Balance!DW99=\"-\",\"-\",ROUND((Balance!DW99/SUM(Balance!DW$102))*100,1))","v":0.9},{"$f":"IF(Balance!DX99=\"-\",\"-\",ROUND((Balance!DX99/SUM(Balance!DX$102))*100,1))","v":1},{"$f":"IF(Balance!DY99=\"-\",\"-\",ROUND((Balance!DY99/SUM(Balance!DY$102))*100,1))","v":0.9},{"$f":"IF(Balance!DZ99=\"-\",\"-\",ROUND((Balance!DZ99/SUM(Balance!DZ$102))*100,1))","v":1.1000000000000001},{"$f":"IF(Balance!EA99=\"-\",\"-\",ROUND((Balance!EA99/SUM(Balance!EA$102))*100,1))","v":1.1000000000000001},{"$f":"IF(Balance!EB99=\"-\",\"-\",ROUND((Balance!EB99/SUM(Balance!EB$102))*100,1))","v":1.1000000000000001},{"$f":"IF(Balance!EC99=\"-\",\"-\",ROUND((Balance!EC99/SUM(Balance!EC$102))*100,1))","v":1},{"$f":"IF(Balance!ED99=\"-\",\"-\",ROUND((Balance!ED99/SUM(Balance!ED$102))*100,1))","v":0.9},{"$f":"IF(Balance!EE99=\"-\",\"-\",ROUND((Balance!EE99/SUM(Balance!EE$102))*100,1))","v":1},"-","-","-","-","-","-","-","-","-","-","-"]
[null,"Residuos renovables",{"$f":"IF(Balance!C100=\"-\",\"-\",ROUND((Balance!C100/SUM(Balance!C$102))*100,1))","v":"-"},{"$f":"IF(Balance!D100=\"-\",\"-\",ROUND((Balance!D100/SUM(Balance!D$102))*100,1))","v":"-"},{"$f":"IF(Balance!E100=\"-\",\"-\",ROUND((Balance!E100/SUM(Balance!E$102))*100,1))","v":"-"},{"$f":"IF(Balance!F100=\"-\",\"-\",ROUND((Balance!F100/SUM(Balance!F$102))*100,1))","v":"-"},{"$f":"IF(Balance!G100=\"-\",\"-\",ROUND((Balance!G100/SUM(Balance!G$102))*100,1))","v":"-"},{"$f":"IF(Balance!H100=\"-\",\"-\",ROUND((Balance!H100/SUM(Balance!H$102))*100,1))","v":"-"},{"$f":"IF(Balance!I100=\"-\",\"-\",ROUND((Balance!I100/SUM(Balance!I$102))*100,1))","v":"-"},{"$f":"IF(Balance!J100=\"-\",\"-\",ROUND((Balance!J100/SUM(Balance!J$102))*100,1))","v":"-"},{"$f":"IF(Balance!K100=\"-\",\"-\",ROUND((Balance!K100/SUM(Balance!K$102))*100,1))","v":"-"},{"$f":"IF(Balance!L100=\"-\",\"-\",ROUND((Balance!L100/SUM(Balance!L$102))*100,1))","v":"-"},{"$f":"IF(Balance!M100=\"-\",\"-\",ROUND((Balance!M100/SUM(Balance!M$102))*100,1))","v":"-"},{"$f":"IF(Balance!N100=\"-\",\"-\",ROUND((Balance!N100/SUM(Balance!N$102))*100,1))","v":"-"},{"$f":"IF(Balance!O100=\"-\",\"-\",ROUND((Balance!O100/SUM(Balance!O$102))*100,1))","v":"-"},{"$f":"IF(Balance!P100=\"-\",\"-\",ROUND((Balance!P100/SUM(Balance!P$102))*100,1))","v":"-"},{"$f":"IF(Balance!Q100=\"-\",\"-\",ROUND((Balance!Q100/SUM(Balance!Q$102))*100,1))","v":"-"},{"$f":"IF(Balance!R100=\"-\",\"-\",ROUND((Balance!R100/SUM(Balance!R$102))*100,1))","v":"-"},{"$f":"IF(Balance!S100=\"-\",\"-\",ROUND((Balance!S100/SUM(Balance!S$102))*100,1))","v":"-"},{"$f":"IF(Balance!T100=\"-\",\"-\",ROUND((Balance!T100/SUM(Balance!T$102))*100,1))","v":"-"},{"$f":"IF(Balance!U100=\"-\",\"-\",ROUND((Balance!U100/SUM(Balance!U$102))*100,1))","v":"-"},{"$f":"IF(Balance!V100=\"-\",\"-\",ROUND((Balance!V100/SUM(Balance!V$102))*100,1))","v":"-"},{"$f":"IF(Balance!W100=\"-\",\"-\",ROUND((Balance!W100/SUM(Balance!W$102))*100,1))","v":"-"},{"$f":"IF(Balance!X100=\"-\",\"-\",ROUND((Balance!X100/SUM(Balance!X$102))*100,1))","v":"-"},{"$f":"IF(Balance!Y100=\"-\",\"-\",ROUND((Balance!Y100/SUM(Balance!Y$102))*100,1))","v":"-"},{"$f":"IF(Balance!Z100=\"-\",\"-\",ROUND((Balance!Z100/SUM(Balance!Z$102))*100,1))","v":"-"},{"$f":"IF(Balance!AA100=\"-\",\"-\",ROUND((Balance!AA100/SUM(Balance!AA$102))*100,1))","v":"-"},{"$f":"IF(Balance!AB100=\"-\",\"-\",ROUND((Balance!AB100/SUM(Balance!AB$102))*100,1))","v":"-"},{"$f":"IF(Balance!AC100=\"-\",\"-\",ROUND((Balance!AC100/SUM(Balance!AC$102))*100,1))","v":"-"},{"$f":"IF(Balance!AD100=\"-\",\"-\",ROUND((Balance!AD100/SUM(Balance!AD$102))*100,1))","v":"-"},{"$f":"IF(Balance!AE100=\"-\",\"-\",ROUND((Balance!AE100/SUM(Balance!AE$102))*100,1))","v":"-"},{"$f":"IF(Balance!AF100=\"-\",\"-\",ROUND((Balance!AF100/SUM(Balance!AF$102))*100,1))","v":"-"},{"$f":"IF(Balance!AG100=\"-\",\"-\",ROUND((Balance!AG100/SUM(Balance!AG$102))*100,1))","v":"-"},{"$f":"IF(Balance!AH100=\"-\",\"-\",ROUND((Balance!AH100/SUM(Balance!AH$102))*100,1))","v":"-"},{"$f":"IF(Balance!AI100=\"-\",\"-\",ROUND((Balance!AI100/SUM(Balance!AI$102))*100,1))","v":"-"},{"$f":"IF(Balance!AJ100=\"-\",\"-\",ROUND((Balance!AJ100/SUM(Balance!AJ$102))*100,1))","v":"-"},{"$f":"IF(Balance!AK100=\"-\",\"-\",ROUND((Balance!AK100/SUM(Balance!AK$102))*100,1))","v":"-"},{"$f":"IF(Balance!AL100=\"-\",\"-\",ROUND((Balance!AL100/SUM(Balance!AL$102))*100,1))","v":"-"},{"$f":"IF(Balance!AM100=\"-\",\"-\",ROUND((Balance!AM100/SUM(Balance!AM$102))*100,1))","v":"-"},{"$f":"IF(Balance!AN100=\"-\",\"-\",ROUND((Balance!AN100/SUM(Balance!AN$102))*100,1))","v":"-"},{"$f":"IF(Balance!AO100=\"-\",\"-\",ROUND((Balance!AO100/SUM(Balance!AO$102))*100,1))","v":"-"},{"$f":"IF(Balance!AP100=\"-\",\"-\",ROUND((Balance!AP100/SUM(Balance!AP$102))*100,1))","v":"-"},{"$f":"IF(Balance!AQ100=\"-\",\"-\",ROUND((Balance!AQ100/SUM(Balance!AQ$102))*100,1))","v":"-"},{"$f":"IF(Balance!AR100=\"-\",\"-\",ROUND((Balance!AR100/SUM(Balance!AR$102))*100,1))","v":"-"},{"$f":"IF(Balance!AS100=\"-\",\"-\",ROUND((Balance!AS100/SUM(Balance!AS$102))*100,1))","v":"-"},{"$f":"IF(Balance!AT100=\"-\",\"-\",ROUND((Balance!AT100/SUM(Balance!AT$102))*100,1))","v":"-"},{"$f":"IF(Balance!AU100=\"-\",\"-\",ROUND((Balance!AU100/SUM(Balance!AU$102))*100,1))","v":"-"},{"$f":"IF(Balance!AV100=\"-\",\"-\",ROUND((Balance!AV100/SUM(Balance!AV$102))*100,1))","v":"-"},{"$f":"IF(Balance!AW100=\"-\",\"-\",ROUND((Balance!AW100/SUM(Balance!AW$102))*100,1))","v":"-"},{"$f":"IF(Balance!AX100=\"-\",\"-\",ROUND((Balance!AX100/SUM(Balance!AX$102))*100,1))","v":"-"},{"$f":"IF(Balance!AY100=\"-\",\"-\",ROUND((Balance!AY100/SUM(Balance!AY$102))*100,1))","v":"-"},{"$f":"IF(Balance!AZ100=\"-\",\"-\",ROUND((Balance!AZ100/SUM(Balance!AZ$102))*100,1))","v":"-"},{"$f":"IF(Balance!BA100=\"-\",\"-\",ROUND((Balance!BA100/SUM(Balance!BA$102))*100,1))","v":"-"},{"$f":"IF(Balance!BB100=\"-\",\"-\",ROUND((Balance!BB100/SUM(Balance!BB$102))*100,1))","v":"-"},{"$f":"IF(Balance!BC100=\"-\",\"-\",ROUND((Balance!BC100/SUM(Balance!BC$102))*100,1))","v":"-"},{"$f":"IF(Balance!BD100=\"-\",\"-\",ROUND((Balance!BD100/SUM(Balance!BD$102))*100,1))","v":"-"},{"$f":"IF(Balance!BE100=\"-\",\"-\",ROUND((Balance!BE100/SUM(Balance!BE$102))*100,1))","v":"-"},{"$f":"IF(Balance!BF100=\"-\",\"-\",ROUND((Balance!BF100/SUM(Balance!BF$102))*100,1))","v":"-"},{"$f":"IF(Balance!BG100=\"-\",\"-\",ROUND((Balance!BG100/SUM(Balance!BG$102))*100,1))","v":"-"},{"$f":"IF(Balance!BH100=\"-\",\"-\",ROUND((Balance!BH100/SUM(Balance!BH$102))*100,1))","v":"-"},{"$f":"IF(Balance!BI100=\"-\",\"-\",ROUND((Balance!BI100/SUM(Balance!BI$102))*100,1))","v":"-"},{"$f":"IF(Balance!BJ100=\"-\",\"-\",ROUND((Balance!BJ100/SUM(Balance!BJ$102))*100,1))","v":"-"},{"$f":"IF(Balance!BK100=\"-\",\"-\",ROUND((Balance!BK100/SUM(Balance!BK$102))*100,1))","v":"-"},{"$f":"IF(Balance!BL100=\"-\",\"-\",ROUND((Balance!BL100/SUM(Balance!BL$102))*100,1))","v":"-"},{"$f":"IF(Balance!BM100=\"-\",\"-\",ROUND((Balance!BM100/SUM(Balance!BM$102))*100,1))","v":"-"},{"$f":"IF(Balance!BN100=\"-\",\"-\",ROUND((Balance!BN100/SUM(Balance!BN$102))*100,1))","v":"-"},{"$f":"IF(Balance!BO100=\"-\",\"-\",ROUND((Balance!BO100/SUM(Balance!BO$102))*100,1))","v":"-"},{"$f":"IF(Balance!BP100=\"-\",\"-\",ROUND((Balance!BP100/SUM(Balance!BP$102))*100,1))","v":"-"},{"$f":"IF(Balance!BQ100=\"-\",\"-\",ROUND((Balance!BQ100/SUM(Balance!BQ$102))*100,1))","v":"-"},{"$f":"IF(Balance!BR100=\"-\",\"-\",ROUND((Balance!BR100/SUM(Balance!BR$102))*100,1))","v":"-"},{"$f":"IF(Balance!BS100=\"-\",\"-\",ROUND((Balance!BS100/SUM(Balance!BS$102))*100,1))","v":"-"},{"$f":"IF(Balance!BT100=\"-\",\"-\",ROUND((Balance!BT100/SUM(Balance!BT$102))*100,1))","v":"-"},{"$f":"IF(Balance!BU100=\"-\",\"-\",ROUND((Balance!BU100/SUM(Balance!BU$102))*100,1))","v":"-"},{"$f":"IF(Balance!BV100=\"-\",\"-\",ROUND((Balance!BV100/SUM(Balance!BV$102))*100,1))","v":"-"},{"$f":"IF(Balance!BW100=\"-\",\"-\",ROUND((Balance!BW100/SUM(Balance!BW$102))*100,1))","v":"-"},{"$f":"IF(Balance!BX100=\"-\",\"-\",ROUND((Balance!BX100/SUM(Balance!BX$102))*100,1))","v":"-"},{"$f":"IF(Balance!BY100=\"-\",\"-\",ROUND((Balance!BY100/SUM(Balance!BY$102))*100,1))","v":"-"},{"$f":"IF(Balance!BZ100=\"-\",\"-\",ROUND((Balance!BZ100/SUM(Balance!BZ$102))*100,1))","v":"-"},{"$f":"IF(Balance!CA100=\"-\",\"-\",ROUND((Balance!CA100/SUM(Balance!CA$102))*100,1))","v":"-"},{"$f":"IF(Balance!CB100=\"-\",\"-\",ROUND((Balance!CB100/SUM(Balance!CB$102))*100,1))","v":"-"},{"$f":"IF(Balance!CC100=\"-\",\"-\",ROUND((Balance!CC100/SUM(Balance!CC$102))*100,1))","v":"-"},{"$f":"IF(Balance!CD100=\"-\",\"-\",ROUND((Balance!CD100/SUM(Balance!CD$102))*100,1))","v":"-"},{"$f":"IF(Balance!CE100=\"-\",\"-\",ROUND((Balance!CE100/SUM(Balance!CE$102))*100,1))","v":"-"},{"$f":"IF(Balance!CF100=\"-\",\"-\",ROUND((Balance!CF100/SUM(Balance!CF$102))*100,1))","v":"-"},{"$f":"IF(Balance!CG100=\"-\",\"-\",ROUND((Balance!CG100/SUM(Balance!CG$102))*100,1))","v":"-"},{"$f":"IF(Balance!CH100=\"-\",\"-\",ROUND((Balance!CH100/SUM(Balance!CH$102))*100,1))","v":"-"},{"$f":"IF(Balance!CI100=\"-\",\"-\",ROUND((Balance!CI100/SUM(Balance!CI$102))*100,1))","v":"-"},{"$f":"IF(Balance!CJ100=\"-\",\"-\",ROUND((Balance!CJ100/SUM(Balance!CJ$102))*100,1))","v":"-"},{"$f":"IF(Balance!CK100=\"-\",\"-\",ROUND((Balance!CK100/SUM(Balance!CK$102))*100,1))","v":"-"},{"$f":"IF(Balance!CL100=\"-\",\"-\",ROUND((Balance!CL100/SUM(Balance!CL$102))*100,1))","v":"-"},{"$f":"IF(Balance!CM100=\"-\",\"-\",ROUND((Balance!CM100/SUM(Balance!CM$102))*100,1))","v":"-"},{"$f":"IF(Balance!CN100=\"-\",\"-\",ROUND((Balance!CN100/SUM(Balance!CN$102))*100,1))","v":"-"},{"$f":"IF(Balance!CO100=\"-\",\"-\",ROUND((Balance!CO100/SUM(Balance!CO$102))*100,1))","v":"-"},{"$f":"IF(Balance!CP100=\"-\",\"-\",ROUND((Balance!CP100/SUM(Balance!CP$102))*100,1))","v":"-"},{"$f":"IF(Balance!CQ100=\"-\",\"-\",ROUND((Balance!CQ100/SUM(Balance!CQ$102))*100,1))","v":"-"},{"$f":"IF(Balance!CR100=\"-\",\"-\",ROUND((Balance!CR100/SUM(Balance!CR$102))*100,1))","v":"-"},{"$f":"IF(Balance!CS100=\"-\",\"-\",ROUND((Balance!CS100/SUM(Balance!CS$102))*100,1))","v":"-"},{"$f":"IF(Balance!CT100=\"-\",\"-\",ROUND((Balance!CT100/SUM(Balance!CT$102))*100,1))","v":"-"},{"$f":"IF(Balance!CU100=\"-\",\"-\",ROUND((Balance!CU100/SUM(Balance!CU$102))*100,1))","v":0.3},{"$f":"IF(Balance!CV100=\"-\",\"-\",ROUND((Balance!CV100/SUM(Balance!CV$102))*100,1))","v":0.3},{"$f":"IF(Balance!CW100=\"-\",\"-\",ROUND((Balance!CW100/SUM(Balance!CW$102))*100,1))","v":0.3},{"$f":"IF(Balance!CX100=\"-\",\"-\",ROUND((Balance!CX100/SUM(Balance!CX$102))*100,1))","v":0.2},{"$f":"IF(Balance!CY100=\"-\",\"-\",ROUND((Balance!CY100/SUM(Balance!CY$102))*100,1))","v":0.3},{"$f":"IF(Balance!CZ100=\"-\",\"-\",ROUND((Balance!CZ100/SUM(Balance!CZ$102))*100,1))","v":0.3},{"$f":"IF(Balance!DA100=\"-\",\"-\",ROUND((Balance!DA100/SUM(Balance!DA$102))*100,1))","v":0.3},{"$f":"IF(Balance!DB100=\"-\",\"-\",ROUND((Balance!DB100/SUM(Balance!DB$102))*100,1))","v":0.3},{"$f":"IF(Balance!DC100=\"-\",\"-\",ROUND((Balance!DC100/SUM(Balance!DC$102))*100,1))","v":0.3},{"$f":"IF(Balance!DD100=\"-\",\"-\",ROUND((Balance!DD100/SUM(Balance!DD$102))*100,1))","v":0.4},{"$f":"IF(Balance!DE100=\"-\",\"-\",ROUND((Balance!DE100/SUM(Balance!DE$102))*100,1))","v":0.4},{"$f":"IF(Balance!DF100=\"-\",\"-\",ROUND((Balance!DF100/SUM(Balance!DF$102))*100,1))","v":0.3},{"$f":"IF(Balance!DG100=\"-\",\"-\",ROUND((Balance!DG100/SUM(Balance!DG$102))*100,1))","v":0.3},{"$f":"IF(Balance!DH100=\"-\",\"-\",ROUND((Balance!DH100/SUM(Balance!DH$102))*100,1))","v":0.2},{"$f":"IF(Balance!DI100=\"-\",\"-\",ROUND((Balance!DI100/SUM(Balance!DI$102))*100,1))","v":0.3},{"$f":"IF(Balance!DJ100=\"-\",\"-\",ROUND((Balance!DJ100/SUM(Balance!DJ$102))*100,1))","v":0.2},{"$f":"IF(Balance!DK100=\"-\",\"-\",ROUND((Balance!DK100/SUM(Balance!DK$102))*100,1))","v":0.2},{"$f":"IF(Balance!DL100=\"-\",\"-\",ROUND((Balance!DL100/SUM(Balance!DL$102))*100,1))","v":0.3},{"$f":"IF(Balance!DM100=\"-\",\"-\",ROUND((Balance!DM100/SUM(Balance!DM$102))*100,1))","v":0.3},{"$f":"IF(Balance!DN100=\"-\",\"-\",ROUND((Balance!DN100/SUM(Balance!DN$102))*100,1))","v":0.3},{"$f":"IF(Balance!DO100=\"-\",\"-\",ROUND((Balance!DO100/SUM(Balance!DO$102))*100,1))","v":0.4},{"$f":"IF(Balance!DP100=\"-\",\"-\",ROUND((Balance!DP100/SUM(Balance!DP$102))*100,1))","v":0.3},{"$f":"IF(Balance!DQ100=\"-\",\"-\",ROUND((Balance!DQ100/SUM(Balance!DQ$102))*100,1))","v":0.3},{"$f":"IF(Balance!DR100=\"-\",\"-\",ROUND((Balance!DR100/SUM(Balance!DR$102))*100,1))","v":0.4},{"$f":"IF(Balance!DS100=\"-\",\"-\",ROUND((Balance!DS100/SUM(Balance!DS$102))*100,1))","v":0.3},{"$f":"IF(Balance!DT100=\"-\",\"-\",ROUND((Balance!DT100/SUM(Balance!DT$102))*100,1))","v":0.3},{"$f":"IF(Balance!DU100=\"-\",\"-\",ROUND((Balance!DU100/SUM(Balance!DU$102))*100,1))","v":0.3},{"$f":"IF(Balance!DV100=\"-\",\"-\",ROUND((Balance!DV100/SUM(Balance!DV$102))*100,1))","v":0.3},{"$f":"IF(Balance!DW100=\"-\",\"-\",ROUND((Balance!DW100/SUM(Balance!DW$102))*100,1))","v":0.2},{"$f":"IF(Balance!DX100=\"-\",\"-\",ROUND((Balance!DX100/SUM(Balance!DX$102))*100,1))","v":0.4},{"$f":"IF(Balance!DY100=\"-\",\"-\",ROUND((Balance!DY100/SUM(Balance!DY$102))*100,1))","v":0.4},{"$f":"IF(Balance!DZ100=\"-\",\"-\",ROUND((Balance!DZ100/SUM(Balance!DZ$102))*100,1))","v":0.4},{"$f":"IF(Balance!EA100=\"-\",\"-\",ROUND((Balance!EA100/SUM(Balance!EA$102))*100,1))","v":0.4},{"$f":"IF(Balance!EB100=\"-\",\"-\",ROUND((Balance!EB100/SUM(Balance!EB$102))*100,1))","v":0.4},{"$f":"IF(Balance!EC100=\"-\",\"-\",ROUND((Balance!EC100/SUM(Balance!EC$102))*100,1))","v":0.3},{"$f":"IF(Balance!ED100=\"-\",\"-\",ROUND((Balance!ED100/SUM(Balance!ED$102))*100,1))","v":0.3},{"$f":"IF(Balance!EE100=\"-\",\"-\",ROUND((Balance!EE100/SUM(Balance!EE$102))*100,1))","v":0.3},"-","-","-","-","-","-","-","-","-","-","-"]
[null,"Generación renovable",{"$f":"SUM(C66,C72:C76,C79)","v":18.000000000000004},{"$f":"SUM(D66,D72:D76,D79)","v":26.7},29.800000000000004,20.3,24.9,19.099999999999998,18.7,19.399999999999999,15.900000000000002,16.299999999999997,17.399999999999999,14.999999999999998,16.299999999999997,13.3,22.099999999999998,26.8,23.700000000000003,24.2,18.599999999999998,17,17.099999999999998,17.599999999999998,23,25.9,23.9,32.199999999999996,29.6,29.099999999999998,29.1,23.500000000000004,20.799999999999997,19.8,19.100000000000001,23,32.500000000000007,34.9,38.5,38.399999999999991,44.3,37.6,38.299999999999997,31.700000000000003,26.7,25.5,20.999999999999996,27.6,31.700000000000006,36.400000000000006,38.1,34.4,38,37.200000000000003,32.799999999999997,28.4,27.000000000000004,24.299999999999997,21.3,25.099999999999998,30.099999999999998,32.199999999999996,25,28.799999999999997,27.5,37,34.6,{"$f":"SUM(BP66,BP72:BP76,BP79)","v":31.6},27.7,26.2,28.500000000000004,25.6,33.300000000000004,37.700000000000003,41.599999999999994,43.999999999999993,48.3,51.599999999999994,45.300000000000004,42.999999999999993,31.900000000000002,33.099999999999994,30.5,32.6,45.4,35.299999999999997,48.699999999999996,55.6,52.000000000000007,49.9,42.399999999999991,36.299999999999997,35.199999999999996,32.400000000000006,24.599999999999998,29.3,39.599999999999994,38.700000000000003,34.6,45.199999999999996,43.8,38.6,45.599999999999994,33.799999999999997,29.099999999999998,29.5,29.099999999999998,31.9,32.200000000000003,26.7,43.4,50.600000000000016,48.7,50.8,51.4,40.099999999999994,34.599999999999994,35.4,28.900000000000002,24.2,29.099999999999998,24.599999999999998,31.200000000000003,36.9,41.599999999999994,39.299999999999997,35.600000000000009,30.999999999999996,29.6,29.299999999999997,28.599999999999998,{"$f":"SUM(EB66,EB72:EB76,EB79)","v":25.599999999999998},26.299999999999997,32.9,{"$f":"SUM(EE66,EE72:EE76,EE79)","v":36.799999999999997},"-","-","-","-","-","-","-","-","-","-","-"]
[null,"Generación no renovable",{"$f":"SUM(C67:C71,C77:C78)","v":81.999999999999986},{"$f":"SUM(D67:D71,D77:D78)","v":73.300000000000011},70.200000000000017,79.7,75.09999999999998,80.899999999999977,81.299999999999983,80.600000000000009,84.100000000000009,83.7,82.59999999999998,85,83.699999999999989,86.7,77.900000000000006,73.200000000000017,76.300000000000011,75.8,81.399999999999991,83,82.9,82.4,77,74.100000000000009,76.099999999999994,67.800000000000011,70.400000000000006,70.900000000000006,70.900000000000006,76.500000000000014,79.199999999999989,80.2,80.90000000000002,77,67.5,65.099999999999994,61.500000000000007,61.600000000000009,55.699999999999989,62.399999999999991,61.7,68.300000000000011,73.3,74.5,79,72.400000000000006,68.300000000000011,63.600000000000009,61.900000000000006,65.59999999999998,62,62.800000000000011,67.199999999999989,71.600000000000009,73,75.699999999999989,78.700000000000017,74.900000000000006,69.900000000000006,67.8,75,71.2,72.499999999999986,63,65.400000000000006,{"$f":"SUM(BP67:BP71,BP77:BP78)","v":68.40000000000002},72.3,73.800000000000011,71.5,74.400000000000034,66.700000000000017,62.3,58.399999999999991,56,51.699999999999989,48.4,54.7,56.999999999999993,68.100000000000009,66.899999999999991,69.5,67.400000000000006,54.599999999999994,64.699999999999989,51.300000000000018,44.399999999999991,48,50.10000000000003,57.6,63.699999999999974,64.800000000000011,67.599999999999994,75.399999999999977,70.7,60.400000000000013,61.3,65.40000000000002,54.800000000000004,56.199999999999996,61.399999999999984,54.400000000000006,66.200000000000017,70.899999999999991,70.499999999999986,70.899999999999991,68.099999999999994,67.8,73.300000000000011,56.600000000000016,49.399999999999991,51.300000000000004,49.199999999999982,48.59999999999998,59.899999999999991,65.399999999999991,64.600000000000009,71.100000000000009,75.8,70.900000000000006,75.399999999999977,68.8,63.099999999999994,58.400000000000006,60.70000000000001,64.399999999999991,68.999999999999972,70.400000000000006,70.699999999999989,71.400000000000006,{"$f":"SUM(EB67:EB71,EB77:EB78)","v":74.399999999999991},73.699999999999989,67.100000000000023,63.2,"-","-","-","-","-","-","-","-","-","-","-"]
[]
[null,"Estructura de generación anual peninsular (%)",1990,1991,1992,1993,1994,1995,1996,1997,1998,1999,2000,2001,2002,2003,2004,2005,2006,2007,2008,2009,2010,2011,2012,2013,2014,2015,2016,2017,2018,2019,2020,2021]
[null,"Hidráulica",{"$f":"IF(Balance!C108=0,\"-\",ROUND((SUM(Balance!C108,Balance!C115)/SUM(Balance!C$124))*100,1))","v":18},{"$f":"IF(Balance!D108=0,\"-\",ROUND((SUM(Balance!D108,Balance!D115)/SUM(Balance!D$124))*100,1))","v":18.600000000000001},{"$f":"IF(Balance!E108=0,\"-\",ROUND((SUM(Balance!E108,Balance!E115)/SUM(Balance!E$124))*100,1))","v":13},{"$f":"IF(Balance!F108=0,\"-\",ROUND((SUM(Balance!F108,Balance!F115)/SUM(Balance!F$124))*100,1))","v":16.7},{"$f":"IF(Balance!G108=0,\"-\",ROUND((SUM(Balance!G108,Balance!G115)/SUM(Balance!G$124))*100,1))","v":18.899999999999999},{"$f":"IF(Balance!H108=0,\"-\",ROUND((SUM(Balance!H108,Balance!H115)/SUM(Balance!H$124))*100,1))","v":15},{"$f":"IF(Balance!I108=0,\"-\",ROUND((SUM(Balance!I108,Balance!I115)/SUM(Balance!I$124))*100,1))","v":25.4},{"$f":"IF(Balance!J108=0,\"-\",ROUND((SUM(Balance!J108,Balance!J115)/SUM(Balance!J$124))*100,1))","v":21},{"$f":"IF(Balance!K108=0,\"-\",ROUND((SUM(Balance!K108,Balance!K115)/SUM(Balance!K$124))*100,1))","v":20.6},{"$f":"IF(Balance!L108=0,\"-\",ROUND((SUM(Balance!L108,Balance!L115)/SUM(Balance!L$124))*100,1))","v":13.7},{"$f":"IF(Balance!M108=0,\"-\",ROUND((SUM(Balance!M108,Balance!M115)/SUM(Balance!M$124))*100,1))","v":14.3},{"$f":"IF(Balance!N108=0,\"-\",ROUND((SUM(Balance!N108,Balance!N115)/SUM(Balance!N$124))*100,1))","v":19.600000000000001},{"$f":"IF(Balance!O108=0,\"-\",ROUND((SUM(Balance!O108,Balance!O115)/SUM(Balance!O$124))*100,1))","v":10},{"$f":"IF(Balance!P108=0,\"-\",ROUND((SUM(Balance!P108,Balance!P115)/SUM(Balance!P$124))*100,1))","v":17.5},{"$f":"IF(Balance!Q108=0,\"-\",ROUND((SUM(Balance!Q108,Balance!Q115)/SUM(Balance!Q$124))*100,1))","v":12.7},{"$f":"IF(Balance!R108=0,\"-\",ROUND((SUM(Balance!R108,Balance!R115)/SUM(Balance!R$124))*100,1))","v":7.2},{"$f":"IF(Balance!S108=0,\"-\",ROUND((SUM(Balance!S108,Balance!S115)/SUM(Balance!S$124))*100,1))","v":9.6},{"$f":"IF(Balance!T108=0,\"-\",ROUND((SUM(Balance!T108,Balance!T115)/SUM(Balance!T$124))*100,1))","v":9.9},{"$f":"IF(Balance!U108=0,\"-\",ROUND((SUM(Balance!U108,Balance!U115)/SUM(Balance!U$124))*100,1))","v":8.1999999999999993},{"$f":"IF(Balance!V108=0,\"-\",ROUND((SUM(Balance!V108,Balance!V115)/SUM(Balance!V$124))*100,1))","v":9.9},{"$f":"IF(Balance!W108=0,\"-\",ROUND((SUM(Balance!W108,Balance!W115)/SUM(Balance!W$124))*100,1))","v":15.3},{"$f":"IF(Balance!X108=0,\"-\",ROUND((SUM(Balance!X108,Balance!X115)/SUM(Balance!X$124))*100,1))","v":11.5},{"$f":"IF(Balance!Y108=0,\"-\",ROUND((SUM(Balance!Y108,Balance!Y115)/SUM(Balance!Y$124))*100,1))","v":7.7},{"$f":"IF(Balance!Z108=0,\"-\",ROUND((SUM(Balance!Z108,Balance!Z115)/SUM(Balance!Z$124))*100,1))","v":14.4},{"$f":"IF(Balance!AA108=0,\"-\",ROUND((SUM(Balance!AA108,Balance!AA115)/SUM(Balance!AA$124))*100,1))","v":15.4},{"$f":"IF(Balance!AB108=0,\"-\",ROUND((SUM(Balance!AB108,Balance!AB115)/SUM(Balance!AB$124))*100,1))","v":11.1},{"$f":"IF(Balance!AC108=0,\"-\",ROUND((SUM(Balance!AC108,Balance!AC115)/SUM(Balance!AC$124))*100,1))","v":14.5},{"$f":"IF(Balance!AD108=0,\"-\",ROUND((SUM(Balance!AD108,Balance!AD115)/SUM(Balance!AD$124))*100,1))","v":7.4},{"$f":"IF(Balance!AE108=0,\"-\",ROUND((SUM(Balance!AE108,Balance!AE115)/SUM(Balance!AE$124))*100,1))","v":9.9},"-","-","-"]
[null,"Turbinación bombeo",{"$f":"IF(Balance!C109=0,\"-\",ROUND((Balance!C109/SUM(Balance!C$124))*100,1))","v":0.5},{"$f":"IF(Balance!D109=0,\"-\",ROUND((Balance!D109/SUM(Balance!D$124))*100,1))","v":0.7},{"$f":"IF(Balance!E109=0,\"-\",ROUND((Balance!E109/SUM(Balance!E$124))*100,1))","v":1.4},{"$f":"IF(Balance!F109=0,\"-\",ROUND((Balance!F109/SUM(Balance!F$124))*100,1))","v":0.9},{"$f":"IF(Balance!G109=0,\"-\",ROUND((Balance!G109/SUM(Balance!G$124))*100,1))","v":0.6},{"$f":"IF(Balance!H109=0,\"-\",ROUND((Balance!H109/SUM(Balance!H$124))*100,1))","v":1},{"$f":"IF(Balance!I109=0,\"-\",ROUND((Balance!I109/SUM(Balance!I$124))*100,1))","v":0.7},{"$f":"IF(Balance!J109=0,\"-\",ROUND((Balance!J109/SUM(Balance!J$124))*100,1))","v":0.7},{"$f":"IF(Balance!K109=0,\"-\",ROUND((Balance!K109/SUM(Balance!K$124))*100,1))","v":1.1000000000000001},{"$f":"IF(Balance!L109=0,\"-\",ROUND((Balance!L109/SUM(Balance!L$124))*100,1))","v":1.4},{"$f":"IF(Balance!M109=0,\"-\",ROUND((Balance!M109/SUM(Balance!M$124))*100,1))","v":1.8},{"$f":"IF(Balance!N109=0,\"-\",ROUND((Balance!N109/SUM(Balance!N$124))*100,1))","v":1.4},{"$f":"IF(Balance!O109=0,\"-\",ROUND((Balance!O109/SUM(Balance!O$124))*100,1))","v":2.2999999999999998},{"$f":"IF(Balance!P109=0,\"-\",ROUND((Balance!P109/SUM(Balance!P$124))*100,1))","v":1.4},{"$f":"IF(Balance!Q109=0,\"-\",ROUND((Balance!Q109/SUM(Balance!Q$124))*100,1))","v":1.3},{"$f":"IF(Balance!R109=0,\"-\",ROUND((Balance!R109/SUM(Balance!R$124))*100,1))","v":1.8},{"$f":"IF(Balance!S109=0,\"-\",ROUND((Balance!S109/SUM(Balance!S$124))*100,1))","v":1.4},{"$f":"IF(Balance!T109=0,\"-\",ROUND((Balance!T109/SUM(Balance!T$124))*100,1))","v":1.1000000000000001},{"$f":"IF(Balance!U109=0,\"-\",ROUND((Balance!U109/SUM(Balance!U$124))*100,1))","v":1},{"$f":"IF(Balance!V109=0,\"-\",ROUND((Balance!V109/SUM(Balance!V$124))*100,1))","v":1},{"$f":"IF(Balance!W109=0,\"-\",ROUND((Balance!W109/SUM(Balance!W$124))*100,1))","v":1.1000000000000001},{"$f":"IF(Balance!X109=0,\"-\",ROUND((Balance!X109/SUM(Balance!X$124))*100,1))","v":0.8},{"$f":"IF(Balance!Y109=0,\"-\",ROUND((Balance!Y109/SUM(Balance!Y$124))*100,1))","v":1.2},{"$f":"IF(Balance!Z109=0,\"-\",ROUND((Balance!Z109/SUM(Balance!Z$124))*100,1))","v":1.3},{"$f":"IF(Balance!AA109=0,\"-\",ROUND((Balance!AA109/SUM(Balance!AA$124))*100,1))","v":1.3},{"$f":"IF(Balance!AB109=0,\"-\",ROUND((Balance!AB109/SUM(Balance!AB$124))*100,1))","v":1.1000000000000001},{"$f":"IF(Balance!AC109=0,\"-\",ROUND((Balance!AC109/SUM(Balance!AC$124))*100,1))","v":1.3},{"$f":"IF(Balance!AD109=0,\"-\",ROUND((Balance!AD109/SUM(Balance!AD$124))*100,1))","v":0.9},{"$f":"IF(Balance!AE109=0,\"-\",ROUND((Balance!AE109/SUM(Balance!AE$124))*100,1))","v":1.2},"-","-","-"]
[null,"Nuclear",{"$f":"IF(Balance!C110=0,\"-\",ROUND((Balance!C110/SUM(Balance!C$124))*100,1))","v":38.200000000000003},{"$f":"IF(Balance!D110=0,\"-\",ROUND((Balance!D110/SUM(Balance!D$124))*100,1))","v":37.5},{"$f":"IF(Balance!E110=0,\"-\",ROUND((Balance!E110/SUM(Balance!E$124))*100,1))","v":37.299999999999997},{"$f":"IF(Balance!F110=0,\"-\",ROUND((Balance!F110/SUM(Balance!F$124))*100,1))","v":37.799999999999997},{"$f":"IF(Balance!G110=0,\"-\",ROUND((Balance!G110/SUM(Balance!G$124))*100,1))","v":36.4},{"$f":"IF(Balance!H110=0,\"-\",ROUND((Balance!H110/SUM(Balance!H$124))*100,1))","v":35.6},{"$f":"IF(Balance!I110=0,\"-\",ROUND((Balance!I110/SUM(Balance!I$124))*100,1))","v":34.5},{"$f":"IF(Balance!J110=0,\"-\",ROUND((Balance!J110/SUM(Balance!J$124))*100,1))","v":31.7},{"$f":"IF(Balance!K110=0,\"-\",ROUND((Balance!K110/SUM(Balance!K$124))*100,1))","v":32.799999999999997},{"$f":"IF(Balance!L110=0,\"-\",ROUND((Balance!L110/SUM(Balance!L$124))*100,1))","v":30.9},{"$f":"IF(Balance!M110=0,\"-\",ROUND((Balance!M110/SUM(Balance!M$124))*100,1))","v":30.5},{"$f":"IF(Balance!N110=0,\"-\",ROUND((Balance!N110/SUM(Balance!N$124))*100,1))","v":29.6},{"$f":"IF(Balance!O110=0,\"-\",ROUND((Balance!O110/SUM(Balance!O$124))*100,1))","v":28.3},{"$f":"IF(Balance!P110=0,\"-\",ROUND((Balance!P110/SUM(Balance!P$124))*100,1))","v":25.8},{"$f":"IF(Balance!Q110=0,\"-\",ROUND((Balance!Q110/SUM(Balance!Q$124))*100,1))","v":25},{"$f":"IF(Balance!R110=0,\"-\",ROUND((Balance!R110/SUM(Balance!R$124))*100,1))","v":21.6},{"$f":"IF(Balance!S110=0,\"-\",ROUND((Balance!S110/SUM(Balance!S$124))*100,1))","v":21.8},{"$f":"IF(Balance!T110=0,\"-\",ROUND((Balance!T110/SUM(Balance!T$124))*100,1))","v":19.3},{"$f":"IF(Balance!U110=0,\"-\",ROUND((Balance!U110/SUM(Balance!U$124))*100,1))","v":20.2},{"$f":"IF(Balance!V110=0,\"-\",ROUND((Balance!V110/SUM(Balance!V$124))*100,1))","v":19.100000000000001},{"$f":"IF(Balance!W110=0,\"-\",ROUND((Balance!W110/SUM(Balance!W$124))*100,1))","v":21.7},{"$f":"IF(Balance!X110=0,\"-\",ROUND((Balance!X110/SUM(Balance!X$124))*100,1))","v":20.8},{"$f":"IF(Balance!Y110=0,\"-\",ROUND((Balance!Y110/SUM(Balance!Y$124))*100,1))","v":21.8},{"$f":"IF(Balance!Z110=0,\"-\",ROUND((Balance!Z110/SUM(Balance!Z$124))*100,1))","v":20.9},{"$f":"IF(Balance!AA110=0,\"-\",ROUND((Balance!AA110/SUM(Balance!AA$124))*100,1))","v":21.6},{"$f":"IF(Balance!AB110=0,\"-\",ROUND((Balance!AB110/SUM(Balance!AB$124))*100,1))","v":21.5},{"$f":"IF(Balance!AC110=0,\"-\",ROUND((Balance!AC110/SUM(Balance!AC$124))*100,1))","v":22.6},{"$f":"IF(Balance!AD110=0,\"-\",ROUND((Balance!AD110/SUM(Balance!AD$124))*100,1))","v":22.4},{"$f":"IF(Balance!AE110=0,\"-\",ROUND((Balance!AE110/SUM(Balance!AE$124))*100,1))","v":23.4},"-","-","-"]
[null,"Carbón",{"$f":"IF(Balance!C111=0,\"-\",ROUND((Balance!C111/SUM(Balance!C$124))*100,1))","v":40.700000000000003},{"$f":"IF(Balance!D111=0,\"-\",ROUND((Balance!D111/SUM(Balance!D$124))*100,1))","v":39.299999999999997},{"$f":"IF(Balance!E111=0,\"-\",ROUND((Balance!E111/SUM(Balance!E$124))*100,1))","v":41.8},{"$f":"IF(Balance!F111=0,\"-\",ROUND((Balance!F111/SUM(Balance!F$124))*100,1))","v":40.799999999999997},{"$f":"IF(Balance!G111=0,\"-\",ROUND((Balance!G111/SUM(Balance!G$124))*100,1))","v":39.200000000000003},{"$f":"IF(Balance!H111=0,\"-\",ROUND((Balance!H111/SUM(Balance!H$124))*100,1))","v":41},{"$f":"IF(Balance!I111=0,\"-\",ROUND((Balance!I111/SUM(Balance!I$124))*100,1))","v":31.6},{"$f":"IF(Balance!J111=0,\"-\",ROUND((Balance!J111/SUM(Balance!J$124))*100,1))","v":35},{"$f":"IF(Balance!K111=0,\"-\",ROUND((Balance!K111/SUM(Balance!K$124))*100,1))","v":33.1},{"$f":"IF(Balance!L111=0,\"-\",ROUND((Balance!L111/SUM(Balance!L$124))*100,1))","v":37.5},{"$f":"IF(Balance!M111=0,\"-\",ROUND((Balance!M111/SUM(Balance!M$124))*100,1))","v":37},{"$f":"IF(Balance!N111=0,\"-\",ROUND((Balance!N111/SUM(Balance!N$124))*100,1))","v":31.2},{"$f":"IF(Balance!O111=0,\"-\",ROUND((Balance!O111/SUM(Balance!O$124))*100,1))","v":35},{"$f":"IF(Balance!P111=0,\"-\",ROUND((Balance!P111/SUM(Balance!P$124))*100,1))","v":29.8},{"$f":"IF(Balance!Q111=0,\"-\",ROUND((Balance!Q111/SUM(Balance!Q$124))*100,1))","v":29.6},{"$f":"IF(Balance!R111=0,\"-\",ROUND((Balance!R111/SUM(Balance!R$124))*100,1))","v":28.8},{"$f":"IF(Balance!S111=0,\"-\",ROUND((Balance!S111/SUM(Balance!S$124))*100,1))","v":23.6},{"$f":"IF(Balance!T111=0,\"-\",ROUND((Balance!T111/SUM(Balance!T$124))*100,1))","v":24.8},{"$f":"IF(Balance!U111=0,\"-\",ROUND((Balance!U111/SUM(Balance!U$124))*100,1))","v":15.5},{"$f":"IF(Balance!V111=0,\"-\",ROUND((Balance!V111/SUM(Balance!V$124))*100,1))","v":12},{"$f":"IF(Balance!W111=0,\"-\",ROUND((Balance!W111/SUM(Balance!W$124))*100,1))","v":7.5},{"$f":"IF(Balance!X111=0,\"-\",ROUND((Balance!X111/SUM(Balance!X$124))*100,1))","v":15.3},{"$f":"IF(Balance!Y111=0,\"-\",ROUND((Balance!Y111/SUM(Balance!Y$124))*100,1))","v":19},{"$f":"IF(Balance!Z111=0,\"-\",ROUND((Balance!Z111/SUM(Balance!Z$124))*100,1))","v":14.3},{"$f":"IF(Balance!AA111=0,\"-\",ROUND((Balance!AA111/SUM(Balance!AA$124))*100,1))","v":16.2},{"$f":"IF(Balance!AB111=0,\"-\",ROUND((Balance!AB111/SUM(Balance!AB$124))*100,1))","v":20},{"$f":"IF(Balance!AC111=0,\"-\",ROUND((Balance!AC111/SUM(Balance!AC$124))*100,1))","v":14.2},{"$f":"IF(Balance!AD111=0,\"-\",ROUND((Balance!AD111/SUM(Balance!AD$124))*100,1))","v":17.100000000000001},{"$f":"IF(Balance!AE111=0,\"-\",ROUND((Balance!AE111/SUM(Balance!AE$124))*100,1))","v":13.9},"-","-","-"]
[null,"Fuel + Gas",{"$f":"IF(Balance!C112=0,\"-\",ROUND((Balance!C112/SUM(Balance!C$124))*100,1))","v":2.1},{"$f":"IF(Balance!D112=0,\"-\",ROUND((Balance!D112/SUM(Balance!D$124))*100,1))","v":2.8},{"$f":"IF(Balance!E112=0,\"-\",ROUND((Balance!E112/SUM(Balance!E$124))*100,1))","v":5.2},{"$f":"IF(Balance!F112=0,\"-\",ROUND((Balance!F112/SUM(Balance!F$124))*100,1))","v":1.3},{"$f":"IF(Balance!G112=0,\"-\",ROUND((Balance!G112/SUM(Balance!G$124))*100,1))","v":1},{"$f":"IF(Balance!H112=0,\"-\",ROUND((Balance!H112/SUM(Balance!H$124))*100,1))","v":2.5},{"$f":"IF(Balance!I112=0,\"-\",ROUND((Balance!I112/SUM(Balance!I$124))*100,1))","v":1.3},{"$f":"IF(Balance!J112=0,\"-\",ROUND((Balance!J112/SUM(Balance!J$124))*100,1))","v":3.9},{"$f":"IF(Balance!K112=0,\"-\",ROUND((Balance!K112/SUM(Balance!K$124))*100,1))","v":3.1},{"$f":"IF(Balance!L112=0,\"-\",ROUND((Balance!L112/SUM(Balance!L$124))*100,1))","v":5.0999999999999996},{"$f":"IF(Balance!M112=0,\"-\",ROUND((Balance!M112/SUM(Balance!M$124))*100,1))","v":4.9000000000000004},{"$f":"IF(Balance!N112=0,\"-\",ROUND((Balance!N112/SUM(Balance!N$124))*100,1))","v":5.6},{"$f":"IF(Balance!O112=0,\"-\",ROUND((Balance!O112/SUM(Balance!O$124))*100,1))","v":7.3},{"$f":"IF(Balance!P112=0,\"-\",ROUND((Balance!P112/SUM(Balance!P$124))*100,1))","v":3.2},{"$f":"IF(Balance!Q112=0,\"-\",ROUND((Balance!Q112/SUM(Balance!Q$124))*100,1))","v":2.9},{"$f":"IF(Balance!R112=0,\"-\",ROUND((Balance!R112/SUM(Balance!R$124))*100,1))","v":3.7},{"$f":"IF(Balance!S112=0,\"-\",ROUND((Balance!S112/SUM(Balance!S$124))*100,1))","v":2},{"$f":"IF(Balance!T112=0,\"-\",ROUND((Balance!T112/SUM(Balance!T$124))*100,1))","v":0.8},{"$f":"IF(Balance!U112=0,\"-\",ROUND((Balance!U112/SUM(Balance!U$124))*100,1))","v":0.7},{"$f":"IF(Balance!V112=0,\"-\",ROUND((Balance!V112/SUM(Balance!V$124))*100,1))","v":0.7},{"$f":"IF(Balance!W112=0,\"-\",ROUND((Balance!W112/SUM(Balance!W$124))*100,1))","v":0.6},{"$f":"IF(Balance!X112=0,\"-\",ROUND((Balance!X112/SUM(Balance!X$124))*100,1))","v":"-"},{"$f":"IF(Balance!Y112=0,\"-\",ROUND((Balance!Y112/SUM(Balance!Y$124))*100,1))","v":"-"},{"$f":"IF(Balance!Z112=0,\"-\",ROUND((Balance!Z112/SUM(Balance!Z$124))*100,1))","v":"-"},{"$f":"IF(Balance!AA112=0,\"-\",ROUND((Balance!AA112/SUM(Balance!AA$124))*100,1))","v":"-"},{"$f":"IF(Balance!AB112=0,\"-\",ROUND((Balance!AB112/SUM(Balance!AB$124))*100,1))","v":"-"},{"$f":"IF(Balance!AC112=0,\"-\",ROUND((Balance!AC112/SUM(Balance!AC$124))*100,1))","v":"-"},{"$f":"IF(Balance!AD112=0,\"-\",ROUND((Balance!AD112/SUM(Balance!AD$124))*100,1))","v":"-"},{"$f":"IF(Balance!AE112=0,\"-\",ROUND((Balance!AE112/SUM(Balance!AE$124))*100,1))","v":"-"},"-","-","-"]
[null,"Ciclo combinado",{"$f":"IF(Balance!C113=0,\"-\",ROUND((Balance!C113/SUM(Balance!C$124))*100,1))","v":"-"},{"$f":"IF(Balance!D113=0,\"-\",ROUND((Balance!D113/SUM(Balance!D$124))*100,1))","v":"-"},{"$f":"IF(Balance!E113=0,\"-\",ROUND((Balance!E113/SUM(Balance!E$124))*100,1))","v":"-"},{"$f":"IF(Balance!F113=0,\"-\",ROUND((Balance!F113/SUM(Balance!F$124))*100,1))","v":0},{"$f":"IF(Balance!G113=0,\"-\",ROUND((Balance!G113/SUM(Balance!G$124))*100,1))","v":"-"},{"$f":"IF(Balance!H113=0,\"-\",ROUND((Balance!H113/SUM(Balance!H$124))*100,1))","v":"-"},{"$f":"IF(Balance!I113=0,\"-\",ROUND((Balance!I113/SUM(Balance!I$124))*100,1))","v":"-"},{"$f":"IF(Balance!J113=0,\"-\",ROUND((Balance!J113/SUM(Balance!J$124))*100,1))","v":"-"},{"$f":"IF(Balance!K113=0,\"-\",ROUND((Balance!K113/SUM(Balance!K$124))*100,1))","v":"-"},{"$f":"IF(Balance!L113=0,\"-\",ROUND((Balance!L113/SUM(Balance!L$124))*100,1))","v":"-"},{"$f":"IF(Balance!M113=0,\"-\",ROUND((Balance!M113/SUM(Balance!M$124))*100,1))","v":"-"},{"$f":"IF(Balance!N113=0,\"-\",ROUND((Balance!N113/SUM(Balance!N$124))*100,1))","v":"-"},{"$f":"IF(Balance!O113=0,\"-\",ROUND((Balance!O113/SUM(Balance!O$124))*100,1))","v":2.4},{"$f":"IF(Balance!P113=0,\"-\",ROUND((Balance!P113/SUM(Balance!P$124))*100,1))","v":6.4},{"$f":"IF(Balance!Q113=0,\"-\",ROUND((Balance!Q113/SUM(Balance!Q$124))*100,1))","v":11.6},{"$f":"IF(Balance!R113=0,\"-\",ROUND((Balance!R113/SUM(Balance!R$124))*100,1))","v":18.8},{"$f":"IF(Balance!S113=0,\"-\",ROUND((Balance!S113/SUM(Balance!S$124))*100,1))","v":23.6},{"$f":"IF(Balance!T113=0,\"-\",ROUND((Balance!T113/SUM(Balance!T$124))*100,1))","v":24.4},{"$f":"IF(Balance!U113=0,\"-\",ROUND((Balance!U113/SUM(Balance!U$124))*100,1))","v":31.8},{"$f":"IF(Balance!V113=0,\"-\",ROUND((Balance!V113/SUM(Balance!V$124))*100,1))","v":28.9},{"$f":"IF(Balance!W113=0,\"-\",ROUND((Balance!W113/SUM(Balance!W$124))*100,1))","v":23},{"$f":"IF(Balance!X113=0,\"-\",ROUND((Balance!X113/SUM(Balance!X$124))*100,1))","v":18.7},{"$f":"IF(Balance!Y113=0,\"-\",ROUND((Balance!Y113/SUM(Balance!Y$124))*100,1))","v":14},{"$f":"IF(Balance!Z113=0,\"-\",ROUND((Balance!Z113/SUM(Balance!Z$124))*100,1))","v":9.4},{"$f":"IF(Balance!AA113=0,\"-\",ROUND((Balance!AA113/SUM(Balance!AA$124))*100,1))","v":8.4},{"$f":"IF(Balance!AB113=0,\"-\",ROUND((Balance!AB113/SUM(Balance!AB$124))*100,1))","v":9.9},{"$f":"IF(Balance!AC113=0,\"-\",ROUND((Balance!AC113/SUM(Balance!AC$124))*100,1))","v":10.3},{"$f":"IF(Balance!AD113=0,\"-\",ROUND((Balance!AD113/SUM(Balance!AD$124))*100,1))","v":13.6},{"$f":"IF(Balance!AE113=0,\"-\",ROUND((Balance!AE113/SUM(Balance!AE$124))*100,1))","v":10.5},"-","-","-"]
[null,"Eólica",{"$f":"IF(Balance!C116=0,\"-\",ROUND((Balance!C116/SUM(Balance!C$124))*100,1))","v":0},{"$f":"IF(Balance!D116=0,\"-\",ROUND((Balance!D116/SUM(Balance!D$124))*100,1))","v":0},{"$f":"IF(Balance!E116=0,\"-\",ROUND((Balance!E116/SUM(Balance!E$124))*100,1))","v":0},{"$f":"IF(Balance!F116=0,\"-\",ROUND((Balance!F116/SUM(Balance!F$124))*100,1))","v":0.1},{"$f":"IF(Balance!G116=0,\"-\",ROUND((Balance!G116/SUM(Balance!G$124))*100,1))","v":0},{"$f":"IF(Balance!H116=0,\"-\",ROUND((Balance!H116/SUM(Balance!H$124))*100,1))","v":0.1},{"$f":"IF(Balance!I116=0,\"-\",ROUND((Balance!I116/SUM(Balance!I$124))*100,1))","v":0.2},{"$f":"IF(Balance!J116=0,\"-\",ROUND((Balance!J116/SUM(Balance!J$124))*100,1))","v":0.4},{"$f":"IF(Balance!K116=0,\"-\",ROUND((Balance!K116/SUM(Balance!K$124))*100,1))","v":0.7},{"$f":"IF(Balance!L116=0,\"-\",ROUND((Balance!L116/SUM(Balance!L$124))*100,1))","v":1.4},{"$f":"IF(Balance!M116=0,\"-\",ROUND((Balance!M116/SUM(Balance!M$124))*100,1))","v":2.2999999999999998},{"$f":"IF(Balance!N116=0,\"-\",ROUND((Balance!N116/SUM(Balance!N$124))*100,1))","v":3.2},{"$f":"IF(Balance!O116=0,\"-\",ROUND((Balance!O116/SUM(Balance!O$124))*100,1))","v":4.3},{"$f":"IF(Balance!P116=0,\"-\",ROUND((Balance!P116/SUM(Balance!P$124))*100,1))","v":5.0999999999999996},{"$f":"IF(Balance!Q116=0,\"-\",ROUND((Balance!Q116/SUM(Balance!Q$124))*100,1))","v":6.5},{"$f":"IF(Balance!R116=0,\"-\",ROUND((Balance!R116/SUM(Balance!R$124))*100,1))","v":8.1999999999999993},{"$f":"IF(Balance!S116=0,\"-\",ROUND((Balance!S116/SUM(Balance!S$124))*100,1))","v":8.6999999999999993},{"$f":"IF(Balance!T116=0,\"-\",ROUND((Balance!T116/SUM(Balance!T$124))*100,1))","v":10},{"$f":"IF(Balance!U116=0,\"-\",ROUND((Balance!U116/SUM(Balance!U$124))*100,1))","v":11.3},{"$f":"IF(Balance!V116=0,\"-\",ROUND((Balance!V116/SUM(Balance!V$124))*100,1))","v":14.3},{"$f":"IF(Balance!W116=0,\"-\",ROUND((Balance!W116/SUM(Balance!W$124))*100,1))","v":15.8},{"$f":"IF(Balance!X116=0,\"-\",ROUND((Balance!X116/SUM(Balance!X$124))*100,1))","v":15.9},{"$f":"IF(Balance!Y116=0,\"-\",ROUND((Balance!Y116/SUM(Balance!Y$124))*100,1))","v":17.899999999999999},{"$f":"IF(Balance!Z116=0,\"-\",ROUND((Balance!Z116/SUM(Balance!Z$124))*100,1))","v":20.9},{"$f":"IF(Balance!AA116=0,\"-\",ROUND((Balance!AA116/SUM(Balance!AA$124))*100,1))","v":20},{"$f":"IF(Balance!AB116=0,\"-\",ROUND((Balance!AB116/SUM(Balance!AB$124))*100,1))","v":18.8},{"$f":"IF(Balance!AC116=0,\"-\",ROUND((Balance!AC116/SUM(Balance!AC$124))*100,1))","v":19},{"$f":"IF(Balance!AD116=0,\"-\",ROUND((Balance!AD116/SUM(Balance!AD$124))*100,1))","v":19.100000000000001},{"$f":"IF(Balance!AE116=0,\"-\",ROUND((Balance!AE116/SUM(Balance!AE$124))*100,1))","v":24.3},"-","-","-"]
[null,"Solar fotovoltaica",{"$f":"IF(Balance!C117=0,\"-\",ROUND((Balance!C117/SUM(Balance!C$124))*100,1))","v":"-"},{"$f":"IF(Balance!D117=0,\"-\",ROUND((Balance!D117/SUM(Balance!D$124))*100,1))","v":"-"},{"$f":"IF(Balance!E117=0,\"-\",ROUND((Balance!E117/SUM(Balance!E$124))*100,1))","v":0},{"$f":"IF(Balance!F117=0,\"-\",ROUND((Balance!F117/SUM(Balance!F$124))*100,1))","v":0},{"$f":"IF(Balance!G117=0,\"-\",ROUND((Balance!G117/SUM(Balance!G$124))*100,1))","v":0},{"$f":"IF(Balance!H117=0,\"-\",ROUND((Balance!H117/SUM(Balance!H$124))*100,1))","v":0},{"$f":"IF(Balance!I117=0,\"-\",ROUND((Balance!I117/SUM(Balance!I$124))*100,1))","v":0},{"$f":"IF(Balance!J117=0,\"-\",ROUND((Balance!J117/SUM(Balance!J$124))*100,1))","v":0},{"$f":"IF(Balance!K117=0,\"-\",ROUND((Balance!K117/SUM(Balance!K$124))*100,1))","v":0},{"$f":"IF(Balance!L117=0,\"-\",ROUND((Balance!L117/SUM(Balance!L$124))*100,1))","v":0},{"$f":"IF(Balance!M117=0,\"-\",ROUND((Balance!M117/SUM(Balance!M$124))*100,1))","v":0},{"$f":"IF(Balance!N117=0,\"-\",ROUND((Balance!N117/SUM(Balance!N$124))*100,1))","v":0},{"$f":"IF(Balance!O117=0,\"-\",ROUND((Balance!O117/SUM(Balance!O$124))*100,1))","v":0},{"$f":"IF(Balance!P117=0,\"-\",ROUND((Balance!P117/SUM(Balance!P$124))*100,1))","v":0},{"$f":"IF(Balance!Q117=0,\"-\",ROUND((Balance!Q117/SUM(Balance!Q$124))*100,1))","v":0},{"$f":"IF(Balance!R117=0,\"-\",ROUND((Balance!R117/SUM(Balance!R$124))*100,1))","v":0},{"$f":"IF(Balance!S117=0,\"-\",ROUND((Balance!S117/SUM(Balance!S$124))*100,1))","v":0},{"$f":"IF(Balance!T117=0,\"-\",ROUND((Balance!T117/SUM(Balance!T$124))*100,1))","v":0.2},{"$f":"IF(Balance!U117=0,\"-\",ROUND((Balance!U117/SUM(Balance!U$124))*100,1))","v":0.9},{"$f":"IF(Balance!V117=0,\"-\",ROUND((Balance!V117/SUM(Balance!V$124))*100,1))","v":2.2000000000000002},{"$f":"IF(Balance!W117=0,\"-\",ROUND((Balance!W117/SUM(Balance!W$124))*100,1))","v":2.2000000000000002},{"$f":"IF(Balance!X117=0,\"-\",ROUND((Balance!X117/SUM(Balance!X$124))*100,1))","v":2.7},{"$f":"IF(Balance!Y117=0,\"-\",ROUND((Balance!Y117/SUM(Balance!Y$124))*100,1))","v":2.9},{"$f":"IF(Balance!Z117=0,\"-\",ROUND((Balance!Z117/SUM(Balance!Z$124))*100,1))","v":3},{"$f":"IF(Balance!AA117=0,\"-\",ROUND((Balance!AA117/SUM(Balance!AA$124))*100,1))","v":3.1},{"$f":"IF(Balance!AB117=0,\"-\",ROUND((Balance!AB117/SUM(Balance!AB$124))*100,1))","v":3.1},{"$f":"IF(Balance!AC117=0,\"-\",ROUND((Balance!AC117/SUM(Balance!AC$124))*100,1))","v":3.1},{"$f":"IF(Balance!AD117=0,\"-\",ROUND((Balance!AD117/SUM(Balance!AD$124))*100,1))","v":3.2},{"$f":"IF(Balance!AE117=0,\"-\",ROUND((Balance!AE117/SUM(Balance!AE$124))*100,1))","v":1.9},"-","-","-"]
[null,"Solar térmica",{"$f":"IF(Balance!C118=0,\"-\",ROUND((Balance!C118/SUM(Balance!C$124))*100,1))","v":"-"},{"$f":"IF(Balance!D118=0,\"-\",ROUND((Balance!D118/SUM(Balance!D$124))*100,1))","v":"-"},{"$f":"IF(Balance!E118=0,\"-\",ROUND((Balance!E118/SUM(Balance!E$124))*100,1))","v":"-"},{"$f":"IF(Balance!F118=0,\"-\",ROUND((Balance!F118/SUM(Balance!F$124))*100,1))","v":"-"},{"$f":"IF(Balance!G118=0,\"-\",ROUND((Balance!G118/SUM(Balance!G$124))*100,1))","v":"-"},{"$f":"IF(Balance!H118=0,\"-\",ROUND((Balance!H118/SUM(Balance!H$124))*100,1))","v":"-"},{"$f":"IF(Balance!I118=0,\"-\",ROUND((Balance!I118/SUM(Balance!I$124))*100,1))","v":"-"},{"$f":"IF(Balance!J118=0,\"-\",ROUND((Balance!J118/SUM(Balance!J$124))*100,1))","v":"-"},{"$f":"IF(Balance!K118=0,\"-\",ROUND((Balance!K118/SUM(Balance!K$124))*100,1))","v":"-"},{"$f":"IF(Balance!L118=0,\"-\",ROUND((Balance!L118/SUM(Balance!L$124))*100,1))","v":"-"},{"$f":"IF(Balance!M118=0,\"-\",ROUND((Balance!M118/SUM(Balance!M$124))*100,1))","v":"-"},{"$f":"IF(Balance!N118=0,\"-\",ROUND((Balance!N118/SUM(Balance!N$124))*100,1))","v":"-"},{"$f":"IF(Balance!O118=0,\"-\",ROUND((Balance!O118/SUM(Balance!O$124))*100,1))","v":"-"},{"$f":"IF(Balance!P118=0,\"-\",ROUND((Balance!P118/SUM(Balance!P$124))*100,1))","v":"-"},{"$f":"IF(Balance!Q118=0,\"-\",ROUND((Balance!Q118/SUM(Balance!Q$124))*100,1))","v":"-"},{"$f":"IF(Balance!R118=0,\"-\",ROUND((Balance!R118/SUM(Balance!R$124))*100,1))","v":"-"},{"$f":"IF(Balance!S118=0,\"-\",ROUND((Balance!S118/SUM(Balance!S$124))*100,1))","v":"-"},{"$f":"IF(Balance!T118=0,\"-\",ROUND((Balance!T118/SUM(Balance!T$124))*100,1))","v":0},{"$f":"IF(Balance!U118=0,\"-\",ROUND((Balance!U118/SUM(Balance!U$124))*100,1))","v":0},{"$f":"IF(Balance!V118=0,\"-\",ROUND((Balance!V118/SUM(Balance!V$124))*100,1))","v":0},{"$f":"IF(Balance!W118=0,\"-\",ROUND((Balance!W118/SUM(Balance!W$124))*100,1))","v":0.3},{"$f":"IF(Balance!X118=0,\"-\",ROUND((Balance!X118/SUM(Balance!X$124))*100,1))","v":0.7},{"$f":"IF(Balance!Y118=0,\"-\",ROUND((Balance!Y118/SUM(Balance!Y$124))*100,1))","v":1.3},{"$f":"IF(Balance!Z118=0,\"-\",ROUND((Balance!Z118/SUM(Balance!Z$124))*100,1))","v":1.7},{"$f":"IF(Balance!AA118=0,\"-\",ROUND((Balance!AA118/SUM(Balance!AA$124))*100,1))","v":2},{"$f":"IF(Balance!AB118=0,\"-\",ROUND((Balance!AB118/SUM(Balance!AB$124))*100,1))","v":2},{"$f":"IF(Balance!AC118=0,\"-\",ROUND((Balance!AC118/SUM(Balance!AC$124))*100,1))","v":2},{"$f":"IF(Balance!AD118=0,\"-\",ROUND((Balance!AD118/SUM(Balance!AD$124))*100,1))","v":2.2000000000000002},{"$f":"IF(Balance!AE118=0,\"-\",ROUND((Balance!AE118/SUM(Balance!AE$124))*100,1))","v":0.6},"-","-","-"]
[null,"Térmica renovable/Otras renovables",{"$f":"IF(Balance!C119=0,\"-\",ROUND((Balance!C119/SUM(Balance!C$124))*100,1))","v":"-"},{"$f":"IF(Balance!D119=0,\"-\",ROUND((Balance!D119/SUM(Balance!D$124))*100,1))","v":0},{"$f":"IF(Balance!E119=0,\"-\",ROUND((Balance!E119/SUM(Balance!E$124))*100,1))","v":0},{"$f":"IF(Balance!F119=0,\"-\",ROUND((Balance!F119/SUM(Balance!F$124))*100,1))","v":0},{"$f":"IF(Balance!G119=0,\"-\",ROUND((Balance!G119/SUM(Balance!G$124))*100,1))","v":0.2},{"$f":"IF(Balance!H119=0,\"-\",ROUND((Balance!H119/SUM(Balance!H$124))*100,1))","v":0.4},{"$f":"IF(Balance!I119=0,\"-\",ROUND((Balance!I119/SUM(Balance!I$124))*100,1))","v":0.5},{"$f":"IF(Balance!J119=0,\"-\",ROUND((Balance!J119/SUM(Balance!J$124))*100,1))","v":0.4},{"$f":"IF(Balance!K119=0,\"-\",ROUND((Balance!K119/SUM(Balance!K$124))*100,1))","v":0.4},{"$f":"IF(Balance!L119=0,\"-\",ROUND((Balance!L119/SUM(Balance!L$124))*100,1))","v":0.5},{"$f":"IF(Balance!M119=0,\"-\",ROUND((Balance!M119/SUM(Balance!M$124))*100,1))","v":0.5},{"$f":"IF(Balance!N119=0,\"-\",ROUND((Balance!N119/SUM(Balance!N$124))*100,1))","v":0.8},{"$f":"IF(Balance!O119=0,\"-\",ROUND((Balance!O119/SUM(Balance!O$124))*100,1))","v":0.7},{"$f":"IF(Balance!P119=0,\"-\",ROUND((Balance!P119/SUM(Balance!P$124))*100,1))","v":0.8},{"$f":"IF(Balance!Q119=0,\"-\",ROUND((Balance!Q119/SUM(Balance!Q$124))*100,1))","v":0.7},{"$f":"IF(Balance!R119=0,\"-\",ROUND((Balance!R119/SUM(Balance!R$124))*100,1))","v":0.8},{"$f":"IF(Balance!S119=0,\"-\",ROUND((Balance!S119/SUM(Balance!S$124))*100,1))","v":0.8},{"$f":"IF(Balance!T119=0,\"-\",ROUND((Balance!T119/SUM(Balance!T$124))*100,1))","v":0.9},{"$f":"IF(Balance!U119=0,\"-\",ROUND((Balance!U119/SUM(Balance!U$124))*100,1))","v":0.9},{"$f":"IF(Balance!V119=0,\"-\",ROUND((Balance!V119/SUM(Balance!V$124))*100,1))","v":1.2},{"$f":"IF(Balance!W119=0,\"-\",ROUND((Balance!W119/SUM(Balance!W$124))*100,1))","v":1.2},{"$f":"IF(Balance!X119=0,\"-\",ROUND((Balance!X119/SUM(Balance!X$124))*100,1))","v":1.6},{"$f":"IF(Balance!Y119=0,\"-\",ROUND((Balance!Y119/SUM(Balance!Y$124))*100,1))","v":1.8},{"$f":"IF(Balance!Z119=0,\"-\",ROUND((Balance!Z119/SUM(Balance!Z$124))*100,1))","v":1.9},{"$f":"IF(Balance!AA119=0,\"-\",ROUND((Balance!AA119/SUM(Balance!AA$124))*100,1))","v":1.9},{"$f":"IF(Balance!AB119=0,\"-\",ROUND((Balance!AB119/SUM(Balance!AB$124))*100,1))","v":1.2},{"$f":"IF(Balance!AC119=0,\"-\",ROUND((Balance!AC119/SUM(Balance!AC$124))*100,1))","v":1.4},{"$f":"IF(Balance!AD119=0,\"-\",ROUND((Balance!AD119/SUM(Balance!AD$124))*100,1))","v":1.4},{"$f":"IF(Balance!AE119=0,\"-\",ROUND((Balance!AE119/SUM(Balance!AE$124))*100,1))","v":1.4},"-","-","-"]
[null,"Térmica no renovable/Cogeneración y resto/Cogeneración",{"$f":"100-SUM(C84:C93,C95:C96)","v":0.5},{"$f":"100-SUM(D84:D93,D95:D96)","v":1.1000000000000085},1.2999999999999972,2.4000000000000199,3.7000000000000028,4.4000000000000057,5.8000000000000114,6.8999999999999773,8.2000000000000028,9.5,8.7000000000000028,8.6000000000000085,9.7000000000000028,10,9.7000000000000028,9.0999999999999943,8.5,8.5999999999999943,9.4999999999999858,10.700000000000003,11.299999999999997,11.999999999999986,12.400000000000006,12.199999999999989,10.099999999999994,10.099999999999994,10.299999999999997,11.399999999999991,11.599999999999994,"-","-","-"]
[null,"Residuos no renovables",{"$f":"IF(Balance!C121=\"-\",\"-\",ROUND((Balance!C121/SUM(Balance!C$124))*100,1))","v":"-"},{"$f":"IF(Balance!D121=\"-\",\"-\",ROUND((Balance!D121/SUM(Balance!D$124))*100,1))","v":"-"},{"$f":"IF(Balance!E121=\"-\",\"-\",ROUND((Balance!E121/SUM(Balance!E$124))*100,1))","v":"-"},{"$f":"IF(Balance!F121=\"-\",\"-\",ROUND((Balance!F121/SUM(Balance!F$124))*100,1))","v":"-"},{"$f":"IF(Balance!G121=\"-\",\"-\",ROUND((Balance!G121/SUM(Balance!G$124))*100,1))","v":"-"},{"$f":"IF(Balance!H121=\"-\",\"-\",ROUND((Balance!H121/SUM(Balance!H$124))*100,1))","v":"-"},{"$f":"IF(Balance!I121=\"-\",\"-\",ROUND((Balance!I121/SUM(Balance!I$124))*100,1))","v":"-"},{"$f":"IF(Balance!J121=\"-\",\"-\",ROUND((Balance!J121/SUM(Balance!J$124))*100,1))","v":"-"},{"$f":"IF(Balance!K121=\"-\",\"-\",ROUND((Balance!K121/SUM(Balance!K$124))*100,1))","v":"-"},{"$f":"IF(Balance!L121=\"-\",\"-\",ROUND((Balance!L121/SUM(Balance!L$124))*100,1))","v":"-"},{"$f":"IF(Balance!M121=\"-\",\"-\",ROUND((Balance!M121/SUM(Balance!M$124))*100,1))","v":"-"},{"$f":"IF(Balance!N121=\"-\",\"-\",ROUND((Balance!N121/SUM(Balance!N$124))*100,1))","v":"-"},{"$f":"IF(Balance!O121=\"-\",\"-\",ROUND((Balance!O121/SUM(Balance!O$124))*100,1))","v":"-"},{"$f":"IF(Balance!P121=\"-\",\"-\",ROUND((Balance!P121/SUM(Balance!P$124))*100,1))","v":"-"},{"$f":"IF(Balance!Q121=\"-\",\"-\",ROUND((Balance!Q121/SUM(Balance!Q$124))*100,1))","v":"-"},{"$f":"IF(Balance!R121=\"-\",\"-\",ROUND((Balance!R121/SUM(Balance!R$124))*100,1))","v":"-"},{"$f":"IF(Balance!S121=\"-\",\"-\",ROUND((Balance!S121/SUM(Balance!S$124))*100,1))","v":"-"},{"$f":"IF(Balance!T121=\"-\",\"-\",ROUND((Balance!T121/SUM(Balance!T$124))*100,1))","v":"-"},{"$f":"IF(Balance!U121=\"-\",\"-\",ROUND((Balance!U121/SUM(Balance!U$124))*100,1))","v":"-"},{"$f":"IF(Balance!V121=\"-\",\"-\",ROUND((Balance!V121/SUM(Balance!V$124))*100,1))","v":"-"},{"$f":"IF(Balance!W121=\"-\",\"-\",ROUND((Balance!W121/SUM(Balance!W$124))*100,1))","v":"-"},{"$f":"IF(Balance!X121=\"-\",\"-\",ROUND((Balance!X121/SUM(Balance!X$124))*100,1))","v":"-"},{"$f":"IF(Balance!Y121=\"-\",\"-\",ROUND((Balance!Y121/SUM(Balance!Y$124))*100,1))","v":"-"},{"$f":"IF(Balance!Z121=\"-\",\"-\",ROUND((Balance!Z121/SUM(Balance!Z$124))*100,1))","v":"-"},{"$f":"IF(Balance!AA121=\"-\",\"-\",ROUND((Balance!AA121/SUM(Balance!AA$124))*100,1))","v":"-"},{"$f":"IF(Balance!AB121=\"-\",\"-\",ROUND((Balance!AB121/SUM(Balance!AB$124))*100,1))","v":0.9},{"$f":"IF(Balance!AC121=\"-\",\"-\",ROUND((Balance!AC121/SUM(Balance!AC$124))*100,1))","v":1},{"$f":"IF(Balance!AD121=\"-\",\"-\",ROUND((Balance!AD121/SUM(Balance!AD$124))*100,1))","v":1},{"$f":"IF(Balance!AE121=\"-\",\"-\",ROUND((Balance!AE121/SUM(Balance!AE$124))*100,1))","v":1},"-","-","-"]
[null,"Residuos renovables",{"$f":"IF(Balance!C122=\"-\",\"-\",ROUND((Balance!C122/SUM(Balance!C$124))*100,1))","v":"-"},{"$f":"IF(Balance!D122=\"-\",\"-\",ROUND((Balance!D122/SUM(Balance!D$124))*100,1))","v":"-"},{"$f":"IF(Balance!E122=\"-\",\"-\",ROUND((Balance!E122/SUM(Balance!E$124))*100,1))","v":"-"},{"$f":"IF(Balance!F122=\"-\",\"-\",ROUND((Balance!F122/SUM(Balance!F$124))*100,1))","v":"-"},{"$f":"IF(Balance!G122=\"-\",\"-\",ROUND((Balance!G122/SUM(Balance!G$124))*100,1))","v":"-"},{"$f":"IF(Balance!H122=\"-\",\"-\",ROUND((Balance!H122/SUM(Balance!H$124))*100,1))","v":"-"},{"$f":"IF(Balance!I122=\"-\",\"-\",ROUND((Balance!I122/SUM(Balance!I$124))*100,1))","v":"-"},{"$f":"IF(Balance!J122=\"-\",\"-\",ROUND((Balance!J122/SUM(Balance!J$124))*100,1))","v":"-"},{"$f":"IF(Balance!K122=\"-\",\"-\",ROUND((Balance!K122/SUM(Balance!K$124))*100,1))","v":"-"},{"$f":"IF(Balance!L122=\"-\",\"-\",ROUND((Balance!L122/SUM(Balance!L$124))*100,1))","v":"-"},{"$f":"IF(Balance!M122=\"-\",\"-\",ROUND((Balance!M122/SUM(Balance!M$124))*100,1))","v":"-"},{"$f":"IF(Balance!N122=\"-\",\"-\",ROUND((Balance!N122/SUM(Balance!N$124))*100,1))","v":"-"},{"$f":"IF(Balance!O122=\"-\",\"-\",ROUND((Balance!O122/SUM(Balance!O$124))*100,1))","v":"-"},{"$f":"IF(Balance!P122=\"-\",\"-\",ROUND((Balance!P122/SUM(Balance!P$124))*100,1))","v":"-"},{"$f":"IF(Balance!Q122=\"-\",\"-\",ROUND((Balance!Q122/SUM(Balance!Q$124))*100,1))","v":"-"},{"$f":"IF(Balance!R122=\"-\",\"-\",ROUND((Balance!R122/SUM(Balance!R$124))*100,1))","v":"-"},{"$f":"IF(Balance!S122=\"-\",\"-\",ROUND((Balance!S122/SUM(Balance!S$124))*100,1))","v":"-"},{"$f":"IF(Balance!T122=\"-\",\"-\",ROUND((Balance!T122/SUM(Balance!T$124))*100,1))","v":"-"},{"$f":"IF(Balance!U122=\"-\",\"-\",ROUND((Balance!U122/SUM(Balance!U$124))*100,1))","v":"-"},{"$f":"IF(Balance!V122=\"-\",\"-\",ROUND((Balance!V122/SUM(Balance!V$124))*100,1))","v":"-"},{"$f":"IF(Balance!W122=\"-\",\"-\",ROUND((Balance!W122/SUM(Balance!W$124))*100,1))","v":"-"},{"$f":"IF(Balance!X122=\"-\",\"-\",ROUND((Balance!X122/SUM(Balance!X$124))*100,1))","v":"-"},{"$f":"IF(Balance!Y122=\"-\",\"-\",ROUND((Balance!Y122/SUM(Balance!Y$124))*100,1))","v":"-"},{"$f":"IF(Balance!Z122=\"-\",\"-\",ROUND((Balance!Z122/SUM(Balance!Z$124))*100,1))","v":"-"},{"$f":"IF(Balance!AA122=\"-\",\"-\",ROUND((Balance!AA122/SUM(Balance!AA$124))*100,1))","v":"-"},{"$f":"IF(Balance!AB122=\"-\",\"-\",ROUND((Balance!AB122/SUM(Balance!AB$124))*100,1))","v":0.3},{"$f":"IF(Balance!AC122=\"-\",\"-\",ROUND((Balance!AC122/SUM(Balance!AC$124))*100,1))","v":0.3},{"$f":"IF(Balance!AD122=\"-\",\"-\",ROUND((Balance!AD122/SUM(Balance!AD$124))*100,1))","v":0.3},{"$f":"IF(Balance!AE122=\"-\",\"-\",ROUND((Balance!AE122/SUM(Balance!AE$124))*100,1))","v":0.3},"-","-","-"]
[null,"Generación renovable",{"$f":"SUM(C84,C90:C93,C96)","v":18},{"$f":"SUM(D84,D90:D93,D96)","v":18.600000000000001},13,16.8,19.099999999999998,15.5,26.099999999999998,21.799999999999997,21.7,15.6,17.100000000000001,23.6,15,23.400000000000002,19.899999999999999,16.2,19.099999999999998,20.999999999999996,21.299999999999997,27.6,34.800000000000004,32.4,31.599999999999998,41.9,42.4,36.5,40.299999999999997,33.599999999999994,38.4,"-","-","-"]
[null,"Generación no renovable",{"$f":"SUM(C85:C89,C94:C95)","v":82},{"$f":"SUM(D85:D89,D94:D95)","v":81.400000000000006},87,83.200000000000017,80.900000000000006,84.5,73.90000000000002,78.199999999999989,78.3,84.399999999999991,82.9,76.400000000000006,85,76.600000000000009,80.100000000000009,83.8,80.900000000000006,79,78.699999999999989,72.400000000000006,65.2,67.599999999999994,68.400000000000006,58.099999999999987,57.599999999999994,63.499999999999993,59.7,66.399999999999991,61.599999999999994,"-","-","-"]
[]
[null,"Estructura de generación anual Islas Baleares (%)",2006,2007,2008,2009,2010,2011,2012,2013,2014,2015,2016,2017,2018,2019,2020,2021]
[null,"Carbón",{"$f":"100-SUM(C102:C111)","v":52.8},{"$f":"100-SUM(D102:D111)","v":49.3},50.5,52.8,53.199999999999996,48.099999999999994,50.999999999999993,53.3,50.9,41.899999999999991,50.3,53.699999999999996,55.6,"-","-","-"]
[null,"Motores diesel",{"$f":"IF(Balance!C132=0,\"-\",ROUND((Balance!C132/Balance!C$145)*100,1))","v":16.600000000000001},{"$f":"IF(Balance!D132=0,\"-\",ROUND((Balance!D132/Balance!D$145)*100,1))","v":16.8},{"$f":"IF(Balance!E132=0,\"-\",ROUND((Balance!E132/Balance!E$145)*100,1))","v":17.100000000000001},{"$f":"IF(Balance!F132=0,\"-\",ROUND((Balance!F132/Balance!F$145)*100,1))","v":16.2},{"$f":"IF(Balance!G132=0,\"-\",ROUND((Balance!G132/Balance!G$145)*100,1))","v":17.600000000000001},{"$f":"IF(Balance!H132=0,\"-\",ROUND((Balance!H132/Balance!H$145)*100,1))","v":16.100000000000001},{"$f":"IF(Balance!I132=0,\"-\",ROUND((Balance!I132/Balance!I$145)*100,1))","v":17.8},{"$f":"IF(Balance!J132=0,\"-\",ROUND((Balance!J132/Balance!J$145)*100,1))","v":16.899999999999999},{"$f":"IF(Balance!K132=0,\"-\",ROUND((Balance!K132/Balance!K$145)*100,1))","v":15.7},{"$f":"IF(Balance!L132=0,\"-\",ROUND((Balance!L132/Balance!L$145)*100,1))","v":16.399999999999999},{"$f":"IF(Balance!M132=0,\"-\",ROUND((Balance!M132/Balance!M$145)*100,1))","v":21},{"$f":"IF(Balance!N132=0,\"-\",ROUND((Balance!N132/Balance!N$145)*100,1))","v":16.5},{"$f":"IF(Balance!O132=0,\"-\",ROUND((Balance!O132/Balance!O$145)*100,1))","v":10.9},"-","-","-"]
[null,"Turbina de gas",{"$f":"IF(Balance!C133=0,\"-\",ROUND((Balance!C133/Balance!C$145)*100,1))","v":5},{"$f":"IF(Balance!D133=0,\"-\",ROUND((Balance!D133/Balance!D$145)*100,1))","v":5.2},{"$f":"IF(Balance!E133=0,\"-\",ROUND((Balance!E133/Balance!E$145)*100,1))","v":4.5},{"$f":"IF(Balance!F133=0,\"-\",ROUND((Balance!F133/Balance!F$145)*100,1))","v":5.7},{"$f":"IF(Balance!G133=0,\"-\",ROUND((Balance!G133/Balance!G$145)*100,1))","v":5.0999999999999996},{"$f":"IF(Balance!H133=0,\"-\",ROUND((Balance!H133/Balance!H$145)*100,1))","v":6.1},{"$f":"IF(Balance!I133=0,\"-\",ROUND((Balance!I133/Balance!I$145)*100,1))","v":6.5},{"$f":"IF(Balance!J133=0,\"-\",ROUND((Balance!J133/Balance!J$145)*100,1))","v":11.6},{"$f":"IF(Balance!K133=0,\"-\",ROUND((Balance!K133/Balance!K$145)*100,1))","v":13.6},{"$f":"IF(Balance!L133=0,\"-\",ROUND((Balance!L133/Balance!L$145)*100,1))","v":13.1},{"$f":"IF(Balance!M133=0,\"-\",ROUND((Balance!M133/Balance!M$145)*100,1))","v":7.4},{"$f":"IF(Balance!N133=0,\"-\",ROUND((Balance!N133/Balance!N$145)*100,1))","v":11.4},{"$f":"IF(Balance!O133=0,\"-\",ROUND((Balance!O133/Balance!O$145)*100,1))","v":17},"-","-","-"]
[null,"Ciclo combinado",{"$f":"IF(Balance!C135=0,\"-\",ROUND((Balance!C135/Balance!C$145)*100,1))","v":23},{"$f":"IF(Balance!D135=0,\"-\",ROUND((Balance!D135/Balance!D$145)*100,1))","v":26.5},{"$f":"IF(Balance!E135=0,\"-\",ROUND((Balance!E135/Balance!E$145)*100,1))","v":24.9},{"$f":"IF(Balance!F135=0,\"-\",ROUND((Balance!F135/Balance!F$145)*100,1))","v":21.6},{"$f":"IF(Balance!G135=0,\"-\",ROUND((Balance!G135/Balance!G$145)*100,1))","v":19.399999999999999},{"$f":"IF(Balance!H135=0,\"-\",ROUND((Balance!H135/Balance!H$145)*100,1))","v":23.1},{"$f":"IF(Balance!I135=0,\"-\",ROUND((Balance!I135/Balance!I$145)*100,1))","v":17},{"$f":"IF(Balance!J135=0,\"-\",ROUND((Balance!J135/Balance!J$145)*100,1))","v":9.4},{"$f":"IF(Balance!K135=0,\"-\",ROUND((Balance!K135/Balance!K$145)*100,1))","v":10},{"$f":"IF(Balance!L135=0,\"-\",ROUND((Balance!L135/Balance!L$145)*100,1))","v":18.100000000000001},{"$f":"IF(Balance!M135=0,\"-\",ROUND((Balance!M135/Balance!M$145)*100,1))","v":11.8},{"$f":"IF(Balance!N135=0,\"-\",ROUND((Balance!N135/Balance!N$145)*100,1))","v":8.8000000000000007},{"$f":"IF(Balance!O135=0,\"-\",ROUND((Balance!O135/Balance!O$145)*100,1))","v":9.1999999999999993},"-","-","-"]
[null,"Generación auxiliar",{"$f":"IF(Balance!C136=0,\"-\",ROUND((Balance!C136/Balance!C$145)*100,1))","v":0.1},{"$f":"IF(Balance!D136=0,\"-\",ROUND((Balance!D136/Balance!D$145)*100,1))","v":0.2},{"$f":"IF(Balance!E136=0,\"-\",ROUND((Balance!E136/Balance!E$145)*100,1))","v":0.1},{"$f":"IF(Balance!F136=0,\"-\",ROUND((Balance!F136/Balance!F$145)*100,1))","v":0.1},{"$f":"IF(Balance!G136=0,\"-\",ROUND((Balance!G136/Balance!G$145)*100,1))","v":0.1},{"$f":"IF(Balance!H136=0,\"-\",ROUND((Balance!H136/Balance!H$145)*100,1))","v":0.2},{"$f":"IF(Balance!I136=0,\"-\",ROUND((Balance!I136/Balance!I$145)*100,1))","v":0.2},{"$f":"IF(Balance!J136=0,\"-\",ROUND((Balance!J136/Balance!J$145)*100,1))","v":0.2},{"$f":"IF(Balance!K136=0,\"-\",ROUND((Balance!K136/Balance!K$145)*100,1))","v":0.2},{"$f":"IF(Balance!L136=0,\"-\",ROUND((Balance!L136/Balance!L$145)*100,1))","v":0.2},{"$f":"IF(Balance!M136=0,\"-\",ROUND((Balance!M136/Balance!M$145)*100,1))","v":0.2},{"$f":"IF(Balance!N136=0,\"-\",ROUND((Balance!N136/Balance!N$145)*100,1))","v":0.3},{"$f":"IF(Balance!O136=0,\"-\",ROUND((Balance!O136/Balance!O$145)*100,1))","v":"-"},"-","-","-"]
[null,"Eólica",{"$f":"IF(Balance!C138=0,\"-\",ROUND((Balance!C138/Balance!C$145)*100,1))","v":0.1},{"$f":"IF(Balance!D138=0,\"-\",ROUND((Balance!D138/Balance!D$145)*100,1))","v":0.1},{"$f":"IF(Balance!E138=0,\"-\",ROUND((Balance!E138/Balance!E$145)*100,1))","v":0.1},{"$f":"IF(Balance!F138=0,\"-\",ROUND((Balance!F138/Balance!F$145)*100,1))","v":0.1},{"$f":"IF(Balance!G138=0,\"-\",ROUND((Balance!G138/Balance!G$145)*100,1))","v":0.1},{"$f":"IF(Balance!H138=0,\"-\",ROUND((Balance!H138/Balance!H$145)*100,1))","v":0.1},{"$f":"IF(Balance!I138=0,\"-\",ROUND((Balance!I138/Balance!I$145)*100,1))","v":0.1},{"$f":"IF(Balance!J138=0,\"-\",ROUND((Balance!J138/Balance!J$145)*100,1))","v":0.1},{"$f":"IF(Balance!K138=0,\"-\",ROUND((Balance!K138/Balance!K$145)*100,1))","v":0.1},{"$f":"IF(Balance!L138=0,\"-\",ROUND((Balance!L138/Balance!L$145)*100,1))","v":0.1},{"$f":"IF(Balance!M138=0,\"-\",ROUND((Balance!M138/Balance!M$145)*100,1))","v":0.1},{"$f":"IF(Balance!N138=0,\"-\",ROUND((Balance!N138/Balance!N$145)*100,1))","v":0.1},{"$f":"IF(Balance!O138=0,\"-\",ROUND((Balance!O138/Balance!O$145)*100,1))","v":0.1},"-","-","-"]
[null,"Solar fotovoltaica",{"$f":"IF(Balance!C139=0,\"-\",ROUND((Balance!C139/Balance!C$145)*100,1))","v":0},{"$f":"IF(Balance!D139=0,\"-\",ROUND((Balance!D139/Balance!D$145)*100,1))","v":0},{"$f":"IF(Balance!E139=0,\"-\",ROUND((Balance!E139/Balance!E$145)*100,1))","v":0.5},{"$f":"IF(Balance!F139=0,\"-\",ROUND((Balance!F139/Balance!F$145)*100,1))","v":1.4},{"$f":"IF(Balance!G139=0,\"-\",ROUND((Balance!G139/Balance!G$145)*100,1))","v":1.5},{"$f":"IF(Balance!H139=0,\"-\",ROUND((Balance!H139/Balance!H$145)*100,1))","v":1.8},{"$f":"IF(Balance!I139=0,\"-\",ROUND((Balance!I139/Balance!I$145)*100,1))","v":2.2000000000000002},{"$f":"IF(Balance!J139=0,\"-\",ROUND((Balance!J139/Balance!J$145)*100,1))","v":2.8},{"$f":"IF(Balance!K139=0,\"-\",ROUND((Balance!K139/Balance!K$145)*100,1))","v":2.9},{"$f":"IF(Balance!L139=0,\"-\",ROUND((Balance!L139/Balance!L$145)*100,1))","v":2.7},{"$f":"IF(Balance!M139=0,\"-\",ROUND((Balance!M139/Balance!M$145)*100,1))","v":2.6},{"$f":"IF(Balance!N139=0,\"-\",ROUND((Balance!N139/Balance!N$145)*100,1))","v":2.5},{"$f":"IF(Balance!O139=0,\"-\",ROUND((Balance!O139/Balance!O$145)*100,1))","v":1.9},"-","-","-"]
[null,"Térmica renovable/Otras renovables",{"$f":"IF(Balance!C140=0,\"-\",ROUND((Balance!C140/Balance!C$145)*100,1))","v":"-"},{"$f":"IF(Balance!D140=0,\"-\",ROUND((Balance!D140/Balance!D$145)*100,1))","v":"-"},{"$f":"IF(Balance!E140=0,\"-\",ROUND((Balance!E140/Balance!E$145)*100,1))","v":"-"},{"$f":"IF(Balance!F140=0,\"-\",ROUND((Balance!F140/Balance!F$145)*100,1))","v":"-"},{"$f":"IF(Balance!G140=0,\"-\",ROUND((Balance!G140/Balance!G$145)*100,1))","v":"-"},{"$f":"IF(Balance!H140=0,\"-\",ROUND((Balance!H140/Balance!H$145)*100,1))","v":"-"},{"$f":"IF(Balance!I140=0,\"-\",ROUND((Balance!I140/Balance!I$145)*100,1))","v":0},{"$f":"IF(Balance!J140=0,\"-\",ROUND((Balance!J140/Balance!J$145)*100,1))","v":0},{"$f":"IF(Balance!K140=0,\"-\",ROUND((Balance!K140/Balance!K$145)*100,1))","v":0},{"$f":"IF(Balance!L140=0,\"-\",ROUND((Balance!L140/Balance!L$145)*100,1))","v":0},{"$f":"IF(Balance!M140=0,\"-\",ROUND((Balance!M140/Balance!M$145)*100,1))","v":0},{"$f":"IF(Balance!N140=0,\"-\",ROUND((Balance!N140/Balance!N$145)*100,1))","v":0},{"$f":"IF(Balance!O140=0,\"-\",ROUND((Balance!O140/Balance!O$145)*100,1))","v":0},"-","-","-"]
[null,"Térmica no renovable/Cogeneración y resto/Cogeneración",{"$f":"IF(Balance!C141=0,\"-\",ROUND((Balance!C141/Balance!C$145)*100,1))","v":2.4},{"$f":"IF(Balance!D141=0,\"-\",ROUND((Balance!D141/Balance!D$145)*100,1))","v":1.9},{"$f":"IF(Balance!E141=0,\"-\",ROUND((Balance!E141/Balance!E$145)*100,1))","v":2.2999999999999998},{"$f":"IF(Balance!F141=0,\"-\",ROUND((Balance!F141/Balance!F$145)*100,1))","v":2.1},{"$f":"IF(Balance!G141=0,\"-\",ROUND((Balance!G141/Balance!G$145)*100,1))","v":3},{"$f":"IF(Balance!H141=0,\"-\",ROUND((Balance!H141/Balance!H$145)*100,1))","v":4.5},{"$f":"IF(Balance!I141=0,\"-\",ROUND((Balance!I141/Balance!I$145)*100,1))","v":5.2},{"$f":"IF(Balance!J141=0,\"-\",ROUND((Balance!J141/Balance!J$145)*100,1))","v":5.7},{"$f":"IF(Balance!K141=0,\"-\",ROUND((Balance!K141/Balance!K$145)*100,1))","v":6.6},{"$f":"IF(Balance!L141=0,\"-\",ROUND((Balance!L141/Balance!L$145)*100,1))","v":0.7},{"$f":"IF(Balance!M141=0,\"-\",ROUND((Balance!M141/Balance!M$145)*100,1))","v":0.8},{"$f":"IF(Balance!N141=0,\"-\",ROUND((Balance!N141/Balance!N$145)*100,1))","v":0.7},{"$f":"IF(Balance!O141=0,\"-\",ROUND((Balance!O141/Balance!O$145)*100,1))","v":0.9},"-","-","-"]
[null,"Residuos no renovables",{"$f":"IF(Balance!C142=\"-\",\"-\",ROUND((Balance!C142/Balance!C$145)*100,1))","v":"-"},{"$f":"IF(Balance!D142=\"-\",\"-\",ROUND((Balance!D142/Balance!D$145)*100,1))","v":"-"},{"$f":"IF(Balance!E142=\"-\",\"-\",ROUND((Balance!E142/Balance!E$145)*100,1))","v":"-"},{"$f":"IF(Balance!F142=\"-\",\"-\",ROUND((Balance!F142/Balance!F$145)*100,1))","v":"-"},{"$f":"IF(Balance!G142=\"-\",\"-\",ROUND((Balance!G142/Balance!G$145)*100,1))","v":"-"},{"$f":"IF(Balance!H142=\"-\",\"-\",ROUND((Balance!H142/Balance!H$145)*100,1))","v":"-"},{"$f":"IF(Balance!I142=\"-\",\"-\",ROUND((Balance!I142/Balance!I$145)*100,1))","v":"-"},{"$f":"IF(Balance!J142=\"-\",\"-\",ROUND((Balance!J142/Balance!J$145)*100,1))","v":"-"},{"$f":"IF(Balance!K142=\"-\",\"-\",ROUND((Balance!K142/Balance!K$145)*100,1))","v":"-"},{"$f":"IF(Balance!L142=\"-\",\"-\",ROUND((Balance!L142/Balance!L$145)*100,1))","v":3.4},{"$f":"IF(Balance!M142=\"-\",\"-\",ROUND((Balance!M142/Balance!M$145)*100,1))","v":2.9},{"$f":"IF(Balance!N142=\"-\",\"-\",ROUND((Balance!N142/Balance!N$145)*100,1))","v":3},{"$f":"IF(Balance!O142=\"-\",\"-\",ROUND((Balance!O142/Balance!O$145)*100,1))","v":2.2000000000000002},"-","-","-"]
[null,"Residuos renovables",{"$f":"IF(Balance!C143=\"-\",\"-\",ROUND((Balance!C143/Balance!C$145)*100,1))","v":"-"},{"$f":"IF(Balance!D143=\"-\",\"-\",ROUND((Balance!D143/Balance!D$145)*100,1))","v":"-"},{"$f":"IF(Balance!E143=\"-\",\"-\",ROUND((Balance!E143/Balance!E$145)*100,1))","v":"-"},{"$f":"IF(Balance!F143=\"-\",\"-\",ROUND((Balance!F143/Balance!F$145)*100,1))","v":"-"},{"$f":"IF(Balance!G143=\"-\",\"-\",ROUND((Balance!G143/Balance!G$145)*100,1))","v":"-"},{"$f":"IF(Balance!H143=\"-\",\"-\",ROUND((Balance!H143/Balance!H$145)*100,1))","v":"-"},{"$f":"IF(Balance!I143=\"-\",\"-\",ROUND((Balance!I143/Balance!I$145)*100,1))","v":"-"},{"$f":"IF(Balance!J143=\"-\",\"-\",ROUND((Balance!J143/Balance!J$145)*100,1))","v":"-"},{"$f":"IF(Balance!K143=\"-\",\"-\",ROUND((Balance!K143/Balance!K$145)*100,1))","v":"-"},{"$f":"IF(Balance!L143=\"-\",\"-\",ROUND((Balance!L143/Balance!L$145)*100,1))","v":3.4},{"$f":"IF(Balance!M143=\"-\",\"-\",ROUND((Balance!M143/Balance!M$145)*100,1))","v":2.9},{"$f":"IF(Balance!N143=\"-\",\"-\",ROUND((Balance!N143/Balance!N$145)*100,1))","v":3},{"$f":"IF(Balance!O143=\"-\",\"-\",ROUND((Balance!O143/Balance!O$145)*100,1))","v":2.2000000000000002},"-","-","-"]
[null,"Generación renovable",{"$f":"SUM(C106:C108,C111)","v":0.1},{"$f":"SUM(D106:D108,D111)","v":0.1},0.6,1.5,1.6,1.9000000000000001,2.3000000000000003,2.9,3,6.2,5.6,5.6,4.2,"-","-","-"]
[null,"Generación no renovable",{"$f":"SUM(C101:C105,C109:C110)","v":99.9},{"$f":"SUM(D101:D105,D109:D110)","v":99.9},99.399999999999991,98.5,98.399999999999977,98.09999999999998,97.7,97.1,96.999999999999986,93.800000000000011,94.4,94.399999999999991,95.800000000000011,"-","-","-"]
[]
[null,"Estructura de generación anual Islas Canarias (%)",2006,2007,2008,2009,2010,2011,2012,2013,2014,2015,2016,2017,2018,2019,2020,2021]
[null,"Hidráulica",{"$f":"IF(SUM(Balance!C150,Balance!C159)=0,\"-\",ROUND((SUM(Balance!C159,Balance!C150)/Balance!C$165)*100,1))","v":"-"},{"$f":"IF(SUM(Balance!D150,Balance!D159)=0,\"-\",ROUND((SUM(Balance!D159,Balance!D150)/Balance!D$165)*100,1))","v":0},{"$f":"IF(SUM(Balance!E150,Balance!E159)=0,\"-\",ROUND((SUM(Balance!E159,Balance!E150)/Balance!E$165)*100,1))","v":0},{"$f":"IF(SUM(Balance!F150,Balance!F159)=0,\"-\",ROUND((SUM(Balance!F159,Balance!F150)/Balance!F$165)*100,1))","v":0},{"$f":"IF(SUM(Balance!G150,Balance!G159)=0,\"-\",ROUND((SUM(Balance!G159,Balance!G150)/Balance!G$165)*100,1))","v":"-"},{"$f":"IF(SUM(Balance!H150,Balance!H159)=0,\"-\",ROUND((SUM(Balance!H159,Balance!H150)/Balance!H$165)*100,1))","v":0},{"$f":"IF(SUM(Balance!I150,Balance!I159)=0,\"-\",ROUND((SUM(Balance!I159,Balance!I150)/Balance!I$165)*100,1))","v":0},{"$f":"IF(SUM(Balance!J150,Balance!J159)=0,\"-\",ROUND((SUM(Balance!J159,Balance!J150)/Balance!J$165)*100,1))","v":0},{"$f":"IF(SUM(Balance!K150,Balance!K159)=0,\"-\",ROUND((SUM(Balance!K159,Balance!K150)/Balance!K$165)*100,1))","v":0},{"$f":"IF(SUM(Balance!L150,Balance!L159)=0,\"-\",ROUND((SUM(Balance!L159,Balance!L150)/Balance!L$165)*100,1))","v":0},{"$f":"IF(SUM(Balance!M150,Balance!M159)=0,\"-\",ROUND((SUM(Balance!M159,Balance!M150)/Balance!M$165)*100,1))","v":0},{"$f":"IF(SUM(Balance!N150,Balance!N159)=0,\"-\",ROUND((SUM(Balance!N159,Balance!N150)/Balance!N$165)*100,1))","v":0},{"$f":"IF(SUM(Balance!O150,Balance!O159)=0,\"-\",ROUND((SUM(Balance!O159,Balance!O150)/Balance!O$165)*100,1))","v":"-"},"-","-","-"]
[null,"Motores diesel",{"$f":"IF(Balance!C151=0,\"-\",ROUND((Balance!C151/Balance!C$165)*100,1))","v":22.8},{"$f":"IF(Balance!D151=0,\"-\",ROUND((Balance!D151/Balance!D$165)*100,1))","v":22.2},{"$f":"IF(Balance!E151=0,\"-\",ROUND((Balance!E151/Balance!E$165)*100,1))","v":22.5},{"$f":"IF(Balance!F151=0,\"-\",ROUND((Balance!F151/Balance!F$165)*100,1))","v":23.5},{"$f":"IF(Balance!G151=0,\"-\",ROUND((Balance!G151/Balance!G$165)*100,1))","v":24.5},{"$f":"IF(Balance!H151=0,\"-\",ROUND((Balance!H151/Balance!H$165)*100,1))","v":24.4},{"$f":"IF(Balance!I151=0,\"-\",ROUND((Balance!I151/Balance!I$165)*100,1))","v":23.7},{"$f":"IF(Balance!J151=0,\"-\",ROUND((Balance!J151/Balance!J$165)*100,1))","v":24.1},{"$f":"IF(Balance!K151=0,\"-\",ROUND((Balance!K151/Balance!K$165)*100,1))","v":25},{"$f":"IF(Balance!L151=0,\"-\",ROUND((Balance!L151/Balance!L$165)*100,1))","v":25.5},{"$f":"IF(Balance!M151=0,\"-\",ROUND((Balance!M151/Balance!M$165)*100,1))","v":25.4},{"$f":"IF(Balance!N151=0,\"-\",ROUND((Balance!N151/Balance!N$165)*100,1))","v":27.6},{"$f":"IF(Balance!O151=0,\"-\",ROUND((Balance!O151/Balance!O$165)*100,1))","v":24.8},"-","-","-"]
[null,"Turbina de gas",{"$f":"IF(Balance!C152=0,\"-\",ROUND((Balance!C152/Balance!C$165)*100,1))","v":9.3000000000000007},{"$f":"IF(Balance!D152=0,\"-\",ROUND((Balance!D152/Balance!D$165)*100,1))","v":7.6},{"$f":"IF(Balance!E152=0,\"-\",ROUND((Balance!E152/Balance!E$165)*100,1))","v":5.0999999999999996},{"$f":"IF(Balance!F152=0,\"-\",ROUND((Balance!F152/Balance!F$165)*100,1))","v":3.8},{"$f":"IF(Balance!G152=0,\"-\",ROUND((Balance!G152/Balance!G$165)*100,1))","v":3.9},{"$f":"IF(Balance!H152=0,\"-\",ROUND((Balance!H152/Balance!H$165)*100,1))","v":6},{"$f":"IF(Balance!I152=0,\"-\",ROUND((Balance!I152/Balance!I$165)*100,1))","v":6.6},{"$f":"IF(Balance!J152=0,\"-\",ROUND((Balance!J152/Balance!J$165)*100,1))","v":4.3},{"$f":"IF(Balance!K152=0,\"-\",ROUND((Balance!K152/Balance!K$165)*100,1))","v":4.2},{"$f":"IF(Balance!L152=0,\"-\",ROUND((Balance!L152/Balance!L$165)*100,1))","v":3.8},{"$f":"IF(Balance!M152=0,\"-\",ROUND((Balance!M152/Balance!M$165)*100,1))","v":3.2},{"$f":"IF(Balance!N152=0,\"-\",ROUND((Balance!N152/Balance!N$165)*100,1))","v":2.8},{"$f":"IF(Balance!O152=0,\"-\",ROUND((Balance!O152/Balance!O$165)*100,1))","v":3},"-","-","-"]
[null,"Turbina de vapor",{"$f":"IF(Balance!C153=0,\"-\",ROUND((Balance!C153/Balance!C$165)*100,1))","v":38.9},{"$f":"IF(Balance!D153=0,\"-\",ROUND((Balance!D153/Balance!D$165)*100,1))","v":35.9},{"$f":"IF(Balance!E153=0,\"-\",ROUND((Balance!E153/Balance!E$165)*100,1))","v":36.6},{"$f":"IF(Balance!F153=0,\"-\",ROUND((Balance!F153/Balance!F$165)*100,1))","v":35.6},{"$f":"IF(Balance!G153=0,\"-\",ROUND((Balance!G153/Balance!G$165)*100,1))","v":33.4},{"$f":"IF(Balance!H153=0,\"-\",ROUND((Balance!H153/Balance!H$165)*100,1))","v":29.7},{"$f":"IF(Balance!I153=0,\"-\",ROUND((Balance!I153/Balance!I$165)*100,1))","v":30.2},{"$f":"IF(Balance!J153=0,\"-\",ROUND((Balance!J153/Balance!J$165)*100,1))","v":28.6},{"$f":"IF(Balance!K153=0,\"-\",ROUND((Balance!K153/Balance!K$165)*100,1))","v":24.2},{"$f":"IF(Balance!L153=0,\"-\",ROUND((Balance!L153/Balance!L$165)*100,1))","v":25.7},{"$f":"IF(Balance!M153=0,\"-\",ROUND((Balance!M153/Balance!M$165)*100,1))","v":28.9},{"$f":"IF(Balance!N153=0,\"-\",ROUND((Balance!N153/Balance!N$165)*100,1))","v":28.2},{"$f":"IF(Balance!O153=0,\"-\",ROUND((Balance!O153/Balance!O$165)*100,1))","v":30},"-","-","-"]
[null,"Ciclo combinado",{"$f":"100-SUM(C116:C119,C121:C126)","v":22.799999999999997},{"$f":"100-SUM(D116:D119,D121:D126)","v":26.5},27.599999999999994,28,30.5,32.900000000000006,32.400000000000006,35.400000000000006,38.700000000000003,36.999999999999993,34.5,{"$f":"100-SUM(N116:N119,N121:N126)","v":33.600000000000009},31.5,"-","-","-"]
[null,"Generación auxiliar",{"$f":"IF(Balance!C156=0,\"-\",ROUND((Balance!C156/Balance!C$165)*100,1))","v":"-"},{"$f":"IF(Balance!D156=0,\"-\",ROUND((Balance!D156/Balance!D$165)*100,1))","v":1.4},{"$f":"IF(Balance!E156=0,\"-\",ROUND((Balance!E156/Balance!E$165)*100,1))","v":1},{"$f":"IF(Balance!F156=0,\"-\",ROUND((Balance!F156/Balance!F$165)*100,1))","v":0.4},{"$f":"IF(Balance!G156=0,\"-\",ROUND((Balance!G156/Balance!G$165)*100,1))","v":"-"},{"$f":"IF(Balance!H156=0,\"-\",ROUND((Balance!H156/Balance!H$165)*100,1))","v":"-"},{"$f":"IF(Balance!I156=0,\"-\",ROUND((Balance!I156/Balance!I$165)*100,1))","v":"-"},{"$f":"IF(Balance!J156=0,\"-\",ROUND((Balance!J156/Balance!J$165)*100,1))","v":"-"},{"$f":"IF(Balance!K156=0,\"-\",ROUND((Balance!K156/Balance!K$165)*100,1))","v":"-"},{"$f":"IF(Balance!L156=0,\"-\",ROUND((Balance!L156/Balance!L$165)*100,1))","v":"-"},{"$f":"IF(Balance!M156=0,\"-\",ROUND((Balance!M156/Balance!M$165)*100,1))","v":"-"},{"$f":"IF(Balance!N156=0,\"-\",ROUND((Balance!N156/Balance!N$165)*100,1))","v":"-"},{"$f":"IF(Balance!O156=0,\"-\",ROUND((Balance!O156/Balance!O$165)*100,1))","v":"-"},"-","-","-"]
[null,"Hidroeólica",{"$f":"IF(Balance!C158=\"-\",\"-\",ROUND((Balance!C158/Balance!C$165)*100,1))","v":"-"},{"$f":"IF(Balance!D158=\"-\",\"-\",ROUND((Balance!D158/Balance!D$165)*100,1))","v":"-"},{"$f":"IF(Balance!E158=\"-\",\"-\",ROUND((Balance!E158/Balance!E$165)*100,1))","v":"-"},{"$f":"IF(Balance!F158=\"-\",\"-\",ROUND((Balance!F158/Balance!F$165)*100,1))","v":"-"},{"$f":"IF(Balance!G158=\"-\",\"-\",ROUND((Balance!G158/Balance!G$165)*100,1))","v":"-"},{"$f":"IF(Balance!H158=\"-\",\"-\",ROUND((Balance!H158/Balance!H$165)*100,1))","v":"-"},{"$f":"IF(Balance!I158=\"-\",\"-\",ROUND((Balance!I158/Balance!I$165)*100,1))","v":"-"},{"$f":"IF(Balance!J158=\"-\",\"-\",ROUND((Balance!J158/Balance!J$165)*100,1))","v":"-"},{"$f":"IF(Balance!K158=\"-\",\"-\",ROUND((Balance!K158/Balance!K$165)*100,1))","v":0},{"$f":"IF(Balance!L158=\"-\",\"-\",ROUND((Balance!L158/Balance!L$165)*100,1))","v":0.1},{"$f":"IF(Balance!M158=\"-\",\"-\",ROUND((Balance!M158/Balance!M$165)*100,1))","v":0.2},{"$f":"IF(Balance!N158=\"-\",\"-\",ROUND((Balance!N158/Balance!N$165)*100,1))","v":0.2},{"$f":"IF(Balance!O158=\"-\",\"-\",ROUND((Balance!O158/Balance!O$165)*100,1))","v":0.3},"-","-","-"]
[null,"Eólica",{"$f":"IF(Balance!C160=0,\"-\",ROUND((Balance!C160/Balance!C$165)*100,1))","v":3.7},{"$f":"IF(Balance!D160=0,\"-\",ROUND((Balance!D160/Balance!D$165)*100,1))","v":3.9},{"$f":"IF(Balance!E160=0,\"-\",ROUND((Balance!E160/Balance!E$165)*100,1))","v":4.2},{"$f":"IF(Balance!F160=0,\"-\",ROUND((Balance!F160/Balance!F$165)*100,1))","v":3.9},{"$f":"IF(Balance!G160=0,\"-\",ROUND((Balance!G160/Balance!G$165)*100,1))","v":3.7},{"$f":"IF(Balance!H160=0,\"-\",ROUND((Balance!H160/Balance!H$165)*100,1))","v":4},{"$f":"IF(Balance!I160=0,\"-\",ROUND((Balance!I160/Balance!I$165)*100,1))","v":4.0999999999999996},{"$f":"IF(Balance!J160=0,\"-\",ROUND((Balance!J160/Balance!J$165)*100,1))","v":4.2},{"$f":"IF(Balance!K160=0,\"-\",ROUND((Balance!K160/Balance!K$165)*100,1))","v":4.5},{"$f":"IF(Balance!L160=0,\"-\",ROUND((Balance!L160/Balance!L$165)*100,1))","v":4.5999999999999996},{"$f":"IF(Balance!M160=0,\"-\",ROUND((Balance!M160/Balance!M$165)*100,1))","v":4.5},{"$f":"IF(Balance!N160=0,\"-\",ROUND((Balance!N160/Balance!N$165)*100,1))","v":4.4000000000000004},{"$f":"IF(Balance!O160=0,\"-\",ROUND((Balance!O160/Balance!O$165)*100,1))","v":8},"-","-","-"]
[null,"Solar fotovoltaica",{"$f":"IF(Balance!C161=0,\"-\",ROUND((Balance!C161/Balance!C$165)*100,1))","v":0},{"$f":"IF(Balance!D161=0,\"-\",ROUND((Balance!D161/Balance!D$165)*100,1))","v":0.2},{"$f":"IF(Balance!E161=0,\"-\",ROUND((Balance!E161/Balance!E$165)*100,1))","v":0.7},{"$f":"IF(Balance!F161=0,\"-\",ROUND((Balance!F161/Balance!F$165)*100,1))","v":1.8},{"$f":"IF(Balance!G161=0,\"-\",ROUND((Balance!G161/Balance!G$165)*100,1))","v":2.2000000000000002},{"$f":"IF(Balance!H161=0,\"-\",ROUND((Balance!H161/Balance!H$165)*100,1))","v":2.6},{"$f":"IF(Balance!I161=0,\"-\",ROUND((Balance!I161/Balance!I$165)*100,1))","v":2.9},{"$f":"IF(Balance!J161=0,\"-\",ROUND((Balance!J161/Balance!J$165)*100,1))","v":3.3},{"$f":"IF(Balance!K161=0,\"-\",ROUND((Balance!K161/Balance!K$165)*100,1))","v":3.3},{"$f":"IF(Balance!L161=0,\"-\",ROUND((Balance!L161/Balance!L$165)*100,1))","v":3.2},{"$f":"IF(Balance!M161=0,\"-\",ROUND((Balance!M161/Balance!M$165)*100,1))","v":3.2},{"$f":"IF(Balance!N161=0,\"-\",ROUND((Balance!N161/Balance!N$165)*100,1))","v":3.1},{"$f":"IF(Balance!O161=0,\"-\",ROUND((Balance!O161/Balance!O$165)*100,1))","v":2.4},"-","-","-"]
[null,"Térmica renovable/Otras renovables",{"$f":"IF(Balance!C162=0,\"-\",ROUND((Balance!C162/Balance!C$165)*100,1))","v":2.5},{"$f":"IF(Balance!D162=0,\"-\",ROUND((Balance!D162/Balance!D$165)*100,1))","v":2.2999999999999998},{"$f":"IF(Balance!E162=0,\"-\",ROUND((Balance!E162/Balance!E$165)*100,1))","v":2.2999999999999998},{"$f":"IF(Balance!F162=0,\"-\",ROUND((Balance!F162/Balance!F$165)*100,1))","v":3},{"$f":"IF(Balance!G162=0,\"-\",ROUND((Balance!G162/Balance!G$165)*100,1))","v":1.8},{"$f":"IF(Balance!H162=0,\"-\",ROUND((Balance!H162/Balance!H$165)*100,1))","v":0.4},{"$f":"IF(Balance!I162=0,\"-\",ROUND((Balance!I162/Balance!I$165)*100,1))","v":0.1},{"$f":"IF(Balance!J162=0,\"-\",ROUND((Balance!J162/Balance!J$165)*100,1))","v":0.1},{"$f":"IF(Balance!K162=0,\"-\",ROUND((Balance!K162/Balance!K$165)*100,1))","v":0.1},{"$f":"IF(Balance!L162=0,\"-\",ROUND((Balance!L162/Balance!L$165)*100,1))","v":0.1},{"$f":"IF(Balance!M162=0,\"-\",ROUND((Balance!M162/Balance!M$165)*100,1))","v":0.1},{"$f":"IF(Balance!N162=0,\"-\",ROUND((Balance!N162/Balance!N$165)*100,1))","v":0.1},{"$f":"IF(Balance!O162=0,\"-\",ROUND((Balance!O162/Balance!O$165)*100,1))","v":"-"},"-","-","-"]
[null,"Térmica no renovable/Cogeneración y resto/Cogeneración",{"$f":"IF(Balance!C163=0,\"-\",ROUND((Balance!C163/Balance!C$165)*100,1))","v":0},{"$f":"IF(Balance!D163=0,\"-\",ROUND((Balance!D163/Balance!D$165)*100,1))","v":"-"},{"$f":"IF(Balance!E163=0,\"-\",ROUND((Balance!E163/Balance!E$165)*100,1))","v":"-"},{"$f":"IF(Balance!F163=0,\"-\",ROUND((Balance!F163/Balance!F$165)*100,1))","v":0},{"$f":"IF(Balance!G163=0,\"-\",ROUND((Balance!G163/Balance!G$165)*100,1))","v":"-"},{"$f":"IF(Balance!H163=0,\"-\",ROUND((Balance!H163/Balance!H$165)*100,1))","v":"-"},{"$f":"IF(Balance!I163=0,\"-\",ROUND((Balance!I163/Balance!I$165)*100,1))","v":"-"},{"$f":"IF(Balance!J163=0,\"-\",ROUND((Balance!J163/Balance!J$165)*100,1))","v":"-"},{"$f":"IF(Balance!K163=0,\"-\",ROUND((Balance!K163/Balance!K$165)*100,1))","v":"-"},{"$f":"IF(Balance!L163=0,\"-\",ROUND((Balance!L163/Balance!L$165)*100,1))","v":"-"},{"$f":"IF(Balance!M163=0,\"-\",ROUND((Balance!M163/Balance!M$165)*100,1))","v":"-"},{"$f":"IF(Balance!N163=0,\"-\",ROUND((Balance!N163/Balance!N$165)*100,1))","v":"-"},{"$f":"IF(Balance!O163=0,\"-\",ROUND((Balance!O163/Balance!O$165)*100,1))","v":"-"},"-","-","-"]
[null,"Generación renovable",{"$f":"SUM(C116,C122:C125)","v":6.2},{"$f":"SUM(D116,D122:D125)","v":6.3999999999999995},7.2,8.6999999999999993,7.7,7,7.1,7.6,7.8999999999999995,7.9999999999999991,8,{"$f":"SUM(N116,N122:N125)","v":7.8000000000000007},10.700000000000001,"-","-","-"]
[null,"Generación no renovable",{"$f":"SUM(C117:C121,C126)","v":93.8},{"$f":"SUM(D117:D121,D126)","v":93.6},92.8,91.300000000000011,92.3,93,92.9,92.4,92.1,92,92,{"$f":"SUM(N117:N121,N126)","v":92.200000000000017},89.3,"-","-","-"]
[]
[null,"Estructura de generación anual Ceuta (%)",2007,2008,2009,2010,2011,2012,2013,2014,2015,2016,2017,2018,2019,2020]
[null,"Motores diesel",{"$f":"IF(Balance!C169=0,\"-\",ROUND((Balance!C169/Balance!C$173)*100,1))","v":100},{"$f":"IF(Balance!D169=0,\"-\",ROUND((Balance!D169/Balance!D$173)*100,1))","v":100},{"$f":"IF(Balance!E169=0,\"-\",ROUND((Balance!E169/Balance!E$173)*100,1))","v":98.5},{"$f":"IF(Balance!F169=0,\"-\",ROUND((Balance!F169/Balance!F$173)*100,1))","v":98.7},{"$f":"IF(Balance!G169=0,\"-\",ROUND((Balance!G169/Balance!G$173)*100,1))","v":99.9},{"$f":"IF(Balance!H169=0,\"-\",ROUND((Balance!H169/Balance!H$173)*100,1))","v":99.7},{"$f":"IF(Balance!I169=0,\"-\",ROUND((Balance!I169/Balance!I$173)*100,1))","v":99.9},{"$f":"IF(Balance!J169=0,\"-\",ROUND((Balance!J169/Balance!J$173)*100,1))","v":100},{"$f":"IF(Balance!K169=0,\"-\",ROUND((Balance!K169/Balance!K$173)*100,1))","v":99.6},{"$f":"IF(Balance!L169=0,\"-\",ROUND((Balance!L169/Balance!L$173)*100,1))","v":99.9},{"$f":"IF(Balance!M169=0,\"-\",ROUND((Balance!M169/Balance!M$173)*100,1))","v":99.9},{"$f":"IF(Balance!N169=0,\"-\",ROUND((Balance!N169/Balance!N$173)*100,1))","v":100},"-","-"]
[null,"Turbina de gas",{"$f":"IF(Balance!C170=0,\"-\",ROUND((Balance!C170/Balance!C$173)*100,1))","v":"-"},{"$f":"IF(Balance!D170=0,\"-\",ROUND((Balance!D170/Balance!D$173)*100,1))","v":"-"},{"$f":"IF(Balance!E170=0,\"-\",ROUND((Balance!E170/Balance!E$173)*100,1))","v":1.5},{"$f":"IF(Balance!F170=0,\"-\",ROUND((Balance!F170/Balance!F$173)*100,1))","v":1.3},{"$f":"IF(Balance!G170=0,\"-\",ROUND((Balance!G170/Balance!G$173)*100,1))","v":0.1},{"$f":"IF(Balance!H170=0,\"-\",ROUND((Balance!H170/Balance!H$173)*100,1))","v":0.3},{"$f":"IF(Balance!I170=0,\"-\",ROUND((Balance!I170/Balance!I$173)*100,1))","v":0.1},{"$f":"IF(Balance!J170=0,\"-\",ROUND((Balance!J170/Balance!J$173)*100,1))","v":0},{"$f":"IF(Balance!K170=0,\"-\",ROUND((Balance!K170/Balance!K$173)*100,1))","v":0.4},{"$f":"IF(Balance!L170=0,\"-\",ROUND((Balance!L170/Balance!L$173)*100,1))","v":0.1},{"$f":"IF(Balance!M170=0,\"-\",ROUND((Balance!M170/Balance!M$173)*100,1))","v":0.1},{"$f":"IF(Balance!N170=0,\"-\",ROUND((Balance!N170/Balance!N$173)*100,1))","v":0},"-","-"]
[null,"Generación renovable","-","-","-","-","-","-","-","-","-","-","-","-","-","-"]
[null,"Generación no renovable",{"$f":"SUM(C131:C132)","v":100},{"$f":"SUM(D131:D132)","v":100},100,100,100,100,100,100,100,100,{"$f":"SUM(M131:M132)","v":100},100,"-","-"]
[]
[null,"Estructura de generación anual Melilla (%)",2007,2008,2009,2010,2011,2012,2013,2014,2015,2016,2017,2018,2019,2020]
[null,"Motores diesel",{"$f":"100-SUM(C138:C142)","v":94.3},{"$f":"100-SUM(D138:D142)","v":96.1},95.8,96,96.5,98.8,96.2,95.5,95.7,95.3,95.2,96.1,"-","-"]
[null,"Turbina de gas",{"$f":"IF(Balance!C178=0,\"-\",ROUND((Balance!C178/Balance!C$186)*100,1))","v":1.2},{"$f":"IF(Balance!D178=0,\"-\",ROUND((Balance!D178/Balance!D$186)*100,1))","v":1.5},{"$f":"IF(Balance!E178=0,\"-\",ROUND((Balance!E178/Balance!E$186)*100,1))","v":0.3},{"$f":"IF(Balance!F178=0,\"-\",ROUND((Balance!F178/Balance!F$186)*100,1))","v":0.2},{"$f":"IF(Balance!G178=0,\"-\",ROUND((Balance!G178/Balance!G$186)*100,1))","v":0.2},{"$f":"IF(Balance!H178=0,\"-\",ROUND((Balance!H178/Balance!H$186)*100,1))","v":0.1},{"$f":"IF(Balance!I178=0,\"-\",ROUND((Balance!I178/Balance!I$186)*100,1))","v":0},{"$f":"IF(Balance!J178=0,\"-\",ROUND((Balance!J178/Balance!J$186)*100,1))","v":0.3},{"$f":"IF(Balance!K178=0,\"-\",ROUND((Balance!K178/Balance!K$186)*100,1))","v":0.3},{"$f":"IF(Balance!L178=0,\"-\",ROUND((Balance!L178/Balance!L$186)*100,1))","v":0.1},{"$f":"IF(Balance!M178=0,\"-\",ROUND((Balance!M178/Balance!M$186)*100,1))","v":0},{"$f":"IF(Balance!N178=0,\"-\",ROUND((Balance!N178/Balance!N$186)*100,1))","v":0.1},"-","-"]
[null,"Solar fotovoltaica",{"$f":"IF(Balance!C181=0,\"-\",ROUND((Balance!C181/Balance!C$186)*100,1))","v":"-"},{"$f":"IF(Balance!D181=0,\"-\",ROUND((Balance!D181/Balance!D$186)*100,1))","v":0},{"$f":"IF(Balance!E181=0,\"-\",ROUND((Balance!E181/Balance!E$186)*100,1))","v":0.1},{"$f":"IF(Balance!F181=0,\"-\",ROUND((Balance!F181/Balance!F$186)*100,1))","v":0},{"$f":"IF(Balance!G181=0,\"-\",ROUND((Balance!G181/Balance!G$186)*100,1))","v":0},{"$f":"IF(Balance!H181=0,\"-\",ROUND((Balance!H181/Balance!H$186)*100,1))","v":0},{"$f":"IF(Balance!I181=0,\"-\",ROUND((Balance!I181/Balance!I$186)*100,1))","v":0},{"$f":"IF(Balance!J181=0,\"-\",ROUND((Balance!J181/Balance!J$186)*100,1))","v":0},{"$f":"IF(Balance!K181=0,\"-\",ROUND((Balance!K181/Balance!K$186)*100,1))","v":0},{"$f":"IF(Balance!L181=0,\"-\",ROUND((Balance!L181/Balance!L$186)*100,1))","v":0},{"$f":"IF(Balance!M181=0,\"-\",ROUND((Balance!M181/Balance!M$186)*100,1))","v":0},{"$f":"IF(Balance!N181=0,\"-\",ROUND((Balance!N181/Balance!N$186)*100,1))","v":"-"},"-","-"]
[null,"Térmica no renovable/Cogeneración y resto/Cogeneración",{"$f":"IF(Balance!C182=0,\"-\",IF(Balance!C182=\"-\",\"-\",ROUND((Balance!C182/Balance!C$186)*100,1)))","v":4.5},{"$f":"IF(Balance!D182=0,\"-\",IF(Balance!D182=\"-\",\"-\",ROUND((Balance!D182/Balance!D$186)*100,1)))","v":2.4},{"$f":"IF(Balance!E182=0,\"-\",IF(Balance!E182=\"-\",\"-\",ROUND((Balance!E182/Balance!E$186)*100,1)))","v":3.8},{"$f":"IF(Balance!F182=0,\"-\",IF(Balance!F182=\"-\",\"-\",ROUND((Balance!F182/Balance!F$186)*100,1)))","v":3.8},{"$f":"IF(Balance!G182=0,\"-\",IF(Balance!G182=\"-\",\"-\",ROUND((Balance!G182/Balance!G$186)*100,1)))","v":3.3},{"$f":"IF(Balance!H182=0,\"-\",IF(Balance!H182=\"-\",\"-\",ROUND((Balance!H182/Balance!H$186)*100,1)))","v":1.1000000000000001},{"$f":"IF(Balance!I182=0,\"-\",IF(Balance!I182=\"-\",\"-\",ROUND((Balance!I182/Balance!I$186)*100,1)))","v":3.8},{"$f":"IF(Balance!J182=0,\"-\",IF(Balance!J182=\"-\",\"-\",ROUND((Balance!J182/Balance!J$186)*100,1)))","v":4.2},{"$f":"IF(Balance!K182=0,\"-\",IF(Balance!K182=\"-\",\"-\",ROUND((Balance!K182/Balance!K$186)*100,1)))","v":"-"},{"$f":"IF(Balance!L182=0,\"-\",IF(Balance!L182=\"-\",\"-\",ROUND((Balance!L182/Balance!L$186)*100,1)))","v":"-"},{"$f":"IF(Balance!M182=0,\"-\",IF(Balance!M182=\"-\",\"-\",ROUND((Balance!M182/Balance!M$186)*100,1)))","v":"-"},{"$f":"IF(Balance!N182=0,\"-\",IF(Balance!N182=\"-\",\"-\",ROUND((Balance!N182/Balance!N$186)*100,1)))","v":"-"},"-","-"]
[null,"Residuos no renovables",{"$f":"IF(Balance!C183=\"-\",\"-\",ROUND((Balance!C183/Balance!C$186)*100,1))","v":"-"},{"$f":"IF(Balance!D183=\"-\",\"-\",ROUND((Balance!D183/Balance!D$186)*100,1))","v":"-"},{"$f":"IF(Balance!E183=\"-\",\"-\",ROUND((Balance!E183/Balance!E$186)*100,1))","v":"-"},{"$f":"IF(Balance!F183=\"-\",\"-\",ROUND((Balance!F183/Balance!F$186)*100,1))","v":"-"},{"$f":"IF(Balance!G183=\"-\",\"-\",ROUND((Balance!G183/Balance!G$186)*100,1))","v":"-"},{"$f":"IF(Balance!H183=\"-\",\"-\",ROUND((Balance!H183/Balance!H$186)*100,1))","v":"-"},{"$f":"IF(Balance!I183=\"-\",\"-\",ROUND((Balance!I183/Balance!I$186)*100,1))","v":"-"},{"$f":"IF(Balance!J183=\"-\",\"-\",ROUND((Balance!J183/Balance!J$186)*100,1))","v":"-"},{"$f":"IF(Balance!K183=\"-\",\"-\",ROUND((Balance!K183/Balance!K$186)*100,1))","v":2},{"$f":"IF(Balance!L183=\"-\",\"-\",ROUND((Balance!L183/Balance!L$186)*100,1))","v":2.2999999999999998},{"$f":"IF(Balance!M183=\"-\",\"-\",ROUND((Balance!M183/Balance!M$186)*100,1))","v":2.4},{"$f":"IF(Balance!N183=\"-\",\"-\",ROUND((Balance!N183/Balance!N$186)*100,1))","v":1.9},"-","-"]
[null,"Residuos renovables",{"$f":"IF(Balance!C184=\"-\",\"-\",ROUND((Balance!C184/Balance!C$186)*100,1))","v":"-"},{"$f":"IF(Balance!D184=\"-\",\"-\",ROUND((Balance!D184/Balance!D$186)*100,1))","v":"-"},{"$f":"IF(Balance!E184=\"-\",\"-\",ROUND((Balance!E184/Balance!E$186)*100,1))","v":"-"},{"$f":"IF(Balance!F184=\"-\",\"-\",ROUND((Balance!F184/Balance!F$186)*100,1))","v":"-"},{"$f":"IF(Balance!G184=\"-\",\"-\",ROUND((Balance!G184/Balance!G$186)*100,1))","v":"-"},{"$f":"IF(Balance!H184=\"-\",\"-\",ROUND((Balance!H184/Balance!H$186)*100,1))","v":"-"},{"$f":"IF(Balance!I184=\"-\",\"-\",ROUND((Balance!I184/Balance!I$186)*100,1))","v":"-"},{"$f":"IF(Balance!J184=\"-\",\"-\",ROUND((Balance!J184/Balance!J$186)*100,1))","v":"-"},{"$f":"IF(Balance!K184=\"-\",\"-\",ROUND((Balance!K184/Balance!K$186)*100,1))","v":2},{"$f":"IF(Balance!L184=\"-\",\"-\",ROUND((Balance!L184/Balance!L$186)*100,1))","v":2.2999999999999998},{"$f":"IF(Balance!M184=\"-\",\"-\",ROUND((Balance!M184/Balance!M$186)*100,1))","v":2.4},{"$f":"IF(Balance!N184=\"-\",\"-\",ROUND((Balance!N184/Balance!N$186)*100,1))","v":1.9},"-","-"]
[null,"Generación renovable",{"$f":"SUM(C139,C142)","v":0},{"$f":"SUM(D139,D142)","v":0},0.1,0,0,0,0,0,2,2.2999999999999998,2.4,1.9,"-","-"]
[null,"Generación no renovable",{"$f":"SUM(C137:C138,C140:C141)","v":100},{"$f":"SUM(D137:D138,D140:D141)","v":100},99.899999999999991,100,100,99.999999999999986,100,100,98,97.699999999999989,97.600000000000009,98.1,"-","-"]
[]
[null,"Estructura de generación anual nacional (%)",2007,2008,2009,2010,2011,2012,2013,2014,2015,2016,2017,2018,2019,2020]
[null,"Hidráulica",{"$f":"IF(SUM(Balance!C190,Balance!C198)=0,\"-\",ROUND((SUM(Balance!C190,Balance!C198)/SUM(Balance!C$207))*100,1))","v":9.4},{"$f":"IF(SUM(Balance!D190,Balance!D198)=0,\"-\",ROUND((SUM(Balance!D190,Balance!D198)/SUM(Balance!D$207))*100,1))","v":7.8},{"$f":"IF(SUM(Balance!E190,Balance!E198)=0,\"-\",ROUND((SUM(Balance!E190,Balance!E198)/SUM(Balance!E$207))*100,1))","v":9.4},{"$f":"IF(SUM(Balance!F190,Balance!F198)=0,\"-\",ROUND((SUM(Balance!F190,Balance!F198)/SUM(Balance!F$207))*100,1))","v":14.5},{"$f":"IF(SUM(Balance!G190,Balance!G198)=0,\"-\",ROUND((SUM(Balance!G190,Balance!G198)/SUM(Balance!G$207))*100,1))","v":10.8},{"$f":"IF(SUM(Balance!H190,Balance!H198)=0,\"-\",ROUND((SUM(Balance!H190,Balance!H198)/SUM(Balance!H$207))*100,1))","v":7.3},{"$f":"IF(SUM(Balance!I190,Balance!I198)=0,\"-\",ROUND((SUM(Balance!I190,Balance!I198)/SUM(Balance!I$207))*100,1))","v":13.7},{"$f":"IF(SUM(Balance!J190,Balance!J198)=0,\"-\",ROUND((SUM(Balance!J190,Balance!J198)/SUM(Balance!J$207))*100,1))","v":14.7},{"$f":"IF(SUM(Balance!K190,Balance!K198)=0,\"-\",ROUND((SUM(Balance!K190,Balance!K198)/SUM(Balance!K$207))*100,1))","v":10.6},{"$f":"IF(SUM(Balance!L190,Balance!L198)=0,\"-\",ROUND((SUM(Balance!L190,Balance!L198)/SUM(Balance!L$207))*100,1))","v":13.7},{"$f":"IF(SUM(Balance!M190,Balance!M198)=0,\"-\",ROUND((SUM(Balance!M190,Balance!M198)/SUM(Balance!M$207))*100,1))","v":7},{"$f":"IF(SUM(Balance!N190,Balance!N198)=0,\"-\",ROUND((SUM(Balance!N190,Balance!N198)/SUM(Balance!N$207))*100,1))","v":9.4},"-","-"]
[null,"Turbinación bombeo",{"$f":"IF(Balance!C191=0,\"-\",ROUND((Balance!C191/SUM(Balance!C$207))*100,1))","v":1.1000000000000001},{"$f":"IF(Balance!D191=0,\"-\",ROUND((Balance!D191/SUM(Balance!D$207))*100,1))","v":0.9},{"$f":"IF(Balance!E191=0,\"-\",ROUND((Balance!E191/SUM(Balance!E$207))*100,1))","v":0.9},{"$f":"IF(Balance!F191=0,\"-\",ROUND((Balance!F191/SUM(Balance!F$207))*100,1))","v":1.1000000000000001},{"$f":"IF(Balance!G191=0,\"-\",ROUND((Balance!G191/SUM(Balance!G$207))*100,1))","v":0.8},{"$f":"IF(Balance!H191=0,\"-\",ROUND((Balance!H191/SUM(Balance!H$207))*100,1))","v":1.1000000000000001},{"$f":"IF(Balance!I191=0,\"-\",ROUND((Balance!I191/SUM(Balance!I$207))*100,1))","v":1.2},{"$f":"IF(Balance!J191=0,\"-\",ROUND((Balance!J191/SUM(Balance!J$207))*100,1))","v":1.3},{"$f":"IF(Balance!K191=0,\"-\",ROUND((Balance!K191/SUM(Balance!K$207))*100,1))","v":1.1000000000000001},{"$f":"IF(Balance!L191=0,\"-\",ROUND((Balance!L191/SUM(Balance!L$207))*100,1))","v":1.2},{"$f":"IF(Balance!M191=0,\"-\",ROUND((Balance!M191/SUM(Balance!M$207))*100,1))","v":0.9},{"$f":"IF(Balance!N191=0,\"-\",ROUND((Balance!N191/SUM(Balance!N$207))*100,1))","v":1.1000000000000001},"-","-"]
[null,"Nuclear",{"$f":"IF(Balance!C192=0,\"-\",ROUND((Balance!C192/SUM(Balance!C$207))*100,1))","v":18.3},{"$f":"IF(Balance!D192=0,\"-\",ROUND((Balance!D192/SUM(Balance!D$207))*100,1))","v":19.100000000000001},{"$f":"IF(Balance!E192=0,\"-\",ROUND((Balance!E192/SUM(Balance!E$207))*100,1))","v":18},{"$f":"IF(Balance!F192=0,\"-\",ROUND((Balance!F192/SUM(Balance!F$207))*100,1))","v":20.5},{"$f":"IF(Balance!G192=0,\"-\",ROUND((Balance!G192/SUM(Balance!G$207))*100,1))","v":19.7},{"$f":"IF(Balance!H192=0,\"-\",ROUND((Balance!H192/SUM(Balance!H$207))*100,1))","v":20.7},{"$f":"IF(Balance!I192=0,\"-\",ROUND((Balance!I192/SUM(Balance!I$207))*100,1))","v":19.8},{"$f":"IF(Balance!J192=0,\"-\",ROUND((Balance!J192/SUM(Balance!J$207))*100,1))","v":20.6},{"$f":"IF(Balance!K192=0,\"-\",ROUND((Balance!K192/SUM(Balance!K$207))*100,1))","v":20.399999999999999},{"$f":"IF(Balance!L192=0,\"-\",ROUND((Balance!L192/SUM(Balance!L$207))*100,1))","v":21.4},{"$f":"IF(Balance!M192=0,\"-\",ROUND((Balance!M192/SUM(Balance!M$207))*100,1))","v":21.2},{"$f":"IF(Balance!N192=0,\"-\",ROUND((Balance!N192/SUM(Balance!N$207))*100,1))","v":22.2},"-","-"]
[null,"Carbón",{"$f":"IF(Balance!C193=0,\"-\",ROUND((Balance!C193/SUM(Balance!C$207))*100,1))","v":24.5},{"$f":"IF(Balance!D193=0,\"-\",ROUND((Balance!D193/SUM(Balance!D$207))*100,1))","v":15.7},{"$f":"IF(Balance!E193=0,\"-\",ROUND((Balance!E193/SUM(Balance!E$207))*100,1))","v":12.4},{"$f":"IF(Balance!F193=0,\"-\",ROUND((Balance!F193/SUM(Balance!F$207))*100,1))","v":8.1999999999999993},{"$f":"IF(Balance!G193=0,\"-\",ROUND((Balance!G193/SUM(Balance!G$207))*100,1))","v":15.5},{"$f":"IF(Balance!H193=0,\"-\",ROUND((Balance!H193/SUM(Balance!H$207))*100,1))","v":19},{"$f":"IF(Balance!I193=0,\"-\",ROUND((Balance!I193/SUM(Balance!I$207))*100,1))","v":14.4},{"$f":"IF(Balance!J193=0,\"-\",ROUND((Balance!J193/SUM(Balance!J$207))*100,1))","v":16.2},{"$f":"IF(Balance!K193=0,\"-\",ROUND((Balance!K193/SUM(Balance!K$207))*100,1))","v":19.7},{"$f":"IF(Balance!L193=0,\"-\",ROUND((Balance!L193/SUM(Balance!L$207))*100,1))","v":14.3},{"$f":"IF(Balance!M193=0,\"-\",ROUND((Balance!M193/SUM(Balance!M$207))*100,1))","v":17.2},{"$f":"IF(Balance!N193=0,\"-\",ROUND((Balance!N193/SUM(Balance!N$207))*100,1))","v":14.1},"-","-"]
[null,"Fuel + Gas",{"$f":"IF(Balance!C194=0,\"-\",ROUND((Balance!C194/SUM(Balance!C$207))*100,1))","v":3.5},{"$f":"IF(Balance!D194=0,\"-\",ROUND((Balance!D194/SUM(Balance!D$207))*100,1))","v":3.3},{"$f":"IF(Balance!E194=0,\"-\",ROUND((Balance!E194/SUM(Balance!E$207))*100,1))","v":3.3},{"$f":"IF(Balance!F194=0,\"-\",ROUND((Balance!F194/SUM(Balance!F$207))*100,1))","v":3.1},{"$f":"IF(Balance!G194=0,\"-\",ROUND((Balance!G194/SUM(Balance!G$207))*100,1))","v":2.5},{"$f":"IF(Balance!H194=0,\"-\",ROUND((Balance!H194/SUM(Balance!H$207))*100,1))","v":2.5},{"$f":"IF(Balance!I194=0,\"-\",ROUND((Balance!I194/SUM(Balance!I$207))*100,1))","v":2.4},{"$f":"IF(Balance!J194=0,\"-\",ROUND((Balance!J194/SUM(Balance!J$207))*100,1))","v":2.2999999999999998},{"$f":"IF(Balance!K194=0,\"-\",ROUND((Balance!K194/SUM(Balance!K$207))*100,1))","v":2.4},{"$f":"IF(Balance!L194=0,\"-\",ROUND((Balance!L194/SUM(Balance!L$207))*100,1))","v":2.6},{"$f":"IF(Balance!M194=0,\"-\",ROUND((Balance!M194/SUM(Balance!M$207))*100,1))","v":2.7},{"$f":"IF(Balance!N194=0,\"-\",ROUND((Balance!N194/SUM(Balance!N$207))*100,1))","v":2.5},"-","-"]
[null,"Ciclo combinado",{"$f":"IF(Balance!C195=0,\"-\",ROUND((Balance!C195/SUM(Balance!C$207))*100,1))","v":24.5},{"$f":"IF(Balance!D195=0,\"-\",ROUND((Balance!D195/SUM(Balance!D$207))*100,1))","v":31.5},{"$f":"IF(Balance!E195=0,\"-\",ROUND((Balance!E195/SUM(Balance!E$207))*100,1))","v":28.6},{"$f":"IF(Balance!F195=0,\"-\",ROUND((Balance!F195/SUM(Balance!F$207))*100,1))","v":23.2},{"$f":"IF(Balance!G195=0,\"-\",ROUND((Balance!G195/SUM(Balance!G$207))*100,1))","v":19.2},{"$f":"IF(Balance!H195=0,\"-\",ROUND((Balance!H195/SUM(Balance!H$207))*100,1))","v":14.6},{"$f":"IF(Balance!I195=0,\"-\",ROUND((Balance!I195/SUM(Balance!I$207))*100,1))","v":10.199999999999999},{"$f":"IF(Balance!J195=0,\"-\",ROUND((Balance!J195/SUM(Balance!J$207))*100,1))","v":9.4},{"$f":"IF(Balance!K195=0,\"-\",ROUND((Balance!K195/SUM(Balance!K$207))*100,1))","v":10.9},{"$f":"IF(Balance!L195=0,\"-\",ROUND((Balance!L195/SUM(Balance!L$207))*100,1))","v":11.2},{"$f":"IF(Balance!M195=0,\"-\",ROUND((Balance!M195/SUM(Balance!M$207))*100,1))","v":14.2},{"$f":"IF(Balance!N195=0,\"-\",ROUND((Balance!N195/SUM(Balance!N$207))*100,1))","v":11.2},"-","-"]
[null,"Hidroeólica",{"$f":"IF(Balance!C197=\"-\",\"-\",ROUND((Balance!C197/SUM(Balance!C$207))*100,1))","v":"-"},{"$f":"IF(Balance!D197=\"-\",\"-\",ROUND((Balance!D197/SUM(Balance!D$207))*100,1))","v":"-"},{"$f":"IF(Balance!E197=\"-\",\"-\",ROUND((Balance!E197/SUM(Balance!E$207))*100,1))","v":"-"},{"$f":"IF(Balance!F197=\"-\",\"-\",ROUND((Balance!F197/SUM(Balance!F$207))*100,1))","v":"-"},{"$f":"IF(Balance!G197=\"-\",\"-\",ROUND((Balance!G197/SUM(Balance!G$207))*100,1))","v":"-"},{"$f":"IF(Balance!H197=\"-\",\"-\",ROUND((Balance!H197/SUM(Balance!H$207))*100,1))","v":"-"},{"$f":"IF(Balance!I197=\"-\",\"-\",ROUND((Balance!I197/SUM(Balance!I$207))*100,1))","v":"-"},{"$f":"IF(Balance!J197=\"-\",\"-\",ROUND((Balance!J197/SUM(Balance!J$207))*100,1))","v":0},{"$f":"IF(Balance!K197=\"-\",\"-\",ROUND((Balance!K197/SUM(Balance!K$207))*100,1))","v":0},{"$f":"IF(Balance!L197=\"-\",\"-\",ROUND((Balance!L197/SUM(Balance!L$207))*100,1))","v":0},{"$f":"IF(Balance!M197=\"-\",\"-\",ROUND((Balance!M197/SUM(Balance!M$207))*100,1))","v":0},{"$f":"IF(Balance!N197=\"-\",\"-\",ROUND((Balance!N197/SUM(Balance!N$207))*100,1))","v":0},"-","-"]
[null,"Eólica",{"$f":"IF(Balance!C199=0,\"-\",ROUND((Balance!C199/SUM(Balance!C$207))*100,1))","v":9.6},{"$f":"IF(Balance!D199=0,\"-\",ROUND((Balance!D199/SUM(Balance!D$207))*100,1))","v":10.9},{"$f":"IF(Balance!E199=0,\"-\",ROUND((Balance!E199/SUM(Balance!E$207))*100,1))","v":13.7},{"$f":"IF(Balance!F199=0,\"-\",ROUND((Balance!F199/SUM(Balance!F$207))*100,1))","v":15.1},{"$f":"IF(Balance!G199=0,\"-\",ROUND((Balance!G199/SUM(Balance!G$207))*100,1))","v":15.2},{"$f":"IF(Balance!H199=0,\"-\",ROUND((Balance!H199/SUM(Balance!H$207))*100,1))","v":17.100000000000001},{"$f":"IF(Balance!I199=0,\"-\",ROUND((Balance!I199/SUM(Balance!I$207))*100,1))","v":20},{"$f":"IF(Balance!J199=0,\"-\",ROUND((Balance!J199/SUM(Balance!J$207))*100,1))","v":19.100000000000001},{"$f":"IF(Balance!K199=0,\"-\",ROUND((Balance!K199/SUM(Balance!K$207))*100,1))","v":18},{"$f":"IF(Balance!L199=0,\"-\",ROUND((Balance!L199/SUM(Balance!L$207))*100,1))","v":18.2},{"$f":"IF(Balance!M199=0,\"-\",ROUND((Balance!M199/SUM(Balance!M$207))*100,1))","v":18.2},{"$f":"IF(Balance!N199=0,\"-\",ROUND((Balance!N199/SUM(Balance!N$207))*100,1))","v":23.3},"-","-"]
[null,"Solar fotovoltaica",{"$f":"IF(Balance!C200=0,\"-\",ROUND((Balance!C200/SUM(Balance!C$207))*100,1))","v":0.2},{"$f":"IF(Balance!D200=0,\"-\",ROUND((Balance!D200/SUM(Balance!D$207))*100,1))","v":0.8},{"$f":"IF(Balance!E200=0,\"-\",ROUND((Balance!E200/SUM(Balance!E$207))*100,1))","v":2.2000000000000002},{"$f":"IF(Balance!F200=0,\"-\",ROUND((Balance!F200/SUM(Balance!F$207))*100,1))","v":2.2000000000000002},{"$f":"IF(Balance!G200=0,\"-\",ROUND((Balance!G200/SUM(Balance!G$207))*100,1))","v":2.7},{"$f":"IF(Balance!H200=0,\"-\",ROUND((Balance!H200/SUM(Balance!H$207))*100,1))","v":2.9},{"$f":"IF(Balance!I200=0,\"-\",ROUND((Balance!I200/SUM(Balance!I$207))*100,1))","v":3},{"$f":"IF(Balance!J200=0,\"-\",ROUND((Balance!J200/SUM(Balance!J$207))*100,1))","v":3.1},{"$f":"IF(Balance!K200=0,\"-\",ROUND((Balance!K200/SUM(Balance!K$207))*100,1))","v":3.1},{"$f":"IF(Balance!L200=0,\"-\",ROUND((Balance!L200/SUM(Balance!L$207))*100,1))","v":3},{"$f":"IF(Balance!M200=0,\"-\",ROUND((Balance!M200/SUM(Balance!M$207))*100,1))","v":3.2},{"$f":"IF(Balance!N200=0,\"-\",ROUND((Balance!N200/SUM(Balance!N$207))*100,1))","v":1.9},"-","-"]
[null,"Solar térmica",{"$f":"IF(Balance!C201=0,\"-\",ROUND((Balance!C201/SUM(Balance!C$207))*100,1))","v":0},{"$f":"IF(Balance!D201=0,\"-\",ROUND((Balance!D201/SUM(Balance!D$207))*100,1))","v":0},{"$f":"IF(Balance!E201=0,\"-\",ROUND((Balance!E201/SUM(Balance!E$207))*100,1))","v":0},{"$f":"IF(Balance!F201=0,\"-\",ROUND((Balance!F201/SUM(Balance!F$207))*100,1))","v":0.2},{"$f":"IF(Balance!G201=0,\"-\",ROUND((Balance!G201/SUM(Balance!G$207))*100,1))","v":0.7},{"$f":"IF(Balance!H201=0,\"-\",ROUND((Balance!H201/SUM(Balance!H$207))*100,1))","v":1.2},{"$f":"IF(Balance!I201=0,\"-\",ROUND((Balance!I201/SUM(Balance!I$207))*100,1))","v":1.6},{"$f":"IF(Balance!J201=0,\"-\",ROUND((Balance!J201/SUM(Balance!J$207))*100,1))","v":1.9},{"$f":"IF(Balance!K201=0,\"-\",ROUND((Balance!K201/SUM(Balance!K$207))*100,1))","v":1.9},{"$f":"IF(Balance!L201=0,\"-\",ROUND((Balance!L201/SUM(Balance!L$207))*100,1))","v":1.9},{"$f":"IF(Balance!M201=0,\"-\",ROUND((Balance!M201/SUM(Balance!M$207))*100,1))","v":2},{"$f":"IF(Balance!N201=0,\"-\",ROUND((Balance!N201/SUM(Balance!N$207))*100,1))","v":0.6},"-","-"]
[null,"Térmica renovable/Otras renovables",{"$f":"IF(Balance!C202=0,\"-\",ROUND((Balance!C202/SUM(Balance!C$207))*100,1))","v":0.9},{"$f":"IF(Balance!D202=0,\"-\",ROUND((Balance!D202/SUM(Balance!D$207))*100,1))","v":1},{"$f":"IF(Balance!E202=0,\"-\",ROUND((Balance!E202/SUM(Balance!E$207))*100,1))","v":1.2},{"$f":"IF(Balance!F202=0,\"-\",ROUND((Balance!F202/SUM(Balance!F$207))*100,1))","v":1.2},{"$f":"IF(Balance!G202=0,\"-\",ROUND((Balance!G202/SUM(Balance!G$207))*100,1))","v":1.5},{"$f":"IF(Balance!H202=0,\"-\",ROUND((Balance!H202/SUM(Balance!H$207))*100,1))","v":1.7},{"$f":"IF(Balance!I202=0,\"-\",ROUND((Balance!I202/SUM(Balance!I$207))*100,1))","v":1.9},{"$f":"IF(Balance!J202=0,\"-\",ROUND((Balance!J202/SUM(Balance!J$207))*100,1))","v":1.8},{"$f":"IF(Balance!K202=0,\"-\",ROUND((Balance!K202/SUM(Balance!K$207))*100,1))","v":1.2},{"$f":"IF(Balance!L202=0,\"-\",ROUND((Balance!L202/SUM(Balance!L$207))*100,1))","v":1.3},{"$f":"IF(Balance!M202=0,\"-\",ROUND((Balance!M202/SUM(Balance!M$207))*100,1))","v":1.4},{"$f":"IF(Balance!N202=0,\"-\",ROUND((Balance!N202/SUM(Balance!N$207))*100,1))","v":1.3},"-","-"]
[null,"Térmica no renovable/Cogeneración y resto/Cogeneración",{"$f":"100-SUM(C147:C157,C159:C160)","v":8},{"$f":"100-SUM(D147:D157,D159:D160)","v":9},10.299999999999997,10.700000000000003,11.399999999999991,11.899999999999977,11.799999999999997,9.6000000000000085,9.5,9.9000000000000057,10.699999999999989,11.100000000000009,"-","-"]
[null,"Residuos no renovables",{"$f":"IF(Balance!C204=\"-\",\"-\",ROUND((Balance!C204/SUM(Balance!C$207))*100,1))","v":"-"},{"$f":"IF(Balance!D204=\"-\",\"-\",ROUND((Balance!D204/SUM(Balance!D$207))*100,1))","v":"-"},{"$f":"IF(Balance!E204=\"-\",\"-\",ROUND((Balance!E204/SUM(Balance!E$207))*100,1))","v":"-"},{"$f":"IF(Balance!F204=\"-\",\"-\",ROUND((Balance!F204/SUM(Balance!F$207))*100,1))","v":"-"},{"$f":"IF(Balance!G204=\"-\",\"-\",ROUND((Balance!G204/SUM(Balance!G$207))*100,1))","v":"-"},{"$f":"IF(Balance!H204=\"-\",\"-\",ROUND((Balance!H204/SUM(Balance!H$207))*100,1))","v":"-"},{"$f":"IF(Balance!I204=\"-\",\"-\",ROUND((Balance!I204/SUM(Balance!I$207))*100,1))","v":"-"},{"$f":"IF(Balance!J204=\"-\",\"-\",ROUND((Balance!J204/SUM(Balance!J$207))*100,1))","v":"-"},{"$f":"IF(Balance!K204=\"-\",\"-\",ROUND((Balance!K204/SUM(Balance!K$207))*100,1))","v":0.9},{"$f":"IF(Balance!L204=\"-\",\"-\",ROUND((Balance!L204/SUM(Balance!L$207))*100,1))","v":1},{"$f":"IF(Balance!M204=\"-\",\"-\",ROUND((Balance!M204/SUM(Balance!M$207))*100,1))","v":1},{"$f":"IF(Balance!N204=\"-\",\"-\",ROUND((Balance!N204/SUM(Balance!N$207))*100,1))","v":1},"-","-"]
[null,"Residuos renovables",{"$f":"IF(Balance!C205=\"-\",\"-\",ROUND((Balance!C205/SUM(Balance!C$207))*100,1))","v":"-"},{"$f":"IF(Balance!D205=\"-\",\"-\",ROUND((Balance!D205/SUM(Balance!D$207))*100,1))","v":"-"},{"$f":"IF(Balance!E205=\"-\",\"-\",ROUND((Balance!E205/SUM(Balance!E$207))*100,1))","v":"-"},{"$f":"IF(Balance!F205=\"-\",\"-\",ROUND((Balance!F205/SUM(Balance!F$207))*100,1))","v":"-"},{"$f":"IF(Balance!G205=\"-\",\"-\",ROUND((Balance!G205/SUM(Balance!G$207))*100,1))","v":"-"},{"$f":"IF(Balance!H205=\"-\",\"-\",ROUND((Balance!H205/SUM(Balance!H$207))*100,1))","v":"-"},{"$f":"IF(Balance!I205=\"-\",\"-\",ROUND((Balance!I205/SUM(Balance!I$207))*100,1))","v":"-"},{"$f":"IF(Balance!J205=\"-\",\"-\",ROUND((Balance!J205/SUM(Balance!J$207))*100,1))","v":"-"},{"$f":"IF(Balance!K205=\"-\",\"-\",ROUND((Balance!K205/SUM(Balance!K$207))*100,1))","v":0.3},{"$f":"IF(Balance!L205=\"-\",\"-\",ROUND((Balance!L205/SUM(Balance!L$207))*100,1))","v":0.3},{"$f":"IF(Balance!M205=\"-\",\"-\",ROUND((Balance!M205/SUM(Balance!M$207))*100,1))","v":0.3},{"$f":"IF(Balance!N205=\"-\",\"-\",ROUND((Balance!N205/SUM(Balance!N$207))*100,1))","v":0.3},"-","-"]
[null,"Generación renovable",{"$f":"SUM(C147,C153:C157,C160)","v":20.099999999999998},{"$f":"SUM(D147,D153:D157,D160)","v":20.5},26.5,33.200000000000003,30.9,30.2,40.200000000000003,40.599999999999994,35.1,38.399999999999991,32.099999999999994,36.799999999999997,"-","-"]
[null,"Generación no renovable",{"$f":"SUM(C148:C152,C158:C159)","v":79.900000000000006},{"$f":"SUM(D148:D152,D158:D159)","v":79.5},73.5,66.8,69.099999999999994,69.799999999999983,59.8,59.400000000000006,64.900000000000006,61.600000000000009,67.899999999999991,63.2,"-","-"]

{"sheet":"Balance","index":14,"n_rows":210,"n_cols":350,"rows_kept":210,"cut":false,"hidden":true,"merged":[]}
[]
[null,"Balance eléctrico mensual peninsular (GWh)","1990-01-01","1990-02-01","1990-03-01","1990-04-01","1990-05-01","1990-06-01","1990-07-01","1990-08-01","1990-09-01","1990-10-01","1990-11-01","1990-12-01","1991-01-01","1991-02-01","1991-03-01","1991-04-01","1991-05-01","1991-06-01","1991-07-01","1991-08-01","1991-09-01","1991-10-01","1991-11-01","1991-12-01","1992-01-01","1992-02-01","1992-03-01","1992-04-01","1992-05-01","1992-06-01","1992-07-01","1992-08-01","1992-09-01","1992-10-01","1992-11-01","1992-12-01","1993-01-01","1993-02-01","1993-03-01","1993-04-01","1993-05-01","1993-06-01","1993-07-01","1993-08-01","1993-09-01","1993-10-01","1993-11-01","1993-12-01","1994-01-01","1994-02-01","1994-03-01","1994-04-01","1994-05-01","1994-06-01","1994-07-01","1994-08-01","1994-09-01","1994-10-01","1994-11-01","1994-12-01","1995-01-01","1995-02-01","1995-03-01","1995-04-01","1995-05-01","1995-06-01","1995-07-01","1995-08-01","1995-09-01","1995-10-01","1995-11-01","1995-12-01","1996-01-01","1996-02-01","1996-03-01","1996-04-01","1996-05-01","1996-06-01","1996-07-01","1996-08-01","1996-09-01","1996-10-01","1996-11-01","1996-12-01","1997-01-01","1997-02-01","1997-03-01","1997-04-01","1997-05-01","1997-06-01","1997-07-01","1997-08-01","1997-09-01","1997-10-01","1997-11-01","1997-12-01","1998-01-01","1998-02-01","1998-03-01","1998-04-01","1998-05-01","1998-06-01","1998-07-01","1998-08-01","1998-09-01","1998-10-01","1998-11-01","1998-12-01","1999-01-01","1999-02-01","1999-03-01","1999-04-01","1999-05-01","1999-06-01","1999-07-01","1999-08-01","1999-09-01","1999-10-01","1999-11-01","1999-12-01","2000-01-01","2000-02-01","2000-03-01","2000-04-01","2000-05-01","2000-06-01","2000-07-01","2000-08-01","2000-09-01","2000-10-01","2000-11-01","2000-12-01","2001-01-01","2001-02-01","2001-03-01","2001-04-01","2001-05-01","2001-06-01","2001-07-01","2001-08-01","2001-09-01","2001-10-01","2001-11-01","2001-12-01","2002-01-01","2002-02-01","2002-03-01","2002-04-01","2002-05-01","2002-06-01","2002-07-01","2002-08-01","2002-09-01","2002-10-01","2002-11-01","2002-12-01","2003-01-01","2003-02-01","2003-03-01","2003-04-01","2003-05-01","2003-06-01","2003-07-01","2003-08-01","2003-09-01","2003-10-01","2003-11-01","2003-12-01","2004-01-01","2004-02-01","2004-03-01","2004-04-01","2004-05-01","2004-06-01","2004-07-01","2004-08-01","2004-09-01","2004-10-01","2004-11-01","2004-12-01","2005-01-01","2005-02-01","2005-03-01","2005-04-01","2005-05-01","2005-06-01","2005-07-01","2005-08-01","2005-09-01","2005-10-01","2005-11-01","2005-12-01","2006-01-01","2006-02-01","2006-03-01","2006-04-01","2006-05-01","2006-06-01","2006-07-01","2006-08-01","2006-09-01","2006-10-01","2006-11-01","2006-12-01","2007-01-01","2007-02-01","2007-03-01","2007-04-01","2007-05-01","2007-06-01","2007-07-01","2007-08-01","2007-09-01","2007-10-01","2007-11-01","2007-12-01","2008-01-01","2008-02-01","2008-03-01","2008-04-01","2008-05-01","2008-06-01","2008-07-01","2008-08-01","2008-09-01","2008-10-01","2008-11-01","2008-12-01","2009-01-01","2009-02-01","2009-03-01","2009-04-01","2009-05-01","2009-06-01","2009-07-01","2009-08-01","2009-09-01","2009-10-01","2009-11-01","2009-12-01","2010-01-01","2010-02-01","2010-03-01","2010-04-01","2010-05-01","2010-06-01","2010-07-01","2010-08-01","2010-09-01","2010-10-01","2010-11-01","2010-12-01","2011-01-01","2011-02-01","2011-03-01","2011-04-01","2011-05-01","2011-06-01","2011-07-01","2011-08-01","2011-09-01","2011-10-01","2011-11-01","2011-12-01","2012-01-01","2012-02-01","2012-03-01","2012-04-01","2012-05-01","2012-06-01","2012-07-01","2012-08-01","2012-09-01","2012-10-01","2012-11-01","2012-12-01","2013-01-01","2013-02-01","2013-03-01","2013-04-01","2013-05-01","2013-06-01","2013-07-01","2013-08-01","2013-09-01","2013-10-01","2013-11-01","2013-12-01","2014-01-01","2014-02-01","2014-03-01","2014-04-01","2014-05-01","2014-06-01","2014-07-01","2014-08-01","2014-09-01","2014-10-01","2014-11-01","2014-12-01","2015-01-01","2015-02-01","2015-03-01","2015-04-01","2015-05-01","2015-06-01","2015-07-01","2015-08-01","2015-09-01","2015-10-01","2015-11-01","2015-12-01","2016-01-01","2016-02-01","2016-03-01","2016-04-01","2016-05-01","2016-06-01","2016-07-01","2016-08-01","2016-09-01","2016-10-01","2016-11-01","2016-12-01","2017-01-01","2017-02-01","2017-03-01","2017-04-01","2017-05-01","2017-06-01","2017-07-01","2017-08-01","2017-09-01","2017-10-01","2017-11-01","2017-12-01","2018-01-01","2018-02-01","2018-03-01","2018-04-01","2018-05-01","2018-06-01","2018-07-01","2018-08-01","2018-09-01","2018-10-01","2018-11-01","2018-12-01"]
[null,"Hidráulica",3812.6836999999987,3241.3313999999987,2387.7997000000005,1664.4924999999992,1752.901800000001,1739.8822,1544.0681999999999,1169.8983999999989,1178.3229000000017,1337.0603000000017,1868.1971000000021,1844.1224000000009,2467.4703999999979,1919.5628999999992,3614.2048000000013,3316.7103000000006,2694.829699999998,1973.8522000000016,1620.9676000000009,1055.4560000000006,1050.6569000000009,1456.6256999999982,1844.0770999999968,1713.5203000000015,1250.8666000000014,723.77950000000226,698.12999999999874,1390.8228999999994,1287.4845000000005,1384.7241999999992,1490.8638999999987,1021.247400000003,1103.2181999999984,1653.1741000000013,1965.1256999999989,2587.4304999999986,1964.7223000000017,1382.2487000000033,1283.8341999999971,971.62319999999681,1629.2967000000003,1998.1276000000009,1732.0918000000011,1141.0418999999988,1098.4951999999985,2604.2501000000002,3227.9826999999968,2480.7752999999984,3506.1817999999994,2871.0269000000003,2559.2106999999965,2180.1566999999995,2397.3124999999977,2261.0100000000029,1724.8935999999999,1239.8088000000002,1153.1582000000008,1376.5238999999979,2086.2166000000016,1653.1660000000034,2531.9199000000003,2392.7034000000026,2922.0561999999995,1736.6887000000038,1575.2418999999973,1613.2683,1506.0024999999998,986.9472999999989,810.23769999999809,876.02170000000251,1104.648999999999,2183.3511999999996,5366.4255000000003,5212.2742000000007,3299.6810999999993,3427.3588999999974,3565.8544000000006,2717.445299999999,2133.1411999999978,1426.6442,1653.9289000000003,1642.9637000000023,2028.170699999999,3850.8693000000017,5243.6578000000009,3212.0474000000017,2463.6685999999991,2149.822099999999,2047.0708000000016,2156.1440999999982,1862.2452000000017,1573.612700000001,1466.7002999999995,1361.9637999999989,3192.0373000000009,4952.2926000000007,5470.6294999999982,3738.6073999999985,2434.159300000003,3142.3083000000001,3702.8203000000008,3175.0883999999992,2392.2328999999995,1887.271500000001,1699.3457999999996,1791.5409000000006,1342.3168000000005,1079.2141000000008,1111.8596000000011,1083.0403000000006,1671.6503000000014,1854.149699999999,2506.3907999999997,2240.7727999999997,1763.463400000001,1280.9923999999987,1341.8103000000001,1474.790199999999,2480.3627999999994,2488.0994000000019,2258.7286000000026,1356.0572000000002,1300.8535999999999,1804.3185999999987,2863.7578000000017,2010.3655000000006,1492.7415999999989,1557.3933000000006,1681.1606000000013,1511.4157000000005,2137.1221000000005,4083.9201999999987,5842.8609000000006,5371.9687000000013,6098.7381000000005,3956.8406999999988,2967.3583000000017,2227.5889000000011,1785.2493000000011,1721.3026000000004,1319.4317000000015,1577.8276999999989,1812.4448,1422.9655,1092.5866000000001,918.69360000000006,1561.1817000000001,1532.7879,1572.4141000000002,1595.1734000000001,1135.2789,844.28559999999993,837.77120000000014,937.81510000000003,1607.2706000000001,3690.6138999999998,5077.4655000000002,3962.1758999999997,4042.1839999999997,3389.9379999999996,3195.2093,2009.3285000000001,1705.3562000000002,1257.8616999999999,1451.1365000000001,1701.9632999999999,2809.7932000000001,4405.9511000000002,3194.3600999999985,2970.8209999999976,2675.6499000000003,2489.1504999999997,2791.3154000000013,2347.6550999999999,1776.8765999999987,1499.0746000000015,1336.6138000000053,1499.4952000000026,2039.2544999999986,1500.192400000001,1212.9129999999996,1247.2604000000024,1424.3981000000015,1633.9949999999992,1748.5583999999988,1526.0680999999977,1063.7019000000018,938.54999999999757,667.86839999999802,638.98779999999829,1022.1012999999966,1306.2117000000005,1233.9692999999993,869.53769999999804,2443.6332999999972,2221.2243000000017,1775.277900000001,1255.5403000000015,1280.5138000000029,855.7432,952.06890000000055,1324.1278999999988,2588.522599999998,4426.2256999999954,1920.0478000000003,2539.7347,3412.3603999999996,2337.7021,2328.2846,1896.4941999999999,2152.4522999999999,1514.2806,1189.9214999999999,1525.5493000000001,1152.0925,1010.0581,1052.9718,724.43350000000009,774.5612000000001,2158.8984000000028,2756.8809000000001,2593.9364999999998,1801.4576,1275.0206000000001,1101.1437999999998,904.63950000000011,1192.6748000000002,1959.02,1753.4290999999998,2852.5814999999998,2234.3775999999998,1704.1587,2008.6723999999999,1659.6541999999999,1393.0593999999999,1167.1748,750.34090000000003,1028.1299000000001,1560.9612999999999,2619.7628999999997,4414.2761132999995,3450.7255615999998,5031.7780444,4029.8561307,3174.5390475999998,2946.0881532000003,2437.1694070000003,1695.0818135,1249.4073436999997,1282.6130285000002,2043.8580677,3254.0614768999999,4452.6179633060001,2489.5449081979996,3179.3737100999997,2947.9286343640001,2303.8190585580001,1656.8643463960002,1275.667963936,1226.754154882,987.62639421200004,1058.4860482879999,1728.4718566200004,1735.21487035,1290.8354821600001,892.93011502000013,986.88043857999992,1274.3038001159998,1893.1437641940004,1663.7087523760001,1333.759449704,1069.821452312,836.67316930199979,1119.087479006,1575.4273045339999,2041.313122994,2346.31781026,2863.5976818160002,3778.6305351000001,4543.6187317780004,3031.87805385,2542.564553832,2184.2292828140003,1739.652574466,1523.9424708719998,1522.3665315180001,2278.7143926239996,1931.9919450100001,3475.8993178300002,5004.8099078599998,4483.1102180580001,4171.2361138279994,2211.6758872419996,1958.705239572,1871.228496684,1639.2983342280002,1440.6196519580001,1271.1454530799999,1906.2266791900001,2608.923207674,2566.888279364,3559.434091526,3844.206083778,2655.528439486,2935.9033491780001,2485.9641503080002,2054.6366936880004,1634.9782370920002,1601.6680798899999,1646.579402544,1887.6912419959999,1438.786957106,3440.58428495,3971.7067079039994,4362.851437966,5231.3090089240004,5085.1196365120004,2938.0602728839999,2264.8167052260001,2040.7426219440003,1653.80530344,1632.8625515920003,1493.763942218,1844.3684335419998,2043.1615533339998,1952.9834518620003,2696.8359227360002,1714.544743468,1923.367508156,1637.8276847759998,1193.0488079520001,1085.2761187339997,1187.5255104380001,828.32292537800004,842.37549153200007,1253.8554266699998,2152.8710000000001,"-","-","-","-","-","-","-","-","-","-","-"]
[null,"Turbinación bombeo",161.4753,85.601599999999991,10.0023,19.701499999999999,30.440199999999997,9.1798000000000002,15.472799999999998,34.9846,112.49909999999998,108.8507,31.154899999999998,108.12759999999999,188.23560000000001,152.8681,120.1802,8.5406999999999993,10.940299999999999,28.968799999999998,40.398400000000002,50.463000000000001,78.941099999999992,56.615299999999998,131.96889999999999,134.7927,183.39439999999999,101.0205,119.30799999999999,208.3151,139.03049999999999,172.7978,194.17509999999996,192.34460000000001,192.08979999999997,204.50989999999999,127.22429999999999,119.28349999999999,97.118700000000004,78.882299999999987,132.29579999999999,141.7808,158.94829999999999,94.095399999999998,97.892200000000003,133.19809999999998,141.65479999999999,133.4529,59.527299999999997,52.444700000000005,212.85320000000002,87.943099999999987,11.206299999999999,24.212299999999999,37.103499999999997,28,78.989399999999989,20.304199999999998,118.04379999999998,131.6301,78.821399999999997,112.66499999999998,160.95309999999998,106.2796,104.93979999999999,97.369299999999981,88.76209999999999,88.375699999999995,114.76149999999998,110.08269999999999,122.0093,124.77429999999998,116.68299999999999,222.21779999999998,532.94150000000002,133.28979999999999,21.018899999999999,23.697099999999999,30.819599999999998,51.009699999999995,46.447799999999994,8.4517999999999986,16.242099999999997,27.432299999999998,48.775300000000001,125.70669999999998,177.05519999999999,26.094599999999996,8.5833999999999993,15.047899999999998,57.320199999999993,59.81989999999999,82.714799999999997,123.43729999999999,133.03569999999999,101.2872,186.24269999999999,261.98339999999996,194.00849999999997,94.386599999999987,77.847699999999989,150.40269999999998,127.23269999999999,80.190600000000003,142.36109999999999,223.94749999999999,135.36320000000001,120.20610000000001,149.65019999999998,315.83089999999999,328.1404,239.93270000000001,164.0667,151.03129999999999,153.87819999999999,124.34519999999999,150.1626,182.5866,238.65169999999998,342.83479999999997,221.2182,269.61759999999998,258.01439999999997,219.27780000000001,241.97040000000001,359.50039999999996,432.54820000000001,231.15049999999997,226.40939999999998,172.43869999999998,179.7824,253.77029999999999,316.1739,543.78379999999993,377.35109999999997,215.15129999999996,271.24790000000002,140.6713,150.2347,181.0641,212.10769999999999,204.07239999999999,258.12430000000001,254.86929999999998,235.3022,391.68849999999992,456.99639999999994,354.36939999999998,326.40229999999997,310.37509999999997,391.61989999999997,439.92059999999998,489.86909999999995,400.59039999999999,418.58179999999999,402.89689999999996,399.29539999999997,478.76009999999997,411.1345,265.81309999999996,258.05499999999995,153.08999999999997,186.19369999999998,291.00049999999999,293.89079999999996,330.62329999999997,305.91749999999996,273.21069999999997,225.48679999999999,280.27789999999999,283.37189999999998,193.28399999999999,237.30209999999997,230.29649999999998,275.3646,297.92489999999998,285.8184,270.50939999999997,271.4502,288.03879999999998,251.00249999999997,338.93159999999995,387.16300000000001,303.05659999999995,344.81089999999995,315.43399999999997,450.14759999999995,444.16890000000001,485.31909999999993,312.25599999999997,363.80259999999993,337.94319999999999,318.21369999999996,387.54730000000001,410.50869999999998,370.94329999999997,262.44469999999995,214.06069999999997,219.59209999999996,259.05669999999998,359.3492,280.24779999999998,340.60109999999997,379.06610000000001,379.10039999999998,268.89030000000002,260.2432,277.11529999999999,268.91759999999999,205.37789999999998,278.33539999999999,249.37780000000001,233.46469999999999,259.9674,242.14749999999998,221.90069999999997,268.90849999999995,336.8449,301.58519999999999,293.51349999999996,281.25579999999997,153.34059999999999,144.25110000000001,199.67849999999999,177.6474,133.56139999999999,158.58920000000001,208.00149999999996,287.87919999999997,322.44799999999998,344.55889999999994,274.42450000000002,197.03039999999999,179.03129999999999,173.24859999999998,157.21579999999997,168.71259999999998,171.5042,178.14509999999999,198.88609999999997,278.25069999999994,334.92410000000001,529.60983670000007,388.30555539999995,381.26509259999995,212.21241929999999,195.96443439999999,161.10858679999998,139.41769099999999,161.80076849999998,163.58696829999997,242.28118949999995,225.55656829999995,319.33869309999994,283.94490769399999,172.14437780200001,234.3481209,201.526885636,111.13141044199999,97.401727604000001,102.43908606400001,120.019735118,138.437161788,216.20731071200001,224.26137738,281.67412965,318.69145184000001,266.29888497999997,265.75549541999999,307.58115988400004,223.421483806,199.61285362400002,195.82272629600001,256.54768168800001,270.24170669800003,283.98781499400002,276.84362946600004,337.08485500600005,372.34012374000002,342.600296184,457.14945289999997,370.51571222199999,251.14840015000001,216.49426816800002,175.260815186,163.016439534,139.951745128,216.268290482,246.284607376,338.64703298999996,443.67862617000003,369.22198314000002,354.77524994200002,361.18861317199998,275.95647575800001,207.70265442800002,170.77235531599999,151.65694177199998,160.19068604199998,267.50232792000003,326.90832081000002,326.44179232599998,319.02103063599998,291.33964547400001,327.144737222,255.86272351400001,253.000755822,125.366838692,110.974045312,202.46425890799998,162.10553811,249.57726645600002,276.57492800400001,332.09329889399999,454.98487605000003,513.53040309599999,351.10246903400002,429.29966807599999,316.01911348800002,169.55252211600001,96.849533773999994,110.35765205600001,101.23997756,161.43736240799998,258.23356678200003,250.884576458,291.21301766599998,267.73958013800001,241.22357426400001,199.433449532,162.454982844,91.897749223999995,98.826694048000007,112.205176266,118.523846562,133.817345622,222.08938846799998,309.56905332999997,250.71520000000001,"-","-","-","-","-","-","-","-","-","-","-"]
[null,"Nuclear",5193.2669999999998,4339.07,4257.0429999999997,4556.652,3888.4780000000001,3340.7759999999998,4237.2030000000004,4785.9570000000003,3922.86,3724.6979999999999,4508.0119999999997,5151.652,5104.1710000000003,4384.2939999999999,4067.27,3992.02,4552.1890000000003,4225.1899999999996,4437.6530000000002,4942.09,4277.0730000000003,4464.0169999999998,4223.2820000000002,4493.1509999999998,5192.8770000000004,4385.7290000000003,4026.587,3462.453,4064.5410000000002,4293.1989999999996,4749.7550000000001,4946.1469999999999,4034.17,4813.0360000000001,4192.3450000000003,5199.2209999999995,5201.174,4155.7929999999997,4669.1880000000001,4062.3710000000001,3893.6060000000002,4183.93,4729.2460000000001,4829.7979999999998,4382.91,4501.3059999999996,4049.26,5006.7079999999996,4888.2139999999999,3958.1379999999999,3900.1210000000001,4180.04,4543.5010000000002,3955.25,4579.1760000000004,5011.7669999999998,4867.835,4055.7330000000002,3978.7339999999999,5077.2939999999999,5146.4290000000001,4395.348,4446.4219999999996,4134.1989999999996,4752.0510000000004,4513.0550000000003,4113.75,4140.442,3814.6640000000002,4207.8209999999999,4297.0649999999996,5176.8519999999999,5195.7539999999999,4737.4430000000002,4830.9219999999996,4445.9740000000002,5116.9250000000002,3774.4290000000001,3664.36,3673.0569999999998,3886.011,4866.2370000000001,4595.5460000000003,5326.0879999999997,5031.4409999999998,4410.6220000000003,3691.5619999999999,4062.0650000000001,4998.1310000000003,4588.0749999999998,4734.5360000000001,4656.4660000000003,4176.0129999999999,4076.8440000000001,4225.6610000000001,4396.9260000000004,4850.357,4864.741,4461.1189999999997,4236.9560000000001,4651.5559999999996,4934.2110000000002,5286.8950000000004,5284.7460000000001,4524.4040000000005,4228.4549999999999,4439.5460000000003,4809.0609999999997,5175.085,3934.9490000000001,4011.0189999999998,3517.41,4880.7039999999997,4516.8969999999999,4677.9319999999998,5216.1670000000004,4711.5259999999998,5076.299,5278.6869999999999,5381.5219999999999,5459.17,5121.3310000000001,4958.84,4468.1360000000004,4874.4319999999998,5231.8050000000003,5359.4309999999996,5001.26,4030.7669999999998,4407.5630000000001,5064.9549999999999,5552.63,5502.3770000000004,4781.0929999999998,4681.95,4579.076,5513.3280000000004,5103.848,5432.7079999999996,5308.9870000000001,4701.9359999999997,4737.7489999999998,5173.6959999999999,5468.4650000000001,5520.4269999999997,4774.6279999999997,4206.7129999999997,4213.8419999999996,4779.2070000000003,5056.317,5461.0479999999998,5342.009,4584.9179999999997,5397.9639999999999,5372.2539999999999,5579.12,5509.2039999999997,4935.9390000000003,4672.1049999999996,4666.5870000000004,4788.8159999999998,4456.1189999999997,5407.9309999999996,5310.3649999999998,4125.6400000000003,4543.8519999999999,5301.45,5501.5820000000003,5460.7179999999998,5125.5640000000003,4948.6270000000004,5126.8320000000003,4825.2929999999997,5119.8680000000004,5506.2659999999996,5391.1970000000001,4699.0659999999998,4456.99,5064.8130000000001,5150.5079999999998,5568.3090000000002,4881.1490000000003,4397.3779999999997,3772.4949999999999,3619.3679999999999,3778.6930000000002,3888.0259999999998,4532.116,5109.7690000000002,4710.4870000000001,5173.1639999999998,5470.8789999999999,5421.2830000000004,4884.5969999999998,5073.241,3528.8339999999998,4300.0879999999997,4842.6530000000002,4775.66,5164.5550000000003,4298.7560000000003,4620.2969999999996,5068.6260000000002,5375.116,5319.1580000000004,4778.3050000000003,4947.4629999999997,4342.93,3485.058,3161.45,3855.7460000000001,3976.62,4877.2839999999997,4891.0659999999998,3934.346,5069.5010000000002,5322.9409999999998,5119.9319999999998,5354.7060000000001,4039.7550000000001,4689.7039999999997,4579.7330000000002,4541.0349999999999,5013.9489999999996,4482.3890000000001,4314.4620000000004,4045.8270000000002,4955.8580000000002,5438.39,4335.1400000000003,3949.223,4063.489,3687.607,3530.33,3998.25,5278.1620000000003,4387.8469999999998,3957.8240000000001,3973.4949999999999,3949.6880000000001,4480.6099999999997,4635.9830000000002,4877.9646469999998,4894.268,4417.8689999999997,4693.97,5399.9840000000004,5421.2550000000001,5066.8190000000004,5429.7690000000002,5094.6189999999997,4829.2110000000002,4718.777,4271.59,4332.2643109999999,4457.3370000000004,3640.74,4702.2290000000003,4823.0249999999996,5271.61,4983.1229999999996,4499.7290000000003,4546.8770000000004,4856.63,5171.7839999999997,5146.0450000000001,5472.3729999999996,5200.7150000000001,4487.326,3504.3710000000001,5098.692,5457.9219999999996,5300.0649999999996,5396.02,4070.386,4361.2879999999996,4582.8119999999999,4425.6019999999999,5210.3209999999999,4458.8410000000003,3995.2890000000002,4334.933,5136.4780000000001,5025.3630000000003,4740.6139999999996,4342.4009999999998,4067.681,3986.5520000000001,4535.384,4723.7730000000001,5288.5060000000003,5057.6959999999999,4341.3779999999997,3439.377,4262.5479999999998,4221.3969999999999,4806.0709999999999,5129.5820000000003,4369.2830000000004,4695.2439999999997,5242.7219999999998,4720.8609999999999,5205.7860000000001,4690.1409999999996,3554.4010480000002,3771.7689999999998,4798.9250000000002,4963.9790000000003,4873.9170000000004,4095.259,3973.4929999999999,4863.5860000000002,4615.6859999999997,3973.2069999999999,5191.7529999999997,5055.57,3891.866,4819.2470000000003,5178.0649999999996,5151.8209999999999,5009.8950000000004,5096.1009999999997,3774.5970000000002,4341.1639999999998,5285.3739999999998,4768.268,5270.7340000000004,4928.7539999999999,4143.7839999999997,4049.538,4393.4089999999997,5080.2929999999997,4725.6310000000003,4310.2259999999997,3615.6709999999998,5037.24,5088.7084999999997,"-","-","-","-","-","-","-","-","-","-","-"]
[null,"Carbón",3554.7130000000002,2808.93,4652.6989999999996,4136.5429999999997,4587.1109999999999,5321.4319999999998,5250.7060000000001,3947.904,5387.902,5510.9690000000001,4915.0630000000001,5264.8360000000002,5224.28,5296.625,3495.0279999999998,3481.8490000000002,3671.8180000000002,4256.6930000000002,4980.1729999999998,4086.721,5208.0709999999999,5263.2470000000003,5335.63,5504.1719999999996,5944.99,5738.3360000000002,6103.6019999999999,5201.3090000000002,4697.4560000000001,4286.62,5015.9709999999995,4074.3449999999998,5319.2740000000003,4625.6970000000001,4904.8990000000003,3913.3960000000002,5346.884,5513.03,5612.2,5170.2950000000001,4777.482,4212.7860000000001,4707.7950000000001,4404.0150000000003,5167.9459999999999,4033.7550000000001,4331.0810000000001,4573.8289999999997,3978.51,4574.6260000000002,4772.0309999999999,4414.0839999999998,3947.5819999999999,4969.9160000000002,5461.8220000000001,4646.473,4986.63,5297.8029999999999,4989.8029999999999,5135.4290000000001,4961.5429999999997,4086.7020000000002,4543.3760000000002,4764.9229999999998,4849.9660000000003,4988.4269999999997,5813.1210000000001,5715.2879999999996,5955.4340000000002,5452.8069999999998,5627.4120000000003,4475.7129999999997,2360.5059999999999,2530.3960000000002,3906.415,2566.183,2468.0160000000001,4802.9570000000003,6075.884,5718.72,5483.2709999999997,5300.6729999999998,5235.7960000000003,3019.8519999999999,3369.9650000000001,3440.4050000000002,5261.442,5405.2070000000003,4764.1080000000002,4851.4949999999999,5510.2690000000002,5458.799,6182.2820000000002,6159.8909999999996,4489.942,3626.0010000000002,2784.9969999999998,3170.357,5292.9309999999996,4252.3119999999999,3309.6819999999998,4052.5839999999998,5346.3990000000003,4423.5739999999996,5801.1279999999997,6013.634,6005.6689999999999,6472.7079999999996,6340.8639999999996,5930.6809999999996,6145.65,5483.5320000000002,4405.9440000000004,5287.6989999999996,6323.3829999999998,5275.55,6366.4870000000001,5855.6469999999999,5280.2830000000004,5709.9129999999996,6646.7269999999999,6309.58,6444.9,5440.6189999999997,4905.92,5885.0379999999996,6534.3549999999996,6262.8040000000001,6674.8770000000004,6592.7020000000002,6222.2370000000001,4308.4120000000003,3864.127,3418.3440000000001,3396.4870000000001,3806.2080000000001,4867.4440000000004,5835.1459999999997,6385.9369999999999,6261.54,6593.6639999999998,6585.9129999999996,6448.018,6986.076,6959.4219999999996,6404.2160000000003,6858.5259999999998,6465.3549999999996,6436.5510000000004,6061.0640000000003,6297.098,6142.6760000000004,6405.9840000000004,5954.9880000000003,6040.4160000000002,4529.3950000000004,4692.41,5217.6180000000004,5238.5379999999996,4917.42,5208.8059999999996,6150.0929999999998,6649.875,6645.7740000000003,6560.4669999999996,6463.7240000000002,5574.1440000000002,4974.2969999999996,5656.4549999999999,5871.2439999999997,6356.1559999999999,5163.0929999999998,5313.8549999999996,5886.91,6545.9870000000001,6332.2389999999996,6239.2479999999996,6190.8059999999996,5967.0519999999997,6597.0609999999997,6811.0429999999997,6089.2169999999996,6168.6570000000002,5506.63,5676.7759999999998,5758.9080000000004,6257.933,5758.1769999999997,5916.0669999999991,6141.5519999999997,6328.2110000000002,6580.9179999999997,6886.5889999999999,5775.3689999999997,4765.6580000000004,3496.4920000000002,5080.473,5562.59,6510.018,5286.5910000000003,5409.01,4807.43,4258.2139999999999,4287.6310000000003,6102.67,4895.3440000000001,4863.6350000000002,5834.9139999999998,5991.8040000000001,5773.7129999999997,5941.4759999999997,5886.2380000000003,5490.1840000000002,5348.8280000000004,5486.22,6071.2219999999998,4980.9620000000004,4597.7120000000004,3661.9070000000002,3107.0479999999998,2174.694,2041.751,3682.3649999999998,3065.9859999999999,3445.7359999999999,4099.5609999999997,4098.3509999999997,4453.4639999999999,4585.1629999999996,3015.4140000000002,2964.835,1785.3620000000001,2230.875,2454.0859999999998,3212.9270000000001,1795.0940000000001,2689.4720000000002,3054.2979999999998,1997.712,1837.3240000000001,1696.0940000000001,1367.2760000000001,844.19683400000008,633.69799999999998,823.90599999999995,1322.5630000000001,2450.4160000000002,2835.7339999999999,2971.1260000000002,1987.136,1627.231,2039.8789999999999,2046.91,2465.9850000000001,2981.8594069999999,2442.991,2961.694,2727.0279999999998,4186.6130000000003,4069.8069999999998,4665.6499999999996,4282.6189999999997,3880.549,3790.1219999999998,5155.723,5284.4470000000001,4450.6859999999997,2519.9769999999999,3786.125,5062.384,4674.9290000000001,4819.2690000000002,3811.0169999999998,4058.4580369999999,3915.7240000000002,3592.1469999999999,2887.2489999999998,2416.6030000000001,1257.787,904.23199999999997,1901.7360000000001,2464.3339999999998,5226.9780000000001,4374.2529999999997,4539.9620000000004,4032.0120000000002,2511.31,4660.4269999999997,2116.6080000000002,756.298,1149.2190000000001,1222.6990000000001,3177.6909999999998,5007.9830000000002,5378.1710000000003,5052.8900000000003,5684.2669999999998,4391.0060000000003,3148.0790000000002,4047.7660000000001,4900.1130000000003,2941.5079999999998,2591.2600000000002,2955.7919999999999,2829.4630000000002,5330.826,6063.442,5202.1499999999996,4598.2759999999998,4304.6319999999996,4578.0150000000003,4628.2953669999997,2561.0259999999998,1806.4839999999999,1690.627,903.56100000000004,1036.145,2053.3679999999999,3659.5210000000002,3398.3910000000001,4304.2709999999997,4283.7070000000003,4457.4279999999999,5032.9750000000004,5166.1390000000001,3326.569,1791.5029999999999,1901.8214580000001,3538.877,4289.04,4040.0160000000001,2977.3270000000002,2835.5230000000001,3910.402,4674.415,4141.2920000000004,3029.2147,"-","-","-","-","-","-","-","-","-","-","-"]
[null,"Fuel + Gas",204.21799999999999,106.63200000000001,108.53100000000001,79.792000000000002,202.10499999999999,384.87799999999999,413.75400000000002,154.66399999999999,238.91200000000001,286.88600000000002,267.43900000000002,418.13499999999999,255.22300000000001,330.26900000000001,128.71299999999999,181.60300000000001,200.85400000000001,278.56799999999998,687.28200000000004,178.96100000000001,651.77,308.13900000000001,371.59300000000002,468.71,1299.375,1787.73,1434.2529999999999,698.91499999999996,614.41099999999994,147.673,415.72300000000001,221.51499999999999,529.48400000000004,185.83699999999999,87.533000000000001,41.134,95.265000000000001,339.47300000000001,343.83600000000001,259.45,99.405000000000001,120.458,38.927,88.599000000000004,185.27199999999999,52.688000000000002,79.194000000000003,74.58,99.884,90.411000000000001,115.89400000000001,122.31100000000001,19.071000000000002,97.451999999999998,377.67399999999998,54.8,84.703999999999994,118.869,64.489999999999995,166.625,152.78100000000001,37.526000000000003,143.05000000000001,120.69,108.38200000000001,288.23200000000003,593.74300000000005,231.72399999999999,578.34900000000005,658.57899999999995,432.286,315.82100000000003,15.11,185.81,257.11,138.06399999999999,30.667999999999999,162.97,265.834,140.58600000000001,231.84,97.462999999999994,243.30500000000001,274.57,261.459,382.80099999999999,453.16300000000001,496.78800000000001,437.55900000000003,493.38499999999999,819.47199999999998,582.31200000000001,735.84,822.64400000000001,542.72900000000004,524.38900000000001,69.924000000000007,100.93300000000001,152.994,52.481999999999999,36.298000000000002,200.45699999999999,473.96899999999999,507.113,713.85500000000002,389.214,997.22,1644.422,1502.4580000000001,1861.3040000000001,1086.079,532.75699999999995,168.64400000000001,532.41,1127.99,686.73099999999999,596.71299999999997,154.83099999999999,413.447,687.29899999999998,1113.6690000000001,491.26400000000001,1132.8869999999999,724.64300000000003,174.01300000000001,674.13099999999997,890.41,736.76900000000001,1450.383,931.17499999999995,755.077,490.87799999999999,502.29,406.87400000000002,415.24599999999998,162.84899999999999,332.142,1148.567,1351.6949999999999,1201.8900000000001,1299.134,1281.4549999999999,1320.4590000000001,2157.018,2663.5720000000001,1619.6969999999999,1419.443,1389.165,1086.731,1639.8030000000001,1896.914,889.726,1207.8599999999999,878.51300000000003,477.95100000000002,376.30700000000002,581.38300000000004,499.10700000000003,206.44800000000001,78.707999999999998,237.10300000000001,1224.425,1186.8030000000001,1068.492,943.46799999999996,648.37199999999996,347.553,409.78,431.41399999999999,344.90600000000001,608.28800000000001,174.5,312.65300000000002,737.54499999999996,1090.75,714.63199999999995,946.65800000000002,578.89200000000005,466.279,682.95100000000002,916.31399999999996,1095.0899999999999,1363.62,371.74299999999999,521.77099999999996,1160.585,1354.2950000000001,407.67500000000001,515.48199999999997,357.86500000000001,420.92899999999997,808.94899999999996,760.53599999999994,627.52300000000002,291.553,282.34699999999998,230.67099999999999,521.58600000000001,1004.05,339.096,760.59699999999998,340.62799999999999,131.166,106.30500000000001,102.61,220.43700000000001,191.126,113.172,166.47399999999999,83.596000000000004,272.95100000000002,212.661,233.035,127.13200000000001,199.01599999999999,168.55500000000001,142.142,124.255,70.555000000000007,137.19999999999999,147.767,248.85499999999999,154.96299999999999,242.51900000000001,189.06899999999999,200.066,227.26599999999999,190.238,128.80699999999999,119.209,191.56200000000001,137.76900000000001,91.483999999999995,147.09100000000001,212.322,171.65,154.518,104.51600000000001,165.87799999999999,164.78399999999999,153.209,126.666,22.518000000000001,105.508,163.869,165.56899999999999,138.49199999999999,113.152,138.31899999999999,124.90300000000001,166.81100000000001,147.00700000000001,0,0,0,0,0,0,0,0,0,0,0,0,0,0,0,0,0,0,0,0,0,0,0,0,0,0,0,0,0,0,0,0,0,0,0,0,0,0,0,0,0,0,0,0,0,0,0,0,0,0,0,0,0,0,0,0,0,0,0,0,0,0,0,0,0,0,0,0,0,0,0,0,0,0,0,0,0,0,0,0,0,0,0,0,0,"-","-","-","-","-","-","-","-","-","-","-"]
[null,"Ciclo combinado","-","-","-","-","-","-","-","-","-","-","-","-","-","-","-","-","-","-","-","-","-","-","-","-","-","-","-","-","-","-","-","-","-","-","-","-",0.21299999999999999,"-","-","-","-","-","-","-","-","-","-","-","-","-","-","-","-","-","-","-","-","-","-","-","-","-","-","-","-","-","-","-","-","-","-","-","-","-","-","-","-","-","-","-","-","-","-","-","-","-","-","-","-","-","-","-","-","-","-","-","-","-","-","-","-","-","-","-","-","-","-","-","-","-","-","-","-","-","-","-","-","-","-","-","-","-","-","-","-","-","-","-","-","-","-","-","-","-","-","-","-","-","-","-","-","-","-","-","-","-","-","-",121.518,305.00700000000001,520.59400000000005,763.19200000000001,1165.914,1151.1369999999999,610.33199999999999,517.97900000000004,436.83199999999999,845.81500000000005,761.98099999999999,386.589,799.41600000000005,1781.1379999999999,1927.3420000000001,1793.886,2025.4680000000001,1795.77,1208.1959999999999,863.65300000000002,1541.807,1943.2280000000001,2272.9110000000001,1822.15,2011.424,2317.6480000000001,2722.288,2333.433,2921.5369999999998,2845.4029999999998,2763.1559999999999,2817.86,3347.6289999999999,3357.8130000000001,3345.9479999999999,3237.21,3507.2539999999999,4645.3109999999997,5188.2110000000002,4424.9160000000002,4433.4340000000002,4074.636,4170.7370000000001,4113.6899999999996,5549.6480000000001,5482.8220000000001,4705.1390000000001,4650.8059999999996,4929.5569999999998,5469.55,6664.4570000000003,4828.1819999999998,6324.433,5050.22,4256.4570000000003,4211.1629999999996,6046.6490000000003,3813.0230000000001,3823.5529999999999,4054.7080000000001,4329.2470000000003,6168.9219999999996,6583.8389999999999,5145.5169999999998,5637.6090000000004,6092.1170000000002,7608.1620000000003,7269.5219999999999,7999.7709999999997,7995.5810000000001,6774.8040000000001,6899.11,7196.2809999999999,7596.2740000000003,8863.5310000000009,8223.3009999999995,7817.5169999999998,7214.4549999999999,6826.1670000000004,5693.94,5970.2749999999996,4444.1909999999998,5032.6499999999996,5434.4449999999997,5603.4830000000002,7620.6459999999997,8497.5750000000007,8177.8140000000003,7385.0879999999997,6555.009,5522.15,6135.9579999999996,5308.0950000000003,4758.78,4086.5899279999999,4360.6160999999993,4552.942,5475.442,6782.4560000000001,5736.69,6235.23,5277.7479999999996,5529.0940000000001,4851.2572170000003,5017.5481399999999,4626.0790999999999,3936.2882829999999,2780.183,4145.3770299999996,4837.5429999999997,4513.7520059999997,4686.5900339999998,4471.7389999999996,3709.547,3346.7570000000001,3340.253412,4223.4920000000002,3867.6390000000001,3070.4450000000002,2221.1074309999999,2396.9130299999997,3094.7109999999998,3351.596,3470.2919649999999,2874.5963450000004,3215.3029999999999,2947.85,2797.7220000000002,2607.2273,1958.4953500000001,1498.0340000000001,1120.7550000000001,1635.2412960000001,1378.832001,2221.196817,2365.5941080000002,2232.1579999999999,2535.2040000000002,2034.98,2772.864,1551.0370190000001,1268.5402469999999,1284.1469999999999,1230.0104410000001,1422.7929999999999,1773.52217,1859.79216,2219.6498360000001,2659.4920000000002,2137.4920299999999,1928.739,2001.539,2227.4250000000002,1716.241,1625.308002,1666.992,1600.5170000000001,1879.125,3407.078,2337.2719999999999,1999.653,2081.9119999999998,2093.5509999999999,2633.3939999999998,1878.4259999999999,1312.3710000000001,1344.51,1171.7449999999999,1499.5540000000001,1891.633495,2381.915,2023.2982930000001,2143.0909999999999,3301.415,3431.904,3306.2860000000001,2932.246369,1526.5029999999999,1448.9780000000001,1247.3969999999999,1617.9829999999999,3174.7585960000001,3712.319,3479.8420000000001,3215.1759649999999,3873.3009999999999,4569.8599999999997,3056.1640000000002,2289.6867000000002,"-","-","-","-","-","-","-","-","-","-","-"]
[null,"Régimen ordinario",12926.357,10581.564999999999,11416.075000000001,10457.180999999999,10461.036,10796.148000000001,11461.204000000002,10093.407999999999,10840.496000000003,10968.464000000002,11589.866000000002,12786.873000000001,13239.38,12083.618999999999,11425.396000000001,10980.723,11130.630999999998,10763.272000000001,11766.474,10313.691000000001,11266.512000000002,11548.643999999997,11906.550999999998,12314.346000000001,13871.503000000001,12736.595000000001,12381.88,10961.814999999999,10802.923000000001,10285.013999999999,11866.487999999999,10455.599000000002,11178.235999999999,11482.254000000001,11277.127,11860.464999999998,12705.377,11469.427000000001,12041.353999999996,10605.519999999997,10558.738000000001,10609.397000000003,11305.952000000001,10596.652,10976.277999999998,11325.451999999999,11747.044999999996,12188.336999999998,12685.643,11582.145,11358.462999999996,10920.803999999998,10944.569999999998,11311.628000000002,12222.555,10973.152999999998,11210.371000000001,10980.558999999999,11198.065000000001,12145.179000000004,12953.626000000002,11018.559000000003,12159.843999999999,10853.870000000004,11374.402999999997,11491.358,12141.378000000001,11184.483999999999,11280.693999999998,11320.003000000002,11578.094999999999,12373.954999999998,13470.736999999999,12799.213000000002,12315.147000000001,10601.276999999996,11212.282999999999,11508.811,12185.666999999999,10967.458999999999,11271.293000000001,11934.769000000002,12151.593000000001,12597.085999999999,14083.578000000001,11471.970000000001,11878.418999999998,12128.93,12304.189,12148.918999999998,13009.237000000003,12394.627000000002,12693.870999999999,12522.63,12636.612000000001,13761.592000000001,13369.915999999999,11969.025,12419.051000000001,11834.460999999999,11827.589000000002,12442.531000000001,13641.856999999998,12326.652,12874.096,12543.050000000001,12934.402,14321.236000000001,14458.407000000001,13049.906999999999,13078.465,11538.88,12115.561000000002,12702.124,14042.931,12642.026999999998,13255.187999999998,12904.402,13673.998,14536.451000000001,15736.309000000003,13497.509999999998,14079.450999999999,12797.216999999999,13250.671000000002,14032.49,14503.346999999998,13730.665000000001,14016.970000000001,13696.626,14495.565000000001,14979.624,16089.006000000001,14193.431,14863.669000000002,12645.645,13830.507000000001,14496.214,15167.697,14697.792000000001,14172.29,14437.813999999998,14989.92,16426.213,16693.004000000001,14071.603999999999,14372.266,13911.524999999998,14388.041000000001,15097.285,15800.802,14382.479000000003,14621.029000000002,14723.314000000002,14507.519000000002,15172.174999999999,16708.429,15726.468000000001,15179.310999999998,13592.332,14415.543999999996,15912.103999999999,17171.198,16407.002,15412.097000000002,15426.892,15466.623,16435.541000000001,16568.126,16449.046999999999,17098.934000000001,15006.021999999999,15529.905000000002,16707.550999999999,17927.985999999997,16541.084999999999,16414.573000000004,15859.625000000002,16551.557000000001,17087.504000000001,18243.370999999999,16973.586000000003,17044.812000000002,14837.507000000001,15523.875,17313.733999999997,18237.486000000001,16373.689999999999,17006.422999999999,16261.470999999998,17433.355999999996,18668.195,20262.534,18010.791999999994,17541.668999999998,14393.763999999999,16535.659,17910.976000000002,20594.048000000003,16754.415000000001,18085.466,16521.769,16682.085999999996,18675.330999999998,19751.378000000001,16523.958999999999,17507.055,16888.804,16579.203000000001,17333.553,19039.929,16995.284,17670.181,18206.593000000001,18648.744999999999,19925.703000000001,19800.373,18855.427,16917.789000000001,16495.352000000003,17109.577999999998,17260.227999999999,19220.999,17954.337,17194.444,16941.185000000001,16678.165000000001,17574.968000000001,18220.623,15040.960000000003,14569.678,13304.255000000001,13795.37,15569.023000000001,17482.846000000001,16761.399000000001,15545.411,14898.662999999999,13498.447,15042.440999999999,16581.893950000001,14727.736116999997,15244.312545999999,14236.158649999999,13329.089481999999,14764.740740000001,17347.935098000002,15963.713582,15824.488311999999,14344.450218,14687.169635999999,15440.754387000001,16519.798010999999,14025.343386,14664.133832,12829.966520000002,13162.761498999998,14021.066074,14901.497056,15374.780923999999,15246.575555999998,13766.588358999999,13726.916234,14003.894412,16160.525933999999,15457.36,14246.139933999999,11523.684390999999,12786.929278,13524.787606,14654.799175999999,15073.852099,13092.593220999999,14072.856331000001,12786.230934000001,13129.554977999998,12795.946234000001,12006.898327999999,12201.921988,11397.962444000001,10815.292750000001,10937.157823,14944.142915,13667.879122000002,13176.628215999999,12648.251822,11138.97,13690.481978,"-","-","-","-","-","-","-","-","-","-","-","-","-","-","-","-","-","-","-","-","-","-","-","-","-","-","-","-","-","-","-","-","-","-","-","-","-","-","-","-","-","-","-","-","-","-","-","-","-","-","-","-","-","-","-","-","-","-","-","-"]
[null,"Hidráulica/Resto hidráulica",105.99199999,92.305999990000004,64.729999989999996,90.829000010000001,84.022999960000007,91.299000000000007,55.459000000000003,57.632000010000006,34.01199999,69.633999989999992,110.01000001,126.70600002,179.13800000000001,122.81100000000001,215.011,190.10900000000001,195.07300000000001,144.59399999999999,99.561000000000007,80.388999999999996,78.209000000000003,93.88,141.988,164.018,125.13500000000001,89.668999999999997,114.31100000000001,191.75700000000001,193.59,203.803,181.00200000000001,118.066,117.869,215.52699999999999,233.875,297.16899999999998,208.39500000000001,120.724,171.35300000000001,192.554,247.309,207.114,151.58000000000001,102.715,108.434,243.80099999999999,228.351,251.898,342.685,275.54899999999998,261.048,218.69300000000001,253.36600000000001,170.89599999999999,113.035,101.443,106.75,171.69800000000001,238.982,221.12299999999999,329.74799999999999,321.577,299.32900000000001,168.03299999999999,176.27099999999999,142.42699999999999,114.44499999999999,86.066999999999993,110.54,88.179000000000002,129.774,256.48399999999998,431.99400000000003,394.01900000000001,364.69799999999998,371.68,349.161,242.65199999999999,197.03100000000001,174.12299999999999,161.74299999999999,181.57599999999999,235.11199999999999,440.05799999999999,440.79199999999997,368.97300000000001,267.72199999999998,216.18199999999999,261.68,278.39100000000002,254.60499999999999,204.18799999999999,190.68700000000001,154.25,310.86200000000002,480.66300000000001,492.71681900000027,339.41051800000037,327.06436500000001,403.45852500000007,412.07627199999973,315.95694499999991,207.93444699999981,197.43269499999997,167.836814,248.31532999999988,203.70192800000009,262.56925899999993,323.52239599999979,292.89981199999983,373.90223100000003,348.71718900000002,443.13831299999953,296.52359400000012,224.70694300000005,189.84542699999983,210.82529300000019,274.4117980000002,366.44797700000021,395.38163899999972,330.40558000000061,282.4367390000001,249.44621600000002,435.78321799999981,494.62790899999982,357.92745100000013,254.29291899999987,199.41030499999974,158.61218700000026,230.15518499999985,367.53720900000002,475.46501499999971,558.92030299999965,485.9960640000001,596.9482809999995,489.46396500000048,476.68399000000039,352.76099499999998,300.49062999999978,227.07167800000002,181.60083700000001,202.50831499999984,222.42956999999993,192.64800500000001,255.92034899999996,271.46624000000031,345.5155519999999,361.37205199999977,420.06244200000003,357.79012199999954,235.872343,210.05402300000023,204.41109700000004,280.620946,390.81764499999963,565.54952800000058,581.19393900000068,453.43333999999987,562.61659000000009,532.27852599999949,529.63067400000057,359.33567800000003,277.91316899999993,209.44763500000025,208.93049999999982,309.71749599999981,485.77285999999998,578.37363800000003,587.99536900000066,427.62895799999984,507.79213800000031,547.04272999999989,572.54148200000088,412.62300300000021,336.46757500000012,259.27092500000015,199.83813299999983,245.59888100000015,329.70104599999968,323.07814500000035,350.78451000000035,292.22942700000004,386.56584999999961,465.50854399999992,438.71030300000024,297.45351899999991,244.46804400000011,191.04961800000027,151.16209100000012,217.90684300000004,377.39904099999995,404.34514899999988,400.55887300000069,320.87833499999977,567.0589700000005,506.03915599999999,360.07454500000034,248.51400000000001,226.34899999999999,177.815,164.14,312.404,381.88099999999997,482.851,345.48899999999998,478.79599999999999,516.02800000000002,529.75900000000001,509.19,412.91699999999997,302.21199999999999,256.50099999999998,186.13399999999999,186.88800000000001,189.87299999999999,211.53800000000001,340.20600000000002,233.21799999999999,301.23399999999998,581.11099999999999,613.279,581.55499999999995,380.40899999999999,264.58100000000002,212.28,190.523,400.12099999999998,539.62599999999998,521.05499999999995,629.452,559.84500000000003,501.44200000000001,577.14200000000005,468.387,365.35300000000001,282.64999999999998,242.869,230.81,466.05,608.61800000000005,764.37,616.57799999999997,784.76,690.19600000000003,688.34299999999996,608.94799999999998,459.60300000000001,341.74799999999999,281.05,318.88900000000001,567.66,702.17499999999995,663.64800000000002,506.22,655.86300000000006,588.12800000000004,489.53800000000001,405.25799999999998,384.18599999999998,304.79399999999998,235.56299999999999,189.00200000000001,423.49200000000002,448.62299999999999,336.82299999999998,331.68099999999998,324.86200000000002,468.28100000000001,642.16,439.56299999999999,337.726,264.85199999999998,198.80799999999999,269.48399999999998,410.351,619.95500000000004,667.28899999999999,687.923,842.28099999999995,845.36900000000003,779.84699999999998,658.83900000000006,534.94100000000003,402.89299999999997,302.90899999999999,342.66300000000001,522.62599999999998,511.57499999999999,783.351,754.57299999999998,806.16800000000001,776.29499999999996,608.47699999999998,523.41800000000001,479.798,401.51499999999999,357.392,362.73,544.005,671.798,"-","-","-","-","-","-","-","-","-","-","-","-","-","-","-","-","-","-","-","-","-","-","-","-","-","-","-","-","-","-","-","-","-","-","-","-","-","-","-","-","-","-","-","-","-","-","-","-"]
[null,"Eólica",0.115,0.19899998999999999,0.18,0.189,0.17399999999999999,0.12,0.26,0.186,0.13100000000000001,0.17,0.20699999999999999,0.25599999000000001,0.192,0.14299999999999999,0.21199999999999999,0.56200000000000006,0.32200000000000001,0.2,0.184,0.21199999999999999,0.14399999999999999,0.24199999999999999,0.27100000000000002,0.18099999999999999,0.26200000000000001,0.22500000000000001,0.313,0.20699999999999999,0.19500000000000001,0.16300000000000001,0.19500000000000001,0.66600000000000004,1.2949999999999999,2.137,2.5070000000000001,9.1959999999999997,7.1150000000000002,11.385999999999999,7.3259999999999996,6.1639999999999997,5.2709999999999999,7.9740000000000002,7.391,6.9809999999999999,5.6310000000000002,7.1980000000000004,6.7279999999999998,5.6029999999999998,6.899,4.8140000000000001,8.7690000000000001,6.859,4.97,6.4619999999999997,3.859,5.3929999999999998,5.0469999999999997,6.3360000000000003,7.78,5.6719999999999997,7.87,7.6749999999999998,8.4960000000000004,11.901999999999999,9.2110000000000003,8.8979999999999997,14.465,17.63,14.853,27.623000000000001,13.795,17.439,18.829999999999998,22.030999999999999,24.646000000000001,26.102,23.157,27.099,25.434000000000001,15.643000000000001,22.706,30.321000000000002,31.616,36.543999999999997,39.627000000000002,32.179000000000002,46.04,56.365000000000002,39.409999999999997,43.759,57.268000000000001,41.052999999999997,45.835000000000001,69.47,72.793999999999997,76.084999999999994,85.726278999999991,73.041770999999997,100.15667400000001,97.154274999999998,87.936697000000009,72.687051000000011,112.78895799999999,131.01327799999996,104.74763500000003,104.14675399999999,128.51891699999999,138.738417,159.91106499999998,214.37513500000003,206.77279700000003,190.99942600000003,173.14856599999996,212.21415299999998,177.00095900000005,139.30212900000004,172.17858000000001,199.35031500000005,312.98064799999997,315.79952500000002,305.02478600000001,295.11369999999994,338.14951600000018,416.02144200000009,226.957358,365.846115,360.05244799999997,315.70721200000003,276.36600500000014,409.72117300000014,544.09382199999982,609.44247300000018,594.73167599999999,573.65477800000008,654.24861100000021,650.22456599999998,424.36108700000011,408.90728200000012,400.20572300000021,374.72081200000002,611.54289400000005,574.769948,768.828981,557.95175500000039,657.00929500000052,782.54075799999964,795.79277999999965,618.78730799999983,820.58633199999974,646.36536599999977,693.5828309999996,598.4340899999994,505.37139599999978,869.00001900000052,1056.9575050000003,1214.8690069999998,1395.1710190000006,997.62484999999981,837.86062599999968,1138.0008659999992,901.86601600000074,703.48306400000013,727.40598099999977,543.97083900000018,781.24529999999993,1086.9553520000009,1172.985179,1433.6770410000006,1685.3449229999994,1074.4477040000002,1281.2794619999981,1519.3727670000001,1019.3578530000005,1048.3327160000013,970.02610899999979,1114.316325,1147.637898,1635.2691430000013,1511.2452730000009,1747.4875960000002,1879.1933479999996,1745.3139569999989,1763.5135970000013,1926.4580810000014,1492.0681999999997,1261.4607640000008,1611.0284699999993,1640.4408529999992,1271.4945329999998,1902.7245970000004,1958.5321529999999,2405.4374059999986,1563.7009309999996,1924.8670310000009,2788.2671979999986,1955.917235000001,1670.5176799999992,1364.4480000000001,1171.7909999999999,2177.8209999999999,1465.816,2334.8020000000001,2279.5230000000001,2183.3850000000002,2149.8069999999998,2871.9189999999999,3086.2469999999998,1356.316,2605.873,1786.288,1888.6089999999999,2419.819,2028.855,1907.625,2752.3119999999999,2395.4850000000001,2651.4679999999998,2018.9480000000001,4092.55,3352.6860000000001,1737.1610000000001,2085.509,2124.2370000000001,1972.5229999999999,2129.8850000000002,2482.0129999999999,3462.6880000000001,3648.1819999999998,3503.799,3226.32,3100.5160000000001,3059.6579999999999,2698.0039999999999,2332.395,2426.1289999999999,2235.837,2466.7310000000002,3125.33,4792.63,4921.2280000000001,4292.0919999999996,4622.4350000000004,4546.5469999999996,2634.819,3619.3339999999998,2576.1970000000001,2798.1329999999998,2894.7440000000001,2301.3229999999999,3952.8310000000001,4348.0590000000002,4621.8819999999996,4018.65,4028.2460000000001,4690.99,3399.4090000000001,3165.6219999999998,2937.1970000000001,3254.7049999999999,2729.4850000000001,2322.9769999999999,3149.5050000000001,3819.8870000000002,4588.76,3645.5149999999999,5014.665,3805.5540000000001,5306.39,3707.8789999999999,3429.201,2981.913,3126.895,3937.4119999999998,3129.8209999999999,4604.8419999999996,5449.9780000000001,6291.5739999999996,5340.9960000000001,5749.1030000000001,4396.7820000000002,3932.35,3827.0520000000001,2844.2130000000002,3410.875,3214.2730000000001,3963.88,6429.8140000000003,4943.4399999999996,6539.4849999999997,5884.2849999999999,5050.3310000000001,3950.2179999999998,4134.8410000000003,3275.5990000000002,3591.6019999999999,2856.8409999999999,2132.614,3382.7719999999999,5071.9809999999998,4764.3209999999999,4912.46,5948.174,4865.1239999999998,3904.518,4800.4530000000004,2873.288,3053.3739999999998,3237.373,3002.6950000000002,3887.2489999999998,3699.88,3528.5619999999999,5604.8440000000001,6068.143,5409.6030000000001,4414.6530000000002,3902.1860000000001,3226.857,3464.6790000000001,3603.8629999999998,2666.8890000000001,2376.0120000000002,3888.75,2671.6909999999998,4796.9650000000001,4905.5389999999998,4687.8249999999998,4177.3270000000002,3440.3330000000001,3149.2730000000001,3336.779,3296.2759999999998,2818.0929999999998,3186.172,3954.9160000000002,5747.2950000000001,5286.1355229999999,"-","-","-","-","-","-","-","-","-","-","-"]
[null,"Solar fotovoltaica",0,0,0,0,0,0,0,0,0,0,0,0,0,0,0,0,0,0,0,0,0,0,0,0,1.01,0.77200000000000002,0.57199999999999995,1.2889999999999999,1.113,1.1639999999999999,1.3069999999999999,1.155,1.2230000000000001,0.94399999999999995,0.56999999999999995,0.93700000000000006,0.53800000000000003,0.53300000000000003,1.252,1.3029999999999999,1.05,1.069,1.2729999999999999,1.1930000000000001,0.88,0.72,1.2629999999999999,0.92600000000000005,0.97799999999999998,1.242,1.0649999999999999,1.208,1.742,1.484,1.635,1.6679999999999999,1.69,1.5209999999999999,1.004,5.8900000000000001E-2,6.4000000000000001E-2,6.8000000000000005E-2,0.112,0.11700000000000001,0.13200000000000001,0.111,0.105,9.6000000000000002E-2,9.0999999999999998E-2,4.8000000000000001E-2,9.0999999999999998E-2,2.7E-2,2.4E-2,3.3000000000000002E-2,4.7E-2,9.2999999999999999E-2,8.5999999999999993E-2,0.11700000000000001,0.107,0.10299999999999999,9.6000000000000002E-2,9.5000000000000001E-2,6.4000000000000001E-2,2.5999999999999999E-2,4.1000000000000002E-2,8.7999999999999995E-2,8.7999999999999995E-2,0.11899999999999999,9.2999999999999999E-2,0.107,0.14299999999999999,8.6999999999999994E-2,0.12,9.6000000000000002E-2,0.105,0.04,4.9634999999999999E-2,7.0578000000000002E-2,0.11298999999999999,0.11806,9.6176999999999999E-2,0.13051699999999999,0.13625000000000001,0.11049299999999999,9.6509999999999999E-2,0.11281099999999999,6.9553000000000004E-2,6.6723000000000005E-2,5.3642000000000002E-2,0.107873,0.15287999999999999,0.117727,0.12252399999999999,0.14707999999999999,0.159277,0.14216999999999999,0.121715,8.8742000000000001E-2,7.9733999999999999E-2,4.7816999999999998E-2,-2.6860999999999999E-2,0.101559,0.124075,1.2024E-2,0.205484,0.16091,1.9984999999999999E-2,0.29827199999999998,0.13695099999999999,0.12126000000000001,7.2305999999999995E-2,4.3852000000000002E-2,5.4684999999999997E-2,9.8405999999999993E-2,0.10854,0.17056499999999999,0.156555,0.197492,0.16886599999999999,0.21376400000000001,0.12875300000000001,0.163998,9.4907000000000005E-2,8.3112000000000005E-2,0.126051,0.22952900000000001,0.27410599999999996,0.39638100000000026,0.47843600000000014,0.47939100000000001,0.5380640000000001,0.53365199999999957,0.48980900000000005,0.41930600000000023,0.31798800000000005,0.27873900000000007,0.33177200000000012,0.40585699999999975,0.56218699999999999,0.71534800000000021,0.85679699999999903,0.97693399999999941,1.1408959999999975,1.0179979999999982,0.91532600000000108,0.80906499999999926,0.5318040000000005,0.66612099999999963,0.57597900000000002,0.83336899999999914,1.1270059999999986,1.3765969999999994,1.6380649999999966,1.9365689999999964,2.0151259999999924,2.030071999999997,1.8506319999999978,1.7061280000000048,1.3758539999999999,1.3286139999999964,1.3100380000000011,1.5964899999999982,2.7521050000000016,2.9168830000000008,3.6370650000000015,4.27022700000001,4.3964089999999914,4.5427230000000041,4.2910249999999994,3.9432079999999976,3.2481789999999919,3.1839970000000024,2.5656399999999966,4.3413879999999949,5.1637430000000002,7.3147159999999678,8.7745119999999783,10.192,11.021000000000001,13.52,11.63,9.9489999999999998,8.077,9.8260000000000005,9.6859999999999999,12.005000000000001,20.550999999999998,24.491,34.18,38.843000000000004,49.655000000000001,53.862000000000002,58.231000000000002,55.534999999999997,52.622,52.915999999999997,57.420999999999999,70.549000000000007,104.43300000000001,126.235,131.75399999999999,189.70699999999999,232.23400000000001,288.11200000000002,317.11099999999999,320.166,324.32100000000003,244.02699999999999,248.703,380.17399999999998,508.66199999999998,546.45500000000004,647.31700000000001,618.52800000000002,690.86199999999997,637.125,492.28899999999999,482.28500000000003,345.4,231.20500000000001,248.57499999999999,289.95,458.21699999999998,565.84,683.24800000000005,656.76599999999996,752.89,691.53200000000004,605.38800000000003,525.85500000000002,364.05200000000002,297.46899999999999,335.96800000000002,481.24700000000001,508.38400000000001,631.45399999999995,716.11800000000005,776.89800000000002,821.81,766.36800000000005,702.33399999999995,601.93499999999995,344.35599999999999,404.81599999999997,482.68,635.51400000000001,736.94500000000005,627.60400000000004,826.20899999999995,839.14599999999996,902.62699999999995,826.45399999999995,658.33399999999995,566.62,350.38200000000001,377.38600000000002,418.75299999999999,500.80700000000002,531.45600000000002,725.43600000000004,832.56,886.25199999999995,929.53700000000003,856.80600000000004,724.78499999999997,603.79,490.22800000000001,417.62799999999999,352.69099999999997,405.78500000000003,697.63,753.26400000000001,882.48699999999997,862.84699999999998,910.00900000000001,871.50300000000004,655.16399999999999,616.97400000000005,362.10700000000003,431.96300000000002,493.21899999999999,469.24299999999999,677.68200000000002,718.22900000000004,880.72199999999998,848.48,888.93600000000004,793.673,691.73900000000003,510.30200000000002,503.19499999999999,369.37799999999999,337.68900000000002,452.54500000000002,674.59799999999996,686.16099999999994,769.20699999999999,881.47199999999998,875.51300000000003,855.10400000000004,730.03899999999999,555.78700000000003,402.95400000000001,358.24400000000003,452.298,419.18400000000003,679.46400000000006,797.58699999999999,832.79600000000005,839.17200000000003,871.16600000000005,778.11400000000003,741.30399999999997,646.923,512.84199999999998,406.58,409.40090000000004,"-","-","-","-","-","-","-","-","-","-","-"]
[null,"Solar térmica","-","-","-","-","-","-","-","-","-","-","-","-","-","-","-","-","-","-","-","-","-","-","-","-","-","-","-","-","-","-","-","-","-","-","-","-","-","-","-","-","-","-","-","-","-","-","-","-","-","-","-","-","-","-","-","-","-","-","-","-","-","-","-","-","-","-","-","-","-","-","-","-","-","-","-","-","-","-","-","-","-","-","-","-","-","-","-","-","-","-","-","-","-","-","-","-","-","-","-","-","-","-","-","-","-","-","-","-","-","-","-","-","-","-","-","-","-","-","-","-","-","-","-","-","-","-","-","-","-","-","-","-","-","-","-","-","-","-","-","-","-","-","-","-","-","-","-","-","-","-","-","-","-","-","-","-","-","-","-","-","-","-","-","-","-","-","-","-","-","-","-","-","-","-","-","-","-","-","-","-","-","-","-","-","-","-","-","-","-","-","-","-",0,0,0,0,0,0,0,0,0,0,0,0,0,0,0.43099999999999999,0.34200000000000003,0.55800000000000005,0.88300000000000001,1.256,1.1160000000000001,0.63900000000000001,1.214,0.997,0.191,1.0840000000000001,0.79700000000000004,1.4610000000000001,0.95799999999999996,0.94199999999999995,1.9630000000000001,2.0379999999999998,1.98,0.85899999999999999,0.86599999999999999,1.27,1.1599999999999999,0.69,1.236,2.323,7.2039999999999997,7.6580000000000004,6.7519999999999998,12.414,23.867999999999999,17.539000000000001,23.446000000000002,16.183,10.51,13.151999999999999,11.682,23.731999999999999,36.92,69.084000000000003,72.531999999999996,104.59,121.9,100.917,71.745000000000005,31.619,33.747,34.25,88.656999999999996,98.456999999999994,137.833,154.07300000000001,232.48400000000001,284.20800000000003,235.32900000000001,228.55799999999999,172.91200000000001,80.436999999999998,85.159000000000006,117.342,200.34200000000001,235.113,177.77699999999999,348.38200000000001,414.74900000000002,541.31700000000001,485.12700000000001,368.64299999999997,285.79500000000002,133.96199999999999,135.58500000000001,113.494,204.00899999999999,125.37,300.89400000000001,499.26799999999997,647.33000000000004,758.52300000000002,661.85599999999999,478.95499999999998,294.24200000000002,199.22399999999999,158.36199999999999,79.801000000000002,103.265,385.17500000000001,435.52699999999999,729.93600000000004,687.28800000000001,811.15300000000002,833.178,389.596,289.33699999999999,90.186999999999998,124.47199999999999,176.95099999999999,190.92500000000001,415.82900000000001,393.16,694.83900000000006,734.05399999999997,888.91800000000001,607.62300000000005,483.25,188.16900000000001,226.81800000000001,84.698999999999998,59.914000000000001,133.01,387.86099999999999,408.32299999999998,498.79500000000002,813.99099999999999,825.32500000000005,805.81899999999996,595.62699999999995,284.70299999999997,139.69999999999999,118.136,149.21199999999999,88.741,340.84500000000003,535.255,607.89800000000002,761.90200000000004,812.88,692.43499999999995,608.14,398.79300000000001,220.65199999999999,131.196,130.07689999999999,"-","-","-","-","-","-","-","-","-","-","-"]
[null,"Térmica renovable/Otras renovables","-","-","-","-","-","-","-","-","-","-","-","-","-","-","-","-","-","-","-","-","-",0.47899999999999998,0.19500000000000001,0.18,0.22600000000000001,0.185,0.20899999999999999,0.186,0.219,2.4910000000000001,0.85499999999999998,1.6519999999999999,2.1949999999999998,3.1859999999999999,2.8519999999999999,2.2930000000000001,2.7469999999999999,4.2910000000000004,5.55,5.08,5.1909999999999998,4.069,4.4050000000000002,5.0549999999999997,4.7699999999999996,5.9989999999999997,6.5289999999999999,5.1360000000000001,6.1820000000000004,4.2009999999999996,7.7879999999999994,12.483000000000001,22.434000000000001,14.593,25.895,34.064,35.963000000000001,40.081000000000003,55.064999999999998,63.701000000000001,52.516000000000005,54.168999999999997,59.649000000000001,59.275000000000006,60.629999999999995,38.39,56.09,56.16,55.471000000000004,65.760999999999996,51.017000000000003,62.140999999999998,61.97,55.767000000000003,73.194000000000003,69.39,67.606999999999999,74.480999999999995,76.311000000000007,76.088999999999999,74.905000000000001,70.728000000000009,57.923000000000002,56.715000000000003,56.474000000000004,46.637,55.156000000000006,57.041000000000004,57.334000000000003,33.856000000000002,57.003,53.271999999999998,57.103999999999999,61.066000000000003,58.17,55.262,29.002800999999998,53.305843000000003,61.54951100000001,62.649002999999993,69.878224000000017,68.57453000000001,70.406914,67.345651000000004,60.385233999999997,67.235011999999998,69.010128999999992,69.403475,71.806641999999997,67.74066400000001,76.241169000000014,70.55664800000001,71.228352999999998,64.031021999999993,80.270443,79.088937999999999,85.153421000000009,84.480839000000003,82.713457999999989,74.942079000000007,77.705164000000011,72.094493,81.578700000000012,75.639544999999998,57.155141000000015,64.878718000000006,80.062335000000004,78.219893000000013,86.225769,91.935601000000005,96.959690999999992,98.655336000000005,114.03217000000001,103.259727,115.38466,106.780576,116.22663500000002,163.25343300000003,164.15603399999998,142.64494099999999,174.91251699999998,184.36809099999999,170.80096299999997,182.63868100000002,102.326662,103.97290799999999,114.93776699999999,113.40504600000001,116.82101699999998,106.527145,125.927582,138.27553399999999,128.41537399999999,130.56901199999999,128.796967,143.04027199999999,125.499869,125.666718,141.367661,136.22556399999999,148.43464900000001,135.67495399999999,145.85112000000001,152.32964200000001,154.93832699999999,162.073384,144.46359000000001,164.51626000000002,165.78169199999999,141.425287,163.310002,158.00111900000002,158.15428799999998,141.57013900000001,142.66767899999999,139.21697600000002,148.774135,152.85692900000001,147.72687300000001,158.60851299999999,174.85460999999998,150.82777100000001,176.75611499999999,159.635672,172.11730599999999,162.54098200000001,167.51991400000003,173.00340799999998,160.25450599999999,152.959924,165.98202600000002,171.40583599999999,172.08671999999999,164.50467899999998,179.21714800000001,172.15726300000003,184.66687200000001,201.17400000000001,194.67,180.72499999999999,181.291,197.31100000000001,176.12700000000001,178.67599999999999,195.417,170.86799999999999,196.96199999999999,184.11799999999999,197.114,193.24700000000001,203.05199999999999,202.649,191.273,224.429,204.15700000000001,212.399,218.304,215.69800000000001,223.7,221.483,218.887,220.45099999999999,223.50399999999999,218.31,211.55500000000001,229.72499999999999,225.65600000000001,224.21600000000001,243.68600000000001,231.25299999999999,252.346,275.29700000000003,250.078,229.126,236.274,235.85900000000001,264.07600000000002,325.339,249.01,251.94300000000001,250.94,226.42400000000001,245.99799999999999,252.761,274.92500000000001,268.96100000000001,268.02999999999997,278.80399999999997,262.93700000000001,279.28699999999998,269.12099999999998,293.61099999999999,357.05099999999999,328.661,349.27699999999999,351.05500000000001,328.80399999999997,335.64499999999998,357.9,355.29899999999998,375.1,383.14,375.33800000000002,387.57100000000003,393.7,372.92,398.17899999999997,371.93,360.83499999999998,406.08199999999999,421.35399999999998,400.50700000000001,373.05,413.07400000000001,400.88299999999998,433.63499999999999,435.82100000000003,414.99700000000001,452.92399999999998,421.41500000000002,437.99700000000001,392.45299999999997,431.91300000000001,417.43799999999999,398.00200000000001,404.68900000000002,413.637,444.28,423.54599999999999,331.35399999999998,365.40100000000001,338.69600000000003,410.02199999999999,406.22699999999998,411.334,445.07,422.226,387.61500000000001,372.54199999999997,403.94499999999999,239.40199999999999,205.804,234.04400000000001,179.708,226.202,276.375,299.334,311.42200000000003,301.42899999999997,310.14600000000002,303.68599999999998,286.399,268.935,260.66800000000001,254.63,209.02500000000001,276.21199999999999,286.84899999999999,310.28399999999999,325.988,306.89100000000002,305.47899999999998,303.69499999999999,305.25799999999998,326.24599999999998,288.83,268.62599999999998,231.76900000000001,297.74900000000002,301.46899999999999,332.596,316.11200000000002,309.12200000000001,310.00799999999998,306.779,312.322,302.56700000000001,"-","-","-","-","-","-","-","-","-","-","-"]
[null,"Térmica no renovable/Cogeneración y resto/Cogeneración",35.685000010000024,38.351000019999979,45.945000009999994,29.542999990000006,39.724000039999993,36.553999999999988,59.265999999999998,54.415999989999989,70.548000009999996,79.426000009999981,86.149999990000012,79.248999989999987,95.989000000000019,93.531000000000006,115.05600000000001,116.111,113.29,97.624000000000009,119.55,109.12599999999999,134.50700000000001,150.72200000000001,140.30100000000002,150.17699999999999,158.54399999999998,156.649,153.35299999999998,133.67700000000002,150.357,147.03700000000003,147.13500000000008,155.59799999999998,159.136,169.63300000000004,179.52700000000002,192.23599999999996,216.233,207.39499999999998,238.97599999999997,228.40900000000002,230.78099999999998,243.42200000000008,273.03300000000002,222.17500000000004,290.86800000000005,356.51100000000002,393.02699999999999,406.67399999999998,424.01199999999994,397.50999999999993,428.83,427.68300000000005,448.76199999999989,440.01700000000005,418.09199999999998,419.03999999999996,459.93099999999993,463.43,473.75599999999997,510.92809999999992,488.05499999999995,461.94399999999996,538.60199999999998,514.274,531.6149999999999,523.03700000000003,524.91700000000003,510.6640000000001,559.84399999999994,605.28700000000003,625.35600000000011,657.15800000000013,649.31399999999996,674.23500000000001,693.76300000000003,721.26300000000015,706.92700000000013,708.29699999999991,764.04299999999989,721.08300000000008,746.32599999999991,827.94400000000007,871.21600000000001,907.40899999999999,907.43,826.93799999999999,929.04899999999986,911.04300000000012,932.33899999999994,902.09600000000012,984.03500000000008,910.40900000000011,947.55,1078.5139999999999,1050.981,1082.232,1132.4634659999997,1055.3262899999995,1179.4824599999999,1140.4561370000001,1143.3816300000001,1071.931957,1169.5214310000001,1090.5068830000002,1176.458807,1306.9340929999998,1295.514473,1406.3031259999998,1379.8752550000006,1318.561516,1436.0569230000001,1384.7270100000001,1425.3322440000002,1390.930151,1434.8443779999998,1350.318336,1395.920991,1537.4033059999997,1510.1531829999997,1573.1489400000003,1568.0163309999991,1437.8635089999998,1555.5964929999996,1469.5937710000005,1469.0271080000005,1426.760806,1439.9263130000002,1348.3463180000001,1376.7260879999997,1451.7187810000003,1351.8059720000003,1484.1733240000003,1509.9821660000005,1420.9730249999998,1480.3319080000003,1391.9773279999997,1478.9017329999997,1418.0977979999996,1481.5337469999999,1315.0298049999999,1436.0749989999999,1554.6446480000002,1587.637579,1581.5034469999994,1753.946643,1624.3835650000003,1752.2777950000002,1751.5292130000003,1747.5227730000001,1607.2819760000004,1731.7671800000005,1586.2397010000004,1675.7063240000002,1903.9247169999992,1846.9618950000001,1850.1104539999997,1949.8964009999988,1795.4542350000002,1917.1289360000001,1863.5466960000015,1892.4928639999987,1805.7993700000002,1913.7958340000005,1744.9618859999998,1903.9135469999999,2075.8847029999993,1958.6965669999997,2023.7759399999993,2046.9260369999997,1962.1146819999997,2107.6563920000017,1979.8427870000005,1934.4913119999985,1817.9965729999983,1921.3405109999997,1769.4697020000003,1826.6772020000005,1981.9419189999987,2074.2319539999994,2106.015132,2043.0234940000005,1951.7983550000013,2095.8113329999996,2039.9988199999989,2040.2971259999995,1919.5815079999988,1935.7391630000006,1786.1623980000002,1917.1898449999997,1838.2194279999994,1867.2426009999992,1828.6396120000024,1998.0738359999998,1940.3785669999995,2060.4519410000007,1910.7046299999986,1907.4363910000006,1747.2180000000001,1731.357,1635.847,1728.153,1850.3889999999999,1883.634,1925.296,1984.567,1757.03,1865.8879999999999,1831.5619999999999,1829.89,1893.941,1990.347,1868.579,1956.135,2102.7629999999999,2100.0659999999998,2146.989,2251.9169999999999,2226.8589999999999,2271.9859999999999,2229.3420000000001,2106.663,2078.8119999999999,2217.9769999999999,2016.6590000000001,2177.9,2358.9569999999999,2314.2759999999998,2324.6280000000002,2421.9630000000002,2242.4059999999999,2406.6460000000002,2338.3670000000002,2351.1260000000002,2309.7330000000002,2396.5940000000001,2034.3920000000001,2337.3000000000002,2464.42,2571.2600000000002,2591.7269999999999,2661.2139999999999,2477.0210000000002,2616.777,2550.3539999999998,2581.357,2541.7829999999999,2613.6729999999998,2153.4079999999999,2523.7640000000001,2647.1170000000002,2659.6819999999998,2762.902,2780.759,2596.0859999999998,2880.4789999999998,2687.991,2721.65,2576.5790000000002,2636.97,2201.011,2634.4760000000001,2759.1210000000001,2749.1669999999999,2826.723,2930.7240000000002,2780.5949999999998,2916.4430000000002,2814.6729999999998,2845.8359999999998,2681.83,2782.808,2350.1129999999998,2741.203,2903.6280000000002,2845.6439999999998,2899.3670000000002,3001.223,2689.5259999999998,2882.2240000000002,2782.855,2818.268,2650.7829999999999,2656.915,2097.047,2558.0140000000001,2616.5500000000002,2613.4690000000001,2669.8510000000001,2680.59,1980.6980000000001,1893.6320000000001,1709.93,2060.306,2193.4499999999998,2250.8989999999999,2101.0030000000002,2253.2530000000002,2263.2739999999999,2067.924,2140.5770000000002,2222.8029999999999,1961.5309999999999,2117.5819999999999,2033.1849999999999,2122.1669999999999,2073.4119999999998,2167.2449999999999,2041.69,2153.7280000000001,2214.8960000000002,2129.212,2180.5239999999999,2128.3229999999999,1967.5650000000001,2069.4740000000002,1992.4880000000001,2113.6080000000002,2167.73,2239.7620000000002,2120.5990000000002,2135.1750000000002,2318.6480000000001,2296.1550000000002,2322.3850000000002,2446.9639999999999,2202.8870000000002,2387.6999999999998,2231.3980000000001,2324.529,2312.645,2395.1,2253.4349999999999,2268.6190000000001,2384.598,2434.4810000000002,2486.0529999999999,2536.5533769999997,"-","-","-","-","-","-","-","-","-","-","-"]
[null,"Residuos no renovables","-","-","-","-","-","-","-","-","-","-","-","-","-","-","-","-","-","-","-","-","-","-","-","-","-","-","-","-","-","-","-","-","-","-","-","-","-","-","-","-","-","-","-","-","-","-","-","-","-","-","-","-","-","-","-","-","-","-","-","-","-","-","-","-","-","-","-","-","-","-","-","-","-","-","-","-","-","-","-","-","-","-","-","-","-","-","-","-","-","-","-","-","-","-","-","-","-","-","-","-","-","-","-","-","-","-","-","-","-","-","-","-","-","-","-","-","-","-","-","-","-","-","-","-","-","-","-","-","-","-","-","-","-","-","-","-","-","-","-","-","-","-","-","-","-","-","-","-","-","-","-","-","-","-","-","-","-","-","-","-","-","-","-","-","-","-","-","-","-","-","-","-","-","-","-","-","-","-","-","-","-","-","-","-","-","-","-","-","-","-","-","-","-","-","-","-","-","-","-","-","-","-","-","-","-","-","-","-","-","-","-","-","-","-","-","-","-","-","-","-","-","-","-","-","-","-","-","-","-","-","-","-","-","-","-","-","-","-","-","-","-","-","-","-","-","-","-","-","-","-","-","-","-","-","-","-","-","-","-","-","-","-","-","-","-","-","-","-","-","-","-","-","-","-","-","-","-","-","-","-","-","-","-","-","-","-","-","-","-","-","-","-","-","-","-","-","-","-","-","-",188.12449999999998,170.32149999999999,195.81900000000002,154.012,192.69750000000002,196.30149999999998,210.19649999999999,213.78100000000001,202.41649999999998,215.48899999999998,203.28699999999998,182.27,200.86,187.60599999999999,209.0865,179.41449999999998,136.9975,195.59100000000001,242.94450000000001,243.15450000000004,236.99300000000002,230.03800000000001,205.32249999999999,203.3015,216.85649999999998,190.88499999999999,209.13,172.66749999999999,175.583,211.36150000000001,200.6275,214.93300000000002,213.31550000000001,228.4015,206.52449999999999,218.512,221.62870000000004,"-","-","-","-","-","-","-","-","-","-","-"]
[null,"Residuos renovables","-","-","-","-","-","-","-","-","-","-","-","-","-","-","-","-","-","-","-","-","-","-","-","-","-","-","-","-","-","-","-","-","-","-","-","-","-","-","-","-","-","-","-","-","-","-","-","-","-","-","-","-","-","-","-","-","-","-","-","-","-","-","-","-","-","-","-","-","-","-","-","-","-","-","-","-","-","-","-","-","-","-","-","-","-","-","-","-","-","-","-","-","-","-","-","-","-","-","-","-","-","-","-","-","-","-","-","-","-","-","-","-","-","-","-","-","-","-","-","-","-","-","-","-","-","-","-","-","-","-","-","-","-","-","-","-","-","-","-","-","-","-","-","-","-","-","-","-","-","-","-","-","-","-","-","-","-","-","-","-","-","-","-","-","-","-","-","-","-","-","-","-","-","-","-","-","-","-","-","-","-","-","-","-","-","-","-","-","-","-","-","-","-","-","-","-","-","-","-","-","-","-","-","-","-","-","-","-","-","-","-","-","-","-","-","-","-","-","-","-","-","-","-","-","-","-","-","-","-","-","-","-","-","-","-","-","-","-","-","-","-","-","-","-","-","-","-","-","-","-","-","-","-","-","-","-","-","-","-","-","-","-","-","-","-","-","-","-","-","-","-","-","-","-","-","-","-","-","-","-","-","-","-","-","-","-","-","-","-","-","-","-","-","-","-","-","-","-","-","-",54.582500000000003,52.223500000000001,60.213999999999999,33.475999999999999,49.703499999999998,58.970500000000001,60.0015,57.491,55.067500000000003,60.863,60.057000000000002,60.005000000000003,57.3,48.103999999999999,57.529499999999999,26.702500000000001,24.278500000000001,55.116,63.646500000000003,60.3155,62.052,60.05,64.739500000000007,69.907499999999999,64.737499999999997,55.999000000000002,59.911000000000001,46.575499999999998,34.262,66.986500000000007,68.889499999999998,65.700999999999993,62.429499999999997,66.129499999999993,66.557500000000005,69.971999999999994,68.332700000000003,"-","-","-","-","-","-","-","-","-","-","-"]
[null,"Régimen especial",141.79200000000003,130.85599999999999,110.85499999999999,120.56100000000001,123.92100000000001,127.973,114.985,112.23399999999999,104.691,149.22999999999996,196.36700000000002,206.21100000000001,275.31900000000002,216.48500000000001,330.279,306.78200000000004,308.685,242.41800000000001,219.29500000000002,189.72699999999998,212.86,245.32300000000001,282.755,314.55600000000004,285.17700000000002,247.5,268.75799999999998,327.11599999999999,345.47399999999999,354.65800000000002,330.49400000000003,277.137,281.71799999999996,391.42700000000002,419.33100000000002,501.83100000000002,435.02800000000002,344.32899999999995,424.45699999999999,433.51,489.60199999999998,463.64800000000002,437.68200000000002,338.11900000000003,410.58300000000003,614.22900000000004,635.89800000000002,670.23699999999997,780.75599999999997,683.31600000000003,707.5,666.92600000000004,731.27399999999989,633.452,562.51599999999996,561.60799999999995,609.38099999999986,683.06600000000003,776.58699999999999,801.48299999999995,878.25299999999993,845.43299999999999,906.18799999999999,753.601,777.85899999999992,712.86300000000006,710.02200000000005,670.61700000000008,740.79899999999998,786.89800000000002,820.03300000000002,993.24900000000002,1162.1320000000001,1146.085,1156.348,1188.528,1146.9380000000001,1052.6459999999997,1062.9259999999999,987.04100000000005,1005.7759999999998,1110.6640000000002,1195.931,1440.752,1444.364,1274.8150000000001,1298.0549999999998,1240.75,1290.856,1258.2090000000001,1353.0540000000001,1209.009,1241.296,1363.396,1492.9119999999998,1694.2820000000002,1739.9590000000001,1521.155,1668.366,1703.8360000000002,1713.3689999999997,1529.2809999999999,1560.788,1486.4090000000001,1509.5250000000001,1726.7439999999997,1696.8150000000001,1877.0809999999997,1935.1690000000003,1893.6849999999999,2093.1260000000002,1995.1179999999999,2112.9699999999993,1963.846,1916.982,1758.6969999999999,1864.2,2095.7350000000001,2272.375,2359.3200000000002,2281.125,2087.6099999999997,2224.8949999999995,2397.0500000000002,2247.973,2215.5740000000001,2134.3539999999998,1941.982,1898.067,2183.652,2360.4690000000001,2667.78,2777.721,2583.982,2847.0219999999999,2638.6170000000002,2496.33,2343.2169999999996,2346.5549999999998,2059.681,2404.2600000000002,2516.4549999999999,2749.7919999999999,2514.8249999999998,2769.3290000000006,2782.5929999999998,3008.7979999999998,2845.49,3105.471,2718.4439999999995,2787.6880000000001,2533.5370000000003,2514.3940000000002,3184.5339999999997,3423.8519999999999,3773.848,4052.0929999999998,3372.585,3459.5360000000001,3670.7669999999998,3473.2809999999999,3005.2700000000004,3066.107,2651.7280000000001,3049.9429999999998,3635.4399999999996,3762.45,4201.009,4486.6239999999998,3606.45,4061.165,4205.6360000000004,3686.183,3422.4589999999998,3372.5169999999998,3284.3040000000001,3324.7780000000002,4017.3730000000005,4064.2809999999999,4336.518,4449.1660000000002,4141.7659999999996,4425.3990000000013,4594.518,4146.83,3645.3069999999998,3963.152,3795.1989999999996,3504.3919999999998,4115.7539999999999,4372.4039999999995,4813.0120000000006,4136.9859999999999,4354.97,5600.1589999999997,4552.1329999999998,4131.47,3571.5460000000003,3335.1880000000001,4185.7280000000001,3551.03,4704.8550000000005,4729.2420000000002,4780.0339999999997,4684.9660000000003,5290.6179999999995,5686.107,3926.5880000000002,5176.8050000000003,4326.1189999999997,4435.1310000000003,4802.5259999999998,4421.2670000000007,4478.4539999999997,5300.027,5019.518,5520.4,4766.0689999999995,6995.3640000000005,6511.8150000000005,4808.6859999999997,5157.9969999999994,5180.3989999999994,4762.165,5049.59,5582.25,6728.3320000000003,6981.8389999999999,6939.8959999999988,6710.8409999999994,6830.3380000000016,6728.4230000000007,6531.3249999999998,5964.9210000000003,6127.6260000000002,5449.7309999999998,5820.8040000000001,6651.63,8440.5329999999994,8615.2309999999998,8230.3429999999989,8244.09,8676.030999999999,6730.8899999999994,7916.2909999999993,6725.1869999999999,6996.918999999999,6482.1360000000004,6075.3789999999999,7795.7240000000011,8240.1929999999993,8711.7860000000001,8190.326,8029.1170000000002,9183.4500000000007,7795.87,7575.8050000000003,7264.0609999999997,7739.7789999999986,6592.2860000000001,6499.0079999999998,7255.6150000000007,7792.6769999999997,8741.6519999999982,7906.7839999999997,9335.7169999999987,8417.0960000000014,9766.6550000000007,8731.3009999999995,8210.5709999999999,7967.7449999999999,7453.9480000000003,8277.4499999999989,7568.4219999999987,8746.0639999999985,9915.9060000000009,10928.153999999999,9838.2579999999998,10583.358,9472.7510000000002,9300.2900000000009,9062.7089999999989,8156.0420000000004,7846.9150000000009,7676.938000000001,8225.8140000000003,10668.998,9145.1359999999986,"-","-","-","-","-","-","-","-","-","-","-","-","-","-","-","-","-","-","-","-","-","-","-","-","-","-","-","-","-","-","-","-","-","-","-","-","-","-","-","-","-","-","-","-","-","-","-","-","-","-","-","-","-","-","-","-","-","-","-","-"]
[null,"Generación",13068.148999999999,10712.420999999998,11526.93,10577.741999999998,10584.957,10924.121000000001,11576.189000000002,10205.642,10945.187000000004,11117.694000000001,11786.233000000002,12993.084000000001,13514.698999999999,12300.103999999999,11755.675000000001,11287.504999999999,11439.315999999997,11005.69,11985.769,10503.418000000001,11479.372000000003,11793.966999999997,12189.305999999997,12628.902000000002,14156.68,12984.095000000001,12650.637999999999,11288.930999999999,11148.397000000001,10639.671999999999,12196.982,10732.736000000003,11459.954,11873.681,11696.458000000001,12362.295999999998,13140.405000000001,11813.756000000001,12465.810999999996,11039.029999999997,11048.340000000002,11073.045000000002,11743.634000000002,10934.771000000001,11386.860999999999,11939.680999999999,12382.942999999996,12858.573999999997,13466.398999999999,12265.461000000001,12065.962999999996,11587.729999999998,11675.843999999997,11945.080000000002,12785.071,11534.760999999999,11819.752,11663.625,11974.652,12946.662000000004,13831.879000000003,11863.992000000002,13066.031999999999,11607.471000000005,12152.261999999997,12204.221,12851.400000000001,11855.100999999999,12021.492999999999,12106.901000000002,12398.127999999999,13367.203999999998,14632.868999999999,13945.298000000003,13471.495000000001,11789.804999999997,12359.221,12561.456999999999,13248.592999999999,11954.499999999998,12277.069000000001,13045.433000000003,13347.524000000001,14037.838,15527.942000000001,12746.785000000002,13176.473999999998,13369.68,13595.045,13407.127999999999,14362.291000000003,13603.636000000002,13935.166999999999,13886.026,14129.524000000001,15455.874,15109.875,13490.18,14087.417000000001,13538.296999999999,13540.958000000002,13971.812000000002,15202.644999999999,13813.061,14383.620999999999,14269.794000000002,14631.217000000001,16198.317000000001,16393.576000000001,14943.591999999999,15171.591,13533.998,14228.531000000001,14665.97,15959.913,14400.723999999998,15119.387999999999,15000.137000000001,15946.373,16895.771000000001,18017.434000000001,15585.119999999999,16304.345999999998,15194.267,15498.644000000002,16248.064,16637.700999999997,15672.647000000001,15915.037,15880.278,16856.034,17647.403999999999,18866.727000000003,16777.413,17710.691000000003,15284.262000000001,16326.837000000001,16839.431,17514.252,16757.473000000002,16576.550000000003,16954.269,17739.712,18941.038,19462.333000000002,16854.197,17381.063999999998,16757.014999999999,17493.512000000002,17815.728999999999,18588.489999999998,16916.016000000003,17135.423000000003,17907.848000000002,17931.371000000003,18946.023000000001,20760.522000000001,19099.053,18638.846999999998,17263.099000000002,17888.824999999997,18917.374,20237.305,19058.73,18462.04,19062.331999999999,19229.073,20636.550000000003,21054.75,20055.496999999999,21160.099000000002,19211.657999999999,19216.088000000003,20130.009999999998,21300.502999999997,19825.388999999999,19739.351000000002,19876.998000000003,20615.838,21424.022000000001,22692.537,21115.352000000003,21470.211000000003,19432.025000000001,19670.705000000002,20959.040999999997,22200.637999999999,20168.888999999999,20510.814999999999,20377.224999999999,21805.759999999995,23481.207000000002,24399.52,22365.761999999995,23141.827999999998,18945.896999999997,20667.129000000001,21482.522000000004,23929.236000000004,20940.143,21636.495999999999,21226.624,21411.327999999994,23455.364999999998,24436.344000000001,21814.576999999997,23193.162,20815.392,21756.008000000002,21659.671999999999,23475.06,21797.809999999998,22091.448,22685.046999999999,23948.771999999997,24945.221000000001,25320.773000000001,23621.495999999999,23913.153000000002,23007.167000000001,21918.263999999996,22418.224999999999,24401.398000000001,22716.502,22244.034,22523.435000000001,23406.497000000003,24556.807000000001,25160.519,21751.801000000003,21400.016000000003,20032.678,20326.695,21533.944000000003,23610.472000000002,22211.13,21366.215,21550.292999999998,21938.98,23657.671999999999,24812.236949999999,22971.826116999997,23920.343546,20967.048649999997,21245.380482,21489.927739999999,24344.854098,22445.849581999999,21899.867311999998,22140.174218,22927.362636000002,24152.540386999997,24710.124011,22054.460385999999,23847.583832,20625.836520000001,20738.566499,21285.127074,22641.276056000002,21967.066923999999,21745.583556000001,21022.203359000003,21519.593234,22745.546412,24067.309934000001,24793.077000000001,22663.235934,21290.339390999998,21518.230277999999,21735.358605999998,22622.544175999999,22527.800099,21370.043221,21641.278331000001,21532.294934000001,23045.460977999999,23724.100234000001,21845.156328000001,22785.279988000002,20870.713443999997,20115.582750000001,19999.866823,23100.184914999998,21514.794122000003,20853.566215999999,20874.065822,21807.968000000001,22835.617977999998,22982.070962999998,21582.603137999999,21758.094467999999,20006.760168000001,20255.563363000001,20336.119063999999,21997.307011999997,20794.002111999998,20960.885338,20499.429811000002,20187.982,22216.99,23543.711309999999,22227.605736999998,22159.998822999998,19640.604163,20140.069153,20653.931989000001,24003.060739,21603.896495999998,20125.944618000001,19765.073669000001,19935.460170000002,20587.992622999998,21608.572161,20694.940111,22003.625907000001,20708.251677,19549.98775,19499.467290000001,21603.321239000001,20739.453567,19945.968281000001,20606.239914000002,20717.242509,20824.601010000002,24171.412940000002,19994.128032000001,20082.775497000002,18184.529651000001,19099.616491000001,20885.871030000002,21455.657502000002,20351.949295000002,19103.402322000002,20277.094271000002,21627.16288,23170.050480000002,21765.891199999998,"-","-","-","-","-","-","-","-","-","-","-"]
[null,"Consumos en bombeo",-230.679,-122.288,-14.289,-28.145,-43.485999999999997,-13.114000000000001,-22.103999999999999,-49.978000000000002,-160.71299999999999,-155.501,-44.506999999999998,-154.46799999999999,-268.90800000000002,-218.38300000000001,-171.68600000000001,-12.201000000000001,-15.629,-41.384,-57.712000000000003,-72.09,-112.773,-80.879000000000005,-188.52699999999999,-192.56100000000001,-261.99200000000002,-144.315,-170.44,-297.59300000000002,-198.61500000000001,-246.85400000000001,-277.39299999999997,-274.77800000000002,-274.41399999999999,-292.15699999999998,-181.749,-170.405,-138.74100000000001,-112.68899999999999,-188.994,-202.54400000000001,-227.06899999999999,-134.422,-139.846,-190.28299999999999,-202.364,-190.64699999999999,-85.039000000000001,-74.921000000000006,-304.07600000000002,-125.633,-16.009,-34.588999999999999,-53.005000000000003,-40,-112.842,-29.006,-168.63399999999999,-188.04300000000001,-112.602,-160.94999999999999,-229.93299999999999,-151.828,-149.91399999999999,-139.09899999999999,-126.803,-126.251,-163.94499999999999,-157.261,-174.29900000000001,-178.249,-166.69,-317.45400000000001,-761.34500000000003,-190.41399999999999,-30.027000000000001,-33.853000000000002,-44.027999999999999,-72.870999999999995,-66.353999999999999,-12.074,-23.202999999999999,-39.189,-69.679000000000002,-179.58099999999999,-252.93600000000001,-37.277999999999999,-12.262,-21.497,-81.885999999999996,-85.456999999999994,-118.164,-176.339,-190.05099999999999,-144.696,-266.06099999999998,-374.262,-277.15499999999997,-134.83799999999999,-111.211,-214.86099999999999,-181.761,-114.55800000000001,-203.37299999999999,-319.92500000000001,-193.376,-171.72300000000001,-213.786,-451.18700000000001,-468.77199999999999,-342.76100000000002,-234.381,-215.75899999999999,-219.82599999999999,-177.636,-214.518,-260.83800000000002,-340.93099999999998,-489.76400000000001,-316.02600000000001,-385.16800000000001,-368.59199999999998,-313.25400000000002,-345.67200000000003,-513.572,-617.92600000000004,-330.21499999999997,-323.44200000000001,-246.34100000000001,-256.83199999999999,-362.529,-451.67700000000002,-776.83399999999995,-539.07299999999998,-307.35899999999998,-387.49700000000001,-200.959,-214.62100000000001,-258.66300000000001,-303.01100000000002,-291.53199999999998,-368.74900000000002,-364.09899999999999,-336.14600000000002,-559.55499999999995,-652.85199999999998,-506.24200000000002,-466.28899999999999,-443.39299999999997,-559.45699999999999,-628.45799999999997,-699.81299999999999,-572.27200000000005,-597.97400000000005,-575.56700000000001,-570.42200000000003,-683.94299999999998,-587.33500000000004,-379.733,-368.65,-218.7,-265.99099999999999,-415.71499999999997,-419.84399999999999,-472.31900000000002,-437.02499999999998,-390.30099999999999,-322.12400000000002,-400.39699999999999,-404.81700000000001,-276.12,-339.00299999999999,-328.995,-393.37799999999999,-425.60700000000003,-408.31200000000001,-386.44200000000001,-387.786,-411.48399999999998,-358.57499999999999,-484.18799999999999,-553.09,-432.93799999999999,-492.58699999999999,-450.62,-643.06799999999998,-634.52700000000004,-693.31299999999999,-446.08,-519.71799999999996,-482.77600000000001,-454.59100000000001,-553.63900000000001,-586.44100000000003,-529.91899999999998,-374.92099999999999,-305.80099999999999,-313.70299999999997,-370.08100000000002,-513.35599999999999,-400.35399999999998,-486.57299999999998,-541.52300000000002,-541.572,-384.12900000000002,-371.77600000000001,-395.87900000000002,-384.16800000000001,-293.39699999999999,-397.62200000000001,-356.25400000000002,-333.52100000000002,-371.38200000000001,-345.92500000000001,-317.00099999999998,-384.15499999999997,-481.20699999999999,-430.83600000000001,-419.30500000000001,-401.79399999999998,-219.05799999999999,-206.07300000000001,-285.255,-253.78200000000001,-190.80199999999999,-226.55600000000001,-297.14499999999998,-411.25599999999997,-460.64,-492.22699999999998,-392.03500000000003,-281.47199999999998,-255.75899999999999,-247.49799999999999,-224.59399999999999,-241.018,-245.006,-254.49299999999999,-284.12299999999999,-397.50099999999998,-478.46300000000002,-756.58548100000007,-554.72222199999999,-544.66441799999996,-303.16059899999999,-279.94919199999998,-230.155124,-199.16812999999999,-231.14395499999998,-233.69566899999998,-346.11598499999997,-322.22366899999997,-456.19813299999998,-430.91918800000002,-280.66478600000005,-347.70577100000003,-297.00992200000002,-158.92510200000001,-139.95152400000001,-173.53430600000002,-181.06439699999999,-176.06341800000001,-301.62591900000001,-325.48060800000002,-402.01487400000002,-448.91067399999997,-444.12264199999998,-429.06647600000002,-565.84194300000001,-360.20398999999998,-322.06323800000001,-285.67122799999999,-365.72605300000004,-454.578665,-397.03421900000001,-403.31192900000002,-546.01673100000005,-697.63724999999999,-562.65698600000007,-1052.4229879999998,-872.86187399999994,-452.79265899999996,-384.57999899999999,-256.57863700000001,-231.78292800000003,-211.57028500000001,-305.59618699999999,-348.25588500000003,-581.10931200000005,-858.01401699999997,-633.18831499999999,-524.05132400000002,-508.09411,-434.99119899999999,-325.47192799999999,-239.80621400000001,-218.068423,-215.90781899999999,-408.39204999999998,-518.48742099999993,-445.117231,-479.60648900000001,-543.86398299999996,-478.82839000000001,-406.19568500000003,-422.73500000000001,-154.35719500000002,-167.860691,-301.47133700000001,-245.09551099999999,-374.45159699999999,-436.89324499999998,-508.73505599999999,-897.23722699999996,-716.42767700000002,-590.25587100000007,-584.07853499999999,-474.71409,-210.517944,-141.61362500000001,-157.40858300000002,-122.319526,-229.38049699999999,-352.86669000000001,-342.59280999999999,-433.831684,-560.18740600000001,-335.17777599999999,-335.53738199999998,-229.06522200000001,-192.29135200000002,-173.37316200000001,-204.27099900000002,-165.54855699999999,-221.48029300000002,-269.55341499999997,-554.92065600000001,-380.97890000000001,"-","-","-","-","-","-","-","-","-","-","-"]
[null,"Enlace Península-Baleares","-","-","-","-","-","-","-","-","-","-","-","-","-","-","-","-","-","-","-","-","-","-","-","-","-","-","-","-","-","-","-","-","-","-","-","-","-","-","-","-","-","-","-","-","-","-","-","-","-","-","-","-","-","-","-","-","-","-","-","-","-","-","-","-","-","-","-","-","-","-","-","-","-","-","-","-","-","-","-","-","-","-","-","-","-","-","-","-","-","-","-","-","-","-","-","-","-","-","-","-","-","-","-","-","-","-","-","-","-","-","-","-","-","-","-","-","-","-","-","-","-","-","-","-","-","-","-","-","-","-","-","-","-","-","-","-","-","-","-","-","-","-","-","-","-","-","-","-","-","-","-","-","-","-","-","-","-","-","-","-","-","-","-","-","-","-","-","-","-","-","-","-","-","-","-","-","-","-","-","-","-","-","-","-","-","-","-","-","-","-","-","-","-","-","-","-","-","-","-","-","-","-","-","-","-","-","-","-","-","-","-","-","-","-","-","-","-","-","-","-","-","-","-","-","-","-","-","-","-","-","-","-","-","-","-","-","-","-","-","-",0,0,0,0,0,0,0,0,0,0,0,0,0,0,0,0,0,0,0,0,0,0,4.3890999999999999E-2,-0.52029999999999998,-2.681381,-25.375897000000002,-36.694078999999995,-35.112659000000001,-27.254534,-35.803857000000001,-36.379671999999999,-68.014381999999998,-74.016632999999999,-70.230888000000007,-67.437619000000012,-91.247602000000001,-108.822873,-90.838239000000002,-84.296937,-88.234445000000008,-83.69395200000001,-112.811098,-145.595967,-157.38788099999999,-113.87852599999999,-108.85674300000001,-86.136350000000007,-87.955589000000003,-98.644521999999995,-86.919696000000002,-88.247651000000005,-80.403573999999992,-85.675402000000005,-124.876598,-153.19399999999999,-165.07300000000001,-146.82962899999998,-101.059,-79.551937000000009,-87.789394999999999,-110.89759600000001,-111.884631,-100.736395,-87.606187000000006,-65.672035000000008,-123.28710700000001,-181.06009899999998,-170.38412599999998,-119.55534900000001,-99.372747000000004,-71.777664000000001,-93.54886599999999,-89.213442999999998,-91.217189000000005,-111.467448,-86.955767999999992,-105.354345,-124.74375900000001,-144.84169399999999,-152.53868,-109.260447,-90.882304000000005,-58.978756999999995,-85.128667000000007,-96.651403000000002,-64.562011999999996,-78.352012000000002,-57.068237000000003,-75.027427000000003,-114.23341499999999,-155.21145899999999,-166.87624499999998,-116.104623,-93.285021,-70.161933999999988,-91.76686500000001,-86.108100000000007,"-","-","-","-","-","-","-","-","-","-","-"]
[null,"Saldo intercambios internacionales",-269.29700000000003,16.550999999999998,-11.987,-20.997,159.398,0.442,-28.161000000000001,-32.036000000000001,14.863,-21.733000000000001,-139.47,-87.152000000000001,-24.533000000000001,22.888999999999999,-122.07,-226.91900000000001,-191.566,-45.838999999999999,-92.111999999999995,27.849,-99.835999999999999,-14.272,56.173999999999999,33.649000000000001,-96.052000000000007,-312.209,-213.21600000000001,188.66300000000001,271.98,371.25900000000001,87.992000000000004,216.89599999999999,131.30699999999999,-16.239000000000001,8.0229999999999997,2.72,95.905000000000001,222.43799999999999,184.267,48.24,224.11500000000001,217.79499999999999,282.58,18.097999999999999,-4.7850000000000001,-0.85399999999999998,-0.36499999999999999,-20.361999999999998,-20.454999999999998,19.067,44.103000000000002,42.116,71.337999999999994,56.383000000000003,128.05099999999999,134.20599999999999,271.50099999999998,383.18400000000003,371.48200000000003,354.12900000000002,382.27800000000002,376.39499999999998,379.125,353.88600000000002,378.61599999999999,369.63499999999999,406.47899999999998,389.68700000000001,389.56900000000002,434.89600000000002,380.024,248.45500000000001,-23.15,-228.839,95.808999999999997,234.45,175.22300000000001,297.35899999999998,337.60500000000002,288.54199999999997,53.530999999999999,-123.297,-16.169,-31.698,-483.959,-204.565,-220.011,-410.142,-439.19400000000002,-268.20999999999998,-397.76100000000002,-455.005,-103.389,13.218999999999999,65.415999999999997,-169.27099999999999,339.84100000000001,345.96100000000001,404.92,388.81900000000002,355.11399999999998,244.86199999999999,284.57,320.09500000000003,-25.49,206.148,283.52199999999999,253.50200000000001,244.11699999999999,366.79399999999998,462.85599999999999,712.678,628.45799999999997,570.85799999999995,515.62199999999996,504.84,210.995,438.75,625.31500000000005,437.96199999999999,196.386,415.9,422.24900000000002,519.16999999999996,683.53800000000001,173.875,258.827,208.52799999999999,340.72800000000001,443.80599999999998,516.19799999999998,261.39,-38.209000000000003,21.672999999999998,-83.963999999999999,447.06200000000001,578.60299999999995,504.50400000000002,431.03699999999998,282.04500000000002,283.08600000000001,139.702,402.85199999999998,489.56900000000002,532.01599999999996,648.78599999999994,721.60400000000004,705.34900000000005,259.03800000000001,187.01,575.93600000000004,236.11799999999999,428.06299999999999,298.13900000000001,490.714,245.995,26.416,50.988,247.018,-36.927,134.05699999999999,409.34500000000003,237.34800000000001,123.48699999999999,160.179,55.116,-24.058,-119.06699999999999,-318.32600000000002,-299.78699999999998,-234.03200000000001,-621.22,-303.66399999999999,-321.33600000000001,-241.46199999999999,-454.68900000000002,-53.951999999999998,-330.99,-45.66,198.1,295.54899999999998,299.65800000000002,51.222999999999999,68.78,176.042,176.29,31.582000000000001,-174.63399999999999,-495.36900000000003,-662.58799999999997,-689.60500000000002,-420.322,-365.17399999999998,-583.77499999999998,-799.06,41.878,18.827999999999999,-262.10700000000003,-377.87900000000002,63.244999999999997,-310.53500000000003,-236.93299999999999,-285.29700000000003,-175.709,94.564999999999998,-235.49199999999999,-243.36199999999999,-261.05399999999997,-494.78800000000001,-223.46299999999999,-289.77800000000002,-314.01400000000001,-846.57600000000002,-1153.7719999999999,-1052.93,-729.80100000000004,-456.80399999999997,-655.58699999999999,-1199.348,-1291.615,-761.27499999999998,-1052.3420000000001,-907.81299999999999,-796.07299999999998,-935.81,-1102.0160000000001,-948.447,-932.45600000000002,-897.62800000000004,-474.27699999999999,-192.952,-548.93399999999997,-437.37599999999998,-769.16099999999994,-944.90899999999999,-817.41700000000003,-711.16800000000001,-941.36500000000001,-897.21199999999999,-454.01499999999999,-304.71344599999998,-506.196753,-560.11404599999992,-729.095102,-542.81502899999998,-821.22575100000006,-1000.6535670000001,-758.60105700000008,-964.2554520000001,-1295.5098870000002,-593.21057400000007,-256.28839399999998,-611.33580500000005,-358.84235899999999,-762.63600899999994,-1074.8113170000001,-233.62379999999999,-404.76718699999998,-470.93457000000001,-197.10088099999999,-548.75685799999997,-381.58426100000003,-579.51663300000007,-466.21665400000001,-525.29093599999999,-1375.7932209999999,-869.96906999999999,-1211.9197819999999,-939.84038100000009,-625.32935199999997,-629.52545599999996,-646.20974899999999,-1047.302604,-1457.208903,-791.40693099999999,-1080.1572060000001,-364.45221100000003,-642.39397799999995,-430.41725799999995,-411.18220100000002,-132.05559299999999,-358.69515000000001,-1060.4316310000002,-517.67452200000002,-821.87308799999994,-679.119191,-892.91131900000005,-420.92630800000001,28.099829000000003,-490.54062400000004,-225.94670300000001,-652.23227599999996,-256.41148300000003,-285.58111300000002,-481.72024800000003,-236.69277,-336.25484,-303.54976099999999,195.372657,-360.667597,-259.102957,-558.85504600000002,-396.75677899999999,-295.55073599999997,180.77279000000001,0.88915499999999992,-184.17543000000001,-251.793361,-169.941732,436.52791200000001,453.10844900000001,911.71451000000002,847.59026500000004,960.57577300000003,174.92662100000001,-106.684112,762.50236499999994,1083.2692120000002,917.73114199999998,1034.6561139999999,1130.5906419999999,-433.77785799999998,357.21121500000004,938.722174,-531.54929799999991,541.13368700000001,1457.080766,1040.959484,1444.9856000000002,1128.8588829999999,1273.4433959999999,1827.910942,1393.3084220000001,280.22841800000003,-346.27278000000001,-339.50387699999999,1342.1767,"-","-","-","-","-","-","-","-","-","-","-"]
[null,"Demanda transporte (b.c.)",12568.172999999999,10606.683999999997,11500.654,10528.599999999999,10700.868999999999,10911.449000000001,11525.924000000003,10123.628000000001,10799.337000000003,10940.460000000001,11602.256000000003,12751.464,13221.258,12104.609999999999,11461.919000000002,11048.385,11232.120999999996,10918.467000000001,11835.945000000002,10459.177000000001,11266.763000000004,11698.815999999995,12056.952999999998,12469.990000000002,13798.636,12527.571,12266.981999999998,11180.000999999998,11221.762000000001,10764.076999999999,12007.581,10674.854000000003,11316.847,11565.285000000002,11522.732,12194.610999999997,13097.569000000001,11923.505000000001,12461.083999999995,10884.725999999997,11045.386000000002,11156.418000000001,11886.368000000002,10762.586000000001,11179.712,11748.179999999998,12297.538999999995,12763.290999999997,13141.868,12158.895,12094.056999999995,11595.256999999998,11694.176999999998,11961.463000000002,12800.279999999999,11639.960999999999,11922.619000000001,11858.766,12233.531999999999,13139.841000000004,13984.224000000004,12088.559000000003,13295.242999999999,11822.258000000005,12404.074999999997,12447.605,13093.934000000001,12087.526999999998,12236.762999999997,12363.548000000003,12611.461999999998,13298.204999999998,13848.374,13526.045000000002,13537.277,11990.401999999998,12490.415999999999,12785.945,13519.843999999999,12230.967999999997,12307.397000000003,12882.947000000002,13261.676000000001,13826.558999999999,14791.047,12504.942000000001,12944.200999999997,12938.041000000001,13073.965,13053.460999999999,13846.366000000002,12972.292000000003,13641.727000000001,13754.548999999999,13928.879000000001,14912.340999999999,15172.561,13701.303,14381.126000000002,13712.254999999997,13714.311000000002,14102.116,15283.841999999999,13813.231,14164.754999999999,14304.219000000001,14700.953000000001,16000.632000000001,16168.921,14967.624999999998,15400.066000000001,14030.916999999999,14637.163000000002,15059.191999999999,16261.017,14644.725999999999,14989.451999999999,14949.123000000001,16255.662,16948.564999999999,17845.227999999999,15687.765999999998,16380.922999999997,15199.865,15564.256000000003,16091.724,16573.085999999999,15634.834000000001,15998.932999999999,15961.555,16920.555,17131.96,18289.445000000003,16491.726999999999,17239.230000000003,15530.365,16690.819000000003,17085.272000000001,17642.278000000002,16747.986000000001,16490.887000000002,16729.872000000003,17806.417999999998,18871.052,19341.497000000003,16996.740999999998,17636.378999999997,17018.970999999998,17193.093000000004,17374.280999999999,18464.613000000001,16579.862000000001,16965.512000000002,17630.420000000002,17851.663000000004,18508.075000000001,20199.603000000003,18770.308000000001,18517.214999999997,17007.472000000002,17756.890999999996,18911.004000000001,20054.809000000001,18709.898000000001,18185.194,18727.147000000001,18882.891,20117.086000000003,20331.607,19479.59,20587.064000000002,18261.442999999999,18519.046000000002,19383.066999999999,20650.728999999996,18984.258000000002,19297.613000000001,19134.524000000001,20211.602999999999,21137.934000000001,22434.995999999999,20982.072000000004,21028.847000000005,19050.185000000001,19203.679000000004,20500.803999999996,21538.906999999999,19548.174999999999,19495.727999999999,19231.860999999997,20661.563999999995,22507.246000000003,23447.905000000002,21252.067999999992,21967.846999999998,18681.973999999998,20372.254000000001,20850.334000000006,23038.001000000004,20603.034,20839.387999999999,20448.167999999998,20584.458999999995,22895.526999999998,24159.132999999998,21183.205999999998,22565.631999999998,20260.940999999999,20863.598000000002,21079.954999999998,22851.761000000002,21112.413999999997,20898.947,21214.273999999998,22511.686999999998,23734.213000000003,24433.133000000002,22546.603999999999,22312.010999999999,21496.493999999999,20950.915999999994,21080.627999999997,23239.803000000004,21729.627,21081.667999999998,21124.274000000001,22046.794000000002,23163.711000000003,23770.664000000001,20885.489000000005,20925.592000000001,19227.985000000001,19641.821,20540.189000000002,22424.545000000002,21148.706999999999,20400.554,20324.804999999997,20644.267,22725.194,23750.938022999999,21910.907142,22815.565081999997,19934.792949000002,20422.616260999999,20438.546864999997,23145.032401,21456.10457,20701.916191,20498.548346,22011.928392999998,23440.05386,23667.869017999998,21414.953240999999,22737.242052000001,19254.015281,20346.017596999998,20740.408363000002,21996.80718,21588.901646000002,21020.763280000003,20338.993179000001,20614.639884,21876.794583999999,23090.426942999999,22947.785239999997,21327.506309,19477.465006999999,20190.931372999999,20752.162159000003,21670.967820000002,21447.849914999999,19794.145318999999,19716.804321,20270.138454999997,21328.039439,22553.187899999997,20549.267124999998,21218.142804999999,19498.434923999997,19447.040546,19143.780576000001,21637.578679999999,20607.948791000003,19706.244317000001,19780.493701000003,20480.664445999999,21745.626769000002,22053.512252999997,20371.954502999997,20919.84879,18766.030208,19478.485279,19600.189425,21122.58655,20174.167919,20261.893050000002,19686.429,19785.315298999998,21323.415776999998,22694.104267999999,21013.002077000001,21183.677259,18851.251554999999,19832.434907999999,20377.176842000001,23469.964519000001,20880.247671999998,19591.352026,19727.777236999998,19879.897710000001,20897.423210999998,21469.711756000001,20847.871017999998,21476.829209,19930.533261999997,19732.421679999999,20247.474799,22234.597062000001,21464.162418,20844.978950000001,19852.199255,20662.608276999999,21335.601706999998,23109.380555,19910.512300999999,21126.326475000002,18832.883515999998,20240.509442000002,21708.205146,22400.516276999999,21808.712993000001,20215.057563999999,20242.557375,20941.174750999999,22183.859081999999,22640.980899999999,"-","-","-","-","-","-","-","-","-","-","-"]
[]
[null,"Balance eléctrico mensual Islas Baleares (MWh)","2006-01-01","2006-02-01","2006-03-01","2006-04-01","2006-05-01","2006-06-01","2006-07-01","2006-08-01","2006-09-01","2006-10-01","2006-11-01","2006-12-01","2007-01-01","2007-02-01","2007-03-01","2007-04-01","2007-05-01","2007-06-01","2007-07-01","2007-08-01","2007-09-01","2007-10-01","2007-11-01","2007-12-01","2008-01-01","2008-02-01","2008-03-01","2008-04-01","2008-05-01","2008-06-01","2008-07-01","2008-08-01","2008-09-01","2008-10-01","2008-11-01","2008-12-01","2009-01-01","2009-02-01","2009-03-01","2009-04-01","2009-05-01","2009-06-01","2009-07-01","2009-08-01","2009-09-01","2009-10-01","2009-11-01","2009-12-01","2010-01-01","2010-02-01","2010-03-01","2010-04-01","2010-05-01","2010-06-01","2010-07-01","2010-08-01","2010-09-01","2010-10-01","2010-11-01","2010-12-01","2011-01-01","2011-02-01","2011-03-01","2011-04-01","2011-05-01","2011-06-01","2011-07-01","2011-08-01","2011-09-01","2011-10-01","2011-11-01","2011-12-01","2012-01-01","2012-02-01","2012-03-01","2012-04-01","2012-05-01","2012-06-01","2012-07-01","2012-08-01","2012-09-01","2012-10-01","2012-11-01","2012-12-01","2013-01-01","2013-02-01","2013-03-01","2013-04-01","2013-05-01","2013-06-01","2013-07-01","2013-08-01","2013-09-01","2013-10-01","2013-11-01","2013-12-01","2014-01-01","2014-02-01","2014-03-01","2014-04-01","2014-05-01","2014-06-01","2014-07-01","2014-08-01","2014-09-01","2014-10-01","2014-11-01","2014-12-01","2015-01-01","2015-02-01","2015-03-01","2015-04-01","2015-05-01","2015-06-01","2015-07-01","2015-08-01","2015-09-01","2015-10-01","2015-11-01","2015-12-01","2016-01-01","2016-02-01","2016-03-01","2016-04-01","2016-05-01","2016-06-01","2016-07-01","2016-08-01","2016-09-01","2016-10-01","2016-11-01","2016-12-01","2017-01-01","2017-02-01","2017-03-01","2017-04-01","2017-05-01","2017-06-01","2017-07-01","2017-08-01","2017-09-01","2017-10-01","2017-11-01","2017-12-01","2018-01-01","2018-02-01","2018-03-01","2018-04-01","2018-05-01","2018-06-01","2018-07-01","2018-08-01","2018-09-01","2018-10-01","2018-11-01","2018-12-01"]
[null,"Carbón",281585,245804,280062,239665,271836,287051,292771,281322,254499,177022,201042,264651,253259,227525,220374,263500,228127,222675,278923,292687,263412,229147,201758,262468,287616,269886,265619,216223,246771,279366,294598,301838,286166,244583,217953,188207,186398,267602,230164,242090,270324,291327,298599,307579,259941,281704,254121,280614,288628.96399999998,253130.43700000001,284143.58,270785.11,229324.10800000001,279046.16200000001,292090,286753.92800000001,285293.82500000001,217296.101,192203.66699999999,222661.68400000001,271039.09399999998,222552.524,133127.45199999999,193302.56099999999,240528.49600000001,255173.84400000001,292281.72899999999,285531.25400000002,269841.23499999999,199222.62899999999,166762.40400000001,235503.62899999999,265065.64199999999,219166.837,224145.144,203970.12299999999,227618.82199999999,243421,272060,272045,234898,185556,160648,173937,182300,172763,186533,175478,187897,200607,246667,248252,229417,169690.17,168250.60200000001,182826,183089,150083,160256,174013,194494.804,206570,234613,238509,227703,156196,86830,175269,180780.08,171710.04,173706,70780.108999999997,127697.454,185477.54,218839.82199999999,250939.772,199152.05600000001,83006.979000000007,103751.19,99427.255000000005,115147.24099999999,99808.854999999996,105038.973,151496.986,197176.087,225485.47200000001,286133.93099999998,265479.10800000001,256769.33100000001,224344.495,180604.21100000001,196283.61199999999,221058.21400000001,189456.399,177641.41200000001,189508.62100000001,224832.976,269448.82400000002,273731.7,264559.049,238125.48800000001,197287.90599999999,153252.114,204441.261,198586.29300000001,"-","-","-","-","-","-","-","-","-","-","-"]
[null,"Motores diesel",79209,68329,70721,64718,79303,85154,104210,101456,93527,79792,63493,74990,78135,66061,74782,71646,84385,92577,102578,105250,96624,79159,73984,80425,80489,70911,75416,72520,86002,96520,116196,118501,98449,78246,72700,81131,85013,68206,71555,74273,75820,91793,105509,106425,86067,70751,62004,74409,80487.338000000003,71127.048999999999,78081.048999999999,70171.271999999997,83167.909,94393.464000000007,113035.62,113945.387,97806.403000000006,76729.221000000005,67045.221999999994,81630.111999999994,81369.630999999994,64795.156999999999,77210.808999999994,71556.933999999994,83563.773000000001,89642.910999999993,96268.777000000002,98322.804999999993,81466.168999999994,55484.904999999999,49587.178,74506.566999999995,80432.365999999995,74636.626000000004,73731.683999999994,72451.134000000005,83642.36,94717.668000000005,104719.432,103888.321,81520.528999999995,62130.65,47317.415000000001,55581.767999999996,59201.000999999997,53145.453000000001,52697.133999999998,55012.707999999999,67405.004000000001,69930.770999999993,90133.123000000007,86504.202999999994,65992.843999999997,50254.603000000003,38564,55111,57916.595999999998,54814.648000000001,38555.430999999997,37428.254999999997,51478.368000000002,60837.201999999997,69849.784,77074.995999999999,69718.804000000004,50951.88,51297.131000000001,51325.232000000004,56436.175999999999,54370.103999999999,51246.678999999996,53388.938999999998,63795.298999999999,64962.411999999997,92963.654999999999,83680.463000000003,67767.982000000004,52976.819000000003,38052.409,50124.936999999998,38443.442000000003,63296.957000000002,77413.165999999997,75104.327000000005,87415.225999999995,92667.361999999994,107561.719,107599.22,92554.883000000002,88597.956000000006,62253.616999999998,70496.269,84317.429000000004,70875.667000000001,62401.050999999999,72729.668999999994,88030.043000000005,96848.532999999996,107030.643,88492.99,42503.578000000001,27252.944,25255,33156.188999999998,38611.067999999999,"-","-","-","-","-","-","-","-","-","-","-"]
[null,"Turbina de gas",6947,10938,22831,13569,15378,29015,55976,40768,31591,29413.95199999999,18468,17160,23585,20894,20510,16976,36834,31757,41358,38367,21309,20978,20783,18090,17521,19944,19984,12615,13376,22615,34364,38299,31566,20899,19341,21978,18986,20558,19663,12270,24409,33876,53107,52569,37227,24608,21181,20915,23036.824000000001,25540.649000000001,22064.976999999999,16837.77,15550.541999999999,20236.732,41379.637000000002,42027.091,26953.491999999998,22516.812000000002,21406.807000000001,21863.032999999999,16995.936000000002,20869.650000000001,17680.794999999998,13200.816000000001,17102.748,28124.346000000001,49934.766000000003,59310.271000000001,47553.175000000003,38916.805999999997,31018.1,10217.727000000001,12720.373,24628.482,14603.772000000001,8007.7259999999997,12723.262000000001,29862.117999999999,42997.555,61596.516000000003,39058.875999999997,34035.275000000001,28986.828000000001,31723.758000000002,30572.664000000001,33019.775000000001,31897.867999999999,25229.128000000001,32068.698,39400.116000000002,61334.673999999999,68281.490999999995,57303.716999999997,50631.493999999999,41970.712,37596.616000000002,28446.728999999999,24552.032999999999,42849.538999999997,44140.442000000003,47118.786999999997,57803.786999999997,75697.593999999997,79161.104999999996,66060.736000000004,52001.822,27833.902999999998,36061.230000000003,36489.4,32594.472000000002,38185.656999999999,31999.216,43482.358999999997,58635.014999999999,77101.896999999997,80387.589000000007,57873.42,47588.997000000003,40863.165999999997,36936.794000000002,47667.171000000002,19844.912,13369.73,9070.5879999999997,18358.821,33002.701999999997,46443.63,55165.45,43433.79,18338.486000000001,20288.044000000002,13304.507,13253.123,10760.688,22196.99,14153.174000000001,29329.019,39526.796000000002,59315.127,82009.630999999994,81625.907999999996,74939.63,62142.019,64867.775000000001,60369.260999999999,"-","-","-","-","-","-","-","-","-","-","-"]
[null,"Fuel + Gas",86156,79267,93552,78287,94681,114169,160186,142224,125118,109205.95199999999,81961,92150,101720,86955,95292,88622,121219,124334,143936,143617,117933,100137,94767,98515,98010,90855,95400,85135,99378,119135,150560,156800,130015,99145,92041,103109,103999,88764,91218,86543,100229,125669,158616,158994,123294,95359,83185,95324,103524.16200000001,96667.698000000004,100146.026,87009.042000000001,98718.451000000001,114630.19600000001,154415.25699999998,155972.478,124759.895,99246.03300000001,88452.028999999995,103493.14499999999,98365.566999999995,85664.807000000001,94891.603999999992,84757.75,100666.52100000001,117767.257,146203.54300000001,157633.076,129019.344,94401.710999999996,80605.277999999991,84724.293999999994,93152.739000000001,99265.108000000007,88335.455999999991,80458.86,96365.622000000003,124579.78600000001,147716.98699999999,165484.837,120579.405,96165.925000000003,76304.243000000002,87305.525999999998,89773.664999999994,86165.228000000003,84595.001999999993,80241.835999999996,99473.702000000005,109330.88699999999,151467.79700000002,154785.69399999999,123296.56099999999,100886.09700000001,80534.712,92707.616000000009,86363.324999999997,79366.680999999997,81404.97,81568.697,98597.154999999999,118640.989,145547.378,156236.101,135779.54,102953.70199999999,79131.034,87386.462,92925.576000000001,86964.576000000001,89432.335999999996,85388.154999999999,107277.658,123597.427,170065.552,164068.05200000003,125641.402,100565.81600000001,78915.574999999997,87061.731,86110.613000000012,83141.869000000006,90782.895999999993,84174.915000000008,105774.04699999999,125670.06399999998,154005.34899999999,162764.66999999998,135988.67300000001,106936.44200000001,82541.660999999993,83800.775999999998,97570.551999999996,81636.354999999996,84598.040999999997,86882.842999999993,117359.06200000001,136375.329,166345.76999999999,170502.62099999998,124129.486,102192.57400000001,87397.019,98023.964000000007,98980.328999999998,"-","-","-","-","-","-","-","-","-","-","-"]
[null,"Ciclo combinado",115133,112851,71802,58291,79596,107515,173341,167753,132665,163572,80257,79139,109535,97337,133306,66630,113287,174631,186393,169251,141173,143962,135271,113219,92464,91614,97252,120602,114746,106773,178739,177899,121342,111682,111297,199080,206459,81850,132809,89788,70003,97131,175334,166521,120693,57370,29377,64848,83745.201000000001,90692.047000000006,69947.986000000004,35630.942999999999,87840.323999999993,61960.637999999999,159205.10999999999,145959.23199999999,74275.328999999998,107178.246,98555.293999999994,120643.372,87325.831999999995,101278.758,204244.842,87108.138999999996,89672.712,94536.337,118352.70699999999,152014.503,115098.602,118552.891,95594.106,62958.957000000002,68913.751999999993,134285.43599999999,53854.985000000001,51852.373,56400.712,94530.842999999993,109975.276,123495.86500000001,47459.366999999998,71343.37,43422,35026.341,37837,51552.052000000003,39448.04,25643.305,38630.023000000001,16346,35588.271999999997,29770,3965,53247.095000000001,34705.777999999998,46843.258999999998,33410,44603,51991.088000000003,15938.374,33331.379999999997,16418,18189.412,27263.169000000002,16977.942999999999,52913.580999999998,82131.793999999994,33756.963000000003,37290.881999999998,37658.481,38154.074999999997,110890.848,103324.583,47975.309000000001,79053.868000000002,26774.830999999998,35536.51,123453.66899999999,75824.937000000005,93301.375,92999.952000000005,108546.993,109982.738,51876.43,19259.797999999999,12974.432000000001,15678.454,25123.045999999998,27082.419000000002,16743.469000000001,35138.470999999998,27146.894,37932.815999999999,35459.597999999998,32702.778999999999,37339.868999999999,26810.832999999999,13028.306,35387.375,56263.61,13675.324000000001,40854.671999999999,60509.489000000001,36224,32637.993999999999,"-","-","-","-","-","-","-","-","-","-","-"]
[null,"Generación auxiliar",0,0,0,0,0,0,213,3531,2469,1,0,136.219999999972,0,0,0,0,0,0,2447,8618,1547,0,0,0,0,0,0,0,0,0,2048,2600,1282,1,0,0,0,0,0,0,0,0,1489,3042,1037,-2,0,0,0,0,0,0,0,45.686,2619.5369999999998,2927.97,1100.336,0.80300000000000005,0,0,0,0,0,0,0,1061.171,2481.41,3645.4070000000002,1536.693,0,0,0,0,0,0,0,0,984.28700000000003,2564,3950.4380000000001,1310,1,0,0,0,0,0,0,1,625,2313.25,3044.55,917,2E-3,0,0,0,0,0,0,0,0,2542,3212.201,1940,1,0,0,0,0,0,0,0,337,3682.482,4194.6139999999996,2367.759,0,0,0,0,0,0,0,0,1214,2921.6309999999999,3386.1239999999998,2144,426,0,0,0,0,0,0,1338,1706,3128,4554.8469999999998,2377,1642,0,0,0,"-","-","-","-","-","-","-","-","-","-","-"]
[null,"Régimen ordinario",482874,437922,445416,376243,446113,508735,626511,594830,514751,449800.95199999999,363260,436076.22,464514,411817,448972,418752,462633,521640,611699,614173,524065,473246,431796,474202,478090,452355,458271,421960,460895,505274,625945,639137,538805,455411,421291,490396,496856,438216,454191,418421,440556,514127,634038,636136,504965,434431,366683,440786,475898.32699999999,440490.18200000003,454237.59200000006,393425.09499999997,415882.88300000003,455682.68199999997,608329.90399999998,591613.60800000001,485429.38500000001,423721.18300000002,379210.99,446798.201,456730.49299999996,409496.08900000004,432263.89799999999,365168.44999999995,430867.72899999999,468538.609,559319.38900000008,598824.24,515495.87400000001,412177.23099999997,342961.788,383186.87999999995,427132.13299999997,452717.38099999999,366335.58499999996,336281.35600000003,380385.15600000002,463515.91600000003,532316.26299999992,564976.14,404246.772,353066.29499999998,280374.24300000002,296268.86700000003,309910.66499999998,310480.28000000003,310576.04199999996,281363.141,326001.72499999998,326908.88699999999,436036.31900000002,435852.24400000001,357595.56099999999,323823.36399999994,283491.092,322376.87500000006,"-","-","-","-","-","-","-","-","-","-","-","-","-","-","-","-","-","-","-","-","-","-","-","-","-","-","-","-","-","-","-","-","-","-","-","-","-","-","-","-","-","-","-","-","-","-","-","-","-","-","-","-","-","-","-","-","-","-","-","-"]
[null,"Eólica",514.35,371.37400000000002,548.18799999999999,366.096,438.988,366.65,202.55,548.33199999999999,264.46800000000002,347.64699999999999,407.40800000000002,501.30500000000001,402,480,585,246,392,334,358,444,320,541,784,770,415,420,575,741,212,290,272,328,462,470,620,692,472,688,529,482,477,383,126,147,346,531,538,824,599,689,590,377,312,275,322,395,303,477,529,703,472,638,627,553,435,359,432,356,229,587,549,592,479,1092,557,570,377,358,430,261,666,424,540,751,687,674,767,552,439,391,211,355,349,477,772,486,587,635,749,441,509,342,354,302,236,371,552,761,600,696,580,434.88,636,253,309,231,509,555.89,415.25,97,530,661,708,665.25,486,239,471.2,478,222,292.19,402,260,469,283,227,238,127,130,176,172,183,195,343,382,271.41000000000003,"-","-","-","-","-","-","-","-","-","-","-"]
[null,"Solar fotovoltaica",43.972999999999999,50.86,83.445999999999998,87.706999999999994,102.911,110.639,126.145,120.86799999999999,111.756,105.83499999999999,84.200999999999993,72.453999999999994,95,122,165,156,211,207,226,209,180,139,119,123,134,194,416,664,955,1807,2659,4719,4821,4337,3391,4283,3838,5190,7556,7099,8802,9040,8898,8709,6680,6538,5096,3487,3845,4810,6958,8061,9047,8957,10437,10003,8360,6793,5600,4886,5358,6378,8047,9928,10914,10324,10211,11535,9702,8434,4998,5392,6183,6956,10152,10230,12309,11697,12533,12420,10873,9500,6016,6725,7273,7404,11494,11209,12639,13817,14316,12847,10745,8781,5602,5971,5828,8461,11098,12721,12507,13247,13533,12560,10352,10338,6491,5637,6880,7213,10111,12577.61,13499,13458,13857,12164,9669.8700000000008,8932,8008,6276,7084,7540,10664.3,11177.5,12596,13172,13850,13342,10360,8448,6552,5748,5799,7159,12160,12671,13641,13309,13311,12437,10174,9401,7255,5558,6585.1,"-","-","-","-","-","-","-","-","-","-","-"]
[null,"Térmica renovable/Otras renovables","-","-","-","-","-","-","-","-","-","-","-","-","-","-","-","-","-","-","-","-","-","-","-","-","-","-","-","-","-","-","-","-","-","-","-","-","-","-","-","-","-","-","-","-","-","-","-","-","-","-","-","-","-","-","-","-","-","-","-","-","-","-","-","-","-","-","-","-","-","-","-","-",45,23,79,49,42,39,36,47,53,57,55,44,73,47,75,93,16,73,75,30,44,65,60,92,123,172,228,199,261,167,89,121,92,132,185,175,229.29,171.29,164,221,173,100,181,109,119,130.97,148,226,176,164.92,176.14,153.4,126,32,35,42.72,33,93.34,139,138,159,170,104,198,224,164,76,73,87,106,127,137,129.05000000000001,"-","-","-","-","-","-","-","-","-","-","-"]
[null,"Térmica no renovable/Cogeneración y resto/Cogeneración",13134.677,11651.766,12757.366,12126.197,9241.1010000000006,11667.710999999999,11282.305,11336.8,10957.776,11996.518,10537.391,12423.241,10231,11272,12861,12018,8170,9987,8947,9642,9504,1019,8067,12215,11005,12227,12415,11349,11758,11450,11883,11405,10678,11820,11914,12428,12679,9600,972,11178,12259,11199,11190,10723,11294,11475,11970,12503,10815,9246,11253,11204,10903,10391,11522,22957,25904,13766,17545,20738,15300,13950,13834,17844,12581,24337,27559,28922,29380,27852,22326,26863,23089,18830,21757,18602,25063,22209,29853,28907,23443,16726,16004,27593,19631,14416,18168,15890,19024,26233,24865,25589,30297,19897,17598,20007,17963,14698,20661,23967,11904,28025,32114,24993,30718,30760,19807,25780,3123,2527,2771,1697.16,2205,1133.1600000000001,2922,2816,2464,3140,3260,3461,3302,3209.64,3098.93,3052.58,2121,3355,2924.9,2930.8,2901,2744,2387,2672,3018,3106,3515,1953,1988,2777,3059,3488,3216,3350,3099,3600,3162.6,"-","-","-","-","-","-","-","-","-","-","-"]
[null,"Residuos no renovables","-","-","-","-","-","-","-","-","-","-","-","-","-","-","-","-","-","-","-","-","-","-","-","-","-","-","-","-","-","-","-","-","-","-","-","-","-","-","-","-","-","-","-","-","-","-","-","-","-","-","-","-","-","-","-","-","-","-","-","-","-","-","-","-","-","-","-","-","-","-","-","-","-","-","-","-","-","-","-","-","-","-","-","-","-","-","-","-","-","-","-","-","-","-","-","-","-","-","-","-","-","-","-","-","-","-","-","-",9163.5,6908.5,11394,13639,14790,13704.5,12853,12487.5,14777,14664.5,14318,12398.5,8564.5,4968,8612,12110,14510,13617,11266.5,12685,12613.5,13662.5,9271,8925.5,7544,7222,10518,14686,11210,14046.5,14056,14325.5,15026.5,13983,11279,9982,7713.55,"-","-","-","-","-","-","-","-","-","-","-"]
[null,"Residuos renovables","-","-","-","-","-","-","-","-","-","-","-","-","-","-","-","-","-","-","-","-","-","-","-","-","-","-","-","-","-","-","-","-","-","-","-","-","-","-","-","-","-","-","-","-","-","-","-","-","-","-","-","-","-","-","-","-","-","-","-","-","-","-","-","-","-","-","-","-","-","-","-","-","-","-","-","-","-","-","-","-","-","-","-","-","-","-","-","-","-","-","-","-","-","-","-","-","-","-","-","-","-","-","-","-","-","-","-","-",9163.5,6908.5,11394,13639,14790,13704.5,12853,12487.5,14777,14664.5,14318,12398.5,8564.5,4968,8612,12110,14510,13617,11266.5,12685,12613.5,13662.5,9271,8925.5,7544,7222,10518,14686,11210,14046.5,14056,14325.5,15026.5,13983,11279,9982,7713.55,"-","-","-","-","-","-","-","-","-","-","-"]
[null,"Régimen especial",13693,12074,13389,12580,9783,12145,11611,12006,11334,12450,11029,12997,10728,11874,13611,12420,8773,10528,9531,10295,10004,1699,8970,13108,11554,12841,13406,12754,12925,13547,14814,16452,15961,16627,15925,17403,16989,15478,9057,18759,21538,20622,20214,19579,18320,18544,17604,16814,15259,14745,18801,19642,20262,19623,22281,33355,34567,21036,23674,26327,21130,20966,22508,28325,23930,35020,38202,40813,39311,36873,27873,32847,29796,26901,32545,29451,37791,34303,42852,41635,35035,26707,22615,35113,27664,22541,30504,27744,32118,40514,39467,38821,41435,29220,24032,26556,"-","-","-","-","-","-","-","-","-","-","-","-","-","-","-","-","-","-","-","-","-","-","-","-","-","-","-","-","-","-","-","-","-","-","-","-","-","-","-","-","-","-","-","-","-","-","-","-","-","-","-","-","-","-","-","-","-","-","-","-"]
[null,"Generación",496567,449996,458805,388823,455896,520880,638122,606836,526085,462250.95199999999,374289,449073.22,475242,423691,462583,431172,471406,532168,621230,624468,534069,474945,440766,487310,489644,465196,471677,434714,473820,518821,640759,655589,554766,472038,437216,507799,513845,453694,463248,437180,462094,534749,654252,655715,523285,452975,384287,457600,491157.32699999999,455235.18199999997,473038.592,413067.09499999997,436144.88299999997,475305.68199999997,630610.90399999998,624968.60800000001,519996.38500000001,444757.18300000002,402884.99,473125.201,477860.49300000002,430462.08899999998,454771.89799999999,393493.45,454797.72899999999,503558.609,597521.38899999997,639637.24,554806.87399999995,449050.23100000003,370834.788,416033.88,456928.13299999997,479618.38099999999,398880.58500000002,365732.35600000003,418176.15600000002,497818.91600000003,575168.26300000004,606611.14,439281.772,379773.29499999998,302989.24300000002,331381.86700000003,337574.66499999998,333021.28000000003,341080.04200000002,309107.141,358119.72499999998,367422.88699999999,475503.31900000002,474673.24400000001,399030.56099999999,353043.364,307523.092,348932.875,327363.32500000001,298018.68099999998,326388.05800000002,308848.071,351604.33899999998,383409.989,446981.79,463196.47100000002,423798.48300000001,353665.283,275127.82799999998,328765.42499999999,340155.82799999998,320757.38699999999,337706.41100000002,309267.76199999999,384392.69500000001,399740.43599999999,514616.72399999999,486272.26899999997,405013.59700000001,349114.32400000002,298958.95199999999,314647.36099999998,322478.80599999998,313009.277,337675.97700000001,326817.06099999999,366558.93199999997,409375.96799999999,498553.46500000003,498916.46799999999,460727.42300000001,387352.93599999999,326306.34299999999,333900.28200000001,381094.58199999999,331714.35200000001,331984.23200000002,358163.33299999998,408740.87099999998,465031.45899999997,523326.84499999997,540701.12699999998,422020.29800000001,382995.152,334540.62199999997,368330.22499999998,355779.87599999999,"-","-","-","-","-","-","-","-","-","-","-"]
[null,"Enlace Península-Baleares","-","-","-","-","-","-","-","-","-","-","-","-","-","-","-","-","-","-","-","-","-","-","-","-","-","-","-","-","-","-","-","-","-","-","-","-","-","-","-","-","-","-","-","-","-","-","-","-",0,0,0,0,0,0,0,0,0,0,0,0,0,0,0,0,0,0,0,0,0,0,-43.890999999999998,520.29999999999995,2681.3809999999999,25375.897000000001,36694.078999999998,35112.659,27254.534,35803.857000000004,36379.671999999999,68014.381999999998,74016.633000000002,70230.888000000006,67437.619000000006,91247.601999999999,108822.87300000001,90838.239000000001,84296.937000000005,88234.445000000007,83693.952000000005,112811.098,145595.967,157387.88099999999,113878.526,108856.743,86136.35,87955.589000000007,98644.521999999997,86919.695999999996,88249.650999999998,80404.573999999993,85669.402000000002,124876.598,153191.78599999999,165070.70499999999,146829.62899999999,101058.571,79551.937000000005,87790.395000000004,110897.59600000001,111884.63099999999,100736.395,87606.187000000005,65670.035000000003,123291.107,181060.09899999999,170384.12599999999,119558.349,99376.747000000003,71777.664000000004,93548.865999999995,89213.442999999999,91217.188999999998,111467.448,86955.767999999996,105354.345,124743.75900000001,144841.69399999999,152538.68,109260.447,90882.304000000004,58978.756999999998,85128.667000000001,96651.403000000006,64562.012000000002,78352.012000000002,57068.237000000001,75027.426999999996,114233.41499999999,155211.459,166876.245,116104.62300000001,93285.020999999993,70161.933999999994,91766.865000000005,86108.1,"-","-","-","-","-","-","-","-","-","-","-"]
[null,"Demanda transporte (b.c.)",496567,449996,458805,388823,455896,520880,638122,606836,526085,462250.95199999999,374289,449073.22,475242,423691,462583,431172,471406,532168,621230,624468,534069,474945,440766,487310,489644,465196,471677,434714,473820,518821,640759,655589,554766,472038,437216,507799,513845,453694,463248,437180,462094,534749,654252,655715,523285,452975,384287,457600,491157.32699999999,455235.18199999997,473038.592,413067.09499999997,436144.88299999997,475305.68199999997,630610.90399999998,624968.60800000001,519996.38500000001,444757.18300000002,402884.99,473125.201,477860.49300000002,430462.08899999998,454771.89799999999,393493.45,454797.72899999999,503558.609,597521.38899999997,639637.24,554806.87399999995,449050.23100000003,370790.897,416554.18,459609.51400000002,504994.27799999999,435574.66399999999,400845.01500000001,445430.69,533622.77300000004,611547.93500000006,674625.522,513298.40500000003,450004.18300000002,370426.86200000002,422629.46899999998,446397.538,423859.51899999997,425376.97899999999,397341.58600000001,441813.67700000003,480233.98499999999,621099.28599999996,632061.125,512909.087,461900.10700000002,393659.44199999998,436888.46399999998,426007.84700000001,384938.37699999998,414637.70899999997,389252.64500000002,437273.74099999998,508286.587,600173.576,628267.17599999998,570628.11199999996,454723.85399999999,354679.76500000001,416555.82,451053.424,432642.01799999998,438442.80599999998,396873.94900000002,450062.73,523031.54300000001,695676.82299999997,656656.39500000002,524571.946,448491.071,370736.61599999998,408196.22700000001,411692.24900000001,404226.46600000001,449143.42499999999,413772.82900000003,471913.277,534119.72699999996,643395.15899999999,651455.14800000004,569987.87,478235.24,385285.1,419028.94900000002,477745.98499999999,396276.364,410336.24400000001,415231.57,483768.29800000001,579264.87399999995,678538.304,707577.37199999997,538124.92099999997,476280.17300000001,404702.55599999998,460097.09,441887.97600000002,"-","-","-","-","-","-","-","-","-","-","-"]
[]
[null,"Balance eléctrico mensual Islas Canarias (MWh)","2006-01-01","2006-02-01","2006-03-01","2006-04-01","2006-05-01","2006-06-01","2006-07-01","2006-08-01","2006-09-01","2006-10-01","2006-11-01","2006-12-01","2007-01-01","2007-02-01","2007-03-01","2007-04-01","2007-05-01","2007-06-01","2007-07-01","2007-08-01","2007-09-01","2007-10-01","2007-11-01","2007-12-01","2008-01-01","2008-02-01","2008-03-01","2008-04-01","2008-05-01","2008-06-01","2008-07-01","2008-08-01","2008-09-01","2008-10-01","2008-11-01","2008-12-01","2009-01-01","2009-02-01","2009-03-01","2009-04-01","2009-05-01","2009-06-01","2009-07-01","2009-08-01","2009-09-01","2009-10-01","2009-11-01","2009-12-01","2010-01-01","2010-02-01","2010-03-01","2010-04-01","2010-05-01","2010-06-01","2010-07-01","2010-08-01","2010-09-01","2010-10-01","2010-11-01","2010-12-01","2011-01-01","2011-02-01","2011-03-01","2011-04-01","2011-05-01","2011-06-01","2011-07-01","2011-08-01","2011-09-01","2011-10-01","2011-11-01","2011-12-01","2012-01-01","2012-02-01","2012-03-01","2012-04-01","2012-05-01","2012-06-01","2012-07-01","2012-08-01","2012-09-01","2012-10-01","2012-11-01","2012-12-01","2013-01-01","2013-02-01","2013-03-01","2013-04-01","2013-05-01","2013-06-01","2013-07-01","2013-08-01","2013-09-01","2013-10-01","2013-11-01","2013-12-01","2014-01-01","2014-02-01","2014-03-01","2014-04-01","2014-05-01","2014-06-01","2014-07-01","2014-08-01","2014-09-01","2014-10-01","2014-11-01","2014-12-01","2015-01-01","2015-02-01","2015-03-01","2015-04-01","2015-05-01","2015-06-01","2015-07-01","2015-08-01","2015-09-01","2015-10-01","2015-11-01","2015-12-01","2016-01-01","2016-02-01","2016-03-01","2016-04-01","2016-05-01","2016-06-01","2016-07-01","2016-08-01","2016-09-01","2016-10-01","2016-11-01","2016-12-01","2017-01-01","2017-02-01","2017-03-01","2017-04-01","2017-05-01","2017-06-01","2017-07-01","2017-08-01","2017-09-01","2017-10-01","2017-11-01","2017-12-01","2018-01-01","2018-02-01","2018-03-01","2018-04-01","2018-05-01","2018-06-01","2018-07-01","2018-08-01","2018-09-01","2018-10-01","2018-11-01","2018-12-01"]
[null,"Hidráulica",0,0,0,0,0,0,0,0,0,0,0,0,0,0,0,0,0,0,0,0,0,0,0,0,0,0,0,0,0,0,0,0,0,0,0,0,0,0,0,0,0,0,0,0,0,0,0,0,0,0,0,0,0,0,0,0,0,0,0,0,0,0,0,0,0,0,0,0,0,0,0,0,0,0,0,0,0,0,0,0,0,0,0,0,0,0,0,0,0,0,0,0,0,0,0,0,0,0,0,0,0,0,0,0,0,0,0,0,303.60000000000002,270,304.60000000000002,292,295,296,304,303,296,311,301,309,309,282,311,299,308,301,313,266,282,271,260,270,264,239,265,262,271,271,275,288,267,294,274,312,0,"-","-","-","-","-","-","-","-","-","-","-"]
[null,"Motores diesel",165513,148359,156468,143502,170858,177722,176016,179233,182517,179648,157979,169849,187608,153155,170227,158998,161066,167755,183062,178646,169801,172067,170171,169446,169904,169953,164609,171005,184619,170736,180381,181406,184435,177595,169810,179313,175499,161432,167927,161723,174920,177098,181952,183950,185161,193478,183078,194481,187860.42600000001,166955.34899999999,187977.302,173369.21400000001,162133.90599999999,164800.02900000001,181346.47099999999,198336.867,189919.53599999999,200384.633,184885.12599999999,185418.913,188502.864,169922.07500000001,187482.117,176962.42800000001,170170.94399999999,179381.94099999999,187314.6,185824.93599999999,188071.837,178369.31599999999,172999.69399999999,178373.34299999999,179500.23499999999,176820.42600000001,179805.49600000001,178161.291,179655.16699999999,163882.432,172623.93900000001,197998.946,172035.13200000001,174704.734,163848.48800000001,171094.64300000001,179868.34,166432.49600000001,179991.954,156656.79,166958.14600000001,161808.769,167404.83799999999,183067.236,171801.899,179535.08100000001,180393.31200000001,184639.32500000001,182041.55900000001,166724.26,184161.93100000001,173494.46100000001,173886.989,175680.00399999999,177884.16800000001,192713.80300000001,182878.91,182334.08799999999,165752.552,187559.179,183398.663,167418.43700000001,185448.82,175172.701,184138.62400000001,162753.29800000001,184557.63500000001,199833.99400000001,198140.223,191165.39300000001,181351.79800000001,194312.774,191382.783,171121.66500000001,189600.554,179374.39799999999,182068.07199999999,175199.829,195773.45699999999,199399.29,172730.772,198093.171,184851.45199999999,188070.08300000001,188283.13200000001,166413.076,199642.38800000001,210397.63500000001,214526.66099999999,195945.864,212740.97399999999,224846.72200000001,211955.03899999999,232636.30900000001,209595.62100000001,201731.16099999999,189314.73199999999,"-","-","-","-","-","-","-","-","-","-","-"]
[null,"Turbina de gas",52857,58444,91260,61071,57809,75033,67196,68751,76471.12,83282,74117,58140,64149,63769,68930,63759,61840,50272,47789,55948,62897,57361,55111,47645,49303,38729,28799,32804,40343,47105,47074,42237,50914,36660,29392,30166,34805,21886,30042,11292,38398,37443,25400,29481,39778.542000000016,31205,25237.511999999988,17204,13491.04,18753.394,20108.357,13928.882,30855.155999999999,31941.35,29817.828000000001,24986.524000000001,28373.723999999998,46582.514999999999,44841.277999999998,39601.608999999997,34501.046999999999,37022.040999999997,48996.798000000003,30090.472000000002,33696.629000000001,29253.317999999999,46053.292999999998,43711.142,56663.614000000001,57351.207000000002,58097.326999999997,53609.258999999998,49954.794000000002,46945.324000000001,50673.428999999996,43039.485999999997,43644.055,41616.254000000001,41444.798000000003,49387.207999999999,59150.887000000002,62477.417999999998,48260.309000000001,53988.732000000004,33759.934000000001,27745.124,31738.947,35768.232000000004,25760.225999999999,22539.748,31573.401000000002,33220.502,28044.227999999999,35123.300999999999,32417.243999999999,28837.824000000001,26534.567999999999,32861.773999999998,19596.028999999999,21361.484,24865.670999999998,29044.708999999999,26256.525000000001,19704.468000000001,50295.97,36660.589,36644.1,39940.959000000003,28149.965,28792.431,24246.495999999999,23841.564999999999,37191.684999999998,35424.377999999997,28336.128000000001,25334.37,32683.006000000001,24129.387999999999,22541.904999999999,20232.469000000001,18719.830000000002,21856.048999999999,18621.348999999998,19322.266,17715.981,14422.895,15882.528,31498.591,37833.684000000001,27452.880000000001,26044.13,29769.361000000001,31339.258000000002,23523.017,18987.773000000001,12640.722,17181.505000000001,14314.57,22105.541000000001,21770.813999999998,23422.579000000002,22577.284,20472.2,18992.006000000001,23090.303,"-","-","-","-","-","-","-","-","-","-","-"]
[null,"Turbina de vapor",348359,305913,351244,298246,274223,249935,254565,265884,284703,261074,270998,264847,267716,244594,270944,295087,222900,280003,253974,300035,289769,297640,280624,303519,325375,311290,288853,271239,285962,228474,273542,273013,285098,298907,282718,289770,283886,246215,277471,250511,289749,254556,266775,281781,281193,297557,249395,264539,275233.60499999998,239085.291,258003.02499999999,233931.054,254626.209,255627.035,246393.45,264783.53899999999,255925.19500000001,219068.06,221691.14600000001,248219.49600000001,239152.19,224589.21100000001,264589.24699999997,228431.98499999999,220646.28899999999,180534.772,228077.55900000001,216593.97700000001,207647.78599999999,232308.245,184270.27900000001,210977.70300000001,234910.72899999999,199336.31400000001,227404.86499999999,205202.234,198111.728,221665.34599999999,237362.986,233682.87599999999,221969.495,235563.274,244573.82199999999,226155.13399999999,194241.535,194878.78899999999,217861,205723.48800000001,195840,176159.163,213945.36199999999,213545,203418,222976.21599999999,206361,220100,216734.185,176820.28400000001,150580.23300000001,152882.11199999999,146331.71,168933.78899999999,183295.43400000001,180439.144,162676.41099999999,170399.29300000001,169086.92,195856.557,202078.565,176220.30100000001,182024.82699999999,159738.79300000001,150618.451,185584.929,204266.86600000001,206409.50700000001,216761.283,163670.58600000001,156374.23000000001,221565.19099999999,229365.61300000001,206627.829,219237.899,193798.73,173434.728,204683.361,222433.549,236381.93400000001,224084.522,208666.932,172369.114,245579.43599999999,210604.08499999999,197055,204998.98699999999,218563.31599999999,191062.65100000001,236220.38200000001,222604.91899999999,223524.22500000001,208860.49,203117.30100000001,191091.44500000001,216134.106,228842.448,"-","-","-","-","-","-","-","-","-","-","-"]
[null,"Fuel + Gas",566729,512716,598972,502819,502890,502690,497777,513868,543691.12,524004,503094,492836,519473,461518,510101,517844,445806,498030,484825,534629,522467,527068,505906,520610,544582,519972,482261,475048,510924,446315,500997,496656,520447,513162,481920,499249,494190,429533,475440,423526,503067,469097,474127,495212,506132.54200000002,522240,457710.51199999999,476224,476585.071,424794.03399999999,466088.68400000001,421229.15,447615.27099999995,452368.41399999999,457557.74900000001,488106.93,474218.45499999996,466035.20799999998,451417.55,473240.01800000004,462156.10100000002,431533.32700000005,501068.16200000001,435484.88500000001,424513.86199999996,389170.03099999996,461445.45200000005,446130.05499999999,452383.23699999996,468028.76799999998,415367.3,442960.30499999999,464365.75799999997,423102.06400000001,457883.79000000004,426403.011,421410.94999999995,427164.03200000001,451431.723,481069.02999999997,453155.51400000002,472745.42599999998,456682.61900000001,451238.50899999996,407869.80900000001,389056.40899999999,429591.90100000001,398148.51,388558.37199999997,360507.68,412923.60100000002,429832.73800000001,403264.12699999998,437634.598,419171.55599999998,433577.14899999998,425310.31200000003,376406.31800000003,354338.19300000003,347738.05700000003,345084.37,373658.50199999998,387436.12699999998,392857.41500000004,395851.29099999997,389393.97,371483.57200000004,423356.69500000001,413627.19299999997,372431.16899999999,391720.14299999998,358753.05900000001,371948.76,383762.60499999998,417160.62900000002,431577.87100000004,447584.51199999999,378965.36700000003,360267.93300000002,436110.43400000001,439468.22600000002,399605.54300000001,427459.80200000003,392495.39399999997,373218.78099999996,394306.08499999996,434089.53399999999,467279.815,434648.978,434212.98300000001,383264.696,463418.88,430226.47499999998,386991.09299999999,423629.14800000004,441601.67300000001,422770.81700000004,446480.81599999999,457451.43400000001,470141.76100000006,444238.10800000001,458330.89399999997,421159.26600000006,436857.27299999999,441247.48300000001,"-","-","-","-","-","-","-","-","-","-","-"]
[null,"Ciclo combinado",125939,107765,79372,139320,154766,168017,187960,206155,200181,216209,204172,217541,203577,170340,199354,152118,243924,185380,229495,189228,195544,230632,226835,216848,199787,167592,219679,215393,194309,240047,218649,221342,228900,217782,219404,230433,218103,205178,222643,198070,148582,202502,234690,211977,201745,231922,241597,235319,230101.864,203031.70800000001,228450.67800000001,216494.734,193292.74799999999,190320.30900000001,218682.10200000001,224299.34099999999,235057.37,266936.90600000002,253781.81899999999,247960.606,252928.86600000001,190920.098,187526.745,212566.242,245524.253,275132.26,221773.29199999999,252862.68299999999,256339.48699999999,268452.36700000003,290455.41499999998,264393.52899999998,258410.93100000001,234103.44699999999,227913.742,212401.38500000001,248853.609,229398.86900000001,233205.38,233457.065,272722.63900000002,254754.65100000001,229874.65900000001,242675.19699999999,278031.61300000001,223389,245774,243841,250123,244898,263512.41499999998,270469,270577,264188,246468,251409,248686.91099999999,228402.05799999999,280046.83,274981.90600000002,280289.39600000001,252045.92199999999,271160.34499999997,264740.07900000003,318190.978,336165.95299999998,298564.98200000002,258173.584,256340.41899999999,226895.34400000001,255027.685,261373.916,260976.97200000001,242886.79,257449.17300000001,257210.08600000001,261505.807,350690.36800000002,311693.576,270991.93400000001,247044.88200000001,217849.75099999999,233400.21299999999,247033.402,271015.08100000001,238084.59599999999,241073.81,247232.45699999999,240643.52799999999,294696.65299999999,304199.90299999999,249425.23499999999,282319.56300000002,235324,250923.37599999999,219690.93400000001,255536.929,214873.89199999999,231391.76800000001,261576.27100000001,236369.61300000001,290262.84999999998,281882.196,255620.62400000001,240490.769,"-","-","-","-","-","-","-","-","-","-","-"]
[null,"Generación auxiliar",0,0,0,0,0,0,0,0,0,0,0,0,12171,11523,11651,11641,10919,9438,10685,12461,11325,11933,10055,9038,10202,9659,10861,10032,6829,6410,7670,7858,5141,4729,5487,4869,4385,3909,4661,2586,2823,3208,5305,3351,1680,811,899,170,0,0,0,0,0,0,0,0,0,0,0,0,0,0,null,null,null,null,null,null,null,null,null,null,null,null,null,null,null,null,null,null,null,null,null,null,null,null,null,null,null,null,null,null,null,null,null,null,null,null,null,null,null,null,null,null,null,null,null,null,null,null,null,null,null,null,null,null,null,null,null,null,"-","-","-","-","-","-","-","-","-","-","-","-","-","-","-","-","-","-","-","-","-","-","-",null,null,"-","-","-","-","-","-","-","-","-","-","-"]
[null,"Régimen ordinario",692668,620481,678344,642139,657656,670707,685737,720023,743872.12,740213,707266,710377,735221,643381,721106,681603,700649,692848,725005,736318,729336,769633,742796,746496,754571,697223,712801,700473,712062,692772,727316,725856,754488,735673,706811,734551,716678,638620,702744,624182,654472,674807,714122,710540,709557.54200000002,754973,700206.51199999999,711713,706686.93500000006,627825.74199999997,694539.36199999996,637723.88400000008,640908.01899999997,642688.723,676239.85100000002,712406.27099999995,709275.82499999995,732972.11400000006,705199.36899999995,721200.62400000007,715084.96700000006,622453.42500000005,688594.90700000001,648051.12699999998,670038.11499999999,664302.29099999997,683218.74400000006,698992.73800000001,708722.72399999993,736481.13500000001,705822.71499999997,707353.83400000003,722776.68900000001,657205.51099999994,685797.53200000001,638804.39599999995,670264.55899999989,656562.90100000007,684637.103,714526.09499999997,725878.15300000005,727500.07700000005,686557.27800000005,693913.70600000001,685901.42200000002,612445.40899999999,675365.90100000007,641989.51,638681.37199999997,605405.67999999993,676436.01600000006,700301.73800000001,673841.12699999998,701822.598,665639.55599999998,684986.14899999998,"-","-","-","-","-","-","-","-","-","-","-","-","-","-","-","-","-","-","-","-","-","-","-","-","-","-","-","-","-","-","-","-","-","-","-","-","-","-","-","-","-","-","-","-","-","-","-","-","-","-","-","-","-","-","-","-","-","-","-","-"]
[null,"Hidroeólica",0,0,0,0,0,0,0,0,0,0,0,0,0,0,0,0,0,0,0,0,0,0,0,0,0,0,0,0,0,0,0,0,0,0,0,0,0,0,0,0,0,0,0,0,0,0,0,0,0,0,0,0,0,0,0,0,0,0,0,0,0,0,0,0,0,0,0,0,0,0,0,0,0,0,0,0,0,0,0,0,0,0,0,0,0,0,0,0,0,0,0,0,0,0,0,0,0,0,0,0,0,0,0.311,314.81299999999999,161.52500000000001,195.471,201.01499999999999,198.726,416.17599999999999,374.87299999999999,243.78399999999999,125.636,242.05799999999999,362.42099999999999,2082.991,1928.8240000000001,742,484.64600000000002,882.971,670.68600000000004,814.1,1779.5260000000001,1522.376,1303.018,923.46299999999997,2002.62,2580.2730000000001,2223.9,2171.9670000000001,733.35400000000004,1012.851,1035.191,1084.578,1447.992,2129.7550000000001,994.51599999999996,1495.018,2229.1950000000002,3114.3130000000001,2458.3380000000002,2340.8780000000002,990.89499999999998,811.37,1301.6679999999999,2270.14,"-","-","-","-","-","-","-","-","-","-","-"]
[null,"Hidráulica/Resto hidráulica",0,0,0,0,0,0,0,0,0,0,0,0,0,0,0,0,0,0,82,190,247,92,278,287,287,244,240,0,185,315,305,97,0,0,0,0,9,164,175,50,0,0,0,0,0,0,0,0,0,0,0,0,0,0,0,0,0,0,0,0,0,0,2,239,165,131,245,179,201,238,164,111.408,116.43899999999999,7.4999999999999997E-2,163.001,246.87899999999999,218.845,207.49700000000001,62.734999999999999,231.00200000000001,221.7,205.726,40.073,75.364000000000004,222.602,204.523,136.68199999999999,136.99,292.267,286.38799999999998,286.267,286.37400000000002,292.33800000000002,303.71199999999999,293.16300000000001,306,305,276,301,290,300,283,308,310.02100000000002,296,272,261,277,"-","-","-","-","-","-","-","-","-","-","-","-","-","-","-","-","-","-","-","-","-","-","-","-","-","-","-","-","-","-","-","-","-","-","-","-","-","-","-","-","-","-","-","-","-","-","-","-"]
[null,"Eólica",17431.845000000001,18906.552,22433.485000000001,28613.578000000001,35233.5,25590.253000000001,56231.544000000002,38386.534,22680.768,19552.138999999999,15309.171,25694.21,17536,22919,37045,26057,34949,31706,57951,48557,26273,19181,16085,18581,12697,16352,39237,36025,31842,39889,59648,61491,17713,33991,22016,25574,23706,17290,24349,46455,32116,20734,55995,57105,22914,12762,24732,20549,11740,14778,23015,32147,36251,38838,47304,42622,35769,14015,17956,16928,11345,24277,22847,23944,19554,37648,55422,51939,31495,25599,15790,34295,18963.88,33726.285000000003,33681.697,30021.198,26774.771000000001,44057.214,57535.39,54601,12813.212,17087.317999999999,16904.712,15601.111999999999,24542.069,28387.059000000001,13294,27647.999,38088.171000000002,48342,41479,42314,24540,24190,27763,22147,29456,32606,45694,27506,42525,35026,45220,59362,12482,15750,20599,23738,41442,43677,41792.052000000003,28967,40094,30389,59611,49740,17421,10614,24303,8611,19204,40727,33663,25978,30431,44239,56792,48605,46717,13315,17702,15713,15115,22686,36312,18605,25482,40128,50389,47397,54584,21312,24032,39812,61174.599000000002,"-","-","-","-","-","-","-","-","-","-","-"]
[null,"Solar fotovoltaica",36.402000000000001,46.195999999999998,66.179000000000002,67.328000000000003,76.62,77.052999999999997,98.995000000000005,430.70800000000003,484.04,533.36199999999997,462.50200000000001,536.16499999999996,610,833,1268,1459,1737,1692,2046,2433,2017,2022,1635,1621,2022,2658,3713,4145,4312,4894,5548,5693,6152,9825,7689,6849,8709,10847,12492,16156,16219,16256,17530,17568,12555,13377,11497,9124,10698,10306,16328,16499,19138,19607,22480,21526,17621,15830,12519,12614,15178,16843,19656,19729,20773,23349,23817,24739,20929,17684,14494,14948,15819,17853,23039,20676,24978,25023,26449,26299,23158,19232,16071,17914,20253,19458,23739,27152,27710,30875,30903,26948,24098,22190,17740,15636,18995,20132,27162,25919,29372,27594,27933,29920,21433,20634,16824,16373,18338.863000000001,17768,25470.297999999999,25100,29874,27309,30356,26058,20796,17895,18495,18094,19687,20003,24028,24143,25216,29415,29166,27400,25684,20209,17007,15716,18014,18976,25344,25782,25210,27570,29076,26878,22927,19715,16473,17486,18395.062999999998,"-","-","-","-","-","-","-","-","-","-","-"]
[null,"Térmica renovable/Otras renovables",8687.5660000000044,11201.251999999999,21105.335999999999,20726.093999999997,19570.879999999997,20816.694,21169.460999999999,19156.758000000002,13239.191999999999,22026.499000000003,17532.326999999997,22967.625,21162,19576,5693,17196,15807,15288,19273,20695,19120,18295,18031,23147,22239,19665,20200,19685,21462,14780,144,21585,13957,17447,22889,23166,23472,22220,12230,24755,22920,23920,24575,24604,23900,22497,23578,24384,23902,18935,16313,24282,25112,19550,10072,5987,5025,5016,3979,2388,3274,5746,5969,5585,6959,1329,735,722,702,703,749,675.36300000000006,612.11,489.72300000000001,585.19799999999998,682.91600000000005,647.63499999999999,645.86599999999999,716.72299999999996,723.62,743.06100000000004,760.45899999999995,617.47500000000002,825.66800000000001,628.67399999999998,697.577,800.20100000000002,747.98099999999999,798.7,697.58100000000002,798.74400000000003,711.54100000000005,628.87699999999995,722.197,511,644,787,707,778,663,669,643,797,820.72199999999998,629,747,835,731,378,350,448,494,606,795.298,837.91800000000001,841,865,810,840,788,862,735,824,817,884,679,761,696,738,786,765,789,811,720,831,836,813,823,831,682,802,831,803,782,0,"-","-","-","-","-","-","-","-","-","-","-"]
[null,"Térmica no renovable/Cogeneración y resto/Cogeneración",2832.1869999999999,0,0,0,0,0,0,0,0,0,0,0,0,0,0,0,0,0,0,0,0,0,0,0,0,0,0,0,0,0,0,0,0,0,0,0,0,0,0,0,10,10,0,0,0,0,0,0,0,0,0,0,0,0,0,0,0,0,0,0,0,0,0,0,0,0,0,0,0,0,0,0,0,0,0,0,0,0,0,0,0,0,0,0,0,0,0,0,0,0,0,0,0,0,0,0,0,0,0,0,0,0,0,0,0,0,0,0,0,0,0,0,0,0,0,0,0,0,0,0,0,0,0,0,0,0,0,0,0,0,0,0,0,0,0,0,0,0,0,0,0,0,0,0,0,"-","-","-","-","-","-","-","-","-","-","-"]
[null,"Régimen especial",28988,30154,43605,49407,54881,46484,77500,57974,36404,42112,33304,49198,39308,43328,44006,44712,52493,48686,79352,71875,47657,39590,36029,43636,37245,38919,63390,59855,57801,59878,65645,88866,37822,61263,52594,55589,55896,50521,49246,87416,71265,60920,98100,99277,59369,48636,59807,54057,46340,44019,55656,72928,80501,77995,79856,70135,58415,34861,34454,31930,29797,46866,48474,49497,47451,62457,80219,77579,53327,44224,31197,50029.771000000001,35511.429000000004,52069.082999999999,57468.895999999993,51626.993000000002,52619.251000000004,69933.577000000005,84763.847999999998,81854.622000000003,36935.972999999998,37285.502999999997,33633.26,34416.143999999993,45646.345000000001,48747.159,37969.883000000002,55684.97,66889.137999999992,80200.969000000012,73467.010999999999,70259.915000000008,49559.215000000004,47405.909,46307.163,38733,"-","-","-","-","-","-","-","-","-","-","-","-","-","-","-","-","-","-","-","-","-","-","-","-","-","-","-","-","-","-","-","-","-","-","-","-","-","-","-","-","-","-","-","-","-","-","-","-","-","-","-","-","-","-","-","-","-","-","-","-"]
[null,"Generación",721656,650635,721949,691546,712537,717191,763237,777997,780276.12,782325,740570,759575,774529,686709,765112,726315,753142,741534,804357,808193,776993,809223,778825,790132,791816,736142,776191,760328,769863,752650,792961,814722,792310,796936,759405,790140,772574,689141,751990,711598,725737,735727,812222,809817,768926.54200000002,803609,760013.51199999999,765770,753026.93500000006,671844.74199999997,750195.36199999996,710651.88399999996,721409.01899999997,720683.723,756095.85100000002,782541.27099999995,767690.82499999995,767833.11400000006,739653.36899999995,753130.62400000007,744881.96700000006,669319.42500000005,737068.90700000001,697548.12699999998,717489.11499999999,726759.29099999997,763437.74400000006,776571.73800000001,762049.72399999993,780705.13500000001,737019.71499999997,757383.60499999998,758288.11800000002,709274.59399999992,743266.42799999996,690431.38899999997,722883.80999999994,726496.47800000012,769400.951,796380.71699999995,762814.12600000005,764785.58000000007,720190.53800000006,728329.85,731547.76699999999,661192.56799999997,713335.7840000001,697674.48,705570.51,685606.64899999998,749903.027,770561.65300000005,723400.34199999995,749228.50699999998,711946.71900000004,723719.14899999998,723540.223,658529.37600000005,708320.02300000004,677097.96299999999,698239.76599999995,689250.424,732854.78300000005,748325.05,749043.79399999999,763158.39399999997,708768.56900000002,722848.005,730846.25100000005,661766.38600000006,715006.56200000003,675105.61100000003,704036.79,685801.11399999994,767801.71100000001,767658.78099999996,749210.31900000002,759770.38100000005,716783.48,735575.054,727389.20799999998,680981.82,721208.39099999995,692068.81400000001,701996.32499999995,709027.30099999998,764775.61699999997,793703.17200000002,750885.473,764223.99,724211.45,746367.30599999998,747834.61600000004,666384.08499999996,739434.27899999998,707772.12300000002,731578.76399999997,732375.90300000005,772528.51500000001,809421.37,761528.59900000005,791736.63899999997,745434.83200000005,752171.56499999994,763578.054,"-","-","-","-","-","-","-","-","-","-","-"]
[null,"Demanda transporte (b.c.)",721656,650635,721949,691546,712537,717191,763237,777997,780276.12,782325,740570,759575,774529,686709,765112,726315,753142,741534,804357,808193,776993,809223,778825,790132,791816,736142,776191,760328,769863,752650,792961,814722,792310,796936,759405,790140,772574,689141,751990,711598,725737,735727,812222,809817,768926.54200000002,803609,760013.51199999999,765770,753026.93500000006,671844.74199999997,750195.36199999996,710651.88399999996,721409.01899999997,720683.723,756095.85100000002,782541.27099999995,767690.82499999995,767833.11400000006,739653.36899999995,753130.62400000007,744881.96700000006,669319.42500000005,737068.90700000001,697548.12699999998,717489.11499999999,726759.29099999997,763437.74400000006,776571.73800000001,762049.72399999993,780705.13500000001,737019.71499999997,757383.60499999998,758288.11800000002,709274.59399999992,743266.42799999996,690431.38899999997,722883.80999999994,726496.47800000012,769400.951,796380.71699999995,762814.12600000005,764785.58000000007,720190.53800000006,728329.85,731547.76699999999,661192.56799999997,713335.7840000001,697674.48,705570.51,685606.64899999998,749903.027,770561.65300000005,723400.34199999995,749228.50699999998,711946.71900000004,723719.14899999998,723540.223,658529.37600000005,708320.02300000004,677097.96299999999,698239.76599999995,689250.424,732854.78300000005,748325.05,749043.79399999999,763158.39399999997,708768.56900000002,722848.005,730846.25100000005,661766.38600000006,715006.56200000003,675105.61100000003,704036.79,685801.11399999994,767801.71100000001,767658.78099999996,749210.31900000002,759770.38100000005,716783.48,735575.054,727389.20799999998,680981.82,721208.39099999995,692068.81400000001,701996.32499999995,709027.30099999998,764775.61699999997,793703.17200000002,750885.473,764223.99,724211.45,746367.30599999998,747834.61600000004,666384.08499999996,739434.27899999998,707772.12300000002,731578.76399999997,732375.90300000005,772528.51500000001,809421.37,761528.59900000005,791736.63899999997,745434.83200000005,752171.56499999994,763578.054,"-","-","-","-","-","-","-","-","-","-","-"]
[]
[null,"Balance eléctrico mensual Ceuta (MWh)","2007-01-01","2007-02-01","2007-03-01","2007-04-01","2007-05-01","2007-06-01","2007-07-01","2007-08-01","2007-09-01","2007-10-01","2007-11-01","2007-12-01","2008-01-01","2008-02-01","2008-03-01","2008-04-01","2008-05-01","2008-06-01","2008-07-01","2008-08-01","2008-09-01","2008-10-01","2008-11-01","2008-12-01","2009-01-01","2009-02-01","2009-03-01","2009-04-01","2009-05-01","2009-06-01","2009-07-01","2009-08-01","2009-09-01","2009-10-01","2009-11-01","2009-12-01","2010-01-01","2010-02-01","2010-03-01","2010-04-01","2010-05-01","2010-06-01","2010-07-01","2010-08-01","2010-09-01","2010-10-01","2010-11-01","2010-12-01","2011-01-01","2011-02-01","2011-03-01","2011-04-01","2011-05-01","2011-06-01","2011-07-01","2011-08-01","2011-09-01","2011-10-01","2011-11-01","2011-12-01","2012-01-01","2012-02-01","2012-03-01","2012-04-01","2012-05-01","2012-06-01","2012-07-01","2012-08-01","2012-09-01","2012-10-01","2012-11-01","2012-12-01","2013-01-01","2013-02-01","2013-03-01","2013-04-01","2013-05-01","2013-06-01","2013-07-01","2013-08-01","2013-09-01","2013-10-01","2013-11-01","2013-12-01","2014-01-01","2014-02-01","2014-03-01","2014-04-01","2014-05-01","2014-06-01","2014-07-01","2014-08-01","2014-09-01","2014-10-01","2014-11-01","2014-12-01","2015-01-01","2015-02-01","2015-03-01","2015-04-01","2015-05-01","2015-06-01","2015-07-01","2015-08-01","2015-09-01","2015-10-01","2015-11-01","2015-12-01","2016-01-01","2016-02-01","2016-03-01","2016-04-01","2016-05-01","2016-06-01","2016-07-01","2016-08-01","2016-09-01","2016-10-01","2016-11-01","2016-12-01","2017-01-01","2017-02-01","2017-03-01","2017-04-01","2017-05-01","2017-06-01","2017-07-01","2017-08-01","2017-09-01","2017-10-01","2017-11-01","2017-12-01","2018-01-01","2018-02-01","2018-03-01","2018-04-01","2018-05-01","2018-06-01","2018-07-01","2018-08-01","2018-09-01","2018-10-01","2018-11-01","2018-12-01"]
[null,"Motores diesel",17987,16069,16710,15678,16366,16225,17421,17411,16812,17279,16847,17839,18351,17181,16737,16313,16713,16662,18076,18122,17406,17168,17471,19471,19477,16819,17213,15436,16246,17311,18716,16715,17948,18184,16095,18156,16835.431,16928.368999999999,17444.607,16234.076999999999,17320.935000000001,17763.089,19394.422999999999,20221.285,18911.028999999999,18433.375,17839.231,17340.393,16727.881000000001,15217.21,16429.356,14974.758,15954.127,17325.873,18625.857,18453.02,16688.655999999999,17719.741999999998,16751.113000000001,17804.328000000001,18519.808000000001,17894.414000000001,17521.669000000002,16664.298999999999,17367.828000000001,17463.541000000001,17737.678,18518.044000000002,17121.613000000001,17633.501,17338.467000000001,17742.492999999999,17871.498,15517.114,15413.289000000001,14540.856,15588.026,15754.197,17866.71,18953.246999999999,17325.048999999999,16943.32,17475.432000000001,18463.232,18803.363000000001,17215.982,17659.373,14795.035,17087.592000000001,17314.243999999999,18277.513999999999,18625.962,18513.111000000001,18195.284,17359.330999999998,18317.776000000002,19053.228999999999,16016.588,16277.81,15464.3,16941.84,16886,19016,18610.287,16586.142,16965.087,15808.663,17089.672999999999,17310.635999999999,16980.969000000001,16401.867999999999,16859.536,16947,16955.065999999999,18292,19186,18115.226999999999,17861.330000000002,17439.016,18263.341,18539.718000000001,15709.319,15827.683000000001,15468.891,16502.376,17164.786,17578.633000000002,18673.096000000001,17051.202000000001,15957.268,16330,17862.035,19001.178,"-","-","-","-","-","-","-","-","-","-","-"]
[null,"Turbina de gas",0,0,0,0,0,0,0,0,0,0,0,0,0,0,0,0,0,0,0,0,0,0,0,0,0,0,0,0,0,0,159,1859,0,0,1026,209,2043.2850000000001,554.101,0,147.30500000000001,121.071,0,0,0,0,0,0,3.105,26.117999999999999,31.277000000000001,0,0,171.80099999999999,31.510999999999999,20.882000000000001,0.93100000000000005,0,3.8050000000000002,6.5309999999999997,8.1189999999999998,0,140.90799999999999,107.63500000000001,9.984,132.47800000000001,24.65,16.8,38.817999999999998,2.2269999999999999,55.817999999999998,19.222999999999999,0,34.442,39.906999999999996,0.03,31.384,112.964,8.6,0,0,0,0,10.622999999999999,10.144,2.427,0,76.222999999999999,0,0.24299999999999999,0.21,0,0.216,0.24299999999999999,0.29399999999999998,9.2989999999999995,0,0.16200000000000001,220,-0.16,0.25,65,9,139,0.93300000000000005,0.48799999999999999,0,289.024,0.28399999999999997,0.51500000000000001,0.64100000000000001,0.5,0.41199999999999998,0.504,0.17899999999999999,0.60299999999999998,0.52300000000000002,92.182000000000002,3.8860000000000001,15.701000000000001,0.51200000000000001,0.35199999999999998,14.589,0.41499999999999998,0.55500000000000005,0.54500000000000004,5.6769999999999996,3.3690000000000002,0.40200000000000002,125.71599999999999,7.3360000000000003,41.603999999999999,0,0.51700000000000002,"-","-","-","-","-","-","-","-","-","-","-"]
[null,"Fuel + Gas",17987,16069,16710,15678,16366,16225,17421,17411,16812,17279,16847,17839,18351,17181,16737,16313,16713,16662,18076,18122,17406,17168,17471,19471,19477,16819,17213,15436,16246,17311,18875,18574,17948,18184,17121,18365,18878.716,17482.469999999998,17444.607,16381.382,17442.006000000001,17763.089,19394.422999999999,20221.285,18911.028999999999,18433.375,17839.231,17343.498,16753.999,15248.486999999999,16429.356,14974.758,16125.928,17357.383999999998,18646.739000000001,18453.951000000001,16688.655999999999,17723.546999999999,16757.644,17812.447,18519.808000000001,18035.322,17629.304,16674.282999999999,17500.306,17488.191000000003,17754.477999999999,18556.862000000001,17123.84,17689.319,17357.690000000002,17742.492999999999,17905.939999999999,15557.020999999999,15413.319000000001,14572.24,15700.99,15762.797,17866.71,18953.246999999999,17325.048999999999,16943.32,17486.055,18473.376,18805.79,17215.982,17735.596000000001,14795.035,17087.834999999999,17314.453999999998,18277.513999999999,18626.178,18513.353999999999,18195.578000000001,17368.629999999997,18317.776000000002,19053.391,16236.588,16277.65,15464.55,17006.84,16895,19155,18611.22,16586.63,16965.087,16097.687,17089.956999999999,17311.150999999998,16981.61,16402.367999999999,16859.948,16947.504000000001,16955.244999999999,18292.602999999999,19186.523000000001,18207.409,17865.216,17454.717000000001,18263.852999999999,18540.07,15723.907999999999,15828.098000000002,15469.446,16502.920999999998,17170.463,17582.002,18673.498,17176.918000000001,15964.603999999999,16371.603999999999,17862.035,19001.695,"-","-","-","-","-","-","-","-","-","-","-"]
[null,"Régimen ordinario",17987,16069,16710,15678,16366,16225,17421,17411,16812,17279,16847,17839,18351,17181,16737,16313,16713,16662,18076,18122,17406,17168,17471,19471,19477,16819,17213,15436,16246,17311,18875,18574,17948,18184,17121,18365,18878.716,17482.469999999998,17444.607,16381.382,17442.006000000001,17763.089,19394.422999999999,20221.285,18911.028999999999,18433.375,17839.231,17343.498,16753.999,15248.486999999999,16429.356,14974.758,16125.928,17357.383999999998,18646.739000000001,18453.951000000001,16688.655999999999,17723.546999999999,16757.644,17812.447,18519.808000000001,18035.322,17629.304,16674.282999999999,17500.306,17488.191000000003,17754.477999999999,18556.862000000001,17123.84,17689.319,17357.690000000002,17742.492999999999,17905.939999999999,15557.020999999999,15413.319000000001,14572.24,15700.99,15762.797,17866.71,18953.246999999999,17325.048999999999,16943.32,17486.055,18473.376,"-","-","-","-","-","-","-","-","-","-","-","-","-","-","-","-","-","-","-","-","-","-","-","-","-","-","-","-","-","-","-","-","-","-","-","-","-","-","-","-","-","-","-","-","-","-","-","-","-","-","-","-","-","-","-","-","-","-","-","-"]
[null,"Generación",17987,16069,16710,15678,16366,16225,17421,17411,16812,17279,16847,17839,18351,17181,16737,16313,16713,16662,18076,18122,17406,17168,17471,19471,19477,16819,17213,15436,16246,17311,18875,18574,17948,18184,17121,18365,18878.716,17482.469999999998,17444.607,16381.382,17442.006000000001,17763.089,19394.422999999999,20221.285,18911.028999999999,18433.375,17839.231,17343.498,16753.999,15248.486999999999,16429.356,14974.758,16125.928,17357.383999999998,18646.739000000001,18453.951000000001,16688.655999999999,17723.546999999999,16757.644,17812.447,18519.808000000001,18035.322,17629.304,16674.282999999999,17500.306,17488.191000000003,17754.477999999999,18556.862000000001,17123.84,17689.319,17357.690000000002,17742.492999999999,17905.939999999999,15557.020999999999,15413.319000000001,14572.24,15700.99,15762.797,17866.71,18953.246999999999,17325.048999999999,16943.32,17486.055,18473.376,18805.79,17215.982,17735.596000000001,14795.035,17087.834999999999,17314.453999999998,18277.513999999999,18626.178,18513.353999999999,18195.578000000001,17368.629999999997,18317.776000000002,19053.391,16236.588,16277.65,15464.55,17006.84,16895,19155,18611.22,16586.63,16965.087,16097.687,17089.956999999999,17311.151000000002,16981.61,16402.367999999999,16859.948,16947.504000000001,16955.244999999999,18292.602999999999,19186.523000000001,18207.409,17865.216,17454.717000000001,18263.852999999999,18540.07,15723.907999999999,15828.098,15469.446,16502.920999999998,17170.463,17582.002,18673.498,17176.918000000001,15964.603999999999,16371.603999999999,17862.035,19001.695,"-","-","-","-","-","-","-","-","-","-","-"]
[null,"Demanda transporte (b.c.)",17987,16069,16710,15678,16366,16225,17421,17411,16812,17279,16847,17839,18351,17181,16737,16313,16713,16662,18076,18122,17406,17168,17471,19471,19477,16819,17213,15436,16246,17311,18875,18574,17948,18184,17121,18365,18878.716,17482.469999999998,17444.607,16381.382,17442.006000000001,17763.089,19394.422999999999,20221.285,18911.028999999999,18433.375,17839.231,17343.498,16753.999,15248.486999999999,16429.356,14974.758,16125.928,17357.383999999998,18646.739000000001,18453.951000000001,16688.655999999999,17723.546999999999,16757.644,17812.447,18519.808000000001,18035.322,17629.304,16674.282999999999,17500.306,17488.191000000003,17754.477999999999,18556.862000000001,17123.84,17689.319,17357.690000000002,17742.492999999999,17905.939999999999,15557.020999999999,15413.319000000001,14572.24,15700.99,15762.797,17866.71,18953.246999999999,17325.048999999999,16943.32,17486.055,18473.376,18805.79,17215.982,17735.596000000001,14795.035,17087.834999999999,17314.453999999998,18277.513999999999,18626.178,18513.353999999999,18195.578000000001,17368.629999999997,18317.776000000002,19053.391,16236.588,16277.65,15464.55,17006.84,16895,19155,18611.22,16586.63,16965.087,16097.687,17089.956999999999,17311.151000000002,16981.61,16402.367999999999,16859.948,16947.504000000001,16955.244999999999,18292.602999999999,19186.523000000001,18207.409,17865.216,17454.717000000001,18263.852999999999,18540.07,15723.907999999999,15828.098,15469.446,16502.920999999998,17170.463,17582.002,18673.498,17176.918000000001,15964.603999999999,16371.603999999999,17862.035,19001.695,"-","-","-","-","-","-","-","-","-","-","-"]
[]
[null,"Balance eléctrico mensual Melilla (MWh)","2007-01-01","2007-02-01","2007-03-01","2007-04-01","2007-05-01","2007-06-01","2007-07-01","2007-08-01","2007-09-01","2007-10-01","2007-11-01","2007-12-01","2008-01-01","2008-02-01","2008-03-01","2008-04-01","2008-05-01","2008-06-01","2008-07-01","2008-08-01","2008-09-01","2008-10-01","2008-11-01","2008-12-01","2009-01-01","2009-02-01","2009-03-01","2009-04-01","2009-05-01","2009-06-01","2009-07-01","2009-08-01","2009-09-01","2009-10-01","2009-11-01","2009-12-01","2010-01-01","2010-02-01","2010-03-01","2010-04-01","2010-05-01","2010-06-01","2010-07-01","2010-08-01","2010-09-01","2010-10-01","2010-11-01","2010-12-01","2011-01-01","2011-02-01","2011-03-01","2011-04-01","2011-05-01","2011-06-01","2011-07-01","2011-08-01","2011-09-01","2011-10-01","2011-11-01","2011-12-01","2012-01-01","2012-02-01","2012-03-01","2012-04-01","2012-05-01","2012-06-01","2012-07-01","2012-08-01","2012-09-01","2012-10-01","2012-11-01","2012-12-01","2013-01-01","2013-02-01","2013-03-01","2013-04-01","2013-05-01","2013-06-01","2013-07-01","2013-08-01","2013-09-01","2013-10-01","2013-11-01","2013-12-01","2014-01-01","2014-02-01","2014-03-01","2014-04-01","2014-05-01","2014-06-01","2014-07-01","2014-08-01","2014-09-01","2014-10-01","2014-11-01","2014-12-01","2015-01-01","2015-02-01","2015-03-01","2015-04-01","2015-05-01","2015-06-01","2015-07-01","2015-08-01","2015-09-01","2015-10-01","2015-11-01","2015-12-01","2016-01-01","2016-02-01","2016-03-01","2016-04-01","2016-05-01","2016-06-01","2016-07-01","2016-08-01","2016-09-01","2016-10-01","2016-11-01","2016-12-01","2017-01-01","2017-02-01","2017-03-01","2017-04-01","2017-05-01","2017-06-01","2017-07-01","2017-08-01","2017-09-01","2017-10-01","2017-11-01","2017-12-01","2018-01-01","2018-02-01","2018-03-01","2018-04-01","2018-05-01","2018-06-01","2018-07-01","2018-08-01","2018-09-01","2018-10-01","2018-11-01","2018-12-01"]
[null,"Motores diesel",14250,12593,13459,13734.55,15030,15717.05,17790.86,17035.759999999998,16233.4,16172.12,14199,15653,15536,14623,14355,14494,14972,16029,18094,19226,16880,15757,15458,17701,17753,15189,15459,14176,15222,16183,18807,19379,16442,17363,15428,16152,16952.252,15255.491,16387.781999999999,15007.841,15685.419,16778.191999999999,18965.345000000001,20588.25,17840.763999999999,16821.623,16795.423999999999,17639.588,17153.75,15687.581,16335.433000000001,14891.459000000001,16230.351000000001,17378.183000000001,18744.133999999998,20150.581999999999,18022.712,17479.501,16862.537,18360.63,18982.949000000001,18439.042000000001,17598.366000000002,16008.083000000001,17071.491000000002,18279.878000000001,20047.005000000001,20975.616999999998,17694.951000000001,17457.093000000001,15636.494000000001,16659.874,17115.314999999999,15530.096,15812.071,15148.964,16036.971,15760.647999999999,18177.462,19692.631000000001,17663.716,16819.196,16654.163,17052.628000000001,17118.326000000001,15201.501,16103.739,14934.156000000001,15882.369000000001,16465.359,18018.314999999999,19102.751,17938.815999999999,16800.553,16113.986999999999,16483.738000000001,17344.713,16116.182000000001,15853.05,15037.97,15928.74,16467.5,20942,20511.47,17059.901999999998,16541.39,16050.43,16374.786,16091.574000000001,15296.040999999999,15130.281999999999,15195.992,15696.293,16469.571,17928.629000000001,19658.901000000002,17864.674999999999,16595.343000000001,16240.307000000001,16158.705,17669.7,14726.86,15100.528,14749.365,15554.276,17144.972000000002,18838.244999999999,20111.11,16939.069,16546.673999999999,16230.982,16880.162,18312.756000000001,"-","-","-","-","-","-","-","-","-","-","-"]
[null,"Turbina de gas",389,201,257,105.44999999999999,69,0.95,123.13999999999999,231.23999999999998,37.599999999999994,48.879999999999995,484,465,838,433,488,171,45,136,205,76,213,250,217,9,10,11,77,53,2,63,0,61,78,7,126,57,16.721,21.806999999999999,3.2509999999999999,24.138000000000002,34.966000000000001,92.513000000000005,106.417,34.25,37.728999999999999,33.689,53.722999999999999,39.252000000000002,32.543999999999997,2.2170000000000001,6.0549999999999997,42.744,23.423999999999999,34.478000000000002,134.26499999999999,34.911000000000001,9.9920000000000009,126.021,46.3,10.09,4.4249999999999998,0,0,1.526,4.5659999999999998,8.4990000000000006,21.271000000000001,0,70.233000000000004,0,1.829,0,0,0.875,0,0,1.1830000000000001,0.33400000000000002,0.35899999999999999,0,0,67.254999999999995,0,14.781000000000001,3.0590000000000002,44.712000000000003,9.57,0,0,64.411000000000001,29.164999999999999,0,52.308999999999997,92.685000000000002,202,226.292,310,0,49.45,0,0,1.73,124,0.88900000000000001,0,0,99.494,2.2949999999999999,0,0.254,0.52900000000000003,108,12.135,28.161999999999999,58.256,15,16.379000000000001,0,0,2.8180000000000001,0,3.8260000000000001,0.42599999999999999,0,0,0.12,0,0,0,0,9.3729999999999993,59.484000000000002,11.398999999999999,"-","-","-","-","-","-","-","-","-","-","-"]
[null,"Fuel + gas",14639,12794,13716,13840,15099,15718,17914,17267,16271,16221,14683,16118,16374,15056,14843,14665,15017,16165,18299,19302,17093,16007,15675,17710,17763,15200,15536,14229,15224,16246,18807,19440,16520,17370,15554,16209,16968.973000000002,15277.298000000001,16391.032999999999,15031.979000000001,15720.385,16870.704999999998,19071.762000000002,20622.5,17878.492999999999,16855.311999999998,16849.147000000001,17678.84,17186.294000000002,15689.798000000001,16341.488000000001,14934.203000000001,16253.775000000001,17412.661,18878.398999999998,20185.492999999999,18032.703999999998,17605.522000000001,16908.837,18370.72,18987.374,18439.042000000001,17598.366000000002,16009.609,17076.057000000001,18288.377,20068.276000000002,20975.616999999998,17765.184000000001,17457.093000000001,15638.323,16659.874,17115.314999999999,15530.971,15812.071,15148.964,16038.154,15760.982,18177.821,19692.631000000001,17663.716,16886.451000000001,16654.163,17067.409,17121.385000000002,15246.213,16113.308999999999,14934.156000000001,15882.369000000001,16529.77,18047.48,19102.751,17991.125,16893.238000000001,16315.986999999999,16710.030000000002,17654.713,16116.182000000001,15902.5,15037.97,15928.74,16469.23,21066,20512.359,17059.901999999998,16541.39,16149.924000000001,16377.081,16091.574000000001,15296.295,15130.811,15303.992,15708.428,16497.733,17986.885000000002,19673.901000000002,17881.054,16595.343000000001,16240.307000000001,16161.522999999999,17669.7,14730.686,15100.954,14749.365,15554.276,17145.092000000001,18838.244999999999,20111.11,16939.069,16546.673999999999,16240.355,16939.646000000001,18324.155000000002,"-","-","-","-","-","-","-","-","-","-","-"]
[null,"Régimen ordinario",14639,12794,13716,13840,15099,15718,17914,17267,16271,16221,14683,16118,16374,15056,14843,14665,15017,16165,18299,19302,17093,16007,15675,17710,17763,15200,15536,14229,15224,16246,18807,19440,16520,17370,15554,16209,16968.973000000002,15277.298000000001,16391.032999999999,15031.979000000001,15720.385,16870.704999999998,19071.762000000002,20622.5,17878.492999999999,16855.311999999998,16849.147000000001,17678.84,17186.294000000002,15689.798000000001,16341.488000000001,14934.203000000001,16253.775000000001,17412.661,18878.398999999998,20185.492999999999,18032.703999999998,17605.522000000001,16908.837,18370.72,18987.374,18439.042000000001,17598.366000000002,16009.609,17076.057000000001,18288.377,20068.276000000002,20975.616999999998,17765.184000000001,17457.093000000001,15638.323,16659.874,17115.314999999999,15530.971,15812.071,15148.964,16038.154,15760.982,18177.821,19692.631000000001,17663.716,16886.451000000001,16654.163,17067.409,"-","-","-","-","-","-","-","-","-","-","-","-","-","-","-","-","-","-","-","-","-","-","-","-","-","-","-","-","-","-","-","-","-","-","-","-","-","-","-","-","-","-","-","-","-","-","-","-","-","-","-","-","-","-","-","-","-","-","-","-"]
[null,"Solar fotovoltaica",0,0,0,0,0,0,0,0,0,0,0,0,1,0,0,0,0,1,1,1,1,0,1,0,8,17,22,28,9,8,8,8,7,6,0,1,1,5,6,7,9,1,8,9,7,6,5,3,4,7,7,7,8,8,7,6,5,5,4,4,5,7,7,9,9,9,9,8,7,6,4,4,5,5,7,7,9,9,8,8,7,7,5,4,4,6,8,9,9,9,9,9,7,7,4,4,5,5,8,6,8,8,9,7,7,6,5,4,4,6,8,9,9,8,7,8,7,5,4,3,4,4,6,7,8,8,8,7,8,7,5,4,0,"-","-","-","-","-","-","-","-","-","-","-"]
[null,"Térmica no renovable/Cogeneración y resto/Cogeneración",747,694,836,656,886,845,733,805,275,611,799,853,937,797,849,810,755,694,0,0,0,0,0,0,819,726,782,888,819,747,783,727,707,1,0,736,699,606,781,808,921,710,772,797,897,486,0,551,929,796,861,747,674,670,765,676,693,209,16,0,0,0,0,63,0,0,0,171,552,47,672,804,781,648,605,726,627,794,679,647,611,893,165,863,878,853,900,784,684,655,775,700,720,789,179,981,0,0,0,0,0,0,0,0,0,0,0,0,0,0,0,0,0,0,0,0,0,0,0,0,0,0,0,0,0,0,0,0,0,0,0,0,0,"-","-","-","-","-","-","-","-","-","-","-"]
[null,"Residuos no renovables","-","-","-","-","-","-","-","-","-","-","-","-","-","-","-","-","-","-","-","-","-","-","-","-","-","-","-","-","-","-","-","-","-","-","-","-","-","-","-","-","-","-","-","-","-","-","-","-","-","-","-","-","-","-","-","-","-","-","-","-","-","-","-","-","-","-","-","-","-","-","-","-","-","-","-","-","-","-","-","-","-","-","-","-","-","-","-","-","-","-","-","-","-","-","-","-",406,384.5,399.5,384.5,399.5,362.5,306,330.5,349.5,424,110.5,438.5,487,413,388,450,371.5,406.5,395,402.5,414.5,504.5,111,506.5,452,426,438,421,450.5,434.5,425.5,341,449,497.5,87.5,555,371.78149999999999,"-","-","-","-","-","-","-","-","-","-","-"]
[null,"Residuos renovables","-","-","-","-","-","-","-","-","-","-","-","-","-","-","-","-","-","-","-","-","-","-","-","-","-","-","-","-","-","-","-","-","-","-","-","-","-","-","-","-","-","-","-","-","-","-","-","-","-","-","-","-","-","-","-","-","-","-","-","-","-","-","-","-","-","-","-","-","-","-","-","-","-","-","-","-","-","-","-","-","-","-","-","-","-","-","-","-","-","-","-","-","-","-","-","-",406,384.5,399.5,384.5,399.5,362.5,306,330.5,349.5,424,110.5,438.5,487,413,388,450,371.5,406.5,395,402.5,414.5,504.5,111,506.5,452,426,438,421,450.5,434.5,425.5,341,449,497.5,87.5,555,371.78149999999999,"-","-","-","-","-","-","-","-","-","-","-"]
[null,"Régimen especial",747,694,836,656,886,845,733,805,275,611,799,853,938,797,849,810,755,695,1,1,1,0,1,0,827,743,804,916,828,755,791,735,714,7,0,737,700,611,787,815,930,711,780,806,904,492,5,554,933,803,868,754,682,678,772,682,698,214,20,4,5,7,7,72,9,9,9,179,559,53,676,808,786,653,612,733,636,803,687,655,618,900,170,867,"-","-","-","-","-","-","-","-","-","-","-","-","-","-","-","-","-","-","-","-","-","-","-","-","-","-","-","-","-","-","-","-","-","-","-","-","-","-","-","-","-","-","-","-","-","-","-","-","-","-","-","-","-","-","-","-","-","-","-","-"]
[null,"Generación",15386,13488,14552,14496,15985,16563,18647,18072,16546,16832,15482,16971,17312,15853,15692,15475,15772,16860,18300,19303,17094,16007,15676,17710,18590,15943,16340,15145,16052,17001,19598,20175,17234,17377,15554,16946,17668.973000000002,15888.298000000001,17178.032999999999,15846.978999999999,16650.384999999998,17581.705000000002,19851.761999999999,21428.5,18782.492999999999,17347.312000000002,16854.147000000001,18232.84,18119.294000000002,16492.797999999999,17209.488000000001,15688.203,16935.775000000001,18090.661,19650.399000000001,20867.492999999999,18730.704000000002,17819.522000000001,16928.837,18374.72,18992.374,18446.042000000001,17605.366000000002,16081.609,17085.057000000001,18297.377,20077.276000000002,21154.616999999998,18324.184000000001,17510.093000000001,16314.323,17467.874,17901.314999999999,16183.971,16424.071,15881.964,16674.153999999999,16563.982,18864.821,20347.631000000001,18281.716,17786.451000000001,16824.163,17934.409,18003.384999999998,16105.213,17021.309000000001,15727.156000000001,16575.368999999999,17193.77,18831.48,19811.751,18718.125,17689.238000000001,16498.987000000001,17695.03,18471.713,16890.182000000001,16709.5,15812.97,16735.740000000002,17202.23,21687,21180.359,17765.901999999998,17395.39,16375.924000000001,17258.080999999998,17069.574000000001,16128.295,15914.811,16212.992,16460.428,17318.733,18783.884999999998,20486.901000000002,18717.054,17609.343000000001,16466.307000000001,17177.523000000001,18577.7,15586.686,15982.954,15598.365,16463.276000000002,18022.092000000001,19697.244999999999,20800.11,17845.069,17548.673999999999,16420.355,18053.646000000001,19067.718000000001,"-","-","-","-","-","-","-","-","-","-","-"]
[null,"Demanda transporte (b.c.)",15386,13488,14552,14496,15985,16563,18647,18072,16546,16832,15482,16971,17312,15853,15692,15475,15772,16860,18300,19303,17094,16007,15676,17710,18590,15943,16340,15145,16052,17001,19598,20175,17234,17377,15554,16946,17668.973000000002,15888.298000000001,17178.032999999999,15846.978999999999,16650.384999999998,17581.705000000002,19851.761999999999,21428.5,18782.492999999999,17347.312000000002,16854.147000000001,18232.84,18119.294000000002,16492.797999999999,17209.488000000001,15688.203,16935.775000000001,18090.661,19650.399000000001,20867.492999999999,18730.704000000002,17819.522000000001,16928.837,18374.72,18992.374,18446.042000000001,17605.366000000002,16081.609,17085.057000000001,18297.377,20077.276000000002,21154.616999999998,18324.184000000001,17510.093000000001,16314.323,17467.874,17901.314999999999,16183.971,16424.071,15881.964,16674.153999999999,16563.982,18864.821,20347.631000000001,18281.716,17786.451000000001,16824.163,17934.409,18003.384999999998,16105.213,17021.309000000001,15727.156000000001,16575.368999999999,17193.77,18831.48,19811.751,18718.125,17689.238000000001,16498.987000000001,17695.03,18471.713,16890.182000000001,16709.5,15812.97,16735.740000000002,17202.23,21687,21180.359,17765.901999999998,17395.39,16375.924000000001,17258.080999999998,17069.574000000001,16128.295,15914.811,16212.992,16460.428,17318.733,18783.884999999998,20486.901000000002,18717.054,17609.343000000001,16466.307000000001,17177.523000000001,18577.7,15586.686,15982.954,15598.365,16463.276000000002,18022.092000000001,19697.244999999999,20800.11,17845.069,17548.673999999999,16420.355,18053.646000000001,19067.718000000001,"-","-","-","-","-","-","-","-","-","-","-"]
[]
[null,"Balance eléctrico mensual nacional (GWh)","2007-01-01","2007-02-01","2007-03-01","2007-04-01","2007-05-01","2007-06-01","2007-07-01","2007-08-01","2007-09-01","2007-10-01","2007-11-01","2007-12-01","2008-01-01","2008-02-01","2008-03-01","2008-04-01","2008-05-01","2008-06-01","2008-07-01","2008-08-01","2008-09-01","2008-10-01","2008-11-01","2008-12-01","2009-01-01","2009-02-01","2009-03-01","2009-04-01","2009-05-01","2009-06-01","2009-07-01","2009-08-01","2009-09-01","2009-10-01","2009-11-01","2009-12-01","2010-01-01","2010-02-01","2010-03-01","2010-04-01","2010-05-01","2010-06-01","2010-07-01","2010-08-01","2010-09-01","2010-10-01","2010-11-01","2010-12-01","2011-01-01","2011-02-01","2011-03-01","2011-04-01","2011-05-01","2011-06-01","2011-07-01","2011-08-01","2011-09-01","2011-10-01","2011-11-01","2011-12-01","2012-01-01","2012-02-01","2012-03-01","2012-04-01","2012-05-01","2012-06-01","2012-07-01","2012-08-01","2012-09-01","2012-10-01","2012-11-01","2012-12-01","2013-01-01","2013-02-01","2013-03-01","2013-04-01","2013-05-01","2013-06-01","2013-07-01","2013-08-01","2013-09-01","2013-10-01","2013-11-01","2013-12-01","2014-01-01","2014-02-01","2014-03-01","2014-04-01","2014-05-01","2014-06-01","2014-07-01","2014-08-01","2014-09-01","2014-10-01","2014-11-01","2014-12-01","2015-01-01","2015-02-01","2015-03-01","2015-04-01","2015-05-01","2015-06-01","2015-07-01","2015-08-01","2015-09-01","2015-10-01","2015-11-01","2015-12-01","2016-01-01","2016-02-01","2016-03-01","2016-04-01","2016-05-01","2016-06-01","2016-07-01","2016-08-01","2016-09-01","2016-10-01","2016-11-01","2016-12-01","2017-01-01","2017-02-01","2017-03-01","2017-04-01","2017-05-01","2017-06-01","2017-07-01","2017-08-01","2017-09-01","2017-10-01","2017-11-01","2017-12-01","2018-01-01","2018-02-01","2018-03-01","2018-04-01","2018-05-01","2018-06-01","2018-07-01","2018-08-01","2018-09-01","2018-10-01","2018-11-01","2018-12-01"]
[null,"Hidráulica",1920.0478000000003,2539.7347,3412.3603999999996,2337.7021,2328.2846,1896.4941999999999,2152.4522999999999,1514.2806,1189.9214999999999,1525.5493000000001,1152.0925,1010.0581,1052.9718,724.43350000000009,774.5612000000001,2158.8984000000028,2756.8809000000001,2593.9364999999998,1801.4576,1275.0206000000001,1101.1437999999998,904.63950000000011,1192.6748000000002,1959.02,1753.4290999999998,2852.5814999999998,2234.3775999999998,1704.1587,2008.6723999999999,1659.6541999999999,1393.0593999999999,1167.1748,750.34090000000003,1028.1299000000001,1560.9612999999999,2619.7628999999997,4414.2761132999995,3450.7255615999998,5031.7780444,4029.8561307,3174.5390475999998,2946.0881532000003,2437.1694070000003,1695.0818135,1249.4073436999997,1282.6130285000002,2043.8580677,3254.0614768999999,4452.6179633060001,2489.5449081979996,3179.3737100999997,2947.9286343640001,2303.8190585580001,1656.8643463960002,1275.667963936,1226.754154882,987.62639421200004,1058.4860482879999,1728.4718566200004,1735.21487035,1290.8354821600001,892.93011502000013,986.88043857999992,1274.3038001159998,1893.1437641940004,1663.7087523760001,1333.759449704,1069.821452312,836.67316930199979,1119.087479006,1575.4273045339999,2041.313122994,2346.31781026,2863.5976818160002,3778.6305351000001,4543.6187317780004,3031.87805385,2542.564553832,2184.2292828140003,1739.652574466,1523.9424708719998,1522.3665315180001,2278.7143926239996,1931.9919450100001,3475.8993178300002,5004.8099078599998,4483.1102180580001,4171.2361138279994,2211.6758872419996,1958.705239572,1871.228496684,1639.2983342280002,1440.6196519580001,1271.1454530799999,1906.2266791900001,2608.923207674,2567.1918793640002,3559.704091526,3844.5106837779999,2655.8204394859999,2936.1983491780002,2486.260150308,2054.9406936880005,1635.2812370920003,1601.96407989,1646.8904025439999,1887.9922419959998,1439.095957106,3440.8932849500002,3971.9887079039995,4363.1624379659997,5231.6080089240004,5085.4276365120004,2938.3612728839998,2265.1297052260002,2041.0086219440004,1654.0873034399999,1633.1335515920002,1494.023942218,1844.6384335419998,2043.4255533339997,1953.2224518620003,2697.100922736,1714.8067434679999,1923.6385081559999,1638.0986847759998,1193.3238079520002,1085.5641187339997,1187.7925104380001,828.61692537800002,842.64949153200007,1254.1674266699997,2152.8710000000001,"-","-","-","-","-","-","-","-","-","-","-"]
[null,"Turbinación bombeo",260.2432,277.11529999999999,268.91759999999999,205.37789999999998,278.33539999999999,249.37780000000001,233.46469999999999,259.9674,242.14749999999998,221.90069999999997,268.90849999999995,336.8449,301.58519999999999,293.51349999999996,281.25579999999997,153.34059999999999,144.25110000000001,199.67849999999999,177.6474,133.56139999999999,158.58920000000001,208.00149999999996,287.87919999999997,322.44799999999998,344.55889999999994,274.42450000000002,197.03039999999999,179.03129999999999,173.24859999999998,157.21579999999997,168.71259999999998,171.5042,178.14509999999999,198.88609999999997,278.25069999999994,334.92410000000001,529.60983670000007,388.30555539999995,381.26509259999995,212.21241929999999,195.96443439999999,161.10858679999998,139.41769099999999,161.80076849999998,163.58696829999997,242.28118949999995,225.55656829999995,319.33869309999994,283.94490769399999,172.14437780200001,234.3481209,201.526885636,111.13141044199999,97.401727604000001,102.43908606400001,120.019735118,138.437161788,216.20731071200001,224.26137738,281.67412965,318.69145184000001,266.29888497999997,265.75549541999999,307.58115988400004,223.421483806,199.61285362400002,195.82272629600001,256.54768168800001,270.24170669800003,283.98781499400002,276.84362946600004,337.08485500600005,372.34012374000002,342.600296184,457.14945289999997,370.51571222199999,251.14840015000001,216.49426816800002,175.260815186,163.016439534,139.951745128,216.268290482,246.284607376,338.64703298999996,443.67862617000003,369.22198314000002,354.77524994200002,361.18861317199998,275.95647575800001,207.70265442800002,170.77235531599999,151.65694177199998,160.19068604199998,267.50232792000003,326.90832081000002,326.44179232599998,319.02103063599998,291.33964547400001,327.144737222,255.86272351400001,253.000755822,125.366838692,110.974045312,202.46425890799998,162.10553811,249.57726645600002,276.57492800400001,332.09329889399999,454.98487605000003,513.53040309599999,351.10246903400002,429.29966807599999,316.01911348800002,169.55252211600001,96.849533773999994,110.35765205600001,101.23997756,161.43736240799998,258.23356678200003,250.884576458,291.21301766599998,267.73958013800001,241.22357426400001,199.433449532,162.454982844,91.897749223999995,98.826694048000007,112.205176266,118.523846562,133.817345622,222.08938846799998,309.56905332999997,250.71520000000001,"-","-","-","-","-","-","-","-","-","-","-"]
[null,"Nuclear",5319.1580000000004,4778.3050000000003,4947.4629999999997,4342.93,3485.058,3161.45,3855.7460000000001,3976.62,4877.2839999999997,4891.0659999999998,3934.346,5069.5010000000002,5322.9409999999998,5119.9319999999998,5354.7060000000001,4039.7550000000001,4689.7039999999997,4579.7330000000002,4541.0349999999999,5013.9489999999996,4482.3890000000001,4314.4620000000004,4045.8270000000002,4955.8580000000002,5438.39,4335.1400000000003,3949.223,4063.489,3687.607,3530.33,3998.25,5278.1620000000003,4387.8469999999998,3957.8240000000001,3973.4949999999999,3949.6880000000001,4480.6099999999997,4635.9830000000002,4877.9646469999998,4894.268,4417.8689999999997,4693.97,5399.9840000000004,5421.2550000000001,5066.8190000000004,5429.7690000000002,5094.6189999999997,4829.2110000000002,4718.777,4271.59,4332.2643109999999,4457.3370000000004,3640.74,4702.2290000000003,4823.0249999999996,5271.61,4983.1229999999996,4499.7290000000003,4546.8770000000004,4856.63,5171.7839999999997,5146.0450000000001,5472.3729999999996,5200.7150000000001,4487.326,3504.3710000000001,5098.692,5457.9219999999996,5300.0649999999996,5396.02,4070.386,4361.2879999999996,4582.8119999999999,4425.6019999999999,5210.3209999999999,4458.8410000000003,3995.2890000000002,4334.933,5136.4780000000001,5025.3630000000003,4740.6139999999996,4342.4009999999998,4067.681,3986.5520000000001,4535.384,4723.7730000000001,5288.5060000000003,5057.6959999999999,4341.3779999999997,3439.377,4262.5479999999998,4221.3969999999999,4806.0709999999999,5129.5820000000003,4369.2830000000004,4695.2439999999997,5242.7219999999998,4720.8609999999999,5205.7860000000001,4690.1409999999996,3554.4010480000002,3771.7689999999998,4798.9250000000002,4963.9790000000003,4873.9170000000004,4095.259,3973.4929999999999,4863.5860000000002,4615.6859999999997,3973.2069999999999,5191.7529999999997,5055.57,3891.866,4819.2470000000003,5178.0649999999996,5151.8209999999999,5009.8950000000004,5096.1009999999997,3774.5970000000002,4341.1639999999998,5285.3739999999998,4768.268,5270.7340000000004,4928.7539999999999,4143.7839999999997,4049.538,4393.4089999999997,5080.2929999999997,4725.6310000000003,4310.2259999999997,3615.6709999999998,5037.24,5088.7084999999997,"-","-","-","-","-","-","-","-","-","-","-"]
[null,"Carbón",6355.9290000000001,5122.8689999999997,5084.009,6098.4139999999998,6219.9310000000005,5996.3879999999999,6220.3989999999994,6178.9250000000002,5753.5960000000005,5577.9750000000004,5687.9780000000001,6333.69,5268.5780000000004,4867.5980000000009,3927.5260000000003,3323.2709999999997,2421.4650000000001,2321.1170000000002,3976.9629999999997,3367.8240000000001,3731.902,4344.1439999999993,4316.3040000000001,4641.6710000000003,4771.5609999999997,3283.0160000000001,3194.9989999999998,2027.452,2501.1990000000001,2745.4129999999996,3511.5260000000003,2102.6730000000002,2949.413,3336.002,2251.8330000000001,2117.9380000000001,1984.722964,1620.4064370000001,1128.3404140000002,904.4831099999999,1053.230108,1601.6091620000002,2742.5060000000003,3122.487928,3256.4198250000004,2204.4321009999999,1819.434667,2262.5406840000001,2317.9490940000001,2688.5375240000003,3114.9868590000001,2636.293561,3202.2224959999999,2982.2018439999997,4478.8947290000006,4355.3382540000002,4935.4912349999995,4481.8416289999996,4047.311404,4025.6256289999997,5420.7886419999995,5503.6138369999999,4674.8311439999998,2723.9471229999999,4013.7438219999999,5305.8050000000003,4946.9890000000005,5091.3140000000003,4045.915,4244.0140369999999,4076.3720000000003,3766.0839999999998,3069.549,2589.366,1444.32,1079.71,2089.6330000000003,2664.9409999999998,5473.6450000000004,4622.5050000000001,4769.3790000000008,4201.7021700000005,2679.560602,4843.2529999999997,2299.6970000000001,906.38099999999997,1309.4750000000001,1396.712,3372.1858039999997,5214.5529999999999,5612.7840000000006,5291.3990000000003,5911.97,4547.2020000000002,3234.9090000000001,4223.0349999999999,5080.8930799999998,3113.2180399999997,2764.9660000000003,3026.5721089999997,2957.1604540000003,5516.3035399999999,6282.2818219999999,5453.0897719999994,4797.4280559999997,4387.6389789999994,4681.7661900000003,4727.7226219999993,2676.173241,1906.2928549999999,1795.6659729999999,1055.057986,1233.321087,2278.8534719999998,3945.654931,3663.8701080000001,4561.0403310000002,4508.0514950000006,4638.0322109999997,5229.2586120000005,5387.1972139999998,3516.0253990000001,1969.1444119999999,2091.3300790000003,3763.7099760000001,4558.488824,4313.7476999999999,3241.8860490000002,3073.6484880000003,4107.6899059999996,4827.6671139999999,4345.7332610000003,3227.8009929999998,"-","-","-","-","-","-","-","-","-","-","-"]
[null,"Fuel + Gas",768.6,809.29600000000005,838.596,760.79700000000003,775.88300000000004,747.34100000000001,950.17899999999997,946.66399999999999,919.39,799.77,841.274,830.67499999999995,829.66100000000006,776.97799999999995,690.65699999999993,738.39300000000003,796.62799999999993,853.54200000000003,852.61299999999994,943.85699999999997,880.45299999999997,850.27800000000002,839.86,834.64599999999996,768.62099999999998,673.43399999999997,795.63,680.08900000000006,729.07300000000009,778.62199999999996,889.54100000000005,870.26300000000003,821.12954200000001,758.47799999999995,740.34751200000005,771.07600000000002,769.16592200000014,680.88749999999982,622.58834999999999,645.15955300000007,743.36511300000006,767.24708999999996,791.55072799999994,801.00316300000009,775.18720799999994,725.47373100000004,741.36895700000014,758.76250100000016,594.46196099999997,548.13641900000005,628.73061000000007,550.15159600000004,557.56008599999984,542.76850400000001,647.65554300000008,646.04798199999993,617.66063399999996,597.759548,529.63905899999986,563.86776599999996,595.02567899999985,558.84153600000013,581.4469160000001,539.54576300000008,552.35293499999989,588.50467299999991,639.53546399999993,690.0367839999999,609.933943,604.058763,565.98287499999992,572.94640199999992,532.66472899999997,506.30962900000003,545.41229299999998,508.11154999999997,519.77221799999995,501.987346,602.74917900000003,626.30885999999998,562.466453,572.35046799999998,533.84648600000003,561.82555000000002,547.60081200000002,488.23519400000004,469.5920680000001,459.03594500000003,476.65172900000005,526.14371499999993,571.8504989999999,590.03464600000007,570.07531000000006,527.43748799999992,484.29922300000004,545.77096299999994,543.26087299999995,491.748515,513.332629,474.64373399999999,512.16199800000004,541.06126199999994,631.12966299999994,638.96411599999999,609.24020499999995,513.03766000000007,471.43111900000002,556.63920300000007,558.98156400000005,515.02531699999997,549.77587699999992,508.834249,511.64875999999998,554.64312699999994,627.29600199999993,672.29103299999997,608.87011400000006,576.0359840000001,499.50138099999992,581.64503200000001,564.00679699999989,499.08204199999994,539.15624100000002,558.70332700000006,573.52507600000001,618.8777,663.34545100000003,683.98383700000011,604.86058100000002,594.67674600000009,541.16824400000007,569.68291799999997,577.55366200000003,"-","-","-","-","-","-","-","-","-","-","-"]
[null,"Ciclo combinado",6359.7610000000004,4080.7000000000003,4156.2129999999997,4273.4560000000001,4686.4580000000005,6528.933,6999.7269999999999,5503.9960000000001,5974.326,6466.7110000000002,7970.268,7599.5889999999999,8292.021999999999,8254.7870000000003,7091.7349999999997,7235.1049999999996,7505.3360000000002,7943.0940000000001,9260.9190000000017,8622.5419999999995,8167.759,7543.9189999999999,7156.8680000000004,6123.4529999999995,6394.8369999999995,4731.2190000000001,5388.1019999999999,5722.3029999999999,5822.0680000000002,7920.2789999999995,8907.5990000000002,8556.3119999999999,7707.5259999999998,6844.3010000000004,5793.1239999999998,6436.125,5621.9420650000002,5052.5037549999997,4384.9885919999997,4612.7417769999993,4834.0750719999996,5727.7229470000002,7160.3432119999998,6106.9485729999997,6544.5626990000001,5651.8631519999999,5881.4311129999996,5219.8611950000004,5357.8028379999996,4918.2779559999999,4328.05987,3079.8573809999998,4480.5739949999997,5207.2115969999995,4853.8780049999996,5091.4672199999995,4843.1770889999998,4096.5522579999997,3732.806521,3667.6058979999998,4550.816683,4236.0278829999997,3352.2137270000003,2485.3611889999997,2702.1673509999996,3418.6407119999999,3694.776656,3827.2448949999998,3194.7783510000004,3541.4010209999997,3221.146659,3075.423538,2923.0959130000001,2233.4364020000003,1783.2560400000002,1390.2393050000001,1923.9943190000001,1640.0760009999999,2520.2975040000001,2665.8331080000003,2506.6999999999998,2852.639095,2316.1537779999999,3071.1162589999999,1833.13393,1541.5453049999999,1616.1849179999999,1520.9307210000002,1736.4137759999999,2041.9860920000001,2149.1419169999999,2511.653084,2994.6609210000001,2526.5715639999999,2309.4357760000003,2293.4695470000001,2521.0563010000001,1980.7948249999999,1918.4897619999999,2039.256764,1964.8185550000001,2169.9870989999999,3743.5810409999999,2621.2569169999997,2296.6953170000002,2556.0560369999998,2481.0695129999999,2997.6873089999999,2218.4708339999997,1638.7677440000002,1687.892951,1470.6548319999999,1789.8288790000001,2142.6925230000002,2638.6672639999997,2295.6537960000001,2410.8169469999998,3612.8551219999999,3771.2423739999999,3582.8581290000002,3252.498748,1797.2865979999999,1732.604155,1504.427803,1900.330762,3402.6607940000004,3979.0981430000002,3797.681881,3465.220902,4204.4185219999999,4912.2516849999993,3348.0086240000001,2562.8154630000004,"-","-","-","-","-","-","-","-","-","-","-"]
[null,"Régimen ordinario",20983.739000000001,17608.02,18707.558999999997,18018.677,17773.95,18579.984,20411.968000000001,18380.453000000001,18956.665000000001,19482.972000000002,19854.866999999998,21180.358,21067.758999999998,20037.241999999998,18120.440999999999,17648.763000000003,18314.264999999999,18491.100999999999,20610.635000000002,19356.754000000001,18522.235999999997,18165.444,17839.413,18837.095999999998,19471.396999999997,16149.814999999999,15759.361999999997,14376.523000000001,14921.868000000002,16791.513999999999,18868.688000000002,18146.089,16794.401542,16123.620999999999,14598.011512000001,16229.513999999999,17800.326901,15828.811808999997,16426.925139999999,15298.720989999998,14419.042774999998,15897.745939000002,18670.971038000003,17308.577246000001,17055.983044000001,15536.432202,15806.268372999999,16643.775550000002,17725.553764,15088.231185000001,15817.763481000002,13873.095058000001,14296.047046,15188.677018999999,16181.560326999999,16711.237345999998,16505.515513999999,14950.575793999998,14809.367217999999,15130.618293,17347.941938,16603.757256000001,15333.500721,12531.454034999999,13872.155355999999,14680.642991000001,15909.575296000001,16392.886812999997,14257.607169999999,15188.569115,13786.158468,14154.139918000001,13826.779576000001,12960.912009,13219.089320999999,12351.036298999999,11811.714990999999,11900.996168999998,16092.659781000002,14842.678982000001,14243.053669000001,13707.727555000001,12122.240866,14733.385786999999,"-","-","-","-","-","-","-","-","-","-","-","-","-","-","-","-","-","-","-","-","-","-","-","-","-","-","-","-","-","-","-","-","-","-","-","-","-","-","-","-","-","-","-","-","-","-","-","-","-","-","-","-","-","-","-","-","-","-","-","-"]
[null,"Hidroeólica","-","-","-","-","-","-","-","-","-","-","-","-","-","-","-","-","-","-","-","-","-","-","-","-","-","-","-","-","-","-","-","-","-","-","-","-","-","-","-","-","-","-","-","-","-","-","-","-","-","-","-","-","-","-","-","-","-","-","-","-","-","-","-","-","-","-","-","-","-","-","-","-","-","-","-","-","-","-","-","-","-","-","-","-","-","-","-","-","-","-","-",0.31481300000000001,0.161525,0.19547100000000001,0.201015,0.19872599999999999,0.41617599999999999,0.37487300000000001,0.243784,0.125636,0.242058,0.36242099999999999,2.0829909999999998,1.9288240000000001,0.74199999999999999,0.48464600000000002,0.88297099999999995,0.670686,0.81410000000000005,1.7795260000000002,1.522376,1.303018,0.92346299999999992,2.0026199999999998,2.580273,2.2239,2.171967,0.73335400000000006,1.0128509999999999,1.035191,1.084578,1.4479919999999999,2.1297550000000003,0.99451599999999996,1.495018,2.2291950000000003,3.1143130000000001,2.4583380000000004,2.340878,0.99089499999999997,0.81137000000000004,1.3016679999999998,2.27014,"-","-","-","-","-","-","-","-","-","-","-"]
[null,"Hidráulica/Resto hidráulica",345.48899999999998,478.79599999999999,516.02800000000002,529.75900000000001,509.19,412.91699999999997,302.29399999999998,256.69099999999997,186.381,186.98000000000002,190.15099999999998,211.82500000000002,340.49299999999999,233.46199999999999,301.47399999999999,581.11099999999999,613.46399999999994,581.87,380.714,264.678,212.28,190.523,400.12099999999998,539.62599999999998,521.06399999999996,629.61599999999999,560.02,501.49200000000002,577.14200000000005,468.387,365.35300000000001,282.64999999999998,242.869,230.81,466.05,608.61800000000005,764.37,616.57799999999997,784.76,690.19600000000003,688.34299999999996,608.94799999999998,459.60300000000001,341.74799999999999,281.05,318.88900000000001,567.66,702.17499999999995,663.64800000000002,506.22,655.86500000000001,588.36700000000008,489.70300000000003,405.38899999999995,384.43099999999998,304.97299999999996,235.76399999999998,189.24,423.65600000000001,448.73440799999997,336.93943899999999,331.68107499999996,325.02500100000003,468.52787899999998,642.37884499999996,439.77049699999998,337.78873499999997,265.08300199999996,199.02969999999999,269.68972600000001,410.39107300000001,620.03036400000008,667.51160200000004,688.127523,842.4176819999999,845.50599,780.13926700000002,659.12538800000004,535.22726699999998,403.179374,303.20133799999996,342.96671200000003,522.91916300000003,511.88099999999997,783.65599999999995,754.84899999999993,806.46900000000005,776.58499999999992,608.77699999999993,523.70100000000002,480.10599999999999,401.82502099999999,357.68799999999999,363.00200000000001,544.26599999999996,672.07500000000005,"-","-","-","-","-","-","-","-","-","-","-","-","-","-","-","-","-","-","-","-","-","-","-","-","-","-","-","-","-","-","-","-","-","-","-","-","-","-","-","-","-","-","-","-","-","-","-","-"]
[null,"Eólica",2167.7449999999999,2895.3179999999998,3123.877,1382.6190000000001,2641.2139999999999,1818.328,1946.9179999999999,2468.8200000000002,2055.4479999999999,1927.347,2769.181,2414.8360000000002,2664.58,2035.72,4132.3620000000001,3389.4520000000002,1769.2150000000001,2125.6880000000001,2184.1570000000002,2034.3419999999999,2148.0600000000004,2516.4739999999997,3485.3240000000001,3674.4479999999999,3527.9769999999999,3244.2980000000002,3125.3940000000002,3106.5949999999998,2730.5969999999998,2353.5120000000002,2482.25,2293.0889999999999,2489.9910000000004,3138.623,4817.9000000000005,4942.6009999999997,4304.4309999999996,4637.902,4570.1519999999991,2667.3429999999998,3655.8969999999999,2615.31,2845.759,2937.761,2337.395,3967.3230000000003,4366.5439999999999,4639.5129999999999,4030.4670000000001,4053.1610000000001,4714.4639999999999,3423.9059999999999,3185.6109999999999,2975.2040000000002,3310.5589999999997,2781.78,2354.701,3175.6910000000003,3836.2260000000001,4623.6469999999999,3664.9578799999999,5049.4832850000003,3839.7926969999999,5336.9811980000004,3735.0307709999997,3473.6162140000001,3039.8783899999999,3181.7570000000001,3950.891212,3147.3323179999998,4622.2867120000001,5466.3301119999996,6316.8030689999996,5370.0570589999998,5763.1639999999998,4424.9819990000005,3970.8771710000001,3875.7850000000003,2885.9030000000002,3453.5439999999999,3239.1620000000003,3988.547,6458.3490000000002,4966.0729999999994,6569.5279999999993,5917.5259999999998,5096.7740000000003,3978.165,4177.875,3310.9670000000001,3637.1759999999999,2916.5050000000001,2145.3319999999999,3398.893,5093.1319999999996,4788.82,4954.5020000000004,5992.5469999999996,4907.4960519999995,3933.9198799999999,4841.183,2903.93,3113.2939999999999,3287.3440000000001,3020.625,3898.4188899999999,3724.59825,3537.27,5624.5780000000004,6109.5309999999999,5443.9740000000002,4441.2962500000003,3933.1030000000001,3271.335,3521.9422,3652.9459999999999,2713.828,2389.6191900000003,3906.8539999999998,2687.6639999999998,4812.549,4928.5079999999998,4724.3639999999996,4196.17,3465.942,3189.5309999999999,3387.3440000000001,3343.8449999999998,2872.8599999999997,3207.6790000000001,3979.2910000000002,5787.4890000000005,5347.5815320000002,"-","-","-","-","-","-","-","-","-","-","-"]
[null,"Solar fotovoltaica",10.391,12.96,21.983999999999998,26.105999999999998,36.128,40.742000000000004,51.927,56.504000000000005,60.428000000000004,57.695999999999998,54.375999999999998,54.66,59.578000000000003,73.40100000000001,108.56200000000001,131.04400000000001,137.02099999999999,196.40899999999999,240.44200000000001,298.52500000000003,328.08499999999998,334.32799999999997,335.40200000000004,255.15899999999999,261.25799999999998,396.22799999999995,528.73199999999997,569.73800000000006,672.34699999999998,643.83199999999999,717.298,663.41,511.53100000000001,502.20600000000002,361.99299999999999,243.81700000000001,263.11899999999997,305.07099999999997,481.50900000000001,590.40700000000004,711.44200000000001,685.33100000000002,785.81499999999994,723.07,631.37599999999998,548.48400000000004,382.17600000000004,314.97199999999998,356.50800000000004,504.47500000000002,536.09400000000005,661.11799999999994,747.8130000000001,810.57900000000006,855.84499999999991,802.64800000000002,732.96999999999991,628.05799999999999,363.85199999999998,425.15999999999997,504.68700000000001,660.33,770.14300000000003,658.51900000000001,863.505,875.875,941.61799999999994,865.18099999999993,692.37199999999996,595.35799999999995,372.47300000000001,402.029,446.28399999999999,527.67399999999998,566.69600000000003,763.80400000000009,872.91799999999989,930.95299999999997,974.76400000000001,896.60900000000004,759.63499999999999,634.76799999999992,513.57500000000005,439.23899999999998,377.51799999999997,434.38400000000001,735.89800000000002,791.91300000000001,924.375,903.697,951.48400000000004,913.99200000000008,686.95600000000002,647.95300000000009,385.42600000000004,453.97700000000003,518.44286299999999,494.22899999999998,713.271298,755.91261000000009,924.10299999999995,889.255,933.15800000000002,831.90200000000004,722.21187000000009,537.13499999999999,529.70299999999997,393.75200000000001,364.464,480.09399999999999,709.29829999999993,721.4905,807.02800000000002,924.06700000000001,918.53600000000006,895.85400000000004,766.09,584.44900000000007,426.517,379.71100000000001,476.11500000000001,445.32300000000004,716.97400000000005,836.04700000000003,871.65500000000009,880.05899999999997,913.56100000000004,817.43600000000004,774.41300000000001,676.04600000000005,536.57499999999993,429.62799999999999,434.38106300000004,"-","-","-","-","-","-","-","-","-","-","-"]
[null,"Solar térmica",0,0,0.43099999999999999,0.34200000000000003,0.55800000000000005,0.88300000000000001,1.256,1.1160000000000001,0.63900000000000001,1.214,0.997,0.191,1.0840000000000001,0.79700000000000004,1.4610000000000001,0.95799999999999996,0.94199999999999995,1.9630000000000001,2.0379999999999998,1.98,0.85899999999999999,0.86599999999999999,1.27,1.1599999999999999,0.69,1.236,2.323,7.2039999999999997,7.6580000000000004,6.7519999999999998,12.414,23.867999999999999,17.539000000000001,23.446000000000002,16.183,10.51,13.151999999999999,11.682,23.731999999999999,36.92,69.084000000000003,72.531999999999996,104.59,121.9,100.917,71.745000000000005,31.619,33.747,34.25,88.656999999999996,98.456999999999994,137.833,154.07300000000001,232.48400000000001,284.20800000000003,235.32900000000001,228.55799999999999,172.91200000000001,80.436999999999998,85.159000000000006,117.342,200.34200000000001,235.113,177.77699999999999,348.38200000000001,414.74900000000002,541.31700000000001,485.12700000000001,368.64299999999997,285.79500000000002,133.96199999999999,135.58500000000001,113.494,204.00899999999999,125.37,300.89400000000001,499.26799999999997,647.33000000000004,758.52300000000002,661.85599999999999,478.95499999999998,294.24200000000002,199.22399999999999,158.36199999999999,79.801000000000002,103.265,385.17500000000001,435.52699999999999,729.93600000000004,687.28800000000001,811.15300000000002,833.178,389.596,289.33699999999999,90.186999999999998,124.47199999999999,176.95099999999999,190.92500000000001,415.82900000000001,393.16,694.83900000000006,734.05399999999997,888.91800000000001,607.62300000000005,483.25,188.16900000000001,226.81800000000001,84.698999999999998,59.914000000000001,133.01,387.86099999999999,408.32299999999998,498.79500000000002,813.99099999999999,825.32500000000005,805.81899999999996,595.62699999999995,284.70299999999997,139.69999999999999,118.136,149.21199999999999,88.741,340.84500000000003,535.255,607.89800000000002,761.90200000000004,812.88,692.43499999999995,608.14,398.79300000000001,220.65199999999999,131.196,130.07689999999999,"-","-","-","-","-","-","-","-","-","-","-"]
[null,"Térmica renovable/Otras renovables",216.57900000000001,190.44399999999999,202.655,201.31399999999999,212.92099999999999,208.53500000000003,222.32499999999999,223.34399999999999,210.393,242.72399999999999,222.18800000000002,235.54599999999999,240.54300000000001,235.363,243.89999999999998,241.16800000000001,240.34899999999999,235.23099999999999,223.648,239.89500000000001,225.512,247.172,248.54500000000002,247.38200000000001,267.15800000000002,253.47299999999998,264.57600000000002,300.05200000000002,272.99799999999999,253.04599999999999,260.84899999999999,260.46300000000002,287.976,347.83600000000001,272.58799999999997,276.327,274.84199999999998,245.35900000000001,262.31099999999998,277.04300000000001,300.03700000000003,288.51100000000002,278.10199999999998,284.791,267.96199999999999,284.303,273.09999999999997,295.99899999999997,360.32499999999999,334.40699999999998,355.24599999999998,356.64,335.76299999999998,336.97399999999999,358.63499999999999,356.02099999999996,375.80200000000002,383.84299999999996,376.08700000000005,388.24636300000003,394.35710999999998,373.43272300000001,398.84319799999997,372.66191600000002,361.52463499999999,406.76686599999999,422.10672299999999,401.27762000000001,373.84606100000002,413.891459,401.555475,434.50466799999998,436.52267400000005,415.74157700000001,453.79920099999998,422.25598100000002,438.81170000000003,393.22358099999997,432.786744,418.17954099999997,398.67487700000004,405.47619700000001,414.20800000000003,445.01599999999996,424.45600000000002,332.233,366.40699999999998,339.55800000000005,410.952,407.03699999999998,412.22,446.01172200000002,422.947,388.49400000000003,373.56199999999995,404.851,240.00928999999999,206.32529,234.65600000000001,180.423,226.98099999999999,277.27029800000003,300.35291799999999,312.37200000000001,302.41299999999995,311.08697000000001,304.67399999999998,287.41300000000001,269.97300000000001,261.56792000000002,255.63013999999998,209.99540000000002,277.22199999999998,287.56,311.08,326.72672,307.66200000000003,306.35834,304.59899999999999,306.185,327.21600000000001,289.71999999999997,269.56099999999998,232.803,298.786,302.45600000000002,333.50299999999999,316.86700000000002,310.01100000000002,310.94499999999999,307.709,313.24099999999999,302.69605000000001,"-","-","-","-","-","-","-","-","-","-","-"]
[null,"Térmica no renovable/Cogeneración y resto/Cogeneración",1995.5450000000001,1768.9959999999999,1879.5849999999998,1844.2359999999999,1838.9460000000001,1904.7730000000001,2000.027,1879.0259999999998,1965.914,2104.393,2108.9319999999998,2160.0570000000002,2263.8589999999999,2239.8829999999998,2285.25,2241.5010000000002,2119.1759999999999,2090.9559999999997,2229.8599999999997,2028.0640000000001,2188.578,2370.777,2326.19,2337.056,2435.4610000000002,2252.732,2408.4,2350.433,2364.2140000000004,2321.6890000000003,2408.567,2045.8420000000001,2349.3010000000004,2475.8960000000002,2583.23,2604.9659999999999,2672.7280000000001,2486.873,2628.8110000000001,2562.366,2593.181,2552.884,2625.9669999999996,2177.1619999999998,2550.5650000000001,2661.3690000000001,2677.2269999999999,2784.1910000000003,2796.9879999999998,2610.8319999999999,2895.174,2706.5819999999999,2734.9050000000002,2601.5860000000002,2665.2939999999999,2230.6089999999999,2664.549,2787.1820000000002,2771.509,2853.5859999999998,2953.8130000000001,2799.4249999999997,2938.2000000000003,2833.3379999999997,2870.8989999999999,2704.0389999999998,2812.6610000000001,2379.1909999999998,2765.1979999999999,2920.4010000000003,2862.3199999999997,2927.7640000000001,3021.6349999999998,2704.5899999999997,2900.9970000000003,2799.471,2837.9189999999999,2677.81,2682.4589999999998,2123.2829999999999,2588.922,2637.34,2631.232,2690.721,2699.431,1996.249,1915.193,1734.681,2072.8940000000002,2222.1299999999997,2283.788,2126.6960000000004,2284.6910000000003,2294.8229999999999,2087.91,2167.3380000000002,2225.9259999999999,1964.058,2120.3530000000001,2034.8821599999999,2124.3719999999998,2074.5451599999997,2170.1669999999999,2044.5060000000001,2156.192,2218.0360000000001,2132.4720000000002,2183.9849999999997,2131.625,1970.7746400000001,2072.5729300000003,1995.5405800000001,2115.7290000000003,2171.085,2242.6869000000002,2123.5298000000003,2138.076,2321.3920000000003,2298.5420000000004,2325.0570000000002,2449.982,2205.9930000000004,2391.2149999999997,2233.3510000000001,2326.5169999999998,2315.422,2398.1590000000001,2256.9229999999998,2271.835,2387.9479999999999,2437.5800000000004,2489.6529999999998,2539.7159769999998,"-","-","-","-","-","-","-","-","-","-","-"]
[null,"Residuos no renovables","-","-","-","-","-","-","-","-","-","-","-","-","-","-","-","-","-","-","-","-","-","-","-","-","-","-","-","-","-","-","-","-","-","-","-","-","-","-","-","-","-","-","-","-","-","-","-","-","-","-","-","-","-","-","-","-","-","-","-","-","-","-","-","-","-","-","-","-","-","-","-","-","-","-","-","-","-","-","-","-","-","-","-","-","-","-","-","-","-","-","-","-","-","-","-","-",197.69399999999999,177.61449999999999,207.61250000000001,168.03550000000001,207.88700000000003,210.36849999999998,223.35549999999998,226.59900000000002,217.54299999999998,230.57749999999999,217.71549999999996,195.107,209.91150000000002,192.98699999999999,218.0865,191.97449999999998,151.87899999999999,209.61450000000002,254.60599999999999,256.24200000000002,250.02100000000002,244.20500000000001,214.7045,212.73349999999999,224.85249999999999,198.53299999999999,220.08599999999998,187.77449999999999,187.24350000000001,225.8425,215.10900000000001,229.59950000000003,228.79100000000003,242.88200000000001,217.89099999999999,229.04900000000001,229.71403150000003,"-","-","-","-","-","-","-","-","-","-","-"]
[null,"Residuos renovables","-","-","-","-","-","-","-","-","-","-","-","-","-","-","-","-","-","-","-","-","-","-","-","-","-","-","-","-","-","-","-","-","-","-","-","-","-","-","-","-","-","-","-","-","-","-","-","-","-","-","-","-","-","-","-","-","-","-","-","-","-","-","-","-","-","-","-","-","-","-","-","-","-","-","-","-","-","-","-","-","-","-","-","-","-","-","-","-","-","-","-","-","-","-","-","-",64.152000000000001,59.516500000000001,72.007499999999993,47.499499999999998,64.893000000000001,73.037499999999994,73.160499999999999,70.308999999999997,70.194000000000003,75.951499999999996,74.485500000000002,72.841999999999999,66.351500000000001,53.484999999999999,66.529499999999999,39.262500000000003,39.160000000000004,69.139499999999998,75.308000000000007,73.403000000000006,75.08,74.216999999999999,74.121500000000012,79.339500000000001,72.733499999999992,63.647000000000006,70.867000000000004,61.682499999999997,45.922499999999999,81.467500000000001,83.370999999999995,80.367499999999993,77.905000000000001,80.609999999999985,77.924000000000007,80.509,76.418031499999998,"-","-","-","-","-","-","-","-","-","-","-"]
[null,"Régimen especial",4735.7489999999998,5346.5139999999992,5744.5599999999995,3984.3760000000002,5238.9570000000003,4386.1779999999999,4524.7469999999994,4885.5010000000002,4479.2029999999995,4520.3540000000003,5345.8249999999998,5077.1149999999998,5570.1369999999997,4818.6259999999993,7073.009,6585.2339999999995,4880.1670000000004,5232.1170000000002,5260.8590000000004,4867.4840000000004,5103.3740000000007,5660.1399999999994,6796.8520000000008,7054.8309999999983,7013.6080000000002,6777.5829999999996,6889.4450000000015,6835.5139999999992,6624.9560000000001,6047.2180000000008,6246.7309999999998,5569.3220000000001,5899.2070000000012,6718.8170000000009,8517.9440000000013,8686.8389999999999,8292.6419999999998,8303.4650000000001,8751.2749999999996,6824.2749999999996,8017.9840000000004,6823.5160000000005,7099.8359999999993,6586.4320000000007,6169.2649999999994,7852.1130000000012,8298.3260000000009,8770.5969999999998,8242.1859999999997,8097.7520000000004,9255.2999999999993,7874.4459999999999,7647.8680000000004,7362.2160000000013,7858.9719999999998,6711.3600000000006,6592.3440000000001,7336.9260000000013,7851.7670000000007,8824.5327710000001,7972.0964289999993,9414.6940830000003,8507.1168959999995,9847.8049930000016,8821.7202509999988,8314.8165769999996,8095.3698480000003,7577.6166219999996,8349.9799729999995,7632.4675029999999,8802.9882599999983,9986.243144,11002.250344999999,9910.1991589999998,10652.443883,9556.9129700000012,9399.9331380000003,9184.2269689999994,8269.6630110000006,7956.6509149999983,7768.5502150000011,8303.3399090000003,10739.507163,9211.2919999999995,"-","-","-","-","-","-","-","-","-","-","-","-","-","-","-","-","-","-","-","-","-","-","-","-","-","-","-","-","-","-","-","-","-","-","-","-","-","-","-","-","-","-","-","-","-","-","-","-","-","-","-","-","-","-","-","-","-","-","-","-"]
[null,"Generación",25719.488000000005,22954.533999999996,24452.118999999995,22003.053,23012.906999999999,22966.162000000004,24936.715000000004,23265.954000000005,23435.868000000002,24003.326000000001,25200.691999999999,26257.472999999998,26637.895999999997,24855.868000000002,25193.45,24233.997000000007,23194.431999999997,23723.217999999997,25871.494000000002,24224.238000000001,23625.609999999997,23825.584000000003,24636.264999999999,25891.927,26485.004999999994,22927.397999999997,22648.807000000001,21212.037000000004,21546.824000000004,22838.731999999996,25115.418999999998,23715.411,22693.608541999998,22842.437999999998,23115.955512,24916.352999999996,26092.968900999997,24132.276808999995,25178.200139999997,22122.995989999996,22437.026774999998,22721.261938999996,25770.807038000003,23895.009246000001,23225.248044,23388.545201999998,24104.594372999993,25414.37255,25967.739764000005,23185.983184999994,25073.063481000001,21747.541057999995,21943.915045999998,22550.893018999999,24040.532327000001,23422.597346000002,23097.859514,22287.501794,22661.134217999999,23955.151063999998,25320.038367000001,26018.451339000003,23840.617617,22379.259027999997,22693.875607000005,22995.459568000002,24004.945144000001,23970.503434999999,22607.587142999997,22821.036617999998,22589.146728000003,24140.383062000001,24829.029920999998,22871.111167999996,23871.533203999999,21907.949269000001,21211.648129000001,21085.223138000001,24362.322792000003,22799.329897,22011.603884000004,22011.067464,22861.748028999998,23944.677787000001,24069.783685999999,22572.472389999999,22827.559454000002,21023.228392999998,21339.070671999998,21443.287701000005,23214.252268,22043.961561999997,22170.959093999998,21652.138304,21205.746014000004,23304.616236000002,24652.238493000001,23243.256280000001,23245.698945999997,20656.255056000002,21262.241217999996,21773.570768999994,25326.321174000008,22897.619124999997,21314.521065999998,20908.318851,20983.676212999999,21672.563076000002,22692.820900000002,21722.041113000003,23094.827454000006,21760.210492000002,20651.950938999998,20652.144536999996,22903.726809000003,22071.746630999995,21194.505640000003,21793.291399000005,21801.681326000002,21940.309973999996,25337.459908000001,21023.537063000003,21186.00506,19281.532917999997,20272.902322999998,22118.470946999994,22788.792109000002,21741.545400000003,20321.973205999999,21485.339340000006,22739.930292999998,24326.467950999999,22923.318543000001,"-","-","-","-","-","-","-","-","-","-","-"]
[null,"Consumos en bombeo",-371.77600000000001,-395.87900000000002,-384.16800000000001,-293.39699999999999,-397.62200000000001,-356.25400000000002,-333.52100000000002,-371.38200000000001,-345.92500000000001,-317.00099999999998,-384.15499999999997,-481.20699999999999,-430.83600000000001,-419.30500000000001,-401.79399999999998,-219.05799999999999,-206.07300000000001,-285.255,-253.78200000000001,-190.80199999999999,-226.55600000000001,-297.14499999999998,-411.25599999999997,-460.64,-492.22699999999998,-392.03500000000003,-281.47199999999998,-255.75899999999999,-247.49799999999999,-224.59399999999999,-241.018,-245.006,-254.49299999999999,-284.12299999999999,-397.50099999999998,-478.46300000000002,-756.58548100000007,-554.72222199999999,-544.66441799999996,-303.16059899999999,-279.94919199999998,-230.155124,-199.16812999999999,-231.14395499999998,-233.69566899999998,-346.11598499999997,-322.22366899999997,-456.19813299999998,-430.91918800000002,-280.66478600000005,-347.70577100000003,-297.00992200000002,-158.92510200000001,-139.95152400000001,-173.53430600000002,-181.06439699999999,-176.06341800000001,-301.62591900000001,-325.48060800000002,-402.01487400000002,-448.91067399999997,-444.12264199999998,-429.06647600000002,-565.84194300000001,-360.20398999999998,-322.06323800000001,-285.67122799999999,-365.72605300000004,-454.578665,-397.03421900000001,-403.31192900000002,-546.01673100000005,-697.63724999999999,-562.65698600000007,-1052.4229879999998,-872.86187399999994,-452.79265899999996,-384.57999899999999,-256.57863700000001,-231.78292800000003,-211.57028500000001,-305.59618699999999,-348.25588500000003,-581.10931200000005,-858.01401699999997,-633.18831499999999,-524.05132400000002,-508.09411,-434.99119899999999,-325.47192799999999,-239.80621400000001,-218.068423,-215.90781899999999,-408.39204999999998,-518.48742099999993,-445.117231,-479.60648900000001,-543.86398299999996,-478.82839000000001,-406.19568500000003,-422.73500000000001,-154.35719500000002,-167.860691,-301.47133700000001,-245.09551099999999,-374.45159699999999,-436.89324499999998,-508.73505599999999,-897.23722699999996,-716.42767700000002,-590.25587100000007,-584.07853499999999,-474.71409,-210.517944,-141.61362500000001,-157.40858300000002,-122.319526,-229.38049699999999,-352.86669000000001,-342.59280999999999,-433.831684,-560.18740600000001,-335.17777599999999,-335.53738199999998,-229.06522200000001,-192.29135200000002,-173.37316200000001,-204.27099900000002,-165.54855699999999,-221.48029300000002,-269.55341499999997,-554.92065600000001,-380.97890000000001,"-","-","-","-","-","-","-","-","-","-","-"]
[null,"Saldo intercambios internacionales",94.564999999999998,-235.49199999999999,-243.36199999999999,-261.05399999999997,-494.78800000000001,-223.46299999999999,-289.77800000000002,-314.01400000000001,-846.57600000000002,-1153.7719999999999,-1052.93,-729.80100000000004,-456.80399999999997,-655.58699999999999,-1199.348,-1291.615,-761.27499999999998,-1052.3420000000001,-907.81299999999999,-796.07299999999998,-935.81,-1102.0160000000001,-948.447,-932.45600000000002,-897.62800000000004,-474.27699999999999,-192.952,-548.93399999999997,-437.37599999999998,-769.16099999999994,-944.90899999999999,-817.41700000000003,-711.16800000000001,-941.36500000000001,-897.21199999999999,-454.01499999999999,-304.71344599999998,-506.196753,-560.11404599999992,-729.095102,-542.81502899999998,-821.22575100000006,-1000.6535670000001,-758.60105700000008,-964.2554520000001,-1295.5098870000002,-593.21057400000007,-256.28839399999998,-611.33580500000005,-358.84235899999999,-762.63600899999994,-1074.8113170000001,-233.62379999999999,-404.76718699999998,-470.93457000000001,-197.10088099999999,-548.75685799999997,-381.58426100000003,-579.51663300000007,-466.21665400000001,-525.29093599999999,-1375.7932209999999,-869.96906999999999,-1211.9197819999999,-939.84038100000009,-625.32935199999997,-629.52545599999996,-646.20974899999999,-1047.302604,-1457.208903,-791.40693099999999,-1080.1572060000001,-364.45221100000003,-642.39397799999995,-430.41725799999995,-411.18220100000002,-132.05559299999999,-358.69515000000001,-1060.4316310000002,-517.67452200000002,-821.87308799999994,-679.119191,-892.91131900000005,-420.92630800000001,28.099829000000003,-490.54062400000004,-225.94670300000001,-652.23227599999996,-256.41148300000003,-285.58111300000002,-481.72024800000003,-236.69277,-336.25484,-303.54976099999999,195.372657,-360.667597,-259.102957,-558.85504600000002,-396.75677899999999,-295.55073599999997,180.77279000000001,0.88915499999999992,-184.17543000000001,-251.793361,-169.941732,436.52791200000001,453.10844900000001,911.71451000000002,847.59026500000004,960.57577300000003,174.92662100000001,-106.684112,762.50236499999994,1083.2692120000002,917.73114199999998,1034.6561139999999,1130.5906419999999,-433.77785799999998,357.21121500000004,938.722174,-531.54929799999991,541.13368700000001,1457.080766,1040.959484,1444.9856000000002,1128.8588829999999,1273.4433959999999,1827.910942,1393.3084220000001,280.22841800000003,-346.27278000000001,-339.50387699999999,1342.1767,"-","-","-","-","-","-","-","-","-","-","-"]
[null,"Demanda transporte (b.c.)",25442.277000000002,22323.162999999997,23824.588999999993,21448.601999999999,22120.496999999999,22386.445000000003,24313.416000000005,22580.558000000005,22243.367000000002,22532.553,23763.607,25046.465,25750.255999999998,23780.976000000002,23592.307999999997,22723.324000000004,22227.083999999995,22385.620999999996,24709.899000000005,23237.363000000001,22463.243999999995,22426.423000000003,23276.561999999998,24498.831000000002,25095.149999999994,22061.085999999999,22174.382999999998,20407.344000000005,20861.950000000004,21844.976999999995,23929.491999999998,22652.987999999998,21727.947541999998,21616.949999999997,21821.242512000001,23983.874999999996,25031.669973999997,23071.357833999995,24073.421675999998,21090.740288999998,21614.262553999997,21669.881063999994,24570.985341000003,22905.264234000002,22027.296922999998,21746.919329999997,23189.160129999993,24701.886022999999,24925.484771000007,22546.476039999994,23962.721700999999,20375.719818999994,21551.366143999996,22006.174307999998,23396.063450999998,23044.432068000006,22373.039237999998,21604.291614000002,21756.136976999998,23086.919535999998,24345.836757000001,24198.535476000005,22541.582071000001,20601.497302999996,21393.831236000005,22048.066978000003,23089.748460000003,22958.567632999999,21105.705873999996,20966.793495999998,21394.427868000002,22514.209125000001,23766.940459999998,21666.060203999994,22388.692958,20623.905194000003,20626.799877000001,20341.947989,23045.312524000004,22049.872446999998,20978.160511000002,21026.352085999999,21620.580825000001,22942.642167000002,23239.869497999996,21448.743450999998,22077.561427000001,19862.902007000001,20647.667989999998,20832.234660000006,22492.725805999999,21589.200368999995,21618.796434999997,20940.196493000003,20882.631250000002,22498.831408000002,23913.529047,22140.537251000002,22370.113776999999,19954.508635000002,21020.279007999994,21620.102728999995,24974.285053000007,22344.354426999998,20899.483822999999,20970.395166000002,20999.891416999999,22075.542530000002,22643.173938,21966.189209000004,22679.498204000003,21069.447845000002,20939.739213999997,21524.895804999996,23679.844326000002,22948.994161999995,22202.776756000003,21130.133044000006,21806.025851000002,22536.439337999996,24372.078926000002,21004.483344000004,22307.908049999998,19986.955019999998,21488.822700999997,23055.038477999995,23888.862343000001,23365.185343000001,21549.733071000002,21544.087465000004,22124.104098,23432.043418000001,23884.516343000003,"-","-","-","-","-","-","-","-","-","-","-"]
[]
[null,"Balance eléctrico anual peninsular (GWh)",1990,1991,1992,1993,1994,1995,1996,1997,1998,1999,2000,2001,2002,2003,2004,2005,2006,2007,2008,2009,2010,2011,2012,2013,2014,2015,2016,2017,2018,2019,2020,2021]
[null,"Hidráulica",23540.760600000001,24727.9339,16556.8675,21514.489699999995,25008.665699999998,20239.087800000001,36324.757399999995,31681.262700000003,31855.535200000002,21297.382000000005,24057.834800000004,36104.5772,17325.872599999999,35008.3632,26120.459100000004,14430.614099999992,21226.384899999994,22978.978099999993,18295.638600000002,20732.3027,35009.454188100004,25042.369909209996,15977.884330298002,30287.504563939998,32042.878507204001,28312.265005956004,35959.990907101994,18359.125145035996,2152.8710000000001,"-","-","-"]
[null,"Turbinación bombeo",727.49040000000002,1002.9131,1953.4935,1321.2912999999999,941.77229999999986,1457.2081999999998,1065.8326000000002,1232.6223,1811.4277999999999,2566.4659999999999,3434.8202000000001,2891.8847999999998,4869.6773999999987,3274.6938,3223.2948999999999,4449.8628999999992,3743.8611000000001,3102.6008999999999,2661.7513999999996,2655.9322999999999,3120.4478038999996,2183.53623079,3201.889743702,3289.6771840599995,3415.9960267959996,2905.525067044,3213.4917208980005,2248.9938579640002,250.71520000000001,"-","-","-"]
[null,"Nuclear",51905.668000000005,53162.400000000009,53360.06,53665.29,52995.802999999993,53138.097999999998,54112.745999999999,53048.341999999997,56572.047000000013,56378.196999999993,59530.32,60985.213000000003,60288.447,59219.589999999989,60875.742000000006,54901.832999999999,57353.705999999998,52638.926999999996,56460.290999999997,50549.445000000007,59242.321647000004,55103.931311,58666.987000000008,54306.887000000002,54870.239000000009,54754.839048000002,56098.972000000002,55608.922000000006,5088.7084999999997,"-","-","-"]
[null,"Carbón",55338.808000000005,55804.307000000001,59825.894999999997,57851.097999999998,57174.709000000003,61234.712,49468.669000000002,58519.805999999997,56925.974999999999,68405.633000000002,72228.170999999988,64448.903999999995,74555.690999999992,68293.165999999997,72120.106,72994.088999999993,62126.065000000002,67686.248000000007,43409.537000000004,31622.562000000002,20599.255834,40501.827407000004,51130.886036999989,37176.883000000002,41132.677000000003,50923.77236699999,35187.504000000001,42592.924458000009,3029.2147,"-","-","-"]
[null,"Fuel + Gas",2865.9459999999999,4041.6849999999999,7463.5830000000014,1777.1469999999999,1412.1849999999999,3661.1629999999996,2043.33,6552.5410000000002,5338.8809999999994,9350.6630000000005,9565.2989999999991,11579.619000000001,15545.682000000004,7431.6419999999998,7089.4679999999998,9294.3179999999993,5396.0580000000009,2090.7650000000003,2074.895,1789.5900000000001,1566.0229999999999,0,0,0,0,0,0,0,0,"-","-","-"]
[null,"Ciclo combinado",0,0,0,0.21299999999999999,0,0,0,0,0,0,0,0,5155.6730000000007,14626.086000000003,28312.845000000001,47846.789000000004,62122.434000000001,66572.867999999988,89100.732000000004,76379.284,62954.940244999991,49411.657004999994,37531.666771000004,24360.581872000002,21336.753903000001,25268.468001999998,25686.148787999999,33854.527929999997,2289.6867000000002,"-","-","-"]
[null,"Régimen ordinario",134378.67300000001,138739.239,139159.899,136129.52899999998,137533.13500000001,139730.269,143015.33499999999,151034.57399999999,152503.86600000001,157998.34100000001,168816.44500000001,176010.198,177741.04300000001,187853.541,197741.91500000001,203917.50599999999,211968.50899999999,215070.38700000002,212002.845,183729.11600000001,182492.44271799998,172243.32186299999,166509.31388199999,149421.53362,"-","-","-","-","-","-","-","-"]
[null,"Hidráulica/Resto hidráulica",982.63199996000014,1704.7810000000002,2081.7730000000001,2234.2280000000001,2475.268,2222.8739999999998,3543.8470000000002,3428.9950000000003,3578.4739169999993,3740.3226119999995,3836.0999330000004,4287.5226330000005,3899.4523389999999,5088.644045,4749.5783850000016,3817.5829390000013,4148.5638790000012,4125.3249999999998,4638.143,5453.6730000000007,6824.32,5294.3149999999996,4644.5460000000003,7099.1549999999997,7069.52,"-","-","-","-","-","-","-"]
[null,"Eólica",2.18699998,2.8650000000000002,17.361000000000001,84.768000000000001,72.859999999999985,159.85699999999997,304.12899999999996,619.88499999999999,1236.6567059999998,2474.0332980000003,4462.4960500000007,6594.1481130000002,9259.2966869999982,11720.246133000002,15754.117769000002,20857.665958999998,22880.856075000003,27249.154999999999,31757.850000000006,37888.576999999997,43208.396000000001,42105.433000000005,48140.064999999995,54344.351999999992,50634.89,47713.149999999994,47298.170000000006,47496.792999999998,5286.1355229999999,"-","-","-"]
[null,"Solar fotovoltaica",0,0,12.055999999999999,12.000000000000002,15.295899999999996,1.0619999999999998,0.89100000000000001,1.127,1.1702970000000001,1.341181,1.269817,1.639643,4.5614520000000001,8.9301049999999957,17.794010999999976,40.088349000000001,102.37499899999992,462.577,2406.0700000000002,5829.0049999999992,6139.7820000000002,7091.688000000001,7829.9009999999998,7918.0379999999996,7802.4239999999991,7844.7979999999998,7579.3129999999992,7977.4299999999985,409.40090000000004,"-","-","-"]
[null,"Solar térmica",0,0,0,0,0,0,0,0,0,0,0,0,0,0,0,0,0,7.6269999999999998,15.378,129.82299999999998,691.62,1832.357,3444.1340000000005,4441.527000000001,4958.9149999999991,5085.2350000000006,5071.2040000000006,5347.9489999999996,130.07689999999999,"-","-","-"]
[null,"Térmica renovable/Otras renovables",0,0.85399999999999987,16.548999999999999,58.82200000000001,322.45,671.26900000000001,815.08,648.375,748.74632699999995,908.25367599999993,961.11038600000018,1738.4584279999999,1453.0152859999998,1737.0417380000004,1818.0936319999998,1987.8580699999998,2182.6066820000001,2375.6849999999999,2651.4889999999996,3044.2870000000003,3171.7989999999995,4284.8410000000003,4746.1490000000003,5065.5659999999998,4717.9780000000001,3173.951,3413.9139999999998,3601.6279999999997,302.56700000000001,"-","-","-"]
[null,"Térmica no renovable/Cogeneración y resto/Cogeneración",654.85700006000002,1435.9839999999997,1902.8819999999998,3307.5039999999999,5311.9911000000002,6540.7530000000006,8991.82,11462.615999999998,14168.280752999999,17137.272233000003,17379.554813999999,17656.688182999998,20831.652236000002,22845.346978999998,23528.704202999998,23263.703683,22318.939364999995,23327.756999999998,26575.975999999999,28465.934000000001,30789.052000000003,32051.011999999995,33492.864000000001,32036.724999999999,25595.536,25417.974999999999,25871.911999999997,28128.409,2536.5533769999997,"-","-","-"]
[null,"Residuos no renovables","-","-","-","-","-","-","-","-","-","-","-","-","-","-","-","-","-","-","-","-","-","-","-","-","-",2324.7159999999999,2471.3094999999998,2458.7975000000001,221.62870000000004,"-","-","-"]
[null,"Residuos renovables","-","-","-","-","-","-","-","-","-","-","-","-","-","-","-","-","-","-","-","-","-","-","-","-","-",662.65500000000009,649.74149999999997,728.15049999999997,68.332700000000003,"-","-","-"]
[null,"Régimen especial",1639.6760000000002,3144.4839999999999,4030.6210000000001,5697.3220000000001,8197.8649999999998,9595.8150000000005,13655.767,16160.997999999998,19733.327999999998,24261.223000000005,26640.531000000003,30278.456999999999,35447.978000000003,41400.209000000003,45868.288,49966.898999999998,51633.341,57548.125999999997,68044.906000000003,80811.298999999999,90824.969000000012,92659.646000000008,102297.659,110905.36299999998,"-","-","-","-","-","-","-","-"]
[null,"Generación",136018.34900000002,141883.723,143190.52000000002,141826.85099999997,145731,149326.084,156671.10199999998,167195.57199999999,172237.19400000002,182259.56400000001,195456.97600000002,206288.655,213189.02100000001,229253.75,243610.20300000001,253884.405,263601.84999999998,272618.51300000004,280047.75099999999,264540.41500000004,273317.41171799996,264902.967863,268806.97288199997,260326.89661999998,253577.80743699998,254387.34949000002,248501.67141600003,248403.65039099997,21765.891200000002,"-","-","-"]
[null,"Consumos en bombeo",-1039.2719999999997,-1432.7330000000002,-2790.7050000000004,-1887.5589999999997,-1345.3890000000001,-2081.7260000000001,-1522.6180000000002,-1760.8889999999997,-2587.7539999999999,-3666.38,-4906.8859999999995,-4131.264000000001,-6956.6819999999998,-4678.134,-4604.7070000000003,-6356.9470000000001,-5348.3729999999996,-4432.2870000000003,-3802.502,-3794.1889999999999,-4457.7825769999999,-3214.9598150000002,-5022.5477879999999,-5957.8449899999996,-5329.5900510000001,-4520.0941789999997,-4819.4130750000004,-3675.2379039999996,-380.97890000000001,"-","-","-"]
[null,"Enlace Península-Baleares","-","-","-","-","-","-","-","-","-","-","-","-","-","-","-","-","-","-","-","-","-",-0.47640899999999997,-570.24920300000008,-1268.5085999999999,-1298.2644039999998,-1335.7828019999999,-1250.5825009999999,-1179.300653,-86.108100000000007,"-","-","-"]
[null,"Saldo intercambios internacionales",-419.57900000000012,-676.58600000000001,641.12400000000002,1267.0719999999997,1855.105,4489.0450000000001,1059.3659999999998,-3072.8720000000003,3401.864,5719.244999999999,4440.5950000000003,3457.9599999999996,5328.768,1263.9020000000003,-3027.0179999999996,-1343.394,-3272.518,-5750.4650000000001,-11039.585999999999,-8086.4139999999998,-8332.6790579999997,-6090.1263339999996,-11199.953591,-6732.1324500000001,-3406.1249290000001,-133.16322499999978,7667.313553,9170.5836430000018,1342.1767,"-","-","-"]
[null,"Demanda transporte (b.c.)",134559.49800000002,139774.40399999998,141040.93900000004,141206.36399999994,146240.71600000001,151733.40300000002,156207.85,162361.81099999999,173051.30400000003,184312.429,194990.68500000003,205615.351,211561.10700000002,225839.51800000001,235978.478,246184.06399999998,254980.95899999997,262435.761,265205.663,252659.81200000003,260526.95008299997,255597.40530499999,252014.22229999996,246368.41057999997,243543.82805299998,248398.30928400002,250098.98939300003,252719.69547699994,22640.980900000002,"-","-","-"]
[]
[null,"Balance eléctrico anual Islas Baleares (MWh)",2006,2007,2008,2009,2010,2011,2012,2013,2014,2015,2016,2017,2018,2019,2020,2021]
[null,"Carbón",3077310,2943855,3098826,3170463,3101357.5659999996,2764866.8510000007,2682531.568,2350680.7719999999,2187625.804,1865268.2970000003,2303768.3020000001,2603343.9639999997,198586.29300000001,"-","-","-"]
[null,"Motores diesel",964902,1005606,1047081,971825,1027620.046,923775.61600000004,934769.9530000001,743951.84400000004,671248.32699999993,729765.87399999995,963404.14399999997,798893.73600000003,38611.067999999999,"-","-","-"]
[null,"Turbina de gas",292054.95199999999,311441,272502,339369,299414.36599999998,350925.136,340944.54099999997,509306.95299999998,581727.70699999994,582137.98199999996,338287.83099999995,554119.88,60369.260999999999,"-","-","-"]
[null,"Fuel + Gas",1256956.952,1317047,1319583,1311194,1327034.412,1274700.7520000001,1275714.4939999999,1253258.797,1252976.034,1311903.8559999999,1301691.9750000001,1353013.6160000002,98980.328999999998,"-","-","-"]
[null,"Ciclo combinado",1341915,1583995,1523490,1292183,1135633.7220000001,1326738.3859999999,890560.32,413575.82400000002,426924.70399999997,809239.36800000013,542553.09600000002,426188.67100000003,32637.993999999999,"-","-","-"]
[null,"Generación auxiliar",6350.2199999999721,12612,5931,5566,6694.3319999999994,8724.6810000000005,8809.7250000000004,6900.8020000000006,7695.201,10581.855,10091.754999999999,14745.847,0,"-","-","-"]
[null,"Régimen ordinario",5682532.1719999993,5857509,5947830,5779406,5570720.0320000006,5375030.6700000009,4857616.1069999998,4024416.1950000003,"-","-","-","-","-","-","-","-"]
[null,"Eólica",4877.3560000000007,5656,5497,5543,5571,5829,6505,6160,5839,5317.02,5414.6399999999994,2925,271.41000000000003,"-","-","-"]
[null,"Solar fotovoltaica",1100.7949999999998,1952,28380,80933,87757,101221,115594,122098,122773,122645.48,120533.8,122875,6585.1,"-","-","-"]
[null,"Térmica renovable/Otras renovables",0,0,0,0,0,0,569,743,1944,1972.55,1309.52,1625,129.05000000000001,"-","-","-"]
[null,"Térmica no renovable/Cogeneración y resto/Cogeneración",139112.84899999999,113933,140332,127042,176244,260748,272076,251615,281390,31519.32,34698.850000000006,36169,3162.6,"-","-","-"]
[null,"Residuos no renovables","-","-","-","-","-","-","-","-","-",151098,130805.5,143878.5,7713.55,"-","-","-"]
[null,"Residuos renovables","-","-","-","-","-","-","-","-","-",151098,130805.5,143878.5,7713.55,"-","-","-"]
[null,"Régimen especial",145091,121541,174209,213518,269572,367798,394744,380616,"-","-","-","-","-","-","-","-"]
[null,"Generación",5827623.1719999993,5979050,6122039,5992924,5840292.0320000006,5742828.6700000009,5252360.1069999998,4405032.1950000003,4287167.7429999998,4460643.7459999993,4581672.9379999992,4848643.0980000002,355779.87599999987,"-","-","-"]
[null,"Enlace Península-Baleares","-","-","-","-","-",476.40899999999993,570249.2030000001,1268508.5999999999,1298257.4659999998,1335791.8019999999,1250582.5009999999,1179300.6529999999,86108.1,"-","-","-"]
[null,"Demanda transporte (b.c.)",5827623.1719999993,5979050,6122039,5992924,5840292.0320000006,5743305.0790000008,5822609.3099999996,5673540.7949999999,5585425.2089999998,5796435.5479999995,5832255.4389999993,6027943.7510000002,441887.97599999991,"-","-","-"]
[]
[null,"Balance eléctrico anual Islas Canarias (MWh)",2006,2007,2008,2009,2010,2011,2012,2013,2014,2015,2016,2017,2018,2019,2020,2021]
[null,"Hidráulica",0,0,0,0,0,0,0,0,0,3585.2,3472,3282,0,"-","-","-"]
[null,"Motores diesel",2007664,2042002,2103766,2140699,2183387.7719999999,2163376.0950000002,2110130.929,2078558.186,2145111.9040000001,2207692.36,2227665.5260000001,2468714.5819999995,189314.73199999999,"-","-","-"]
[null,"Turbina de gas",824431.12,699470,473526,342172.054,343281.65700000001,529046.147,590582.6939999999,366528.71100000001,363766.8459999999,330903.78599999991,279139.54399999999,247327.26900000003,23090.303,"-","-","-"]
[null,"Turbina de  vapor",3429991,3306805,3414241,3243628,2972587.1049999995,2637819.2430000002,2685938.8030000003,2465049.5530000003,2074036.0720000002,2225313.5290000001,2536663.6469999999,2523836.9070000001,228842.448,"-","-","-"]
[null,"Fuel + Gas",6262086.1200000001,6048277,5991533,5726499.0539999995,5499256.534,5330241.4850000003,5386652.426,4910136.45,4582914.8220000006,4763910.6749999998,5043468.7169999992,5239878.7580000004,441247.48300000001,"-","-","-"]
[null,"Ciclo combinado",2007397,2443275,2573317,2552328,2708410.1850000001,2918875.2369999997,2877771.574,3052680.0279999999,3311448.9440000001,3213042.0700000003,3031699.5109999995,3015772.0159999998,240490.769,"-","-","-"]
[null,"Generación auxiliar",0,132840,89747,33788,0,0,0,0,0,0,0,0,0,"-","-","-"]
[null,"Régimen ordinario",8269483.1200000001,8624392,8654597,8312615.0540000005,8207666.7189999996,8249116.7220000001,8264423.9999999991,7962816.4780000001,"-","-","-","-","-","-","-","-"]
[null,"Hidroeólica","-","-","-","-","-","-","-","-",1071.8609999999999,8557.0660000000007,18102.638999999999,20398.516,2270.14,"-","-","-"]
[null,"Hidráulica/Resto hidráulica",0,1176,1673,398,0,1675.4079999999999,1789.3360000000005,3047.306,3479.0210000000002,"-","-","-","-","-","-","-"]
[null,"Eólica",326063.57899999997,356840,396475,358707,331363,354155,361767.78899999999,362734.29800000001,389964,396661.05200000003,393086,395854,61174.599000000002,"-","-","-"]
[null,"Solar fotovoltaica",2915.5499999999997,19373,63500,162330,195166,232139,256511,286702,282291,275554.16099999996,277674,273451,18395.062999999998,"-","-","-"]
[null,"Térmica renovable/Otras renovables",218199.68400000001,213283,217219,273055,160561,33148.362999999998,8050.4539999999997,8387.0730000000003,8806.7219999999998,8053.2160000000003,9336,9565,0,"-","-","-"]
[null,"Térmica no renovable/Cogeneración y resto/Cogeneración",2832.1869999999999,0,0,20,0,0,0,0,0,0,0,0,0,"-","-","-"]
[null,"Régimen especial",550011,590672,678867,794510,687090,621117.77099999995,628118.57900000003,660870.67699999991,"-","-","-","-","-","-","-","-"]
[null,"Generación",8819494.120000001,9215064,9333464,9107125.0540000014,8894756.7190000005,8870234.4930000007,8892542.5789999999,8623687.1550000012,8579976.370000001,8669362.4399999995,8776838.8670000006,8958201.290000001,763578.054,"-","-","-"]
[null,"Demanda transporte (b.c.)",8819494.120000001,9215064,9333464,9107125.0540000014,8894756.7190000005,8870234.4930000007,8892542.5789999999,8623687.1550000012,8579976.370000001,8669362.4399999995,8776838.8670000006,8958201.290000001,763578.054,"-","-","-"]
[]
[null,"Balance eléctrico anual Ceuta (MWh)",2007,2008,2009,2010,2011,2012,2013,2014,2015,2016,2017,2018,2019,2020]
[null,"Motores diesel",202644,209671,208316,214666.24400000001,202671.921,211523.35500000001,201711.97,212164.56700000004,204715.61900000001,210611.989,202665.00700000001,19001.178,"-","-"]
[null,"Turbina de gas",0,0,3253,2868.8669999999997,300.97500000000002,548.54099999999994,248.09399999999997,89.154999999999973,723.98099999999999,116.15799999999999,200.56,0.51700000000000002,"-","-"]
[null,"Fuel + Gas",202644,209671,211569,217535.111,202972.89600000001,212071.89600000001,201960.06400000001,212253.72200000004,205439.6,210728.147,202865.56699999998,19001.695,"-","-"]
[null,"Régimen ordinario",202644,209671,211569,217535.111,202972.89600000001,212071.89600000001,201960.06400000001,212253.72200000004,"-","-","-","-","-","-"]
[null,"Generación",202644,209671,211569,217535.111,202972.89600000001,212071.89600000001,201960.06400000001,212253.72200000004,205439.6,210728.147,202865.56699999998,19001.695,"-","-"]
[null,"Demanda transporte (b.c.)",202644,209671,211569,217535.111,202972.89600000001,212071.89600000001,201960.06400000001,212253.72200000004,205439.6,210728.147,202865.56699999998,19001.695,"-","-"]
[]
[null,"Balance eléctrico anual Melilla (MWh)",2007,2008,2009,2010,2011,2012,2013,2014,2015,2016,2017,2018,2019,2020]
[null,"Motores diesel",181867.74,193125,197553,204717.97099999996,207296.853,214850.84300000002,201463.861,200163.61000000002,204228.133,198326.31299999997,200491.94299999997,18312.756000000001,"-","-"]
[null,"Turbina de gas",2412.2599999999998,3081,545,498.45600000000002,503.041,112.349,84.787000000000006,724.20299999999997,587.85799999999995,241.53300000000002,73.228999999999999,11.398999999999999,"-","-"]
[null,"Fuel + gas",184280,196206,198098,205216.42699999997,207799.894,214963.19200000001,201548.64800000002,200887.81300000002,204815.99100000004,198567.84600000002,200565.17200000002,18324.155000000002,"-","-"]
[null,"Régimen ordinario",184280,196206,198098,205216.42699999997,207799.894,214963.19200000001,201548.64800000002,"-","-","-","-","-","-","-"]
[null,"Solar fotovoltaica",0,6,122,67,72,84,81,85,78,78,76,0,"-","-"]
[null,"Térmica no renovable/Cogeneración y resto/Cogeneración",8740,4842,7735,8028,7036,2309,8039,8898,"-","-","-","-","-","-"]
[null,"Residuos no renovables","-","-","-","-","-","-","-","-",4295.5,4850,4977.5,371.78149999999999,"-","-"]
[null,"Residuos renovables","-","-","-","-","-","-","-","-",4295.5,4850,4977.5,371.78149999999999,"-","-"]
[null,"Régimen especial",8740,4848,7857,8095,7108,2393,8120,"-","-","-","-","-","-","-"]
[null,"Generación",193020,201054,205955,213311.42699999997,214907.894,217356.19200000001,209668.64800000002,209870.81300000002,213484.99100000004,208345.84600000002,210596.17200000002,19067.718000000001,"-","-"]
[null,"Demanda transporte (b.c.)",193020,201054,205955,213311.42699999997,214907.894,217356.19200000001,209668.64800000002,209870.81300000002,213484.99100000004,208345.84600000002,210596.17200000002,19067.718000000001,"-","-"]
[]
[null,"Balance eléctrico anual nacional (GWh)",2007,2008,2009,2010,2011,2012,2013,2014,2015,2016,2017,2018,2019,2020]
[null,"Hidráulica",22978.978099999993,18295.638600000002,20732.3027,35009.454188100004,25042.369909209996,15977.884330298002,30287.504563939998,32042.878507204001,28315.850205956005,35963.462907101995,18362.407145035995,2152.8710000000001,"-","-"]
[null,"Turbinación bombeo",3102.6008999999999,2661.7513999999996,2655.9322999999999,3120.4478038999996,2183.53623079,3201.889743702,3289.6771840599995,3415.9960267959996,2905.525067044,3213.4917208980005,2248.9938579640002,250.71520000000001,"-","-"]
[null,"Nuclear",52638.926999999996,56460.290999999997,50549.445000000007,59242.321647000004,55103.931311,58666.987000000008,54306.887000000002,54870.239000000009,54754.839048000002,56098.972000000002,55608.922000000006,5088.7084999999997,"-","-"]
[null,"Carbón",70630.103000000003,46508.363000000005,34793.025000000001,23700.613399999998,43266.694258000003,53813.417604999988,39527.563772000001,43320.302804000006,52789.040663999993,37491.272301999998,45196.268422000008,3227.8009929999998,"-","-"]
[null,"Fuel + Gas",9988.4650000000001,9887.5660000000007,9276.3040540000002,8821.7598159999998,7024.4397080000008,7098.2117329999992,6573.8047610000012,6256.7275920000002,6496.6519769999995,6764.5484399999987,7011.0689600000005,577.55366200000003,"-","-"]
[null,"Ciclo combinado",70600.137999999992,93197.539000000004,80223.794999999998,66798.98415199999,53657.270627999991,41299.998665000006,27826.837724000001,25075.127551000001,29290.74944,29260.401394999997,37296.488616999995,2562.8154630000004,"-","-"]
[null,"Régimen ordinario",229939.212,227011.14899999998,198230.80405400001,196693.581007,186278.24204499999,180058.38907700003,161812.275005,"-","-","-","-","-","-","-"]
[null,"Hidroeólica","-","-","-","-","-","-","-",1.071861,8.5570660000000007,18.102639,20.398516000000001,2.27014,"-","-"]
[null,"Hidráulica/Resto hidráulica",4126.5010000000002,4639.8159999999998,5454.0710000000008,6824.32,5295.9904079999997,4646.3353360000001,7102.2023060000001,7072.9990210000005,"-","-","-","-","-","-"]
[null,"Eólica",27611.650999999998,32159.822000000007,38252.826999999997,43545.33,42465.417000000001,48508.337788999997,54713.246297999991,51030.692999999999,48115.128071999992,47696.670640000004,47895.572,5347.5815320000002,"-","-"]
[null,"Solar fotovoltaica",483.90199999999999,2497.9560000000001,6072.3899999999994,6422.7719999999999,7425.1200000000008,8202.09,8326.9189999999999,8207.5729999999985,8243.0756409999995,7977.5987999999988,8373.8319999999985,434.38106300000004,"-","-"]
[null,"Solar térmica",7.6269999999999998,15.378,129.82299999999998,691.62,1832.357,3444.1340000000005,4441.527000000001,4958.9149999999991,5085.2350000000006,5071.2040000000006,5347.9489999999996,130.07689999999999,"-","-"]
[null,"Térmica renovable/Otras renovables",2588.9679999999998,2868.7079999999996,3317.3420000000001,3332.3599999999997,4317.9893630000006,4754.768454,5074.6960730000001,4728.7287219999998,3183.9767660000002,3424.5595199999998,3612.8179999999998,302.69605000000001,"-","-"]
[null,"Térmica no renovable/Cogeneración y resto/Cogeneración",23450.429999999997,26721.149999999998,28600.731,30973.324000000004,32318.795999999995,33767.249000000003,32296.378999999997,25885.824000000001,25449.494319999998,25906.610849999997,28164.578000000001,2539.7159769999998,"-","-"]
[null,"Residuos no renovables","-","-","-","-","-","-","-","-",2480.1095,2606.9649999999997,2607.6535000000003,229.71403150000003,"-","-"]
[null,"Residuos renovables","-","-","-","-","-","-","-","-",818.0485000000001,785.39699999999993,877.00649999999996,76.418031499999998,"-","-"]
[null,"Régimen especial",58269.078999999998,68902.83,81827.183999999994,91789.72600000001,93655.669770999986,103322.914579,111954.96967699999,"-","-","-","-","-","-","-"]
[null,"Generación",288208.29099999997,295913.97899999999,280057.98805400002,288483.30700700002,279933.91181600001,283381.30365600006,273767.24468200002,266867.07608500007,267936.28126699995,262279.25721399998,262623.95651799999,22923.318543000001,"-","-"]
[null,"Consumos en bombeo",-4432.2870000000003,-3802.502,-3794.1889999999999,-4457.7825769999999,-3214.9598150000002,-5022.5477879999999,-5957.8449899999996,-5329.5900510000001,-4520.0941789999997,-4819.4130750000004,-3675.2379039999996,-380.97890000000001,"-","-"]
[null,"Saldo intercambios internacionales",-5750.4650000000001,-11039.585999999999,-8086.4139999999998,-8332.6790579999997,-6090.1263339999996,-11199.953591,-6732.1324500000001,-3406.1249290000001,-133.16322499999978,7667.313553,9170.5836430000018,1342.1767,"-","-"]
[null,"Demanda transporte (b.c.)",278025.53899999993,281071.891,268177.38505400001,275692.84537200007,270628.82566700003,267158.80227700004,261077.267242,258131.36110500005,263283.02386299992,265127.15769199998,268119.302257,23884.516343000003,"-","-"]

{"sheet":"Año","index":15,"n_rows":30,"n_cols":26,"rows_kept":30,"cut":false,"hidden":true,"merged":[]}
[null,null,null,null,null,null,null,null,null,null,null,null,null,null,null,null,null,null,null,null,null,null,null,null,1,1]
[null,1990,"1990-1997","2006-2013","2007-2013",null,null,null,null,null,null,null,null,null,"Nacional","Mensual"]
[null,1991,"1998-2005","2014-2021","2014-2020",null,null,null,null,null,null,null,null,null,"Peninsular","Anual"]
[null,1992,"2006-2013",null,null,null,null,null,null,null,null,null,null,null,"Canarias"]
[null,1993,"2014-2021",null,null,null,null,null,null,null,null,null,null,null,"Baleares"]
[null,1994,null,null,null,null,null,null,null,null,null,null,null,null,"Ceuta"]
[null,1995,null,null,null,null,null,null,null,null,null,null,null,null,"Melilla"]
[null,1996]
[null,1997]
[null,1998]
[null,1999]
[null,2000]
[null,2001]
[null,2002]
[null,2003]
[null,2004]
[null,2005]
[null,2006]
[null,2007]
[null,2008]
[null,2009]
[null,2010]
[null,2011]
[null,2012]
[null,2013]
[null,2014]
[null,2015]
[null,2016]
[null,2017]
[null,2018]