{"text_format":"1","workbook":"xlsx","n_sheets":15,"sheets":["Inicio","Cuadro mando","Generacion","Potencia","Demanda","Red_de_transporte","AVISO LEGAL","generacion_bruta","Potencias","demandas","datos_genanual","datos_RdT","EVOLUCION_RdT","Año","datos_anual"],"not_rendered":{"charts":20,"images":6,"macros":1,"external_links":0,"defined_names":2,"comments":7,"pivot_tables":0},"unopened":[],"bounds":{"document_bytes":16777216,"sheet_cells":100000,"rows_first":2000,"rows_last":500,"rows_between":2000,"halvings":0,"cell_chars":16384,"cell_head_chars":4096},"cells_cut":0,"cells_raw":0,"read":"whole","date_system":"1900"}

{"sheet":"Inicio","index":0,"n_rows":3,"n_cols":15,"rows_kept":3,"cut":false,"hidden":false,"merged":[[3,2,3,7]]}
[null,null,null,null,null,null,null,null,null,null,null,null,null,null,6]
[null,null,null,"Indicadores Sistema Eléctrico CCAA",null,null,null,null,"www.ree.es"]
[null,null,null,null,null,null,null,null,"Fecha de actualización:",null,"2017-12-20"]

{"sheet":"Cuadro mando","index":1,"n_rows":45,"n_cols":9,"rows_kept":45,"cut":false,"hidden":false,"merged":[[2,0,2,9],[6,1,6,5],[25,7,25,12],[6,7,6,12],[25,0,25,6]]}
[]
[]
["Principales Indicadores Aragón 2016"]
[]
[]
[]
[null,"GENERACIÓN",null,null,null,null,null,"DEMANDA B.C."]
[]
[]
[]
[]
[]
[]
[]
[]
[]
[]
[]
[]
[]
[]
[]
[]
[]
[]
["POTENCIA INSTALADA",null,null,null,null,null,null,"RED DE TRANSPORTE1"]
[]
[]
[]
[]
[]
[]
[]
[]
[]
[]
[]
[]
[]
[]
[]
[]
[]
[]
[null,null,null,null,null,null,null,"  ","  (1) km líneas de la Red de Transporte"]

{"sheet":"Generacion","index":2,"n_rows":28,"n_cols":8,"rows_kept":28,"cut":false,"hidden":false,"merged":[[27,1,27,5],[27,7,27,12],[6,7,6,12],[1,1,1,6],[6,1,6,5],[2,0,2,9]]}
[]
[]
["Generación Aragón 2016"]
[]
[]
[]
[null,"BALANCE  (GWh)",null,null,null,null,null,"ESTRUCTURA DE LA GENERACIÓN"]
[null,"Balance",null,{"$f":"generacion_bruta!D142","v":"Aragón"},"España","% del total"]
[null,"Hidráulica",null,{"$f":"generacion_bruta!D146","v":3333.3316217942443},{"$f":"generacion_bruta!V146","v":39176.953887999989},{"$f":"IF(OR(E9=0,D9=0),\"-\",D9*100/E9)","v":8.5083991760146844}]
[null,"Nuclear ",null,{"$f":"generacion_bruta!D147","v":0},{"$f":"generacion_bruta!V147","v":56098.971999999994},{"$f":"IF(OR(E10=0,D10=0),\"-\",D10*100/E10)","v":"-"}]
[null,"Carbón ",null,{"$f":"generacion_bruta!D148","v":3317.6030000000001},{"$f":"generacion_bruta!V148","v":37491.273000000001},8.8490006727699004]
[null,"Fuel / gas ",null,{"$f":"generacion_bruta!D149","v":0},{"$f":"generacion_bruta!V149","v":6764.5379999999996},"-"]
[null,"Ciclo combinado ",null,{"$f":"generacion_bruta!D150","v":175.51},{"$f":"generacion_bruta!V150","v":29260.398000000001},0.59982095937314317]
[null,"Consumos generación",null,{"$f":"generacion_bruta!D151","v":0},{"$f":"generacion_bruta!V151","v":0},"-"]
[null,"Hidroeólica",null,{"$f":"generacion_bruta!D152","v":0},{"$f":"generacion_bruta!V152","v":18.102639},"-"]
[null,"Eólica",null,{"$f":"generacion_bruta!D153","v":4225.9592520000006},{"$f":"generacion_bruta!V153","v":47696.670298999998},8.8600718362694622]
[null,"Solar fotovoltaica",null,{"$f":"generacion_bruta!D154","v":295.29593900000003},{"$f":"generacion_bruta!V154","v":7977.5998479999998},3.7015636861509331]
[null,"Solar térmica",null,{"$f":"generacion_bruta!D155","v":0},{"$f":"generacion_bruta!V155","v":5071.2017019999994},"-"]
[null,"Otras renovables",null,{"$f":"generacion_bruta!D156","v":53.330301999999996},{"$f":"generacion_bruta!V156","v":3424.5571789999999},1.5572904528220755]
[null,"Cogeneración",null,{"$f":"generacion_bruta!D157","v":2498.9124570000004},{"$f":"generacion_bruta!V157","v":25906.616027999997},9.6458466605563746]
[null,"Residuos",null,{"$f":"generacion_bruta!D158","v":366.54158699999999},{"$f":"generacion_bruta!V158","v":3392.3587940000002},{"$f":"IF(OR(E21=0,D21=0,D21=\"-\"),\"-\",D21*100/E21)","v":10.804918030731155}]
[null,"Generación neta ",null,{"$f":"generacion_bruta!D159","v":14266.484158794245},{"$f":"generacion_bruta!V159","v":262279.24137699994},{"$f":"IF(OR(E22=0,D22=0),\"-\",D22*100/E22)","v":5.4394255846910937}]
[null,"Consumos en bombeo",null,{"$f":"generacion_bruta!D160","v":-421.73700000000002},{"$f":"generacion_bruta!V160","v":-4819.4160000000011},{"$f":"IF(OR(E23=0,D23=0),\"-\",D23*100/E23)","v":8.7507905522162837}]
[null,"Saldo Intercambios",null,{"$f":"generacion_bruta!D161","v":-3406.8420000000001},{"$f":"generacion_bruta!V161","v":7667.3229999999985},"-"]
[null,"Demanda B.C",null,{"$f":"generacion_bruta!D162","v":10437.905158794245},{"$f":"generacion_bruta!V162","v":265127.14837699995},{"$f":"IF(OR(E25=0,D25=0),\"-\",D25*100/E25)","v":3.9369431696040316}]
[]
[]
[null,"EVOLUCIÓN DE LA GENERACIÓN NETA",null,null,null,null,null,"GENERACIÓN RENOVABLE Y NO RENOVABLE"]

{"sheet":"Potencia","index":3,"n_rows":35,"n_cols":8,"rows_kept":35,"cut":false,"hidden":false,"merged":[[1,1,1,6],[6,7,6,12],[26,7,26,12],[2,0,2,9],[26,1,26,6],[6,1,6,6]]}
[]
[]
["Potencia Aragón 2016"]
[]
[]
[]
[null,"BALANCE DE POTENCIA INSTALADA (MW)",null,null,null,null,null,"VARIACIONES DE LA POTENCIA INSTALADA"]
[]
[null,null,null,{"$f":"Potencias!D97","v":"Aragón"},"España","% del total"]
[null,"Hidráulica",null,{"$f":"Potencias!D99","v":1548.1569999999999},{"$f":"Potencias!V99","v":20356.27058},{"$f":"IF(OR(E10=0,D10=0),\"-\",IF(D10*100/E10>200,\"-\",D10*100/E10))","v":7.6053076319444353}]
[null,"Nuclear ",null,{"$f":"Potencias!D100","v":0},{"$f":"Potencias!V81","v":7572.58},{"$f":"IF(OR(E11=0,D11=0,),\"-\",IF(D11*100/E11>200,\"-\",D11*100/E11))","v":"-"}]
[null,"Carbón ",null,{"$f":"Potencias!D101","v":1055.77},{"$f":"Potencias!V101","v":10004.269999999999},{"$f":"IF(OR(E12=0,D12=0),\"-\",IF(D12*100/E12>200,\"-\",D12*100/E12))","v":10.553193786253271}]
[null,"Fuel / gas ",null,{"$f":"Potencias!D102","v":0},{"$f":"Potencias!V102","v":2490.06},{"$f":"IF(OR(E13=0,D13=0),\"-\",IF(D13*100/E13>200,\"-\",D13*100/E13))","v":"-"}]
[null,"Ciclo combinado ",null,{"$f":"Potencias!D103","v":1869.68},{"$f":"Potencias!V103","v":26669.86},7.0104604973554414]
[null,"Hidroeólica",null,{"$f":"Potencias!D104","v":0},{"$f":"Potencias!V104","v":11.39},"-"]
[null,"Eólica",null,{"$f":"Potencias!D105","v":1815.51},{"$f":"Potencias!V105","v":23066.410849999997},7.8707953821086143]
[null,"Solar fotovoltaica",null,{"$f":"Potencias!D106","v":167.49319999999798},{"$f":"Potencias!V106","v":4672.6197600001469},3.5845673006354946]
[null,"Solar térmica",null,{"$f":"Potencias!D107","v":0},{"$f":"Potencias!V107","v":2299.4275000000002},"-"]
[null,"Otras renovables",null,{"$f":"Potencias!D108","v":16.216000000000001},{"$f":"Potencias!V108","v":748.40341000000001},2.1667458730579541]
[null,"Cogeneración",null,{"$f":"Potencias!D109","v":581.71300000000008},{"$f":"Potencias!V109","v":6459.6156999999994},9.0053809238218321]
[null,"Residuos",null,{"$f":"Potencias!D110","v":80.884},{"$f":"Potencias!V110","v":754.37399999999991},10.722002614087973]
[null,"Total 2016",null,{"$f":"Potencias!D111","v":7135.4231999999984},{"$f":"Potencias!V111","v":105105.28180000014},{"$f":"IF(OR(E22=0,D22=0),\"-\",IF(D22*100/E22>200,\"-\",D22*100/E22))","v":6.7888340888307184}]
[null,"Total 2015",null,{"$f":"Potencias!D92","v":7136.4343999999992},{"$f":"Potencias!V92","v":106172.77773000013},{"$f":"IF(OR(E23=0,D23=0,D23=\"-\"),\"-\",IF(D23*100/E23>200,\"-\",D23*100/E23))","v":6.7215293341463855}]
[null,"Δ 2016/2015",null,{"$f":"IF(D23=\"-\",\"-\",(D22/D23-1))","v":-1.4169541024589005E-4},{"$f":"IF(E23=\"-\",\"-\",(E22/E23-1))","v":-1.0054327981459221E-2},null," "]
[]
[]
[null,"EVOLUCIÓN DE LA POTENCIA INSTALADA (MW)",null,null,null,null,null,"ESTRUCTURA DE LA POTENCIA INSTALADA"]
[]
[]
[]
[]
[]
[]
[]
[" "]

{"sheet":"Demanda","index":4,"n_rows":26,"n_cols":8,"rows_kept":26,"cut":false,"hidden":false,"merged":[[1,1,1,6],[6,7,6,12],[25,7,25,12],[2,0,2,9],[6,1,6,6],[25,1,25,6]]}
[]
[]
["Demanda Aragón 2016"]
[]
[]
[]
[null,"EVOLUCIÓN DE LA DEMANDA ",null,null,null,null,null,"VARIACIÓN DE LA DEMANDA"]
[]
[]
[]
[]
[]
[]
[]
[]
[]
[]
[]
[]
[]
[]
[]
[]
[]
[]
[null,"GENERACIÓN NETA C.A. vs. DEMANDA C.A.",null,null,null,null,null,"% DEMANDA C.A. vs. DEMANDA NACIONAL"]

{"sheet":"Red_de_transporte","index":5,"n_rows":26,"n_cols":8,"rows_kept":26,"cut":false,"hidden":false,"merged":[[1,1,1,6],[6,1,6,5],[6,7,6,12],[25,1,25,5],[25,7,25,12],[2,0,2,9]]}
[]
[]
["Red de transporte Aragón 2016"]
[]
[]
[]
[null,"RED DE TRANSPORTE",null,null,null,null,null,"VARIACIONES DE LA RdT"]
[]
[]
[]
[null,"AÑO 2016",null,{"$f":"datos_RdT!D72","v":"Aragón"},"  España ","% del total "]
[null,"  km circuitos   400 kV ",null,{"$f":"datos_RdT!D73","v":1520.6349404737257},{"$f":"datos_RdT!V73","v":21618.981400000008},{"$f":"D12*100/E12","v":7.0337954982177155}]
[null,"  km circuitos   220 kV ",null,{"$f":"datos_RdT!D74","v":1848.84},{"$f":"datos_RdT!V74","v":19587.977844237765},{"$f":"D13*100/E13","v":9.4386465754752571}]
[null,"  km circuitos <220 kV ",null,{"$f":"datos_RdT!D75","v":0},{"$f":"datos_RdT!V75","v":2576.4709999999995},0]
[null,"km circuitos",null,{"$f":"datos_RdT!D76","v":3369.4749404737258},{"$f":"datos_RdT!V76","v":43783.430244237774},7.6957765110630501]
[null,"  Posiciones     400 kV ",null,{"$f":"datos_RdT!D78","v":98},{"$f":"datos_RdT!V78","v":1458},{"$f":"D16*100/E16","v":6.7215363511659811}]
[null,"  Posiciones     220 kV ",null,{"$f":"datos_RdT!D79","v":214},{"$f":"datos_RdT!V79","v":3265},{"$f":"D17*100/E17","v":6.5543644716692189}]
[null,"  Posiciones   <220 kV ",null,{"$f":"datos_RdT!D80","v":0},{"$f":"datos_RdT!V80","v":888},0]
[null,"Posiciones ",null,{"$f":"datos_RdT!D81","v":312},{"$f":"datos_RdT!V81","v":5611},5.5605061486366063]
[null,"Transformadores (MVA)",null,{"$f":"datos_RdT!D83","v":4974},{"$f":"datos_RdT!V83","v":85444.474999999991},5.8213243161714088]
[]
[null,"Incluye los activos de la red de transporte del resto de empresas."]
[]
[]
[]
[null,"EVOLUCIÓN DE LA RdT",null,null,null,null,null,"% km LÍNEAS C.A. vs. KILÓMETROS TOTALES"]

{"sheet":"AVISO LEGAL","index":6,"n_rows":0,"n_cols":0,"rows_kept":0,"cut":false,"hidden":false,"merged":[]}

{"sheet":"generacion_bruta","index":7,"n_rows":167,"n_cols":24,"rows_kept":167,"cut":false,"hidden":true,"merged":[]}
[null,2011]
[null,"CCAA","Andalucía","Aragón","Asturias","Baleares","C. Valenciana","Canarias","Cantabria","Castilla-La Mancha","Castilla y León","Cataluña","Ceuta","Extremadura","Galicia","La Rioja","Madrid","Melilla","Murcia","Navarra","País Vasco","España","PENINSULAR","NO PENINSULAR"]
[]
[]
[]
[null,"Hidráulica",1410.8023012295787,2756.0134409474913,1283.3128496415561,0,1313.8495137681452,1.675408,628.50013870917837,991.71181382374232,9030.9282617430435,3936.325731440947,0,3516.5453598928284,6430.2802437387563,138.43037624543734,244.52657922753951,0,110.84197619293917,426.01360724111026,302.1399821576947,44954.22051900001,44954.22051900001,0]
[null,"Nuclear ",0,0,0,0,7588.8289999999997,0,0,7834.5079999999998,3576.9870000000001,20854.210999999999,0,15249.396000000001,0,0,0,0,0,0,0,{"$f":"SUM(C7:U7)","v":55103.931000000004},{"$f":"V7-F7-H7-M7-R7","v":55103.931000000004},{"$f":"F7+H7+M7+R7","v":0}]
[null,"Carbón ",8190.58,6135.0810000000001,7237.3029999999999,2764.8670000000002,0,0,0,1458.4169999999999,9029.3279999999995,11.689,0,0,8099.3360000000002,0,0,0,0,0,340.09300000000002,43266.694000000003,40501.827000000005,2764.8670000000002]
[null,"Fuel / gas ",0,0,0,1283.414,0,5330.2414849999996,0,0,0,0,202.977,0,0,0,0,207.79989399999999,0,0,0,7024.4323789999989,-3.694822225952521E-13,7024.4323789999989]
[null,"Ciclo combinado ",13707.538,1455.2739999999999,1770.412,1326.7349999999999,6703.7809999999999,2918.8752370000002,0,3267.0059999999999,0,9288.0280000000002,0,0,2236.7049999999999,969.80700000000002,0,0,5398.3419999999996,1184.17,3430.5940000000001,53657.267236999993,49411.656999999992,4245.6102369999999]
[null,"Consumos generación",null,null,null,null,null,null,null,null,null,null,null,null,null,null,null,null,null,null,null,0,0,0]
[null,"Hidroeólica",0,0,0,0,0,0,0,0,0,0,0,0,0,0,0,0,0,0,0,0,0,0]
[null,"Eólica",6220.8390449999997,3850.0185310000002,677.45192499999996,5.8282569999999989,1968.3925940000001,354.15511299999991,62.816258999999988,6827.344728,8932.1360420000001,1929.497932,0,0,7432.7618679999987,936.95675599999993,0,0,308.95581800000002,2606.1621609999997,352.09892200000002,42465.415950999995,42105.432580999994,359.98336999999992]
[null,"Solar fotovoltaica",1403.847436,267.26787899999994,0.65270000000000006,101.22075699999999,443.51272099999994,232.13997800000001,2.0579550000000002,1660.9694319999999,764.07567299999982,358.76710600000001,0,1013.3271309999999,15.168364000000002,135.54429799999997,59.462191999999988,7.1472000000000008E-2,653.35928200000001,288.55723600000005,25.117889999999999,7425.1195020000005,7091.6872950000006,333.43220700000001]
[null,"Solar termoeléctrica",853.17522900000006,0,0,0,0,0,0,236.23302200000001,0,0,0,742.75093899999979,0,0,0,0,0.19868900000000003,0,0,1832.3578789999999,1832.3578789999999,0]
[null,"Térmica renovable/Otras renovables",1306.3697320000001,144.32328799999999,653.32137000000012,0,46.790627000000001,33.148213000000005,14.08182,265.41461099999998,157.26786999999999,194.75856100000001,0,144.72137599999999,571.00088300000004,9.241382999999999,311.64336099999997,0,22.972127,276.37073600000002,166.56407100000001,4317.9900290000005,4284.8418160000001,33.148213000000005]
[null,"Cogeneración/Cogeneración y resto",5568.6000990000002,3334.0364930000001,704.80602600000009,260.747524,2095.3230739999999,0,1351.1196129999998,1769.3862320000001,3380.5181440000001,5608.7768709999991,0,30.167911,1895.2970290000001,173.77920999999995,1134.1170649999999,7.0352210000000008,1598.8581509999999,848.98653000000002,2557.2375370000004,32318.792730000001,32051.009985000004,267.78274499999998]
[null,"Residuos",0,0,0,0,0,0,0,0,0,0,0,0,0,0,0,0,0,0,0,{"$f":"SUM(C18:U18)","v":0},{"$f":"V18-F18-H18-M18-R18","v":0},{"$f":"F18+H18+M18+R18","v":0}]
[null,"Generación neta ",38661.751842229583,17942.014631947488,12327.259870641556,5742.8125380000001,20160.478529768145,8870.2354340000002,2058.575785709178,24310.990838823742,34871.240990743041,42182.054201440944,202.977,20696.908716892831,26680.549387738756,2363.7590232454372,1749.7491972275393,214.906587,8093.5280431929386,5630.2602702411095,7173.8454021576963,{"$f":"SUM(C19:U19)","v":279933.89829099999},264902.966732,15030.931559000001]
[null,"Consumos en bombeo",-301.62200000000001,-278.55099999999999,-25.335000000000001,0,-1126.2059999999999,0,-498.87799999999999,-129.73400000000001,-367.04399999999998,-276.00299999999999,0,-62.634,-148.95500000000001,0,0,0,0,0,0,-3214.962,-3214.962,0]
[null,"Saldo Intercambios",1613.575,-7260.3310000000001,-1342.4449999999999,0.47599999999999998,8191.6689999999999,0,2912.8490000000002,-12181.779,-20964.058000000001,6288.4859999999999,0,-15916.135,-6691.6289999999999,-615.81299999999999,29804.43,0,231.07,-683.66899999999998,10523.174000000001,-6090.1300000000028,-6090.6060000000025,0.47599999999999998]
[null,"Demanda B.C",39973.704842229577,10403.132631947488,10959.479870641557,5743.2885379999998,27225.941529768148,8870.2354340000002,4472.546785709178,11999.477838823741,13540.138990743038,48194.537201440944,202.977,4718.1397168928324,19839.965387738754,1747.9460232454371,31554.179197227539,214.906587,8324.5980431929383,4946.5912702411097,17697.019402157697,270628.80629099999,{"$f":"V22-F22-H22-M22-R22","v":255597.39873199994},15031.407558999999]
[null,{"$f":"CONCATENATE(\"Δ\",B1,\"/\",B1-1)","v":"Δ2011/2010"},-1.401045402110479E-2,-1.6509893267077302E-2,1.6138655931461576E-2,-1.6608810375253191E-2,-2.3192029607301046E-2,-2.7544779950693377E-3,2.4121990421637873E-2,-6.966717836464853E-3,-3.3795584296561487E-2,-1.7116769784879304E-2,-6.6913985464274295E-2,-5.4666141882314667E-2,-7.9289658900386639E-3,-2.3186092049002127E-2,-3.6820115598719894E-2,7.4604637681701114E-3,-5.7675308731475194E-4,5.9917748820614847E-3,-4.1609445557349134E-2,"-","-","-"]
[null,"Renovable",{"$f":"C6+0.7*C20+C12+C13+C14+C15+C16","v":10983.898343229579},{"$f":"D6+0.7*D20+D12+D13+D14+D15+D16","v":6822.6374389474904},{"$f":"E6+0.7*E20+E12+E13+E14+E15+E16","v":2597.0043446415561},107.04901399999999,2984.2012557681455,621.11871199999996,358.2415727091784,9890.8598068237425,18627.477046743043,6226.1472304409472,0,5373.5010058928283,14344.942858738754,1220.1728132454373,615.63213222753939,7.1472000000000008E-2,1096.3278921929393,3597.1037402411098,845.92086515769472,86312.307544999974,{"$f":"V24-F24-H24-M24-R24","v":85584.068346999979},{"$f":"F24+H24+M24+R24","v":728.23919799999987}]
[null,"No renovable",{"$f":"C7+C8+C9+C10+C17","v":27466.718099000002},{"$f":"D7+D8+D9+D10+D17","v":10924.391492999999},9712.5210260000003,5635.763524,16387.933074,8249.1167219999988,1351.1196129999998,14329.317231999999,15986.833143999998,35762.704871000002,202.977,15279.563911000001,12231.338029,1143.5862099999999,1134.1170649999999,214.835115,6997.2001509999991,2033.1565300000002,6327.9245370000008,191371.11734600007,{"$f":"V25-F25-H25-M25-R25","v":177068.42498500005},14302.692360999999]
[null,"% Renovable s/total",{"$f":"(C24)/(C$25+C$24)","v":0.28566247721235938},{"$f":"(D24)/(D$25+D$24)","v":0.38443828908542838},{"$f":"(E24)/(E$25+E$24)","v":0.21097518112562316},1.8640520353339102E-2,0.1540460748913185,7.0022798901055644E-2,0.20957628832583527,0.40837272952089432,0.53814381809418865,0.1482809583695974,0,0.26017935001490566,0.53976487226837455,0.51620017152600528,0.35184021413068944,3.3257240272491044E-4,0.13545735386868843,0.63888764774404783,0.11791735362784163,{"$f":"(V24)/(V$25+V$24)","v":0.3108298868716432},{"$f":"(W24)/(W$25+W$24)","v":0.32584525378489115},4.8449372225632656E-2]
[null,"% No renovable s/total",{"$f":"(C25)/(C$25+C$24)","v":0.71433752278764051},{"$f":"(D25)/(D$25+D$24)","v":0.61556171091457157},{"$f":"(E25)/(E$25+E$24)","v":0.78902481887437681},0.98135947964666081,0.84595392510868161,0.92997720109894444,0.7904237116741647,0.59162727047910568,0.4618561819058114,0.85171904163040257,1,0.73982064998509434,0.46023512773162539,0.48379982847399478,0.64815978586931056,0.99966742759727512,0.86454264613131149,0.36111235225595223,0.88208264637215839,0.68917011312835685,0.67415474621510885,0.95155062777436739]
[]
[null,2012]
[null,"CCAA","Andalucía","Aragón","Asturias","Baleares","C. Valenciana","Canarias","Cantabria","Castilla-La Mancha","Castilla y León","Cataluña","Ceuta","Extremadura","Galicia","La Rioja","Madrid","Melilla","Murcia","Navarra","País Vasco","España","PENINSULAR","NO PENINSULAR"]
[]
[]
[]
[null,"Hidráulica",1017.386023939149,2525.9988796774169,1251.2103037426698,0,1214.9177215144523,1.7913010000000003,877.3730513543635,793.51975089549751,5570.0246851607717,3601.5114093371481,0,1111.6406904771125,4759.0604686225925,123.69396693988554,65.607026996344942,0,108.18707425701834,470.97455648925609,333.21549259632434,{"$f":"SUM(C34:U34)","v":23826.112403000003},{"$f":"V34-F34-H34-M34-R34","v":23824.321102000002},{"$f":"F34+H34+M34+R34","v":1.7913010000000003}]
[null,"Nuclear ",0,0,0,0,9015.0619999999999,0,0,7948.4009999999998,3703.47,22950.870999999999,0,15049.183000000001,0,0,0,0,0,0,0,{"$f":"SUM(C35:U35)","v":58666.987000000008},{"$f":"V35-F35-H35-M35-R35","v":58666.987000000008},0]
[null,"Carbón ",10920.123,4836.6360000000004,10061.81,2682.5329999999999,0,0,0,1741.818,10341.323,0,0,0,12248.726000000001,0,0,0,0,0,980.45,53813.419000000002,51130.885999999999,2682.5329999999999]
[null,"Fuel / gas ",0,0,0,1284.5139999999999,0,5386.6469999999999,0,0,0,0,212.07499999999999,0,0,0,0,214.96100000000001,0,0,0,7098.1970000000001,0,7098.1970000000001]
[null,"Ciclo combinado ",9738.8850000000002,940.65099999999995,774.10299999999995,890.56,4774.3879999999999,2877.7710000000002,0,2553.9279999999999,0,8041.259,0,0,1291.607,1311.0820000000001,0,0,3097.9720000000002,832.76700000000005,4175.0240000000003,{"$f":"SUM(C38:U38)","v":41299.996999999996},{"$f":"V38-F38-H38-M38-R38","v":37531.665999999997},{"$f":"F38+H38+M38+R38","v":3768.3310000000001}]
[null,"Consumos generación",null,null,null,null,null,null,null,null,null,null,null,null,null,null,null,null,null,null,null,{"$f":"SUM(C39:U39)","v":0},{"$f":"V39-F39-H39-M39-R39","v":0},{"$f":"F39+H39+M39+R39","v":0}]
[null,"Hidroeólica",0,0,0,0,0,0,0,0,0,0,0,0,0,0,0,0,0,0,0,{"$f":"SUM(C40:U40)","v":0},{"$f":"V40-F40-H40-M40-R40","v":0},{"$f":"F40+H40+M40+R40","v":0}]
[null,"Eólica",5736.3085949999995,4453.4094860000005,884.39691900000003,6.5046990000000005,2547.6952380000002,361.76732499999997,62.089361999999994,7948.2695899999999,11364.710531999999,2647.569039,0,0,8068.6186040000002,1005.869132,0,0,403.31686399999995,2677.9481930000002,339.864375,{"$f":"SUM(C41:U41)","v":48508.337953000002},{"$f":"V41-F41-H41-M41-R41","v":48140.065929000004},{"$f":"F41+H41+M41+R41","v":368.27202399999999}]
[null,"Solar fotovoltaica",1530.531512,285.43228199999999,0.73396400000000017,115.59326900000001,527.54466600000001,256.51338599999997,2.1365879999999997,1753.1257839999998,832.01289199999985,409.62192199999998,0,1110.4756620000003,17.670514999999998,140.93820200000002,80.340487999999993,8.3113999999999993E-2,792.42207499999995,317.69611599999996,29.217547000000003,{"$f":"SUM(C42:U42)","v":8202.0899840000002},7829.9002150000006,372.18976900000001]
[null,"Solar termoeléctrica",1837.6318939999999,0,0,0,0,0,0,524.68599199999994,0,0.56833500000000003,0,1057.8690019999999,0,0,0,0,23.378823000000001,0,0,3444.1340459999997,3444.1340459999997,0]
[null,"Térmica renovable/Otras renovables",1458.2796969999999,316.07290999999998,656.22561100000007,0.56983000000000006,52.936557000000001,8.0504470000000001,16.857637999999998,247.08517900000001,172.33288899999999,256.14881200000002,0,150.31303000000003,597.38521300000002,15.679898999999997,298.03053999999997,0,28.802131999999997,290.99263400000001,189.00736900000001,4754.7703869999996,4746.1501099999996,8.6202769999999997]
[null,"Cogeneración/Cogeneración y resto",5795.4123549999995,3260.8027050000001,724.31532700000002,272.07574200000005,2117.8639850000004,0,1669.3213869999997,1356.04973,3326.2084100000006,6185.6930789999988,0,29.920800000000003,2257.7876620000002,167.90174099999999,1226.5214539999999,2.3089580000000001,1959.6794729999997,960.60030799999981,2454.7862180000002,33767.249334000007,33492.864634000005,274.38470000000007]
[null,"Residuos",0,0,0,0,0,0,0,0,0,0,0,0,0,0,0,0,0,0,0,{"$f":"SUM(C46:U46)","v":0},{"$f":"V46-F46-H46-M46-R46","v":0},{"$f":"F46+H46+M46+R46","v":0}]
[null,"Generación neta ",38034.558076939145,16619.003262677419,14352.795124742668,5252.3505400000004,20250.408167514455,8892.5404590000016,2627.7780263543632,24866.883025895495,35310.082408160772,44093.24259633715,212.07499999999999,18509.402184477112,29240.855462622596,2765.1649409398856,1670.499508996345,217.353072,6413.7584412570177,5550.9788074892567,8501.5650015963256,{"$f":"SUM(C47:U47)","v":283381.29410700005},268806.97503600002,14574.319071000004]
[null,"Consumos en bombeo",-434.63200000000001,-351.54199999999997,-52.417999999999999,0,-1114.3420000000001,0,-795.60299999999995,-156.03200000000001,-1401.482,-381.44099999999997,0,-15.193,-319.86399999999998,0,0,0,0,0,0,{"$f":"SUM(C48:U48)","v":-5022.549},-5022.549,0]
[null,"Saldo Intercambios",2108.9369999999999,-6028.7219999999998,-3960.9540000000002,570.25099999999998,7340.41,0,2567.3359999999998,-12690.621999999999,-20179.093000000001,4039.2649999999999,0,-13604.637000000001,-9270.3029999999999,-1032.2829999999999,29330.89,0,2193.3490000000002,-752.15,8168.3720000000003,-11199.954000000009,-11770.205000000009,570.25099999999998]
[null,"Demanda B.C",39708.863076939146,10238.73926267742,10339.423124742669,5822.6015400000006,26476.476167514455,8892.5404590000016,4399.5110263543629,12020.229025895496,13729.507408160767,47751.06659633715,212.07499999999999,4889.5721844771124,19650.688462622595,1732.8819409398857,31001.389508996344,217.353072,8607.1074412570179,4798.8288074892571,16669.937001596325,267158.79110699997,252014.22103599994,15144.570071000004]
[null,{"$f":"CONCATENATE(\"Δ\",B29,\"/\",B29-1)","v":"Δ2012/2011"},{"$f":"(C50/C22-1)","v":-6.6253995304094149E-3},-1.5802294855419285E-2,-5.6577205598954294E-2,1.380968437772756E-2,-2.7527619620950405E-2,2.5145922186580183E-3,-1.63297921417348E-2,1.7293408388667775E-3,1.3985707055680363E-2,-9.2016778426609047E-3,4.4822812436877024E-2,{"$f":"(N50/N22-1)","v":3.63347585851439E-2},{"$f":"(O50/O22-1)","v":-9.5401842400961723E-3},-8.6181621773318007E-3,-1.7518747192757367E-2,1.1383946086305885E-2,3.3936701399665647E-2,-2.9871573105463067E-2,-5.8037027435034916E-2,-1.2822046668117038E-2,-1.4018834752528297E-2,7.5284042133665352E-3]
[null,"Renovable",{"$f":"C34+0.7*C48+C40+C41+C42+C43+C44","v":11275.895321939148},{"$f":"D34+0.7*D48+D40+D41+D42+D43+D44","v":7334.8341576774174},2755.8741977426698,122.667798,3563.0547825144522,628.12245899999982,401.53453935436363,11157.463895895498,16958.04359816077,6648.4108173371487,0,3419.6632844771129,13218.830000622591,1286.1811999398856,443.97805499634489,8.3113999999999993E-2,1356.1069682570183,3757.6114994892564,891.30478359632434,{"$f":"SUM(C52:U52)","v":85219.660472999996},{"$f":"V52-F52-H52-M52-R52","v":84468.787102000002},{"$f":"F52+H52+M52+R52","v":750.87337099999991}]
[null,"No renovable",{"$f":"C35+C36+C37+C38+C45","v":26454.420355000002},{"$f":"D35+D36+D37+D38+D45","v":9038.0897050000003},11560.228326999999,5129.682742,15907.313985000001,8264.4179999999997,1669.3213869999997,13600.19673,17371.001410000001,37177.823078999994,212.07499999999999,15079.103800000001,15798.120662000001,1478.983741,1226.5214539999999,217.269958,5057.6514729999999,1793.3673079999999,7610.2602180000004,{"$f":"SUM(C53:U53)","v":194645.84933400003},{"$f":"V53-F53-H53-M53-R53","v":180822.40363400002},13823.4457]
[null,"% Renovable s/total",{"$f":"(C52)/(C$52+C$53)","v":0.29885504851026196},{"$f":"(D52)/(D$52+D$53)","v":0.44798560227824652},0.19250170868640146,2.3354838384415981E-2,0.18299883402615719,7.0634759762525118E-2,0.19389786331550588,0.4506671314585049,0.49398530003177976,0.15169934138221267,0,0.1848589837831224,0.45555544944459214,0.46513724403821993,0.26577562735297777,3.8239165076074926E-4,0.21143717535941967,0.67692773289272345,0.10484008337629194,{"$f":"(V52)/(V$52+V$53)","v":0.30450218939721763},0.31840027129305498,{"$f":"(X52)/(X$52+X$53)","v":5.1520305500521724E-2}]
[null,"% No renovable s/total",{"$f":"(C53)/(C$52+C$53)","v":0.70114495148973799},0.55201439772175354,0.80749829131359852,0.9766451616155839,0.81700116597384276,0.9293652402374748,0.80610213668449415,0.54933286854149499,0.50601469996822024,0.84830065861778736,1,0.81514101621687762,0.54444455055540786,0.53486275596178001,0.73422437264702223,0.99961760834923929,0.78856282464058036,0.32307226710727643,0.89515991662370797,0.69549781060278226,0.68159972870694496,{"$f":"(X53)/(X$52+X$53)","v":0.94847969449947833}]
[]
[null,2013]
[null,"CCAA","Andalucía","Aragón","Asturias","Baleares","C. Valenciana","Canarias","Cantabria","Castilla-La Mancha","Castilla y León","Cataluña","Ceuta","Extremadura","Galicia","La Rioja","Madrid","Melilla","Murcia","Navarra","País Vasco","España","PENINSULAR","NO PENINSULAR"]
[]
[]
[]
[null,"Hidráulica",1618.7615411778304,4564.9471849507863,2220.2694944967293,0,1590.5680617992402,3.0495039999999993,882.80170052137282,1036.1619592250026,8491.5892154659523,5651.9956758435037,0,2860.2910861122232,9975.702002834194,173.13812399092654,167.98673340319692,0,131.77058027981309,770.78815838429125,539.56449551493711,{"$f":"SUM(C62:U62)","v":40679.385518000003},{"$f":"V62-F62-H62-M62-R62","v":40676.336014},{"$f":"F62+H62+M62+R62","v":3.0495039999999993}]
[null,"Nuclear ",0,0,0,0,8004.8639999999996,0,0,7484.576,0,23719.595000000001,0,15097.852000000001,0,0,0,0,0,0,0,54306.887000000002,{"$f":"V63-F63-H63-M63-R63","v":54306.887000000002},0]
[null,"Carbón ",9277.5969999999998,3435.268,8564.4740000000002,2350.681,0,0,0,786.55799999999999,5717.3879999999999,0,0,0,9395.598,0,0,0,0,0,0,39527.563999999998,37176.883000000002,2350.681]
[null,"Fuel / gas ",0,0,0,1260.1559999999999,0,4910.1319999999996,0,0,0,0,201.959,0,0,0,0,201.547,0,0,0,6573.793999999999,{"$f":"V65-F65-H65-M65-R65","v":-5.9685589803848416E-13},{"$f":"F65+H65+M65+R65","v":6573.793999999999}]
[null,"Ciclo combinado ",5827.2139999999999,89.442999999999998,296.952,413.57499999999999,3940.2930000000001,3052.68,0,1106.768,0,5685.0379999999996,0,0,1157.1690000000001,395.64299999999997,0,0,2342.3290000000002,361.286,3158.4450000000002,27826.835000000003,{"$f":"V66-F66-H66-M66-R66","v":24360.58},{"$f":"F66+H66+M66+R66","v":3466.2549999999997}]
[null,"Consumos generación",null,null,null,null,null,null,null,null,null,null,null,null,null,null,null,null,null,null,null,0,{"$f":"V67-F67-H67-M67-R67","v":0},{"$f":"F67+H67+M67+R67","v":0}]
[null,"Hidroeólica",0,0,0,0,0,0,0,0,0,0,0,0,0,0,0,0,0,0,0,0,{"$f":"V68-F68-H68-M68-R68","v":0},{"$f":"F68+H68+M68+R68","v":0}]
[null,"Eólica",6986.8114810000006,4869.4722959999999,1140.5479029999999,6.1594680000000004,2594.8544980000001,362.73348499999997,74.550423999999992,8657.4786239999994,12684.693724999999,3194.7266680000002,0,0,9497.9060239999999,1078.3850749999999,0,0,543.81997799999999,2664.7521859999997,356.35344999999995,{"$f":"SUM(C69:U69)","v":54713.245285000005},{"$f":"V69-F69-H69-M69-R69","v":54344.352332000009},{"$f":"F69+H69+M69+R69","v":368.89295299999998}]
[null,"Solar fotovoltaica",1586.3959349999998,309.12395099999998,0.73813499999999999,122.097173,564.34867599999995,286.70133000000004,2.0671429999999997,1697.8569010000001,848.07693299999994,431.35078599999997,0,1110.4428409999998,20.475404999999999,130.10738699999999,92.065936999999991,8.2323000000000007E-2,801.93057499999998,295.442564,27.615430999999997,8326.9194260000022,7918.0386000000026,408.88082600000001]
[null,"Solar termoeléctrica",1987.7873390000004,0,0,0,9.8331619999999997,0,0,678.24493700000005,0,73.818010000000001,0,1648.8201199999999,0,0,0,0,43.023967000000006,0,0,4441.5275350000002,4441.5275350000002,0]
[null,"Térmica renovable/Otras renovables",1764.0065419999999,228.21192100000002,666.23538100000007,0.74474999999999991,52.92403199999999,8.3869790000000002,81.926783999999998,239.06713000000002,181.36608100000004,258.64171000000005,0,150.03492600000004,597.00197200000002,11.889306999999999,286.10578200000003,0,57.719059999999999,303.59326699999997,186.841747,5074.6973710000002,5065.5656420000005,9.131729]
[null,"Cogeneración/Cogeneración y resto",5641.9709069999999,3287.8084229999999,756.72251999999992,251.61495500000001,2074.8986260000001,0,1219.7241500000002,1145.6358950000001,2968.3200879999995,6131.3114270000005,0,30.034799,2441.2428270000005,149.74085499999998,1086.329052,8.0377970000000012,1960.3691819999999,981.56739900000014,2161.0488399999999,32296.377742000001,32036.724989999999,259.65275200000002]
[null,"Residuos",0,0,0,0,0,0,0,0,0,0,0,0,0,0,0,0,0,0,0,{"$f":"SUM(C74:U74)","v":0},{"$f":"V74-F74-H74-M74-R74","v":0},{"$f":"F74+H74+M74+R74","v":0}]
[null,"Generación neta ",34690.544745177831,16784.274775950784,13645.939433496729,4405.0283459999991,18832.584055799241,8623.6832979999999,2261.0702015213728,22832.347446225001,30891.434042465949,45146.477276843514,201.959,20897.475772112226,33085.095230834195,1938.9037479909264,1632.4875044031969,209.66712000000001,5880.9623422798131,5377.4295743842913,6429.8689635149367,{"$f":"SUM(C75:U75)","v":273767.232877},260326.89511300001,13440.337764]
[null,"Consumos en bombeo",-470.70499999999998,-367.52,-77.28,0,-1520.008,0,-758.74900000000002,-206.83,-1728.923,-335.16800000000001,0,-56.837000000000003,-435.82600000000002,0,0,0,0,0,0,{"$f":"SUM(C76:U76)","v":-5957.8459999999995},-5957.8459999999995,0]
[null,"Saldo Intercambios",3967.8980000000001,-6311.9009999999998,-3153.97,1268.509,8582.518,0,2883.1439999999998,-10994.532999999999,-15481.299000000001,1461.7570000000001,0,-15974.308999999999,-12778.904,-234.66900000000001,28075.127,0,2433.7069999999999,-601.34299999999996,10126.138000000001,-6732.1299999999956,-8000.6389999999956,1268.509]
[null,"Demanda B.C",38187.73774517783,10104.853775950784,10414.689433496729,5673.5373459999992,25895.09405579924,8623.6832979999999,4385.4652015213724,11630.984446225,13681.21204246595,46273.066276843514,201.959,4866.3297721122271,19870.365230834192,1704.2347479909263,29707.614504403198,209.66712000000001,8314.6693422798126,4776.0865743842915,16556.006963514938,261077.25687700004,{"$f":"V78-F78-H78-M78-R78","v":246368.41011300005},14708.846764]
[null,{"$f":"CONCATENATE(\"Δ\",B57,\"/\",B57-1)","v":"Δ2013/2012"},{"$f":"(C78/C50-1)","v":-3.8306947464449181E-2},-1.3076364510490102E-2,7.279546242183077E-3,-2.5600960837859676E-2,-2.1958439938791652E-2,-3.0234010431506753E-2,-3.1925877100550393E-3,-3.2382459504884276E-2,-3.5176328078683206E-3,-3.0952194889967366E-2,-4.7700106094542005E-2,-4.7534654337801907E-3,1.1179087624814787E-2,-1.6531531821158962E-2,-4.1732806983303283E-2,-3.5361598201841815E-2,-3.3976350472336714E-2,-4.739121568469562E-3,{"$f":"(U78/U50-1)","v":-6.8344612262468685E-3},-2.2763743632767897E-2,{"$f":"(W78/W50-1)","v":-2.2402747352076591E-2},-2.8770926144305764E-2]
[null,"Renovable",{"$f":"C62+0.7*C76+C68+C69+C70+C71+C72","v":13614.269338177832},{"$f":"D62+0.7*D76+D68+D69+D70+D71+D72","v":9714.4913529507867},3973.694913496729,129.00139100000001,3748.5228297992403,660.87129800000002,510.22175152137288,12164.028551225001,20995.479854465953,9375.9152498435051,0,5729.8030731122235,19786.007203834197,1393.5198929909263,546.15845240319686,8.2323000000000007E-2,1578.264160279813,4034.5761753842908,1110.3751235149371,{"$f":"SUM(C80:U80)","v":109065.28293500001},{"$f":"V80-F80-H80-M80-R80","v":108275.32792300002},{"$f":"F80+H80+M80+R80","v":789.95501200000001}]
[null,"No renovable",{"$f":"C63+C64+C65+C66+C73","v":20746.781907000001},{"$f":"D63+D64+D65+D66+D73","v":6812.5194229999997},9618.1485199999988,4276.0269549999994,14020.055625999999,7962.8119999999999,1219.7241500000002,10523.537894999999,8685.7080879999994,35535.944427000002,201.959,15127.886799,12994.009827,545.38385499999993,1086.329052,209.58479700000001,4302.6981820000001,1342.8533990000001,5319.4938400000001,160531.457742,{"$f":"V81-F81-H81-M81-R81","v":147881.07498999999},{"$f":"F81+H81+M81+R81","v":12650.382752}]
[null,"% Renovable s/total",{"$f":"(C80)/(C$80+C$81)","v":0.39621224743781475},{"$f":"(D80)/(D$80+D$81)","v":0.58779482174034692},0.29235879098663436,2.928503084824418E-2,0.21096357478027802,7.6634458289217194E-2,0.29493509078675034,0.53615395816279732,0.70736656144503429,0.20876257000503842,0,0.27470938096424846,0.60359966211191063,0.71871535368110906,0.3345559772617438,3.9263667092866064E-4,0.26836835001191034,0.75027968652592636,0.17269016364338816,{"$f":"(V80)/(V$80+V$81)","v":0.40454970880256136},0.42269225633908608,5.8774937495685395E-2]
[null,"% No renovable s/total",{"$f":"(C81)/(C$80+C$81)","v":0.6037877525621852},{"$f":"(D81)/(D$80+D$81)","v":0.41220517825965292},0.70764120901336558,0.97071496915175592,0.78903642521972195,0.92336554171078278,0.7050649092132496,0.46384604183720279,0.29263343855496571,0.79123742999496149,1,0.72529061903575154,0.39640033788808937,0.28128464631889105,0.6654440227382562,0.9996073633290713,0.73163164998808961,0.24972031347407378,0.82730983635661193,0.59545029119743853,0.57730774366091386,0.94122506250431459]
[]
[null,2014]
[null,"CCAA","Andalucía","Aragón","Asturias","Baleares","C. Valenciana","Canarias","Cantabria","Castilla-La Mancha","Castilla y León","Cataluña","Ceuta","Extremadura","Galicia","La Rioja","Madrid","Melilla","Murcia","Navarra","País Vasco","España","PENINSULAR","NO PENINSULAR"]
[]
[]
[]
[null,"Hidráulica",1276.8608697393599,4366.9767338452339,1949.968028359968,0,1777.2235895002739,3.4789059999999998,878.41530423764925,1067.3033617722913,10862.56797803978,5515.6537056819752,0,3120.8710386169678,10155.450751026428,159.64944749501296,205.96352488055231,0,126.67792540687067,663.12646678365127,401.68643061397825,{"$f":"SUM(C90:U90)","v":42531.874061999995},{"$f":"V90-F90-H90-M90-R90","v":42528.395155999999},{"$f":"F90+H90+M90+R90","v":3.4789059999999998}]
[null,"Nuclear ",0,0,0,0,9108.2160000000003,0,0,7783.9080000000004,0,22776.108,0,15202.007,0,0,0,0,0,0,0,54870.239000000001,54870.239000000001,0]
[null,"Carbón ",9502.9719999999998,4611.7569999999996,8565.27,2187.6260000000002,0,0,0,881.26,8006.7139999999999,0,0,0,9564.7039999999997,0,0,0,0,0,0,43320.303,41132.676999999996,2187.6260000000002]
[null,"Fuel / gas ",0,0,0,1260.664,0,4582.9089999999997,0,0,0,0,212.25299999999999,0,0,0,0,200.881,0,0,0,6256.7069999999994,0,6256.7069999999994]
[null,"Ciclo combinado ",4403.777,210.17099999999999,289.476,426.92399999999998,4017.6619999999998,3311.4479999999999,0,1045.816,0,5031.3490000000002,0,0,509.42700000000002,162.452,0,0,2336.5219999999999,369.63499999999999,2960.4659999999999,25075.125,21336.753000000001,3738.3719999999998]
[null,"Consumos generación",null,null,null,null,null,null,null,null,null,null,null,null,null,null,null,null,null,null,null,{"$f":"SUM(C95:U95)","v":0},0,0]
[null,"Hidroeólica",0,0,0,0,0,1.071861,0,0,0,0,0,0,0,0,0,0,0,0,0,1.071861,0,1.071861]
[null,"Eólica",6450.4117070000002,4314.4136579999995,1140.6081340000001,5.8395779999999995,2577.3914760000002,389.96392399999996,76.30895000000001,8389.1373370000001,12274.492516,2867.133965999999,0,0,8316.4701179999993,947.71808499999997,0,0,512.01740399999994,2424.9077640000005,343.88036999999997,51030.694987000003,50634.891485,395.80350199999998]
[null,"Solar fotovoltaica",1574.7501629999999,297.54578100000009,0.66684299999999996,122.77339099999999,549.12752799999998,282.29038400000002,2.218715,1684.5922889999999,840.0779,413.30662799999999,0,1071.175215,19.445383000000007,128.873369,93.257066000000009,8.3833000000000019E-2,800.25003400000003,297.78241000000003,29.355719000000004,8207.5726510000004,7802.4250430000011,405.14760800000005]
[null,"Solar termoeléctrica",2124.2357540000007,0,0,0,93.850920000000002,0,0,734.25268699999992,0,65.812195000000003,0,1899.40041,0,0,0,0,41.362959999999994,0,0,4958.9149260000004,4958.9149260000004,0]
[null,"Térmica renovable/Otras renovables",1419.8120040000003,349.10128399999996,643.85856000000001,1.9456589999999998,41.399132999999992,8.8065839999999991,85.795958000000013,182.61701100000002,249.12708799999999,150.03728899999999,0,215.01176500000003,574.68534900000009,7.2905829999999998,269.70145900000006,0,53.782083999999998,306.31693300000001,169.441833,4728.7305760000008,4717.9783330000009,10.752242999999998]
[null,"Cogeneración/Cogeneración y resto",5244.1194289999994,2383.597542,651.13568799999996,281.38823300000001,1795.9447449999998,0,831.90158300000007,764.037102,1682.0160980000001,4806.8781710000003,0,13.840363000000002,2147.3464330000002,56.949525000000001,736.52825100000007,8.8983140000000009,1496.4297490000001,710.15548300000012,2274.6565360000004,25885.823244999992,25595.536697999993,290.28654700000004]
[null,"Residuos",0,0,0,0,0,0,0,0,0,0,0,0,0,0,0,0,0,0,0,{"$f":"SUM(C102:U102)","v":0},{"$f":"V102-F102-H102-M102-R102","v":0},{"$f":"F102+H102+M102+R102","v":0}]
[null,"Generación neta ",31996.93892673936,16533.562998845235,13240.983253359971,4287.1608610000003,19960.815391500277,8579.9686590000001,1874.6405102376493,22532.923787772292,33914.995580039787,41626.278954681969,212.25299999999999,21522.305791616964,31287.529034026426,1462.9330094950128,1305.4503008805523,209.863147,5367.0421564068711,4771.9240567836523,6179.4868886139784,{"$f":"SUM(C103:U103)","v":266867.056308},253577.81064099999,13289.245667000001]
[null,"Consumos en bombeo",-480.846,-440.73599999999999,-78.977999999999994,0,-1576.3030000000001,0,-851.23099999999999,-100.736,-1107.249,-361.03100000000001,0,-70.938999999999993,-261.54199999999997,0,0,0,0,0,0,{"$f":"SUM(C104:U104)","v":-5329.5910000000003},-5329.5910000000003,0]
[null,"Saldo Intercambios",6021.9880000000003,-6003.143,-2849.3580000000002,1298.2660000000001,7501.3590000000004,0,3298.2020000000002,-10781.332,-19250.760999999999,4357.0429999999997,0,-16813.589,-11276.998,227.452,27142.168000000001,0,3101.6260000000002,8.0660000000000007,10612.884,-3406.1269999999968,-4704.3929999999964,1298.2660000000001]
[null,"Demanda B.C",37538.080926739356,10089.683998845234,10312.647253359972,5585.4268609999999,25885.871391500277,8579.9686590000001,4321.6115102376498,11650.855787772291,13556.985580039785,45622.190954681966,212.25299999999999,4637.7777916169653,19748.989034026425,1690.3850094950128,28447.618300880553,209.863147,8468.6681564068713,4779.9900567836521,16792.370888613979,258131.23830799997,243543.72664099996,14587.511667000001]
[null,{"$f":"CONCATENATE(\"Δ\",B85,\"/\",B85-1)","v":"Δ2014/2013"},{"$f":"(C106/C78-1)","v":-1.7012183931228275E-2},-1.5012366771356422E-3,-9.7979090772077893E-3,-1.5530079318526013E-2,-3.5615488706430831E-4,-5.0691378021892053E-3,-1.4560300526742509E-2,1.7084832018445795E-3,-9.080077265126052E-3,-1.406596481563327E-2,5.0970741586163548E-2,-4.6965986934350168E-2,-6.1084029104517823E-3,-8.126661254994727E-3,-4.2413240663799923E-2,9.3494392444548602E-4,1.8521339549124383E-2,8.1729724504908674E-4,1.4276626339909448E-2,-1.128408733966435E-2,-1.1465282706920599E-2,-8.2491237380327709E-3]
[null,"Renovable",{"$f":"C90+0.7*C104+C96+C97+C98+C99+C100","v":12509.478297739362},{"$f":"D90+0.7*D104+D96+D97+D98+D99+D100","v":9019.5222568452336},3679.8169653599684,130.558628,3935.5805465002741,685.61165900000003,446.87722723764932,11987.387485772291,23451.191182039784,8759.2220836819743,0,6256.8011286169685,18882.972201026423,1243.5314844950128,568.92204988055232,8.3833000000000019E-2,1534.0904074068706,3692.1335737836516,944.36435261397821,{"$f":"SUM(C108:U108)","v":107728.14536299999},{"$f":"V108-F108-H108-M108-R108","v":106911.89124299999},{"$f":"F108+H108+M108+R108","v":816.25412000000006}]
[null,"No renovable",{"$f":"C91+C92+C93+C94+C101","v":19150.868428999998},{"$f":"D91+D92+D93+D94+D101","v":7205.5255419999994},9505.8816880000013,4156.6022329999996,14921.822745000001,7894.357,831.90158300000007,10475.021102000001,9688.730098,32614.335171000002,212.25299999999999,15215.847362999999,12221.477433,219.40152499999999,736.52825100000007,209.779314,3832.9517489999998,1079.7904830000002,5235.1225360000008,{"$f":"SUM(C109:U109)","v":155408.19724500002},{"$f":"V109-F109-H109-M109-R109","v":142935.20569800001},12472.991547]
[null,"% Renovable s/total",{"$f":"(C108)/(C$108+C$109)","v":0.39511501265948673},{"$f":"(D108)/(D$108+D$109)","v":0.55590112082672383},0.27907637373634958,3.0453400801374785E-2,0.2087021466139076,7.990841065378769E-2,0.34945623407272541,0.53366438594202159,0.70764172865324426,0.21171063512289001,0,0.29138469486238067,0.60708266576655878,0.85002626670121084,0.43580521563846825,3.9946508569224887E-4,0.28583535636580765,0.77372010322230589,0.15282245429697697,{"$f":"(V108)/(V$108+V$109)","v":0.40940048149671582},{"$f":"(W108)/(W$108+W$109)","v":0.42790927952325436},{"$f":"(X108)/(X$108+X$109)","v":6.1422155963820523E-2}]
[null,"% No renovable s/total",{"$f":"(C109)/(C$108+C$109)","v":0.60488498734051321},{"$f":"(D109)/(D$108+D$109)","v":0.44409887917327617},0.72092362626365036,0.96954659919862529,0.79129785338609238,0.92009158934621227,0.65054376592727459,0.46633561405797852,0.2923582713467559,0.78828936487710999,1,0.70861530513761928,0.39291733423344127,0.14997373329878913,0.56419478436153181,0.99960053491430778,0.71416464363419241,0.22627989677769417,0.84717754570302295,{"$f":"(V109)/(V$108+V$109)","v":0.59059951850328407},0.5720907204767457,0.9385778440361795]
[]
[null,2015]
[null,"CCAA","Andalucía","Aragón","Asturias","Baleares","C. Valenciana","Canarias","Cantabria","Castilla-La Mancha","Castilla y León","Cataluña","Ceuta","Extremadura","Galicia","La Rioja","Madrid","Melilla","Murcia","Navarra","País Vasco","España","PENINSULAR","NO PENINSULAR"]
[null,"rsu",null,null,null,302.19545900000003,null,null,66.284239999999997,null,null,273.08902,null,null,375.96805100000006,null,125.68975400000004,8.591858000000002,null,null,484.27988500000004]
[]
[]
[null,"Hidráulica",968.22834317919762,3437.7451273265983,1634.0469216457118,0,1607.0763435894039,3.5858509999999995,763.38987113494397,747.08518244283664,7951.8115736360805,4735.4971711364178,0,1611.7575036111832,6457.4871152802207,122.85225019501387,132.77283453296278,0,108.50595695879336,534.18348372105515,405.34835360958567,{"$f":"SUM(C118:U118)","v":31221.373883000004},{"$f":"V118-F118-H118-M118-R118","v":31217.788032000004},{"$f":"F118+H118+M118+R118","v":3.5858509999999995}]
[null,"Nuclear ",0,0,0,0,7430.8019999999997,0,0,7926.3590000000004,0,23325.627,0,16072.050999999999,0,0,0,0,0,0,0,54754.839,54754.839,0]
[null,"Carbón ",12701.04,4459.4560000000001,12480.174000000001,1865.27,0,0,0,906.899,9310.0969999999998,0,0,0,11066.106,0,0,0,0,0,0,52789.042000000001,50923.772000000004,1865.27]
[null,"Fuel / gas ",0,0,0,1322.4780000000001,0,4763.92,0,0,0,0,205.43799999999999,0,0,0,0,204.81399999999999,0,0,0,6496.6500000000005,4.2632564145606011E-13,6496.6500000000005]
[null,"Ciclo combinado ",5623.4669999999996,177.911,361.30700000000002,809.23900000000003,4858.8630000000003,3213.0439999999999,0,1289.096,0,6831.6980000000003,0,0,333.78800000000001,590.15899999999999,0,0,2072.4319999999998,724.07,2405.6770000000001,29290.751,25268.468000000001,4022.2829999999999]
[null,"Consumos generación",null,null,null,null,null,null,null,null,null,null,null,null,null,null,null,null,null,null,null,{"$f":"SUM(C123:U123)","v":0},0,0]
[null,"Hidroeólica",0,0,0,0,0,8.5570660000000007,0,0,0,0,0,0,0,0,0,0,0,0,0,8.5570660000000007,0,8.5570660000000007]
[null,"Eólica",6363.8370980000009,4229.1992230000005,917.80775199999994,5.315563,2195.9935660000001,396.66092300000003,70.740945000000011,7286.7164059999996,11135.293154000001,2608.7822570000003,0,0,8554.7587439999988,934.74148400000001,0,0,435.39733100000001,2637.9260230000004,341.95555000000007,{"$f":"SUM(C125:U125)","v":48115.126018999996},47713.149532999996,401.97648600000002]
[null,"Solar fotovoltaica",1570.0735399999999,304.325605,0.65173600000000009,122.64643600000002,523.085511,275.555924,2.05531,1722.9102679999996,847.26885099999993,421.11208399999998,0,1111.1339890000002,20.758184,132.18766200000002,93.788112000000012,7.9959999999999989E-2,762.39686199999994,304.33530700000006,28.715117000000003,8243.0804579999985,7844.7981379999983,398.28232000000003]
[null,"Solar termoeléctrica",2110.236508,0,0,0,89.976463999999993,0,0,735.48629799999992,0,75.59187399999999,0,2037.8448430000001,0,0,0,0,36.099527000000002,0,0,5085.235514,5085.235514,0]
[null,"Otras renovables",1265.9033819999997,57.287430999999998,228.78606299999998,1.971492,40.643070999999999,8.0531259999999989,85.075815999999975,240.96001600000002,201.18511600000002,174.42715200000001,0,199.31235800000005,235.93751399999996,0.55284,156.87073900000001,0,39.185057,233.27032199999999,14.552710999999997,3183.9742059999999,3173.9495879999999,10.024617999999998]
[null,"Cogeneración",5207.0427349999991,2443.0583580000002,357.12257100000005,31.518988999999994,1531.5526240000002,0,716.34605599999998,778.59447799999998,1850.7469590000001,4678.8483130000004,0,69.638161999999994,2629.3494610000002,82.116106999999985,694.04694900000015,0,1458.4756870000001,835.15337699999998,2085.8845959999999,25449.495422,25417.976433,31.518988999999994]
[null,"Residuos",0,404.30217400000004,720.74103600000001,302.19545900000003,365.32810500000005,0,66.284240000000011,0,0,273.08901999999995,0,0,375.968051,0,125.68975400000002,8.5918580000000002,0,0,655.96783600000003,{"$f":"SUM(C130:U130)","v":3298.1575329999996},{"$f":"V130-F130-H130-M130-R130","v":2987.3702159999998},{"$f":"F130+H130+M130+R130","v":310.78731700000003}]
[null,"Generación neta ",35809.828606179202,15513.284918326601,16700.637079645712,4460.6349389999996,18643.320684589406,8669.3768900000014,1703.8922381349439,21634.106648442837,31296.40265363608,43124.672871136412,205.43799999999999,21101.737855611183,29674.153069280223,1862.6093431950142,1203.168388532963,213.48581799999999,4912.4924209587934,5268.9385127210553,5938.1011636095855,{"$f":"SUM(V118:V130)","v":267936.28210099996},{"$f":"V131-F131-H131-M131-R131","v":254387.34645399995},13548.935647]
[null,"Consumos en bombeo",-391.21300000000002,-410.178,-41.476999999999997,0,-1352.201,0,-684.93299999999999,-44.283999999999999,-854.15499999999997,-463.46499999999997,0,-43.286999999999999,-234.90100000000001,0,0,0,0,0,0,-4520.0940000000001,{"$f":"V132-F132-H132-M132-R132","v":-4520.0940000000001},0]
[null,"Saldo Intercambios",3241.8629999999998,-4802.1009999999997,-6191.3540000000003,1335.7829999999999,9454.4449999999997,0,3228.933,-10018.83,-16577.612000000001,3985.8760000000002,0,-16222.839,-9721.0550000000003,-137.49199999999999,27670.776000000002,0,4007.7049999999999,-425.81599999999997,11038.563,-133.15500000000065,-1468.9380000000006,1335.7829999999999]
[null,"Demanda B.C",38660.478606179197,10301.005918326602,10467.806079645714,5796.417938999999,26745.564684589404,8669.3768900000014,4247.8922381349439,11570.992648442838,13864.63565363608,46646.983871136421,205.43799999999999,4835.6118556111833,19718.197069280221,1725.1173431950142,28873.944388532964,213.48581799999999,8920.1974209587934,4843.1225127210555,16976.664163609585,{"$f":"SUM(V131:V133)","v":263283.03310099995},248398.31445399995,14884.718647]
[null,{"$f":"CONCATENATE(\"Δ\",B113,\"/\",B113-1)","v":"Δ2015/2014"},{"$f":"(C134/C106-1)","v":2.9900241347722289E-2},2.0944354600753945E-2,1.5045489530846723E-2,3.7775282579248337E-2,3.3210907992512473E-2,1.0420577807847442E-2,-1.705828298727663E-2,-6.8547015587704374E-3,2.2693103255140512E-2,2.2462597587047384E-2,-3.2107908957706099E-2,4.2657081232269078E-2,-1.5591666334490162E-3,2.0546995805634349E-2,1.4986354328271334E-2,1.7262063643789682E-2,5.3317624000926545E-2,1.3207654239323574E-2,1.0974821615008734E-2,1.9958044701481992E-2,1.9933126095898146E-2,2.0374069737496336E-2]
[null,"Renovable",{"$f":"C118+0.7*C132+C124+C125+C126+C127+C128+0.5*C115","v":12004.429771179199},{"$f":"D118+0.7*D132+D124+D125+D126+D127+D128+0.5*D115","v":7741.432786326598},2752.2585726457114,281.03122050000002,3510.2342555894038,692.41289000000006,474.95096213494401,10702.159370442838,19537.650194636084,7827.5295481364174,0,4929.7477936111836,15292.49488278022,1190.334236195014,446.27656253296277,4.3758890000000008,1381.5847339587933,3709.7151357210555,1032.7116741095858,{"$f":"SUM(C136:U136)","v":93511.3304795},{"$f":"V136-F136-H136-M136-R136","v":92533.510479999997},{"$f":"F136+H136+M136+R136","v":977.81999950000011}]
[null,"No renovable",{"$f":"C119+C120+C121+C122+C129+(C130-0.5*C115)","v":23531.549735000001},{"$f":"D119+D120+D121+D122+D129+(D130-0.5*D115)","v":7484.7275320000008},13919.344607000001,4179.6037185000005,14186.545729000001,7976.9639999999999,749.48817599999995,10900.948477999998,11160.843959,34972.717822999999,205.43799999999999,16141.689161999999,14217.2274865,672.27510699999993,756.89182600000015,209.10992899999999,3530.9076869999999,1559.223377,4905.3894894999994,{"$f":"SUM(C137:U137)","v":171260.88582149998},{"$f":"V137-F137-H137-M137-R137","v":158689.77017399998},12571.115647500001]
[null,"% Renovable s/total",{"$f":"(C136)/(C136+C137)","v":0.33781057784243151},{"$f":"(D136)/(D136+D137)","v":0.50842974357815018},0.16508661722502679,6.3002515189687885E-2,0.19835440451009526,7.9868818576648598E-2,0.38789266639939785,0.49539906227956249,0.63643676125794413,0.18288514737452519,0,0.23395403948938684,0.51821886669797301,0.63906811191722168,0.37091779237743511,2.0497328773380164E-2,0.28123905658650222,0.70407258060888533,0.17391277879170264,{"$f":"(V136)/(V136+V137)","v":0.35317652201541372},0.36833174950629993,7.2169506518876159E-2]
[null,"% No renovable s/total",{"$f":"(C137)/(C136+C137)","v":0.6621894221575686},{"$f":"(D137)/(D136+D137)","v":0.49157025642184987},0.83491338277497318,0.93699748481031209,0.80164559548990477,0.92013118142335149,0.61210733360060221,0.50460093772043746,0.36356323874205576,0.8171148526254749,1,0.76604596051061324,0.48178113330202693,0.36093188808277826,0.62908220762256484,0.97950267122661983,0.71876094341349772,0.29592741939111472,0.82608722120829736,{"$f":"(V137)/(V136+V137)","v":0.64682347798458628},0.63166825049370012,0.9278304934811239]
[]
[null,2016]
[null,"CCAA","Andalucía","Aragón","Asturias","Baleares","C. Valenciana","Canarias","Cantabria","Castilla-La Mancha","Castilla y León","Cataluña","Ceuta","Extremadura","Galicia","La Rioja","Madrid","Melilla","Murcia","Navarra","País Vasco","España","PENINSULAR","NO PENINSULAR"]
[null,"rsu",null,null,null,261.61013300000002,null,null,78.184441000000021,null,null,268.08783600000004,null,null,338.23485299999999,null,135.52441399999998,9.7001050000000006,null,null,479.44827700000002,{"$f":"SUM(C143:U143)","v":1570.7900589999999},{"$f":"V143-F143-H143-M143-R143","v":1299.4798209999999},{"$f":"F143+H143+M143+R143","v":271.31023800000003}]
[]
[]
[null,"Hidráulica",955.62595990501313,3333.3316217942443,1985.7355066731579,0,1994.3207835239439,3.4721919999999997,666.67926338488121,874.14366616137113,11569.943655334415,4180.1068907541676,0,2518.6897133398261,9841.5785755769612,174.43203634539537,157.29714861660878,0,100.65000499018407,450.3620598618939,370.58480973793758,{"$f":"SUM(C146:U146)","v":39176.953887999989},{"$f":"V146-F146-H146-M146-R146","v":39173.481695999988},{"$f":"F146+H146+M146+R146","v":3.4721919999999997}]
[null,"Nuclear ",0,0,0,0,9178.2630000000008,0,0,8002.6419999999998,0,23743.210999999999,0,15174.856,0,0,0,0,0,0,0,56098.971999999994,56098.971999999994,0]
[null,"Carbón ",8273.4480000000003,3317.6030000000001,7573.0619999999999,2303.7689999999998,0,0,0,7.6999999999999999E-2,6554.3149999999996,0,0,0,9468.9989999999998,0,0,0,0,0,0,37491.273000000001,35187.504000000001,2303.7689999999998]
[null,"Fuel / gas ",0,0,0,1311.771,0,5043.4610000000002,0,0,0,0,210.73599999999999,0,0,0,0,198.57,0,0,0,6764.5379999999996,-3.979039320256561E-13,6764.5379999999996]
[null,"Ciclo combinado ",6185.6090000000004,175.51,354.81700000000001,542.54999999999995,4695.0190000000002,3031.7,0,1266.46,0,6989.7060000000001,0,0,670.21500000000003,1015.822,0,0,1114.8620000000001,1287.6859999999999,1930.442,29260.398000000001,25686.148000000001,3574.25]
[null,"Consumos generación",null,null,null,null,null,null,null,null,null,null,null,null,null,null,null,null,null,null,null,{"$f":"SUM(C151:U151)","v":0},0,0]
[null,"Hidroeólica",0,0,0,0,0,18.102639,0,0,0,0,0,0,0,0,0,0,0,0,0,{"$f":"SUM(C152:U152)","v":18.102639},0,18.102639]
[null,"Eólica",7060.264592999999,4225.9592520000006,798.14569499999993,5.4160579999999996,2224.6882860000001,393.085554,70.502808999999999,7680.5372219999999,10939.943732999996,2683.9419450000005,0,0,7318.713076,933.70978099999991,0,0,457.42115200000001,2571.923076,332.41806700000001,{"$f":"SUM(C153:U153)","v":47696.670298999998},47298.168686999998,398.50161200000002]
[null,"Solar fotovoltaica",1525.6835510000001,295.29593900000003,0.58737000000000017,120.53466100000001,514.06146799999999,277.67476099999999,2.0952619999999995,1624.757124,829.74446899999998,413.62143100000003,0,1061.7441229999999,20.147258000000001,131.42565399999998,88.527027000000018,7.8081999999999985E-2,747.01913599999989,294.94099799999998,29.661534,7977.5998479999998,7579.3123439999999,398.28750400000001]
[null,"Solar termoeléctrica",2194.6310090000002,0,0,0,70.150952999999987,0,0,721.87999799999989,0,70.319427000000005,0,1973.4576519999996,0,0,0,0,40.762663000000003,0,0,5071.2017019999994,5071.2017019999994,0]
[null,"Otras renovables",1367.7726660000001,53.330301999999996,245.26598100000001,1.3097150000000002,38.907041999999997,9.3357749999999999,76.573036999999999,238.410359,246.51016000000001,174.026421,0,235.61053699999999,232.03411600000001,7.5938380000000008,137.921649,0,55.348952999999995,273.71682199999998,30.889806,{"$f":"SUM(C156:U156)","v":3424.5571789999999},3413.911689,10.645490000000001]
[null,"Cogeneración",5102.7432629999994,2498.9124570000004,369.74585599999995,34.701317000000003,1579.4028090000002,0,831.30987799999991,988.74107900000001,1857.9172750000002,4689.1943710000005,0,50.701282999999997,2801.9919390000005,65.604553999999993,709.29025899999988,0,1446.6507910000003,850.04065999999989,2029.6682369999999,25906.616027999997,25871.914710999998,34.701317000000003]
[null,"Residuos",181.57977999999997,366.54158699999999,707.87569000000019,261.61013300000002,344.80093500000004,0,78.184441000000021,0,0,270.50279999999998,0,0,338.23485299999999,0,135.52441399999998,9.7001050000000024,0,0,697.80405599999983,3392.3587940000002,3121.0485560000002,271.31023800000003]
[null,"Generación neta ",{"$f":"SUM(C146:C158)","v":32847.35782190501},{"$f":"SUM(D146:D158)","v":14266.484158794245},12035.235098673158,4581.6618840000001,20639.614276523942,8776.8319209999991,1725.3446903848812,{"$f":"SUM(J146:J158)","v":21397.64844816137},{"$f":"SUM(K146:K158)","v":31998.374292334414},{"$f":"SUM(L146:L158)","v":43214.630285754167},{"$f":"SUM(M146:M158)","v":210.73599999999999},{"$f":"SUM(N146:N158)","v":21015.059308339827},30691.913817576962,2328.5878633453954,1228.5604976166087,208.348187,3962.7146999901843,5728.6696158618934,5421.4685097379379,{"$f":"SUM(V146:V158)","v":262279.24137699994},{"$f":"V159-F159-H159-M159-R159","v":248501.66338499993},{"$f":"F159+H159+M159+R159","v":13777.577991999999}]
[null,"Consumos en bombeo",-370.58300000000003,-421.73700000000002,-38.750999999999998,0,-1830.7470000000001,0,-611.80399999999997,-65.596999999999994,-919.61099999999999,-303.50200000000001,0,-84.441999999999993,-172.642,0,0,0,0,0,0,{"$f":"SUM(C160:U160)","v":-4819.4160000000011},{"$f":"V160-F160-H160-M160-R160","v":-4819.4160000000011},0]
[null,"Saldo Intercambios",7129.3630000000003,-3406.8420000000001,-1487.886,1250.5820000000001,8043.8270000000002,0,3090.931,-9620.9509999999991,-17052.596000000001,3999.8829999999998,0,-15961.991,-10557.892,-596.53399999999999,27740.175999999999,0,5090.3980000000001,-780.10500000000002,10786.96,7667.3229999999985,6416.7409999999982,1250.5820000000001]
[null,"Demanda B.C",{"$f":"SUM(C159:C161)","v":39606.137821905009},{"$f":"SUM(D159:D161)","v":10437.905158794245},10508.598098673157,5832.2438840000004,26852.694276523944,8776.8319209999991,4204.4716903848812,11711.100448161369,14026.167292334412,{"$f":"SUM(L159:L161)-0.1","v":46910.91128575417},{"$f":"SUM(M159:M161)","v":210.73599999999999},4968.626308339828,19961.379817576963,1732.0538633453953,28968.736497616606,208.348187,9053.1126999901844,4948.5646158618929,16208.428509737936,{"$f":"SUM(V159:V161)","v":265127.14837699995},250098.98838499995,15028.159992000001]
[null,{"$f":"CONCATENATE(\"Δ\",B141,\"/\",B141-1)","v":"Δ2016/2015"},{"$f":"(C162/C134-1)","v":2.4460618435661718E-2},{"$f":"(D162/D134-1)","v":1.3289890477985677E-2},3.8969024375377082E-3,6.1807042516643929E-3,4.0055086964108089E-3,1.2394781350888673E-2,-1.0221668845612375E-2,1.2108537614306192E-2,1.1650622687367163E-2,5.6579738434290316E-3,2.578880246108306E-2,2.7507264168503687E-2,1.2332909922865509E-2,4.0208975799491675E-3,3.2829636231235249E-3,-2.4065444009962245E-2,1.4900486251469669E-2,2.1771512668506965E-2,-4.5252450450095183E-2,7.0043073200716233E-3,6.8465598679210427E-3,9.6368193717193407E-3]
[null,"Renovable",{"$f":"C146+0.7*C160+C152+C153+C154+C155+C156+0.5*C143","v":12844.569678905013},{"$f":"D146+0.7*D160+D152+D153+D154+D155+D156+0.5*D143","v":7612.7012147942442},3002.6088526731578,258.06550050000004,3560.6056325239438,701.67092100000002,426.67979188488124,11093.81046916137,22942.414317334413,7443.6086327541689,0,5730.3926253398249,17460.741052076963,1247.1613093453952,451.50803161660878,4.9281345000000005,1401.2019089901839,3590.942955861894,1003.2783552379376,{"$f":"SUM(C164:U164)","v":100776.88938450001},{"$f":"V164-F164-H164-M164-R164","v":99812.22482850001},{"$f":"F164+H164+M164+R164","v":964.66455600000006}]
[null,"No renovable",{"$f":"C147+C148+C149+C150+C157+(C158-C143*0.5)","v":19743.380043000001},{"$f":"D147+D148+D149+D150+D157+(D158-D143*0.5)","v":6358.5670440000004},9005.5005460000011,4323.5963835000002,15797.485744000001,8075.1610000000001,870.40209849999997,10257.920079,8412.2322750000003,35558.570252999998,210.73599999999999,15225.557283,13110.3233655,1081.4265539999999,777.05246599999987,203.4200525,2561.5127910000001,2137.7266599999998,4418.1901545000001,{"$f":"SUM(C165:U165)","v":158128.76079249999},{"$f":"V165-F165-H165-M165-R165","v":145315.84735649999},12812.913436000001]
[null,"% Renovable s/total",{"$f":"(C164)/(C164+C165)","v":0.39415089898310268},{"$f":"(D164)/(D164+D165)","v":0.54488261722427478},0.25004842585835635,5.632574097211579E-2,0.18393371346732981,7.9945808158993908E-2,0.32895362663514882,0.51957430074054001,0.73170699755051216,0.17309840630471168,0,0.27344943323515508,0.57115253867437588,0.53558696623697311,0.36750980720325005,2.3653359172259084E-2,0.35359646481581292,0.6268371535895646,{"$f":"(U164)/(U164+U165)","v":0.18505656787194619},{"$f":"(V164)/(V164+V165)","v":0.38924175395787702},0.40718398320846327,7.0016991125736033E-2]
[null,"% No renovable s/total",{"$f":"(C165)/(C164+C165)","v":0.60584910101689726},{"$f":"(D165)/(D164+D165)","v":0.45511738277572528},0.7499515741416436,0.94367425902788427,0.8160662865326701,0.92005419184100601,0.67104637336485118,0.48042569925946005,0.26829300244948778,0.82690159369528826,1,0.72655056676484486,0.42884746132562412,0.46441303376302706,0.63249019279674989,0.97634664082774092,0.64640353518418703,0.37316284641043534,0.81494343212805376,{"$f":"(V165)/(V164+V165)","v":0.61075824604212303},0.59281601679153673,0.92998300887426399]

{"sheet":"Potencias","index":8,"n_rows":113,"n_cols":24,"rows_kept":113,"cut":false,"hidden":true,"merged":[]}
[null,2011]
[null,"CCAA","Andalucía","Aragón","Asturias","Baleares","C. Valenciana","Canarias","Cantabria","Castilla-La Mancha","Castilla y León","Cataluña","Ceuta","Extremadura","Galicia","La Rioja","Madrid","Melilla","Murcia","Navarra","País Vasco","España","PENINSULAR","NO PENINSULAR"]
[]
[null,"Hidráulica",1178.8309999999999,1547.547,804.37000000000035,null,1273.759,1.2630000000000001,458.92399999999986,867.85799999999995,4390.2914999999994,2350.3382499999989,null,2274.2370000000001,3422.2372000000009,55.550730000000001,98.871000000000009,null,35.628,223.23500000000001,172.8931,{"$f":"SUM(C4:U4)","v":19155.833779999997},{"$f":"V4-F4-H4-M4-R4","v":19154.570779999998},{"$f":"F4+H4+M4+R4","v":1.2630000000000001}]
[null,"Nuclear ",0,0,0,0,1063.94,0,0,1003.41,455.29,3032.81,0,2017.13,0,0,0,0,0,0,0,7572.58,{"$f":"V5-F5-H5-M5-R5","v":7572.58},{"$f":"F5+H5+M5+R5","v":0}]
[null,"Carbón ",1989.3999999999999,1198.1200000000001,2512.19,468.4,0,0,0,502.64,2595.23,145.75,0,0,1945.4899999999998,0,0,0,0,0,214.57,11571.789999999999,11103.39,468.4]
[null,"Fuel / gas ",0,0,0,715.4,0,1693.67,0,301,0,505.52,90.82,0,0,0,0,76.14,0,0,0,3382.55,806.5200000000001,2576.0300000000002]
[null,"Ciclo combinado ",5951.7199999999984,1869.6799999999998,854.17000000000007,857.95,2853.54,864.2,0,758.74,0,4158.9800000000005,0,0,1226.0999999999999,784.7,0,0,3263.7099999999996,1222.32,1968.0700000000002,26633.879999999997,24911.729999999996,1722.15]
[null,"Hidroeólica",0,0,0,0,0,0,0,0,0,0,0,0,0,0,0,0,0,0,0,0,0,0]
[null,"Eólica",3036.2969999999996,1722.45,404.03,3.6762999999999901,1082.74,145.13499999999999,35.307000000000002,3713.6772000000001,4906.5095000000001,1011.13,0,0,3287.4970000000003,448.18,0,0,191.286,985.13874999999996,193.845,{"$f":"SUM(C10:U10)","v":21166.89875},21018.087450000003,148.81129999999999]
[null,"Solar fotovoltaica",785.90616000004127,141.950209999999,0.72292999999999996,63.132079999999704,301.57009999999599,138.04025999999908,1.9440599999999999,879.06398000007118,451.86223999999902,225.47725999999901,0,525.02629000000593,11.937599999999991,84.485699999999895,47.399830000000001,5.79E-2,403.9364799999932,148.47290999999399,22.303710000000301,{"$f":"SUM(C11:U11)","v":4233.2897000000976},4032.0594600000995,201.23023999999876]
[null,"Solar térmica",597.62,0,0,0,0,0,0,99.9,0,0,0,299.60000000000002,0,0,0,0,1.4,0,0,998.52,998.52,0]
[null,"Otras renovables",239.488,84.366,85.57,0,33.393000000000001,3.3679999999999999,2.8620000000000001,58.009,26.861409999999999,64.188000000000002,0,17.100000000000001,94.124500000000012,4.3529999999999998,42.545000000000002,0,18.905999999999999,46.472000000000001,64.682000000000002,886.2879099999999,882.91990999999985,3.3679999999999999]
[null,"Cogeneración",975.05799999999999,608.71500000000003,152.071,82.170999999999992,647.39850000000001,33.268000000000001,314.64699999999999,462.05300000000005,641.08699999999999,1327.7959000000003,0,19.399999999999999,621.49400000000003,47.673999999999999,329.8639,2.1680000000000001,307.82200000000006,175.84100000000004,548.15139999999997,7296.6786999999995,7179.0716999999995,117.607]
[null,"Residuos",0,0,0,0,0,0,0,0,0,0,0,0,0,0,0,0,0,0,0,0,0,0]
[null,"Potencia 2011",{"$f":"SUM(C4:C15)","v":14754.320160000036},{"$f":"SUM(D4:D15)","v":7172.8282099999988},4813.1239299999997,2190.7293799999998,7256.3405999999959,2878.9442599999988,813.68405999999982,8646.3511800000706,13467.131649999998,12821.989409999998,90.82,5152.4932900000067,10608.880300000003,1424.94343,518.67973000000006,78.365900000000011,4222.6884799999925,2801.4796599999941,3184.5152099999996,{"$f":"SUM(V4:V15)","v":102898.3088400001},{"$f":"V16-F16-H16-M16-R16","v":97659.44930000008},5238.8595399999986]
[null,"% Potencia s/total",0.14335419087721576,6.9675987967829825E-2,4.6628970531449335E-2,2.1279088914371851E-2,7.0519079683474775E-2,2.7977014382763371E-2,7.9012069908794905E-3,8.4058806187905219E-2,0.13083582539620831,0.12460403751829317,8.8219961892360579E-4,5.0124287676286114E-2,0.10327147440720075,1.384680812734251E-2,5.062208964718283E-3,7.6122403783974242E-4,4.1036821574658343E-2,2.7245931517655711E-2,3.0934835624983555E-2,1,0.94910047304610134,5.0899526953898565E-2]
[null,"Δ2011/2010",4.0766244493874781E-2,5.9587168132064772E-3,1.768096384985407E-2,-8.702167811725503E-3,1.3730759129239267E-2,2.7454825154040741E-3,4.3356750352903095E-3,1.171388618426894E-2,7.0948320517042696E-2,-2.4264608814117405E-2,-0.17601161313736169,4.694396374533083E-2,-3.1795999259998431E-2,2.4150367999762334E-3,2.6869007296222325E-2,0,1.5890305180588093E-2,1.2349982528660153E-2,1.5814460194754743E-2,1.4772588636075223E-2,1.5902245423394357E-2,-5.8351582981157613E-3]
[]
[null,2012]
[null,"CCAA","Andalucía","Aragón","Asturias","Baleares","C. Valenciana","Canarias","Cantabria","Castilla-La Mancha","Castilla y León","Cataluña","Ceuta","Extremadura","Galicia","La Rioja","Madrid","Melilla","Murcia","Navarra","País Vasco","España","PENINSULAR","NO PENINSULAR"]
[]
[null,"Hidráulica",1178.8309999999999,1547.277,804.37,null,1273.759,1.2630000000000001,458.92399999999998,866.25800000000004,4393.5514999999996,2350.6782499999999,null,2277.7750000000001,3637.3371999999999,55.550730000000001,101.45099999999999,null,35.628,223.23500000000001,172.8931,{"$f":"SUM(C23:U23)","v":19378.781780000001},{"$f":"V23-F23-H23-M23-R23","v":19377.518780000002},{"$f":"F23+H23+M23+R23","v":1.2630000000000001}]
[null,"Nuclear ",null,null,null,null,1063.94,null,null,1003.41,455.29,3032.81,null,2017.13,null,null,null,null,null,null,null,{"$f":"SUM(C24:U24)","v":7572.58},7572.58,{"$f":"F24+H24+M24+R24","v":0}]
[null,"Carbón ",1989.3999999999999,1198.1200000000001,2364.59,468.4,null,null,null,502.64,2595.23,null,null,null,1945.4899999999998,null,null,null,null,null,null,11063.87,10595.470000000001,468.4]
[null,"Fuel / gas ",null,null,null,739.4,null,1693.67,null,null,null,505.52,90.82,null,null,null,null,76.14,null,null,null,3105.55,505.5200000000001,2600.0300000000002]
[null,"Ciclo combinado ",5951.7199999999984,1869.6799999999998,854.17000000000007,857.95,2853.54,864.2,null,758.74,null,4174.08,null,null,1246.98,784.7,null,null,3263.7099999999996,1222.32,1968.0700000000002,26669.859999999997,24947.709999999995,1722.15]
[null,"Hidroeólica",null,null,null,null,null,null,null,null,null,null,null,null,null,null,null,null,null,null,null,0,0,0]
[null,"Eólica",3249.9970000000003,1792.5500000000002,452.03,3.6762999999999901,1193.2446,145.47499999999999,35.307000000000002,3799.9272000000001,5596.7844999999998,1274.51,null,0,3320.8969999999999,448.18,0,0,263.286,988.13874999999996,193.85,22757.853349999998,22608.70205,149.15129999999999]
[null,"Solar fotovoltaica",840.56516000004081,164.193659999999,0.77793000000000001,77.5061299999997,343.22615999999596,161.15557999999911,2.0477600000000002,903.85472000007121,483.70753999999897,244.035359999999,null,532.69149000000607,14.930369999999991,85.080699999999894,64.467529999999996,5.79E-2,428.12927999999312,160.73785999999399,25.1457100000003,4532.3108400000974,4293.5912300000991,238.7196099999988]
[null,"Solar térmica",947.32,0,0,0,0,0,0,349.4,0,22.5,null,599.29999999999995,0,0,0,0,31.4,0,0,1949.92,1949.92,0]
[null,"Otras renovables",289.488,86.866,85.57,2.13,33.393000000000001,3.3679999999999999,12.862,58.009,27.461410000000001,66.678000000000011,null,17.100000000000001,93.852000000000004,4.3529999999999998,42.545000000000002,0,19.969000000000001,46.362000000000002,83.923999999999992,973.93040999999994,968.43240999999989,5.4979999999999993]
[null,"Cogeneración",973.19799999999998,600.26600000000008,152.12099999999998,85.625,646.62750000000005,33.268000000000001,313.62599999999998,462.11400000000003,635.73549999999989,1323.6009000000001,null,19.399999999999999,578.83799999999997,46.316000000000003,329.97789999999998,2.1680000000000001,340.08200000000005,173.74100000000001,521.50639999999987,7238.2111999999988,7117.1501999999991,121.06100000000001]
[null,"Residuos",null,null,null,null,null,null,null,null,null,null,null,null,null,null,null,null,null,null,null,{"$f":"SUM(C34:U34)","v":0},0,0]
[null,{"$f":"CONCATENATE(\"Potencia \",B20)","v":"Potencia 2012"},{"$f":"SUM(C23:C34)","v":15420.519160000036},7258.952659999999,4713.6289299999999,2234.6874299999999,7407.7302599999948,2902.3995799999989,822.76675999999998,8704.3529200000703,14187.76045,12994.41251,90.82,5463.3964900000074,10838.324570000001,1424.1804300000001,538.44142999999997,78.365900000000011,4382.2042799999936,2814.5346099999938,2965.3892099999998,{"$f":"SUM(C35:U35)","v":105242.86758000009},{"$f":"V35-F35-H35-M35-R35","v":99936.594670000079},5306.2729099999988]
[null,"% Potencia s/total",{"$f":"C35/$V35","v":0.14652317553280433},{"$f":"D35/$V35","v":6.8973345433429256E-2},4.478810810069335E-2,2.1233623535593119E-2,7.0387005127630409E-2,2.7578111911420004E-2,7.8177911617105644E-3,8.2707295231987846E-2,0.13480970992371727,0.12347071881258206,8.6295634172988875E-4,5.1912273160430761E-2,0.10298393439119545,1.353232254829443E-2,5.116179769528848E-3,7.4461958137381971E-4,4.1638966903565909E-2,2.6743233766986941E-2,2.8176628765325753E-2,1,{"$f":"W35/$V35","v":0.94958068862988299},{"$f":"X35/$V35","v":5.0419311370116834E-2}]
[null,{"$f":"CONCATENATE(\"Δ\",B20,\"/\",B20-1)","v":"Δ2012/2011"},{"$f":"(C35/C16-1)","v":4.5152808992589888E-2},1.2007042059076545E-2,-2.0671605686247041E-2,2.0065486135033339E-2,2.0863086277951082E-2,8.1471949026203916E-3,1.1162440616079072E-2,6.7082331948491447E-3,5.3510191979151189E-2,1.3447453003316845E-2,0,6.034034058877924E-2,2.1627567048710938E-2,-5.3545985330794021E-4,3.8100004409271859E-2,0,3.7775886323492491E-2,4.6600195555228652E-3,-6.8809845627962885E-2,2.2785201879708561E-2,2.3317204697774097E-2,1.2867947591509665E-2]
[]
[null,2013]
[null,"CCAA","Andalucía","Aragón","Asturias","Baleares","C. Valenciana","Canarias","Cantabria","Castilla-La Mancha","Castilla y León","Cataluña","Ceuta","Extremadura","Galicia","La Rioja","Madrid","Melilla","Murcia","Navarra","País Vasco","España","PENINSULAR","NO PENINSULAR"]
[]
[null,"Hidráulica",1183.441,1548.1569999999999,804.36999999999989,null,1273.759,1.2630000000000001,458.92399999999998,866.25800000000004,4394.9544999999998,2350.2782500000003,null,2277.7750000000001,3666.5772000000002,55.550730000000001,103.751,null,35.628,243.23500000000001,172.8931,{"$f":"SUM(C42:U42)","v":19436.814780000001},{"$f":"V42-F42-H42-M42-R42","v":19435.551780000002},{"$f":"F42+H42+M42+R42","v":1.2630000000000001}]
[null,"Nuclear ",0,0,0,0,1063.94,0,0,1003.41,455.29,3032.81,0,2017.13,0,0,0,0,0,0,0,{"$f":"SUM(C43:U43)","v":7572.58},7572.58,{"$f":"F43+H43+M43+R43","v":0}]
[null,"Carbón ",1989.3999999999999,1198.1200000000001,2364.59,468.4,0,0,0,502.64,2595.23,0,0,0,1960.3899999999999,0,0,0,0,0,0,11078.77,10610.37,468.4]
[null,"Fuel / gas ",0,0,0,787.4,0,1536,0,0,0,505.52,90.82,0,0,0,0,76.14,0,0,0,2995.88,505.5200000000001,2490.36]
[null,"Ciclo combinado ",5951.7199999999984,1869.6799999999998,854.17000000000007,857.95,2853.54,864.2,0,758.74,0,4174.08,0,0,1246.98,784.7,0,0,3263.7099999999996,1222.32,1968.0700000000002,26669.859999999997,24947.709999999995,1722.15]
[null,"Hidroeólica",0,0,0,0,0,0,0,0,0,0,0,0,0,0,0,0,0,0,0,0,0,0]
[null,"Eólica",3324.4969999999998,1797.05,494.03,3.6762999999999999,1193.2446,152.59,35.307000000000002,3799.9992000000002,5652.1845000000003,1283.51,null,0,3351.1970000000001,448.18,0,0,263.286,1016.63875,193.85,23009.240349999996,22852.974049999997,156.2663]
[null,"Solar fotovoltaica",864.96854000006101,167.04605999999799,0.77793000000000001,77.674929999999904,346.32707999999599,164.19107999999801,2.0460600000000002,919.32851000007997,489.75649000000698,260.05444999999804,null,553.73834000000898,15.993829999999999,85.470699999999994,65.188030000000893,5.79E-2,439.12198000001001,161.11355999998801,25.5686099999999,4638.4240800001453,4396.5001700001476,241.9239099999979]
[null,"Solar térmica",997.22750000000008,0,0,0,49.9,0,0,349.4,0,22.5,null,849,0,0,0,0,31.4,0,0,2299.4275000000002,2299.4275000000002,0]
[null,"Otras renovables",290.90299999999996,86.866,86.569000000000003,2.13,26.088999999999999,3.3679999999999999,12.862,58.009,27.521409999999996,74.774999999999991,null,17.100000000000001,65.938999999999993,4.3529999999999998,42.545000000000002,0,21.094000000000001,46.362000000000002,83.455000000000013,949.94040999999982,944.44240999999977,5.4979999999999993]
[null,"Cogeneración",931.64800000000002,601.76600000000008,156.06900000000002,85.625,650.60149999999999,33.268000000000001,311.56299999999999,458.46699999999998,635.16649999999993,1319.5708999999999,null,19.399999999999999,598.70799999999997,46.316000000000003,326.5779,2.1680000000000001,315.38600000000002,172.73150000000001,513.90940000000001,7178.9416999999994,7057.8806999999997,121.06100000000001]
[null,"Residuos",0,0,0,0,0,0,0,0,0,0,0,0,0,0,0,0,0,0,0,0]
[null,{"$f":"CONCATENATE(\"Potencia \",B39)","v":"Potencia 2013"},{"$f":"SUM(C42:C52)","v":15533.805040000059},{"$f":"SUM(D42:D52)","v":7268.685059999998},4760.5759300000009,2282.8562300000003,7457.4011799999953,2754.8800799999976,820.70206000000007,8716.2517100000805,14250.103400000005,13023.098599999999,90.82,5734.1433400000096,10905.785030000001,1424.5704300000002,538.06193000000098,78.365900000000011,4369.6259800000098,2862.4008099999878,2957.7461099999996,{"$f":"SUM(V42:V52)","v":105829.87882000013},{"$f":"V54-F54-H54-M54-R54","v":100622.95661000011},5206.9222099999979]
[null,"% Potencia s/total",{"$f":"C54/$V54","v":0.14678090169998778},{"$f":"D54/$V54","v":6.8682730633783301E-2},4.498328811371869E-2,2.1570999187127269E-2,7.0465933280372123E-2,2.6031212647286618E-2,7.7549182626948324E-3,8.2360972224347392E-2,0.13465104145339876,0.12305691686702419,8.5816974386288805E-4,5.4182650532491675E-2,0.10305015135233231,1.3460947379737333E-2,5.0842156865279903E-3,7.404893672163038E-4,4.1289152257577955E-2,2.7047189715377815E-2,2.7948119595134921E-2,1,{"$f":"W54/$V54","v":0.9507991290545067},{"$f":"X54/$V54","v":4.920087094549308E-2}]
[null,{"$f":"CONCATENATE(\"Δ\",B39,\"/\",B39-1)","v":"Δ2013/2012"},{"$f":"(C54/C35-1)","v":7.3464374853138281E-3},1.3407443822617271E-3,9.9598421295332695E-3,2.1555050318603275E-2,6.7052819496158378E-3,-5.0826736958114238E-2,-2.5094596675245828E-3,1.3669930561603927E-3,4.3941360738160018E-3,2.2075711370501683E-3,0,4.9556507658846893E-2,6.2242516880079979E-3,2.7384170698097066E-4,-7.0481203498584666E-4,0,-2.8703134761175475E-3,1.7006790333977895E-2,-2.577435695195085E-3,5.5776819227566499E-3,6.8679740616184315E-3,-1.8723254850456006E-2]
[]
[null,2014]
[null,"CCAA","Andalucía","Aragón","Asturias","Baleares","C. Valenciana","Canarias","Cantabria","Castilla-La Mancha","Castilla y León","Cataluña","Ceuta","Extremadura","Galicia","La Rioja","Madrid","Melilla","Murcia","Navarra","País Vasco","España","PENINSULAR","NO PENINSULAR"]
[]
[null,"Hidráulica",1183.441,1548.1569999999999,804.36999999999989,null,1273.759,1.2630000000000001,458.92399999999998,866.25800000000004,4394.9544999999998,2350.2782500000003,null,2277.7750000000001,3667.1972000000001,55.550730000000001,109.36099999999999,null,35.628,243.23500000000001,172.8931,{"$f":"SUM(C61:U61)","v":19443.04478},{"$f":"V61-F61-H61-M61-R61","v":19441.781780000001},{"$f":"F61+H61+M61+R61","v":1.2630000000000001}]
[null,"Nuclear ",0,0,0,0,1063.94,0,0,1003.41,455.29,3032.81,0,2017.13,0,0,0,0,0,0,0,{"$f":"SUM(C62:U62)","v":7572.58},7572.58,{"$f":"F62+H62+M62+R62","v":0}]
[null,"Carbón ",1989.4,1055.77,2364.59,468.4,0,0,0,502.64,2595.23,0,0,0,1960.39,0,0,0,0,0,0,10936.42,10468.02,468.4]
[null,"Fuel / gas ",0,0,0,787.4,0,1535.72,0,0,0,505.52,90.82,0,0,0,0,76.14,0,0,0,2995.6,505.51999999999987,2490.08]
[null,"Ciclo combinado ",5951.72,1869.68,854.17,857.95,2853.54,864.2,0,758.74,0,4174.08,0,0,1246.98,784.7,0,0,3263.71,1222.32,1968.07,26669.86,24947.71,1722.15]
[null,"Hidroeólica",0,0,0,0,0,11.39,0,0,0,0,0,0,0,0,0,0,0,0,0,11.39,0,11.39]
[null,"Eólica",3324.5074999999997,1815.51,494.03,3.6762999999999999,1193.2446,152.59,35.307000000000002,3799.9992000000002,5652.1845000000003,1283.51,0,0,3351.1970000000001,448.18,0,0,263.286,1016.63875,193.85,{"$f":"SUM(C67:U67)","v":23027.710849999996},22871.444549999997,156.2663]
[null,"Solar fotovoltaica",865.78927000006104,167.24525999999798,0.77793000000000001,77.733829999999898,346.47006999999599,165.24327999999801,2.0472600000000001,919.39996000008,492.75971000000698,260.94679999999806,0,553.73834000000898,16.193829999999998,85.470699999999994,66.000030000000905,5.79E-2,439.12328000001003,161.11355999998801,25.5886099999999,4645.6996200001458,4402.6646100001481,243.0350099999979]
[null,"Solar térmica",997.22750000000008,0,0,0,49.9,0,0,349.4,0,22.5,0,849,0,0,0,0,31.4,0,0,2299.4275000000002,2299.4275000000002,0]
[null,"Otras renovables",290.90299999999996,86.866,86.569000000000003,2.13,26.088999999999999,3.3679999999999999,12.862,58.009,44.545409999999997,75.274000000000001,0,37.099999999999994,65.938999999999993,4.3529999999999998,42.545000000000002,0,21.094000000000001,46.362000000000002,83.455000000000013,987.46340999999984,981.96540999999979,5.4979999999999993]
[null,"Cogeneración",931.66449999999998,598.82900000000018,156.06900000000002,85.625,650.60149999999999,33.268000000000001,311.56299999999999,451.43700000000001,637.27449999999999,1319.5708999999999,0,19.399999999999999,598.70799999999997,46.316000000000003,326.5779,2.1680000000000001,332.58600000000001,172.73150000000001,494.47339999999997,7168.8631999999989,2452.8193000000001,121.06100000000001]
[null,"Residuos",0,0,0,0,0,0,0,0,0,0,0,0,0,0,0,0,0,0,0,{"$f":"SUM(C72:U72)","v":0},0,0]
[null,{"$f":"CONCATENATE(\"Potencia \",B58)","v":"Potencia 2014"},{"$f":"SUM(C61:C72)","v":15534.652770000064},7142.0572599999978,4760.5759300000009,2282.9151300000003,7457.5441699999947,2767.0422799999978,820.70326,8709.2931600000793,14272.238620000007,13024.489949999999,90.82,5754.1433400000096,10906.605030000001,1424.5704300000002,544.4839300000009,78.365900000000011,4386.8272800000104,2862.4008099999878,2938.3301099999994,{"$f":"SUM(V61:V71)","v":105758.05936000012},{"$f":"V73-F73-H73-M73-R73","v":100538.91605000012},5219.1433099999977]
[null,"% Potencia s/total",{"$f":"C73/$V73","v":0.14688859519556949},{"$f":"D73/$V73","v":6.753203777774E-2},4.5013835908193196E-2,2.1586204813280132E-2,7.051513818549314E-2,2.6163890456622263E-2,7.760195912883845E-3,8.2351106031112689E-2,0.13495178245865264,0.12315363981542697,8.5875252013512264E-4,5.4408556424176836E-2,0.10312788543967084,1.3470088602427611E-2,5.1483918416711794E-3,7.4099222767735104E-4,4.1479839045337093E-2,2.7065557247569986E-2,2.7783510096359963E-2,1,{"$f":"W73/$V73","v":0.95065015998228508},{"$f":"X73/$V73","v":4.9349840017714863E-2}]
[null,{"$f":"CONCATENATE(\"Δ\",B58,\"/\",B58-1)","v":"Δ2014/2013"},{"$f":"(C73/C54-1)","v":5.4573235457988645E-5},-1.7421005168712034E-2,0,2.5801011568793442E-5,1.9174239999752984E-5,4.4147838188297595E-3,1.4621627730804221E-6,-7.9834202034545498E-4,1.5533375006950845E-3,1.068370932859608E-4,0,3.4878793246211348E-3,7.518945199680438E-5,0,1.1935429068545833E-2,0,3.9365611790875832E-3,0,-6.5644579615389276E-3,-6.786312221160884E-4,-8.3520264988556914E-4,2.3470871096420431E-3]
[]
[null,2015]
[null,"CCAA","Andalucía","Aragón","Asturias","Baleares","C. Valenciana","Canarias","Cantabria","Castilla-La Mancha","Castilla y León","Cataluña","Ceuta","Extremadura","Galicia","La Rioja","Madrid","Melilla","Murcia","Navarra","País Vasco","España","PENINSULAR","NO PENINSULAR"]
[]
[null,"Hidráulica",1181.6659999999999,1548.1570000000002,804.36999999999989,null,2151.7090000000003,1.2630000000000001,458.92399999999998,866.25800000000004,4395.2984999999999,2355.6482500000002,null,2277.7750000000001,3690.3072000000002,55.550730000000001,109.36099999999999,null,35.683999999999997,243.23500000000001,172.58509999999998,{"$f":"SUM(C80:U80)","v":20347.79178},{"$f":"V80-F80-H80-M80-R80","v":20346.528780000001},{"$f":"F80+H80+M80+R80","v":1.2630000000000001}]
[null,"Nuclear ",0,0,0,0,1063.94,0,0,1003.41,455.29,3032.81,0,2017.13,0,0,0,0,0,0,0,{"$f":"SUM(C81:U81)","v":7572.58},7572.58,{"$f":"F81+H81+M81+R81","v":0}]
[null,"Carbón ",1989.4,1055.77,2364.59,468.4,0,0,0,502.64,2595.23,0,0,0,1960.39,0,0,0,0,0,0,10936.42,10468.02,468.4]
[null,"Fuel / gas ",0,0,0,787.4,0,1535.7000000000003,0,0,0,0,90.82,0,0,0,0,76.14,0,0,0,2490.0600000000004,0,2490.0600000000004]
[null,"Ciclo combinado ",5951.72,1869.68,854.17,857.95,2853.54,864.2,0,758.74,0,4174.08,0,0,1246.98,784.7,0,0,3263.71,1222.32,1968.07,26669.86,24947.71,1722.15]
[null,"Hidroeólica",0,0,0,0,0,11.39,0,0,0,0,0,0,0,0,0,0,0,0,0,11.39,0,11.39]
[null,"Eólica",3326.3074999999999,1815.51,494.03,3.6762999999999999,1193.2446,152.59,35.307000000000002,3799.9992000000002,5652.1845000000003,1283.51,0,0,3351.1970000000001,448.18,0,0,263.286,1016.63875,193.85,23029.510849999995,22873.244549999996,156.2663]
[null,"Solar fotovoltaica",867.62022000006107,167.43939999999799,0.77793000000000001,77.769779999999898,348.95991999999598,165.768129999998,2.0705100000000001,922.74921000007998,494.04966000000701,263.7111499999981,0,555.73234000001003,16.288730000000001,85.730699999999999,66.632180000000702,5.7000000000000002E-2,439.39378000001,161.27355999998801,25.677789999999899,4661.701990000146,4418.1070800001489,243.5949099999979]
[null,"Solar térmica",997.22750000000008,0,0,0,49.9,0,0,349.4,0,22.5,0,849,0,0,0,0,31.4,0,0,2299.4275000000002,2299.4275000000002,0]
[null,"Térmica renovable",256.33299999999997,16.216000000000001,46.239000000000004,2.13,17.719000000000001,3.3679999999999999,12.862,58.708999999999996,45.800409999999999,65.728999999999999,0,37.099999999999994,50.389000000000003,4.3529999999999998,42.545000000000002,0,11.414,46.710999999999999,30.042999999999999,747.66040999999996,742.16240999999991,5.4979999999999993]
[null,"Cogeneración y resto",874.86649999999997,582.77800000000002,82.962999999999994,10.824999999999999,605.51750000000004,33.268000000000001,301.62899999999996,455.75299999999999,641.10750000000007,1286.7869000000001,0,19.399999999999999,552.548,46.316000000000003,257.08690000000001,0,337.63,171.8775,391.64839999999998,6652.0011999999988,6607.9081999999989,44.093000000000004]
[null,"Residuos",95.867999999999995,80.884,113.718,74.8,62.519999999999996,0,9.9339999999999993,0,0,56.113999999999997,0,0,65.680000000000007,0,29.8,2.1680000000000001,9.68,0,153.208,754.37399999999991,677.40599999999995,76.968000000000004]
[null,{"$f":"CONCATENATE(\"Potencia \",B77)","v":"Potencia 2015"},{"$f":"SUM(C80:C91)","v":15541.008720000062},7136.4343999999992,4760.8579299999992,2282.9510800000003,8347.0500199999969,2767.5471299999986,820.72650999999996,8717.6584100000819,14278.960570000008,12540.889299999997,90.82,5756.1373400000102,10933.779930000001,1424.8304300000002,505.42508000000072,78.365000000000009,4392.1977800000104,2862.0558099999876,2935.0822899999998,106172.77773000013,{"$f":"V92-F92-H92-M92-R92","v":100953.09452000013},5219.6832099999983]
[null,"% Potencia s/total",{"$f":"C92/$V92","v":0.14637470218139353},{"$f":"D92/$V92","v":6.7215293341463853E-2},4.4840664733355406E-2,2.1502226171435379E-2,7.8617609885150985E-2,2.6066447437571388E-2,7.7301030221430837E-3,8.2108225821964378E-2,0.13448796268956756,0.11811774701695922,8.5539817212805134E-4,5.4214813467892899E-2,0.10298101042251018,1.3419922323435651E-2,4.7604017791199604E-3,7.3808938294224577E-4,4.1368398509545191E-2,2.6956587848518596E-2,2.7644395792902614E-2,1,{"$f":"W92/$V92","v":0.95083783883592288},{"$f":"X92/$V92","v":4.916216116407706E-2}]
[null,{"$f":"CONCATENATE(\"Δ\",B77,\"/\",B77-1)","v":"Δ2015/2014"},{"$f":"(C92/C73-1)","v":4.0914657663093656E-4},-7.8728856340737341E-4,5.9236530231876472E-5,1.5747409760180631E-5,0.11927597473418694,1.8245113334547369E-4,2.8329362308010531E-5,9.6049700547706784E-4,4.7098077456331211E-4,-3.7130102741566695E-2,0,3.4653290371466916E-4,2.4916002665589243E-3,1.8251115882006452E-4,-7.1735542314352863E-2,-1.1484587046139971E-5,1.224233291446053E-3,-1.2052819395347303E-4,-1.1053284955786502E-3,3.9213878593244988E-3,4.1195836027716481E-3,1.0344609602230825E-4]
[]
[null,2016]
[null,"CCAA","Andalucía","Aragón","Asturias","Baleares","C. Valenciana","Canarias","Cantabria","Castilla-La Mancha","Castilla y León","Cataluña","Ceuta","Extremadura","Galicia","La Rioja","Madrid","Melilla","Murcia","Navarra","País Vasco","España","PENINSULAR","NO PENINSULAR"]
[]
[null,"Hidráulica",1181.6659999999999,1548.1569999999999,804.50379999999996,null,2151.7090000000003,1.2630000000000001,458.92399999999998,866.25800000000004,4397.7735000000002,2358.7382500000003,null,2277.7750000000001,3693.0871999999999,55.550730000000001,109.36099999999999,null,35.683999999999997,243.23500000000001,172.58509999999998,{"$f":"SUM(C99:U99)","v":20356.27058},{"$f":"V99-F99-H99-M99-R99","v":20355.007580000001},{"$f":"F99+H99+M99+R99","v":1.2630000000000001}]
[null,"Nuclear ",0,0,0,0,1063.94,0,0,1003.41,455.29,3032.81,0,2017.13,0,0,0,0,0,0,0,{"$f":"SUM(C100:U100)","v":7572.58},{"$f":"V100-F100-H100-M100-R100","v":7572.58},{"$f":"F100+H100+M100+R100","v":0}]
[null,"Carbón ",1989.4,1055.77,2073.42,468.4,0,0,0,0,2456.89,0,0,0,1960.39,0,0,0,0,0,0,10004.269999999999,9535.869999999999,468.4]
[null,"Fuel / gas ",0,0,0,787.4,0,1535.7,0,0,0,0,90.82,0,0,0,0,76.14,0,0,0,2490.06,-1.8474111129762605E-13,2490.06]
[null,"Ciclo combinado ",5951.72,1869.68,854.17,857.95,2853.54,864.2,0,758.74,0,4174.08,0,0,1246.98,784.7,0,0,3263.71,1222.32,1968.07,26669.86,24947.71,1722.15]
[null,"Hidroeólica",0,0,0,0,0,11.39,0,0,0,0,0,0,0,0,0,0,0,0,0,11.39,0,11.39]
[null,"Eólica",3326.3074999999999,1815.51,494.03000000000003,3.676299999999999,1193.2445999999998,152.59,35.307000000000002,3799.9992000000002,5679.1845000000003,1283.51,0,0,3360.3969999999999,448.18,0,0,263.286,1017.3387499999998,193.85,23066.410849999997,22910.144549999997,156.2663]
[null,"Solar fotovoltaica",871.28447000006111,167.49319999999798,0.78793000000000002,77.763779999999954,349.19502999999571,166.5535299999984,2.070509999999997,923.56651000007946,493.94537000000742,264.12654999999819,0,561.23234000001082,16.223130000000022,85.730700000000041,66.06028000000083,5.7900000000000007E-2,439.48038000001043,161.25615999998831,25.791989999999878,4672.6197600001469,{"$f":"V106-F106-H106-M106-R106","v":4428.2445500001486},244.37520999999836]
[null,"Solar térmica",997.22749999999996,0,0,0,49.9,0,0,349.4,0,22.5,0,848.99999999999977,0,0,0,0,31.4,0,0,2299.4275000000002,2299.4275000000002,0]
[null,"Otras renovables",256.33299999999997,16.216000000000001,46.684000000000005,2.13,18.016999999999999,3.3680000000000003,12.862,58.708999999999996,45.800410000000007,65.729000000000013,0,37.099999999999994,50.389000000000003,4.3529999999999998,42.545000000000002,0,11.414,46.710999999999999,30.042999999999999,748.40341000000001,742.90540999999996,5.4980000000000002]
[null,"Cogeneración",874.86649999999997,581.71300000000008,80.5505,10.824999999999999,592.38850000000002,33.267999999999994,301.62899999999996,431.90300000000002,634.66250000000002,1176.6199000000004,0,19.399999999999999,549.04300000000012,46.316000000000003,254.0869000000001,0,320.02600000000001,171.87750000000003,380.44040000000001,6459.6156999999994,6415.5226999999995,44.092999999999989]
[null,"Residuos",95.867999999999995,80.884,113.718,74.800000000000011,62.519999999999989,0,9.9339999999999993,0,0,56.11399999999999,0,0,65.680000000000007,0,29.8,2.1680000000000001,9.68,0,153.208,{"$f":"SUM(C110:U110)","v":754.37399999999991},{"$f":"V110-F110-H110-M110-R110","v":677.40599999999984},{"$f":"F110+H110+M110+R110","v":76.968000000000018}]
[null,{"$f":"CONCATENATE(\"Potencia \",B96)","v":"Potencia 2016"},{"$f":"SUM(C99:C110)","v":15544.672970000061},{"$f":"SUM(D99:D110)","v":7135.4231999999984},4467.864230000001,2282.94508,8334.4541299999946,2768.3325299999983,820.72650999999996,8191.98571000008,14163.546280000006,12434.227699999998,90.82,5761.6373400000111,10942.189330000001,1424.8304300000002,501.85318000000092,78.365900000000011,4374.6803800000116,2862.7384099999881,2923.9884899999997,{"$f":"SUM(V99:V110)","v":105105.28180000014},{"$f":"V111-F111-H111-M111-R111","v":99884.818290000127},{"$f":"F111+H111+M111+R111","v":5220.4635099999978}]
[null,"% Potencia s/total",{"$f":"C111/$V111","v":0.14789621133959074},{"$f":"D111/$V111","v":6.7888340888307183E-2},{"$f":"E111/$V111","v":4.2508465354782914E-2},2.1720555246158874E-2,7.9296244558472645E-2,2.6338662363968798E-2,7.8086133821678111E-3,7.7940761584067875E-2,0.13475579949398878,0.11830259609274918,8.6408597593427383E-4,5.4817771679291603E-2,0.10410694060857355,1.3556221015716817E-2,4.7747665141600927E-3,7.45594309419376E-4,4.1621889072372055E-2,2.7236865369405099E-2,2.7819615150872425E-2,{"$f":"V111/$V111","v":1},{"$f":"W111/$V111","v":0.95033110210451854},{"$f":"X111/$V111","v":4.9668897895481318E-2}]
[null,{"$f":"CONCATENATE(\"Δ\",B96,\"/\",B96-1)","v":"Δ2016/2015"},{"$f":"(C111/C92-1)","v":2.3577941857033657E-4},{"$f":"(D111/D92-1)","v":-1.4169541024589005E-4},-6.1542206112417674E-2,-2.6281772100844591E-6,-1.5090229446117487E-3,2.8378920506400007E-4,0,-6.0299758866096398E-2,-8.082821535517537E-3,-8.5051065716686969E-3,0,9.5550187132964481E-4,7.6912102254111936E-4,0,-7.0671206106348583E-3,1.1484718943410854E-5,-3.9882994522161264E-3,2.3849989144708594E-4,-3.7797236683269064E-3,-1.0054327981459221E-2,-1.0581906726874646E-2,1.4949183094192797E-4]

{"sheet":"demandas","index":9,"n_rows":14,"n_cols":26,"rows_kept":14,"cut":false,"hidden":true,"merged":[]}
[]
[null,null,"Andalucía","Aragón","Asturias","Baleares","C. Valenciana","Canarias","Cantabria","Castilla-La Mancha","Castilla y León","Cataluña","Ceuta","Extremadura","Galicia","La Rioja","Madrid","Melilla","Murcia","Navarra","País Vasco","España","PENINSULAR","NO PENINSULAR",null,"Resto nacional"]
[2011,"demanda",{"$f":"generacion_bruta!C22","v":39973.704842229577},{"$f":"generacion_bruta!D22","v":10403.132631947488},{"$f":"generacion_bruta!E22","v":10959.479870641557},{"$f":"generacion_bruta!F22","v":5743.2885379999998},{"$f":"generacion_bruta!G22","v":27225.941529768148},{"$f":"generacion_bruta!H22","v":8870.2354340000002},{"$f":"generacion_bruta!I22","v":4472.546785709178},{"$f":"generacion_bruta!J22","v":11999.477838823741},{"$f":"generacion_bruta!K22","v":13540.138990743038},{"$f":"generacion_bruta!L22","v":48194.537201440944},{"$f":"generacion_bruta!M22","v":202.977},{"$f":"generacion_bruta!N22","v":4718.1397168928324},{"$f":"generacion_bruta!O22","v":19839.965387738754},{"$f":"generacion_bruta!P22","v":1747.9460232454371},{"$f":"generacion_bruta!Q22","v":31554.179197227539},{"$f":"generacion_bruta!R22","v":214.906587},{"$f":"generacion_bruta!S22","v":8324.5980431929383},{"$f":"generacion_bruta!T22","v":4946.5912702411097},{"$f":"generacion_bruta!U22","v":17697.019402157697},{"$f":"SUM(C3:U3)","v":270628.80629099999},{"$f":"V3-F3-H3-M3-R3","v":255597.39873199994},{"$f":"F3+H3+M3+R3","v":15031.407558999999},null,{"$f":"V3-D3","v":260225.6736590525}]
[2011,{"$f":"CONCATENATE(\"Δ\",A3,\"/\",A3-1)","v":"Δ2011/2010"},-1.401045402110479E-2,-1.6509893267077302E-2,1.6138655931461576E-2,-1.6608810375253191E-2,-2.3192029607301046E-2,-2.7544779950693377E-3,2.4121990421637873E-2,-6.966717836464853E-3,-3.3795584296561487E-2,-1.7116769784879304E-2,-6.6913985464274295E-2,-5.4666141882314667E-2,-7.9289658900386639E-3,-2.3186092049002127E-2,-3.6820115598719894E-2,7.4604637681701114E-3,-5.7675308731475194E-4,5.9917748820614847E-3,-4.1609445557349134E-2,-1.8368338270236872E-2]
[2012,"demanda",{"$f":"generacion_bruta!C50","v":39708.863076939146},{"$f":"generacion_bruta!D50","v":10238.73926267742},{"$f":"generacion_bruta!E50","v":10339.423124742669},{"$f":"generacion_bruta!F50","v":5822.6015400000006},{"$f":"generacion_bruta!G50","v":26476.476167514455},{"$f":"generacion_bruta!H50","v":8892.5404590000016},{"$f":"generacion_bruta!I50","v":4399.5110263543629},{"$f":"generacion_bruta!J50","v":12020.229025895496},{"$f":"generacion_bruta!K50","v":13729.507408160767},{"$f":"generacion_bruta!L50","v":47751.06659633715},{"$f":"generacion_bruta!M50","v":212.07499999999999},{"$f":"generacion_bruta!N50","v":4889.5721844771124},{"$f":"generacion_bruta!O50","v":19650.688462622595},{"$f":"generacion_bruta!P50","v":1732.8819409398857},{"$f":"generacion_bruta!Q50","v":31001.389508996344},{"$f":"generacion_bruta!R50","v":217.353072},{"$f":"generacion_bruta!S50","v":8607.1074412570179},{"$f":"generacion_bruta!T50","v":4798.8288074892571},{"$f":"generacion_bruta!U50","v":16669.937001596325},{"$f":"SUM(C5:U5)","v":267158.79110699997},{"$f":"V5-F5-H5-M5-R5","v":252014.22103599994},{"$f":"F5+H5+M5+R5","v":15144.570071000004},null,{"$f":"V5-D5","v":256920.05184432256}]
[2012,{"$f":"CONCATENATE(\"Δ\",A5,\"/\",A5-1)","v":"Δ2012/2011"},{"$f":"generacion_bruta!C51","v":-6.6253995304094149E-3},{"$f":"generacion_bruta!D51","v":-1.5802294855419285E-2},{"$f":"generacion_bruta!E51","v":-5.6577205598954294E-2},{"$f":"generacion_bruta!F51","v":1.380968437772756E-2},{"$f":"generacion_bruta!G51","v":-2.7527619620950405E-2},{"$f":"generacion_bruta!H51","v":2.5145922186580183E-3},{"$f":"generacion_bruta!I51","v":-1.63297921417348E-2},{"$f":"generacion_bruta!J51","v":1.7293408388667775E-3},{"$f":"generacion_bruta!K51","v":1.3985707055680363E-2},{"$f":"generacion_bruta!L51","v":-9.2016778426609047E-3},{"$f":"generacion_bruta!M51","v":4.4822812436877024E-2},{"$f":"generacion_bruta!N51","v":3.63347585851439E-2},{"$f":"generacion_bruta!O51","v":-9.5401842400961723E-3},{"$f":"generacion_bruta!P51","v":-8.6181621773318007E-3},{"$f":"generacion_bruta!Q51","v":-1.7518747192757367E-2},{"$f":"generacion_bruta!R51","v":1.1383946086305885E-2},{"$f":"generacion_bruta!S51","v":3.3936701399665647E-2},{"$f":"generacion_bruta!T51","v":-2.9871573105463067E-2},{"$f":"generacion_bruta!U51","v":-5.8037027435034916E-2},{"$f":"generacion_bruta!V51","v":-1.2822046668117038E-2}]
[2013,"demanda",{"$f":"generacion_bruta!C78","v":38187.73774517783},{"$f":"generacion_bruta!D78","v":10104.853775950784},{"$f":"generacion_bruta!E78","v":10414.689433496729},{"$f":"generacion_bruta!F78","v":5673.5373459999992},{"$f":"generacion_bruta!G78","v":25895.09405579924},{"$f":"generacion_bruta!H78","v":8623.6832979999999},{"$f":"generacion_bruta!I78","v":4385.4652015213724},{"$f":"generacion_bruta!J78","v":11630.984446225},{"$f":"generacion_bruta!K78","v":13681.21204246595},{"$f":"generacion_bruta!L78","v":46273.066276843514},{"$f":"generacion_bruta!M78","v":201.959},{"$f":"generacion_bruta!N78","v":4866.3297721122271},{"$f":"generacion_bruta!O78","v":19870.365230834192},{"$f":"generacion_bruta!P78","v":1704.2347479909263},{"$f":"generacion_bruta!Q78","v":29707.614504403198},{"$f":"generacion_bruta!R78","v":209.66712000000001},{"$f":"generacion_bruta!S78","v":8314.6693422798126},{"$f":"generacion_bruta!T78","v":4776.0865743842915},{"$f":"generacion_bruta!U78","v":16556.006963514938},{"$f":"SUM(C7:U7)","v":261077.25687700004},{"$f":"V7-F7-H7-M7-R7","v":246368.41011300005},{"$f":"F7+H7+M7+R7","v":14708.846764},null,{"$f":"V7-D7","v":250972.40310104925}]
[2013,{"$f":"CONCATENATE(\"Δ\",A7,\"/\",A7-1)","v":"Δ2013/2012"},{"$f":"generacion_bruta!C79","v":-3.8306947464449181E-2},{"$f":"generacion_bruta!D79","v":-1.3076364510490102E-2},{"$f":"generacion_bruta!E79","v":7.279546242183077E-3},{"$f":"generacion_bruta!F79","v":-2.5600960837859676E-2},{"$f":"generacion_bruta!G79","v":-2.1958439938791652E-2},{"$f":"generacion_bruta!H79","v":-3.0234010431506753E-2},{"$f":"generacion_bruta!I79","v":-3.1925877100550393E-3},{"$f":"generacion_bruta!J79","v":-3.2382459504884276E-2},{"$f":"generacion_bruta!K79","v":-3.5176328078683206E-3},{"$f":"generacion_bruta!L79","v":-3.0952194889967366E-2},{"$f":"generacion_bruta!M79","v":-4.7700106094542005E-2},{"$f":"generacion_bruta!N79","v":-4.7534654337801907E-3},{"$f":"generacion_bruta!O79","v":1.1179087624814787E-2},{"$f":"generacion_bruta!P79","v":-1.6531531821158962E-2},{"$f":"generacion_bruta!Q79","v":-4.1732806983303283E-2},{"$f":"generacion_bruta!R79","v":-3.5361598201841815E-2},{"$f":"generacion_bruta!S79","v":-3.3976350472336714E-2},{"$f":"generacion_bruta!T79","v":-4.739121568469562E-3},{"$f":"generacion_bruta!U79","v":-6.8344612262468685E-3},{"$f":"generacion_bruta!V79","v":-2.2763743632767897E-2}]
[2014,"demanda",{"$f":"generacion_bruta!C106","v":37538.080926739356},{"$f":"generacion_bruta!D106","v":10089.683998845234},{"$f":"generacion_bruta!E106","v":10312.647253359972},{"$f":"generacion_bruta!F106","v":5585.4268609999999},{"$f":"generacion_bruta!G106","v":25885.871391500277},{"$f":"generacion_bruta!H106","v":8579.9686590000001},{"$f":"generacion_bruta!I106","v":4321.6115102376498},{"$f":"generacion_bruta!J106","v":11650.855787772291},{"$f":"generacion_bruta!K106","v":13556.985580039785},{"$f":"generacion_bruta!L106","v":45622.190954681966},{"$f":"generacion_bruta!M106","v":212.25299999999999},{"$f":"generacion_bruta!N106","v":4637.7777916169653},{"$f":"generacion_bruta!O106","v":19748.989034026425},{"$f":"generacion_bruta!P106","v":1690.3850094950128},{"$f":"generacion_bruta!Q106","v":28447.618300880553},{"$f":"generacion_bruta!R106","v":209.863147},{"$f":"generacion_bruta!S106","v":8468.6681564068713},{"$f":"generacion_bruta!T106","v":4779.9900567836521},{"$f":"generacion_bruta!U106","v":16792.370888613979},{"$f":"SUM(C9:U9)","v":258131.23830799997},{"$f":"V9-F9-H9-M9-R9","v":243543.72664099996},{"$f":"F9+H9+M9+R9","v":14587.511667000001},null,{"$f":"V9-D9","v":248041.55430915474}]
[2014,{"$f":"CONCATENATE(\"Δ\",A9,\"/\",A9-1)","v":"Δ2014/2013"},{"$f":"generacion_bruta!C107","v":-1.7012183931228275E-2},{"$f":"generacion_bruta!D107","v":-1.5012366771356422E-3},{"$f":"generacion_bruta!E107","v":-9.7979090772077893E-3},{"$f":"generacion_bruta!F107","v":-1.5530079318526013E-2},{"$f":"generacion_bruta!G107","v":-3.5615488706430831E-4},{"$f":"generacion_bruta!H107","v":-5.0691378021892053E-3},{"$f":"generacion_bruta!I107","v":-1.4560300526742509E-2},{"$f":"generacion_bruta!J107","v":1.7084832018445795E-3},{"$f":"generacion_bruta!K107","v":-9.080077265126052E-3},{"$f":"generacion_bruta!L107","v":-1.406596481563327E-2},{"$f":"generacion_bruta!M107","v":5.0970741586163548E-2},{"$f":"generacion_bruta!N107","v":-4.6965986934350168E-2},{"$f":"generacion_bruta!O107","v":-6.1084029104517823E-3},{"$f":"generacion_bruta!P107","v":-8.126661254994727E-3},{"$f":"generacion_bruta!Q107","v":-4.2413240663799923E-2},{"$f":"generacion_bruta!R107","v":9.3494392444548602E-4},{"$f":"generacion_bruta!S107","v":1.8521339549124383E-2},{"$f":"generacion_bruta!T107","v":8.1729724504908674E-4},{"$f":"generacion_bruta!U107","v":1.4276626339909448E-2},{"$f":"generacion_bruta!V107","v":-1.128408733966435E-2}]
[2015,"demanda",{"$f":"generacion_bruta!C134","v":38660.478606179197},{"$f":"generacion_bruta!D134","v":10301.005918326602},{"$f":"generacion_bruta!E134","v":10467.806079645714},{"$f":"generacion_bruta!F134","v":5796.417938999999},{"$f":"generacion_bruta!G134","v":26745.564684589404},{"$f":"generacion_bruta!H134","v":8669.3768900000014},{"$f":"generacion_bruta!I134","v":4247.8922381349439},{"$f":"generacion_bruta!J134","v":11570.992648442838},{"$f":"generacion_bruta!K134","v":13864.63565363608},{"$f":"generacion_bruta!L134","v":46646.983871136421},{"$f":"generacion_bruta!M134","v":205.43799999999999},{"$f":"generacion_bruta!N134","v":4835.6118556111833},{"$f":"generacion_bruta!O134","v":19718.197069280221},{"$f":"generacion_bruta!P134","v":1725.1173431950142},{"$f":"generacion_bruta!Q134","v":28873.944388532964},{"$f":"generacion_bruta!R134","v":213.48581799999999},{"$f":"generacion_bruta!S134","v":8920.1974209587934},{"$f":"generacion_bruta!T134","v":4843.1225127210555},{"$f":"generacion_bruta!U134","v":16976.664163609585},{"$f":"SUM(C11:U11)","v":263282.93310099997},{"$f":"V11-F11-H11-M11-R11","v":248398.21445399997},{"$f":"F11+H11+M11+R11","v":14884.718647},null,{"$f":"V11-D11","v":252981.92718267336}]
[2015,{"$f":"CONCATENATE(\"Δ\",A11,\"/\",A11-1)","v":"Δ2015/2014"},{"$f":"generacion_bruta!C135","v":2.9900241347722289E-2},{"$f":"generacion_bruta!D135","v":2.0944354600753945E-2},{"$f":"generacion_bruta!E135","v":1.5045489530846723E-2},{"$f":"generacion_bruta!F135","v":3.7775282579248337E-2},{"$f":"generacion_bruta!G135","v":3.3210907992512473E-2},{"$f":"generacion_bruta!H135","v":1.0420577807847442E-2},{"$f":"generacion_bruta!I135","v":-1.705828298727663E-2},{"$f":"generacion_bruta!J135","v":-6.8547015587704374E-3},{"$f":"generacion_bruta!K135","v":2.2693103255140512E-2},{"$f":"generacion_bruta!L135","v":2.2462597587047384E-2},{"$f":"generacion_bruta!M135","v":-3.2107908957706099E-2},{"$f":"generacion_bruta!N135","v":4.2657081232269078E-2},{"$f":"generacion_bruta!O135","v":-1.5591666334490162E-3},{"$f":"generacion_bruta!P135","v":2.0546995805634349E-2},{"$f":"generacion_bruta!Q135","v":1.4986354328271334E-2},{"$f":"generacion_bruta!R135","v":1.7262063643789682E-2},{"$f":"generacion_bruta!S135","v":5.3317624000926545E-2},{"$f":"generacion_bruta!T135","v":1.3207654239323574E-2},{"$f":"generacion_bruta!U135","v":1.0974821615008734E-2},{"$f":"generacion_bruta!V135","v":1.9958044701481992E-2}]
[2016,"demanda",{"$f":"generacion_bruta!C162","v":39606.137821905009},{"$f":"generacion_bruta!D162","v":10437.905158794245},{"$f":"generacion_bruta!E162","v":10508.598098673157},{"$f":"generacion_bruta!F162","v":5832.2438840000004},{"$f":"generacion_bruta!G162","v":26852.694276523944},{"$f":"generacion_bruta!H162","v":8776.8319209999991},{"$f":"generacion_bruta!I162","v":4204.4716903848812},{"$f":"generacion_bruta!J162","v":11711.100448161369},{"$f":"generacion_bruta!K162","v":14026.167292334412},{"$f":"generacion_bruta!L162","v":46910.91128575417},{"$f":"generacion_bruta!M162","v":210.73599999999999},{"$f":"generacion_bruta!N162","v":4968.626308339828},{"$f":"generacion_bruta!O162","v":19961.379817576963},{"$f":"generacion_bruta!P162","v":1732.0538633453953},{"$f":"generacion_bruta!Q162","v":28968.736497616606},{"$f":"generacion_bruta!R162","v":208.348187},{"$f":"generacion_bruta!S162","v":9053.1126999901844},{"$f":"generacion_bruta!T162","v":4948.5646158618929},{"$f":"generacion_bruta!U162","v":16208.428509737936},{"$f":"generacion_bruta!V162","v":265127.14837699995},{"$f":"V13-F13-H13-M13-R13","v":250098.98838499995},{"$f":"F13+H13+M13+R13","v":15028.159992000001},null,{"$f":"V13-D13","v":254689.24321820569}]
[2016,{"$f":"CONCATENATE(\"Δ\",A13,\"/\",A13-1)","v":"Δ2016/2015"},{"$f":"generacion_bruta!C163","v":2.4460618435661718E-2},{"$f":"generacion_bruta!D163","v":1.3289890477985677E-2},{"$f":"generacion_bruta!E163","v":3.8969024375377082E-3},{"$f":"generacion_bruta!F163","v":6.1807042516643929E-3},{"$f":"generacion_bruta!G163","v":4.0055086964108089E-3},{"$f":"generacion_bruta!H163","v":1.2394781350888673E-2},{"$f":"generacion_bruta!I163","v":-1.0221668845612375E-2},{"$f":"generacion_bruta!J163","v":1.2108537614306192E-2},{"$f":"generacion_bruta!K163","v":1.1650622687367163E-2},{"$f":"generacion_bruta!L163","v":5.6579738434290316E-3},{"$f":"generacion_bruta!M163","v":2.578880246108306E-2},{"$f":"generacion_bruta!N163","v":2.7507264168503687E-2},{"$f":"generacion_bruta!O163","v":1.2332909922865509E-2},{"$f":"generacion_bruta!P163","v":4.0208975799491675E-3},{"$f":"generacion_bruta!Q163","v":3.2829636231235249E-3},{"$f":"generacion_bruta!R163","v":-2.4065444009962245E-2},{"$f":"generacion_bruta!S163","v":1.4900486251469669E-2},{"$f":"generacion_bruta!T163","v":2.1771512668506965E-2},{"$f":"generacion_bruta!U163","v":-4.5252450450095183E-2},{"$f":"generacion_bruta!V163","v":7.0043073200716233E-3}]

{"sheet":"datos_genanual","index":10,"n_rows":73,"n_cols":22,"rows_kept":73,"cut":false,"hidden":true,"merged":[]}
[null,"CCAA","Andalucía","Aragón","Asturias","Baleares","C. Valenciana","Canarias","Cantabria","Castilla-La Mancha","Castilla y León","Cataluña","Ceuta","Extremadura","Galicia","La Rioja","Madrid","Melilla","Murcia","Navarra","País Vasco","España"]
[2011,"Hidráulica",{"$f":"generacion_bruta!C6","v":1410.8023012295787},{"$f":"generacion_bruta!D6","v":2756.0134409474913},{"$f":"generacion_bruta!E6","v":1283.3128496415561},{"$f":"generacion_bruta!F6","v":0},{"$f":"generacion_bruta!G6","v":1313.8495137681452},{"$f":"generacion_bruta!H6","v":1.675408},{"$f":"generacion_bruta!I6","v":628.50013870917837},{"$f":"generacion_bruta!J6","v":991.71181382374232},{"$f":"generacion_bruta!K6","v":9030.9282617430435},{"$f":"generacion_bruta!L6","v":3936.325731440947},{"$f":"generacion_bruta!M6","v":0},{"$f":"generacion_bruta!N6","v":3516.5453598928284},{"$f":"generacion_bruta!O6","v":6430.2802437387563},{"$f":"generacion_bruta!P6","v":138.43037624543734},{"$f":"generacion_bruta!Q6","v":244.52657922753951},{"$f":"generacion_bruta!R6","v":0},{"$f":"generacion_bruta!S6","v":110.84197619293917},{"$f":"generacion_bruta!T6","v":426.01360724111026},{"$f":"generacion_bruta!U6","v":302.1399821576947},{"$f":"generacion_bruta!V6","v":44954.22051900001}]
[null,"Nuclear ",{"$f":"generacion_bruta!C7","v":0},{"$f":"generacion_bruta!D7","v":0},{"$f":"generacion_bruta!E7","v":0},{"$f":"generacion_bruta!F7","v":0},{"$f":"generacion_bruta!G7","v":7588.8289999999997},{"$f":"generacion_bruta!H7","v":0},{"$f":"generacion_bruta!I7","v":0},{"$f":"generacion_bruta!J7","v":7834.5079999999998},{"$f":"generacion_bruta!K7","v":3576.9870000000001},{"$f":"generacion_bruta!L7","v":20854.210999999999},{"$f":"generacion_bruta!M7","v":0},{"$f":"generacion_bruta!N7","v":15249.396000000001},{"$f":"generacion_bruta!O7","v":0},{"$f":"generacion_bruta!P7","v":0},{"$f":"generacion_bruta!Q7","v":0},{"$f":"generacion_bruta!R7","v":0},{"$f":"generacion_bruta!S7","v":0},{"$f":"generacion_bruta!T7","v":0},{"$f":"generacion_bruta!U7","v":0},{"$f":"generacion_bruta!V7","v":55103.931000000004}]
[null,"Carbón ",{"$f":"generacion_bruta!C8","v":8190.58},{"$f":"generacion_bruta!D8","v":6135.0810000000001},{"$f":"generacion_bruta!E8","v":7237.3029999999999},{"$f":"generacion_bruta!F8","v":2764.8670000000002},{"$f":"generacion_bruta!G8","v":0},{"$f":"generacion_bruta!H8","v":0},{"$f":"generacion_bruta!I8","v":0},{"$f":"generacion_bruta!J8","v":1458.4169999999999},{"$f":"generacion_bruta!K8","v":9029.3279999999995},{"$f":"generacion_bruta!L8","v":11.689},{"$f":"generacion_bruta!M8","v":0},{"$f":"generacion_bruta!N8","v":0},{"$f":"generacion_bruta!O8","v":8099.3360000000002},{"$f":"generacion_bruta!P8","v":0},{"$f":"generacion_bruta!Q8","v":0},{"$f":"generacion_bruta!R8","v":0},{"$f":"generacion_bruta!S8","v":0},{"$f":"generacion_bruta!T8","v":0},{"$f":"generacion_bruta!U8","v":340.09300000000002},{"$f":"generacion_bruta!V8","v":43266.694000000003}]
[null,"Fuel / gas ",{"$f":"generacion_bruta!C9","v":0},{"$f":"generacion_bruta!D9","v":0},{"$f":"generacion_bruta!E9","v":0},{"$f":"generacion_bruta!F9","v":1283.414},{"$f":"generacion_bruta!G9","v":0},{"$f":"generacion_bruta!H9","v":5330.2414849999996},{"$f":"generacion_bruta!I9","v":0},{"$f":"generacion_bruta!J9","v":0},{"$f":"generacion_bruta!K9","v":0},{"$f":"generacion_bruta!L9","v":0},{"$f":"generacion_bruta!M9","v":202.977},{"$f":"generacion_bruta!N9","v":0},{"$f":"generacion_bruta!O9","v":0},{"$f":"generacion_bruta!P9","v":0},{"$f":"generacion_bruta!Q9","v":0},{"$f":"generacion_bruta!R9","v":207.79989399999999},{"$f":"generacion_bruta!S9","v":0},{"$f":"generacion_bruta!T9","v":0},{"$f":"generacion_bruta!U9","v":0},{"$f":"generacion_bruta!V9","v":7024.4323789999989}]
[null,"Ciclo combinado ",{"$f":"generacion_bruta!C10","v":13707.538},{"$f":"generacion_bruta!D10","v":1455.2739999999999},{"$f":"generacion_bruta!E10","v":1770.412},{"$f":"generacion_bruta!F10","v":1326.7349999999999},{"$f":"generacion_bruta!G10","v":6703.7809999999999},{"$f":"generacion_bruta!H10","v":2918.8752370000002},{"$f":"generacion_bruta!I10","v":0},{"$f":"generacion_bruta!J10","v":3267.0059999999999},{"$f":"generacion_bruta!K10","v":0},{"$f":"generacion_bruta!L10","v":9288.0280000000002},{"$f":"generacion_bruta!M10","v":0},{"$f":"generacion_bruta!N10","v":0},{"$f":"generacion_bruta!O10","v":2236.7049999999999},{"$f":"generacion_bruta!P10","v":969.80700000000002},{"$f":"generacion_bruta!Q10","v":0},{"$f":"generacion_bruta!R10","v":0},{"$f":"generacion_bruta!S10","v":5398.3419999999996},{"$f":"generacion_bruta!T10","v":1184.17},{"$f":"generacion_bruta!U10","v":3430.5940000000001},{"$f":"generacion_bruta!V10","v":53657.267236999993}]
[null,"Hidroeólica",{"$f":"generacion_bruta!C12","v":0},{"$f":"generacion_bruta!D12","v":0},{"$f":"generacion_bruta!E12","v":0},{"$f":"generacion_bruta!F12","v":0},{"$f":"generacion_bruta!G12","v":0},{"$f":"generacion_bruta!H12","v":0},{"$f":"generacion_bruta!I12","v":0},{"$f":"generacion_bruta!J12","v":0},{"$f":"generacion_bruta!K12","v":0},{"$f":"generacion_bruta!L12","v":0},{"$f":"generacion_bruta!M12","v":0},{"$f":"generacion_bruta!N12","v":0},{"$f":"generacion_bruta!O12","v":0},{"$f":"generacion_bruta!P12","v":0},{"$f":"generacion_bruta!Q12","v":0},{"$f":"generacion_bruta!R12","v":0},{"$f":"generacion_bruta!S12","v":0},{"$f":"generacion_bruta!T12","v":0},{"$f":"generacion_bruta!U12","v":0},{"$f":"generacion_bruta!V12","v":0}]
[null,"Eólica",{"$f":"generacion_bruta!C13","v":6220.8390449999997},{"$f":"generacion_bruta!D13","v":3850.0185310000002},{"$f":"generacion_bruta!E13","v":677.45192499999996},{"$f":"generacion_bruta!F13","v":5.8282569999999989},{"$f":"generacion_bruta!G13","v":1968.3925940000001},{"$f":"generacion_bruta!H13","v":354.15511299999991},{"$f":"generacion_bruta!I13","v":62.816258999999988},{"$f":"generacion_bruta!J13","v":6827.344728},{"$f":"generacion_bruta!K13","v":8932.1360420000001},{"$f":"generacion_bruta!L13","v":1929.497932},{"$f":"generacion_bruta!M13","v":0},{"$f":"generacion_bruta!N13","v":0},{"$f":"generacion_bruta!O13","v":7432.7618679999987},{"$f":"generacion_bruta!P13","v":936.95675599999993},{"$f":"generacion_bruta!Q13","v":0},{"$f":"generacion_bruta!R13","v":0},{"$f":"generacion_bruta!S13","v":308.95581800000002},{"$f":"generacion_bruta!T13","v":2606.1621609999997},{"$f":"generacion_bruta!U13","v":352.09892200000002},{"$f":"generacion_bruta!V13","v":42465.415950999995}]
[null,"Solar fotovoltaica",{"$f":"generacion_bruta!C14","v":1403.847436},{"$f":"generacion_bruta!D14","v":267.26787899999994},{"$f":"generacion_bruta!E14","v":0.65270000000000006},{"$f":"generacion_bruta!F14","v":101.22075699999999},{"$f":"generacion_bruta!G14","v":443.51272099999994},{"$f":"generacion_bruta!H14","v":232.13997800000001},{"$f":"generacion_bruta!I14","v":2.0579550000000002},{"$f":"generacion_bruta!J14","v":1660.9694319999999},{"$f":"generacion_bruta!K14","v":764.07567299999982},{"$f":"generacion_bruta!L14","v":358.76710600000001},{"$f":"generacion_bruta!M14","v":0},{"$f":"generacion_bruta!N14","v":1013.3271309999999},{"$f":"generacion_bruta!O14","v":15.168364000000002},{"$f":"generacion_bruta!P14","v":135.54429799999997},{"$f":"generacion_bruta!Q14","v":59.462191999999988},{"$f":"generacion_bruta!R14","v":7.1472000000000008E-2},{"$f":"generacion_bruta!S14","v":653.35928200000001},{"$f":"generacion_bruta!T14","v":288.55723600000005},{"$f":"generacion_bruta!U14","v":25.117889999999999},{"$f":"generacion_bruta!V14","v":7425.1195020000005}]
[null,"Solar térmica",{"$f":"generacion_bruta!C15","v":853.17522900000006},{"$f":"generacion_bruta!D15","v":0},{"$f":"generacion_bruta!E15","v":0},{"$f":"generacion_bruta!F15","v":0},{"$f":"generacion_bruta!G15","v":0},{"$f":"generacion_bruta!H15","v":0},{"$f":"generacion_bruta!I15","v":0},{"$f":"generacion_bruta!J15","v":236.23302200000001},{"$f":"generacion_bruta!K15","v":0},{"$f":"generacion_bruta!L15","v":0},{"$f":"generacion_bruta!M15","v":0},{"$f":"generacion_bruta!N15","v":742.75093899999979},{"$f":"generacion_bruta!O15","v":0},{"$f":"generacion_bruta!P15","v":0},{"$f":"generacion_bruta!Q15","v":0},{"$f":"generacion_bruta!R15","v":0},{"$f":"generacion_bruta!S15","v":0.19868900000000003},{"$f":"generacion_bruta!T15","v":0},{"$f":"generacion_bruta!U15","v":0},{"$f":"generacion_bruta!V15","v":1832.3578789999999}]
[null,"Térmica renovable",{"$f":"generacion_bruta!C16","v":1306.3697320000001},{"$f":"generacion_bruta!D16","v":144.32328799999999},{"$f":"generacion_bruta!E16","v":653.32137000000012},{"$f":"generacion_bruta!F16","v":0},{"$f":"generacion_bruta!G16","v":46.790627000000001},{"$f":"generacion_bruta!H16","v":33.148213000000005},{"$f":"generacion_bruta!I16","v":14.08182},{"$f":"generacion_bruta!J16","v":265.41461099999998},{"$f":"generacion_bruta!K16","v":157.26786999999999},{"$f":"generacion_bruta!L16","v":194.75856100000001},{"$f":"generacion_bruta!M16","v":0},{"$f":"generacion_bruta!N16","v":144.72137599999999},{"$f":"generacion_bruta!O16","v":571.00088300000004},{"$f":"generacion_bruta!P16","v":9.241382999999999},{"$f":"generacion_bruta!Q16","v":311.64336099999997},{"$f":"generacion_bruta!R16","v":0},{"$f":"generacion_bruta!S16","v":22.972127},{"$f":"generacion_bruta!T16","v":276.37073600000002},{"$f":"generacion_bruta!U16","v":166.56407100000001},{"$f":"generacion_bruta!V16","v":4317.9900290000005}]
[null,"Cogeneración y resto",{"$f":"generacion_bruta!C17","v":5568.6000990000002},{"$f":"generacion_bruta!D17","v":3334.0364930000001},{"$f":"generacion_bruta!E17","v":704.80602600000009},{"$f":"generacion_bruta!F17","v":260.747524},{"$f":"generacion_bruta!G17","v":2095.3230739999999},{"$f":"generacion_bruta!H17","v":0},{"$f":"generacion_bruta!I17","v":1351.1196129999998},{"$f":"generacion_bruta!J17","v":1769.3862320000001},{"$f":"generacion_bruta!K17","v":3380.5181440000001},{"$f":"generacion_bruta!L17","v":5608.7768709999991},{"$f":"generacion_bruta!M17","v":0},{"$f":"generacion_bruta!N17","v":30.167911},{"$f":"generacion_bruta!O17","v":1895.2970290000001},{"$f":"generacion_bruta!P17","v":173.77920999999995},{"$f":"generacion_bruta!Q17","v":1134.1170649999999},{"$f":"generacion_bruta!R17","v":7.0352210000000008},{"$f":"generacion_bruta!S17","v":1598.8581509999999},{"$f":"generacion_bruta!T17","v":848.98653000000002},{"$f":"generacion_bruta!U17","v":2557.2375370000004},{"$f":"generacion_bruta!V17","v":32318.792730000001}]
[null,"Residuos"]
[2012,"Hidráulica",{"$f":"generacion_bruta!C34","v":1017.386023939149},{"$f":"generacion_bruta!D34","v":2525.9988796774169},{"$f":"generacion_bruta!E34","v":1251.2103037426698},{"$f":"generacion_bruta!F34","v":0},{"$f":"generacion_bruta!G34","v":1214.9177215144523},{"$f":"generacion_bruta!H34","v":1.7913010000000003},{"$f":"generacion_bruta!I34","v":877.3730513543635},{"$f":"generacion_bruta!J34","v":793.51975089549751},{"$f":"generacion_bruta!K34","v":5570.0246851607717},{"$f":"generacion_bruta!L34","v":3601.5114093371481},{"$f":"generacion_bruta!M34","v":0},{"$f":"generacion_bruta!N34","v":1111.6406904771125},{"$f":"generacion_bruta!O34","v":4759.0604686225925},{"$f":"generacion_bruta!P34","v":123.69396693988554},{"$f":"generacion_bruta!Q34","v":65.607026996344942},{"$f":"generacion_bruta!R34","v":0},{"$f":"generacion_bruta!S34","v":108.18707425701834},{"$f":"generacion_bruta!T34","v":470.97455648925609},{"$f":"generacion_bruta!U34","v":333.21549259632434},{"$f":"generacion_bruta!V34","v":23826.112403000003}]
[null,"Nuclear ",{"$f":"generacion_bruta!C35","v":0},{"$f":"generacion_bruta!D35","v":0},{"$f":"generacion_bruta!E35","v":0},{"$f":"generacion_bruta!F35","v":0},{"$f":"generacion_bruta!G35","v":9015.0619999999999},{"$f":"generacion_bruta!H35","v":0},{"$f":"generacion_bruta!I35","v":0},{"$f":"generacion_bruta!J35","v":7948.4009999999998},{"$f":"generacion_bruta!K35","v":3703.47},{"$f":"generacion_bruta!L35","v":22950.870999999999},{"$f":"generacion_bruta!M35","v":0},{"$f":"generacion_bruta!N35","v":15049.183000000001},{"$f":"generacion_bruta!O35","v":0},{"$f":"generacion_bruta!P35","v":0},{"$f":"generacion_bruta!Q35","v":0},{"$f":"generacion_bruta!R35","v":0},{"$f":"generacion_bruta!S35","v":0},{"$f":"generacion_bruta!T35","v":0},{"$f":"generacion_bruta!U35","v":0},{"$f":"generacion_bruta!V35","v":58666.987000000008}]
[null,"Carbón ",{"$f":"generacion_bruta!C36","v":10920.123},{"$f":"generacion_bruta!D36","v":4836.6360000000004},{"$f":"generacion_bruta!E36","v":10061.81},{"$f":"generacion_bruta!F36","v":2682.5329999999999},{"$f":"generacion_bruta!G36","v":0},{"$f":"generacion_bruta!H36","v":0},{"$f":"generacion_bruta!I36","v":0},{"$f":"generacion_bruta!J36","v":1741.818},{"$f":"generacion_bruta!K36","v":10341.323},{"$f":"generacion_bruta!L36","v":0},{"$f":"generacion_bruta!M36","v":0},{"$f":"generacion_bruta!N36","v":0},{"$f":"generacion_bruta!O36","v":12248.726000000001},{"$f":"generacion_bruta!P36","v":0},{"$f":"generacion_bruta!Q36","v":0},{"$f":"generacion_bruta!R36","v":0},{"$f":"generacion_bruta!S36","v":0},{"$f":"generacion_bruta!T36","v":0},{"$f":"generacion_bruta!U36","v":980.45},{"$f":"generacion_bruta!V36","v":53813.419000000002}]
[null,"Fuel / gas ",{"$f":"generacion_bruta!C37","v":0},{"$f":"generacion_bruta!D37","v":0},{"$f":"generacion_bruta!E37","v":0},{"$f":"generacion_bruta!F37","v":1284.5139999999999},{"$f":"generacion_bruta!G37","v":0},{"$f":"generacion_bruta!H37","v":5386.6469999999999},{"$f":"generacion_bruta!I37","v":0},{"$f":"generacion_bruta!J37","v":0},{"$f":"generacion_bruta!K37","v":0},{"$f":"generacion_bruta!L37","v":0},{"$f":"generacion_bruta!M37","v":212.07499999999999},{"$f":"generacion_bruta!N37","v":0},{"$f":"generacion_bruta!O37","v":0},{"$f":"generacion_bruta!P37","v":0},{"$f":"generacion_bruta!Q37","v":0},{"$f":"generacion_bruta!R37","v":214.96100000000001},{"$f":"generacion_bruta!S37","v":0},{"$f":"generacion_bruta!T37","v":0},{"$f":"generacion_bruta!U37","v":0},{"$f":"generacion_bruta!V37","v":7098.1970000000001}]
[null,"Ciclo combinado ",{"$f":"generacion_bruta!C38","v":9738.8850000000002},{"$f":"generacion_bruta!D38","v":940.65099999999995},{"$f":"generacion_bruta!E38","v":774.10299999999995},{"$f":"generacion_bruta!F38","v":890.56},{"$f":"generacion_bruta!G38","v":4774.3879999999999},{"$f":"generacion_bruta!H38","v":2877.7710000000002},{"$f":"generacion_bruta!I38","v":0},{"$f":"generacion_bruta!J38","v":2553.9279999999999},{"$f":"generacion_bruta!K38","v":0},{"$f":"generacion_bruta!L38","v":8041.259},{"$f":"generacion_bruta!M38","v":0},{"$f":"generacion_bruta!N38","v":0},{"$f":"generacion_bruta!O38","v":1291.607},{"$f":"generacion_bruta!P38","v":1311.0820000000001},{"$f":"generacion_bruta!Q38","v":0},{"$f":"generacion_bruta!R38","v":0},{"$f":"generacion_bruta!S38","v":3097.9720000000002},{"$f":"generacion_bruta!T38","v":832.76700000000005},{"$f":"generacion_bruta!U38","v":4175.0240000000003},{"$f":"generacion_bruta!V38","v":41299.996999999996}]
[null,"Hidroeólica",{"$f":"generacion_bruta!C40","v":0},{"$f":"generacion_bruta!D40","v":0},{"$f":"generacion_bruta!E40","v":0},{"$f":"generacion_bruta!F40","v":0},{"$f":"generacion_bruta!G40","v":0},{"$f":"generacion_bruta!H40","v":0},{"$f":"generacion_bruta!I40","v":0},{"$f":"generacion_bruta!J40","v":0},{"$f":"generacion_bruta!K40","v":0},{"$f":"generacion_bruta!L40","v":0},{"$f":"generacion_bruta!M40","v":0},{"$f":"generacion_bruta!N40","v":0},{"$f":"generacion_bruta!O40","v":0},{"$f":"generacion_bruta!P40","v":0},{"$f":"generacion_bruta!Q40","v":0},{"$f":"generacion_bruta!R40","v":0},{"$f":"generacion_bruta!S40","v":0},{"$f":"generacion_bruta!T40","v":0},{"$f":"generacion_bruta!U40","v":0},{"$f":"generacion_bruta!V40","v":0}]
[null,"Eólica",{"$f":"generacion_bruta!C41","v":5736.3085949999995},{"$f":"generacion_bruta!D41","v":4453.4094860000005},{"$f":"generacion_bruta!E41","v":884.39691900000003},{"$f":"generacion_bruta!F41","v":6.5046990000000005},{"$f":"generacion_bruta!G41","v":2547.6952380000002},{"$f":"generacion_bruta!H41","v":361.76732499999997},{"$f":"generacion_bruta!I41","v":62.089361999999994},{"$f":"generacion_bruta!J41","v":7948.2695899999999},{"$f":"generacion_bruta!K41","v":11364.710531999999},{"$f":"generacion_bruta!L41","v":2647.569039},{"$f":"generacion_bruta!M41","v":0},{"$f":"generacion_bruta!N41","v":0},{"$f":"generacion_bruta!O41","v":8068.6186040000002},{"$f":"generacion_bruta!P41","v":1005.869132},{"$f":"generacion_bruta!Q41","v":0},{"$f":"generacion_bruta!R41","v":0},{"$f":"generacion_bruta!S41","v":403.31686399999995},{"$f":"generacion_bruta!T41","v":2677.9481930000002},{"$f":"generacion_bruta!U41","v":339.864375},{"$f":"generacion_bruta!V41","v":48508.337953000002}]
[null,"Solar fotovoltaica",{"$f":"generacion_bruta!C42","v":1530.531512},{"$f":"generacion_bruta!D42","v":285.43228199999999},{"$f":"generacion_bruta!E42","v":0.73396400000000017},{"$f":"generacion_bruta!F42","v":115.59326900000001},{"$f":"generacion_bruta!G42","v":527.54466600000001},{"$f":"generacion_bruta!H42","v":256.51338599999997},{"$f":"generacion_bruta!I42","v":2.1365879999999997},{"$f":"generacion_bruta!J42","v":1753.1257839999998},{"$f":"generacion_bruta!K42","v":832.01289199999985},{"$f":"generacion_bruta!L42","v":409.62192199999998},{"$f":"generacion_bruta!M42","v":0},{"$f":"generacion_bruta!N42","v":1110.4756620000003},{"$f":"generacion_bruta!O42","v":17.670514999999998},{"$f":"generacion_bruta!P42","v":140.93820200000002},{"$f":"generacion_bruta!Q42","v":80.340487999999993},{"$f":"generacion_bruta!R42","v":8.3113999999999993E-2},{"$f":"generacion_bruta!S42","v":792.42207499999995},{"$f":"generacion_bruta!T42","v":317.69611599999996},{"$f":"generacion_bruta!U42","v":29.217547000000003},{"$f":"generacion_bruta!V42","v":8202.0899840000002}]
[null,"Solar térmica",{"$f":"generacion_bruta!C43","v":1837.6318939999999},{"$f":"generacion_bruta!D43","v":0},{"$f":"generacion_bruta!E43","v":0},{"$f":"generacion_bruta!F43","v":0},{"$f":"generacion_bruta!G43","v":0},{"$f":"generacion_bruta!H43","v":0},{"$f":"generacion_bruta!I43","v":0},{"$f":"generacion_bruta!J43","v":524.68599199999994},{"$f":"generacion_bruta!K43","v":0},{"$f":"generacion_bruta!L43","v":0.56833500000000003},{"$f":"generacion_bruta!M43","v":0},{"$f":"generacion_bruta!N43","v":1057.8690019999999},{"$f":"generacion_bruta!O43","v":0},{"$f":"generacion_bruta!P43","v":0},{"$f":"generacion_bruta!Q43","v":0},{"$f":"generacion_bruta!R43","v":0},{"$f":"generacion_bruta!S43","v":23.378823000000001},{"$f":"generacion_bruta!T43","v":0},{"$f":"generacion_bruta!U43","v":0},{"$f":"generacion_bruta!V43","v":3444.1340459999997}]
[null,"Térmica renovable",{"$f":"generacion_bruta!C44","v":1458.2796969999999},{"$f":"generacion_bruta!D44","v":316.07290999999998},{"$f":"generacion_bruta!E44","v":656.22561100000007},{"$f":"generacion_bruta!F44","v":0.56983000000000006},{"$f":"generacion_bruta!G44","v":52.936557000000001},{"$f":"generacion_bruta!H44","v":8.0504470000000001},{"$f":"generacion_bruta!I44","v":16.857637999999998},{"$f":"generacion_bruta!J44","v":247.08517900000001},{"$f":"generacion_bruta!K44","v":172.33288899999999},{"$f":"generacion_bruta!L44","v":256.14881200000002},{"$f":"generacion_bruta!M44","v":0},{"$f":"generacion_bruta!N44","v":150.31303000000003},{"$f":"generacion_bruta!O44","v":597.38521300000002},{"$f":"generacion_bruta!P44","v":15.679898999999997},{"$f":"generacion_bruta!Q44","v":298.03053999999997},{"$f":"generacion_bruta!R44","v":0},{"$f":"generacion_bruta!S44","v":28.802131999999997},{"$f":"generacion_bruta!T44","v":290.99263400000001},{"$f":"generacion_bruta!U44","v":189.00736900000001},{"$f":"generacion_bruta!V44","v":4754.7703869999996}]
[null,"Cogeneración y resto",{"$f":"generacion_bruta!C45","v":5795.4123549999995},{"$f":"generacion_bruta!D45","v":3260.8027050000001},{"$f":"generacion_bruta!E45","v":724.31532700000002},{"$f":"generacion_bruta!F45","v":272.07574200000005},{"$f":"generacion_bruta!G45","v":2117.8639850000004},{"$f":"generacion_bruta!H45","v":0},{"$f":"generacion_bruta!I45","v":1669.3213869999997},{"$f":"generacion_bruta!J45","v":1356.04973},{"$f":"generacion_bruta!K45","v":3326.2084100000006},{"$f":"generacion_bruta!L45","v":6185.6930789999988},{"$f":"generacion_bruta!M45","v":0},{"$f":"generacion_bruta!N45","v":29.920800000000003},{"$f":"generacion_bruta!O45","v":2257.7876620000002},{"$f":"generacion_bruta!P45","v":167.90174099999999},{"$f":"generacion_bruta!Q45","v":1226.5214539999999},{"$f":"generacion_bruta!R45","v":2.3089580000000001},{"$f":"generacion_bruta!S45","v":1959.6794729999997},{"$f":"generacion_bruta!T45","v":960.60030799999981},{"$f":"generacion_bruta!U45","v":2454.7862180000002},{"$f":"generacion_bruta!V45","v":33767.249334000007}]
[null,"Residuos"]
[2013,"Hidráulica",{"$f":"generacion_bruta!C62","v":1618.7615411778304},{"$f":"generacion_bruta!D62","v":4564.9471849507863},{"$f":"generacion_bruta!E62","v":2220.2694944967293},{"$f":"generacion_bruta!F62","v":0},{"$f":"generacion_bruta!G62","v":1590.5680617992402},{"$f":"generacion_bruta!H62","v":3.0495039999999993},{"$f":"generacion_bruta!I62","v":882.80170052137282},{"$f":"generacion_bruta!J62","v":1036.1619592250026},{"$f":"generacion_bruta!K62","v":8491.5892154659523},{"$f":"generacion_bruta!L62","v":5651.9956758435037},{"$f":"generacion_bruta!M62","v":0},{"$f":"generacion_bruta!N62","v":2860.2910861122232},{"$f":"generacion_bruta!O62","v":9975.702002834194},{"$f":"generacion_bruta!P62","v":173.13812399092654},{"$f":"generacion_bruta!Q62","v":167.98673340319692},{"$f":"generacion_bruta!R62","v":0},{"$f":"generacion_bruta!S62","v":131.77058027981309},{"$f":"generacion_bruta!T62","v":770.78815838429125},{"$f":"generacion_bruta!U62","v":539.56449551493711},{"$f":"generacion_bruta!V62","v":40679.385518000003}]
[null,"Nuclear ",{"$f":"generacion_bruta!C63","v":0},{"$f":"generacion_bruta!D63","v":0},{"$f":"generacion_bruta!E63","v":0},{"$f":"generacion_bruta!F63","v":0},{"$f":"generacion_bruta!G63","v":8004.8639999999996},{"$f":"generacion_bruta!H63","v":0},{"$f":"generacion_bruta!I63","v":0},{"$f":"generacion_bruta!J63","v":7484.576},{"$f":"generacion_bruta!K63","v":0},{"$f":"generacion_bruta!L63","v":23719.595000000001},{"$f":"generacion_bruta!M63","v":0},{"$f":"generacion_bruta!N63","v":15097.852000000001},{"$f":"generacion_bruta!O63","v":0},{"$f":"generacion_bruta!P63","v":0},{"$f":"generacion_bruta!Q63","v":0},{"$f":"generacion_bruta!R63","v":0},{"$f":"generacion_bruta!S63","v":0},{"$f":"generacion_bruta!T63","v":0},{"$f":"generacion_bruta!U63","v":0},{"$f":"generacion_bruta!V63","v":54306.887000000002}]
[null,"Carbón ",{"$f":"generacion_bruta!C64","v":9277.5969999999998},{"$f":"generacion_bruta!D64","v":3435.268},{"$f":"generacion_bruta!E64","v":8564.4740000000002},{"$f":"generacion_bruta!F64","v":2350.681},{"$f":"generacion_bruta!G64","v":0},{"$f":"generacion_bruta!H64","v":0},{"$f":"generacion_bruta!I64","v":0},{"$f":"generacion_bruta!J64","v":786.55799999999999},{"$f":"generacion_bruta!K64","v":5717.3879999999999},{"$f":"generacion_bruta!L64","v":0},{"$f":"generacion_bruta!M64","v":0},{"$f":"generacion_bruta!N64","v":0},{"$f":"generacion_bruta!O64","v":9395.598},{"$f":"generacion_bruta!P64","v":0},{"$f":"generacion_bruta!Q64","v":0},{"$f":"generacion_bruta!R64","v":0},{"$f":"generacion_bruta!S64","v":0},{"$f":"generacion_bruta!T64","v":0},{"$f":"generacion_bruta!U64","v":0},{"$f":"generacion_bruta!V64","v":39527.563999999998}]
[null,"Fuel / gas ",{"$f":"generacion_bruta!C65","v":0},{"$f":"generacion_bruta!D65","v":0},{"$f":"generacion_bruta!E65","v":0},{"$f":"generacion_bruta!F65","v":1260.1559999999999},{"$f":"generacion_bruta!G65","v":0},{"$f":"generacion_bruta!H65","v":4910.1319999999996},{"$f":"generacion_bruta!I65","v":0},{"$f":"generacion_bruta!J65","v":0},{"$f":"generacion_bruta!K65","v":0},{"$f":"generacion_bruta!L65","v":0},{"$f":"generacion_bruta!M65","v":201.959},{"$f":"generacion_bruta!N65","v":0},{"$f":"generacion_bruta!O65","v":0},{"$f":"generacion_bruta!P65","v":0},{"$f":"generacion_bruta!Q65","v":0},{"$f":"generacion_bruta!R65","v":201.547},{"$f":"generacion_bruta!S65","v":0},{"$f":"generacion_bruta!T65","v":0},{"$f":"generacion_bruta!U65","v":0},{"$f":"generacion_bruta!V65","v":6573.793999999999}]
[null,"Ciclo combinado ",{"$f":"generacion_bruta!C66","v":5827.2139999999999},{"$f":"generacion_bruta!D66","v":89.442999999999998},{"$f":"generacion_bruta!E66","v":296.952},{"$f":"generacion_bruta!F66","v":413.57499999999999},{"$f":"generacion_bruta!G66","v":3940.2930000000001},{"$f":"generacion_bruta!H66","v":3052.68},{"$f":"generacion_bruta!I66","v":0},{"$f":"generacion_bruta!J66","v":1106.768},{"$f":"generacion_bruta!K66","v":0},{"$f":"generacion_bruta!L66","v":5685.0379999999996},{"$f":"generacion_bruta!M66","v":0},{"$f":"generacion_bruta!N66","v":0},{"$f":"generacion_bruta!O66","v":1157.1690000000001},{"$f":"generacion_bruta!P66","v":395.64299999999997},{"$f":"generacion_bruta!Q66","v":0},{"$f":"generacion_bruta!R66","v":0},{"$f":"generacion_bruta!S66","v":2342.3290000000002},{"$f":"generacion_bruta!T66","v":361.286},{"$f":"generacion_bruta!U66","v":3158.4450000000002},{"$f":"generacion_bruta!V66","v":27826.835000000003}]
[null,"Hidroeólica",{"$f":"generacion_bruta!C68","v":0},{"$f":"generacion_bruta!D68","v":0},{"$f":"generacion_bruta!E68","v":0},{"$f":"generacion_bruta!F68","v":0},{"$f":"generacion_bruta!G68","v":0},{"$f":"generacion_bruta!H68","v":0},{"$f":"generacion_bruta!I68","v":0},{"$f":"generacion_bruta!J68","v":0},{"$f":"generacion_bruta!K68","v":0},{"$f":"generacion_bruta!L68","v":0},{"$f":"generacion_bruta!M68","v":0},{"$f":"generacion_bruta!N68","v":0},{"$f":"generacion_bruta!O68","v":0},{"$f":"generacion_bruta!P68","v":0},{"$f":"generacion_bruta!Q68","v":0},{"$f":"generacion_bruta!R68","v":0},{"$f":"generacion_bruta!S68","v":0},{"$f":"generacion_bruta!T68","v":0},{"$f":"generacion_bruta!U68","v":0},{"$f":"generacion_bruta!V68","v":0}]
[null,"Eólica",{"$f":"generacion_bruta!C69","v":6986.8114810000006},{"$f":"generacion_bruta!D69","v":4869.4722959999999},{"$f":"generacion_bruta!E69","v":1140.5479029999999},{"$f":"generacion_bruta!F69","v":6.1594680000000004},{"$f":"generacion_bruta!G69","v":2594.8544980000001},{"$f":"generacion_bruta!H69","v":362.73348499999997},{"$f":"generacion_bruta!I69","v":74.550423999999992},{"$f":"generacion_bruta!J69","v":8657.4786239999994},{"$f":"generacion_bruta!K69","v":12684.693724999999},{"$f":"generacion_bruta!L69","v":3194.7266680000002},{"$f":"generacion_bruta!M69","v":0},{"$f":"generacion_bruta!N69","v":0},{"$f":"generacion_bruta!O69","v":9497.9060239999999},{"$f":"generacion_bruta!P69","v":1078.3850749999999},{"$f":"generacion_bruta!Q69","v":0},{"$f":"generacion_bruta!R69","v":0},{"$f":"generacion_bruta!S69","v":543.81997799999999},{"$f":"generacion_bruta!T69","v":2664.7521859999997},{"$f":"generacion_bruta!U69","v":356.35344999999995},{"$f":"generacion_bruta!V69","v":54713.245285000005}]
[null,"Solar fotovoltaica",{"$f":"generacion_bruta!C70","v":1586.3959349999998},{"$f":"generacion_bruta!D70","v":309.12395099999998},{"$f":"generacion_bruta!E70","v":0.73813499999999999},{"$f":"generacion_bruta!F70","v":122.097173},{"$f":"generacion_bruta!G70","v":564.34867599999995},{"$f":"generacion_bruta!H70","v":286.70133000000004},{"$f":"generacion_bruta!I70","v":2.0671429999999997},{"$f":"generacion_bruta!J70","v":1697.8569010000001},{"$f":"generacion_bruta!K70","v":848.07693299999994},{"$f":"generacion_bruta!L70","v":431.35078599999997},{"$f":"generacion_bruta!M70","v":0},{"$f":"generacion_bruta!N70","v":1110.4428409999998},{"$f":"generacion_bruta!O70","v":20.475404999999999},{"$f":"generacion_bruta!P70","v":130.10738699999999},{"$f":"generacion_bruta!Q70","v":92.065936999999991},{"$f":"generacion_bruta!R70","v":8.2323000000000007E-2},{"$f":"generacion_bruta!S70","v":801.93057499999998},{"$f":"generacion_bruta!T70","v":295.442564},{"$f":"generacion_bruta!U70","v":27.615430999999997},{"$f":"generacion_bruta!V70","v":8326.9194260000022}]
[null,"Solar térmica",{"$f":"generacion_bruta!C71","v":1987.7873390000004},{"$f":"generacion_bruta!D71","v":0},{"$f":"generacion_bruta!E71","v":0},{"$f":"generacion_bruta!F71","v":0},{"$f":"generacion_bruta!G71","v":9.8331619999999997},{"$f":"generacion_bruta!H71","v":0},{"$f":"generacion_bruta!I71","v":0},{"$f":"generacion_bruta!J71","v":678.24493700000005},{"$f":"generacion_bruta!K71","v":0},{"$f":"generacion_bruta!L71","v":73.818010000000001},{"$f":"generacion_bruta!M71","v":0},{"$f":"generacion_bruta!N71","v":1648.8201199999999},{"$f":"generacion_bruta!O71","v":0},{"$f":"generacion_bruta!P71","v":0},{"$f":"generacion_bruta!Q71","v":0},{"$f":"generacion_bruta!R71","v":0},{"$f":"generacion_bruta!S71","v":43.023967000000006},{"$f":"generacion_bruta!T71","v":0},{"$f":"generacion_bruta!U71","v":0},{"$f":"generacion_bruta!V71","v":4441.5275350000002}]
[null,"Térmica renovable",{"$f":"generacion_bruta!C72","v":1764.0065419999999},{"$f":"generacion_bruta!D72","v":228.21192100000002},{"$f":"generacion_bruta!E72","v":666.23538100000007},{"$f":"generacion_bruta!F72","v":0.74474999999999991},{"$f":"generacion_bruta!G72","v":52.92403199999999},{"$f":"generacion_bruta!H72","v":8.3869790000000002},{"$f":"generacion_bruta!I72","v":81.926783999999998},{"$f":"generacion_bruta!J72","v":239.06713000000002},{"$f":"generacion_bruta!K72","v":181.36608100000004},{"$f":"generacion_bruta!L72","v":258.64171000000005},{"$f":"generacion_bruta!M72","v":0},{"$f":"generacion_bruta!N72","v":150.03492600000004},{"$f":"generacion_bruta!O72","v":597.00197200000002},{"$f":"generacion_bruta!P72","v":11.889306999999999},{"$f":"generacion_bruta!Q72","v":286.10578200000003},{"$f":"generacion_bruta!R72","v":0},{"$f":"generacion_bruta!S72","v":57.719059999999999},{"$f":"generacion_bruta!T72","v":303.59326699999997},{"$f":"generacion_bruta!U72","v":186.841747},{"$f":"generacion_bruta!V72","v":5074.6973710000002}]
[null,"Cogeneración y resto",{"$f":"generacion_bruta!C73","v":5641.9709069999999},{"$f":"generacion_bruta!D73","v":3287.8084229999999},{"$f":"generacion_bruta!E73","v":756.72251999999992},{"$f":"generacion_bruta!F73","v":251.61495500000001},{"$f":"generacion_bruta!G73","v":2074.8986260000001},{"$f":"generacion_bruta!H73","v":0},{"$f":"generacion_bruta!I73","v":1219.7241500000002},{"$f":"generacion_bruta!J73","v":1145.6358950000001},{"$f":"generacion_bruta!K73","v":2968.3200879999995},{"$f":"generacion_bruta!L73","v":6131.3114270000005},{"$f":"generacion_bruta!M73","v":0},{"$f":"generacion_bruta!N73","v":30.034799},{"$f":"generacion_bruta!O73","v":2441.2428270000005},{"$f":"generacion_bruta!P73","v":149.74085499999998},{"$f":"generacion_bruta!Q73","v":1086.329052},{"$f":"generacion_bruta!R73","v":8.0377970000000012},{"$f":"generacion_bruta!S73","v":1960.3691819999999},{"$f":"generacion_bruta!T73","v":981.56739900000014},{"$f":"generacion_bruta!U73","v":2161.0488399999999},{"$f":"generacion_bruta!V73","v":32296.377742000001}]
[null,"Residuos"]
[2014,"Hidráulica",{"$f":"generacion_bruta!C90","v":1276.8608697393599},{"$f":"generacion_bruta!D90","v":4366.9767338452339},{"$f":"generacion_bruta!E90","v":1949.968028359968},{"$f":"generacion_bruta!F90","v":0},{"$f":"generacion_bruta!G90","v":1777.2235895002739},{"$f":"generacion_bruta!H90","v":3.4789059999999998},{"$f":"generacion_bruta!I90","v":878.41530423764925},{"$f":"generacion_bruta!J90","v":1067.3033617722913},{"$f":"generacion_bruta!K90","v":10862.56797803978},{"$f":"generacion_bruta!L90","v":5515.6537056819752},{"$f":"generacion_bruta!M90","v":0},{"$f":"generacion_bruta!N90","v":3120.8710386169678},{"$f":"generacion_bruta!O90","v":10155.450751026428},{"$f":"generacion_bruta!P90","v":159.64944749501296},{"$f":"generacion_bruta!Q90","v":205.96352488055231},{"$f":"generacion_bruta!R90","v":0},{"$f":"generacion_bruta!S90","v":126.67792540687067},{"$f":"generacion_bruta!T90","v":663.12646678365127},{"$f":"generacion_bruta!U90","v":401.68643061397825},{"$f":"generacion_bruta!V90","v":42531.874061999995}]
[null,"Nuclear ",{"$f":"generacion_bruta!C91","v":0},{"$f":"generacion_bruta!D91","v":0},{"$f":"generacion_bruta!E91","v":0},{"$f":"generacion_bruta!F91","v":0},{"$f":"generacion_bruta!G91","v":9108.2160000000003},{"$f":"generacion_bruta!H91","v":0},{"$f":"generacion_bruta!I91","v":0},{"$f":"generacion_bruta!J91","v":7783.9080000000004},{"$f":"generacion_bruta!K91","v":0},{"$f":"generacion_bruta!L91","v":22776.108},{"$f":"generacion_bruta!M91","v":0},{"$f":"generacion_bruta!N91","v":15202.007},{"$f":"generacion_bruta!O91","v":0},{"$f":"generacion_bruta!P91","v":0},{"$f":"generacion_bruta!Q91","v":0},{"$f":"generacion_bruta!R91","v":0},{"$f":"generacion_bruta!S91","v":0},{"$f":"generacion_bruta!T91","v":0},{"$f":"generacion_bruta!U91","v":0},{"$f":"generacion_bruta!V91","v":54870.239000000001}]
[null,"Carbón ",{"$f":"generacion_bruta!C92","v":9502.9719999999998},{"$f":"generacion_bruta!D92","v":4611.7569999999996},{"$f":"generacion_bruta!E92","v":8565.27},{"$f":"generacion_bruta!F92","v":2187.6260000000002},{"$f":"generacion_bruta!G92","v":0},{"$f":"generacion_bruta!H92","v":0},{"$f":"generacion_bruta!I92","v":0},{"$f":"generacion_bruta!J92","v":881.26},{"$f":"generacion_bruta!K92","v":8006.7139999999999},{"$f":"generacion_bruta!L92","v":0},{"$f":"generacion_bruta!M92","v":0},{"$f":"generacion_bruta!N92","v":0},{"$f":"generacion_bruta!O92","v":9564.7039999999997},{"$f":"generacion_bruta!P92","v":0},{"$f":"generacion_bruta!Q92","v":0},{"$f":"generacion_bruta!R92","v":0},{"$f":"generacion_bruta!S92","v":0},{"$f":"generacion_bruta!T92","v":0},{"$f":"generacion_bruta!U92","v":0},{"$f":"generacion_bruta!V92","v":43320.303}]
[null,"Fuel / gas ",{"$f":"generacion_bruta!C93","v":0},{"$f":"generacion_bruta!D93","v":0},{"$f":"generacion_bruta!E93","v":0},{"$f":"generacion_bruta!F93","v":1260.664},{"$f":"generacion_bruta!G93","v":0},{"$f":"generacion_bruta!H93","v":4582.9089999999997},{"$f":"generacion_bruta!I93","v":0},{"$f":"generacion_bruta!J93","v":0},{"$f":"generacion_bruta!K93","v":0},{"$f":"generacion_bruta!L93","v":0},{"$f":"generacion_bruta!M93","v":212.25299999999999},{"$f":"generacion_bruta!N93","v":0},{"$f":"generacion_bruta!O93","v":0},{"$f":"generacion_bruta!P93","v":0},{"$f":"generacion_bruta!Q93","v":0},{"$f":"generacion_bruta!R93","v":200.881},{"$f":"generacion_bruta!S93","v":0},{"$f":"generacion_bruta!T93","v":0},{"$f":"generacion_bruta!U93","v":0},{"$f":"generacion_bruta!V93","v":6256.7069999999994}]
[null,"Ciclo combinado ",{"$f":"generacion_bruta!C94","v":4403.777},{"$f":"generacion_bruta!D94","v":210.17099999999999},{"$f":"generacion_bruta!E94","v":289.476},{"$f":"generacion_bruta!F94","v":426.92399999999998},{"$f":"generacion_bruta!G94","v":4017.6619999999998},{"$f":"generacion_bruta!H94","v":3311.4479999999999},{"$f":"generacion_bruta!I94","v":0},{"$f":"generacion_bruta!J94","v":1045.816},{"$f":"generacion_bruta!K94","v":0},{"$f":"generacion_bruta!L94","v":5031.3490000000002},{"$f":"generacion_bruta!M94","v":0},{"$f":"generacion_bruta!N94","v":0},{"$f":"generacion_bruta!O94","v":509.42700000000002},{"$f":"generacion_bruta!P94","v":162.452},{"$f":"generacion_bruta!Q94","v":0},{"$f":"generacion_bruta!R94","v":0},{"$f":"generacion_bruta!S94","v":2336.5219999999999},{"$f":"generacion_bruta!T94","v":369.63499999999999},{"$f":"generacion_bruta!U94","v":2960.4659999999999},{"$f":"generacion_bruta!V94","v":25075.125}]
[null,"Hidroeólica",{"$f":"generacion_bruta!C96","v":0},{"$f":"generacion_bruta!D96","v":0},{"$f":"generacion_bruta!E96","v":0},{"$f":"generacion_bruta!F96","v":0},{"$f":"generacion_bruta!G96","v":0},{"$f":"generacion_bruta!H96","v":1.071861},{"$f":"generacion_bruta!I96","v":0},{"$f":"generacion_bruta!J96","v":0},{"$f":"generacion_bruta!K96","v":0},{"$f":"generacion_bruta!L96","v":0},{"$f":"generacion_bruta!M96","v":0},{"$f":"generacion_bruta!N96","v":0},{"$f":"generacion_bruta!O96","v":0},{"$f":"generacion_bruta!P96","v":0},{"$f":"generacion_bruta!Q96","v":0},{"$f":"generacion_bruta!R96","v":0},{"$f":"generacion_bruta!S96","v":0},{"$f":"generacion_bruta!T96","v":0},{"$f":"generacion_bruta!U96","v":0},{"$f":"generacion_bruta!V96","v":1.071861}]
[null,"Eólica",{"$f":"generacion_bruta!C97","v":6450.4117070000002},{"$f":"generacion_bruta!D97","v":4314.4136579999995},{"$f":"generacion_bruta!E97","v":1140.6081340000001},{"$f":"generacion_bruta!F97","v":5.8395779999999995},{"$f":"generacion_bruta!G97","v":2577.3914760000002},{"$f":"generacion_bruta!H97","v":389.96392399999996},{"$f":"generacion_bruta!I97","v":76.30895000000001},{"$f":"generacion_bruta!J97","v":8389.1373370000001},{"$f":"generacion_bruta!K97","v":12274.492516},{"$f":"generacion_bruta!L97","v":2867.133965999999},{"$f":"generacion_bruta!M97","v":0},{"$f":"generacion_bruta!N97","v":0},{"$f":"generacion_bruta!O97","v":8316.4701179999993},{"$f":"generacion_bruta!P97","v":947.71808499999997},{"$f":"generacion_bruta!Q97","v":0},{"$f":"generacion_bruta!R97","v":0},{"$f":"generacion_bruta!S97","v":512.01740399999994},{"$f":"generacion_bruta!T97","v":2424.9077640000005},{"$f":"generacion_bruta!U97","v":343.88036999999997},{"$f":"generacion_bruta!V97","v":51030.694987000003}]
[null,"Solar fotovoltaica",{"$f":"generacion_bruta!C98","v":1574.7501629999999},{"$f":"generacion_bruta!D98","v":297.54578100000009},{"$f":"generacion_bruta!E98","v":0.66684299999999996},{"$f":"generacion_bruta!F98","v":122.77339099999999},{"$f":"generacion_bruta!G98","v":549.12752799999998},{"$f":"generacion_bruta!H98","v":282.29038400000002},{"$f":"generacion_bruta!I98","v":2.218715},{"$f":"generacion_bruta!J98","v":1684.5922889999999},{"$f":"generacion_bruta!K98","v":840.0779},{"$f":"generacion_bruta!L98","v":413.30662799999999},{"$f":"generacion_bruta!M98","v":0},{"$f":"generacion_bruta!N98","v":1071.175215},{"$f":"generacion_bruta!O98","v":19.445383000000007},{"$f":"generacion_bruta!P98","v":128.873369},{"$f":"generacion_bruta!Q98","v":93.257066000000009},{"$f":"generacion_bruta!R98","v":8.3833000000000019E-2},{"$f":"generacion_bruta!S98","v":800.25003400000003},{"$f":"generacion_bruta!T98","v":297.78241000000003},{"$f":"generacion_bruta!U98","v":29.355719000000004},{"$f":"generacion_bruta!V98","v":8207.5726510000004}]
[null,"Solar térmica",{"$f":"generacion_bruta!C99","v":2124.2357540000007},{"$f":"generacion_bruta!D99","v":0},{"$f":"generacion_bruta!E99","v":0},{"$f":"generacion_bruta!F99","v":0},{"$f":"generacion_bruta!G99","v":93.850920000000002},{"$f":"generacion_bruta!H99","v":0},{"$f":"generacion_bruta!I99","v":0},{"$f":"generacion_bruta!J99","v":734.25268699999992},{"$f":"generacion_bruta!K99","v":0},{"$f":"generacion_bruta!L99","v":65.812195000000003},{"$f":"generacion_bruta!M99","v":0},{"$f":"generacion_bruta!N99","v":1899.40041},{"$f":"generacion_bruta!O99","v":0},{"$f":"generacion_bruta!P99","v":0},{"$f":"generacion_bruta!Q99","v":0},{"$f":"generacion_bruta!R99","v":0},{"$f":"generacion_bruta!S99","v":41.362959999999994},{"$f":"generacion_bruta!T99","v":0},{"$f":"generacion_bruta!U99","v":0},{"$f":"generacion_bruta!V99","v":4958.9149260000004}]
[null,"Térmica renovable",{"$f":"generacion_bruta!C100","v":1419.8120040000003},{"$f":"generacion_bruta!D100","v":349.10128399999996},{"$f":"generacion_bruta!E100","v":643.85856000000001},{"$f":"generacion_bruta!F100","v":1.9456589999999998},{"$f":"generacion_bruta!G100","v":41.399132999999992},{"$f":"generacion_bruta!H100","v":8.8065839999999991},{"$f":"generacion_bruta!I100","v":85.795958000000013},{"$f":"generacion_bruta!J100","v":182.61701100000002},{"$f":"generacion_bruta!K100","v":249.12708799999999},{"$f":"generacion_bruta!L100","v":150.03728899999999},{"$f":"generacion_bruta!M100","v":0},{"$f":"generacion_bruta!N100","v":215.01176500000003},{"$f":"generacion_bruta!O100","v":574.68534900000009},{"$f":"generacion_bruta!P100","v":7.2905829999999998},{"$f":"generacion_bruta!Q100","v":269.70145900000006},{"$f":"generacion_bruta!R100","v":0},{"$f":"generacion_bruta!S100","v":53.782083999999998},{"$f":"generacion_bruta!T100","v":306.31693300000001},{"$f":"generacion_bruta!U100","v":169.441833},{"$f":"generacion_bruta!V100","v":4728.7305760000008}]
[null,"Cogeneración y resto",{"$f":"generacion_bruta!C101","v":5244.1194289999994},{"$f":"generacion_bruta!D101","v":2383.597542},{"$f":"generacion_bruta!E101","v":651.13568799999996},{"$f":"generacion_bruta!F101","v":281.38823300000001},{"$f":"generacion_bruta!G101","v":1795.9447449999998},{"$f":"generacion_bruta!H101","v":0},{"$f":"generacion_bruta!I101","v":831.90158300000007},{"$f":"generacion_bruta!J101","v":764.037102},{"$f":"generacion_bruta!K101","v":1682.0160980000001},{"$f":"generacion_bruta!L101","v":4806.8781710000003},{"$f":"generacion_bruta!M101","v":0},{"$f":"generacion_bruta!N101","v":13.840363000000002},{"$f":"generacion_bruta!O101","v":2147.3464330000002},{"$f":"generacion_bruta!P101","v":56.949525000000001},{"$f":"generacion_bruta!Q101","v":736.52825100000007},{"$f":"generacion_bruta!R101","v":8.8983140000000009},{"$f":"generacion_bruta!S101","v":1496.4297490000001},{"$f":"generacion_bruta!T101","v":710.15548300000012},{"$f":"generacion_bruta!U101","v":2274.6565360000004},{"$f":"generacion_bruta!V101","v":25885.823244999992}]
[null,"Residuos"]
[2015,"Hidráulica",{"$f":"generacion_bruta!C118","v":968.22834317919762},{"$f":"generacion_bruta!D118","v":3437.7451273265983},{"$f":"generacion_bruta!E118","v":1634.0469216457118},{"$f":"generacion_bruta!F118","v":0},{"$f":"generacion_bruta!G118","v":1607.0763435894039},{"$f":"generacion_bruta!H118","v":3.5858509999999995},{"$f":"generacion_bruta!I118","v":763.38987113494397},{"$f":"generacion_bruta!J118","v":747.08518244283664},{"$f":"generacion_bruta!K118","v":7951.8115736360805},{"$f":"generacion_bruta!L118","v":4735.4971711364178},{"$f":"generacion_bruta!M118","v":0},{"$f":"generacion_bruta!N118","v":1611.7575036111832},{"$f":"generacion_bruta!O118","v":6457.4871152802207},{"$f":"generacion_bruta!P118","v":122.85225019501387},{"$f":"generacion_bruta!Q118","v":132.77283453296278},{"$f":"generacion_bruta!R118","v":0},{"$f":"generacion_bruta!S118","v":108.50595695879336},{"$f":"generacion_bruta!T118","v":534.18348372105515},{"$f":"generacion_bruta!U118","v":405.34835360958567},{"$f":"generacion_bruta!V118","v":31221.373883000004}]
[null,"Nuclear ",{"$f":"generacion_bruta!C119","v":0},{"$f":"generacion_bruta!D119","v":0},{"$f":"generacion_bruta!E119","v":0},{"$f":"generacion_bruta!F119","v":0},{"$f":"generacion_bruta!G119","v":7430.8019999999997},{"$f":"generacion_bruta!H119","v":0},{"$f":"generacion_bruta!I119","v":0},{"$f":"generacion_bruta!J119","v":7926.3590000000004},{"$f":"generacion_bruta!K119","v":0},{"$f":"generacion_bruta!L119","v":23325.627},{"$f":"generacion_bruta!M119","v":0},{"$f":"generacion_bruta!N119","v":16072.050999999999},{"$f":"generacion_bruta!O119","v":0},{"$f":"generacion_bruta!P119","v":0},{"$f":"generacion_bruta!Q119","v":0},{"$f":"generacion_bruta!R119","v":0},{"$f":"generacion_bruta!S119","v":0},{"$f":"generacion_bruta!T119","v":0},{"$f":"generacion_bruta!U119","v":0},{"$f":"generacion_bruta!V119","v":54754.839}]
[null,"Carbón ",{"$f":"generacion_bruta!C120","v":12701.04},{"$f":"generacion_bruta!D120","v":4459.4560000000001},{"$f":"generacion_bruta!E120","v":12480.174000000001},{"$f":"generacion_bruta!F120","v":1865.27},{"$f":"generacion_bruta!G120","v":0},{"$f":"generacion_bruta!H120","v":0},{"$f":"generacion_bruta!I120","v":0},{"$f":"generacion_bruta!J120","v":906.899},{"$f":"generacion_bruta!K120","v":9310.0969999999998},{"$f":"generacion_bruta!L120","v":0},{"$f":"generacion_bruta!M120","v":0},{"$f":"generacion_bruta!N120","v":0},{"$f":"generacion_bruta!O120","v":11066.106},{"$f":"generacion_bruta!P120","v":0},{"$f":"generacion_bruta!Q120","v":0},{"$f":"generacion_bruta!R120","v":0},{"$f":"generacion_bruta!S120","v":0},{"$f":"generacion_bruta!T120","v":0},{"$f":"generacion_bruta!U120","v":0},{"$f":"generacion_bruta!V120","v":52789.042000000001}]
[null,"Fuel / gas ",{"$f":"generacion_bruta!C121","v":0},{"$f":"generacion_bruta!D121","v":0},{"$f":"generacion_bruta!E121","v":0},{"$f":"generacion_bruta!F121","v":1322.4780000000001},{"$f":"generacion_bruta!G121","v":0},{"$f":"generacion_bruta!H121","v":4763.92},{"$f":"generacion_bruta!I121","v":0},{"$f":"generacion_bruta!J121","v":0},{"$f":"generacion_bruta!K121","v":0},{"$f":"generacion_bruta!L121","v":0},{"$f":"generacion_bruta!M121","v":205.43799999999999},{"$f":"generacion_bruta!N121","v":0},{"$f":"generacion_bruta!O121","v":0},{"$f":"generacion_bruta!P121","v":0},{"$f":"generacion_bruta!Q121","v":0},{"$f":"generacion_bruta!R121","v":204.81399999999999},{"$f":"generacion_bruta!S121","v":0},{"$f":"generacion_bruta!T121","v":0},{"$f":"generacion_bruta!U121","v":0},{"$f":"generacion_bruta!V121","v":6496.6500000000005}]
[null,"Ciclo combinado ",{"$f":"generacion_bruta!C122","v":5623.4669999999996},{"$f":"generacion_bruta!D122","v":177.911},{"$f":"generacion_bruta!E122","v":361.30700000000002},{"$f":"generacion_bruta!F122","v":809.23900000000003},{"$f":"generacion_bruta!G122","v":4858.8630000000003},{"$f":"generacion_bruta!H122","v":3213.0439999999999},{"$f":"generacion_bruta!I122","v":0},{"$f":"generacion_bruta!J122","v":1289.096},{"$f":"generacion_bruta!K122","v":0},{"$f":"generacion_bruta!L122","v":6831.6980000000003},{"$f":"generacion_bruta!M122","v":0},{"$f":"generacion_bruta!N122","v":0},{"$f":"generacion_bruta!O122","v":333.78800000000001},{"$f":"generacion_bruta!P122","v":590.15899999999999},{"$f":"generacion_bruta!Q122","v":0},{"$f":"generacion_bruta!R122","v":0},{"$f":"generacion_bruta!S122","v":2072.4319999999998},{"$f":"generacion_bruta!T122","v":724.07},{"$f":"generacion_bruta!U122","v":2405.6770000000001},{"$f":"generacion_bruta!V122","v":29290.751}]
[null,"Hidroeólica",{"$f":"generacion_bruta!C124","v":0},{"$f":"generacion_bruta!D124","v":0},{"$f":"generacion_bruta!E124","v":0},{"$f":"generacion_bruta!F124","v":0},{"$f":"generacion_bruta!G124","v":0},{"$f":"generacion_bruta!H124","v":8.5570660000000007},{"$f":"generacion_bruta!I124","v":0},{"$f":"generacion_bruta!J124","v":0},{"$f":"generacion_bruta!K124","v":0},{"$f":"generacion_bruta!L124","v":0},{"$f":"generacion_bruta!M124","v":0},{"$f":"generacion_bruta!N124","v":0},{"$f":"generacion_bruta!O124","v":0},{"$f":"generacion_bruta!P124","v":0},{"$f":"generacion_bruta!Q124","v":0},{"$f":"generacion_bruta!R124","v":0},{"$f":"generacion_bruta!S124","v":0},{"$f":"generacion_bruta!T124","v":0},{"$f":"generacion_bruta!U124","v":0},{"$f":"generacion_bruta!V124","v":8.5570660000000007}]
[null,"Eólica",{"$f":"generacion_bruta!C125","v":6363.8370980000009},{"$f":"generacion_bruta!D125","v":4229.1992230000005},{"$f":"generacion_bruta!E125","v":917.80775199999994},{"$f":"generacion_bruta!F125","v":5.315563},{"$f":"generacion_bruta!G125","v":2195.9935660000001},{"$f":"generacion_bruta!H125","v":396.66092300000003},{"$f":"generacion_bruta!I125","v":70.740945000000011},{"$f":"generacion_bruta!J125","v":7286.7164059999996},{"$f":"generacion_bruta!K125","v":11135.293154000001},{"$f":"generacion_bruta!L125","v":2608.7822570000003},{"$f":"generacion_bruta!M125","v":0},{"$f":"generacion_bruta!N125","v":0},{"$f":"generacion_bruta!O125","v":8554.7587439999988},{"$f":"generacion_bruta!P125","v":934.74148400000001},{"$f":"generacion_bruta!Q125","v":0},{"$f":"generacion_bruta!R125","v":0},{"$f":"generacion_bruta!S125","v":435.39733100000001},{"$f":"generacion_bruta!T125","v":2637.9260230000004},{"$f":"generacion_bruta!U125","v":341.95555000000007},{"$f":"generacion_bruta!V125","v":48115.126018999996}]
[null,"Solar fotovoltaica",{"$f":"generacion_bruta!C126","v":1570.0735399999999},{"$f":"generacion_bruta!D126","v":304.325605},{"$f":"generacion_bruta!E126","v":0.65173600000000009},{"$f":"generacion_bruta!F126","v":122.64643600000002},{"$f":"generacion_bruta!G126","v":523.085511},{"$f":"generacion_bruta!H126","v":275.555924},{"$f":"generacion_bruta!I126","v":2.05531},{"$f":"generacion_bruta!J126","v":1722.9102679999996},{"$f":"generacion_bruta!K126","v":847.26885099999993},{"$f":"generacion_bruta!L126","v":421.11208399999998},{"$f":"generacion_bruta!M126","v":0},{"$f":"generacion_bruta!N126","v":1111.1339890000002},{"$f":"generacion_bruta!O126","v":20.758184},{"$f":"generacion_bruta!P126","v":132.18766200000002},{"$f":"generacion_bruta!Q126","v":93.788112000000012},{"$f":"generacion_bruta!R126","v":7.9959999999999989E-2},{"$f":"generacion_bruta!S126","v":762.39686199999994},{"$f":"generacion_bruta!T126","v":304.33530700000006},{"$f":"generacion_bruta!U126","v":28.715117000000003},{"$f":"generacion_bruta!V126","v":8243.0804579999985}]
[null,"Solar térmica",{"$f":"generacion_bruta!C127","v":2110.236508},{"$f":"generacion_bruta!D127","v":0},{"$f":"generacion_bruta!E127","v":0},{"$f":"generacion_bruta!F127","v":0},{"$f":"generacion_bruta!G127","v":89.976463999999993},{"$f":"generacion_bruta!H127","v":0},{"$f":"generacion_bruta!I127","v":0},{"$f":"generacion_bruta!J127","v":735.48629799999992},{"$f":"generacion_bruta!K127","v":0},{"$f":"generacion_bruta!L127","v":75.59187399999999},{"$f":"generacion_bruta!M127","v":0},{"$f":"generacion_bruta!N127","v":2037.8448430000001},{"$f":"generacion_bruta!O127","v":0},{"$f":"generacion_bruta!P127","v":0},{"$f":"generacion_bruta!Q127","v":0},{"$f":"generacion_bruta!R127","v":0},{"$f":"generacion_bruta!S127","v":36.099527000000002},{"$f":"generacion_bruta!T127","v":0},{"$f":"generacion_bruta!U127","v":0},{"$f":"generacion_bruta!V127","v":5085.235514}]
[null,"Térmica renovable",{"$f":"generacion_bruta!C128","v":1265.9033819999997},{"$f":"generacion_bruta!D128","v":57.287430999999998},{"$f":"generacion_bruta!E128","v":228.78606299999998},{"$f":"generacion_bruta!F128","v":1.971492},{"$f":"generacion_bruta!G128","v":40.643070999999999},{"$f":"generacion_bruta!H128","v":8.0531259999999989},{"$f":"generacion_bruta!I128","v":85.075815999999975},{"$f":"generacion_bruta!J128","v":240.96001600000002},{"$f":"generacion_bruta!K128","v":201.18511600000002},{"$f":"generacion_bruta!L128","v":174.42715200000001},{"$f":"generacion_bruta!M128","v":0},{"$f":"generacion_bruta!N128","v":199.31235800000005},{"$f":"generacion_bruta!O128","v":235.93751399999996},{"$f":"generacion_bruta!P128","v":0.55284},{"$f":"generacion_bruta!Q128","v":156.87073900000001},{"$f":"generacion_bruta!R128","v":0},{"$f":"generacion_bruta!S128","v":39.185057},{"$f":"generacion_bruta!T128","v":233.27032199999999},{"$f":"generacion_bruta!U128","v":14.552710999999997},{"$f":"generacion_bruta!V128","v":3183.9742059999999}]
[null,"Cogeneración y resto",{"$f":"generacion_bruta!C129","v":5207.0427349999991},{"$f":"generacion_bruta!D129","v":2443.0583580000002},{"$f":"generacion_bruta!E129","v":357.12257100000005},{"$f":"generacion_bruta!F129","v":31.518988999999994},{"$f":"generacion_bruta!G129","v":1531.5526240000002},{"$f":"generacion_bruta!H129","v":0},{"$f":"generacion_bruta!I129","v":716.34605599999998},{"$f":"generacion_bruta!J129","v":778.59447799999998},{"$f":"generacion_bruta!K129","v":1850.7469590000001},{"$f":"generacion_bruta!L129","v":4678.8483130000004},{"$f":"generacion_bruta!M129","v":0},{"$f":"generacion_bruta!N129","v":69.638161999999994},{"$f":"generacion_bruta!O129","v":2629.3494610000002},{"$f":"generacion_bruta!P129","v":82.116106999999985},{"$f":"generacion_bruta!Q129","v":694.04694900000015},{"$f":"generacion_bruta!R129","v":0},{"$f":"generacion_bruta!S129","v":1458.4756870000001},{"$f":"generacion_bruta!T129","v":835.15337699999998},{"$f":"generacion_bruta!U129","v":2085.8845959999999},{"$f":"generacion_bruta!V129","v":25449.495422}]
[null,"Residuos"]
[2016,"Hidráulica",{"$f":"generacion_bruta!C146","v":955.62595990501313},{"$f":"generacion_bruta!D146","v":3333.3316217942443},{"$f":"generacion_bruta!E146","v":1985.7355066731579},{"$f":"generacion_bruta!F146","v":0},{"$f":"generacion_bruta!G146","v":1994.3207835239439},{"$f":"generacion_bruta!H146","v":3.4721919999999997},{"$f":"generacion_bruta!I146","v":666.67926338488121},{"$f":"generacion_bruta!J146","v":874.14366616137113},{"$f":"generacion_bruta!K146","v":11569.943655334415},{"$f":"generacion_bruta!L146","v":4180.1068907541676},{"$f":"generacion_bruta!M146","v":0},{"$f":"generacion_bruta!N146","v":2518.6897133398261},{"$f":"generacion_bruta!O146","v":9841.5785755769612},{"$f":"generacion_bruta!P146","v":174.43203634539537},{"$f":"generacion_bruta!Q146","v":157.29714861660878},{"$f":"generacion_bruta!R146","v":0},{"$f":"generacion_bruta!S146","v":100.65000499018407},{"$f":"generacion_bruta!T146","v":450.3620598618939},{"$f":"generacion_bruta!U146","v":370.58480973793758},{"$f":"generacion_bruta!V146","v":39176.953887999989}]
[null,"Nuclear ",{"$f":"generacion_bruta!C147","v":0},{"$f":"generacion_bruta!D147","v":0},{"$f":"generacion_bruta!E147","v":0},{"$f":"generacion_bruta!F147","v":0},{"$f":"generacion_bruta!G147","v":9178.2630000000008},{"$f":"generacion_bruta!H147","v":0},{"$f":"generacion_bruta!I147","v":0},{"$f":"generacion_bruta!J147","v":8002.6419999999998},{"$f":"generacion_bruta!K147","v":0},{"$f":"generacion_bruta!L147","v":23743.210999999999},{"$f":"generacion_bruta!M147","v":0},{"$f":"generacion_bruta!N147","v":15174.856},{"$f":"generacion_bruta!O147","v":0},{"$f":"generacion_bruta!P147","v":0},{"$f":"generacion_bruta!Q147","v":0},{"$f":"generacion_bruta!R147","v":0},{"$f":"generacion_bruta!S147","v":0},{"$f":"generacion_bruta!T147","v":0},{"$f":"generacion_bruta!U147","v":0},{"$f":"generacion_bruta!V147","v":56098.971999999994}]
[null,"Carbón ",{"$f":"generacion_bruta!C148","v":8273.4480000000003},{"$f":"generacion_bruta!D148","v":3317.6030000000001},{"$f":"generacion_bruta!E148","v":7573.0619999999999},{"$f":"generacion_bruta!F148","v":2303.7689999999998},{"$f":"generacion_bruta!G148","v":0},{"$f":"generacion_bruta!H148","v":0},{"$f":"generacion_bruta!I148","v":0},{"$f":"generacion_bruta!J148","v":7.6999999999999999E-2},{"$f":"generacion_bruta!K148","v":6554.3149999999996},{"$f":"generacion_bruta!L148","v":0},{"$f":"generacion_bruta!M148","v":0},{"$f":"generacion_bruta!N148","v":0},{"$f":"generacion_bruta!O148","v":9468.9989999999998},{"$f":"generacion_bruta!P148","v":0},{"$f":"generacion_bruta!Q148","v":0},{"$f":"generacion_bruta!R148","v":0},{"$f":"generacion_bruta!S148","v":0},{"$f":"generacion_bruta!T148","v":0},{"$f":"generacion_bruta!U148","v":0},{"$f":"generacion_bruta!V148","v":37491.273000000001}]
[null,"Fuel / gas ",{"$f":"generacion_bruta!C149","v":0},{"$f":"generacion_bruta!D149","v":0},{"$f":"generacion_bruta!E149","v":0},{"$f":"generacion_bruta!F149","v":1311.771},{"$f":"generacion_bruta!G149","v":0},{"$f":"generacion_bruta!H149","v":5043.4610000000002},{"$f":"generacion_bruta!I149","v":0},{"$f":"generacion_bruta!J149","v":0},{"$f":"generacion_bruta!K149","v":0},{"$f":"generacion_bruta!L149","v":0},{"$f":"generacion_bruta!M149","v":210.73599999999999},{"$f":"generacion_bruta!N149","v":0},{"$f":"generacion_bruta!O149","v":0},{"$f":"generacion_bruta!P149","v":0},{"$f":"generacion_bruta!Q149","v":0},{"$f":"generacion_bruta!R149","v":198.57},{"$f":"generacion_bruta!S149","v":0},{"$f":"generacion_bruta!T149","v":0},{"$f":"generacion_bruta!U149","v":0},{"$f":"generacion_bruta!V149","v":6764.5379999999996}]
[null,"Ciclo combinado ",{"$f":"generacion_bruta!C150","v":6185.6090000000004},{"$f":"generacion_bruta!D150","v":175.51},{"$f":"generacion_bruta!E150","v":354.81700000000001},{"$f":"generacion_bruta!F150","v":542.54999999999995},{"$f":"generacion_bruta!G150","v":4695.0190000000002},{"$f":"generacion_bruta!H150","v":3031.7},{"$f":"generacion_bruta!I150","v":0},{"$f":"generacion_bruta!J150","v":1266.46},{"$f":"generacion_bruta!K150","v":0},{"$f":"generacion_bruta!L150","v":6989.7060000000001},{"$f":"generacion_bruta!M150","v":0},{"$f":"generacion_bruta!N150","v":0},{"$f":"generacion_bruta!O150","v":670.21500000000003},{"$f":"generacion_bruta!P150","v":1015.822},{"$f":"generacion_bruta!Q150","v":0},{"$f":"generacion_bruta!R150","v":0},{"$f":"generacion_bruta!S150","v":1114.8620000000001},{"$f":"generacion_bruta!T150","v":1287.6859999999999},{"$f":"generacion_bruta!U150","v":1930.442},{"$f":"generacion_bruta!V150","v":29260.398000000001}]
[null,"Hidroeólica",{"$f":"generacion_bruta!C152","v":0},{"$f":"generacion_bruta!D152","v":0},{"$f":"generacion_bruta!E152","v":0},{"$f":"generacion_bruta!F152","v":0},{"$f":"generacion_bruta!G152","v":0},{"$f":"generacion_bruta!H152","v":18.102639},{"$f":"generacion_bruta!I152","v":0},{"$f":"generacion_bruta!J152","v":0},{"$f":"generacion_bruta!K152","v":0},{"$f":"generacion_bruta!L152","v":0},{"$f":"generacion_bruta!M152","v":0},{"$f":"generacion_bruta!N152","v":0},{"$f":"generacion_bruta!O152","v":0},{"$f":"generacion_bruta!P152","v":0},{"$f":"generacion_bruta!Q152","v":0},{"$f":"generacion_bruta!R152","v":0},{"$f":"generacion_bruta!S152","v":0},{"$f":"generacion_bruta!T152","v":0},{"$f":"generacion_bruta!U152","v":0},{"$f":"generacion_bruta!V152","v":18.102639}]
[null,"Eólica",{"$f":"generacion_bruta!C153","v":7060.264592999999},{"$f":"generacion_bruta!D153","v":4225.9592520000006},{"$f":"generacion_bruta!E153","v":798.14569499999993},{"$f":"generacion_bruta!F153","v":5.4160579999999996},{"$f":"generacion_bruta!G153","v":2224.6882860000001},{"$f":"generacion_bruta!H153","v":393.085554},{"$f":"generacion_bruta!I153","v":70.502808999999999},{"$f":"generacion_bruta!J153","v":7680.5372219999999},{"$f":"generacion_bruta!K153","v":10939.943732999996},{"$f":"generacion_bruta!L153","v":2683.9419450000005},{"$f":"generacion_bruta!M153","v":0},{"$f":"generacion_bruta!N153","v":0},{"$f":"generacion_bruta!O153","v":7318.713076},{"$f":"generacion_bruta!P153","v":933.70978099999991},{"$f":"generacion_bruta!Q153","v":0},{"$f":"generacion_bruta!R153","v":0},{"$f":"generacion_bruta!S153","v":457.42115200000001},{"$f":"generacion_bruta!T153","v":2571.923076},{"$f":"generacion_bruta!U153","v":332.41806700000001},{"$f":"generacion_bruta!V153","v":47696.670298999998}]
[null,"Solar fotovoltaica",{"$f":"generacion_bruta!C154","v":1525.6835510000001},{"$f":"generacion_bruta!D154","v":295.29593900000003},{"$f":"generacion_bruta!E154","v":0.58737000000000017},{"$f":"generacion_bruta!F154","v":120.53466100000001},{"$f":"generacion_bruta!G154","v":514.06146799999999},{"$f":"generacion_bruta!H154","v":277.67476099999999},{"$f":"generacion_bruta!I154","v":2.0952619999999995},{"$f":"generacion_bruta!J154","v":1624.757124},{"$f":"generacion_bruta!K154","v":829.74446899999998},{"$f":"generacion_bruta!L154","v":413.62143100000003},{"$f":"generacion_bruta!M154","v":0},{"$f":"generacion_bruta!N154","v":1061.7441229999999},{"$f":"generacion_bruta!O154","v":20.147258000000001},{"$f":"generacion_bruta!P154","v":131.42565399999998},{"$f":"generacion_bruta!Q154","v":88.527027000000018},{"$f":"generacion_bruta!R154","v":7.8081999999999985E-2},{"$f":"generacion_bruta!S154","v":747.01913599999989},{"$f":"generacion_bruta!T154","v":294.94099799999998},{"$f":"generacion_bruta!U154","v":29.661534},{"$f":"generacion_bruta!V154","v":7977.5998479999998}]
[null,"Solar térmica",{"$f":"generacion_bruta!C155","v":2194.6310090000002},{"$f":"generacion_bruta!D155","v":0},{"$f":"generacion_bruta!E155","v":0},{"$f":"generacion_bruta!F155","v":0},{"$f":"generacion_bruta!G155","v":70.150952999999987},{"$f":"generacion_bruta!H155","v":0},{"$f":"generacion_bruta!I155","v":0},{"$f":"generacion_bruta!J155","v":721.87999799999989},{"$f":"generacion_bruta!K155","v":0},{"$f":"generacion_bruta!L155","v":70.319427000000005},{"$f":"generacion_bruta!M155","v":0},{"$f":"generacion_bruta!N155","v":1973.4576519999996},{"$f":"generacion_bruta!O155","v":0},{"$f":"generacion_bruta!P155","v":0},{"$f":"generacion_bruta!Q155","v":0},{"$f":"generacion_bruta!R155","v":0},{"$f":"generacion_bruta!S155","v":40.762663000000003},{"$f":"generacion_bruta!T155","v":0},{"$f":"generacion_bruta!U155","v":0},{"$f":"generacion_bruta!V155","v":5071.2017019999994}]
[null,"Otras renovables",{"$f":"generacion_bruta!C156","v":1367.7726660000001},{"$f":"generacion_bruta!D156","v":53.330301999999996},{"$f":"generacion_bruta!E156","v":245.26598100000001},{"$f":"generacion_bruta!F156","v":1.3097150000000002},{"$f":"generacion_bruta!G156","v":38.907041999999997},{"$f":"generacion_bruta!H156","v":9.3357749999999999},{"$f":"generacion_bruta!I156","v":76.573036999999999},{"$f":"generacion_bruta!J156","v":238.410359},{"$f":"generacion_bruta!K156","v":246.51016000000001},{"$f":"generacion_bruta!L156","v":174.026421},{"$f":"generacion_bruta!M156","v":0},{"$f":"generacion_bruta!N156","v":235.61053699999999},{"$f":"generacion_bruta!O156","v":232.03411600000001},{"$f":"generacion_bruta!P156","v":7.5938380000000008},{"$f":"generacion_bruta!Q156","v":137.921649},{"$f":"generacion_bruta!R156","v":0},{"$f":"generacion_bruta!S156","v":55.348952999999995},{"$f":"generacion_bruta!T156","v":273.71682199999998},{"$f":"generacion_bruta!U156","v":30.889806},{"$f":"generacion_bruta!V156","v":3424.5571789999999}]
[null,"Cogeneración",{"$f":"generacion_bruta!C157","v":5102.7432629999994},{"$f":"generacion_bruta!D157","v":2498.9124570000004},{"$f":"generacion_bruta!E157","v":369.74585599999995},{"$f":"generacion_bruta!F157","v":34.701317000000003},{"$f":"generacion_bruta!G157","v":1579.4028090000002},{"$f":"generacion_bruta!H157","v":0},{"$f":"generacion_bruta!I157","v":831.30987799999991},{"$f":"generacion_bruta!J157","v":988.74107900000001},{"$f":"generacion_bruta!K157","v":1857.9172750000002},{"$f":"generacion_bruta!L157","v":4689.1943710000005},{"$f":"generacion_bruta!M157","v":0},{"$f":"generacion_bruta!N157","v":50.701282999999997},{"$f":"generacion_bruta!O157","v":2801.9919390000005},{"$f":"generacion_bruta!P157","v":65.604553999999993},{"$f":"generacion_bruta!Q157","v":709.29025899999988},{"$f":"generacion_bruta!R157","v":0},{"$f":"generacion_bruta!S157","v":1446.6507910000003},{"$f":"generacion_bruta!T157","v":850.04065999999989},{"$f":"generacion_bruta!U157","v":2029.6682369999999},{"$f":"generacion_bruta!V157","v":25906.616027999997}]
[null,"Residuos",{"$f":"generacion_bruta!C158","v":181.57977999999997},{"$f":"generacion_bruta!D158","v":366.54158699999999},{"$f":"generacion_bruta!E158","v":707.87569000000019},{"$f":"generacion_bruta!F158","v":261.61013300000002},{"$f":"generacion_bruta!G158","v":344.80093500000004},{"$f":"generacion_bruta!H158","v":0},{"$f":"generacion_bruta!I158","v":78.184441000000021},{"$f":"generacion_bruta!J158","v":0},{"$f":"generacion_bruta!K158","v":0},{"$f":"generacion_bruta!L158","v":270.50279999999998},{"$f":"generacion_bruta!M158","v":0},{"$f":"generacion_bruta!N158","v":0},{"$f":"generacion_bruta!O158","v":338.23485299999999},{"$f":"generacion_bruta!P158","v":0},{"$f":"generacion_bruta!Q158","v":135.52441399999998},{"$f":"generacion_bruta!R158","v":9.7001050000000024},{"$f":"generacion_bruta!S158","v":0},{"$f":"generacion_bruta!T158","v":0},{"$f":"generacion_bruta!U158","v":697.80405599999983},{"$f":"generacion_bruta!V158","v":3392.3587940000002}]

{"sheet":"datos_RdT","index":11,"n_rows":84,"n_cols":25,"rows_kept":84,"cut":false,"hidden":true,"merged":[]}
[null,2011]
[null,"CCAA","Andalucía","Aragón","Asturias","Baleares","C. Valenciana","Canarias","Cantabria","Castilla-La Mancha","Castilla y León","Cataluña","Ceuta","Extremadura","Galicia","La Rioja","Madrid","Melilla","Murcia","Navarra","País Vasco","TOTAL","MÓVILES","PENINSULAR","NO PENINSULAR"]
[null,"km líneas 400 kV",2626.7420784137316,1287.5479404737259,423.51116425955513,null,1007.2004715223592,null,238.86270433523271,2308.7884960363058,4546.9190318758319,2038.3571918899859,null,1676.5439580355312,1086.7327272727275,114.94905945892347,915.35602565760871,null,708.00413708924202,175.97007024489812,515.91834343434357,19671.403399999999,null,19671.403399999999,0]
[null,"km líneas 220 kV",2939.1241549494989,1690.5968170329993,420.22682020202012,430.38199999999995,1067.2222599999996,163.35300000000001,276.53779292929289,1427.6866394976128,3206.3588618135204,2452.0972540781136,null,735.49286742420043,1318.5629999999999,140.05354242424244,1150.1065508559573,null,92.851740000000007,318.82902020202016,690.27967859051978,18519.761999999995,null,17926.026999999995,593.7349999999999]
[null,"km líneas <220 kV",null,null,null,1110.1439999999996,null,1125.6969999999999,null,null,null,39.44,null,23,12.3,null,null,null,null,null,null,2310.5809999999997,null,74.740000000000236,2235.8409999999994]
[null,"Total km líneas",5565.866233363231,2978.144757506725,843.73798446157525,1540.5259999999994,2074.4227315223588,1289.05,515.4004972645256,3736.4751355339185,7753.2778936893519,4529.8944459680988,0,2435.0368254597315,2417.5957272727273,255.00260188316591,2065.4625765135661,0,800.85587708924209,494.79909044691829,1206.1980220248633,40501.746399999996,null,37672.170399999995,2829.5759999999991]
[null,"Δ 2011/2010",0.80566782229283262,7.994308976532194,36.368434157498683,20.336483406265614,19.76277794474024,0,14.305325451787599,0.23513094316141014,5.1032844435817015,1.0158686814164763,null,3.1955819221708426,1.4428014949122492,7.6448145092060438,0.88692225906716882,null,0.5715147716582436,0,8.5465261372386081E-2,4.487716442905243,null,4.0869642320988886,10.133144846397645]
[null,"Posiciones 400 kV",176,83,43,null,136,null,10,91,190,120,null,81,59,6,103,null,53,27,75,1253,null,1253,0]
[null,"Posiciones 220 kV",397,203,45,69,226,40,42,123,233,549,null,65,205,24,471,null,34,48,145,2926,7,2817,109]
[null,"Posiciones <220 kV",null,null,null,435,null,363,null,null,null,3,null,null,1,null,null,null,null,null,null,802,null,4,798]
[null,"Total posiciones",573,286,88,504,362,403,52,214,423,672,0,146,265,30,574,0,87,75,220,4981,7,4074,907]
[null,"Δ 2011/2010",4.1818181818181754,15.789473684210531,7.3170731707317138,6.7796610169491567,10.365853658536594,1.7676767676767735,0,8.0808080808080884,2.1739130434782705,3.3846153846153859,null,2.0979020979021046,7.7235772357723498,7.1428571428571397,3.2374100719424481,null,8.7499999999999911,0,0.45662100456620447,5.017921146953408,0,5.1354838709677386,4.4930875576036922]
[null,"Transformadores",13620,4074,1299.1999999999998,2248,6925,1625,1500,600,6131,9350,null,1798.875,5700,null,10348.4,null,3150,1000,3200,72869.475000000006,300,{"$f":"V13-F13-H13-M13-R13","v":68996.475000000006},3873]
[null,"Δ 2011/2010",4.6082949308755783,0,0,12.512512512512508,0,0,0,null,0,0,null,0,0,null,0,null,61.53846153846154,0,0,3.7738818183986611,0,-99.549525706878626,6.9003588186585807]
[null,2012]
[null,"CCAA","Andalucía","Aragón","Asturias","Baleares","C. Valenciana","Canarias","Cantabria","Castilla-La Mancha","Castilla y León","Cataluña","Ceuta","Extremadura","Galicia","La Rioja","Madrid","Melilla","Murcia","Navarra","País Vasco","TOTAL","MÓVILES","PENINSULAR","NO PENINSULAR"]
[null,"km líneas 400 kV",2693.8200784137316,1287.5479404737259,423.51116425955513,null,1010.0004715223591,null,238.86270433523271,2538.2844960363059,4571.0730318758324,2038.3571918899859,null,1676.5439580355312,1200.5927272727274,114.94905945892347,915.35602565760871,null,708.11213708924197,175.97007024489812,515.91834343434357,{"$f":"SUM(C17:U17)+W17","v":20108.899400000002},null,{"$f":"V17-F17-H17-M17-R17","v":20108.899400000002},{"$f":"F17+H17+M17+R17","v":0}]
[null,"km líneas 220 kV",2978.8041549494988,1848.840817032999,420.22682020202012,430.38199999999995,1116.5822599999997,163.35300000000001,276.53779292929289,1496.7306394976129,3206.3588618135204,2455.4332540781134,null,740.33786742420045,1318.5629999999999,156.33224242424242,1163.7705508559573,null,107.27374,318.82902020202016,690.27967859051978,{"$f":"SUM(C18:U18)+W18","v":18888.635699999995},null,{"$f":"V18-F18-H18-M18-R18","v":18294.900699999995},{"$f":"F18+H18+M18+R18","v":593.7349999999999}]
[null,"km líneas <220 kV",null,null,null,1113.1489999999997,null,1125.6969999999999,null,null,null,39.44,null,23,12.3,null,null,null,null,null,null,2313.5859999999998,null,{"$f":"V19-F19-H19-M19-R19","v":74.740000000000236},{"$f":"F19+H19+M19+R19","v":2238.8459999999995}]
[null,"Total km líneas",{"$f":"SUM(C17:C19)","v":5672.6242333632308},{"$f":"SUM(D17:D19)","v":3136.3887575067247},843.73798446157525,1543.5309999999995,2126.5827315223587,1289.05,515.4004972645256,4035.0151355339185,7777.4318936893524,4533.230445968099,0,2439.8818254597318,2531.4557272727275,271.2813018831659,2079.1265765135659,0,815.38587708924194,494.79909044691829,1206.1980220248633,{"$f":"SUM(V17:V19)","v":41311.121099999997},null,{"$f":"SUM(X17:X19)","v":38478.540099999991},2832.5809999999992]
[null,"Δ 2012/2011",{"$f":"(C20/C6-1)*100","v":1.9180841853522201},{"$f":"(D20/D6-1)*100","v":5.3135093450756177},0,0.19506324463203217,2.5144344596398138,0,0,7.9898832233856298,0.3115327520977873,7.3644100095293652E-2,null,0.19897029684903256,4.7096377080565466,6.3837387853235894,0.66154672349785226,null,1.8143089681516678,0,0,1.9983698776999015,null,2.1404917514388666,0.10619965676836873]
[null,"Posiciones 400 kV",182,84,43,null,143,null,10,104,199,122,null,84,65,8,103,null,67,27,78,{"$f":"SUM(C22:U22)+W22","v":1319},null,{"$f":"V22-F22-H22-M22-R22","v":1319},{"$f":"F22+H22+M22+R22","v":0}]
[null,"Posiciones 220 kV",401,211,45,69,245,40,46,136,234,575,null,80,206,30,496,null,34,48,146,3049,7,{"$f":"V23-F23-H23-M23-R23","v":2940},{"$f":"F23+H23+M23+R23","v":109}]
[null,"Posiciones <220 kV",null,null,null,435,null,363,null,null,null,3,null,null,1,null,null,null,null,null,null,802,null,{"$f":"V24-F24-H24-M24-R24","v":4},{"$f":"F24+H24+M24+R24","v":798}]
[null,"Total posiciones",{"$f":"SUM(C22:C24)","v":583},{"$f":"SUM(D22:D24)","v":295},88,504,388,403,56,240,433,700,0,164,272,38,599,0,101,75,224,{"$f":"SUM(V22:V24)","v":5170},{"$f":"SUM(W22:W24)","v":7},{"$f":"SUM(X22:X24)","v":4263},907]
[null,"Δ 2012/2011",{"$f":"(C25/C11-1)*100","v":1.7452006980802848},{"$f":"(D25/D11-1)*100","v":3.1468531468531458},0,0,7.182320441988943,0,7.6923076923076872,12.149532710280365,2.3640661938534313,4.1666666666666741,null,12.328767123287676,2.6415094339622636,26.666666666666661,4.355400696864109,null,16.09195402298851,0,1.8181818181818077,3.7944187914073391,0,4.6391752577319645,0]
[null,"Transformadores",14420,4674,1299.1999999999998,2408,7525,1625,1500,1200,6131,10450,null,1798.875,5700,600,10348.4,null,3150,1000,4300,{"$f":"SUM(C27:U27)+W27","v":78629.474999999991},500,{"$f":"V27-F27-H27-M27-R27","v":74596.474999999991},{"$f":"F27+H27+M27+R27","v":4033}]
[null,"Δ 2012/2011",{"$f":"(C27/C13-1)*100","v":5.8737151248164476},{"$f":"(D27/D13-1)*100","v":14.727540500736369},0,7.1174377224199281,8.6642599277978238,0,0,null,0,11.764705882352944,null,0,0,null,0,null,0,0,34.375,7.9045443925594094,66.666666666666671,{"$f":"(X27/X13-1)*100","v":8.1163566689457447},4.1311644719855378]
[null,2013]
[null,"CCAA","Andalucía","Aragón","Asturias","Baleares","C. Valenciana","Canarias","Cantabria","Castilla-La Mancha","Castilla y León","Cataluña","Ceuta","Extremadura","Galicia","La Rioja","Madrid","Melilla","Murcia","Navarra","País Vasco","TOTAL","MÓVILES","PENINSULAR","NO PENINSULAR"]
[null,"km líneas 400 kV",2693.8200784137316,1288.1479404737258,491.67516425955512,null,1010.0004715223591,null,238.86270433523271,2538.2844960363059,4571.0730318758324,2038.3571918899859,null,2094.4059580355311,1200.5927272727274,114.94905945892347,915.35602565760871,null,708.11213708924197,175.97007024489812,559.88234343434351,{"$f":"SUM(C31:U31)+W31","v":20639.489400000002},null,{"$f":"V31-F31-H31-M31-R31","v":20639.489400000002},{"$f":"F31+H31+M31+R31","v":0}]
[null,"km líneas 220 kV",3137.746794949499,1848.840817032999,420.22682020202012,430.38199999999995,1223.0902599999997,163.35300000000001,276.53779292929289,1496.7306394976129,3206.3588618135204,2455.4332540781134,null,741.30386742420046,1318.5629999999996,156.33224242424242,1170.6565508559588,null,107.27374,318.82902020202016,690.27967859051978,{"$f":"SUM(C32:U32)+W32","v":19161.938340000001},null,{"$f":"V32-F32-H32-M32-R32","v":18568.20334},{"$f":"F32+H32+M32+R32","v":593.7349999999999}]
[null,"km líneas <220 kV",null,null,null,1113.1489999999997,null,1125.6969999999999,null,null,null,39.44,null,23,12.3,null,null,null,null,null,null,2313.5859999999998,null,{"$f":"V33-F33-H33-M33-R33","v":74.740000000000236},{"$f":"F33+H33+M33+R33","v":2238.8459999999995}]
[null,"Total km líneas",{"$f":"SUM(C31:C33)","v":5831.5668733632301},{"$f":"SUM(D31:D33)","v":3136.9887575067251},911.90198446157524,1543.5309999999995,2233.090731522359,1289.05,515.4004972645256,4035.0151355339185,7777.4318936893524,4533.230445968099,0,2858.7098254597313,2531.455727272727,271.2813018831659,2086.0125765135676,0,815.38587708924194,494.79909044691829,1250.1620220248633,{"$f":"SUM(V31:V33)","v":42115.013740000002},null,{"$f":"SUM(X31:X33)","v":39282.432739999997},2832.5809999999992]
[null,"Δ 2013/2012",{"$f":"(C34/C20-1)*100","v":2.8019243556657081},{"$f":"(D34/D20-1)*100","v":1.9130281555956863E-2},8.0788113437251887,0,5.0084108377836056,0,0,0,0,0,null,17.165913349966555,-2.2204460492503131E-14,0,0.33119676684374433,null,0,0,3.6448409960246009,1.9459472863349703,null,2.0891973497715988,0]
[null,"Posiciones 400 kV",195,89,52,null,143,null,10,106,199,122,null,103,71,8,103,null,67,28,78,{"$f":"SUM(C36:U36)+W36","v":1374},null,{"$f":"V36-F36-H36-M36-R36","v":1374},{"$f":"F36+H36+M36+R36","v":0}]
[null,"Posiciones 220 kV",412,213,45,69,271,40,46,137,234,583,null,87,213,30,517,null,40,49,146,3139,7,{"$f":"V37-F37-H37-M37-R37","v":3030},{"$f":"F37+H37+M37+R37","v":109}]
[null,"Posiciones <220 kV",null,null,null,437,null,363,null,null,null,3,null,null,1,null,null,null,null,null,null,804,null,{"$f":"V38-F38-H38-M38-R38","v":4},{"$f":"F38+H38+M38+R38","v":800}]
[null,"Total posiciones",{"$f":"SUM(C36:C38)","v":607},{"$f":"SUM(D36:D38)","v":302},97,506,414,403,56,243,433,708,0,190,285,38,620,0,107,77,224,{"$f":"SUM(V36:V38)","v":5317},{"$f":"SUM(W36:W38)","v":7},{"$f":"SUM(X36:X38)","v":4408},909]
[null,"Δ 2013/2012",{"$f":"(C39/C25-1)*100","v":4.116638078902235},{"$f":"(D39/D25-1)*100","v":2.3728813559322104},10.22727272727273,0.39682539682539542,6.7010309278350499,0,0,1.2499999999999956,0,1.1428571428571344,null,15.853658536585357,4.7794117647058876,0,3.5058430717863187,null,5.9405940594059459,2.6666666666666616,0,2.8433268858800709,0,3.4013605442176909,0.22050716648291946]
[null,"Transformadores",14420,4674,1299.1999999999998,2793,7600,1625,2100,1200,6131,10450,null,2398.875,5700,600,10348.4,null,3150,1600,4300,{"$f":"SUM(C41:U41)+W41","v":81289.474999999991},900,{"$f":"V41-F41-H41-M41-R41","v":76871.474999999991},{"$f":"F41+H41+M41+R41","v":4418}]
[null,"Δ 2013/2012",{"$f":"(C41/C27-1)*100","v":0},{"$f":"(D41/D27-1)*100","v":0},0,15.988372093023262,0.9966777408637828,0,39.999999999999993,0,0,0,null,33.354179695643118,0,null,0,null,0,60.000000000000007,0,3.3829553103336796,80,3.0497419616677623,9.5462434911976146]
[null,2014]
[null,"CCAA","Andalucía","Aragón","Asturias","Baleares","C. Valenciana","Canarias","Cantabria","Castilla-La Mancha","Castilla y León","Cataluña","Ceuta","Extremadura","Galicia","La Rioja","Madrid","Melilla","Murcia","Navarra","País Vasco","TOTAL","MÓVILES","PENINSULAR","NO PENINSULAR"]
[null,"km líneas 400 kV",2769.1495784137319,1288.1479404737258,491.67516425955512,0,1010.0004715223591,0,238.86270433523271,2578.5344960363059,4571.0730318758324,2185.196191889986,null,2285.508458035531,1201.1057272727273,114.94905945892347,915.35602565760871,null,708.11213708924197,175.97007024489812,559.88234343434351,{"$f":"SUM(C45:U45)+W45","v":21093.523400000005},null,{"$f":"V45-F45-H45-M45-R45","v":21093.523400000005},{"$f":"F45+H45+M45+R45","v":0}]
[null,"km líneas 220 kV",3168.9577949494987,1848.840817032999,420.22682020202012,431.09799999999996,1264.0182599999998,163.35300000000001,276.53779292929289,1496.7306394976129,3206.3588618135204,2463.6932540781136,null,787.37386742420051,1324.479,156.33224242424242,1177.3495508559583,null,107.27374,318.82902020202016,690.27967859051978,{"$f":"SUM(C46:U46)+W46","v":19301.732339999999},null,{"$f":"V46-F46-H46-M46-R46","v":18707.281339999998},{"$f":"F46+H46+M46+R46","v":594.45100000000002}]
[null,"km líneas <220 kV",null,null,null,1113.8839999999996,null,1125.7819999999999,null,null,null,39.44,null,23,12.3,null,null,null,null,null,null,2314.4059999999995,null,{"$f":"V47-F47-H47-M47-R47","v":74.740000000000009},{"$f":"F47+H47+M47+R47","v":2239.6659999999993}]
[null,"Total km líneas",{"$f":"SUM(C45:C47)","v":5938.1073733632311},{"$f":"SUM(D45:D47)","v":3136.9887575067251},911.90198446157524,1544.9819999999995,2274.0187315223588,1289.135,515.4004972645256,4075.2651355339185,7777.4318936893524,4688.3294459680992,0,3095.8823254597314,2537.8847272727276,271.2813018831659,2092.7055765135669,0,815.38587708924194,494.79909044691829,1250.1620220248633,{"$f":"SUM(V45:V47)","v":42709.66174000001},null,{"$f":"SUM(X45:X47)","v":39875.544740000005},2834.1169999999993]
[null,"Δ2014/2013",{"$f":"(C48/C34-1)*100","v":1.8269618151280254},{"$f":"(D48/D34-1)*100","v":0},0,9.4005238637895339E-2,1.83279610730811,6.5940033358025119E-3,0,0.99751794350269041,0,3.4213791213271838,null,8.2964873834950659,0.25396454422399461,0,0.32085137335009506,null,{"$f":"(S48/S34-1)*100","v":0},0,0,1.411962023023694,null,{"$f":"(X48/X34-1)*100","v":1.5098657558345829},5.4226163347137479E-2]
[null,"Posiciones 400 kV",195,89,52,null,143,null,10,112,200,133,null,103,71,8,103,null,69,28,78,{"$f":"SUM(C50:U50)+W50","v":1394},null,{"$f":"V50-F50-H50-M50-R50","v":1394},{"$f":"F50+H50+M50+R50","v":0}]
[null,"Posiciones 220 kV",416,213,45,75,291,40,46,137,234,589,null,88,216,30,521,null,46,49,147,3190,7,{"$f":"V51-F51-H51-M51-R51","v":3075},{"$f":"F51+H51+M51+R51","v":115}]
[null,"Posiciones <220 kV",null,null,null,455,null,369,null,null,null,3,null,null,1,null,null,null,null,null,null,828,null,{"$f":"V52-F52-H52-M52-R52","v":4},{"$f":"F52+H52+M52+R52","v":824}]
[null,"Total posiciones",{"$f":"SUM(C50:C52)","v":611},{"$f":"SUM(D50:D52)","v":302},97,530,434,409,56,249,434,725,0,191,288,38,624,0,115,77,225,{"$f":"SUM(V50:V52)","v":5412},{"$f":"SUM(W50:W52)","v":7},{"$f":"SUM(X50:X52)","v":4473},939]
[null,"Δ2014/2013",{"$f":"(C53/C39-1)*100","v":0.65897858319605707},{"$f":"(D53/D39-1)*100","v":0},0,4.743083003952564,4.8309178743961345,1.4888337468982549,0,2.4691358024691468,0.23094688221709792,2.4011299435028333,null,0.52631578947368585,1.0526315789473717,0,0.64516129032257119,null,7.4766355140186924,0,0.44642857142858094,1.7867218356215853,0,1.4745916515426449,3.3003300330032959]
[null,"Transformadores",14420,4674,1299.1999999999998,2793,7600,1875,2100,1200,6131,11650,null,2398.875,5700,600,11548.4,null,3150,1600,4300,{"$f":"SUM(C55:U55)+W55","v":83939.474999999991},900,{"$f":"V55-F55-H55-M55-R55","v":79271.474999999991},{"$f":"F55+H55+M55+R55","v":4668}]
[null,"Δ2014/2013",{"$f":"(C55/C41-1)*100","v":0},{"$f":"(D55/D41-1)*100","v":0},0,0,0,15.384615384615374,0,0,0,11.483253588516739,null,0,0,0,11.595995516215062,null,0,0,0,3.2599546251221412,0,3.1220943789617595,{"$f":"(Y55/Y41-1)*100","v":5.6586690810321416}]
[null,2015]
[null,"CCAA","Andalucía","Aragón","Asturias","Baleares","C. Valenciana","Canarias","Cantabria","Castilla-La Mancha","Castilla y León","Cataluña","Ceuta","Extremadura","Galicia","La Rioja","Madrid","Melilla","Murcia","Navarra","País Vasco","TOTAL","MÓVILES","PENINSULAR","NO PENINSULAR"]
[null,"km líneas 400 kV",2769.1495784137319,1331.4979404737257,491.67516425955512,0,1018.0094715223591,0,240.51270433523271,2578.5344960363059,4572.4840318758324,2185.196191889986,null,2285.508458035531,1201.1057272727273,114.94905945892347,915.35602565760871,null,708.11213708924197,175.97007024489812,595.77834343434347,{"$f":"SUM(C59:U59)+W59","v":21183.839400000004},null,{"$f":"V59-F59-H59-M59-R59","v":21183.839400000004},{"$f":"F59+H59+M59+R59","v":0}]
[null,"km líneas 220 kV",3201.0477949494989,1848.840817032999,420.22682020202012,431.36999999999995,1264.1482599999999,215.86700000000002,293.0877929292929,1496.7306394976129,3206.3588618135204,2481.3532540781134,null,861.24386742420052,1324.479,156.33224242424242,1177.3495508559583,null,107.27374,318.82902020202016,690.27967859051978,{"$f":"SUM(C60:U60)+W60","v":19494.818339999998},null,{"$f":"V60-F60-H60-M60-R60","v":18847.581340000001},{"$f":"F60+H60+M60+R60","v":647.23699999999997}]
[null,"km líneas <220 kV",null,null,null,1242.3240000000001,null,1131.0919999999999,null,null,null,39.44,null,23,12.3,null,null,null,null,null,null,2448.1560000000004,null,{"$f":"V61-F61-H61-M61-R61","v":74.740000000000464},{"$f":"F61+H61+M61+R61","v":2373.4160000000002}]
[null,"Total km líneas",{"$f":"SUM(C59:C61)","v":5970.1973733632312},{"$f":"SUM(D59:D61)","v":3180.3387575067245},911.90198446157524,1673.694,2282.157731522359,1346.9589999999998,533.60049726452564,4075.2651355339185,7778.8428936893524,4705.9894459680991,0,3169.7523254597318,2537.8847272727276,271.2813018831659,2092.7055765135669,0,815.38587708924194,494.79909044691829,1286.0580220248632,{"$f":"SUM(V59:V61)","v":43126.813740000005},null,40106.160739999999,3020.6530000000002]
[null,"Δ2015/2014",{"$f":"(C62/C48-1)*100","v":0.54040787716211902},{"$f":"(D62/D48-1)*100","v":1.3818984813466217},0,8.3309708462623089,0.35791261906410465,4.4854883313229399,3.5312344665160422,0,1.8142235371354509E-2,0.37668001371335968,null,2.3860726033581026,0,0,0,null,0,0,2.8713078279133608,0.97671576642179847,null,0.57833943461758075,6.5818030801128247]
[null,"Posiciones 400 kV",195,98,52,null,153,null,15,112,219,136,null,103,71,8,103,null,69,28,79,{"$f":"SUM(C64:U64)+W64","v":1441},null,{"$f":"V64-F64-H64-M64-R64","v":1441},{"$f":"F64+H64+M64+R64","v":0}]
[null,"Posiciones 220 kV",436,214,45,75,291,46,50,137,242,595,null,88,216,30,521,null,48,49,147,{"$f":"SUM(C65:U65)+W65","v":3237},7,{"$f":"V65-F65-H65-M65-R65","v":3116},{"$f":"F65+H65+M65+R65","v":121}]
[null,"Posiciones <220 kV",null,null,null,488,null,378,null,null,null,3,null,null,1,null,null,null,null,null,null,870,null,{"$f":"V66-F66-H66-M66-R66","v":4},{"$f":"F66+H66+M66+R66","v":866}]
[null,"Total posiciones",{"$f":"SUM(C64:C66)","v":631},{"$f":"SUM(D64:D66)","v":312},97,563,444,424,65,249,461,734,0,191,288,38,624,0,117,77,226,{"$f":"SUM(V64:V66)","v":5548},{"$f":"SUM(W64:W66)","v":7},{"$f":"SUM(X64:X66)","v":4561},987]
[null,"Δ2015/2014",{"$f":"(C67/C53-1)*100","v":3.2733224222585955},{"$f":"(D67/D53-1)*100","v":3.3112582781456901},0,6.2264150943396324,2.3041474654377891,3.6674816625916762,16.07142857142858,0,6.2211981566820285,1.2413793103448256,null,0,0,0,0,null,1.7391304347825987,0,0.44444444444444731,2.512934220251295,0,1.9673597138385901,5.1118210862619806]
[null,"Transformadores",14420,4674,1299.1999999999998,3273,7600,2000,2100,1200,6131,11650,null,2398.875,5700,600,11548.4,null,3150,1600,4300,{"$f":"SUM(C69:U69)+W69","v":84544.474999999991},900,{"$f":"V69-F69-H69-M69-R69","v":79271.474999999991},{"$f":"F69+H69+M69+R69","v":5273}]
[null,"Δ2015/2014",{"$f":"(C69/C55-1)*100","v":0},{"$f":"(D69/D55-1)*100","v":0},0,17.1858216970999,0,6.6666666666666652,0,0,0,0,null,0,0,0,0,null,0,0,0,0.72075742670536513,0,0,12.960582690659805]
[null,2016]
[null,"CCAA","Andalucía","Aragón","Asturias","Baleares","C. Valenciana","Canarias","Cantabria","Castilla-La Mancha","Castilla y León","Cataluña","Ceuta","Extremadura","Galicia","La Rioja","Madrid","Melilla","Murcia","Navarra","País Vasco","TOTAL","MÓVILES","PENINSULAR","NO PENINSULAR"]
[null,"km líneas 400 kV",2769.1495784137319,1520.6349404737257,529.29516425955512,0,1100.5624715223591,0,240.51270433523271,2578.5344960363059,4572.4840318758324,2185.196191889986,null,2285.508458035531,1326.9377272727274,114.94905945892347,915.35602565760871,null,708.11213708924197,175.97007024489812,595.77834343434347,{"$f":"SUM(C73:U73)+W73","v":21618.981400000008},null,{"$f":"V73-F73-H73-M73-R73","v":21618.981400000008},{"$f":"F73+H73+M73+R73","v":0}]
[null,"km líneas 220 kV",3225.9940000000001,1848.84,420.226,432.22399999999993,1291.9750000000001,220.24300000000002,293.08699999999999,1496.73,3206.3588618135204,2499.21,null,861.24,1325.1790000000001,156.33224242424242,1177.3400000000001,null,123.86974000000001,318.82,690.30899999999997,{"$f":"SUM(C74:U74)+W74","v":19587.977844237765},null,{"$f":"V74-F74-H74-M74-R74","v":18935.510844237768},{"$f":"F74+H74+M74+R74","v":652.46699999999998}]
[null,"km líneas <220 kV",null,null,null,1367.8089999999995,null,1133.9219999999998,null,null,null,39.44,null,23,12.3,null,null,null,null,null,null,2576.4709999999995,null,{"$f":"V75-F75-H75-M75-R75","v":74.740000000000236},{"$f":"F75+H75+M75+R75","v":2501.7309999999993}]
[null,"Total km líneas",{"$f":"SUM(C73:C75)","v":5995.143578413732},{"$f":"SUM(D73:D75)","v":3369.4749404737258},949.52116425955512,1800.0329999999994,2392.5374715223593,1354.1649999999997,533.59970433523267,4075.2644960363059,7778.8428936893524,4723.8461918899857,0,3169.7484580355313,2664.4167272727277,271.2813018831659,2092.696025657609,0,831.98187708924195,494.79007024489812,1286.0873434343434,{"$f":"SUM(V73:V75)","v":43783.430244237774},null,{"$f":"SUM(X73:X75)","v":40629.23224423777},3154.1979999999994]
[null,"Δ2016/2015",{"$f":"(C76/C62-1)*100","v":0.41784556674460127},{"$f":"(D76/D62-1)*100","v":5.9470451856920237},4.1253534304119155,7.548512452096956,4.8366393994322854,0.53498287624196283,-1.4859980398407302E-4,-1.5692171950743017E-5,0,0.3794472156580353,null,-1.2201029617742165E-4,4.9857268393736165,0,-4.5638794415880923E-4,null,2.0353553411109226,-1.8230029509624934E-3,2.2799445264620744E-3,{"$f":"(V76/V62-1)*100","v":1.5225249613763037},null,{"$f":"(X76/X62-1)*100","v":1.3042173436363935},4.4210639222710846]
[null,"Posiciones 400 kV",196,98,52,null,167,null,15,113,219,136,null,103,71,8,103,null,69,28,80,{"$f":"SUM(C78:U78)+W78","v":1458},null,{"$f":"V78-F78-H78-M78-R78","v":1458},{"$f":"F78+H78+M78+R78","v":0}]
[null,"Posiciones 220 kV",438,214,45,76,297,55,50,137,243,595,null,88,222,30,523,null,48,49,148,{"$f":"SUM(C79:U79)+W79","v":3265},7,{"$f":"V79-F79-H79-M79-R79","v":3134},{"$f":"F79+H79+M79+R79","v":131}]
[null,"Posiciones <220 kV",null,null,null,495,null,389,null,null,null,3,null,null,1,null,null,null,null,null,null,888,null,{"$f":"V80-F80-H80-M80-R80","v":4},{"$f":"F80+H80+M80+R80","v":884}]
[null,"Total posiciones",{"$f":"SUM(C78:C80)","v":634},{"$f":"SUM(D78:D80)","v":312},97,571,464,444,65,250,462,734,0,191,294,38,626,0,117,77,228,{"$f":"SUM(V78:V80)","v":5611},{"$f":"SUM(W78:W80)","v":7},{"$f":"SUM(X78:X80)","v":4596},1015]
[null,"Δ2016/2015",{"$f":"(C81/C67-1)*100","v":0.47543581616482644},{"$f":"(D81/D67-1)*100","v":0},0,1.4209591474245054,4.5045045045045029,4.7169811320754818,0,0.40160642570281624,0.21691973969630851,0,null,0,2.0833333333333259,0,0.32051282051281937,null,0,0,0.88495575221239076,{"$f":"(V81/V67-1)*100","v":1.1355443403028076},0,0.76737557553168134,2.8368794326241176]
[null,"Transformadores",14420,{"$f":"4674+300","v":4974},1299.1999999999998,3273,8200,2000,2100,1200,6131,11650,null,2398.875,5700,600,11548.4,null,3150,1600,4300,{"$f":"SUM(C83:U83)+W83","v":85444.474999999991},900,{"$f":"V83-F83-H83-M83-R83","v":80171.474999999991},{"$f":"F83+H83+M83+R83","v":5273}]
[null,"Δ2016/2015",{"$f":"(C83/C69-1)*100","v":0},{"$f":"(D83/D69-1)*100","v":6.4184852374839618},0,0,7.8947368421052655,0,0,0,0,0,null,0,0,0,0,null,0,0,0,{"$f":"(V83/V69-1)*100","v":1.064528462681924},0,1.1353390358890048,0]

{"sheet":"EVOLUCION_RdT","index":12,"n_rows":38,"n_cols":24,"rows_kept":38,"cut":false,"hidden":true,"merged":[]}
[]
[null,"evolución líneas","Andalucía","Aragón","Asturias","Baleares","C. Valenciana","Canarias","Cantabria","Castilla-La Mancha","Castilla y León","Cataluña","Ceuta","Extremadura","Galicia","La Rioja","Madrid","Melilla","Murcia","Navarra","País Vasco","TOTAL","MÓVILES","Resto nacional"]
[2011,"líneas ",{"$f":"datos_RdT!C6","v":5565.866233363231},{"$f":"datos_RdT!D6","v":2978.144757506725},{"$f":"datos_RdT!E6","v":843.73798446157525},{"$f":"datos_RdT!F6","v":1540.5259999999994},{"$f":"datos_RdT!G6","v":2074.4227315223588},{"$f":"datos_RdT!H6","v":1289.05},{"$f":"datos_RdT!I6","v":515.4004972645256},{"$f":"datos_RdT!J6","v":3736.4751355339185},{"$f":"datos_RdT!K6","v":7753.2778936893519},{"$f":"datos_RdT!L6","v":4529.8944459680988},{"$f":"datos_RdT!M6","v":0},{"$f":"datos_RdT!N6","v":2435.0368254597315},{"$f":"datos_RdT!O6","v":2417.5957272727273},{"$f":"datos_RdT!P6","v":255.00260188316591},{"$f":"datos_RdT!Q6","v":2065.4625765135661},{"$f":"datos_RdT!R6","v":0},{"$f":"datos_RdT!S6","v":800.85587708924209},{"$f":"datos_RdT!T6","v":494.79909044691829},{"$f":"datos_RdT!U6","v":1206.1980220248633},{"$f":"SUM(C3:U3)","v":40501.746399999996},null,{"$f":"V3-D3","v":37523.601642493275}]
[2011,"posiciones",{"$f":"datos_RdT!C11","v":573},{"$f":"datos_RdT!D11","v":286},{"$f":"datos_RdT!E11","v":88},{"$f":"datos_RdT!F11","v":504},{"$f":"datos_RdT!G11","v":362},{"$f":"datos_RdT!H11","v":403},{"$f":"datos_RdT!I11","v":52},{"$f":"datos_RdT!J11","v":214},{"$f":"datos_RdT!K11","v":423},{"$f":"datos_RdT!L11","v":672},{"$f":"datos_RdT!M11","v":0},{"$f":"datos_RdT!N11","v":146},{"$f":"datos_RdT!O11","v":265},{"$f":"datos_RdT!P11","v":30},{"$f":"datos_RdT!Q11","v":574},{"$f":"datos_RdT!R11","v":0},{"$f":"datos_RdT!S11","v":87},{"$f":"datos_RdT!T11","v":75},{"$f":"datos_RdT!U11","v":220},{"$f":"SUM(C4:U4)+W4","v":4981},{"$f":"datos_RdT!W11","v":7},{"$f":"V4-D4","v":4695}]
[2011,"transformadores",{"$f":"datos_RdT!C13","v":13620},{"$f":"datos_RdT!D13","v":4074},{"$f":"datos_RdT!E13","v":1299.1999999999998},{"$f":"datos_RdT!F13","v":2248},{"$f":"datos_RdT!G13","v":6925},{"$f":"datos_RdT!H13","v":1625},{"$f":"datos_RdT!I13","v":1500},{"$f":"datos_RdT!J13","v":600},{"$f":"datos_RdT!K13","v":6131},{"$f":"datos_RdT!L13","v":9350},{"$f":"datos_RdT!M13","v":0},{"$f":"datos_RdT!N13","v":1798.875},{"$f":"datos_RdT!O13","v":5700},{"$f":"datos_RdT!P13","v":0},{"$f":"datos_RdT!Q13","v":10348.4},{"$f":"datos_RdT!R13","v":0},{"$f":"datos_RdT!S13","v":3150},{"$f":"datos_RdT!T13","v":1000},{"$f":"datos_RdT!U13","v":3200},{"$f":"SUM(C5:U5)","v":72569.475000000006},{"$f":"datos_RdT!W13","v":300},{"$f":"V5-D5","v":68495.475000000006}]
[2011,"líneas ",{"$f":"datos_RdT!C7/100","v":8.0566782229283262E-3},{"$f":"datos_RdT!D7/100","v":7.994308976532194E-2},{"$f":"datos_RdT!E7/100","v":0.36368434157498686},{"$f":"datos_RdT!F7/100","v":0.20336483406265615},{"$f":"datos_RdT!G7/100","v":0.1976277794474024},{"$f":"datos_RdT!H7/100","v":0},{"$f":"datos_RdT!I7/100","v":0.14305325451787598},{"$f":"datos_RdT!J7/100","v":2.3513094316141014E-3},{"$f":"datos_RdT!K7/100","v":5.1032844435817015E-2},{"$f":"datos_RdT!L7/100","v":1.0158686814164763E-2},{"$f":"datos_RdT!M7/100","v":0},{"$f":"datos_RdT!N7/100","v":3.1955819221708426E-2},{"$f":"datos_RdT!O7/100","v":1.4428014949122492E-2},{"$f":"datos_RdT!P7/100","v":7.6448145092060438E-2},{"$f":"datos_RdT!Q7/100","v":8.8692225906716882E-3},{"$f":"datos_RdT!R7/100","v":0},{"$f":"datos_RdT!S7/100","v":5.715147716582436E-3},{"$f":"datos_RdT!T7/100","v":0},{"$f":"datos_RdT!U7/100","v":8.5465261372386081E-4},{"$f":"datos_RdT!V7/100","v":4.487716442905243E-2}]
[2011,"posiciones",{"$f":"datos_RdT!C12/100","v":4.1818181818181754E-2},{"$f":"datos_RdT!D12/100","v":0.15789473684210531},{"$f":"datos_RdT!E12/100","v":7.3170731707317138E-2},{"$f":"datos_RdT!F12/100","v":6.7796610169491567E-2},{"$f":"datos_RdT!G12/100","v":0.10365853658536593},{"$f":"datos_RdT!H12/100","v":1.7676767676767735E-2},{"$f":"datos_RdT!I12/100","v":0},{"$f":"datos_RdT!J12/100","v":8.0808080808080884E-2},{"$f":"datos_RdT!K12/100","v":2.1739130434782705E-2},{"$f":"datos_RdT!L12/100","v":3.3846153846153859E-2},{"$f":"datos_RdT!M12/100","v":0},{"$f":"datos_RdT!N12/100","v":2.0979020979021046E-2},{"$f":"datos_RdT!O12/100","v":7.7235772357723498E-2},{"$f":"datos_RdT!P12/100","v":7.1428571428571397E-2},{"$f":"datos_RdT!Q12/100","v":3.2374100719424481E-2},{"$f":"datos_RdT!R12/100","v":0},{"$f":"datos_RdT!S12/100","v":8.7499999999999911E-2},{"$f":"datos_RdT!T12/100","v":0},{"$f":"datos_RdT!U12/100","v":4.5662100456620447E-3},{"$f":"datos_RdT!V12/100","v":5.017921146953408E-2}]
[2011,"transformadores",{"$f":"datos_RdT!C14/100","v":4.6082949308755783E-2},{"$f":"datos_RdT!D14/100","v":0},{"$f":"datos_RdT!E14/100","v":0},{"$f":"datos_RdT!F14/100","v":0.12512512512512508},{"$f":"datos_RdT!G14/100","v":0},{"$f":"datos_RdT!H14/100","v":0},{"$f":"datos_RdT!I14/100","v":0},{"$f":"datos_RdT!J14/100","v":0},{"$f":"datos_RdT!K14/100","v":0},{"$f":"datos_RdT!L14/100","v":0},{"$f":"datos_RdT!M14/100","v":0},{"$f":"datos_RdT!N14/100","v":0},{"$f":"datos_RdT!O14/100","v":0},{"$f":"datos_RdT!P14/100","v":0},{"$f":"datos_RdT!Q14/100","v":0},{"$f":"datos_RdT!R14/100","v":0},{"$f":"datos_RdT!S14/100","v":0.61538461538461542},{"$f":"datos_RdT!T14/100","v":0},{"$f":"datos_RdT!U14/100","v":0},{"$f":"datos_RdT!V14/100","v":3.7738818183986611E-2}]
[2012,"líneas ",{"$f":"datos_RdT!C20","v":5672.6242333632308},{"$f":"datos_RdT!D20","v":3136.3887575067247},{"$f":"datos_RdT!E20","v":843.73798446157525},{"$f":"datos_RdT!F20","v":1543.5309999999995},{"$f":"datos_RdT!G20","v":2126.5827315223587},{"$f":"datos_RdT!H20","v":1289.05},{"$f":"datos_RdT!I20","v":515.4004972645256},{"$f":"datos_RdT!J20","v":4035.0151355339185},{"$f":"datos_RdT!K20","v":7777.4318936893524},{"$f":"datos_RdT!L20","v":4533.230445968099},{"$f":"datos_RdT!M20","v":0},{"$f":"datos_RdT!N20","v":2439.8818254597318},{"$f":"datos_RdT!O20","v":2531.4557272727275},{"$f":"datos_RdT!P20","v":271.2813018831659},{"$f":"datos_RdT!Q20","v":2079.1265765135659},{"$f":"datos_RdT!R20","v":0},{"$f":"datos_RdT!S20","v":815.38587708924194},{"$f":"datos_RdT!T20","v":494.79909044691829},{"$f":"datos_RdT!U20","v":1206.1980220248633},{"$f":"SUM(C9:U9)","v":41311.121100000004},null,{"$f":"V9-D9","v":38174.732342493277}]
[2012,"posiciones",{"$f":"datos_RdT!C25","v":583},{"$f":"datos_RdT!D25","v":295},{"$f":"datos_RdT!E25","v":88},{"$f":"datos_RdT!F25","v":504},{"$f":"datos_RdT!G25","v":388},{"$f":"datos_RdT!H25","v":403},{"$f":"datos_RdT!I25","v":56},{"$f":"datos_RdT!J25","v":240},{"$f":"datos_RdT!K25","v":433},{"$f":"datos_RdT!L25","v":700},{"$f":"datos_RdT!M25","v":0},{"$f":"datos_RdT!N25","v":164},{"$f":"datos_RdT!O25","v":272},{"$f":"datos_RdT!P25","v":38},{"$f":"datos_RdT!Q25","v":599},{"$f":"datos_RdT!R25","v":0},{"$f":"datos_RdT!S25","v":101},{"$f":"datos_RdT!T25","v":75},{"$f":"datos_RdT!U25","v":224},{"$f":"SUM(C10:U10)+W10","v":5170},{"$f":"datos_RdT!W25","v":7},{"$f":"V10-D10","v":4875}]
[2012,"transformadores",{"$f":"datos_RdT!C27","v":14420},{"$f":"datos_RdT!D27","v":4674},{"$f":"datos_RdT!E27","v":1299.1999999999998},{"$f":"datos_RdT!F27","v":2408},{"$f":"datos_RdT!G27","v":7525},{"$f":"datos_RdT!H27","v":1625},{"$f":"datos_RdT!I27","v":1500},{"$f":"datos_RdT!J27","v":1200},{"$f":"datos_RdT!K27","v":6131},{"$f":"datos_RdT!L27","v":10450},{"$f":"datos_RdT!M27","v":0},{"$f":"datos_RdT!N27","v":1798.875},{"$f":"datos_RdT!O27","v":5700},{"$f":"datos_RdT!P27","v":600},{"$f":"datos_RdT!Q27","v":10348.4},{"$f":"datos_RdT!R27","v":0},{"$f":"datos_RdT!S27","v":3150},{"$f":"datos_RdT!T27","v":1000},{"$f":"datos_RdT!U27","v":4300},{"$f":"SUM(C11:U11)","v":78129.474999999991},{"$f":"datos_RdT!W27","v":500},{"$f":"V11-D11","v":73455.474999999991}]
[2012,"líneas ",{"$f":"(C9/C3-1)","v":1.9180841853522201E-2},{"$f":"(D9/D3-1)","v":5.3135093450756177E-2},{"$f":"(E9/E3-1)","v":0},{"$f":"(F9/F3-1)","v":1.9506324463203217E-3},2.5144344596398138E-2,0,0,7.9898832233856298E-2,3.115327520977873E-3,7.3644100095293652E-4,null,1.9897029684903256E-3,4.7096377080565466E-2,6.3837387853235894E-2,6.6154672349785226E-3,null,1.8143089681516678E-2,0,0,1.9983698776999015E-2]
[2012,"posiciones",{"$f":"(C10/C4-1)","v":1.7452006980802848E-2},{"$f":"(D10/D4-1)","v":3.1468531468531458E-2},0,0,7.182320441988943E-2,0,7.6923076923076872E-2,0.12149532710280364,2.3640661938534313E-2,4.1666666666666741E-2,null,0.12328767123287676,2.6415094339622636E-2,0.26666666666666661,4.355400696864109E-2,null,0.16091954022988508,0,1.8181818181818077E-2,3.7944187914073391E-2]
[2012,"transformadores",{"$f":"(C11/C5-1)","v":5.8737151248164476E-2},{"$f":"(D11/D5-1)","v":0.14727540500736369},0,7.1174377224199281E-2,8.6642599277978238E-2,0,0,null,0,0.11764705882352944,null,0,0,null,0,null,0,0,0.34375,7.661623568311593E-2]
[2013,"líneas ",{"$f":"datos_RdT!C34","v":5831.5668733632301},{"$f":"datos_RdT!D34","v":3136.9887575067251},{"$f":"datos_RdT!E34","v":911.90198446157524},{"$f":"datos_RdT!F34","v":1543.5309999999995},{"$f":"datos_RdT!G34","v":2233.090731522359},{"$f":"datos_RdT!H34","v":1289.05},{"$f":"datos_RdT!I34","v":515.4004972645256},{"$f":"datos_RdT!J34","v":4035.0151355339185},{"$f":"datos_RdT!K34","v":7777.4318936893524},{"$f":"datos_RdT!L34","v":4533.230445968099},{"$f":"datos_RdT!M34","v":0},{"$f":"datos_RdT!N34","v":2858.7098254597313},{"$f":"datos_RdT!O34","v":2531.455727272727},{"$f":"datos_RdT!P34","v":271.2813018831659},{"$f":"datos_RdT!Q34","v":2086.0125765135676},{"$f":"datos_RdT!R34","v":0},{"$f":"datos_RdT!S34","v":815.38587708924194},{"$f":"datos_RdT!T34","v":494.79909044691829},{"$f":"datos_RdT!U34","v":1250.1620220248633},{"$f":"SUM(C15:U15)","v":42115.013740000002},null,{"$f":"V15-D15","v":38978.024982493276}]
[2013,"posiciones",{"$f":"datos_RdT!C39","v":607},{"$f":"datos_RdT!D39","v":302},{"$f":"datos_RdT!E39","v":97},{"$f":"datos_RdT!F39","v":506},{"$f":"datos_RdT!G39","v":414},{"$f":"datos_RdT!H39","v":403},{"$f":"datos_RdT!I39","v":56},{"$f":"datos_RdT!J39","v":243},{"$f":"datos_RdT!K39","v":433},{"$f":"datos_RdT!L39","v":708},{"$f":"datos_RdT!M39","v":0},{"$f":"datos_RdT!N39","v":190},{"$f":"datos_RdT!O39","v":285},{"$f":"datos_RdT!P39","v":38},{"$f":"datos_RdT!Q39","v":620},{"$f":"datos_RdT!R39","v":0},{"$f":"datos_RdT!S39","v":107},{"$f":"datos_RdT!T39","v":77},{"$f":"datos_RdT!U39","v":224},{"$f":"SUM(C16:U16)+W16","v":5317},{"$f":"datos_RdT!W39","v":7},{"$f":"V16-D16","v":5015}]
[2013,"transformadores",{"$f":"datos_RdT!C41","v":14420},{"$f":"datos_RdT!D41","v":4674},{"$f":"datos_RdT!E41","v":1299.1999999999998},{"$f":"datos_RdT!F41","v":2793},{"$f":"datos_RdT!G41","v":7600},{"$f":"datos_RdT!H41","v":1625},{"$f":"datos_RdT!I41","v":2100},{"$f":"datos_RdT!J41","v":1200},{"$f":"datos_RdT!K41","v":6131},{"$f":"datos_RdT!L41","v":10450},{"$f":"datos_RdT!M41","v":0},{"$f":"datos_RdT!N41","v":2398.875},{"$f":"datos_RdT!O41","v":5700},{"$f":"datos_RdT!P41","v":600},{"$f":"datos_RdT!Q41","v":10348.4},{"$f":"datos_RdT!R41","v":0},{"$f":"datos_RdT!S41","v":3150},{"$f":"datos_RdT!T41","v":1600},{"$f":"datos_RdT!U41","v":4300},{"$f":"SUM(C17:U17)","v":80389.474999999991},{"$f":"datos_RdT!W41","v":900},{"$f":"V17-D17","v":75715.474999999991}]
[2013,"líneas ",{"$f":"(C15/C9-1)","v":2.8019243556657081E-2},{"$f":"(D15/D9-1)","v":1.9130281555956863E-4},8.0788113437251896E-2,0,5.0084108377836056E-2,0,0,0,0,0,null,0.17165913349966555,-2.2204460492503131E-16,0,3.3119676684374433E-3,null,0,0,3.6448409960246009E-2,1.9459472863349481E-2]
[2013,"posiciones",{"$f":"(C16/C10-1)","v":4.116638078902235E-2},{"$f":"(D16/D10-1)","v":2.3728813559322104E-2},0.10227272727272729,3.9682539682539542E-3,6.7010309278350499E-2,0,0,1.2499999999999956E-2,0,1.1428571428571344E-2,null,0.15853658536585358,4.7794117647058876E-2,0,3.5058430717863187E-2,null,5.9405940594059459E-2,2.6666666666666616E-2,0,2.8433268858800709E-2]
[2013,"transformadores",{"$f":"(C17/C11-1)","v":0},{"$f":"(D17/D11-1)","v":0},0,0.15988372093023262,9.966777408637828E-3,0,0.39999999999999991,{"$f":"(J17/J11-1)","v":0},0,0,null,0.33354179695643116,0,null,0,null,0,0.60000000000000009,0,2.8926343099067386E-2]
[2014,"líneas ",{"$f":"datos_RdT!C48","v":5938.1073733632311},{"$f":"datos_RdT!D48","v":3136.9887575067251},{"$f":"datos_RdT!E48","v":911.90198446157524},{"$f":"datos_RdT!F48","v":1544.9819999999995},{"$f":"datos_RdT!G48","v":2274.0187315223588},{"$f":"datos_RdT!H48","v":1289.135},{"$f":"datos_RdT!I48","v":515.4004972645256},{"$f":"datos_RdT!J48","v":4075.2651355339185},{"$f":"datos_RdT!K48","v":7777.4318936893524},{"$f":"datos_RdT!L48","v":4688.3294459680992},{"$f":"datos_RdT!M48","v":0},{"$f":"datos_RdT!N48","v":3095.8823254597314},{"$f":"datos_RdT!O48","v":2537.8847272727276},{"$f":"datos_RdT!P48","v":271.2813018831659},{"$f":"datos_RdT!Q48","v":2092.7055765135669},{"$f":"datos_RdT!R48","v":0},{"$f":"datos_RdT!S48","v":815.38587708924194},{"$f":"datos_RdT!T48","v":494.79909044691829},{"$f":"datos_RdT!U48","v":1250.1620220248633},{"$f":"SUM(C21:U21)","v":42709.661740000003},null,{"$f":"V21-D21","v":39572.672982493277}]
[2014,"posiciones",{"$f":"datos_RdT!C53","v":611},{"$f":"datos_RdT!D53","v":302},{"$f":"datos_RdT!E53","v":97},{"$f":"datos_RdT!F53","v":530},{"$f":"datos_RdT!G53","v":434},{"$f":"datos_RdT!H53","v":409},{"$f":"datos_RdT!I53","v":56},{"$f":"datos_RdT!J53","v":249},{"$f":"datos_RdT!K53","v":434},{"$f":"datos_RdT!L53","v":725},{"$f":"datos_RdT!M53","v":0},{"$f":"datos_RdT!N53","v":191},{"$f":"datos_RdT!O53","v":288},{"$f":"datos_RdT!P53","v":38},{"$f":"datos_RdT!Q53","v":624},{"$f":"datos_RdT!R53","v":0},{"$f":"datos_RdT!S53","v":115},{"$f":"datos_RdT!T53","v":77},{"$f":"datos_RdT!U53","v":225},{"$f":"SUM(C22:U22)+W22","v":5412},{"$f":"datos_RdT!W53","v":7},{"$f":"V22-D22","v":5110}]
[2014,"transformadores",{"$f":"datos_RdT!C55","v":14420},{"$f":"datos_RdT!D55","v":4674},{"$f":"datos_RdT!E55","v":1299.1999999999998},{"$f":"datos_RdT!F55","v":2793},{"$f":"datos_RdT!G55","v":7600},{"$f":"datos_RdT!H55","v":1875},{"$f":"datos_RdT!I55","v":2100},{"$f":"datos_RdT!J55","v":1200},{"$f":"datos_RdT!K55","v":6131},{"$f":"datos_RdT!L55","v":11650},{"$f":"datos_RdT!M55","v":0},{"$f":"datos_RdT!N55","v":2398.875},{"$f":"datos_RdT!O55","v":5700},{"$f":"datos_RdT!P55","v":600},{"$f":"datos_RdT!Q55","v":11548.4},{"$f":"datos_RdT!R55","v":0},{"$f":"datos_RdT!S55","v":3150},{"$f":"datos_RdT!T55","v":1600},{"$f":"datos_RdT!U55","v":4300},{"$f":"SUM(C23:U23)","v":83039.474999999991},{"$f":"datos_RdT!W55","v":900},{"$f":"V23-D23","v":78365.474999999991}]
[2014,"líneas ",{"$f":"(C21/C15-1)","v":1.8269618151280254E-2},{"$f":"(D21/D15-1)","v":0},0,9.4005238637895339E-4,1.83279610730811E-2,6.5940033358025119E-5,0,9.9751794350269041E-3,0,3.4213791213271838E-2,null,8.2964873834950659E-2,2.5396454422399461E-3,0,3.2085137335009506E-3,null,0,0,0,1.4119620230236718E-2]
[2014,"posiciones",{"$f":"(C22/C16-1)","v":6.5897858319605707E-3},{"$f":"(D22/D16-1)","v":0},0,4.743083003952564E-2,4.8309178743961345E-2,1.4888337468982549E-2,0,2.4691358024691468E-2,2.3094688221709792E-3,2.4011299435028333E-2,null,5.2631578947368585E-3,1.0526315789473717E-2,0,6.4516129032257119E-3,null,7.4766355140186924E-2,0,4.4642857142858094E-3,1.7867218356215853E-2]
[2014,"transformadores",{"$f":"(C23/C17-1)","v":0},{"$f":"(D23/D17-1)","v":0},0,0,0,0.15384615384615374,0,0,0,0.1148325358851674,null,0,0,0,0.11595995516215063,null,0,0,0,3.2964514322304073E-2]
[2015,"líneas ",{"$f":"datos_RdT!C62","v":5970.1973733632312},{"$f":"datos_RdT!D62","v":3180.3387575067245},{"$f":"datos_RdT!E62","v":911.90198446157524},{"$f":"datos_RdT!F62","v":1673.694},{"$f":"datos_RdT!G62","v":2282.157731522359},{"$f":"datos_RdT!H62","v":1346.9589999999998},{"$f":"datos_RdT!I62","v":533.60049726452564},{"$f":"datos_RdT!J62","v":4075.2651355339185},{"$f":"datos_RdT!K62","v":7778.8428936893524},{"$f":"datos_RdT!L62","v":4705.9894459680991},{"$f":"datos_RdT!M62","v":0},{"$f":"datos_RdT!N62","v":3169.7523254597318},{"$f":"datos_RdT!O62","v":2537.8847272727276},{"$f":"datos_RdT!P62","v":271.2813018831659},{"$f":"datos_RdT!Q62","v":2092.7055765135669},{"$f":"datos_RdT!R62","v":0},{"$f":"datos_RdT!S62","v":815.38587708924194},{"$f":"datos_RdT!T62","v":494.79909044691829},{"$f":"datos_RdT!U62","v":1286.0580220248632},43126.813740000005,null,{"$f":"V27-D27","v":39946.474982493281}]
[2015,"posiciones",{"$f":"datos_RdT!C67","v":631},{"$f":"datos_RdT!D67","v":312},{"$f":"datos_RdT!E67","v":97},{"$f":"datos_RdT!F67","v":563},{"$f":"datos_RdT!G67","v":444},{"$f":"datos_RdT!H67","v":424},{"$f":"datos_RdT!I67","v":65},{"$f":"datos_RdT!J67","v":249},{"$f":"datos_RdT!K67","v":461},{"$f":"datos_RdT!L67","v":734},{"$f":"datos_RdT!M67","v":0},{"$f":"datos_RdT!N67","v":191},{"$f":"datos_RdT!O67","v":288},{"$f":"datos_RdT!P67","v":38},{"$f":"datos_RdT!Q67","v":624},{"$f":"datos_RdT!R67","v":0},{"$f":"datos_RdT!S67","v":117},{"$f":"datos_RdT!T67","v":77},{"$f":"datos_RdT!U67","v":226},{"$f":"SUM(C28:U28)+W28","v":5548},{"$f":"datos_RdT!W67","v":7},{"$f":"V28-D28","v":5236}]
[2015,"transformadores",{"$f":"datos_RdT!C69","v":14420},{"$f":"datos_RdT!D69","v":4674},{"$f":"datos_RdT!E69","v":1299.1999999999998},{"$f":"datos_RdT!F69","v":3273},{"$f":"datos_RdT!G69","v":7600},{"$f":"datos_RdT!H69","v":2000},{"$f":"datos_RdT!I69","v":2100},{"$f":"datos_RdT!J69","v":1200},{"$f":"datos_RdT!K69","v":6131},{"$f":"datos_RdT!L69","v":11650},{"$f":"datos_RdT!M69","v":0},{"$f":"datos_RdT!N69","v":2398.875},{"$f":"datos_RdT!O69","v":5700},{"$f":"datos_RdT!P69","v":600},{"$f":"datos_RdT!Q69","v":11548.4},{"$f":"datos_RdT!R69","v":0},{"$f":"datos_RdT!S69","v":3150},{"$f":"datos_RdT!T69","v":1600},{"$f":"datos_RdT!U69","v":4300},{"$f":"SUM(C29:U29)","v":83644.474999999991},{"$f":"datos_RdT!W69","v":900},{"$f":"V29-D29","v":78970.474999999991}]
[2015,"líneas ",{"$f":"(C27/C21-1)","v":5.4040787716211902E-3},{"$f":"(D27/D21-1)","v":1.3818984813466217E-2},0,8.3309708462623089E-2,3.5791261906410465E-3,4.4854883313229399E-2,3.5312344665160422E-2,0,1.8142235371354509E-4,3.7668001371335968E-3,null,2.3860726033581026E-2,0,0,0,null,0,0,2.8713078279133608E-2,9.7671576642179847E-3]
[2015,"posiciones",{"$f":"(C28/C22-1)","v":3.2733224222585955E-2},{"$f":"(D28/D22-1)","v":3.3112582781456901E-2},0,6.2264150943396324E-2,2.3041474654377891E-2,3.6674816625916762E-2,0.16071428571428581,0,6.2211981566820285E-2,1.2413793103448256E-2,null,0,0,0,0,null,1.7391304347825987E-2,0,4.4444444444444731E-3,2.512934220251295E-2]
[2015,"transformadores",{"$f":"(C29/C23-1)","v":0},{"$f":"(D29/D23-1)","v":0},0,0.17185821697099901,0,6.6666666666666652E-2,0,0,0,0,null,0,0,0,0,null,0,0,0,7.2856915340564488E-3]
[2016,"líneas ",{"$f":"datos_RdT!C76","v":5995.143578413732},{"$f":"datos_RdT!D76","v":3369.4749404737258},{"$f":"datos_RdT!E76","v":949.52116425955512},{"$f":"datos_RdT!F76","v":1800.0329999999994},{"$f":"datos_RdT!G76","v":2392.5374715223593},{"$f":"datos_RdT!H76","v":1354.1649999999997},{"$f":"datos_RdT!I76","v":533.59970433523267},{"$f":"datos_RdT!J76","v":4075.2644960363059},{"$f":"datos_RdT!K76","v":7778.8428936893524},{"$f":"datos_RdT!L76","v":4723.8461918899857},{"$f":"datos_RdT!M76","v":0},{"$f":"datos_RdT!N76","v":3169.7484580355313},{"$f":"datos_RdT!O76","v":2664.4167272727277},{"$f":"datos_RdT!P76","v":271.2813018831659},{"$f":"datos_RdT!Q76","v":2092.696025657609},{"$f":"datos_RdT!R76","v":0},{"$f":"datos_RdT!S76","v":831.98187708924195},{"$f":"datos_RdT!T76","v":494.79007024489812},{"$f":"datos_RdT!U76","v":1286.0873434343434},{"$f":"datos_RdT!V76","v":43783.430244237774},null,{"$f":"V33-D33","v":40413.955303764051}]
[2016,"posiciones",{"$f":"datos_RdT!C81","v":634},{"$f":"datos_RdT!D81","v":312},{"$f":"datos_RdT!E81","v":97},{"$f":"datos_RdT!F81","v":571},{"$f":"datos_RdT!G81","v":464},{"$f":"datos_RdT!H81","v":444},{"$f":"datos_RdT!I81","v":65},{"$f":"datos_RdT!J81","v":250},{"$f":"datos_RdT!K81","v":462},{"$f":"datos_RdT!L81","v":734},{"$f":"datos_RdT!M81","v":0},{"$f":"datos_RdT!N81","v":191},{"$f":"datos_RdT!O81","v":294},{"$f":"datos_RdT!P81","v":38},{"$f":"datos_RdT!Q81","v":626},{"$f":"datos_RdT!R81","v":0},{"$f":"datos_RdT!S81","v":117},{"$f":"datos_RdT!T81","v":77},{"$f":"datos_RdT!U81","v":228},{"$f":"datos_RdT!V81","v":5611},{"$f":"datos_RdT!W81","v":7},{"$f":"V34-D34","v":5299}]
[2016,"transformadores",{"$f":"datos_RdT!C83","v":14420},{"$f":"datos_RdT!D83","v":4974},{"$f":"datos_RdT!E83","v":1299.1999999999998},{"$f":"datos_RdT!F83","v":3273},{"$f":"datos_RdT!G83","v":8200},{"$f":"datos_RdT!H83","v":2000},{"$f":"datos_RdT!I83","v":2100},{"$f":"datos_RdT!J83","v":1200},{"$f":"datos_RdT!K83","v":6131},{"$f":"datos_RdT!L83","v":11650},{"$f":"datos_RdT!M83","v":0},{"$f":"datos_RdT!N83","v":2398.875},{"$f":"datos_RdT!O83","v":5700},{"$f":"datos_RdT!P83","v":600},{"$f":"datos_RdT!Q83","v":11548.4},{"$f":"datos_RdT!R83","v":0},{"$f":"datos_RdT!S83","v":3150},{"$f":"datos_RdT!T83","v":1600},{"$f":"datos_RdT!U83","v":4300},{"$f":"datos_RdT!V83","v":85444.474999999991},{"$f":"datos_RdT!W83","v":900},{"$f":"V35-D35","v":80470.474999999991}]
[2016,"líneas ",{"$f":"(C33/C27-1)","v":4.1784556674460127E-3},{"$f":"(D33/D27-1)","v":5.9470451856920237E-2},4.1253534304119155E-2,7.548512452096956E-2,4.8366393994322854E-2,5.3498287624196283E-3,-1.4859980398407302E-6,-1.5692171950743017E-7,0,3.794472156580353E-3,null,-1.2201029617742165E-6,4.9857268393736165E-2,0,-4.5638794415880923E-6,null,2.0353553411109226E-2,-1.8230029509624934E-5,2.2799445264620744E-5,1.5225249613763037E-2]
[2016,"posiciones",{"$f":"(C34/C28-1)","v":4.7543581616482644E-3},{"$f":"(D34/D28-1)","v":0},0,1.4209591474245054E-2,4.5045045045045029E-2,4.7169811320754818E-2,0,4.0160642570281624E-3,2.1691973969630851E-3,0,null,0,2.0833333333333259E-2,0,3.2051282051281937E-3,null,0,0,8.8495575221239076E-3,1.1355443403028076E-2]
[2016,"transformadores",{"$f":"(C35/C29-1)","v":0},{"$f":"(D35/D29-1)","v":6.4184852374839618E-2},0,0,7.8947368421052655E-2,0,0,0,0,0,null,0,0,0,0,null,0,0,0,2.1519652075047357E-2]

{"sheet":"Año","index":13,"n_rows":7,"n_cols":2,"rows_kept":7,"cut":false,"hidden":true,"merged":[]}
[]
[null,2011]
[null,2012]
[null,2013]
[null,2014]
[null,2015]
[null,2016]

{"sheet":"datos_anual","index":14,"n_rows":38,"n_cols":22,"rows_kept":38,"cut":false,"hidden":true,"merged":[]}
[]
[null,"CCAA","Andalucía","Aragón","Asturias","Baleares","C. Valenciana","Canarias","Cantabria","Castilla-La Mancha","Castilla y León","Cataluña","Ceuta","Extremadura","Galicia","La Rioja","Madrid","Melilla","Murcia","Navarra","País Vasco","España"]
[2011,"Generación neta ",{"$f":"generacion_bruta!C19","v":38661.751842229583},{"$f":"generacion_bruta!D19","v":17942.014631947488},{"$f":"generacion_bruta!E19","v":12327.259870641556},{"$f":"generacion_bruta!F19","v":5742.8125380000001},{"$f":"generacion_bruta!G19","v":20160.478529768145},{"$f":"generacion_bruta!H19","v":8870.2354340000002},{"$f":"generacion_bruta!I19","v":2058.575785709178},{"$f":"generacion_bruta!J19","v":24310.990838823742},{"$f":"generacion_bruta!K19","v":34871.240990743041},{"$f":"generacion_bruta!L19","v":42182.054201440944},{"$f":"generacion_bruta!M19","v":202.977},{"$f":"generacion_bruta!N19","v":20696.908716892831},{"$f":"generacion_bruta!O19","v":26680.549387738756},{"$f":"generacion_bruta!P19","v":2363.7590232454372},{"$f":"generacion_bruta!Q19","v":1749.7491972275393},{"$f":"generacion_bruta!R19","v":214.906587},{"$f":"generacion_bruta!S19","v":8093.5280431929386},{"$f":"generacion_bruta!T19","v":5630.2602702411095},{"$f":"generacion_bruta!U19","v":7173.8454021576963},{"$f":"SUM(C3:U3)","v":279933.89829099999}]
[null,"Consumos en bombeo",{"$f":"generacion_bruta!C20","v":-301.62200000000001},{"$f":"generacion_bruta!D20","v":-278.55099999999999},{"$f":"generacion_bruta!E20","v":-25.335000000000001},{"$f":"generacion_bruta!F20","v":0},{"$f":"generacion_bruta!G20","v":-1126.2059999999999},{"$f":"generacion_bruta!H20","v":0},{"$f":"generacion_bruta!I20","v":-498.87799999999999},{"$f":"generacion_bruta!J20","v":-129.73400000000001},{"$f":"generacion_bruta!K20","v":-367.04399999999998},{"$f":"generacion_bruta!L20","v":-276.00299999999999},{"$f":"generacion_bruta!M20","v":0},{"$f":"generacion_bruta!N20","v":-62.634},{"$f":"generacion_bruta!O20","v":-148.95500000000001},{"$f":"generacion_bruta!P20","v":0},{"$f":"generacion_bruta!Q20","v":0},{"$f":"generacion_bruta!R20","v":0},{"$f":"generacion_bruta!S20","v":0},{"$f":"generacion_bruta!T20","v":0},{"$f":"generacion_bruta!U20","v":0},{"$f":"SUM(C4:U4)","v":-3214.962}]
[null,"Saldo Intercambios",{"$f":"generacion_bruta!C21","v":1613.575},{"$f":"generacion_bruta!D21","v":-7260.3310000000001},{"$f":"generacion_bruta!E21","v":-1342.4449999999999},{"$f":"generacion_bruta!F21","v":0.47599999999999998},{"$f":"generacion_bruta!G21","v":8191.6689999999999},{"$f":"generacion_bruta!H21","v":0},{"$f":"generacion_bruta!I21","v":2912.8490000000002},{"$f":"generacion_bruta!J21","v":-12181.779},{"$f":"generacion_bruta!K21","v":-20964.058000000001},{"$f":"generacion_bruta!L21","v":6288.4859999999999},{"$f":"generacion_bruta!M21","v":0},{"$f":"generacion_bruta!N21","v":-15916.135},{"$f":"generacion_bruta!O21","v":-6691.6289999999999},{"$f":"generacion_bruta!P21","v":-615.81299999999999},{"$f":"generacion_bruta!Q21","v":29804.43},{"$f":"generacion_bruta!R21","v":0},{"$f":"generacion_bruta!S21","v":231.07},{"$f":"generacion_bruta!T21","v":-683.66899999999998},{"$f":"generacion_bruta!U21","v":10523.174000000001},-6090.1300000000028]
[null,"Demanda B.C",{"$f":"generacion_bruta!C22","v":39973.704842229577},{"$f":"generacion_bruta!D22","v":10403.132631947488},{"$f":"generacion_bruta!E22","v":10959.479870641557},{"$f":"generacion_bruta!F22","v":5743.2885379999998},{"$f":"generacion_bruta!G22","v":27225.941529768148},{"$f":"generacion_bruta!H22","v":8870.2354340000002},{"$f":"generacion_bruta!I22","v":4472.546785709178},{"$f":"generacion_bruta!J22","v":11999.477838823741},{"$f":"generacion_bruta!K22","v":13540.138990743038},{"$f":"generacion_bruta!L22","v":48194.537201440944},{"$f":"generacion_bruta!M22","v":202.977},{"$f":"generacion_bruta!N22","v":4718.1397168928324},{"$f":"generacion_bruta!O22","v":19839.965387738754},{"$f":"generacion_bruta!P22","v":1747.9460232454371},{"$f":"generacion_bruta!Q22","v":31554.179197227539},{"$f":"generacion_bruta!R22","v":214.906587},{"$f":"generacion_bruta!S22","v":8324.5980431929383},{"$f":"generacion_bruta!T22","v":4946.5912702411097},{"$f":"generacion_bruta!U22","v":17697.019402157697},270628.80629099999]
[null,"Renovable",{"$f":"generacion_bruta!C52","v":11275.895321939148},{"$f":"generacion_bruta!D24","v":6822.6374389474904},{"$f":"generacion_bruta!E24","v":2597.0043446415561},{"$f":"generacion_bruta!F24","v":107.04901399999999},{"$f":"generacion_bruta!G24","v":2984.2012557681455},{"$f":"generacion_bruta!H24","v":621.11871199999996},{"$f":"generacion_bruta!I24","v":358.2415727091784},{"$f":"generacion_bruta!J24","v":9890.8598068237425},{"$f":"generacion_bruta!K24","v":18627.477046743043},{"$f":"generacion_bruta!L24","v":6226.1472304409472},{"$f":"generacion_bruta!M24","v":0},{"$f":"generacion_bruta!N24","v":5373.5010058928283},{"$f":"generacion_bruta!O24","v":14344.942858738754},{"$f":"generacion_bruta!P24","v":1220.1728132454373},{"$f":"generacion_bruta!Q24","v":615.63213222753939},{"$f":"generacion_bruta!R24","v":7.1472000000000008E-2},{"$f":"generacion_bruta!S24","v":1096.3278921929393},{"$f":"generacion_bruta!T24","v":3597.1037402411098},{"$f":"generacion_bruta!U24","v":845.92086515769472},{"$f":"SUM(C7:U7)","v":86604.304523709565}]
[null,"No renovable",{"$f":"generacion_bruta!C53","v":26454.420355000002},{"$f":"generacion_bruta!D25","v":10924.391492999999},{"$f":"generacion_bruta!E25","v":9712.5210260000003},{"$f":"generacion_bruta!F25","v":5635.763524},{"$f":"generacion_bruta!G25","v":16387.933074},{"$f":"generacion_bruta!H25","v":8249.1167219999988},{"$f":"generacion_bruta!I25","v":1351.1196129999998},{"$f":"generacion_bruta!J25","v":14329.317231999999},{"$f":"generacion_bruta!K25","v":15986.833143999998},{"$f":"generacion_bruta!L25","v":35762.704871000002},{"$f":"generacion_bruta!M25","v":202.977},{"$f":"generacion_bruta!N25","v":15279.563911000001},{"$f":"generacion_bruta!O25","v":12231.338029},{"$f":"generacion_bruta!P25","v":1143.5862099999999},{"$f":"generacion_bruta!Q25","v":1134.1170649999999},{"$f":"generacion_bruta!R25","v":214.835115},{"$f":"generacion_bruta!S25","v":6997.2001509999991},{"$f":"generacion_bruta!T25","v":2033.1565300000002},{"$f":"generacion_bruta!U25","v":6327.9245370000008},{"$f":"SUM(C8:U8)","v":190358.81960200006}]
[2012,"Generación neta ",{"$f":"generacion_bruta!C47","v":38034.558076939145},{"$f":"generacion_bruta!D47","v":16619.003262677419},{"$f":"generacion_bruta!E47","v":14352.795124742668},{"$f":"generacion_bruta!F47","v":5252.3505400000004},{"$f":"generacion_bruta!G47","v":20250.408167514455},{"$f":"generacion_bruta!H47","v":8892.5404590000016},{"$f":"generacion_bruta!I47","v":2627.7780263543632},{"$f":"generacion_bruta!J47","v":24866.883025895495},{"$f":"generacion_bruta!K47","v":35310.082408160772},{"$f":"generacion_bruta!L47","v":44093.24259633715},{"$f":"generacion_bruta!M47","v":212.07499999999999},{"$f":"generacion_bruta!N47","v":18509.402184477112},{"$f":"generacion_bruta!O47","v":29240.855462622596},{"$f":"generacion_bruta!P47","v":2765.1649409398856},{"$f":"generacion_bruta!Q47","v":1670.499508996345},{"$f":"generacion_bruta!R47","v":217.353072},{"$f":"generacion_bruta!S47","v":6413.7584412570177},{"$f":"generacion_bruta!T47","v":5550.9788074892567},{"$f":"generacion_bruta!U47","v":8501.5650015963256},283381.29410700005]
[null,"Consumos en bombeo",{"$f":"generacion_bruta!C48","v":-434.63200000000001},{"$f":"generacion_bruta!D48","v":-351.54199999999997},{"$f":"generacion_bruta!E48","v":-52.417999999999999},{"$f":"generacion_bruta!F48","v":0},{"$f":"generacion_bruta!G48","v":-1114.3420000000001},{"$f":"generacion_bruta!H48","v":0},{"$f":"generacion_bruta!I48","v":-795.60299999999995},{"$f":"generacion_bruta!J48","v":-156.03200000000001},{"$f":"generacion_bruta!K48","v":-1401.482},{"$f":"generacion_bruta!L48","v":-381.44099999999997},{"$f":"generacion_bruta!M48","v":0},{"$f":"generacion_bruta!N48","v":-15.193},{"$f":"generacion_bruta!O48","v":-319.86399999999998},{"$f":"generacion_bruta!P48","v":0},{"$f":"generacion_bruta!Q48","v":0},{"$f":"generacion_bruta!R48","v":0},{"$f":"generacion_bruta!S48","v":0},{"$f":"generacion_bruta!T48","v":0},{"$f":"generacion_bruta!U48","v":0},-5022.549]
[null,"Saldo Intercambios",{"$f":"generacion_bruta!C49","v":2108.9369999999999},{"$f":"generacion_bruta!D49","v":-6028.7219999999998},{"$f":"generacion_bruta!E49","v":-3960.9540000000002},{"$f":"generacion_bruta!F49","v":570.25099999999998},{"$f":"generacion_bruta!G49","v":7340.41},{"$f":"generacion_bruta!H49","v":0},{"$f":"generacion_bruta!I49","v":2567.3359999999998},{"$f":"generacion_bruta!J49","v":-12690.621999999999},{"$f":"generacion_bruta!K49","v":-20179.093000000001},{"$f":"generacion_bruta!L49","v":4039.2649999999999},{"$f":"generacion_bruta!M49","v":0},{"$f":"generacion_bruta!N49","v":-13604.637000000001},{"$f":"generacion_bruta!O49","v":-9270.3029999999999},{"$f":"generacion_bruta!P49","v":-1032.2829999999999},{"$f":"generacion_bruta!Q49","v":29330.89},{"$f":"generacion_bruta!R49","v":0},{"$f":"generacion_bruta!S49","v":2193.3490000000002},{"$f":"generacion_bruta!T49","v":-752.15},{"$f":"generacion_bruta!U49","v":8168.3720000000003},-11199.954000000009]
[null,"Demanda B.C",{"$f":"generacion_bruta!C50","v":39708.863076939146},{"$f":"generacion_bruta!D50","v":10238.73926267742},{"$f":"generacion_bruta!E50","v":10339.423124742669},{"$f":"generacion_bruta!F50","v":5822.6015400000006},{"$f":"generacion_bruta!G50","v":26476.476167514455},{"$f":"generacion_bruta!H50","v":8892.5404590000016},{"$f":"generacion_bruta!I50","v":4399.5110263543629},{"$f":"generacion_bruta!J50","v":12020.229025895496},{"$f":"generacion_bruta!K50","v":13729.507408160767},{"$f":"generacion_bruta!L50","v":47751.06659633715},{"$f":"generacion_bruta!M50","v":212.07499999999999},{"$f":"generacion_bruta!N50","v":4889.5721844771124},{"$f":"generacion_bruta!O50","v":19650.688462622595},{"$f":"generacion_bruta!P50","v":1732.8819409398857},{"$f":"generacion_bruta!Q50","v":31001.389508996344},{"$f":"generacion_bruta!R50","v":217.353072},{"$f":"generacion_bruta!S50","v":8607.1074412570179},{"$f":"generacion_bruta!T50","v":4798.8288074892571},{"$f":"generacion_bruta!U50","v":16669.937001596325},267158.79110699997]
[null,"Renovable",{"$f":"generacion_bruta!C52","v":11275.895321939148},{"$f":"generacion_bruta!D52","v":7334.8341576774174},{"$f":"generacion_bruta!E52","v":2755.8741977426698},{"$f":"generacion_bruta!F52","v":122.667798},{"$f":"generacion_bruta!G52","v":3563.0547825144522},{"$f":"generacion_bruta!H52","v":628.12245899999982},{"$f":"generacion_bruta!I52","v":401.53453935436363},{"$f":"generacion_bruta!J52","v":11157.463895895498},{"$f":"generacion_bruta!K52","v":16958.04359816077},{"$f":"generacion_bruta!L52","v":6648.4108173371487},{"$f":"generacion_bruta!M52","v":0},{"$f":"generacion_bruta!N52","v":3419.6632844771129},{"$f":"generacion_bruta!O52","v":13218.830000622591},{"$f":"generacion_bruta!P52","v":1286.1811999398856},{"$f":"generacion_bruta!Q52","v":443.97805499634489},{"$f":"generacion_bruta!R52","v":8.3113999999999993E-2},{"$f":"generacion_bruta!S52","v":1356.1069682570183},{"$f":"generacion_bruta!T52","v":3757.6114994892564},{"$f":"generacion_bruta!U52","v":891.30478359632434},{"$f":"generacion_bruta!V52","v":85219.660472999996}]
[null,"No renovable",{"$f":"generacion_bruta!C53","v":26454.420355000002},{"$f":"generacion_bruta!D53","v":9038.0897050000003},{"$f":"generacion_bruta!E53","v":11560.228326999999},{"$f":"generacion_bruta!F53","v":5129.682742},{"$f":"generacion_bruta!G53","v":15907.313985000001},{"$f":"generacion_bruta!H53","v":8264.4179999999997},{"$f":"generacion_bruta!I53","v":1669.3213869999997},{"$f":"generacion_bruta!J53","v":13600.19673},{"$f":"generacion_bruta!K53","v":17371.001410000001},{"$f":"generacion_bruta!L53","v":37177.823078999994},{"$f":"generacion_bruta!M53","v":212.07499999999999},{"$f":"generacion_bruta!N53","v":15079.103800000001},{"$f":"generacion_bruta!O53","v":15798.120662000001},{"$f":"generacion_bruta!P53","v":1478.983741},{"$f":"generacion_bruta!Q53","v":1226.5214539999999},{"$f":"generacion_bruta!R53","v":217.269958},{"$f":"generacion_bruta!S53","v":5057.6514729999999},{"$f":"generacion_bruta!T53","v":1793.3673079999999},{"$f":"generacion_bruta!U53","v":7610.2602180000004},{"$f":"generacion_bruta!V53","v":194645.84933400003}]
[2013,"Generación neta ",{"$f":"generacion_bruta!C75","v":34690.544745177831},{"$f":"generacion_bruta!D75","v":16784.274775950784},{"$f":"generacion_bruta!E75","v":13645.939433496729},{"$f":"generacion_bruta!F75","v":4405.0283459999991},{"$f":"generacion_bruta!G75","v":18832.584055799241},{"$f":"generacion_bruta!H75","v":8623.6832979999999},{"$f":"generacion_bruta!I75","v":2261.0702015213728},{"$f":"generacion_bruta!J75","v":22832.347446225001},{"$f":"generacion_bruta!K75","v":30891.434042465949},{"$f":"generacion_bruta!L75","v":45146.477276843514},{"$f":"generacion_bruta!M75","v":201.959},{"$f":"generacion_bruta!N75","v":20897.475772112226},{"$f":"generacion_bruta!O75","v":33085.095230834195},{"$f":"generacion_bruta!P75","v":1938.9037479909264},{"$f":"generacion_bruta!Q75","v":1632.4875044031969},{"$f":"generacion_bruta!R75","v":209.66712000000001},{"$f":"generacion_bruta!S75","v":5880.9623422798131},{"$f":"generacion_bruta!T75","v":5377.4295743842913},{"$f":"generacion_bruta!U75","v":6429.8689635149367},273767.232877]
[null,"Consumos en bombeo",{"$f":"generacion_bruta!C76","v":-470.70499999999998},{"$f":"generacion_bruta!D76","v":-367.52},{"$f":"generacion_bruta!E76","v":-77.28},{"$f":"generacion_bruta!F76","v":0},{"$f":"generacion_bruta!G76","v":-1520.008},{"$f":"generacion_bruta!H76","v":0},{"$f":"generacion_bruta!I76","v":-758.74900000000002},{"$f":"generacion_bruta!J76","v":-206.83},{"$f":"generacion_bruta!K76","v":-1728.923},{"$f":"generacion_bruta!L76","v":-335.16800000000001},{"$f":"generacion_bruta!M76","v":0},{"$f":"generacion_bruta!N76","v":-56.837000000000003},{"$f":"generacion_bruta!O76","v":-435.82600000000002},{"$f":"generacion_bruta!P76","v":0},{"$f":"generacion_bruta!Q76","v":0},{"$f":"generacion_bruta!R76","v":0},{"$f":"generacion_bruta!S76","v":0},{"$f":"generacion_bruta!T76","v":0},{"$f":"generacion_bruta!U76","v":0},-5957.8459999999995]
[null,"Saldo Intercambios",{"$f":"generacion_bruta!C77","v":3967.8980000000001},{"$f":"generacion_bruta!D77","v":-6311.9009999999998},{"$f":"generacion_bruta!E77","v":-3153.97},{"$f":"generacion_bruta!F77","v":1268.509},{"$f":"generacion_bruta!G77","v":8582.518},{"$f":"generacion_bruta!H77","v":0},{"$f":"generacion_bruta!I77","v":2883.1439999999998},{"$f":"generacion_bruta!J77","v":-10994.532999999999},{"$f":"generacion_bruta!K77","v":-15481.299000000001},{"$f":"generacion_bruta!L77","v":1461.7570000000001},{"$f":"generacion_bruta!M77","v":0},{"$f":"generacion_bruta!N77","v":-15974.308999999999},{"$f":"generacion_bruta!O77","v":-12778.904},{"$f":"generacion_bruta!P77","v":-234.66900000000001},{"$f":"generacion_bruta!Q77","v":28075.127},{"$f":"generacion_bruta!R77","v":0},{"$f":"generacion_bruta!S77","v":2433.7069999999999},{"$f":"generacion_bruta!T77","v":-601.34299999999996},{"$f":"generacion_bruta!U77","v":10126.138000000001},-6732.1299999999956]
[null,"Demanda B.C",{"$f":"generacion_bruta!C78","v":38187.73774517783},{"$f":"generacion_bruta!D78","v":10104.853775950784},{"$f":"generacion_bruta!E78","v":10414.689433496729},{"$f":"generacion_bruta!F78","v":5673.5373459999992},{"$f":"generacion_bruta!G78","v":25895.09405579924},{"$f":"generacion_bruta!H78","v":8623.6832979999999},{"$f":"generacion_bruta!I78","v":4385.4652015213724},{"$f":"generacion_bruta!J78","v":11630.984446225},{"$f":"generacion_bruta!K78","v":13681.21204246595},{"$f":"generacion_bruta!L78","v":46273.066276843514},{"$f":"generacion_bruta!M78","v":201.959},{"$f":"generacion_bruta!N78","v":4866.3297721122271},{"$f":"generacion_bruta!O78","v":19870.365230834192},{"$f":"generacion_bruta!P78","v":1704.2347479909263},{"$f":"generacion_bruta!Q78","v":29707.614504403198},{"$f":"generacion_bruta!R78","v":209.66712000000001},{"$f":"generacion_bruta!S78","v":8314.6693422798126},{"$f":"generacion_bruta!T78","v":4776.0865743842915},{"$f":"generacion_bruta!U78","v":16556.006963514938},261077.25687700004]
[null,"Renovable",{"$f":"generacion_bruta!C80","v":13614.269338177832},{"$f":"generacion_bruta!D80","v":9714.4913529507867},{"$f":"generacion_bruta!E80","v":3973.694913496729},{"$f":"generacion_bruta!F80","v":129.00139100000001},{"$f":"generacion_bruta!G80","v":3748.5228297992403},{"$f":"generacion_bruta!H80","v":660.87129800000002},{"$f":"generacion_bruta!I80","v":510.22175152137288},{"$f":"generacion_bruta!J80","v":12164.028551225001},{"$f":"generacion_bruta!K80","v":20995.479854465953},{"$f":"generacion_bruta!L80","v":9375.9152498435051},{"$f":"generacion_bruta!M80","v":0},{"$f":"generacion_bruta!N80","v":5729.8030731122235},{"$f":"generacion_bruta!O80","v":19786.007203834197},{"$f":"generacion_bruta!P80","v":1393.5198929909263},{"$f":"generacion_bruta!Q80","v":546.15845240319686},{"$f":"generacion_bruta!R80","v":8.2323000000000007E-2},{"$f":"generacion_bruta!S80","v":1578.264160279813},{"$f":"generacion_bruta!T80","v":4034.5761753842908},{"$f":"generacion_bruta!U80","v":1110.3751235149371},109065.28293500001]
[null,"No renovable",{"$f":"generacion_bruta!C81","v":20746.781907000001},{"$f":"generacion_bruta!D81","v":6812.5194229999997},{"$f":"generacion_bruta!E81","v":9618.1485199999988},{"$f":"generacion_bruta!F81","v":4276.0269549999994},{"$f":"generacion_bruta!G81","v":14020.055625999999},{"$f":"generacion_bruta!H81","v":7962.8119999999999},{"$f":"generacion_bruta!I81","v":1219.7241500000002},{"$f":"generacion_bruta!J81","v":10523.537894999999},{"$f":"generacion_bruta!K81","v":8685.7080879999994},{"$f":"generacion_bruta!L81","v":35535.944427000002},{"$f":"generacion_bruta!M81","v":201.959},{"$f":"generacion_bruta!N81","v":15127.886799},{"$f":"generacion_bruta!O81","v":12994.009827},{"$f":"generacion_bruta!P81","v":545.38385499999993},{"$f":"generacion_bruta!Q81","v":1086.329052},{"$f":"generacion_bruta!R81","v":209.58479700000001},{"$f":"generacion_bruta!S81","v":4302.6981820000001},{"$f":"generacion_bruta!T81","v":1342.8533990000001},{"$f":"generacion_bruta!U81","v":5319.4938400000001},160531.457742]
[2014,"Generación neta ",{"$f":"generacion_bruta!C103","v":31996.93892673936},{"$f":"generacion_bruta!D103","v":16533.562998845235},{"$f":"generacion_bruta!E103","v":13240.983253359971},{"$f":"generacion_bruta!F103","v":4287.1608610000003},{"$f":"generacion_bruta!G103","v":19960.815391500277},{"$f":"generacion_bruta!H103","v":8579.9686590000001},{"$f":"generacion_bruta!I103","v":1874.6405102376493},{"$f":"generacion_bruta!J103","v":22532.923787772292},{"$f":"generacion_bruta!K103","v":33914.995580039787},{"$f":"generacion_bruta!L103","v":41626.278954681969},{"$f":"generacion_bruta!M103","v":212.25299999999999},{"$f":"generacion_bruta!N103","v":21522.305791616964},{"$f":"generacion_bruta!O103","v":31287.529034026426},{"$f":"generacion_bruta!P103","v":1462.9330094950128},{"$f":"generacion_bruta!Q103","v":1305.4503008805523},{"$f":"generacion_bruta!R103","v":209.863147},{"$f":"generacion_bruta!S103","v":5367.0421564068711},{"$f":"generacion_bruta!T103","v":4771.9240567836523},{"$f":"generacion_bruta!U103","v":6179.4868886139784},266867.056308]
[null,"Consumos en bombeo",{"$f":"generacion_bruta!C104","v":-480.846},{"$f":"generacion_bruta!D104","v":-440.73599999999999},{"$f":"generacion_bruta!E104","v":-78.977999999999994},{"$f":"generacion_bruta!F104","v":0},{"$f":"generacion_bruta!G104","v":-1576.3030000000001},{"$f":"generacion_bruta!H104","v":0},{"$f":"generacion_bruta!I104","v":-851.23099999999999},{"$f":"generacion_bruta!J104","v":-100.736},{"$f":"generacion_bruta!K104","v":-1107.249},{"$f":"generacion_bruta!L104","v":-361.03100000000001},{"$f":"generacion_bruta!M104","v":0},{"$f":"generacion_bruta!N104","v":-70.938999999999993},{"$f":"generacion_bruta!O104","v":-261.54199999999997},{"$f":"generacion_bruta!P104","v":0},{"$f":"generacion_bruta!Q104","v":0},{"$f":"generacion_bruta!R104","v":0},{"$f":"generacion_bruta!S104","v":0},{"$f":"generacion_bruta!T104","v":0},{"$f":"generacion_bruta!U104","v":0},-5329.5910000000003]
[null,"Saldo Intercambios",{"$f":"generacion_bruta!C105","v":6021.9880000000003},{"$f":"generacion_bruta!D105","v":-6003.143},{"$f":"generacion_bruta!E105","v":-2849.3580000000002},{"$f":"generacion_bruta!F105","v":1298.2660000000001},{"$f":"generacion_bruta!G105","v":7501.3590000000004},{"$f":"generacion_bruta!H105","v":0},{"$f":"generacion_bruta!I105","v":3298.2020000000002},{"$f":"generacion_bruta!J105","v":-10781.332},{"$f":"generacion_bruta!K105","v":-19250.760999999999},{"$f":"generacion_bruta!L105","v":4357.0429999999997},{"$f":"generacion_bruta!M105","v":0},{"$f":"generacion_bruta!N105","v":-16813.589},{"$f":"generacion_bruta!O105","v":-11276.998},{"$f":"generacion_bruta!P105","v":227.452},{"$f":"generacion_bruta!Q105","v":27142.168000000001},{"$f":"generacion_bruta!R105","v":0},{"$f":"generacion_bruta!S105","v":3101.6260000000002},{"$f":"generacion_bruta!T105","v":8.0660000000000007},{"$f":"generacion_bruta!U105","v":10612.884},-3406.1269999999968]
[null,"Demanda B.C",{"$f":"generacion_bruta!C106","v":37538.080926739356},{"$f":"generacion_bruta!D106","v":10089.683998845234},{"$f":"generacion_bruta!E106","v":10312.647253359972},{"$f":"generacion_bruta!F106","v":5585.4268609999999},{"$f":"generacion_bruta!G106","v":25885.871391500277},{"$f":"generacion_bruta!H106","v":8579.9686590000001},{"$f":"generacion_bruta!I106","v":4321.6115102376498},{"$f":"generacion_bruta!J106","v":11650.855787772291},{"$f":"generacion_bruta!K106","v":13556.985580039785},{"$f":"generacion_bruta!L106","v":45622.190954681966},{"$f":"generacion_bruta!M106","v":212.25299999999999},{"$f":"generacion_bruta!N106","v":4637.7777916169653},{"$f":"generacion_bruta!O106","v":19748.989034026425},{"$f":"generacion_bruta!P106","v":1690.3850094950128},{"$f":"generacion_bruta!Q106","v":28447.618300880553},{"$f":"generacion_bruta!R106","v":209.863147},{"$f":"generacion_bruta!S106","v":8468.6681564068713},{"$f":"generacion_bruta!T106","v":4779.9900567836521},{"$f":"generacion_bruta!U106","v":16792.370888613979},258131.23830799997]
[null,"Renovable",{"$f":"generacion_bruta!C108","v":12509.478297739362},{"$f":"generacion_bruta!D108","v":9019.5222568452336},{"$f":"generacion_bruta!E108","v":3679.8169653599684},{"$f":"generacion_bruta!F108","v":130.558628},{"$f":"generacion_bruta!G108","v":3935.5805465002741},{"$f":"generacion_bruta!H108","v":685.61165900000003},{"$f":"generacion_bruta!I108","v":446.87722723764932},{"$f":"generacion_bruta!J108","v":11987.387485772291},{"$f":"generacion_bruta!K108","v":23451.191182039784},{"$f":"generacion_bruta!L108","v":8759.2220836819743},{"$f":"generacion_bruta!M108","v":0},{"$f":"generacion_bruta!N108","v":6256.8011286169685},{"$f":"generacion_bruta!O108","v":18882.972201026423},{"$f":"generacion_bruta!P108","v":1243.5314844950128},{"$f":"generacion_bruta!Q108","v":568.92204988055232},{"$f":"generacion_bruta!R108","v":8.3833000000000019E-2},{"$f":"generacion_bruta!S108","v":1534.0904074068706},{"$f":"generacion_bruta!T108","v":3692.1335737836516},{"$f":"generacion_bruta!U108","v":944.36435261397821},{"$f":"generacion_bruta!V108","v":107728.14536299999}]
[null,"No renovable",{"$f":"generacion_bruta!C109","v":19150.868428999998},{"$f":"generacion_bruta!D109","v":7205.5255419999994},{"$f":"generacion_bruta!E109","v":9505.8816880000013},{"$f":"generacion_bruta!F109","v":4156.6022329999996},{"$f":"generacion_bruta!G109","v":14921.822745000001},{"$f":"generacion_bruta!H109","v":7894.357},{"$f":"generacion_bruta!I109","v":831.90158300000007},{"$f":"generacion_bruta!J109","v":10475.021102000001},{"$f":"generacion_bruta!K109","v":9688.730098},{"$f":"generacion_bruta!L109","v":32614.335171000002},{"$f":"generacion_bruta!M109","v":212.25299999999999},{"$f":"generacion_bruta!N109","v":15215.847362999999},{"$f":"generacion_bruta!O109","v":12221.477433},{"$f":"generacion_bruta!P109","v":219.40152499999999},{"$f":"generacion_bruta!Q109","v":736.52825100000007},{"$f":"generacion_bruta!R109","v":209.779314},{"$f":"generacion_bruta!S109","v":3832.9517489999998},{"$f":"generacion_bruta!T109","v":1079.7904830000002},{"$f":"generacion_bruta!U109","v":5235.1225360000008},{"$f":"generacion_bruta!V109","v":155408.19724500002}]
[2015,"Generación neta ",{"$f":"generacion_bruta!C131","v":35809.828606179202},{"$f":"generacion_bruta!D131","v":15513.284918326601},{"$f":"generacion_bruta!E131","v":16700.637079645712},{"$f":"generacion_bruta!F131","v":4460.6349389999996},{"$f":"generacion_bruta!G131","v":18643.320684589406},{"$f":"generacion_bruta!H131","v":8669.3768900000014},{"$f":"generacion_bruta!I131","v":1703.8922381349439},{"$f":"generacion_bruta!J131","v":21634.106648442837},{"$f":"generacion_bruta!K131","v":31296.40265363608},{"$f":"generacion_bruta!L131","v":43124.672871136412},{"$f":"generacion_bruta!M131","v":205.43799999999999},{"$f":"generacion_bruta!N131","v":21101.737855611183},{"$f":"generacion_bruta!O131","v":29674.153069280223},{"$f":"generacion_bruta!P131","v":1862.6093431950142},{"$f":"generacion_bruta!Q131","v":1203.168388532963},{"$f":"generacion_bruta!R131","v":213.48581799999999},{"$f":"generacion_bruta!S131","v":4912.4924209587934},{"$f":"generacion_bruta!T131","v":5268.9385127210553},{"$f":"generacion_bruta!U131","v":5938.1011636095855},267936.28210100002]
[null,"Consumos en bombeo",{"$f":"generacion_bruta!C132","v":-391.21300000000002},{"$f":"generacion_bruta!D132","v":-410.178},{"$f":"generacion_bruta!E132","v":-41.476999999999997},{"$f":"generacion_bruta!F132","v":0},{"$f":"generacion_bruta!G132","v":-1352.201},{"$f":"generacion_bruta!H132","v":0},{"$f":"generacion_bruta!I132","v":-684.93299999999999},{"$f":"generacion_bruta!J132","v":-44.283999999999999},{"$f":"generacion_bruta!K132","v":-854.15499999999997},{"$f":"generacion_bruta!L132","v":-463.46499999999997},{"$f":"generacion_bruta!M132","v":0},{"$f":"generacion_bruta!N132","v":-43.286999999999999},{"$f":"generacion_bruta!O132","v":-234.90100000000001},{"$f":"generacion_bruta!P132","v":0},{"$f":"generacion_bruta!Q132","v":0},{"$f":"generacion_bruta!R132","v":0},{"$f":"generacion_bruta!S132","v":0},{"$f":"generacion_bruta!T132","v":0},{"$f":"generacion_bruta!U132","v":0},-4520.0940000000001]
[null,"Saldo Intercambios",{"$f":"generacion_bruta!C133","v":3241.8629999999998},{"$f":"generacion_bruta!D133","v":-4802.1009999999997},{"$f":"generacion_bruta!E133","v":-6191.3540000000003},{"$f":"generacion_bruta!F133","v":1335.7829999999999},{"$f":"generacion_bruta!G133","v":9454.4449999999997},{"$f":"generacion_bruta!H133","v":0},{"$f":"generacion_bruta!I133","v":3228.933},{"$f":"generacion_bruta!J133","v":-10018.83},{"$f":"generacion_bruta!K133","v":-16577.612000000001},{"$f":"generacion_bruta!L133","v":3985.8760000000002},{"$f":"generacion_bruta!M133","v":0},{"$f":"generacion_bruta!N133","v":-16222.839},{"$f":"generacion_bruta!O133","v":-9721.0550000000003},{"$f":"generacion_bruta!P133","v":-137.49199999999999},{"$f":"generacion_bruta!Q133","v":27670.776000000002},{"$f":"generacion_bruta!R133","v":0},{"$f":"generacion_bruta!S133","v":4007.7049999999999},{"$f":"generacion_bruta!T133","v":-425.81599999999997},{"$f":"generacion_bruta!U133","v":11038.563},-133.15500000000065]
[null,"Demanda B.C",{"$f":"generacion_bruta!C134","v":38660.478606179197},{"$f":"generacion_bruta!D134","v":10301.005918326602},{"$f":"generacion_bruta!E134","v":10467.806079645714},{"$f":"generacion_bruta!F134","v":5796.417938999999},{"$f":"generacion_bruta!G134","v":26745.564684589404},{"$f":"generacion_bruta!H134","v":8669.3768900000014},{"$f":"generacion_bruta!I134","v":4247.8922381349439},{"$f":"generacion_bruta!J134","v":11570.992648442838},{"$f":"generacion_bruta!K134","v":13864.63565363608},{"$f":"generacion_bruta!L134","v":46646.983871136421},{"$f":"generacion_bruta!M134","v":205.43799999999999},{"$f":"generacion_bruta!N134","v":4835.6118556111833},{"$f":"generacion_bruta!O134","v":19718.197069280221},{"$f":"generacion_bruta!P134","v":1725.1173431950142},{"$f":"generacion_bruta!Q134","v":28873.944388532964},{"$f":"generacion_bruta!R134","v":213.48581799999999},{"$f":"generacion_bruta!S134","v":8920.1974209587934},{"$f":"generacion_bruta!T134","v":4843.1225127210555},{"$f":"generacion_bruta!U134","v":16976.664163609585},263282.93310099997]
[null,"Renovable",{"$f":"generacion_bruta!C136","v":12004.429771179199},{"$f":"generacion_bruta!D136","v":7741.432786326598},{"$f":"generacion_bruta!E136","v":2752.2585726457114},{"$f":"generacion_bruta!F136","v":281.03122050000002},{"$f":"generacion_bruta!G136","v":3510.2342555894038},{"$f":"generacion_bruta!H136","v":692.41289000000006},{"$f":"generacion_bruta!I136","v":474.95096213494401},{"$f":"generacion_bruta!J136","v":10702.159370442838},{"$f":"generacion_bruta!K136","v":19537.650194636084},{"$f":"generacion_bruta!L136","v":7827.5295481364174},{"$f":"generacion_bruta!M136","v":0},{"$f":"generacion_bruta!N136","v":4929.7477936111836},{"$f":"generacion_bruta!O136","v":15292.49488278022},{"$f":"generacion_bruta!P136","v":1190.334236195014},{"$f":"generacion_bruta!Q136","v":446.27656253296277},{"$f":"generacion_bruta!R136","v":4.3758890000000008},{"$f":"generacion_bruta!S136","v":1381.5847339587933},{"$f":"generacion_bruta!T136","v":3709.7151357210555},{"$f":"generacion_bruta!U136","v":1032.7116741095858},93511.3304795]
[null,"No renovable",{"$f":"generacion_bruta!C137","v":23531.549735000001},{"$f":"generacion_bruta!D137","v":7484.7275320000008},{"$f":"generacion_bruta!E137","v":13919.344607000001},{"$f":"generacion_bruta!F137","v":4179.6037185000005},{"$f":"generacion_bruta!G137","v":14186.545729000001},{"$f":"generacion_bruta!H137","v":7976.9639999999999},{"$f":"generacion_bruta!I137","v":749.48817599999995},{"$f":"generacion_bruta!J137","v":10900.948477999998},{"$f":"generacion_bruta!K137","v":11160.843959},{"$f":"generacion_bruta!L137","v":34972.717822999999},{"$f":"generacion_bruta!M137","v":205.43799999999999},{"$f":"generacion_bruta!N137","v":16141.689161999999},{"$f":"generacion_bruta!O137","v":14217.2274865},{"$f":"generacion_bruta!P137","v":672.27510699999993},{"$f":"generacion_bruta!Q137","v":756.89182600000015},{"$f":"generacion_bruta!R137","v":209.10992899999999},{"$f":"generacion_bruta!S137","v":3530.9076869999999},{"$f":"generacion_bruta!T137","v":1559.223377},{"$f":"generacion_bruta!U137","v":4905.3894894999994},171260.88582149998]
[2016,"Generación neta ",{"$f":"generacion_bruta!C159","v":32847.35782190501},{"$f":"generacion_bruta!D159","v":14266.484158794245},{"$f":"generacion_bruta!E159","v":12035.235098673158},{"$f":"generacion_bruta!F159","v":4581.6618840000001},{"$f":"generacion_bruta!G159","v":20639.614276523942},{"$f":"generacion_bruta!H159","v":8776.8319209999991},{"$f":"generacion_bruta!I159","v":1725.3446903848812},{"$f":"generacion_bruta!J159","v":21397.64844816137},{"$f":"generacion_bruta!K159","v":31998.374292334414},{"$f":"generacion_bruta!L159","v":43214.630285754167},{"$f":"generacion_bruta!M159","v":210.73599999999999},{"$f":"generacion_bruta!N159","v":21015.059308339827},{"$f":"generacion_bruta!O159","v":30691.913817576962},{"$f":"generacion_bruta!P159","v":2328.5878633453954},{"$f":"generacion_bruta!Q159","v":1228.5604976166087},{"$f":"generacion_bruta!R159","v":208.348187},{"$f":"generacion_bruta!S159","v":3962.7146999901843},{"$f":"generacion_bruta!T159","v":5728.6696158618934},{"$f":"generacion_bruta!U159","v":5421.4685097379379},{"$f":"generacion_bruta!V159","v":262279.24137699994}]
[null,"Consumos en bombeo",{"$f":"generacion_bruta!C160","v":-370.58300000000003},{"$f":"generacion_bruta!D160","v":-421.73700000000002},{"$f":"generacion_bruta!E160","v":-38.750999999999998},{"$f":"generacion_bruta!F160","v":0},{"$f":"generacion_bruta!G160","v":-1830.7470000000001},{"$f":"generacion_bruta!H160","v":0},{"$f":"generacion_bruta!I160","v":-611.80399999999997},{"$f":"generacion_bruta!J160","v":-65.596999999999994},{"$f":"generacion_bruta!K160","v":-919.61099999999999},{"$f":"generacion_bruta!L160","v":-303.50200000000001},{"$f":"generacion_bruta!M160","v":0},{"$f":"generacion_bruta!N160","v":-84.441999999999993},{"$f":"generacion_bruta!O160","v":-172.642},{"$f":"generacion_bruta!P160","v":0},{"$f":"generacion_bruta!Q160","v":0},{"$f":"generacion_bruta!R160","v":0},{"$f":"generacion_bruta!S160","v":0},{"$f":"generacion_bruta!T160","v":0},{"$f":"generacion_bruta!U160","v":0},{"$f":"generacion_bruta!V160","v":-4819.4160000000011}]
[null,"Saldo Intercambios",{"$f":"generacion_bruta!C161","v":7129.3630000000003},{"$f":"generacion_bruta!D161","v":-3406.8420000000001},{"$f":"generacion_bruta!E161","v":-1487.886},{"$f":"generacion_bruta!F161","v":1250.5820000000001},{"$f":"generacion_bruta!G161","v":8043.8270000000002},{"$f":"generacion_bruta!H161","v":0},{"$f":"generacion_bruta!I161","v":3090.931},{"$f":"generacion_bruta!J161","v":-9620.9509999999991},{"$f":"generacion_bruta!K161","v":-17052.596000000001},{"$f":"generacion_bruta!L161","v":3999.8829999999998},{"$f":"generacion_bruta!M161","v":0},{"$f":"generacion_bruta!N161","v":-15961.991},{"$f":"generacion_bruta!O161","v":-10557.892},{"$f":"generacion_bruta!P161","v":-596.53399999999999},{"$f":"generacion_bruta!Q161","v":27740.175999999999},{"$f":"generacion_bruta!R161","v":0},{"$f":"generacion_bruta!S161","v":5090.3980000000001},{"$f":"generacion_bruta!T161","v":-780.10500000000002},{"$f":"generacion_bruta!U161","v":10786.96},{"$f":"generacion_bruta!V161","v":7667.3229999999985}]
[null,"Demanda B.C",{"$f":"generacion_bruta!C162","v":39606.137821905009},{"$f":"generacion_bruta!D162","v":10437.905158794245},{"$f":"generacion_bruta!E162","v":10508.598098673157},{"$f":"generacion_bruta!F162","v":5832.2438840000004},{"$f":"generacion_bruta!G162","v":26852.694276523944},{"$f":"generacion_bruta!H162","v":8776.8319209999991},{"$f":"generacion_bruta!I162","v":4204.4716903848812},{"$f":"generacion_bruta!J162","v":11711.100448161369},{"$f":"generacion_bruta!K162","v":14026.167292334412},{"$f":"generacion_bruta!L162","v":46910.91128575417},{"$f":"generacion_bruta!M162","v":210.73599999999999},{"$f":"generacion_bruta!N162","v":4968.626308339828},{"$f":"generacion_bruta!O162","v":19961.379817576963},{"$f":"generacion_bruta!P162","v":1732.0538633453953},{"$f":"generacion_bruta!Q162","v":28968.736497616606},{"$f":"generacion_bruta!R162","v":208.348187},{"$f":"generacion_bruta!S162","v":9053.1126999901844},{"$f":"generacion_bruta!T162","v":4948.5646158618929},{"$f":"generacion_bruta!U162","v":16208.428509737936},{"$f":"generacion_bruta!V162","v":265127.14837699995}]
[null,"Renovable",{"$f":"generacion_bruta!C164","v":12844.569678905013},{"$f":"generacion_bruta!D164","v":7612.7012147942442},{"$f":"generacion_bruta!E164","v":3002.6088526731578},{"$f":"generacion_bruta!F164","v":258.06550050000004},{"$f":"generacion_bruta!G164","v":3560.6056325239438},{"$f":"generacion_bruta!H164","v":701.67092100000002},{"$f":"generacion_bruta!I164","v":426.67979188488124},{"$f":"generacion_bruta!J164","v":11093.81046916137},{"$f":"generacion_bruta!K164","v":22942.414317334413},{"$f":"generacion_bruta!L164","v":7443.6086327541689},{"$f":"generacion_bruta!M164","v":0},{"$f":"generacion_bruta!N164","v":5730.3926253398249},{"$f":"generacion_bruta!O164","v":17460.741052076963},{"$f":"generacion_bruta!P164","v":1247.1613093453952},{"$f":"generacion_bruta!Q164","v":451.50803161660878},{"$f":"generacion_bruta!R164","v":4.9281345000000005},{"$f":"generacion_bruta!S164","v":1401.2019089901839},{"$f":"generacion_bruta!T164","v":3590.942955861894},{"$f":"generacion_bruta!U164","v":1003.2783552379376},{"$f":"generacion_bruta!V164","v":100776.88938450001}]
[null,"No renovable",{"$f":"generacion_bruta!C165","v":19743.380043000001},{"$f":"generacion_bruta!D165","v":6358.5670440000004},{"$f":"generacion_bruta!E165","v":9005.5005460000011},{"$f":"generacion_bruta!F165","v":4323.5963835000002},{"$f":"generacion_bruta!G165","v":15797.485744000001},{"$f":"generacion_bruta!H165","v":8075.1610000000001},{"$f":"generacion_bruta!I165","v":870.40209849999997},{"$f":"generacion_bruta!J165","v":10257.920079},{"$f":"generacion_bruta!K165","v":8412.2322750000003},{"$f":"generacion_bruta!L165","v":35558.570252999998},{"$f":"generacion_bruta!M165","v":210.73599999999999},{"$f":"generacion_bruta!N165","v":15225.557283},{"$f":"generacion_bruta!O165","v":13110.3233655},{"$f":"generacion_bruta!P165","v":1081.4265539999999},{"$f":"generacion_bruta!Q165","v":777.05246599999987},{"$f":"generacion_bruta!R165","v":203.4200525},{"$f":"generacion_bruta!S165","v":2561.5127910000001},{"$f":"generacion_bruta!T165","v":2137.7266599999998},{"$f":"generacion_bruta!U165","v":4418.1901545000001},{"$f":"generacion_bruta!V165","v":158128.76079249999}]