{"text_format":"1","workbook":"xlsx","n_sheets":11,"sheets":["AVISO LEGAL","Componentes mes nacional","Componentes año nacional","Componentes mes peninsula","Componentes año peninsula","Componentes mes Baleares","Componentes año Baleares","Componentes mes Canarias","Componentes año Canarias","Componentes","Año"],"not_rendered":{"charts":0,"images":1,"macros":1,"external_links":0,"defined_names":9,"comments":0,"pivot_tables":0},"unopened":[],"bounds":{"document_bytes":16777216,"sheet_cells":100000,"rows_first":2000,"rows_last":500,"rows_between":2000,"halvings":0,"cell_chars":16384,"cell_head_chars":4096},"cells_cut":0,"cells_raw":0,"read":"whole","date_system":"1900"}

{"sheet":"AVISO LEGAL","index":0,"n_rows":23,"n_cols":10,"rows_kept":23,"cut":false,"hidden":false,"merged":[]}
[]
[null,null,null,null,null,null,null,"Fecha de actualización:",null,"2017-09-12"]
[]
[]
[]
[]
[]
[]
[]
[]
[]
[]
[]
[]
[]
[]
[]
[]
[]
[]
[]
[]
[null,null,null,null,null,null,null,null,null,"www.ree.es"]

{"sheet":"Componentes mes nacional","index":1,"n_rows":18,"n_cols":15,"rows_kept":18,"cut":false,"hidden":false,"merged":[[16,1,16,14],[17,1,17,14]]}
[null,null,null,null,null,null,null,null,null,null,null,null,null,null,7]
[]
[]
[null,null,null,null,null,null,null,null,null,null,null,null,"Sistema eléctrico"]
[null,null,null,null,null,null,null,null,null,null,null,null,"Horizonte temporal"]
[null,null,null,null,null,null,null,null,null,null,null,null,"Periodo"]
[]
[null,null,"Ene.","Feb.","Mar.","Abr.","May.","Jun.","Jul.","Ago.","Sep.","Oct.","Nov.","Dic.",{"$f":"OFFSET(Año!B22,($O$1-1),0)","v":2017}]
[]
[null,"Variación mensual",{"$f":"OFFSET(Componentes!C24,0,($O$1-1)*13)","v":7.6858006891578734},{"$f":"OFFSET(Componentes!D24,0,($O$1-1)*13)","v":-4.3084071221873295},{"$f":"OFFSET(Componentes!E24,0,($O$1-1)*13)","v":-1.679182730096429},{"$f":"OFFSET(Componentes!F24,0,($O$1-1)*13)","v":-5.1510633143347473},{"$f":"OFFSET(Componentes!G24,0,($O$1-1)*13)","v":3.2731984233276945},{"$f":"OFFSET(Componentes!H24,0,($O$1-1)*13)","v":6.7245318572628721},{"$f":"OFFSET(Componentes!I24,0,($O$1-1)*13)","v":1.0461073252321373},{"$f":"OFFSET(Componentes!J24,0,($O$1-1)*13)","v":1.8321712884564967},{"$f":"OFFSET(Componentes!K24,0,($O$1-1)*13)","v":"-"},{"$f":"OFFSET(Componentes!L24,0,($O$1-1)*13)","v":"-"},{"$f":"OFFSET(Componentes!M24,0,($O$1-1)*13)","v":"-"},{"$f":"OFFSET(Componentes!N24,0,($O$1-1)*13)","v":"-"},{"$f":"OFFSET(Componentes!O24,0,($O$1-1)*13)","v":1.1997271238696205}]
[]
[null,"Componentes (1)"]
[null,"Laboralidad",{"$f":"OFFSET(Componentes!C26,0,($O$1-1)*13)","v":1.1317089409953109},{"$f":"OFFSET(Componentes!D26,0,($O$1-1)*13)","v":-0.24155288149842855},{"$f":"OFFSET(Componentes!E26,0,($O$1-1)*13)","v":2.5423156696990188},{"$f":"OFFSET(Componentes!F26,0,($O$1-1)*13)","v":-3.4935844810988734},{"$f":"OFFSET(Componentes!G26,0,($O$1-1)*13)","v":0.50223451094869132},{"$f":"OFFSET(Componentes!H26,0,($O$1-1)*13)","v":0.22170515543375349},{"$f":"OFFSET(Componentes!I26,0,($O$1-1)*13)","v":-7.9487701499828992E-2},{"$f":"OFFSET(Componentes!J26,0,($O$1-1)*13)","v":-0.14005062252867512},{"$f":"OFFSET(Componentes!K26,0,($O$1-1)*13)","v":"-"},{"$f":"OFFSET(Componentes!L26,0,($O$1-1)*13)","v":"-"},{"$f":"OFFSET(Componentes!M26,0,($O$1-1)*13)","v":"-"},{"$f":"OFFSET(Componentes!N26,0,($O$1-1)*13)","v":"-"},{"$f":"OFFSET(Componentes!O26,0,($O$1-1)*13)","v":-0.27512545648233971}]
[null,"Temperatura (2)",{"$f":"OFFSET(Componentes!C27,0,($O$1-1)*13)","v":1.2606394109807122},{"$f":"OFFSET(Componentes!D27,0,($O$1-1)*13)","v":-5.5613298988196522},{"$f":"OFFSET(Componentes!E27,0,($O$1-1)*13)","v":-2.6502342612228729},{"$f":"OFFSET(Componentes!F27,0,($O$1-1)*13)","v":-0.75836068991110617},{"$f":"OFFSET(Componentes!G27,0,($O$1-1)*13)","v":1.5394333263487208},{"$f":"OFFSET(Componentes!H27,0,($O$1-1)*13)","v":2.3993286754097158},{"$f":"OFFSET(Componentes!I27,0,($O$1-1)*13)","v":8.264965409981756E-3},{"$f":"OFFSET(Componentes!J27,0,($O$1-1)*13)","v":0.24556486550954942},{"$f":"OFFSET(Componentes!K27,0,($O$1-1)*13)","v":"-"},{"$f":"OFFSET(Componentes!L27,0,($O$1-1)*13)","v":"-"},{"$f":"OFFSET(Componentes!M27,0,($O$1-1)*13)","v":"-"},{"$f":"OFFSET(Componentes!N27,0,($O$1-1)*13)","v":"-"},{"$f":"OFFSET(Componentes!O27,0,($O$1-1)*13)","v":2.6477491284615913E-2}]
[null,"Demanda corregida",{"$f":"OFFSET(Componentes!C28,0,($O$1-1)*13)","v":5.2934523371818498},{"$f":"OFFSET(Componentes!D28,0,($O$1-1)*13)","v":1.4944756581307512},{"$f":"OFFSET(Componentes!E28,0,($O$1-1)*13)","v":-1.5712641385725752},{"$f":"OFFSET(Componentes!F28,0,($O$1-1)*13)","v":-0.89911814332476747},{"$f":"OFFSET(Componentes!G28,0,($O$1-1)*13)","v":1.2315305860302823},{"$f":"OFFSET(Componentes!H28,0,($O$1-1)*13)","v":4.1034980264194028},{"$f":"OFFSET(Componentes!I28,0,($O$1-1)*13)","v":1.1173300613219845},{"$f":"OFFSET(Componentes!J28,0,($O$1-1)*13)","v":1.7266570454756225},{"$f":"OFFSET(Componentes!K28,0,($O$1-1)*13)","v":"-"},{"$f":"OFFSET(Componentes!L28,0,($O$1-1)*13)","v":"-"},{"$f":"OFFSET(Componentes!M28,0,($O$1-1)*13)","v":"-"},{"$f":"OFFSET(Componentes!N28,0,($O$1-1)*13)","v":"-"},{"$f":"OFFSET(Componentes!O28,0,($O$1-1)*13)","v":1.4483750890673446}]
[]
[null,"(1) La suma de los componentes es igual al tanto por ciento de variación de la demanda total."]
[null,"(2) Una media de las temperaturas máximas diarias por debajo o por encima de los umbrales de invierno y verano respectivamente, produce aumento de la demanda."]

{"sheet":"Componentes año nacional","index":2,"n_rows":19,"n_cols":12,"rows_kept":19,"cut":false,"hidden":false,"merged":[[16,1,16,11],[17,1,17,14],[18,1,18,11]]}
[null,null,null,null,null,null,null,null,null,null,null,1]
[]
[]
[null,null,null,null,null,null,null,null,null,"Sistema eléctrico"]
[null,null,null,null,null,null,null,null,null,"Horizonte temporal"]
[null,null,null,null,null,null,null,null,null,"Periodo"]
[]
[null,null,{"$f":"OFFSET(Componentes!C51,0,($L$1-1)*10)","v":"2011"},{"$f":"OFFSET(Componentes!D51,0,($L$1-1)*10)","v":"2012"},{"$f":"OFFSET(Componentes!E51,0,($L$1-1)*10)","v":"2013"},{"$f":"OFFSET(Componentes!F51,0,($L$1-1)*10)","v":"2014"},{"$f":"OFFSET(Componentes!G51,0,($L$1-1)*10)","v":"2015"},{"$f":"OFFSET(Componentes!H51,0,($L$1-1)*10)","v":"2016"},{"$f":"OFFSET(Componentes!I51,0,($L$1-1)*10)","v":"2017"},{"$f":"OFFSET(Componentes!J51,0,($L$1-1)*10)","v":"2018"},{"$f":"OFFSET(Componentes!K51,0,($L$1-1)*10)","v":"2019"},{"$f":"OFFSET(Componentes!L51,0,($L$1-1)*10)","v":"2020"}]
[]
[null,"Variación anual",{"$f":"OFFSET(Componentes!C52,0,($L$1-1)*10)","v":-1.8368341446920011},{"$f":"OFFSET(Componentes!D52,0,($L$1-1)*10)","v":-1.282208224853687},{"$f":"OFFSET(Componentes!E52,0,($L$1-1)*10)","v":-2.2763745202947328},{"$f":"OFFSET(Componentes!F52,0,($L$1-1)*10)","v":-1.1283673276325734},{"$f":"OFFSET(Componentes!G52,0,($L$1-1)*10)","v":1.9957582110179617},{"$f":"OFFSET(Componentes!H52,0,($L$1-1)*10)","v":0.65541662589869709},{"$f":"OFFSET(Componentes!I52,0,($L$1-1)*10)","v":1.1997271238696205},{"$f":"OFFSET(Componentes!J52,0,($L$1-1)*10)","v":"-"},{"$f":"OFFSET(Componentes!K52,0,($L$1-1)*10)","v":"-"},{"$f":"OFFSET(Componentes!L52,0,($L$1-1)*10)","v":"-"}]
[]
[null,"Componentes (1)"]
[null,"Laboralidad",{"$f":"OFFSET(Componentes!C54,0,($L$1-1)*10)","v":0.11745742741365958},{"$f":"OFFSET(Componentes!D54,0,($L$1-1)*10)","v":-0.25971973268366588},{"$f":"OFFSET(Componentes!E54,0,($L$1-1)*10)","v":0.17252300841591214},{"$f":"OFFSET(Componentes!F54,0,($L$1-1)*10)","v":-9.3171522006356231E-3},{"$f":"OFFSET(Componentes!G54,0,($L$1-1)*10)","v":-7.4738083572068209E-2},{"$f":"OFFSET(Componentes!H54,0,($L$1-1)*10)","v":0.5800231570805704},{"$f":"OFFSET(Componentes!I54,0,($L$1-1)*10)","v":-0.27512545648233971},{"$f":"OFFSET(Componentes!J54,0,($L$1-1)*10)","v":"-"},{"$f":"OFFSET(Componentes!K54,0,($L$1-1)*10)","v":"-"},{"$f":"OFFSET(Componentes!L54,0,($L$1-1)*10)","v":"-"}]
[null,"Temperatura (2)",{"$f":"OFFSET(Componentes!C55,0,($L$1-1)*10)","v":-1.012969145930724},{"$f":"OFFSET(Componentes!D55,0,($L$1-1)*10)","v":0.69248059137931783},{"$f":"OFFSET(Componentes!E55,0,($L$1-1)*10)","v":-0.29633186387686355},{"$f":"OFFSET(Componentes!F55,0,($L$1-1)*10)","v":-0.96347592632705392},{"$f":"OFFSET(Componentes!G55,0,($L$1-1)*10)","v":0.35951510801563558},{"$f":"OFFSET(Componentes!H55,0,($L$1-1)*10)","v":4.6463899765241054E-2},{"$f":"OFFSET(Componentes!I55,0,($L$1-1)*10)","v":2.6477491284615913E-2},{"$f":"OFFSET(Componentes!J55,0,($L$1-1)*10)","v":"-"},{"$f":"OFFSET(Componentes!K55,0,($L$1-1)*10)","v":"-"},{"$f":"OFFSET(Componentes!L55,0,($L$1-1)*10)","v":"-"}]
[null,"Demanda corregida",{"$f":"OFFSET(Componentes!C56,0,($L$1-1)*10)","v":-0.94132242617493678},{"$f":"OFFSET(Componentes!D56,0,($L$1-1)*10)","v":-1.7149690835493387},{"$f":"OFFSET(Componentes!E56,0,($L$1-1)*10)","v":-2.1525656648337814},{"$f":"OFFSET(Componentes!F56,0,($L$1-1)*10)","v":-0.15557424910488393},{"$f":"OFFSET(Componentes!G56,0,($L$1-1)*10)","v":1.7109811865743945},{"$f":"OFFSET(Componentes!H56,0,($L$1-1)*10)","v":2.8929569052885618E-2},{"$f":"OFFSET(Componentes!I56,0,($L$1-1)*10)","v":1.4483750890673446},{"$f":"OFFSET(Componentes!J56,0,($L$1-1)*10)","v":"-"},{"$f":"OFFSET(Componentes!K56,0,($L$1-1)*10)","v":"-"},{"$f":"OFFSET(Componentes!L56,0,($L$1-1)*10)","v":"-"}]
[]
[null,"(1) La suma de los componentes es igual al tanto por ciento de variación de la demanda total."]
[null,"(2) Una media de las temperaturas máximas diarias por debajo o por encima de los umbrales de invierno y verano respectivamente, produce aumento de la demanda."]
[null,{"$f":"IF(MONTH('AVISO LEGAL'!J2)=1,\"Datos a 31 de diciembre.\",CONCATENATE(\"Datos a 31 de diciembre. Para el año \",YEAR('AVISO LEGAL'!J2), \" datos a \",TEXT('AVISO LEGAL'!J2-30,\"mmmm\"),\" de \",YEAR('AVISO LEGAL'!J2),\".\"))","v":"Datos a 31 de diciembre. Para el año 2017 datos a agosto de 2017."}]

{"sheet":"Componentes mes peninsula","index":3,"n_rows":18,"n_cols":15,"rows_kept":18,"cut":false,"hidden":false,"merged":[[16,1,16,14],[17,1,17,14]]}
[null,null,null,null,null,null,null,null,null,null,null,null,null,null,27]
[]
[]
[null,null,null,null,null,null,null,null,null,null,null,null,"Sistema eléctrico"]
[null,null,null,null,null,null,null,null,null,null,null,null,"Horizonte temporal"]
[null,null,null,null,null,null,null,null,null,null,null,null,"Periodo"]
[]
[null,null,"Ene.","Feb.","Mar.","Abr.","May.","Jun.","Jul.","Ago.","Sep.","Oct.","Nov.","Dic.",{"$f":"OFFSET(Año!B2,($O$1-1),0)","v":2017}]
[]
[null,"Variación mensual",{"$f":"OFFSET(Componentes!C3,0,($O$1-1)*13)","v":7.6904294220506264},{"$f":"OFFSET(Componentes!D3,0,($O$1-1)*13)","v":-4.4218165680154904},{"$f":"OFFSET(Componentes!E3,0,($O$1-1)*13)","v":-1.6698334998862863},{"$f":"OFFSET(Componentes!F3,0,($O$1-1)*13)","v":-5.518982922379001},{"$f":"OFFSET(Componentes!G3,0,($O$1-1)*13)","v":3.2669837180056449},{"$f":"OFFSET(Componentes!H3,0,($O$1-1)*13)","v":6.8082781440560236},{"$f":"OFFSET(Componentes!I3,0,($O$1-1)*13)","v":0.88748583927105162},{"$f":"OFFSET(Componentes!J3,0,($O$1-1)*13)","v":1.5909160226738495},{"$f":"OFFSET(Componentes!K3,0,($O$1-1)*13)","v":"-"},{"$f":"OFFSET(Componentes!L3,0,($O$1-1)*13)","v":"-"},{"$f":"OFFSET(Componentes!M3,0,($O$1-1)*13)","v":"-"},{"$f":"OFFSET(Componentes!N3,0,($O$1-1)*13)","v":"-"},{"$f":"OFFSET(Componentes!O3,0,($O$1-1)*13)","v":1.0948437876082018}]
[]
[null,"Componentes (1)"]
[null,"Laboralidad",{"$f":"OFFSET(Componentes!C5,0,($O$1-1)*13)","v":1.1876381000754721},{"$f":"OFFSET(Componentes!D5,0,($O$1-1)*13)","v":-3.4418405582103517E-2},{"$f":"OFFSET(Componentes!E5,0,($O$1-1)*13)","v":2.6829979215117876},{"$f":"OFFSET(Componentes!F5,0,($O$1-1)*13)","v":-3.605638272922318},{"$f":"OFFSET(Componentes!G5,0,($O$1-1)*13)","v":0.54575065780082532},{"$f":"OFFSET(Componentes!H5,0,($O$1-1)*13)","v":0.24756180000233829},{"$f":"OFFSET(Componentes!I5,0,($O$1-1)*13)","v":-7.0912609962370254E-2},{"$f":"OFFSET(Componentes!J5,0,($O$1-1)*13)","v":-0.14043845143405509},{"$f":"OFFSET(Componentes!K5,0,($O$1-1)*13)","v":"-"},{"$f":"OFFSET(Componentes!L5,0,($O$1-1)*13)","v":"-"},{"$f":"OFFSET(Componentes!M5,0,($O$1-1)*13)","v":"-"},{"$f":"OFFSET(Componentes!N5,0,($O$1-1)*13)","v":"-"},{"$f":"OFFSET(Componentes!O5,0,($O$1-1)*13)","v":-0.29428317579753838}]
[null,"Temperatura (2)",{"$f":"OFFSET(Componentes!C6,0,($O$1-1)*13)","v":1.1285739269210504},{"$f":"OFFSET(Componentes!D6,0,($O$1-1)*13)","v":-5.8504477569467079},{"$f":"OFFSET(Componentes!E6,0,($O$1-1)*13)","v":-2.7151369577778195},{"$f":"OFFSET(Componentes!F6,0,($O$1-1)*13)","v":-0.78677790287972016},{"$f":"OFFSET(Componentes!G6,0,($O$1-1)*13)","v":1.5736066284946171},{"$f":"OFFSET(Componentes!H6,0,($O$1-1)*13)","v":2.4608622246213629},{"$f":"OFFSET(Componentes!I6,0,($O$1-1)*13)","v":-5.3976509781783477E-4},{"$f":"OFFSET(Componentes!J6,0,($O$1-1)*13)","v":0.11982083465842397},{"$f":"OFFSET(Componentes!K6,0,($O$1-1)*13)","v":"-"},{"$f":"OFFSET(Componentes!L6,0,($O$1-1)*13)","v":"-"},{"$f":"OFFSET(Componentes!M6,0,($O$1-1)*13)","v":"-"},{"$f":"OFFSET(Componentes!N6,0,($O$1-1)*13)","v":"-"},{"$f":"OFFSET(Componentes!O6,0,($O$1-1)*13)","v":-1.9925727601477483E-2}]
[null,"Demanda corregida",{"$f":"OFFSET(Componentes!C7,0,($O$1-1)*13)","v":5.3742173950541039},{"$f":"OFFSET(Componentes!D7,0,($O$1-1)*13)","v":1.4630495945133211},{"$f":"OFFSET(Componentes!E7,0,($O$1-1)*13)","v":-1.6376944636202544},{"$f":"OFFSET(Componentes!F7,0,($O$1-1)*13)","v":-1.1265667465769629},{"$f":"OFFSET(Componentes!G7,0,($O$1-1)*13)","v":1.1476264317102025},{"$f":"OFFSET(Componentes!H7,0,($O$1-1)*13)","v":4.0998541194323224},{"$f":"OFFSET(Componentes!I7,0,($O$1-1)*13)","v":0.95893821433123971},{"$f":"OFFSET(Componentes!J7,0,($O$1-1)*13)","v":1.6115336394494806},{"$f":"OFFSET(Componentes!K7,0,($O$1-1)*13)","v":"-"},{"$f":"OFFSET(Componentes!L7,0,($O$1-1)*13)","v":"-"},{"$f":"OFFSET(Componentes!M7,0,($O$1-1)*13)","v":"-"},{"$f":"OFFSET(Componentes!N7,0,($O$1-1)*13)","v":"-"},{"$f":"OFFSET(Componentes!O7,0,($O$1-1)*13)","v":1.4090526910072176}]
[]
[null,"(1) La suma de los componentes es igual al tanto por ciento de variación de la demanda total."]
[null,"(2) Una media de las temperaturas máximas diarias por debajo o por encima de los umbrales de invierno y verano respectivamente, produce aumento de la demanda."]

{"sheet":"Componentes año peninsula","index":4,"n_rows":19,"n_cols":12,"rows_kept":19,"cut":false,"hidden":false,"merged":[[16,1,16,11],[18,1,18,11],[17,1,17,14]]}
[null,null,null,null,null,null,null,null,null,null,null,3]
[]
[]
[null,null,null,null,null,null,null,null,null,"Sistema eléctrico"]
[null,null,null,null,null,null,null,null,null,"Horizonte temporal"]
[null,null,null,null,null,null,null,null,null,"Periodo"]
[]
[null,null,{"$f":"OFFSET(Componentes!C30,0,($L$1-1)*10)","v":"2011"},{"$f":"OFFSET(Componentes!D30,0,($L$1-1)*10)","v":"2012"},{"$f":"OFFSET(Componentes!E30,0,($L$1-1)*10)","v":"2013"},{"$f":"OFFSET(Componentes!F30,0,($L$1-1)*10)","v":"2014"},{"$f":"OFFSET(Componentes!G30,0,($L$1-1)*10)","v":"2015"},{"$f":"OFFSET(Componentes!H30,0,($L$1-1)*10)","v":"2016"},{"$f":"OFFSET(Componentes!I30,0,($L$1-1)*10)","v":"2017"},{"$f":"OFFSET(Componentes!J30,0,($L$1-1)*10)","v":"2018"},{"$f":"OFFSET(Componentes!K30,0,($L$1-1)*10)","v":"2019"},{"$f":"OFFSET(Componentes!L30,0,($L$1-1)*10)","v":"2020"}]
[]
[null,"Variación anual",{"$f":"OFFSET(Componentes!C31,0,($L$1-1)*10)","v":-1.8921438939156321},{"$f":"OFFSET(Componentes!D31,0,($L$1-1)*10)","v":-1.4018855162962751},{"$f":"OFFSET(Componentes!E31,0,($L$1-1)*10)","v":-2.2402750402234606},{"$f":"OFFSET(Componentes!F31,0,($L$1-1)*10)","v":-1.1464872953274474},{"$f":"OFFSET(Componentes!G31,0,($L$1-1)*10)","v":1.9932680166065753},{"$f":"OFFSET(Componentes!H31,0,($L$1-1)*10)","v":0.63669560133439163},{"$f":"OFFSET(Componentes!I31,0,($L$1-1)*10)","v":1.0948437876082018},{"$f":"OFFSET(Componentes!J31,0,($L$1-1)*10)","v":"-"},{"$f":"OFFSET(Componentes!K31,0,($L$1-1)*10)","v":"-"},{"$f":"OFFSET(Componentes!L31,0,($L$1-1)*10)","v":"-"}]
[]
[null,"Componentes (1)"]
[null,"Laboralidad",{"$f":"OFFSET(Componentes!C33,0,($L$1-1)*10)","v":0.12569471050719594},{"$f":"OFFSET(Componentes!D33,0,($L$1-1)*10)","v":-0.27277967170862283},{"$f":"OFFSET(Componentes!E33,0,($L$1-1)*10)","v":0.19505514450648409},{"$f":"OFFSET(Componentes!F33,0,($L$1-1)*10)","v":-1.468303779090796E-2},{"$f":"OFFSET(Componentes!G33,0,($L$1-1)*10)","v":-8.9307550465789198E-2},{"$f":"OFFSET(Componentes!H33,0,($L$1-1)*10)","v":0.60001516711851721},{"$f":"OFFSET(Componentes!I33,0,($L$1-1)*10)","v":-0.29428317579753838},{"$f":"OFFSET(Componentes!J33,0,($L$1-1)*10)","v":"-"},{"$f":"OFFSET(Componentes!K33,0,($L$1-1)*10)","v":"-"},{"$f":"OFFSET(Componentes!L33,0,($L$1-1)*10)","v":"-"}]
[null,"Temperatura (2)",{"$f":"OFFSET(Componentes!C34,0,($L$1-1)*10)","v":-1.0279343645701822},{"$f":"OFFSET(Componentes!D34,0,($L$1-1)*10)","v":0.68966900349782811},{"$f":"OFFSET(Componentes!E34,0,($L$1-1)*10)","v":-0.27208548834806168},{"$f":"OFFSET(Componentes!F34,0,($L$1-1)*10)","v":-0.9848184080399891},{"$f":"OFFSET(Componentes!G34,0,($L$1-1)*10)","v":0.35847354711551205},{"$f":"OFFSET(Componentes!H34,0,($L$1-1)*10)","v":8.9152959854232883E-2},{"$f":"OFFSET(Componentes!I34,0,($L$1-1)*10)","v":-1.9925727601477483E-2},{"$f":"OFFSET(Componentes!J34,0,($L$1-1)*10)","v":"-"},{"$f":"OFFSET(Componentes!K34,0,($L$1-1)*10)","v":"-"},{"$f":"OFFSET(Componentes!L34,0,($L$1-1)*10)","v":"-"}]
[null,"Demanda corregida",{"$f":"OFFSET(Componentes!C35,0,($L$1-1)*10)","v":-0.98990423985260145},{"$f":"OFFSET(Componentes!D35,0,($L$1-1)*10)","v":-1.8187748480855248},{"$f":"OFFSET(Componentes!E35,0,($L$1-1)*10)","v":-2.1632446963818164},{"$f":"OFFSET(Componentes!F35,0,($L$1-1)*10)","v":-0.14698584949660587},{"$f":"OFFSET(Componentes!G35,0,($L$1-1)*10)","v":1.7367886721775916},{"$f":"OFFSET(Componentes!H35,0,($L$1-1)*10)","v":-5.2472525638358469E-2},{"$f":"OFFSET(Componentes!I35,0,($L$1-1)*10)","v":1.4090526910072176},{"$f":"OFFSET(Componentes!J35,0,($L$1-1)*10)","v":"-"},{"$f":"OFFSET(Componentes!K35,0,($L$1-1)*10)","v":"-"},{"$f":"OFFSET(Componentes!L35,0,($L$1-1)*10)","v":"-"}]
[]
[null,"(1) La suma de los componentes es igual al tanto por ciento de variación de la demanda total."]
[null,"(2) Una media de las temperaturas máximas diarias por debajo o por encima de los umbrales de invierno y verano respectivamente, produce aumento de la demanda."]
[null,{"$f":"IF(MONTH('AVISO LEGAL'!J2)=1,\"Datos a 31 de diciembre.\",CONCATENATE(\"Datos a 31 de diciembre. Para el año \",YEAR('AVISO LEGAL'!J2), \" datos a \",TEXT('AVISO LEGAL'!J2-30,\"mmmm\"),\" de \",YEAR('AVISO LEGAL'!J2),\".\"))","v":"Datos a 31 de diciembre. Para el año 2017 datos a agosto de 2017."}]

{"sheet":"Componentes mes Baleares","index":5,"n_rows":18,"n_cols":15,"rows_kept":18,"cut":false,"hidden":false,"merged":[[16,1,16,14],[17,1,17,14]]}
[null,null,null,null,null,null,null,null,null,null,null,null,null,null,7]
[]
[]
[null,null,null,null,null,null,null,null,null,null,null,null,"Sistema eléctrico"]
[null,null,null,null,null,null,null,null,null,null,null,null,"Horizonte temporal"]
[null,null,null,null,null,null,null,null,null,null,null,null,"Periodo"]
[]
[null,null,"Ene.","Feb.","Mar.","Abr.","May.","Jun.","Jul.","Ago.","Sep.","Oct.","Nov.","Dic.",{"$f":"OFFSET(Año!B22,($O$1-1),0)","v":2017}]
[]
[null,"Variación mensual",{"$f":"OFFSET(Componentes!C10,0,($O$1-1)*13)","v":16.052217684574345},{"$f":"OFFSET(Componentes!D10,0,($O$1-1)*13)","v":-1.9506644574825649},{"$f":"OFFSET(Componentes!E10,0,($O$1-1)*13)","v":-8.6851288450341961},{"$f":"OFFSET(Componentes!F10,0,($O$1-1)*13)","v":0.29662674534494116},{"$f":"OFFSET(Componentes!G10,0,($O$1-1)*13)","v":2.4582951074715975},{"$f":"OFFSET(Componentes!H10,0,($O$1-1)*13)","v":8.3923406558619629},{"$f":"OFFSET(Componentes!I10,0,($O$1-1)*13)","v":5.9211821182374669},{"$f":"OFFSET(Componentes!J10,0,($O$1-1)*13)","v":9.0895397443398362},{"$f":"OFFSET(Componentes!K10,0,($O$1-1)*13)","v":"-"},{"$f":"OFFSET(Componentes!L10,0,($O$1-1)*13)","v":"-"},{"$f":"OFFSET(Componentes!M10,0,($O$1-1)*13)","v":"-"},{"$f":"OFFSET(Componentes!N10,0,($O$1-1)*13)","v":"-"},{"$f":"OFFSET(Componentes!O10,0,($O$1-1)*13)","v":4.3760817155816589}]
[]
[null,"Componentes (1)"]
[null,"Laboralidad",{"$f":"OFFSET(Componentes!C12,0,($O$1-1)*13)","v":-0.63853454418780586},{"$f":"OFFSET(Componentes!D12,0,($O$1-1)*13)","v":-4.3213127028437164},{"$f":"OFFSET(Componentes!E12,0,($O$1-1)*13)","v":-4.3423389880469898E-2},{"$f":"OFFSET(Componentes!F12,0,($O$1-1)*13)","v":-1.5956486458703401},{"$f":"OFFSET(Componentes!G12,0,($O$1-1)*13)","v":-0.65997797554666615},{"$f":"OFFSET(Componentes!H12,0,($O$1-1)*13)","v":-0.4186281323012917},{"$f":"OFFSET(Componentes!I12,0,($O$1-1)*13)","v":-0.40641502749072522},{"$f":"OFFSET(Componentes!J12,0,($O$1-1)*13)","v":-0.21417377567818363},{"$f":"OFFSET(Componentes!K12,0,($O$1-1)*13)","v":"-"},{"$f":"OFFSET(Componentes!L12,0,($O$1-1)*13)","v":"-"},{"$f":"OFFSET(Componentes!M12,0,($O$1-1)*13)","v":"-"},{"$f":"OFFSET(Componentes!N12,0,($O$1-1)*13)","v":"-"},{"$f":"OFFSET(Componentes!O12,0,($O$1-1)*13)","v":-0.18062116183841237}]
[null,"Temperatura (2)",{"$f":"OFFSET(Componentes!C13,0,($O$1-1)*13)","v":9.3787528291475528},{"$f":"OFFSET(Componentes!D13,0,($O$1-1)*13)","v":-0.32069812951103227},{"$f":"OFFSET(Componentes!E13,0,($O$1-1)*13)","v":-4.1396152068369778},{"$f":"OFFSET(Componentes!F13,0,($O$1-1)*13)","v":-0.87501117451838084},{"$f":"OFFSET(Componentes!G13,0,($O$1-1)*13)","v":2.4141134846997314},{"$f":"OFFSET(Componentes!H13,0,($O$1-1)*13)","v":3.0272940269743698},{"$f":"OFFSET(Componentes!I13,0,($O$1-1)*13)","v":0.50904014132049369},{"$f":"OFFSET(Componentes!J13,0,($O$1-1)*13)","v":4.3362381990267318},{"$f":"OFFSET(Componentes!K13,0,($O$1-1)*13)","v":"-"},{"$f":"OFFSET(Componentes!L13,0,($O$1-1)*13)","v":"-"},{"$f":"OFFSET(Componentes!M13,0,($O$1-1)*13)","v":"-"},{"$f":"OFFSET(Componentes!N13,0,($O$1-1)*13)","v":"-"},{"$f":"OFFSET(Componentes!O13,0,($O$1-1)*13)","v":1.9233926725871653}]
[null,"Demanda corregida",{"$f":"OFFSET(Componentes!C14,0,($O$1-1)*13)","v":7.3119993996145976},{"$f":"OFFSET(Componentes!D14,0,($O$1-1)*13)","v":2.6913463748721838},{"$f":"OFFSET(Componentes!E14,0,($O$1-1)*13)","v":-4.5020902483167484},{"$f":"OFFSET(Componentes!F14,0,($O$1-1)*13)","v":2.7672865657336621},{"$f":"OFFSET(Componentes!G14,0,($O$1-1)*13)","v":0.70415959831853225},{"$f":"OFFSET(Componentes!H14,0,($O$1-1)*13)","v":5.7836747611888848},{"$f":"OFFSET(Componentes!I14,0,($O$1-1)*13)","v":5.8185570044076984},{"$f":"OFFSET(Componentes!J14,0,($O$1-1)*13)","v":4.9674753209912881},{"$f":"OFFSET(Componentes!K14,0,($O$1-1)*13)","v":"-"},{"$f":"OFFSET(Componentes!L14,0,($O$1-1)*13)","v":"-"},{"$f":"OFFSET(Componentes!M14,0,($O$1-1)*13)","v":"-"},{"$f":"OFFSET(Componentes!N14,0,($O$1-1)*13)","v":"-"},{"$f":"OFFSET(Componentes!O14,0,($O$1-1)*13)","v":2.633310204832906}]
[]
[null,"(1) La suma de los componentes es igual al tanto por ciento de variación de la demanda total."]
[null,"(2) Una media de las temperaturas máximas diarias por debajo o por encima de los umbrales de invierno y verano respectivamente, produce aumento de la demanda."]

{"sheet":"Componentes año Baleares","index":6,"n_rows":19,"n_cols":12,"rows_kept":19,"cut":false,"hidden":false,"merged":[[16,1,16,11],[18,1,18,11],[17,1,17,14]]}
[null,null,null,null,null,null,null,null,null,null,null,1]
[]
[]
[null,null,null,null,null,null,null,null,null,"Sistema eléctrico"]
[null,null,null,null,null,null,null,null,null,"Horizonte temporal"]
[null,null,null,null,null,null,null,null,null,"Periodo"]
[]
[null,null,{"$f":"OFFSET(Componentes!C37,0,($L$1-1)*10)","v":"2011"},{"$f":"OFFSET(Componentes!D37,0,($L$1-1)*10)","v":"2012"},{"$f":"OFFSET(Componentes!E37,0,($L$1-1)*10)","v":"2013"},{"$f":"OFFSET(Componentes!F37,0,($L$1-1)*10)","v":"2014"},{"$f":"OFFSET(Componentes!G37,0,($L$1-1)*10)","v":"2015"},{"$f":"OFFSET(Componentes!H37,0,($L$1-1)*10)","v":"2016"},{"$f":"OFFSET(Componentes!I37,0,($L$1-1)*10)","v":"2017"},{"$f":"OFFSET(Componentes!J37,0,($L$1-1)*10)","v":"2018"},{"$f":"OFFSET(Componentes!K37,0,($L$1-1)*10)","v":"2019"},{"$f":"OFFSET(Componentes!L37,0,($L$1-1)*10)","v":"2020"}]
[]
[null,"Variación anual",{"$f":"OFFSET(Componentes!C38,0,($L$1-1)*10)","v":-1.6606524548530399},{"$f":"OFFSET(Componentes!D38,0,($L$1-1)*10)","v":1.3808117435721634},{"$f":"OFFSET(Componentes!E38,0,($L$1-1)*10)","v":-2.5601668781725095},{"$f":"OFFSET(Componentes!F38,0,($L$1-1)*10)","v":-1.5530968963448633},{"$f":"OFFSET(Componentes!G38,0,($L$1-1)*10)","v":3.7778742191372894},{"$f":"OFFSET(Componentes!H38,0,($L$1-1)*10)","v":0.61663458006249172},{"$f":"OFFSET(Componentes!I38,0,($L$1-1)*10)","v":4.3760817155816589},{"$f":"OFFSET(Componentes!J38,0,($L$1-1)*10)","v":"-"},{"$f":"OFFSET(Componentes!K38,0,($L$1-1)*10)","v":"-"},{"$f":"OFFSET(Componentes!L38,0,($L$1-1)*10)","v":"-"}]
[]
[null,"Componentes (1)"]
[null,"Laboralidad",{"$f":"OFFSET(Componentes!C40,0,($L$1-1)*10)","v":-5.3602592516643899E-2},{"$f":"OFFSET(Componentes!D40,0,($L$1-1)*10)","v":-2.6707092835853707E-2},{"$f":"OFFSET(Componentes!E40,0,($L$1-1)*10)","v":-0.13560382356659906},{"$f":"OFFSET(Componentes!F40,0,($L$1-1)*10)","v":0.23524077471087645},{"$f":"OFFSET(Componentes!G40,0,($L$1-1)*10)","v":0.17272203855676072},{"$f":"OFFSET(Componentes!H40,0,($L$1-1)*10)","v":0.21099214200499539},{"$f":"OFFSET(Componentes!I40,0,($L$1-1)*10)","v":-0.18062116183841237},{"$f":"OFFSET(Componentes!J40,0,($L$1-1)*10)","v":"-"},{"$f":"OFFSET(Componentes!K40,0,($L$1-1)*10)","v":"-"},{"$f":"OFFSET(Componentes!L40,0,($L$1-1)*10)","v":"-"}]
[null,"Temperatura (2)",{"$f":"OFFSET(Componentes!C41,0,($L$1-1)*10)","v":-1.4680244577651269},{"$f":"OFFSET(Componentes!D41,0,($L$1-1)*10)","v":1.5343350665394273},{"$f":"OFFSET(Componentes!E41,0,($L$1-1)*10)","v":-1.0167169417334643},{"$f":"OFFSET(Componentes!F41,0,($L$1-1)*10)","v":0.19223735566565869},{"$f":"OFFSET(Componentes!G41,0,($L$1-1)*10)","v":0.93007972258720706},{"$f":"OFFSET(Componentes!H41,0,($L$1-1)*10)","v":-1.6570828825628992},{"$f":"OFFSET(Componentes!I41,0,($L$1-1)*10)","v":1.9233926725871653},{"$f":"OFFSET(Componentes!J41,0,($L$1-1)*10)","v":"-"},{"$f":"OFFSET(Componentes!K41,0,($L$1-1)*10)","v":"-"},{"$f":"OFFSET(Componentes!L41,0,($L$1-1)*10)","v":"-"}]
[null,"Demanda corregida",{"$f":"OFFSET(Componentes!C42,0,($L$1-1)*10)","v":-0.13902540457135792},{"$f":"OFFSET(Componentes!D42,0,($L$1-1)*10)","v":-0.12681623013156562},{"$f":"OFFSET(Componentes!E42,0,($L$1-1)*10)","v":-1.4078461128722908},{"$f":"OFFSET(Componentes!F42,0,($L$1-1)*10)","v":-1.9805750267213207},{"$f":"OFFSET(Componentes!G42,0,($L$1-1)*10)","v":2.6750872002954562},{"$f":"OFFSET(Componentes!H42,0,($L$1-1)*10)","v":2.0627253206203955},{"$f":"OFFSET(Componentes!I42,0,($L$1-1)*10)","v":2.633310204832906},{"$f":"OFFSET(Componentes!J42,0,($L$1-1)*10)","v":"-"},{"$f":"OFFSET(Componentes!K42,0,($L$1-1)*10)","v":"-"},{"$f":"OFFSET(Componentes!L42,0,($L$1-1)*10)","v":"-"}]
[]
[null,"(1) La suma de los componentes es igual al tanto por ciento de variación de la demanda total."]
[null,"(2) Una media de las temperaturas máximas diarias por debajo o por encima de los umbrales de invierno y verano respectivamente, produce aumento de la demanda."]
[null,{"$f":"IF(MONTH('AVISO LEGAL'!J2)=1,\"Datos a 31 de diciembre.\",CONCATENATE(\"Datos a 31 de diciembre. Para el año \",YEAR('AVISO LEGAL'!J2), \" datos a \",TEXT('AVISO LEGAL'!J2-30,\"mmmm\"),\" de \",YEAR('AVISO LEGAL'!J2),\".\"))","v":"Datos a 31 de diciembre. Para el año 2017 datos a agosto de 2017."}]

{"sheet":"Componentes mes Canarias","index":7,"n_rows":18,"n_cols":15,"rows_kept":18,"cut":false,"hidden":false,"merged":[[16,1,16,14],[17,1,17,14]]}
[null,null,null,null,null,null,null,null,null,null,null,null,null,null,7]
[]
[]
[null,null,null,null,null,null,null,null,null,null,null,null,"Sistema eléctrico"]
[null,null,null,null,null,null,null,null,null,null,null,null,"Horizonte temporal"]
[null,null,null,null,null,null,null,null,null,null,null,null,"Periodo"]
[]
[null,null,"Ene.","Feb.","Mar.","Abr.","May.","Jun.","Jul.","Ago.","Sep.","Oct.","Nov.","Dic.",{"$f":"OFFSET(Año!B22,($O$1-1),0)","v":2017}]
[]
[null,"Variación mensual",{"$f":"OFFSET(Componentes!C17,0,($O$1-1)*13)","v":2.8007575278736097},{"$f":"OFFSET(Componentes!D17,0,($O$1-1)*13)","v":-2.1818465835765855},{"$f":"OFFSET(Componentes!E17,0,($O$1-1)*13)","v":2.3992567933774467},{"$f":"OFFSET(Componentes!F17,0,($O$1-1)*13)","v":2.2267071062316512},{"$f":"OFFSET(Componentes!G17,0,($O$1-1)*13)","v":4.214213427039093},{"$f":"OFFSET(Componentes!H17,0,($O$1-1)*13)","v":3.2728287197226757},{"$f":"OFFSET(Componentes!I17,0,($O$1-1)*13)","v":1.3146271790085873},{"$f":"OFFSET(Componentes!J17,0,($O$1-1)*13)","v":2.3207370216701939},{"$f":"OFFSET(Componentes!K17,0,($O$1-1)*13)","v":"-"},{"$f":"OFFSET(Componentes!L17,0,($O$1-1)*13)","v":"-"},{"$f":"OFFSET(Componentes!M17,0,($O$1-1)*13)","v":"-"},{"$f":"OFFSET(Componentes!N17,0,($O$1-1)*13)","v":"-"},{"$f":"OFFSET(Componentes!O17,0,($O$1-1)*13)","v":2.0632759126560485}]
[]
[null,"Componentes (1)"]
[null,"Laboralidad",{"$f":"OFFSET(Componentes!C19,0,($O$1-1)*13)","v":0.53068750116838093},{"$f":"OFFSET(Componentes!D19,0,($O$1-1)*13)","v":-4.018857909089335},{"$f":"OFFSET(Componentes!E19,0,($O$1-1)*13)","v":-4.9978515949322677E-2},{"$f":"OFFSET(Componentes!F19,0,($O$1-1)*13)","v":-1.6206516047478914},{"$f":"OFFSET(Componentes!G19,0,($O$1-1)*13)","v":5.6412771759317692E-2},{"$f":"OFFSET(Componentes!H19,0,($O$1-1)*13)","v":-3.6849136037120367E-2},{"$f":"OFFSET(Componentes!I19,0,($O$1-1)*13)","v":-4.0625968190166617E-2},{"$f":"OFFSET(Componentes!J19,0,($O$1-1)*13)","v":-6.4761268596025268E-2},{"$f":"OFFSET(Componentes!K19,0,($O$1-1)*13)","v":"-"},{"$f":"OFFSET(Componentes!L19,0,($O$1-1)*13)","v":"-"},{"$f":"OFFSET(Componentes!M19,0,($O$1-1)*13)","v":"-"},{"$f":"OFFSET(Componentes!N19,0,($O$1-1)*13)","v":"-"},{"$f":"OFFSET(Componentes!O19,0,($O$1-1)*13)","v":0.2077618614593213}]
[null,"Temperatura (2)",{"$f":"OFFSET(Componentes!C20,0,($O$1-1)*13)","v":0.16364371805479561},{"$f":"OFFSET(Componentes!D20,0,($O$1-1)*13)","v":-1.9000121647250179E-2},{"$f":"OFFSET(Componentes!E20,0,($O$1-1)*13)","v":3.4952350348915751E-2},{"$f":"OFFSET(Componentes!F20,0,($O$1-1)*13)","v":6.7296573154784767E-2},{"$f":"OFFSET(Componentes!G20,0,($O$1-1)*13)","v":8.2577119757454298E-3},{"$f":"OFFSET(Componentes!H20,0,($O$1-1)*13)","v":8.298292369395277E-2},{"$f":"OFFSET(Componentes!I20,0,($O$1-1)*13)","v":-0.17684618717264122},{"$f":"OFFSET(Componentes!J20,0,($O$1-1)*13)","v":4.598958160664246E-2},{"$f":"OFFSET(Componentes!K20,0,($O$1-1)*13)","v":"-"},{"$f":"OFFSET(Componentes!L20,0,($O$1-1)*13)","v":"-"},{"$f":"OFFSET(Componentes!M20,0,($O$1-1)*13)","v":"-"},{"$f":"OFFSET(Componentes!N20,0,($O$1-1)*13)","v":"-"},{"$f":"OFFSET(Componentes!O20,0,($O$1-1)*13)","v":2.4035683542922293E-2}]
[null,"Demanda corregida",{"$f":"OFFSET(Componentes!C21,0,($O$1-1)*13)","v":2.1064263086504331},{"$f":"OFFSET(Componentes!D21,0,($O$1-1)*13)","v":1.8560114471600002},{"$f":"OFFSET(Componentes!E21,0,($O$1-1)*13)","v":2.4142829589778536},{"$f":"OFFSET(Componentes!F21,0,($O$1-1)*13)","v":3.7800621378247579},{"$f":"OFFSET(Componentes!G21,0,($O$1-1)*13)","v":4.1495429433040298},{"$f":"OFFSET(Componentes!H21,0,($O$1-1)*13)","v":3.2266949320658433},{"$f":"OFFSET(Componentes!I21,0,($O$1-1)*13)","v":1.5320993343713951},{"$f":"OFFSET(Componentes!J21,0,($O$1-1)*13)","v":2.3395087086595767},{"$f":"OFFSET(Componentes!K21,0,($O$1-1)*13)","v":"-"},{"$f":"OFFSET(Componentes!L21,0,($O$1-1)*13)","v":"-"},{"$f":"OFFSET(Componentes!M21,0,($O$1-1)*13)","v":"-"},{"$f":"OFFSET(Componentes!N21,0,($O$1-1)*13)","v":"-"},{"$f":"OFFSET(Componentes!O21,0,($O$1-1)*13)","v":1.8314783676538049}]
[]
[null,"(1) La suma de los componentes es igual al tanto por ciento de variación de la demanda total."]
[null,"(2) Una media de las temperaturas máximas diarias por debajo o por encima de los umbrales de invierno y verano respectivamente, produce aumento de la demanda."]

{"sheet":"Componentes año Canarias","index":8,"n_rows":19,"n_cols":12,"rows_kept":19,"cut":false,"hidden":false,"merged":[[16,1,16,11],[18,1,18,11],[17,1,17,14]]}
[null,null,null,null,null,null,null,null,null,null,null,1]
[]
[]
[null,null,null,null,null,null,null,null,null,"Sistema eléctrico"]
[null,null,null,null,null,null,null,null,null,"Horizonte temporal"]
[null,null,null,null,null,null,null,null,null,"Periodo"]
[]
[null,null,{"$f":"OFFSET(Componentes!C44,0,($L$1-1)*10)","v":"2011"},{"$f":"OFFSET(Componentes!D44,0,($L$1-1)*10)","v":"2012"},{"$f":"OFFSET(Componentes!E44,0,($L$1-1)*10)","v":"2013"},{"$f":"OFFSET(Componentes!F44,0,($L$1-1)*10)","v":"2014"},{"$f":"OFFSET(Componentes!G44,0,($L$1-1)*10)","v":"2015"},{"$f":"OFFSET(Componentes!H44,0,($L$1-1)*10)","v":"2016"},{"$f":"OFFSET(Componentes!I44,0,($L$1-1)*10)","v":"2017"},{"$f":"OFFSET(Componentes!J44,0,($L$1-1)*10)","v":"2018"},{"$f":"OFFSET(Componentes!K44,0,($L$1-1)*10)","v":"2019"},{"$f":"OFFSET(Componentes!L44,0,($L$1-1)*10)","v":"2020"}]
[]
[null,"Variación anual",{"$f":"OFFSET(Componentes!C45,0,($L$1-1)*10)","v":-0.27569986471080998},{"$f":"OFFSET(Componentes!D45,0,($L$1-1)*10)","v":0.25147509539518165},{"$f":"OFFSET(Componentes!E45,0,($L$1-1)*10)","v":-3.0233795411808151},{"$f":"OFFSET(Componentes!F45,0,($L$1-1)*10)","v":-0.50683978890657677},{"$f":"OFFSET(Componentes!G45,0,($L$1-1)*10)","v":1.0417985568415},{"$f":"OFFSET(Componentes!H45,0,($L$1-1)*10)","v":1.2476629942351547},{"$f":"OFFSET(Componentes!I45,0,($L$1-1)*10)","v":2.0632759126560485},{"$f":"OFFSET(Componentes!J45,0,($L$1-1)*10)","v":"-"},{"$f":"OFFSET(Componentes!K45,0,($L$1-1)*10)","v":"-"},{"$f":"OFFSET(Componentes!L45,0,($L$1-1)*10)","v":"-"}]
[]
[null,"Componentes (1)"]
[null,"Laboralidad",{"$f":"OFFSET(Componentes!C47,0,($L$1-1)*10)","v":-9.5313958716536362E-3},{"$f":"OFFSET(Componentes!D47,0,($L$1-1)*10)","v":-4.1541670575973022E-2},{"$f":"OFFSET(Componentes!E47,0,($L$1-1)*10)","v":-0.26955151539083122},{"$f":"OFFSET(Componentes!F47,0,($L$1-1)*10)","v":-1.5944981704008043E-2},{"$f":"OFFSET(Componentes!G47,0,($L$1-1)*10)","v":0.17796190654497668},{"$f":"OFFSET(Componentes!H47,0,($L$1-1)*10)","v":0.25490616141954359},{"$f":"OFFSET(Componentes!I47,0,($L$1-1)*10)","v":0.2077618614593213},{"$f":"OFFSET(Componentes!J47,0,($L$1-1)*10)","v":"-"},{"$f":"OFFSET(Componentes!K47,0,($L$1-1)*10)","v":"-"},{"$f":"OFFSET(Componentes!L47,0,($L$1-1)*10)","v":"-"}]
[null,"Temperatura (2)",{"$f":"OFFSET(Componentes!C48,0,($L$1-1)*10)","v":-0.28639906632832446},{"$f":"OFFSET(Componentes!D48,0,($L$1-1)*10)","v":0.2210717183563915},{"$f":"OFFSET(Componentes!E48,0,($L$1-1)*10)","v":-0.51623640104662138},{"$f":"OFFSET(Componentes!F48,0,($L$1-1)*10)","v":-1.1089671449619587},{"$f":"OFFSET(Componentes!G48,0,($L$1-1)*10)","v":7.92261971582775E-3},{"$f":"OFFSET(Componentes!H48,0,($L$1-1)*10)","v":-3.9426598302383375E-2},{"$f":"OFFSET(Componentes!I48,0,($L$1-1)*10)","v":2.4035683542922293E-2},{"$f":"OFFSET(Componentes!J48,0,($L$1-1)*10)","v":"-"},{"$f":"OFFSET(Componentes!K48,0,($L$1-1)*10)","v":"-"},{"$f":"OFFSET(Componentes!L48,0,($L$1-1)*10)","v":"-"}]
[null,"Demanda corregida",{"$f":"OFFSET(Componentes!C49,0,($L$1-1)*10)","v":2.0230597489045987E-2},{"$f":"OFFSET(Componentes!D49,0,($L$1-1)*10)","v":7.1945047614940805E-2},{"$f":"OFFSET(Componentes!E49,0,($L$1-1)*10)","v":-1.9611453595308026},{"$f":"OFFSET(Componentes!F49,0,($L$1-1)*10)","v":0.61807233775941217},{"$f":"OFFSET(Componentes!G49,0,($L$1-1)*10)","v":0.85591497622494739},{"$f":"OFFSET(Componentes!H49,0,($L$1-1)*10)","v":1.0321834311179945},{"$f":"OFFSET(Componentes!I49,0,($L$1-1)*10)","v":1.8314783676538049},{"$f":"OFFSET(Componentes!J49,0,($L$1-1)*10)","v":"-"},{"$f":"OFFSET(Componentes!K49,0,($L$1-1)*10)","v":"-"},{"$f":"OFFSET(Componentes!L49,0,($L$1-1)*10)","v":"-"}]
[]
[null,"(1) La suma de los componentes es igual al tanto por ciento de variación de la demanda total."]
[null,"(2) Una media de las temperaturas máximas diarias por debajo o por encima de los umbrales de invierno y verano respectivamente, produce aumento de la demanda."]
[null,{"$f":"IF(MONTH('AVISO LEGAL'!J2)=1,\"Datos a 31 de diciembre.\",CONCATENATE(\"Datos a 31 de diciembre. Para el año \",YEAR('AVISO LEGAL'!J2), \" datos a \",TEXT('AVISO LEGAL'!J2-30,\"mmmm\"),\" de \",YEAR('AVISO LEGAL'!J2),\".\"))","v":"Datos a 31 de diciembre. Para el año 2017 datos a agosto de 2017."}]

{"sheet":"Componentes","index":9,"n_rows":56,"n_cols":392,"rows_kept":56,"cut":false,"hidden":true,"merged":[]}
[]
[null,"Componentes mensuales del crecimiento de la demanda peninsular (%)","1991-01-01","1991-02-01","1991-03-01","1991-04-01","1991-05-01","1991-06-01","1991-07-01","1991-08-01","1991-09-01","1991-10-01","1991-11-01","1991-12-01","1991","1992-01-01","1992-02-01","1992-03-01","1992-04-01","1992-05-01","1992-06-01","1992-07-01","1992-08-01","1992-09-01","1992-10-01","1992-11-01","1992-12-01","1992","1993-01-01","1993-02-01","1993-03-01","1993-04-01","1993-05-01","1993-06-01","1993-07-01","1993-08-01","1993-09-01","1993-10-01","1993-11-01","1993-12-01","1993","1994-01-01","1994-02-01","1994-03-01","1994-04-01","1994-05-01","1994-06-01","1994-07-01","1994-08-01","1994-09-01","1994-10-01","1994-11-01","1994-12-01","1994","1995-01-01","1995-02-01","1995-03-01","1995-04-01","1995-05-01","1995-06-01","1995-07-01","1995-08-01","1995-09-01","1995-10-01","1995-11-01","1995-12-01","1995","1996-01-01","1996-02-01","1996-03-01","1996-04-01","1996-05-01","1996-06-01","1996-07-01","1996-08-01","1996-09-01","1996-10-01","1996-11-01","1996-12-01","1996","1997-01-01","1997-02-01","1997-03-01","1997-04-01","1997-05-01","1997-06-01","1997-07-01","1997-08-01","1997-09-01","1997-10-01","1997-11-01","1997-12-01","1997","1998-01-01","1998-02-01","1998-03-01","1998-04-01","1998-05-01","1998-06-01","1998-07-01","1998-08-01","1998-09-01","1998-10-01","1998-11-01","1998-12-01","1998","1999-01-01","1999-02-01","1999-03-01","1999-04-01","1999-05-01","1999-06-01","1999-07-01","1999-08-01","1999-09-01","1999-10-01","1999-11-01","1999-12-01","1999","2000-01-01","2000-02-01","2000-03-01","2000-04-01","2000-05-01","2000-06-01","2000-07-01","2000-08-01","2000-09-01","2000-10-01","2000-11-01","2000-12-01","2000","2001-01-01","2001-02-01","2001-03-01","2001-04-01","2001-05-01","2001-06-01","2001-07-01","2001-08-01","2001-09-01","2001-10-01","2001-11-01","2001-12-01","2001","2002-01-01","2002-02-01","2002-03-01","2002-04-01","2002-05-01","2002-06-01","2002-07-01","2002-08-01","2002-09-01","2002-10-01","2002-11-01","2002-12-01","2002","2003-01-01","2003-02-01","2003-03-01","2003-04-01","2003-05-01","2003-06-01","2003-07-01","2003-08-01","2003-09-01","2003-10-01","2003-11-01","2003-12-01","2003","2004-01-01","2004-02-01","2004-03-01","2004-04-01","2004-05-01","2004-06-01","2004-07-01","2004-08-01","2004-09-01","2004-10-01","2004-11-01","2004-12-01","2004","2005-01-01","2005-02-01","2005-03-01","2005-04-01","2005-05-01","2005-06-01","2005-07-01","2005-08-01","2005-09-01","2005-10-01","2005-11-01","2005-12-01","2005","2006-01-01","2006-02-01","2006-03-01","2006-04-01","2006-05-01","2006-06-01","2006-07-01","2006-08-01","2006-09-01","2006-10-01","2006-11-01","2006-12-01","2006","2007-01-01","2007-02-01","2007-03-01","2007-04-01","2007-05-01","2007-06-01","2007-07-01","2007-08-01","2007-09-01","2007-10-01","2007-11-01","2007-12-01","2007","2008-01-01","2008-02-01","2008-03-01","2008-04-01","2008-05-01","2008-06-01","2008-07-01","2008-08-01","2008-09-01","2008-10-01","2008-11-01","2008-12-01","2008","2009-01-01","2009-02-01","2009-03-01","2009-04-01","2009-05-01","2009-06-01","2009-07-01","2009-08-01","2009-09-01","2009-10-01","2009-11-01","2009-12-01","2009","2010-01-01","2010-02-01","2010-03-01","2010-04-01","2010-05-01","2010-06-01","2010-07-01","2010-08-01","2010-09-01","2010-10-01","2010-11-01","2010-12-01","2010","2011-01-01","2011-02-01","2011-03-01","2011-04-01","2011-05-01","2011-06-01","2011-07-01","2011-08-01","2011-09-01","2011-10-01","2011-11-01","2011-12-01","2011","2012-01-01","2012-02-01","2012-03-01","2012-04-01","2012-05-01","2012-06-01","2012-07-01","2012-08-01","2012-09-01","2012-10-01","2012-11-01","2012-12-01","2012","2013-01-01","2013-02-01","2013-03-01","2013-04-01","2013-05-01","2013-06-01","2013-07-01","2013-08-01","2013-09-01","2013-10-01","2013-11-01","2013-12-01","2013","2014-01-01","2014-02-01","2014-03-01","2014-04-01","2014-05-01","2014-06-01","2014-07-01","2014-08-01","2014-09-01","2014-10-01","2014-11-01","2014-12-01","2014","2015-01-01","2015-02-01","2015-03-01","2015-04-01","2015-05-01","2015-06-01","2015-07-01","2015-08-01","2015-09-01","2015-10-01","2015-11-01","2015-12-01","2015","2016-01-01","2016-02-01","2016-03-01","2016-04-01","2016-05-01","2016-06-01","2016-07-01","2016-08-01","2016-09-01","2016-10-01","2016-11-01","2016-12-01","2016","2017-01-01","2017-02-01","2017-03-01","2017-04-01","2017-05-01","2017-06-01","2017-07-01","2017-08-01","2017-09-01","2017-10-01","2017-11-01","2017-12-01","2017","2018-01-01","2018-02-01","2018-03-01","2018-04-01","2018-05-01","2018-06-01","2018-07-01","2018-08-01","2018-09-01","2018-10-01","2018-11-01","2018-12-01","2018","2019-01-01","2019-02-01","2019-03-01","2019-04-01","2019-05-01","2019-06-01","2019-07-01","2019-08-01","2019-09-01","2019-10-01","2019-11-01","2019-12-01","2019","2020-01-01","2020-02-01","2020-03-01","2020-04-01","2020-05-01","2020-06-01","2020-07-01","2020-08-01","2020-09-01","2020-10-01","2020-11-01","2020-12-01","2020"]
[null,"Variación mensual",5.1959999999999997,14.122,-0.33700000000000002,4.9370000000000003,4.9649999999999999,6.4000000000000001E-2,2.69,3.3149999999999999,4.3280000000000003,6.9320000000000004,3.919,-2.2069999999999999,3.8759999999999999,4.367,3.4940000000000002,7.024,1.1910000000000001,-9.1999999999999998E-2,-1.4139999999999999,1.45,2.0619999999999998,0.44500000000000001,-1.141,-4.431,-2.2080000000000002,0.90600000000000003,-5.0810000000000004,-4.8220000000000001,1.5820000000000001,-2.641,-1.5720000000000001,3.645,-1.0089999999999999,0.82199999999999995,-1.212,1.581,6.7240000000000002,4.6630000000000003,0.11700000000000001,0.33800000000000002,1.974,-2.9449999999999998,6.5279999999999996,5.8739999999999997,7.2160000000000002,7.6890000000000001,8.1519999999999992,6.6449999999999996,0.94099999999999995,-0.52,2.95,3.5649999999999999,6.41,-0.57799999999999996,9.9320000000000004,1.958,6.0709999999999997,4.0640000000000001,2.294,3.8450000000000002,2.6349999999999998,4.2569999999999997,3.089,1.2050000000000001,3.7559999999999998,-0.97099999999999997,11.891,1.82,1.4219999999999999,0.69599999999999995,2.718,3.2530000000000001,1.1870000000000001,0.57699999999999996,4.2009999999999996,5.1559999999999997,3.9729999999999999,2.9489999999999998,6.8070000000000004,-7.5490000000000004,-4.3810000000000002,7.9029999999999996,4.6719999999999997,2.0920000000000001,2.415,6.0609999999999999,10.842000000000001,6.766,5.0309999999999997,7.8529999999999998,3.94,2.5790000000000002,9.5670000000000002,11.101000000000001,5.984,4.8979999999999997,8.0340000000000007,10.382,6.4829999999999997,3.8340000000000001,3.996,5.5430000000000001,7.298,6.5839999999999996,6.5670000000000002,9.2420000000000009,7.085,2.3239999999999998,6.7290000000000001,6.7869999999999999,6.3940000000000001,6.02,5.8220000000000001,4.508,10.576000000000001,5.9240000000000004,6.5069999999999997,10.367000000000001,4.8109999999999999,6.3689999999999998,8.3309999999999995,6.3339999999999996,6.8559999999999999,1.919,6.7610000000000001,6.7350000000000003,6.7729999999999997,4.09,1.0820000000000001,5.7939999999999996,2.4889999999999999,5.125,5.24,2.1739999999999999,7.2380000000000004,6.1740000000000004,6.4509999999999996,7.12,3.0750000000000002,4.8140000000000001,5.2350000000000003,10.151,5.4489999999999998,5.7519999999999998,3.0619999999999998,2.3039999999999998,9.5850000000000009,3.0089999999999999,1.6919999999999999,4.6609999999999996,-1.004,2.8780000000000001,5.383,0.254,-1.923,2.8919999999999999,4.4370000000000003,10.435,4.9939999999999998,-6.8000000000000005E-2,3.2789999999999999,8.8450000000000006,8.6120000000000001,12.847,7.1890000000000001,6.2210000000000001,5.7770000000000001,8.6940000000000008,6.7489999999999997,0.65300000000000002,3.7789999999999999,11.178000000000001,7.3730000000000002,4.2919999999999998,2.496,2.9710000000000001,1.466,6.117,2.1749999999999998,7.0369999999999999,5.0750000000000002,4.4889999999999999,10.345000000000001,7.7130000000000001,2.1459999999999999,4.319,3.6970000000000001,5.7670000000000003,4.3010000000000002,2.97,1.0269999999999999,0.50900000000000001,2.226,6.4779999999999998,4.3250000000000002,4.5149999999999997,1.2869999999999999,4.4649999999999999,-1.9330000000000001,6.085,1.7050000000000001,6.96,5.3959999999999999,6.8920000000000003,6.3239999999999998,-0.373,1.7250000000000001,3.573,3.0329999999999999,-0.32400000000000001,2.7210000000000001,8.452,2.4119999999999999,1.101,-0.80800000000000005,2.472,0.28599999999999998,3.7469999999999999,9.3629999999999995,3.6629999999999998,2.9239999999999999,1.1339999999999999,6.4359999999999999,-1.1240000000000001,6.0979999999999999,0.41899999999999993,3.0000000000000027E-3,1.698,2.923,0.87399999999999989,-0.42399999999999993,-2.0649999999999999,-2.4040000000000004,1.0549999999999999,-2.7110000000000003,-7.367,-6.2140000000000004,-10.553000000000001,-6.2480000000000002,-2.5640000000000001,-3.508,-2.673,-3.2309999999999999,-3.7850000000000001,-6.3620000000000001,-1.893,-4.7309999999999999,-8.295091645769137E-2,4.9097308149784302,9.0319051614611734,3.6760198073962025,3.9752150208952175,-0.49488393417065346,3.2130008376540564,1.4535292520552634,1.4772702935142101,0.85484889840499179,6.6248658550485118,3.1456302502556488,3.113747511510212,-0.34975041793952055,-2.2635023633929441,-0.34328770608353931,-3.4150225173728344,-0.3750678317658851,1.4769225033161471,-4.9610007067883766,0.61892444440116989,1.5401815274405095,-0.77837300625794859,-6.3478695916726284,-6.6691795391633946,-1.8921438939156321,-2.4397721423962238,7.1577648652779491,-6.200117585835363,1.1605357258675619,-0.76224363446367738,5.6670996029994924E-2,-1.481302978808019,-0.65335297419422123,-5.8352684184739045,-3.0590936951707781,-1.6711493915903208,-2.5083891650257262,-1.4018855162962751,-2.3266743587123995,-10.452067987890935,-0.51278148704074766,0.10766245500872795,-3.6842818850583936,-7.7504289465204383,-0.15407313728361682,-3.9160154856016427,-0.44407576373413082,0.32302080480741679,1.0386016428421296,1.9579264713679878,-2.2402750402234606,-2.2155433157190374,-0.86286591595419182,-1.4058441294386492,-3.7562230961343035,0.1616941813106676,2.3841103233923411,-2.38008206748207,-2.1049201761867753,2.8196581959589961,-0.47554273630311394,-3.3951493557905832,-1.9415903550864422,-1.1464872953274474,2.9047165261073538,3.146716108685621,1.261139464478922,0.45412559851720768,1.8171311779648258,3.964183203295768,11.113118004953805,3.4999200751918425,-3.3093700689531436,0.21003421697258773,0.47804348614433056,-1.9977688868191845,1.9932680166065753,-5.3952140941137312,-0.78379594879626202,1.383135451025197,5.7016092743980895,-0.50448282555382029,-0.63831238256667477,-5.2682970866829493,2.7183094516695983,6.2924545603792792,0.48668441886052793,3.7533320235580314,2.0426609141710239,0.63669560133439163,7.6904294220506264,-4.4218165680154904,-1.6698334998862863,-5.518982922379001,3.2669837180056449,6.8082781440560236,0.88748583927105162,1.5909160226738495,"-","-","-","-",1.0948437876082018,"-","-","-","-","-","-","-","-","-","-","-","-","-","-","-","-","-","-","-","-","-","-","-","-","-","-","-","-","-","-","-","-","-","-","-","-","-","-","-"]
[]
[null,"Laboralidad",0.29599999999999999,-0.17399999999999999,-4.1029999999999998,3.1619999999999999,-0.22,-0.97899999999999998,-0.35499999999999998,1.522,0.71099999999999997,0.65900000000000003,-0.187,-0.32100000000000001,-8.9999999999999993E-3,-0.51200000000000001,3.4289999999999998,3.0019999999999998,-2.1,-0.7,0.45800000000000002,1.3540000000000001,-1.881,0.64600000000000002,-0.54600000000000004,0.17199999999999999,1.6850000000000001,0.39800000000000002,-1.8009999999999999,-3.113,1.155,0,0.58199999999999996,0.40500000000000003,-0.47499999999999998,0.66,0.56000000000000005,-1.3089999999999999,0.115,0.224,-0.251,-0.61399999999999999,0,-0.10100000000000001,0.46400000000000002,0.14699999999999999,0.153,-1.2709999999999999,0.26100000000000001,0.30099999999999999,-0.53,0,-0.14699999999999999,-0.11700000000000001,1.6220000000000001,0,0.64,-1.92,0.25700000000000001,7.3999999999999996E-2,0.17699999999999999,-0.28699999999999998,-0.84199999999999997,0.61699999999999999,0,-0.73,-3.4000000000000002E-2,0.69699999999999995,4.101,-1.5940000000000001,1.367,-0.45500000000000002,-1.4410000000000001,1.377,-0.38500000000000001,-0.68600000000000005,1.8180000000000001,-1.0649999999999999,-0.94599999999999995,0.20399999999999999,-0.75700000000000001,-3.5169999999999999,1.474,-1.4750000000000001,0.47099999999999997,1.4119999999999999,-1.3839999999999999,0.40200000000000002,0.751,-1.8959999999999999,1.0529999999999999,0.97199999999999998,-0.20599999999999999,-0.73299999999999998,0,-1.504,1.1240000000000001,-1.399,-0.65500000000000003,1.621,-0.66600000000000004,-0.52100000000000002,0.86199999999999999,-0.45600000000000002,-0.89800000000000002,-0.26900000000000002,-0.26700000000000002,0,0.84899999999999998,0.26100000000000001,0.70699999999999996,0.114,-0.51100000000000001,1.5960000000000001,1.1619999999999999,-1.538,0.55400000000000005,1.482,0.36799999999999999,-0.158,3.4689999999999999,0.90700000000000003,-1.7110000000000001,0.66400000000000003,0.71899999999999997,-1.7070000000000001,0.65300000000000002,-0.68500000000000005,1.9830000000000001,7.3999999999999996E-2,-1.546,0.21299999999999999,2.3639999999999999,-3.601,0,3.6999999999999998E-2,0,-0.378,0.14899999999999999,0.11,-1.3779999999999999,-0.435,-0.113,-0.88900000000000001,-0.312,-0.63400000000000001,0,-4.7130000000000001,4.1040000000000001,-7.0999999999999994E-2,-1.802,0.86699999999999999,-0.57499999999999996,1.0669999999999999,0.97299999999999998,0.17899999999999999,0.998,1.2999999999999999E-2,0.29399999999999998,0,2.8820000000000001,-2.448,-0.72099999999999997,0.58699999999999997,0.93,-0.38700000000000001,0.68500000000000005,-0.109,-0.60799999999999998,0.70699999999999996,0.14799999999999999,-1.617,2.88,1.645,0.156,0.57899999999999996,1.4179999999999999,-0.17699999999999999,0.89500000000000002,0.52500000000000002,-2.032,0.76300000000000001,-7.4999999999999997E-2,0.39400000000000002,-0.91400000000000003,-3.0739999999999998,-2.9870000000000001,2.7429999999999999,-7.1999999999999995E-2,0.33700000000000002,-0.90300000000000002,3.5000000000000003E-2,0,-0.28100000000000003,-0.183,0.80200000000000005,-0.35699999999999998,2.0289999999999999,0,3.0379999999999998,-4.1790000000000003,0.33100000000000002,0,-0.14799999999999999,-0.17899999999999999,-1.069,0.51800000000000002,-0.71699999999999997,-0.80900000000000005,-9.5000000000000001E-2,0.69099999999999995,0,-0.53100000000000003,8.1000000000000003E-2,-0.107,-0.502,0.48099999999999998,0.14099999999999999,-1.423,1.1910000000000001,0.159,-0.71899999999999997,-4.2000000000000003E-2,-0.248,3.9409999999999998,-4.1349999999999998,4.0970000000000004,-0.81,-0.54,0.76900000000000002,-0.92100000000000004,0.80600000000000005,0.88,0.24399999999999999,1.2749999999999999,0.4,-1.24,-3.484,2.601,-3.206,-0.16300000000000001,0.85899999999999999,0.23300000000000001,-1.127,0.91,-1.105,0.33500000000000002,-0.48799999999999999,-0.48399999999999999,-0.45775900801530156,0.14398568401103873,0.52921222679516156,0.23345308197708636,0.50718037542016869,0.20156344612576316,-0.42072234652739127,0.58909227348269422,-0.32079029133649239,-1.196977939569166,6.657718385549849E-3,0.62251548589489225,5.4714882115680652E-2,0.32875731374492068,-6.2833379703031156E-2,0.74589295433323821,-0.57856864311863765,0.24059591106556644,-1.1491133484020644E-2,-1.1275598485681493,0.34287771563137337,0.57843393686867195,0.12673511710462604,5.8208003230674876E-2,0.74266573303901673,0.12569471050719594,1.5685245776101309,3.5892082862250207,-1.0964440856731095,-0.71562360145311921,0.23350240119126564,-0.17845502674025404,0.24209359182066903,-5.7544058787439845E-2,-1.6760034976772582,0.1604442997419242,-0.88551664962495114,-1.0983614530725383,-0.27277967170862283,0.40159529080975309,-2.9676466848316156,-2.6649498644956804,3.2829410187899311,8.9082898051862092E-2,-1.2547014452730441,1.9147150355347864,0.11535833916631644,0.98675480301302354,2.2119656292558743,0.70232819449944639,-0.22996806833148753,0.19505514450648409,-1.049612591595972,4.7048909070679379E-2,2.2951064251504172,-2.1373554194520139,-0.79288170940019498,0.20998105342537876,0.17669809373782597,-0.64995338705243766,0.97699289077080032,-0.11010872868154609,-0.22403972037208231,0.8343235875409416,-1.468303779090796E-2,-1.1632379052946895,9.7006165372670594E-3,0.1475110332464391,0.72013555262111506,-0.28759642269446939,0.98148012771328563,5.1864111260435664E-2,0.26985993474475389,-0.11389713707036231,-1.133666469993555,0.22122594110414173,-0.67871670702094322,-8.9307550465789198E-2,-4.8479848311462348E-3,3.7231561202590524,-1.4959253385032456,2.1939293416078698,0.8062027077059164,0.31299700487285032,-1.2581018940258204,1.7240847267967263,0.3765083129227742,-0.84424083719649712,0.38708563986293854,1.7390899431882323,0.60001516711851721,1.1876381000754721,-3.4418405582103517E-2,2.6829979215117876,-3.605638272922318,0.54575065780082532,0.24756180000233829,-7.0912609962370254E-2,-0.14043845143405509,"-","-","-","-",-0.29428317579753838,"-","-","-","-","-","-","-","-","-","-","-","-","-","-","-","-","-","-","-","-","-","-","-","-","-","-","-","-","-","-","-","-","-","-","-","-","-","-","-"]
[null,"Temperatura",2.8839999999999999,14.092000000000001,1.8520000000000001,1.05,1.764,-7.2999999999999995E-2,-0.52500000000000002,0.80100000000000005,-0.156,1.83,0.495,-5.09,1.4650000000000001,4.6360000000000001,-2.0840000000000001,0.92500000000000004,-2.2250000000000001,-1.228,-0.64100000000000001,-1.079,-1.34,-1.07,-0.104,-3.972,-1.2430000000000001,-0.73099999999999998,-3.476,-4.4999999999999998E-2,2.0539999999999998,0.23899999999999999,-0.78900000000000003,2.1930000000000001,-0.28899999999999998,0.58599999999999997,-0.40500000000000003,0.77900000000000003,5.6139999999999999,0.28999999999999998,0.495,-2.843,-2.3220000000000001,-5.6619999999999999,0.14399999999999999,0,1.3160000000000001,2.9820000000000002,0.87,0.41899999999999998,-4.117,-5.6929999999999996,-1.26,-1.446,-1.869,-5.173,2.7,-1.8839999999999999,0,-0.70299999999999996,-0.219,-0.92600000000000005,-0.56699999999999995,-0.01,0.58499999999999996,-0.70099999999999996,-0.73599999999999999,-2.964,5.9509999999999996,1.6859999999999999,-0.40100000000000002,0.29799999999999999,0.51200000000000001,-2.0750000000000002,-2.2120000000000002,-0.81799999999999995,0.189,2.5880000000000001,-0.13200000000000001,0.18099999999999999,3.38,-8.1489999999999991,-6.673,-1.5349999999999999,-0.29499999999999998,-1.3320000000000001,-1.464,1.36,1.9039999999999999,0.4,-1.107,-0.63600000000000001,-1.222,-3.4510000000000001,1.2330000000000001,1.7929999999999999,2.7709999999999999,0.24,0.25900000000000001,2.2930000000000001,0.42199999999999999,-0.188,1.0999999999999999E-2,-0.58899999999999997,2.29,0.55900000000000005,1.2509999999999999,4.8109999999999999,2.3559999999999999,-1.4890000000000001,-0.22600000000000001,3.9750000000000001,5.8999999999999997E-2,-6.5000000000000002E-2,-0.35099999999999998,-0.46899999999999997,3.0019999999999998,-2.9849999999999999,0.78600000000000003,3.4830000000000001,-5.7910000000000004,-1.1259999999999999,1.4339999999999999,0,0.21,-1.4330000000000001,-1.1479999999999999,-0.11,0.39800000000000002,-2.5510000000000002,-2.2440000000000002,-0.75800000000000001,-6.6980000000000004,3.577,-1.786,-0.61299999999999999,2.0339999999999998,-0.183,-0.49399999999999999,0.76300000000000001,-0.28899999999999998,-0.437,2.5430000000000001,7.6520000000000001,0.47699999999999998,0.443,-0.83599999999999997,2.3380000000000001,0.315,-1.0449999999999999,0.19600000000000001,0.42599999999999999,-1.6919999999999999,-0.13800000000000001,0.26200000000000001,-4.4829999999999997,-8.3770000000000007,-1.1240000000000001,0.75600000000000001,3.92,-1.7609999999999999,-1.407,-0.36199999999999999,3.1579999999999999,1.657,3.887,0.50900000000000001,0.84899999999999998,-0.59799999999999998,3.2149999999999999,1.1459999999999999,-2.0099999999999998,-1.5149999999999999,3.62,1.0669999999999999,0.24299999999999999,-1.917,-0.61,-1.8149999999999999,0.27300000000000002,-3.3000000000000002E-2,1.32,0.19500000000000001,-0.129,6.1109999999999998,7.62,0.80400000000000005,1.7999999999999999E-2,-0.21299999999999999,1.4590000000000001,1.1719999999999999,0.128,-0.41599999999999998,-0.53500000000000003,0.161,1.911,1.5509999999999999,-0.248,-3.0390000000000001,-1.6879999999999999,-0.62,-0.125,-1.5609999999999999,0.96899999999999997,-0.254,0.41899999999999998,-1.4E-2,-2.5609999999999999,-2.3780000000000001,-0.94899999999999995,-2.8780000000000001,-6.2279999999999998,-0.97799999999999998,-0.26400000000000001,-9.7000000000000003E-2,-1.9079999999999999,-3.3479999999999999,-0.32300000000000001,-0.87,0.13600000000000001,2.008,-0.151,-1.2949999999999999,-1.76,-0.91800000000000004,2.1999999999999999E-2,-1.587,-0.152,0.51800000000000002,-0.68400000000000005,0.433,-8.1000000000000003E-2,5.2999999999999999E-2,1.821,1.5449999999999999,-5.8000000000000003E-2,2.714,3.0859999999999999,-0.90400000000000003,1.5109999999999999,0.111,0.89400000000000002,0.46200000000000002,0.28699999999999998,4.5999999999999999E-2,0.49299999999999999,-3.0649999999999999,-0.58499999999999996,0.441,-0.86579135576863031,2.4203246604060036,3.5094929836926303,-0.87173228135124514,1.5429368828289158,-3.0931362132768925,0.42149405119873418,-1.2167295913984022,-0.40771350737021095,-1.3848109797378827,4.2477893864107275,0.73297117900821274,0.39683130554921675,-1.2543402709666474,-4.0253282405743107,-0.79637455013661373,-1.7546645369694192,-0.86642010028288308,1.3661114760503912,-2.9363490328295438,-2.803587060573598E-2,2.218280811121276,2.6773046868254435,-3.0183568943032872,-3.3048076274947435,-1.0279343645701822,-1.6450678215812253,4.6120086826506368,-2.9693508536411621,2.3653802703209825,1.556251894549765,2.1008591537656773,1.1999999999999997,1.5483925648260066,-1.2852346464459989,-1.6917793706014761,2.0651738119599194,1.0332458440071357,0.68966900349782811,1.050444998023814,-1.7880010053953121,3.9766271591981983,-0.23289774803796348,-1.5899014492184338,-4.2176776984821593,1.3950076269018119,-1.7140054829436036,-0.15001924245060527,-0.15275731808150894,6.5476701577549257E-2,0.35414032362732772,-0.27208548834806168,-0.68649854982394398,-0.76409041701509528,-3.4739863297113427,-1.8737568785833325,-1.4079856678838709,1.8894307984724579,-2.6190776502014623,-1.3817041294391874,0.6095628246830298,0.899495933532235,-2.0940803407063946,-0.48130920571696212,-0.9848184080399891,0.4790135678482299,1.9295295042522476,1.0316038674016093,-0.6707287800570283,2.5854251315860943,2.5226887195012981,5.5790612111075406,0.79574731003488886,-2.9212143749316688,-2.2878136148724248,-1.1910852107095415,-3.929784313046258,0.35847354711551205,-1.8242885437072083,-3.2525817534339585,0.92539483572218195,1.1293384790574068,-1.3525896608346022,-0.7459457423171556,-1.0084523070079676,0.77609415321857611,2.1674605486097898,0.3951967290290348,2.4063048677112286,2.4608123300084106,8.9152959854232883E-2,1.1285739269210504,-5.8504477569467079,-2.7151369577778195,-0.78677790287972016,1.5736066284946171,2.4608622246213629,-5.3976509781783477E-4,0.11982083465842397,"-","-","-","-",-1.9925727601477483E-2,"-","-","-","-","-","-","-","-","-","-","-","-","-","-","-","-","-","-","-","-","-","-","-","-","-","-","-","-","-","-","-","-","-","-","-","-","-","-","-"]
[null,"Demanda corregida",2.016,0.20399999999999885,1.9139999999999995,0.72500000000000053,3.4209999999999998,1.1160000000000001,3.57,0.99199999999999999,3.7730000000000006,4.4430000000000005,3.6110000000000002,3.2039999999999997,2.42,0.24299999999999944,2.1490000000000005,3.0970000000000004,5.516,1.8359999999999999,-1.2309999999999999,1.1749999999999998,5.2829999999999995,0.86899999999999999,-0.49099999999999999,-0.63100000000000023,-2.6500000000000004,1.2389999999999999,0.19599999999999973,-1.6640000000000001,-1.6269999999999996,-2.88,-1.365,1.0470000000000002,-0.24499999999999988,-0.42400000000000004,-1.367,2.1109999999999998,0.99500000000000011,4.149,-0.127,3.7949999999999999,4.2960000000000003,2.8180000000000001,5.92,5.7269999999999994,5.7469999999999999,5.9779999999999998,7.020999999999999,5.9249999999999998,5.5880000000000001,5.173,4.3570000000000002,5.1280000000000001,6.657,4.5949999999999998,6.5920000000000005,5.7619999999999996,5.8140000000000001,4.6929999999999996,2.3359999999999999,5.0579999999999998,4.0439999999999996,3.6499999999999995,2.504,2.6360000000000001,4.5259999999999998,1.2959999999999998,1.8390000000000004,1.7280000000000002,0.45599999999999996,0.85299999999999998,3.6470000000000002,3.9510000000000005,3.7840000000000007,2.081,2.1939999999999995,3.6329999999999996,5.0510000000000002,2.5640000000000001,4.1840000000000011,4.1169999999999982,0.81799999999999962,10.913,4.4959999999999996,2.0120000000000005,5.2629999999999999,4.2989999999999995,8.1870000000000012,8.2620000000000005,5.085,7.5169999999999995,5.3680000000000003,6.7629999999999999,8.3339999999999996,10.812000000000001,2.089,6.0569999999999995,8.4300000000000015,6.468,6.7269999999999994,4.5430000000000001,3.1230000000000002,6.5880000000000001,5.9060000000000006,6.2939999999999996,5.5830000000000002,4.4310000000000009,3.88,3.552,6.2480000000000002,2.6979999999999995,6.8460000000000001,4.488999999999999,5.0110000000000001,6.5150000000000006,7.0200000000000005,7.4270000000000005,5.3529999999999998,7.0420000000000007,7.1330000000000009,6.5879999999999992,8.6080000000000005,5.67,5.9269999999999996,5.0590000000000002,7.2560000000000002,7.53,4.3919999999999995,6.5670000000000002,4.8719999999999999,6.3389999999999995,6.8230000000000004,5.149,7.0259999999999998,2.75,5.2040000000000006,6.7350000000000003,6.7959999999999994,6.2469999999999999,4.742,5.6859999999999999,2.8050000000000002,3.3879999999999999,5.2839999999999998,5.9429999999999996,3.8979999999999997,4.6790000000000003,5.1660000000000004,4.125,3.298,3.3679999999999994,1.2629999999999999,1.9490000000000003,4.1479999999999997,4.5579999999999998,5.4560000000000004,4.0030000000000001,3.3870000000000005,6.5150000000000006,3.8729999999999993,3.7869999999999999,4.3620000000000001,5.1000000000000005,6.0250000000000004,9.3469999999999995,5.9950000000000001,5.4809999999999999,6.9830000000000005,4.7720000000000011,5.4550000000000001,4.2799999999999994,2.4139999999999997,5.9130000000000003,6.15,3.4699999999999998,2.9950000000000001,3.758,2.3860000000000001,5.319,4.24,4.9539999999999997,4.9550000000000001,4.2240000000000002,5.1480000000000006,3.1669999999999998,4.3289999999999997,1.5580000000000003,3.9820000000000002,3.9710000000000001,4.032,2.8070000000000004,1.4429999999999998,1.3250000000000002,2.2479999999999998,3.7649999999999997,3.1310000000000002,2.734,4.3260000000000005,3.1150000000000002,2.8660000000000005,5.8789999999999996,3.266,6.1390000000000002,5.8289999999999997,7.5419999999999998,5.82,2.9050000000000002,4.9120000000000008,4.617,5.2200000000000006,5.9039999999999999,4.2300000000000004,8.6349999999999998,2.6160000000000001,3.5110000000000001,2.0590000000000002,2.6539999999999999,2.5790000000000002,2.42,7.1959999999999997,4.5329999999999995,4.2609999999999992,3.1419999999999999,3.4130000000000003,2.9889999999999994,3.5879999999999992,1.381,2.5000000000000022E-2,1.613,3.411,0.1489999999999998,-1.357,-4.13,-5.2240000000000002,0.71299999999999986,-4.1850000000000005,-6.9689999999999994,-7.9110000000000005,-8.8580000000000005,-6.1960000000000006,-4.3170000000000002,-4.2030000000000003,-1.833,-4.1870000000000003,-3.173,-3.6320000000000001,-0.82000000000000006,-4.6879999999999997,1.2405994473262405,2.3454204705613879,4.9931999509733815,4.3142990067703613,1.925097762646133,2.3966888329804759,3.2122291329827135,2.0811665699709714,2.2057740922209135,3.4366378177120405,2.3704187502522345,1.7901435853525438,2.6622013238452702,0.57583253928220612,1.8246592568843978,-0.29280611028016379,-1.0817893372847776,0.25075635745143154,0.12230216074977651,-0.89709182539068344,0.3040825993755325,-1.2565332205494384,-3.5824128101880182,-3.3877207006000161,-4.1070376447076677,-0.98990423985260145,-2.3632288984251293,-1.0434521035977085,-2.1343226465210914,-0.48922094300030139,-2.551997930204708,-1.8657331309954284,-2.9233965706286877,-2.144201480232788,-2.8740302743506474,-1.5277586243112262,-2.8508065539252891,-2.4432735559603236,-1.8187748480855248,-3.7787146475459665,-5.692527005484493,-1.8244587817432656,-2.9423808157432396,-2.1834633338918219,-2.2780498027652345,-3.4637957997202151,-2.3173683418243556,-1.2808113242965491,-1.7361875063669485,0.27079674676513399,1.8337542160721476,-2.1632446963818164,-0.47943217429912144,-0.14582440800977592,-0.22696422487772372,0.25488920190104292,2.3625615585947335,0.28469847149450445,6.2297488981566396E-2,-7.3262659695150223E-2,1.233102480505166,-1.2649299411538029,-1.0770292947121063,-2.2946047369104217,-0.14698584949660587,3.5889408635538134,1.2074859878961064,8.2024563830873642E-2,0.40471882595312092,-0.48069753092679912,0.46001435608118424,5.4821926825858283,2.4343128304121997,-0.27425855695111245,3.6315143018385676,1.4479027557497304,2.6107321332480167,1.7367886721775916,-3.5660775655753767,-1.2543703156213559,1.9536659538062606,2.3783414537328129,4.1904127574865502E-2,-0.20536364512236949,-3.0017428856491613,0.21813057165429584,3.7484856988467152,0.93572852702799025,0.95994151598386424,-2.157241359025619,-5.2472525638358469E-2,5.3742173950541039,1.4630495945133211,-1.6376944636202544,-1.1265667465769629,1.1476264317102025,4.0998541194323224,0.95893821433123971,1.6115336394494806,"-","-","-","-",1.4090526910072176,"-","-","-","-","-","-","-","-","-","-","-","-","-","-","-","-","-","-","-","-","-","-","-","-","-","-","-","-","-","-","-","-","-","-","-","-","-","-","-"]
[]
[null,"Componentes mensuales del crecimiento de la demanda Islas Baleares (%)","2011-01-01","2011-02-01","2011-03-01","2011-04-01","2011-05-01","2011-06-01","2011-07-01","2011-08-01","2011-09-01","2011-10-01","2011-11-01","2011-12-01","2011","2012-01-01","2012-02-01","2012-03-01","2012-04-01","2012-05-01","2012-06-01","2012-07-01","2012-08-01","2012-09-01","2012-10-01","2012-11-01","2012-12-01","2012","2013-01-01","2013-02-01","2013-03-01","2013-04-01","2013-05-01","2013-06-01","2013-07-01","2013-08-01","2013-09-01","2013-10-01","2013-11-01","2013-12-01","2013","2014-01-01","2014-02-01","2014-03-01","2014-04-01","2014-05-01","2014-06-01","2014-07-01","2014-08-01","2014-09-01","2014-10-01","2014-11-01","2014-12-01","2014","2015-01-01","2015-02-01","2015-03-01","2015-04-01","2015-05-01","2015-06-01","2015-07-01","2015-08-01","2015-09-01","2015-10-01","2015-11-01","2015-12-01","2015","2016-01-01","2016-02-01","2016-03-01","2016-04-01","2016-05-01","2016-06-01","2016-07-01","2016-08-01","2016-09-01","2016-10-01","2016-11-01","2016-12-01","2016","2017-01-01","2017-02-01","2017-03-01","2017-04-01","2017-05-01","2017-06-01","2017-07-01","2017-08-01","2017-09-01","2017-10-01","2017-11-01","2017-12-01","2017","2018-01-01","2018-02-01","2018-03-01","2018-04-01","2018-05-01","2018-06-01","2018-07-01","2018-08-01","2018-09-01","2018-10-01","2018-11-01","2018-12-01","2018","2019-01-01","2019-02-01","2019-03-01","2019-04-01","2019-05-01","2019-06-01","2019-07-01","2019-08-01","2019-09-01","2019-10-01","2019-11-01","2019-12-01","2019","2020-01-01","2020-02-01","2020-03-01","2020-04-01","2020-05-01","2020-06-01","2020-07-01","2020-08-01","2020-09-01","2020-10-01","2020-11-01","2020-12-01","2020"]
[null,"Variación mensual",-2.7072453710947242,-5.441823035549131,-3.8615652737271633,-4.7386115323468037,4.2767545205843582,5.9441593210324717,-5.2472158013937342,2.3470990082113508,6.6943713464469257,0.965256585861618,-7.9660681823862429,-11.956881789520235,-1.6606524548530399,-3.8193111310417471,17.314460646963003,-4.2212885370502828,1.8682814161201433,-2.0596054911259043,5.9703405845257018,2.347455046500424,5.4700195379493444,-7.4816068338763646,0.21243770387902039,-9.8177976575319903E-2,1.4584630983657254,1.3808117435721634,-2.8746089011551623,-16.066470955142197,-2.3412025176927975,-0.87401086926327531,-0.8120259966820087,-10.004968060086906,1.5618319437216366,-6.3093369005390088,-7.5846329582929251E-2,2.643514093734578,6.2718399725558038,3.3738761837263098,-2.5601668781725095,-4.567608300742898,-9.1825570160192331,-2.5246476725765854,-2.035765015545099,-1.0275680080406357,5.841444561654674,-3.3691408880479834,-0.60025033180139964,11.253266214798053,-1.5536374404867104,-9.9018778266723331,-4.6539667845292509,-1.5530968963448633,5.8791351324568364,12.392539650573742,5.7411799465639346,1.9579324888081562,2.9247100387855163,2.9009138500048604,15.912604422957809,4.5186538600896275,-8.0711351283723971,-1.3706742993957688,4.5271404191891351,-2.006836202648643,3.7778742191372894,-8.7264995465370596,-6.5679131516994893,2.4404724752171925,4.2580922841070956,4.8550003240659612,2.1199838037301744,-7.5173085074878294,-0.79356251453244209,8.6559954923704829,6.6307917644139902,3.9180063077449256,2.6501278758757296,0.61663458006249172,16.052217684574345,-1.9506644574825649,-8.6851288450341961,0.29662674534494116,2.4582951074715975,8.3923406558619629,5.9211821182374669,9.0895397443398362,"-","-","-","-",4.3760817155816589,"-","-","-","-","-","-","-","-","-","-","-","-","-","-","-","-","-","-","-","-","-","-","-","-","-","-","-","-","-","-","-","-","-","-","-","-","-","-","-"]
[]
[null,"Laboralidad",-8.9428107122002665E-2,3.3394977920953473E-2,0.15229791080861865,-0.263007247464353,-6.0319330999836218E-2,1.6559067232924107E-2,-0.48381879594255928,-5.2788839426809453E-2,-2.2857496864836513E-2,5.5322912525124224E-2,0.10462939018726125,-4.4956460559452793E-2,-5.3602592516643899E-2,0.26777234511938808,4.1758527600265438E-2,-0.23724574307161239,-0.25794179256188876,0.52439065912853744,-0.24734267982287061,0.16744299641857641,5.3529413704311857E-2,-0.60933260232414277,-1.7687481694417251E-2,0.55824492215272858,-0.51778458610187705,-2.6707092835853707E-2,0.52990426323247242,-2.8776468699333027,-1.1587612221518939,0.99409327866117891,-5.0273913008291871E-2,-0.50405818843599803,0.44017565752800802,-0.16304669534607008,0.14948629167216287,1.1796525521775125,-0.74369271088132738,0.63984463322341867,-0.13560382356659906,-0.58053634291460599,6.1146605886996497E-2,0.7740948736542741,-0.2727635760889302,0.53052519291238998,0.53260598725424213,0.27810607527504194,-3.8433448449770591E-2,0.73645257420302812,0.29295481116290434,6.800546299833421E-2,0.34898125350706355,0.23524077471087645,-9.1554953747707835E-2,0.62296430547796788,0.63593721211949727,-3.3046311775453141E-2,-0.42543234618053205,0.56549838446136036,0.16865583950189489,0.23331962905002168,0.15083128026590664,-0.58390664752363541,0.29013165902354032,0.61335792225116759,0.17272203855676072,0.4598889552630876,3.0482463458757376,-0.30793252723106956,0.6809867391847968,0.49772213972085755,5.1391848851323196E-2,-0.64421060541540687,0.23136690052515396,-5.0502076574044708E-2,-0.52169458869646412,-1.174665894971838E-2,-0.43750927548094065,0.21099214200499539,-0.63853454418780586,-4.3213127028437164,-4.3423389880469898E-2,-1.5956486458703401,-0.65997797554666615,-0.4186281323012917,-0.40641502749072522,-0.21417377567818363,"-","-","-","-",-0.18062116183841237,"-","-","-","-","-","-","-","-","-","-","-","-","-","-","-","-","-","-","-","-","-","-","-","-","-","-","-","-","-","-","-","-","-","-","-","-","-","-","-"]
[null,"Temperatura",0.40170518984470327,-3.3015581808605527,-2.1342457393115355,-4.8396741174683289,-6.806880773930768E-2,1.1986706747581621,-2.4616888144719518,0.37678973076864519,2.7250173450530824,0.95408913226557868,-4.669486015464841,-5.8262596677018053,-1.4680244577651269,-4.1606278157613863,10.716319031534626,-2.414852109025345,4.7586953159244096,-0.34195367849852998,3.0385411388948347,3.3466242785765821,3.216878922237254,-2.121554069559096,-0.8297332191758322,1.3394847143488375,1.9017390727780192,1.5343350665394273,0.13668911396681471,-6.1762224529937164,-0.12382821817689127,-1.7623100996677299,0.29154662793343666,-4.1477382646263115,-1.3289951264161548,-2.3717914729212364,0.34485544906819321,1.8166971145301636,5.2940738194373393,3.234025229446158,-1.0167169417334643,0.22446915582968741,-4.5853566021426992,7.3479373630880307E-2,-1.4060513315969358,-1.1574089168190249,5.3666354445152553,1.3286174963603519,2.0472104610644082,4.5374961321666527,1.3723539456658829,-6.0759010293997324,-2.0861463213592724,0.19223735566565869,1.5649164613639632,6.6541951792997045,2.1646096641134926,-0.37058025182918897,3.2193931110523044,1.6311752398956436,6.1329480530512441,1.5755447045534776,-1.8190914348917389,-3.1375915507832364,1.1765243931793012,-9.2623677591886828,0.93007972258720706,-7.4087768041932076,-9.8436566052553243,-1.6115444210333285,0.40464689102468476,-3.1412329607500178,-1.5930711846088297,-2.5420430157170655,-1.1936256842316029,1.7755690102588151,2.088439257791519,0.64061452674739616,4.4732975742460042,-1.6570828825628992,9.3787528291475528,-0.32069812951103227,-4.1396152068369778,-0.87501117451838084,2.4141134846997314,3.0272940269743698,0.50904014132049369,4.3362381990267318,"-","-","-","-",1.9233926725871653,"-","-","-","-","-","-","-","-","-","-","-","-","-","-","-","-","-","-","-","-","-","-","-","-","-","-","-","-","-","-","-","-","-","-","-","-","-","-","-"]
[null,"Demanda corregida",-3.0195224538174248,-2.1736598326095318,-1.8796174452242465,0.36406983258587822,4.4051426593235021,4.7289295790413854,-2.3017081909792232,2.023098116869515,3.9922114982586798,-4.4155458929084901E-2,-3.4012115571086627,-6.085665661258977,-0.13902540457135792,7.3544339600251085E-2,6.5563830878281113,-1.5691906849533255,-2.632472107242378,-2.2420424717559118,3.1791421254537378,-1.1666122284947344,2.1996112020077785,-4.7507201619931259,1.0598584047492698,-1.995907613076886,7.4508611689583226E-2,-0.12681623013156562,-3.5412022783544495,-7.0126016322151781,-1.0586130773640123,-0.10579404825672434,-1.0532987116071535,-5.3531716070245965,2.4506514126097834,-3.7744987322717023,-0.57018807032328533,-0.35283557297309809,1.7214588639997919,-0.49999367894326685,-1.4078461128722908,-4.2115411136579795,-4.6583470197635304,-3.3722219198617398,-0.35695010785923298,-0.40068428413400081,-5.7796870114823484E-2,-4.9758644596833772,-2.6090273444160372,5.9793175084283723,-3.2189461973154976,-3.8939822602709353,-2.9168017166770421,-1.9805750267213207,4.405773624840581,5.1153801657960694,2.9406330703309447,2.3615590524127983,0.13074927391374391,0.70424022564785638,9.6110005304046702,2.7097895264861283,-6.4028749737465649,2.350823898911103,3.0604843669862936,6.6421736342888726,2.6750872002954562,-1.7776116976069392,0.22749710768009779,4.3599494234815905,3.1724586538976141,7.4985111450951214,3.6616631394876809,-4.3310548863553571,0.16869626917400682,6.9309285586857126,5.0640470953189354,3.2891384399472479,-1.3856604228893334,2.0627253206203955,7.3119993996145976,2.6913463748721838,-4.5020902483167484,2.7672865657336621,0.70415959831853225,5.7836747611888848,5.8185570044076984,4.9674753209912881,"-","-","-","-",2.633310204832906,"-","-","-","-","-","-","-","-","-","-","-","-","-","-","-","-","-","-","-","-","-","-","-","-","-","-","-","-","-","-","-","-","-","-","-","-","-","-","-"]
[]
[null,"Componentes mensuales del crecimiento de la demanda Islas Canarias (%)","2011-01-01","2011-02-01","2011-03-01","2011-04-01","2011-05-01","2011-06-01","2011-07-01","2011-08-01","2011-09-01","2011-10-01","2011-11-01","2011-12-01","2011","2012-01-01","2012-02-01","2012-03-01","2012-04-01","2012-05-01","2012-06-01","2012-07-01","2012-08-01","2012-09-01","2012-10-01","2012-11-01","2012-12-01","2012","2013-01-01","2013-02-01","2013-03-01","2013-04-01","2013-05-01","2013-06-01","2013-07-01","2013-08-01","2013-09-01","2013-10-01","2013-11-01","2013-12-01","2013","2014-01-01","2014-02-01","2014-03-01","2014-04-01","2014-05-01","2014-06-01","2014-07-01","2014-08-01","2014-09-01","2014-10-01","2014-11-01","2014-12-01","2014","2015-01-01","2015-02-01","2015-03-01","2015-04-01","2015-05-01","2015-06-01","2015-07-01","2015-08-01","2015-09-01","2015-10-01","2015-11-01","2015-12-01","2015","2016-01-01","2016-02-01","2016-03-01","2016-04-01","2016-05-01","2016-06-01","2016-07-01","2016-08-01","2016-09-01","2016-10-01","2016-11-01","2016-12-01","2016","2017-01-01","2017-02-01","2017-03-01","2017-04-01","2017-05-01","2017-06-01","2017-07-01","2017-08-01","2017-09-01","2017-10-01","2017-11-01","2017-12-01","2017","2018-01-01","2018-02-01","2018-03-01","2018-04-01","2018-05-01","2018-06-01","2018-07-01","2018-08-01","2018-09-01","2018-10-01","2018-11-01","2018-12-01","2018","2019-01-01","2019-02-01","2019-03-01","2019-04-01","2019-05-01","2019-06-01","2019-07-01","2019-08-01","2019-09-01","2019-10-01","2019-11-01","2019-12-01","2019","2020-01-01","2020-02-01","2020-03-01","2020-04-01","2020-05-01","2020-06-01","2020-07-01","2020-08-01","2020-09-01","2020-10-01","2020-11-01","2020-12-01","2020"]
[null,"Variación mensual",-1.0816472321803383,-0.37587806261343282,-1.7497382235215797,-1.843906601111589,-0.54341017325154617,0.84298088136505189,0.97101921539310965,-0.76286072329081467,-0.73480504774854349,1.6764256335296546,-0.35605722110044757,0.56472431190657257,-0.27569986471080998,1.7997728337691532,5.9695025286319536,0.84078963868161605,-1.0203062304258714,0.75191932366434067,-3.6132888402817809E-2,0.78105719714094413,2.5508304372372725,0.10027522248063914,-2.0391860237988779,-2.28344963607926,-3.8360686458218218,0.25147509539518165,-3.526398051855828,-6.7790593589182491,-4.026916707002326,1.0490891921133283,-2.395064088216492,-5.6283422483815908,-2.5341403047462352,-3.2420722154838488,-5.1668854476632724,-2.0341328431075945,-1.1446983769945573,-0.63305781027648278,-3.0233795411808151,-1.0946030267904416,-0.40274998472156209,-0.70308805745949998,-2.9492667076941648,-1.038939969882513,0.53146727869615162,-2.273374247413551,-2.8857287849396673,3.5448840877197796,1.8592507630116994,-0.44633510843692381,-0.12036382607510943,-0.50683978890657677,1.0097611394300987,0.49155134424865299,0.94399971522476367,-0.29424870681525883,0.83023400875734676,-0.50044365297337023,4.7686020219370517,2.5836006692545599,2.2231677417794415E-2,-0.44394624060181131,1.1308220130737734,1.7606812098762026,1.0417985568415,-0.47301918772515439,2.9366003488729309,0.8921357283990794,2.5390402213676833,-0.27022238425922218,3.4061168060453229,-0.39868288337273627,3.3899685177964711,0.22198759918572453,0.60052472616722863,1.0241544629348898,1.4522314129483904,1.2476629942351547,2.8007575278736097,-2.1818465835765855,2.3992567933774467,2.2267071062316512,4.214213427039093,3.2728287197226757,1.3146271790085873,2.3207370216701939,"-","-","-","-",2.0632759126560485,"-","-","-","-","-","-","-","-","-","-","-","-","-","-","-","-","-","-","-","-","-","-","-","-","-","-","-","-","-","-","-","-","-","-","-","-","-","-","-"]
[]
[null,"Laboralidad",-0.11183913936991807,0.51190507254543771,-0.40365648446101243,-0.24337401400001957,0.37179429184505119,4.1630886795607225E-2,-0.54820185532666876,9.2390587861368445E-3,-9.8601468535575165E-3,-2.7052058775534071E-2,9.7344122232612129E-2,0.26367376727804981,-9.5313958716536362E-3,0.62118562258741683,-0.42413684638316074,0.2114296869026866,-0.34731931266616112,0.132225445531442,-0.24322384397604813,0.22182312684837502,4.9678539328512628E-2,-0.78310495112712264,0.32987622079433399,0.40415029620510801,-0.76290601094982646,-4.1541670575973022E-2,0.24009203321601058,-9.3632272775868053E-2,-1.4118310833114101,1.5377158801306079,-7.7482070224799138E-2,-0.64787153684734466,0.52365774789590036,-0.33212238190039045,0.20674708868094704,0.85613538526905231,-0.60288112296702501,-6.7161497826973005E-2,-0.26955151539083122,-0.41300350808359809,0.42443976976391795,0.45139920415133705,-0.93013999394077063,-0.2512036337372181,0.29305833115595981,-0.34532399390195812,-0.30906317963584895,0.33562402041245054,7.8531852280350201E-2,-0.28412726253825848,0.80758295856988571,-1.5944981704008043E-2,9.4680510033118281E-2,2.1359762117101333E-2,0.65767774268847834,0.57936964154982062,-0.11775860068703459,0.54390168327310695,0.3965624967111836,0.22415417273042859,0.25933146711373256,-0.77110922912656532,0.34244472656284053,-2.7353753615222409E-2,0.17796190654497668,-0.44690831463284342,3.6023961957704742,0.44636620782012582,0.14664340665526687,0.32056630036506606,7.0615196126588842E-2,-0.77157128787724849,0.37356479489354388,-3.9554475742509254E-2,-0.55120057163662306,0.13053632441388796,6.1525578698007344E-2,0.25490616141954359,0.53068750116838093,-4.018857909089335,-4.9978515949322677E-2,-1.6206516047478914,5.6412771759317692E-2,-3.6849136037120367E-2,-4.0625968190166617E-2,-6.4761268596025268E-2,"-","-","-","-",0.2077618614593213,"-","-","-","-","-","-","-","-","-","-","-","-","-","-","-","-","-","-","-","-","-","-","-","-","-","-","-","-","-","-","-","-","-","-","-","-","-","-","-"]
[null,"Temperatura",-0.15931999092274607,-0.34186437862764318,-0.39717666024087217,-0.63184019787919654,-0.22122412981124828,0.63205684718361521,-0.40659120400039495,-0.70030075330732577,-0.17537420298088247,0.16737345510513535,-0.54734790025044999,-0.6818188293082672,-0.28639906632832446,-7.5548214942910974E-2,3.7165961897037691,6.9902990942449783E-2,-0.18857192388334054,0.69179387416635763,0.13450570628946723,0.78975294571609345,0.54903544680642291,-1.2243878620976645E-2,-9.8610064205106873E-2,0.43424228235501294,0.20442591170818325,0.2210717183563915,6.9037028421758961E-3,-3.4124594235181442,1.8409304424172213E-2,0.81462821033191357,-0.93716889547831306,-1.3481581766930937,-0.4179976576803468,0.43755062844429427,-0.32185137864930802,-0.54571781400873931,-0.30037896156558386,-0.16962682713866917,-0.51623640104662138,0.31242663769783796,0.27783961843539373,4.5962850265568456E-2,-0.60461235003892444,-0.39422900722746457,-1.0018683912205395,-2.8319931956288014,-3.9576721930216769,-2.6489738294717569,-1.7175380928843742,-0.62197358226399047,8.7408189098203692E-2,-1.1089671449619587,-0.10871444438831368,2.1274765108780791E-2,2.1277067554104079E-2,-0.15807752493194327,2.9015458584313869E-2,-3.0557369813277724E-3,0.32589443295281129,7.5130895416464227E-2,1.4474672789743792E-2,2.7568480736017698E-2,-1.4999357182965412E-4,-0.16449382249767996,7.92261971582775E-3,-0.23064450107834755,-0.23481040056572144,-3.8648672528429628E-2,-1.7248733698038698E-2,-7.5422035000194398E-2,3.1204910032189836E-2,-4.0221827603414972E-2,5.9938229730338577E-2,-4.4545291728548264E-2,-6.2035581633756998E-2,1.4967215797945244E-2,0.14745133251015119,-3.9426598302383375E-2,0.16364371805479561,-1.9000121647250179E-2,3.4952350348915751E-2,6.7296573154784767E-2,8.2577119757454298E-3,8.298292369395277E-2,-0.17684618717264122,4.598958160664246E-2,"-","-","-","-",2.4035683542922293E-2,"-","-","-","-","-","-","-","-","-","-","-","-","-","-","-","-","-","-","-","-","-","-","-","-","-","-","-","-","-","-","-","-","-","-","-","-","-","-","-"]
[null,"Demanda corregida",-0.81048810188767417,-0.54591875653122734,-0.9489050788196951,-0.96869238923237289,-0.69398033528534908,0.16929314738582946,1.9258122747201734,-7.1799028769625739E-2,-0.54957069791410351,1.5361042372000533,9.3946556917390289E-2,0.98286937393678997,2.0230597489045987E-2,1.2541354261246473,2.6770431853113452,0.55945696083647967,-0.48441499387636977,-7.2099996033458957E-2,7.2585249283763087E-2,-0.23051887542352434,1.952116451102337,0.89562405222873842,-2.270452180388105,-3.1218422146393809,-3.2775885465801786,7.1945047614940805E-2,-3.7733937879140145,-3.2729676626242368,-2.6334949281150881,-1.3032548983491932,-1.3804131225133798,-3.6323125348411525,-2.6398003949617888,-3.3475004620277526,-5.0517811576949114,-2.3445504143679075,-0.24143829246194848,-0.39626948531084061,-1.9611453595308026,-0.9940261564046815,-1.1050293729208738,-1.2004501118764055,-1.4145143637144697,-0.39350732891783036,1.2402773387607313,0.90394294211720849,1.3810065877178586,5.8582338967790859,3.4982570036157234,0.45976573636532514,-1.0153549737431988,0.61807233775941217,1.0237950737852941,0.44891681702277086,0.26504490498218125,-0.71554082343313619,0.91897715086006748,-1.0412895992651494,4.0461450922730569,2.2843156011076671,-0.25157446248568194,0.29959450778873631,0.78852728008276252,1.952528785989105,0.85591497622494739,0.20453362798603658,-0.4309854463318219,0.48441819310738321,2.4096455484104551,-0.51536664962409384,3.3042966998865442,0.41311023210792719,2.9564654931725887,0.30608736665678205,1.2137608794376087,0.87865092272305656,1.2432545017402319,1.0321834311179945,2.1064263086504331,1.8560114471600002,2.4142829589778536,3.7800621378247579,4.1495429433040298,3.2266949320658433,1.5320993343713951,2.3395087086595767,"-","-","-","-",1.8314783676538049,"-","-","-","-","-","-","-","-","-","-","-","-","-","-","-","-","-","-","-","-","-","-","-","-","-","-","-","-","-","-","-","-","-","-","-","-","-","-","-"]
[]
[null,"Componentes mensuales del crecimiento de la demanda nacional (%)","2011-01-01","2011-02-01","2011-03-01","2011-04-01","2011-05-01","2011-06-01","2011-07-01","2011-08-01","2011-09-01","2011-10-01","2011-11-01","2011-12-01","2011","2012-01-01","2012-02-01","2012-03-01","2012-04-01","2012-05-01","2012-06-01","2012-07-01","2012-08-01","2012-09-01","2012-10-01","2012-11-01","2012-12-01","2012","2013-01-01","2013-02-01","2013-03-01","2013-04-01","2013-05-01","2013-06-01","2013-07-01","2013-08-01","2013-09-01","2013-10-01","2013-11-01","2013-12-01","2013","2014-01-01","2014-02-01","2014-03-01","2014-04-01","2014-05-01","2014-06-01","2014-07-01","2014-08-01","2014-09-01","2014-10-01","2014-11-01","2014-12-01","2014","2015-01-01","2015-02-01","2015-03-01","2015-04-01","2015-05-01","2015-06-01","2015-07-01","2015-08-01","2015-09-01","2015-10-01","2015-11-01","2015-12-01","2015","2016-01-01","2016-02-01","2016-03-01","2016-04-01","2016-05-01","2016-06-01","2016-07-01","2016-08-01","2016-09-01","2016-10-01","2016-11-01","2016-12-01","2016","2017-01-01","2017-02-01","2017-03-01","2017-04-01","2017-05-01","2017-06-01","2017-07-01","2017-08-01","2017-09-01","2017-10-01","2017-11-01","2017-12-01","2017","2018-01-01","2018-02-01","2018-03-01","2018-04-01","2018-05-01","2018-06-01","2018-07-01","2018-08-01","2018-09-01","2018-10-01","2018-11-01","2018-12-01","2018","2019-01-01","2019-02-01","2019-03-01","2019-04-01","2019-05-01","2019-06-01","2019-07-01","2019-08-01","2019-09-01","2019-10-01","2019-11-01","2019-12-01","2019","2020-01-01","2020-02-01","2020-03-01","2020-04-01","2020-05-01","2020-06-01","2020-07-01","2020-08-01","2020-09-01","2020-10-01","2020-11-01","2020-12-01","2020"]
[null,"Variación mensual",-0.42420393889136543,-2.2750364229819464,-0.4598431269550507,-3.3902103966114372,-0.2909963541104954,1.5518908525929964,-4.781745341891086,0.60757939999411814,1.5696087867794306,-0.65585192401359516,-6.1797110545754315,-6.5378261562516915,-1.8368341446920011,-2.3255234242336997,7.3273504208332119,-5.9306282889422191,1.1080692952475157,-0.73097300275148935,0.19036877589317935,-1.3092600573075486,-0.37260363097205706,-5.6645572766869323,-2.9507960936191679,-1.6625626432780427,-2.4806705377343419,-1.282208224853687,-2.3778036798838831,-10.465407706231112,-0.67825398280575433,0.10876897486402637,-3.5852932643681723,-7.7381789188470158,-0.19244775579237983,-3.9579793276066311,-0.60431666034228559,0.28406307984416568,1.0570638978280034,1.9029448985807162,-2.2763745202947328,-2.2176643345704128,-1.0030273772024145,-1.389670901887341,-3.6899023041856438,0.10114223447532655,2.4102247791859543,-2.3978346091049096,-2.0892369704535563,3.0538243526398334,-0.40975189252966393,-3.4131789219394748,-1.9344315650221322,-1.1283673276325734,2.8987234590881483,3.2253348620650879,1.3251025230538893,0.46118952485303399,1.8046354022090094,3.7819853791912106,11.032728453440077,3.4978434604731046,-3.3272417091427919,0.1442350487440569,0.56152007664258541,-1.8813859773873731,1.9957582110179617,-5.3122987682128091,-0.78452496446153042,1.3831305780756198,5.5659631079659988,-0.38266762121824671,-0.44146832944154113,-5.1876969981343501,2.6328082331577241,6.136126421959287,0.62673207581604995,3.664178155593234,2.0359989222878516,0.65541662589869709,7.6858006891578734,-4.3084071221873295,-1.679182730096429,-5.1510633143347473,3.2731984233276945,6.7245318572628721,1.0461073252321373,1.8321712884564967,"-","-","-","-",1.1997271238696205,"-","-","-","-","-","-","-","-","-","-","-","-","-","-","-","-","-","-","-","-","-","-","-","-","-","-","-","-","-","-","-","-","-","-","-","-","-","-","-"]
[null,null,null,null,null,null,null,null,null,null,null,null,null,null,null,null,null,null,null,null,null,null,null,null,null,null,null,null,null,null,null,null,null,null,null,null,null,null,null,null,null,null,null,null,null,null,null,null,null,null,null,null,null,null,null,null,null,null,null,null,null,null,null,null,null,null,null,-1.0599004309754819E-2,3.7069918451708461,-1.4106184572316922]
[null,"Laboralidad",0.30757310827745987,-4.3934361094879984E-2,0.69926855553070155,-0.5609994121336711,0.23861356808713213,-9.0949048727297262E-3,-1.0922140401601215,0.32065207078446645,0.54348517887746284,0.11969345577235393,6.0324956209566322E-2,0.71274108338097109,0.11745742741365958,1.514462197203531,3.3975435848337439,-1.0367169870843127,-0.69437523431799986,0.23613676302678435,-0.18225646340811452,0.23944096327772452,-5.056091422633803E-2,-1.6177900533420713,0.16280131078845511,-0.81710567615161567,-1.076611139653771,-0.25971973268366588,0.39903414760473843,-2.8781784768931877,-2.5964066945338291,3.1798057001761055,8.0400357399265487E-2,-1.216527568169786,1.8297088880081629,9.1740045640387999E-2,0.93938647934690789,2.1409760446036721,0.63302021947954945,-0.20826885176304577,0.17252300841591214,-1.0211940825727268,5.8888750090386889E-2,2.2073882540459988,-2.0596628277977875,-0.74653688545348651,0.22060146832605954,0.16239551330196245,-0.62034160692925533,0.94842180724324243,-9.4481117170417378E-2,-0.22111890282753305,0.82447856179820067,-9.3171522006356231E-3,-1.1045794270798293,2.2032714330933373E-2,0.17339018143160334,0.7003931412971387,-0.28485919601621967,0.95753651984025034,6.571473032118702E-2,0.26721582814703082,-9.3872921825817662E-2,-1.1087731610742617,0.22657994476703355,-0.63312116494407489,-7.4738083572068209E-2,-1.8746300376875797,-3.2802863123979482,0.84448946479745934,2.0969330982729479,0.78296670948167801,0.29851984150258953,-1.2257084070469579,1.6349406981046772,0.35145197121306843,-0.82631672605514161,0.37149360935313613,1.6430224597333978,0.5800231570805704,1.1317089409953109,-0.24155288149842855,2.5423156696990188,-3.4935844810988734,0.50223451094869132,0.22170515543375349,-7.9487701499828992E-2,-0.14005062252867512,"-","-","-","-",-0.27512545648233971,"-","-","-","-","-","-","-","-","-","-","-","-","-","-","-","-","-","-","-","-","-","-","-","-","-","-","-","-","-","-","-","-","-","-","-","-","-","-","-"]
[null,"Temperatura",-1.1898673251313903,-3.9021617873769321,-0.80948616039185972,-1.7758027864279504,-0.82809263419895263,1.3380376714659654,-2.8416778883217222,-3.945382470734423E-2,2.1493164167929386,2.5507869285589528,-2.9627882656474265,-3.264252744312198,-1.012969145930724,-1.6436724039354933,4.7131531752960072,-2.8584225256104738,2.3263549817510198,1.4875207889157389,2.0587611255068134,1.2431845043548795,1.5627547354359344,-1.2595651175836382,-1.6151650534883721,1.9977078467319991,1.0227367711123632,0.69248059137931783,1.0011623112930679,-1.9234233609199241,3.7726055880938256,-0.22692735859952373,-1.5272742763807017,-4.1193120474793572,1.262596575016143,-1.6576720473620841,-0.14384509084655051,-0.12349527267146371,0.14862974527832523,0.39245884844911455,-0.29633186387686355,-0.63869957470459315,-0.80068046104728052,-3.2944301232840534,-1.8213279463215861,-1.3683968830975204,1.8786104177380791,-2.5206784457843763,-1.371207534995736,0.60033948555754291,0.81438729073231508,-2.1117451752344403,-0.49275015526287502,-0.96347592632705392,0.48153353902365031,1.9648163647687982,1.021517550756998,-0.64741500776551342,2.5133765520189657,2.4210033735251986,5.4329883928391185,0.7939066404986993,-2.7883120062352567,-2.222099991138144,-1.1086370576420568,-3.9029259329078214,0.35951510801563558,-3.4270697262154743,-1.2112304972344285,1.949259570509853,1.0774243787449309,-1.3500748990309532,-0.74136225635820807,-1.0188514195725837,0.69535485436259215,2.0825126444688977,0.41700910176144185,2.2955124928682555,2.4216068630581402,4.6463899765241054E-2,1.2606394109807122,-5.5613298988196522,-2.6502342612228729,-0.75836068991110617,1.5394333263487208,2.3993286754097158,8.264965409981756E-3,0.24556486550954942,"-","-","-","-",2.6477491284615913E-2,"-","-","-","-","-","-","-","-","-","-","-","-","-","-","-","-","-","-","-","-","-","-","-","-","-","-","-","-","-","-","-","-","-","-","-","-","-","-","-"]
[null,"Demanda corregida",0.45809027796256491,1.6710597254898658,-0.34962552209389236,-1.0534081980498156,0.29848271200132509,0.22294808599976068,-0.84785341340924236,0.3263811539169959,-1.1231928088909706,-3.3263323083449023,-3.2772477451375717,-3.9863144953204652,-0.94132242617493678,-2.1963132175017375,-0.78334633929653952,-2.0354887762474321,-0.52391045218550403,-2.4546305546940128,-1.6861358862055198,-2.7918855249401529,-1.8847974521816531,-2.7872021057612226,-1.4984323509192508,-2.8431648138584258,-2.4267961691929338,-1.7149690835493387,-3.7780001387816888,-5.6638058684179997,-1.8544528763657506,-2.8441093667125554,-2.1384193453867364,-2.4023393031978735,-3.2847532188166855,-2.3920473258849348,-1.3998580488426429,-1.7334176920880426,0.27541393307012874,1.7187549018946475,-2.1525656648337814,-0.55777067729309293,-0.26123566624552086,-0.30262903264928614,0.1910884699337298,2.2160760030263336,0.31101289312181546,-3.9551676622495702E-2,-9.7687828528564807E-2,1.5050630598390482,-1.1296580660915616,-1.0803148438775019,-2.2661599715574581,-0.15557424910488393,3.5217693471443265,1.2384857829653559,0.13019479086528798,0.40821139132140871,-0.42388195379373661,0.4034454858257614,5.5340253302797713,2.4367209918273747,-0.44505678108171798,3.4751082009564631,1.4435771895176086,2.6546611204645227,1.7109811865743945,-3.440857024826101,-1.1803508152052284,2.0772197925996441,2.3916056309481202,0.18444056833102854,1.3740854140774535E-3,-2.9431371715148087,0.30251268069045473,3.7021618062773207,1.0360397001097497,0.99717205337184267,-2.0286304005036859,2.8929569052885618E-2,5.2934523371818498,1.4944756581307512,-1.5712641385725752,-0.89911814332476747,1.2315305860302823,4.1034980264194028,1.1173300613219845,1.7266570454756225,"-","-","-","-",1.4483750890673446,"-","-","-","-","-","-","-","-","-","-","-","-","-","-","-","-","-","-","-","-","-","-","-","-","-","-","-","-","-","-","-","-","-","-","-","-","-","-","-"]
[]
[null,"Componentes anuales del crecimiento de la demanda peninsular (%)",{"$f":"Componentes!O2","v":"1991"},{"$f":"Componentes!AB2","v":"1992"},{"$f":"Componentes!AO2","v":"1993"},{"$f":"Componentes!BB2","v":"1994"},{"$f":"Componentes!BO2","v":"1995"},{"$f":"Componentes!CB2","v":"1996"},{"$f":"Componentes!CO2","v":"1997"},{"$f":"Componentes!DB2","v":"1998"},{"$f":"Componentes!DO2","v":"1999"},{"$f":"Componentes!EB2","v":"2000"},{"$f":"Componentes!EO2","v":"2001"},{"$f":"Componentes!FB2","v":"2002"},{"$f":"Componentes!FO2","v":"2003"},{"$f":"Componentes!GB2","v":"2004"},{"$f":"Componentes!GO2","v":"2005"},{"$f":"Componentes!HB2","v":"2006"},{"$f":"Componentes!HO2","v":"2007"},{"$f":"Componentes!IB2","v":"2008"},{"$f":"Componentes!IO2","v":"2009"},{"$f":"Componentes!JB2","v":"2010"},{"$f":"Componentes!JO2","v":"2011"},{"$f":"Componentes!KB2","v":"2012"},{"$f":"Componentes!KO2","v":"2013"},{"$f":"Componentes!LB2","v":"2014"},{"$f":"Componentes!LO2","v":"2015"},{"$f":"Componentes!MB2","v":"2016"},{"$f":"Componentes!MO2","v":"2017"},{"$f":"Componentes!NB2","v":"2018"},{"$f":"Componentes!NO2","v":"2019"},{"$f":"Componentes!OB2","v":"2020"}]
[null,"Variación anual",{"$f":"O3","v":3.8759999999999999},{"$f":"AB3","v":0.90600000000000003},{"$f":"AO3","v":0.11700000000000001},{"$f":"BB3","v":3.5649999999999999},{"$f":"BO3","v":3.7559999999999998},{"$f":"CB3","v":2.9489999999999998},{"$f":"CO3","v":3.94},{"$f":"DB3","v":6.5839999999999996},{"$f":"DO3","v":6.5069999999999997},{"$f":"EB3","v":5.7939999999999996},{"$f":"EO3","v":5.4489999999999998},{"$f":"FB3","v":2.8919999999999999},{"$f":"FO3","v":6.7489999999999997},{"$f":"GB3","v":4.4889999999999999},{"$f":"GO3","v":4.3250000000000002},{"$f":"Componentes!HB3","v":3.573},{"$f":"Componentes!HO3","v":2.9239999999999999},{"$f":"Componentes!IB3","v":1.0549999999999999},{"$f":"Componentes!IO3","v":-4.7309999999999999},{"$f":"Componentes!JB3","v":3.113747511510212},{"$f":"Componentes!JO3","v":-1.8921438939156321},{"$f":"Componentes!KB3","v":-1.4018855162962751},{"$f":"Componentes!KO3","v":-2.2402750402234606},{"$f":"Componentes!LB3","v":-1.1464872953274474},{"$f":"Componentes!LO3","v":1.9932680166065753},{"$f":"Componentes!MB3","v":0.63669560133439163},{"$f":"Componentes!MO3","v":1.0948437876082018},{"$f":"Componentes!NB3","v":"-"},{"$f":"Componentes!NO3","v":"-"},{"$f":"Componentes!OB3","v":"-"}]
[]
[null,"Laboralidad",{"$f":"O5","v":-8.9999999999999993E-3},{"$f":"AB5","v":0.39800000000000002},{"$f":"Componentes!AO5","v":-0.251},{"$f":"Componentes!BB5","v":-0.11700000000000001},{"$f":"Componentes!BO5","v":-3.4000000000000002E-2},{"$f":"Componentes!CB5","v":0.20399999999999999},{"$f":"Componentes!CO5","v":-0.20599999999999999},{"$f":"Componentes!DB5","v":-0.26900000000000002},{"$f":"Componentes!DO5","v":0.36799999999999999},{"$f":"Componentes!EB5","v":0.21299999999999999},{"$f":"Componentes!EO5","v":-0.312},{"$f":"Componentes!FB5","v":1.2999999999999999E-2},{"$f":"Componentes!FO5","v":0.14799999999999999},{"$f":"Componentes!GB5","v":0.39400000000000002},{"$f":"Componentes!GO5","v":-0.35699999999999998},{"$f":"Componentes!HB5","v":-9.5000000000000001E-2},{"$f":"Componentes!HO5","v":-4.2000000000000003E-2},{"$f":"Componentes!IB5","v":0.4},{"$f":"Componentes!IO5","v":-0.48399999999999999},{"$f":"Componentes!JB5","v":5.4714882115680652E-2},{"$f":"Componentes!JO5","v":0.12569471050719594},{"$f":"Componentes!KB5","v":-0.27277967170862283},{"$f":"Componentes!KO5","v":0.19505514450648409},{"$f":"Componentes!LB5","v":-1.468303779090796E-2},{"$f":"Componentes!LO5","v":-8.9307550465789198E-2},{"$f":"Componentes!MB5","v":0.60001516711851721},{"$f":"Componentes!MO5","v":-0.29428317579753838},{"$f":"Componentes!NB5","v":"-"},{"$f":"Componentes!NO5","v":"-"},{"$f":"Componentes!OB5","v":"-"}]
[null,"Temperatura",{"$f":"O6","v":1.4650000000000001},-0.73099999999999998,{"$f":"Componentes!AO6","v":0.495},{"$f":"Componentes!BB6","v":-1.446},{"$f":"Componentes!BO6","v":-0.73599999999999999},{"$f":"Componentes!CB6","v":0.18099999999999999},{"$f":"Componentes!CO6","v":-1.222},{"$f":"Componentes!DB6","v":0.55900000000000005},{"$f":"Componentes!DO6","v":0.78600000000000003},{"$f":"Componentes!EB6","v":-0.75800000000000001},{"$f":"Componentes!EO6","v":0.47699999999999998},{"$f":"Componentes!FB6","v":-1.1240000000000001},{"$f":"Componentes!FO6","v":1.1459999999999999},{"$f":"Componentes!GB6","v":-0.129},{"$f":"Componentes!GO6","v":1.5509999999999999},{"$f":"Componentes!HB6","v":-0.94899999999999995},{"$f":"Componentes!HO6","v":-1.2949999999999999},{"$f":"Componentes!IB6","v":-5.8000000000000003E-2},{"$f":"Componentes!IO6","v":0.441},{"$f":"Componentes!JB6","v":0.39683130554921675},{"$f":"Componentes!JO6","v":-1.0279343645701822},{"$f":"Componentes!KB6","v":0.68966900349782811},{"$f":"Componentes!KO6","v":-0.27208548834806168},{"$f":"Componentes!LB6","v":-0.9848184080399891},{"$f":"Componentes!LO6","v":0.35847354711551205},{"$f":"Componentes!MB6","v":8.9152959854232883E-2},{"$f":"Componentes!MO6","v":-1.9925727601477483E-2},{"$f":"Componentes!NB6","v":"-"},{"$f":"Componentes!NO6","v":"-"},{"$f":"Componentes!OB6","v":"-"}]
[null,"Demanda corregida",{"$f":"O7","v":2.42},1.2389999999999999,{"$f":"Componentes!AO7","v":-0.127},{"$f":"Componentes!BB7","v":5.1280000000000001},{"$f":"Componentes!BO7","v":4.5259999999999998},{"$f":"Componentes!CB7","v":2.5640000000000001},{"$f":"Componentes!CO7","v":5.3680000000000003},{"$f":"Componentes!DB7","v":6.2939999999999996},{"$f":"Componentes!DO7","v":5.3529999999999998},{"$f":"Componentes!EB7","v":6.3389999999999995},{"$f":"Componentes!EO7","v":5.2839999999999998},{"$f":"Componentes!FB7","v":4.0030000000000001},{"$f":"Componentes!FO7","v":5.4550000000000001},{"$f":"Componentes!GB7","v":4.2240000000000002},{"$f":"Componentes!GO7","v":3.1310000000000002},{"$f":"Componentes!HB7","v":4.617},{"$f":"Componentes!HO7","v":4.2609999999999992},{"$f":"Componentes!IB7","v":0.71299999999999986},{"$f":"Componentes!IO7","v":-4.6879999999999997},{"$f":"Componentes!JB7","v":2.6622013238452702},{"$f":"Componentes!JO7","v":-0.98990423985260145},{"$f":"Componentes!KB7","v":-1.8187748480855248},{"$f":"Componentes!KO7","v":-2.1632446963818164},{"$f":"Componentes!LB7","v":-0.14698584949660587},{"$f":"Componentes!LO7","v":1.7367886721775916},{"$f":"Componentes!MB7","v":-5.2472525638358469E-2},{"$f":"Componentes!MO7","v":1.4090526910072176},{"$f":"Componentes!NB7","v":"-"},{"$f":"Componentes!NO7","v":"-"},{"$f":"Componentes!OB7","v":"-"}]
[]
[null,"Componentes anuales del crecimiento de la demanda Islas Baleares (%)",{"$f":"Componentes!O9","v":"2011"},{"$f":"Componentes!AB9","v":"2012"},{"$f":"Componentes!AO9","v":"2013"},{"$f":"Componentes!BB9","v":"2014"},{"$f":"Componentes!BO9","v":"2015"},{"$f":"Componentes!CB9","v":"2016"},{"$f":"Componentes!CO9","v":"2017"},{"$f":"Componentes!DB9","v":"2018"},{"$f":"Componentes!DO9","v":"2019"},{"$f":"Componentes!EB9","v":"2020"}]
[null,"Variación anual",{"$f":"Componentes!O10","v":-1.6606524548530399},{"$f":"Componentes!AB10","v":1.3808117435721634},{"$f":"Componentes!AO10","v":-2.5601668781725095},{"$f":"Componentes!BB10","v":-1.5530968963448633},{"$f":"Componentes!BO10","v":3.7778742191372894},{"$f":"Componentes!CB10","v":0.61663458006249172},{"$f":"Componentes!CO10","v":4.3760817155816589},{"$f":"Componentes!DB10","v":"-"},{"$f":"Componentes!DO10","v":"-"},{"$f":"Componentes!EB10","v":"-"}]
[]
[null,"Laboralidad",{"$f":"Componentes!O12","v":-5.3602592516643899E-2},{"$f":"Componentes!AB12","v":-2.6707092835853707E-2},{"$f":"Componentes!AO12","v":-0.13560382356659906},{"$f":"Componentes!BB12","v":0.23524077471087645},{"$f":"Componentes!BO12","v":0.17272203855676072},{"$f":"Componentes!CB12","v":0.21099214200499539},{"$f":"Componentes!CO12","v":-0.18062116183841237},{"$f":"Componentes!DB12","v":"-"},{"$f":"Componentes!DO12","v":"-"},{"$f":"Componentes!EB12","v":"-"}]
[null,"Temperatura",{"$f":"Componentes!O13","v":-1.4680244577651269},{"$f":"Componentes!AB13","v":1.5343350665394273},{"$f":"Componentes!AO13","v":-1.0167169417334643},{"$f":"Componentes!BB13","v":0.19223735566565869},{"$f":"Componentes!BO13","v":0.93007972258720706},{"$f":"Componentes!CB13","v":-1.6570828825628992},{"$f":"Componentes!CO13","v":1.9233926725871653},{"$f":"Componentes!DB13","v":"-"},{"$f":"Componentes!DO13","v":"-"},{"$f":"Componentes!EB13","v":"-"}]
[null,"Demanda corregida",{"$f":"Componentes!O14","v":-0.13902540457135792},{"$f":"Componentes!AB14","v":-0.12681623013156562},{"$f":"Componentes!AO14","v":-1.4078461128722908},{"$f":"Componentes!BB14","v":-1.9805750267213207},{"$f":"Componentes!BO14","v":2.6750872002954562},{"$f":"Componentes!CB14","v":2.0627253206203955},{"$f":"Componentes!CO14","v":2.633310204832906},{"$f":"Componentes!DB14","v":"-"},{"$f":"Componentes!DO14","v":"-"},{"$f":"Componentes!EB14","v":"-"}]
[]
[null,"Componentes anuales del crecimiento de la demanda Islas Canarias (%)",{"$f":"Componentes!O16","v":"2011"},{"$f":"Componentes!AB16","v":"2012"},{"$f":"Componentes!AO16","v":"2013"},{"$f":"Componentes!BB16","v":"2014"},{"$f":"Componentes!BO16","v":"2015"},{"$f":"Componentes!CB16","v":"2016"},{"$f":"Componentes!CO16","v":"2017"},{"$f":"Componentes!DB16","v":"2018"},{"$f":"Componentes!DO16","v":"2019"},{"$f":"Componentes!EB16","v":"2020"}]
[null,"Variación anual",{"$f":"Componentes!O17","v":-0.27569986471080998},{"$f":"Componentes!AB17","v":0.25147509539518165},{"$f":"Componentes!AO17","v":-3.0233795411808151},{"$f":"Componentes!BB17","v":-0.50683978890657677},{"$f":"Componentes!BO17","v":1.0417985568415},{"$f":"Componentes!CB17","v":1.2476629942351547},{"$f":"Componentes!CO17","v":2.0632759126560485},{"$f":"Componentes!DB17","v":"-"},{"$f":"Componentes!DO17","v":"-"},{"$f":"Componentes!EB17","v":"-"}]
[]
[null,"Laboralidad",{"$f":"Componentes!O19","v":-9.5313958716536362E-3},{"$f":"Componentes!AB19","v":-4.1541670575973022E-2},{"$f":"Componentes!AO19","v":-0.26955151539083122},{"$f":"Componentes!BB19","v":-1.5944981704008043E-2},{"$f":"Componentes!BO19","v":0.17796190654497668},{"$f":"Componentes!CB19","v":0.25490616141954359},{"$f":"Componentes!CO19","v":0.2077618614593213},{"$f":"Componentes!DB19","v":"-"},{"$f":"Componentes!DO19","v":"-"},{"$f":"Componentes!EB19","v":"-"}]
[null,"Temperatura",{"$f":"Componentes!O20","v":-0.28639906632832446},{"$f":"Componentes!AB20","v":0.2210717183563915},{"$f":"Componentes!AO20","v":-0.51623640104662138},{"$f":"Componentes!BB20","v":-1.1089671449619587},{"$f":"Componentes!BO20","v":7.92261971582775E-3},{"$f":"Componentes!CB20","v":-3.9426598302383375E-2},{"$f":"Componentes!CO20","v":2.4035683542922293E-2},{"$f":"Componentes!DB20","v":"-"},{"$f":"Componentes!DO20","v":"-"},{"$f":"Componentes!EB20","v":"-"}]
[null,"Demanda corregida",{"$f":"Componentes!O21","v":2.0230597489045987E-2},{"$f":"Componentes!AB21","v":7.1945047614940805E-2},{"$f":"Componentes!AO21","v":-1.9611453595308026},{"$f":"Componentes!BB21","v":0.61807233775941217},{"$f":"Componentes!BO21","v":0.85591497622494739},{"$f":"Componentes!CB21","v":1.0321834311179945},{"$f":"Componentes!CO21","v":1.8314783676538049},{"$f":"Componentes!DB21","v":"-"},{"$f":"Componentes!DO21","v":"-"},{"$f":"Componentes!EB21","v":"-"}]
[]
[null,"Componentes anuales del crecimiento de la demanda nacional (%)",{"$f":"Componentes!O23","v":"2011"},{"$f":"Componentes!AB23","v":"2012"},{"$f":"Componentes!AO23","v":"2013"},{"$f":"Componentes!BB23","v":"2014"},{"$f":"Componentes!BO23","v":"2015"},{"$f":"Componentes!CB23","v":"2016"},{"$f":"Componentes!CO23","v":"2017"},{"$f":"Componentes!DB23","v":"2018"},{"$f":"Componentes!DO23","v":"2019"},{"$f":"Componentes!EB23","v":"2020"}]
[null,"Variación mensual",{"$f":"Componentes!O24","v":-1.8368341446920011},{"$f":"Componentes!AB24","v":-1.282208224853687},{"$f":"Componentes!AO24","v":-2.2763745202947328},{"$f":"Componentes!BB24","v":-1.1283673276325734},{"$f":"Componentes!BO24","v":1.9957582110179617},{"$f":"Componentes!CB24","v":0.65541662589869709},{"$f":"Componentes!CO24","v":1.1997271238696205},{"$f":"Componentes!DB24","v":"-"},{"$f":"Componentes!DO24","v":"-"},{"$f":"Componentes!EB24","v":"-"}]
[]
[null,"Laboralidad",{"$f":"Componentes!O26","v":0.11745742741365958},{"$f":"Componentes!AB26","v":-0.25971973268366588},{"$f":"Componentes!AO26","v":0.17252300841591214},{"$f":"Componentes!BB26","v":-9.3171522006356231E-3},{"$f":"Componentes!BO26","v":-7.4738083572068209E-2},{"$f":"Componentes!CB26","v":0.5800231570805704},{"$f":"Componentes!CO26","v":-0.27512545648233971},{"$f":"Componentes!DB26","v":"-"},{"$f":"Componentes!DO26","v":"-"},{"$f":"Componentes!EB26","v":"-"}]
[null,"Temperatura",{"$f":"Componentes!O27","v":-1.012969145930724},{"$f":"Componentes!AB27","v":0.69248059137931783},{"$f":"Componentes!AO27","v":-0.29633186387686355},{"$f":"Componentes!BB27","v":-0.96347592632705392},{"$f":"Componentes!BO27","v":0.35951510801563558},{"$f":"Componentes!CB27","v":4.6463899765241054E-2},{"$f":"Componentes!CO27","v":2.6477491284615913E-2},{"$f":"Componentes!DB27","v":"-"},{"$f":"Componentes!DO27","v":"-"},{"$f":"Componentes!EB27","v":"-"}]
[null,"Demanda corregida",{"$f":"Componentes!O28","v":-0.94132242617493678},{"$f":"Componentes!AB28","v":-1.7149690835493387},{"$f":"Componentes!AO28","v":-2.1525656648337814},{"$f":"Componentes!BB28","v":-0.15557424910488393},{"$f":"Componentes!BO28","v":1.7109811865743945},{"$f":"Componentes!CB28","v":2.8929569052885618E-2},{"$f":"Componentes!CO28","v":1.4483750890673446},{"$f":"Componentes!DB28","v":"-"},{"$f":"Componentes!DO28","v":"-"},{"$f":"Componentes!EB28","v":"-"}]

{"sheet":"Año","index":10,"n_rows":28,"n_cols":26,"rows_kept":28,"cut":false,"hidden":true,"merged":[]}
[null,null,null,null,null,null,null,null,null,null,null,null,null,null,null,null,null,null,null,null,null,null,null,1,1,1]
["Mensual",1991,"1991-2000",null,null,null,null,null,null,null,null,null,null,null,"Nacional","Mensual"]
["Trimestral",1992,"2001-2010",null,null,null,null,null,null,null,null,null,null,null,"Peninsular","Anual"]
["Anual",1993,"2011-2020","2011-2020",null,null,null,null,null,null,null,null,null,null,"Canarias"]
[null,1994,null,null,null,null,null,null,null,null,null,null,null,null,"Baleares"]
[null,1995]
[null,1996]
[null,1997]
[null,1998]
[null,1999]
[null,2000]
[null,2001]
[null,2002]
[null,2003]
[null,2004]
[null,2005]
[null,2006]
[null,2007]
[null,2008]
[null,2009]
[null,2010]
[null,2011]
[null,2012]
[null,2013]
[null,2014]
[null,2015]
[null,2016]
[null,2017]